{"text_format":"1","workbook":"xlsx","n_sheets":8,"sheets":["Início","Cadastro Cliente","Unidade Medida","Estoque","Entradas","Vendas","Relatorio","Quem Somos"],"not_rendered":{"charts":0,"images":8,"macros":1,"external_links":1,"defined_names":23,"comments":1,"pivot_tables":0},"unopened":[],"bounds":{"document_bytes":16777216,"sheet_cells":100000,"rows_first":2000,"rows_last":500,"rows_between":2000,"halvings":0,"cell_chars":16384,"cell_head_chars":4096},"cells_cut":0,"cells_raw":0,"read":"whole","date_system":"1900"}

{"sheet":"Início","index":0,"n_rows":21,"n_cols":11,"rows_kept":21,"cut":false,"hidden":false,"merged":[[0,18,0,19],[0,0,0,2],[1,8,1,11],[19,6,20,9],[19,10,19,12],[20,10,20,12],[3,5,5,12]]}
[]
[]
[]
[null,null,null,null,null,"Controle de Vendas"]
[]
[]
[]
[]
[]
[]
[]
[]
[]
[]
[]
[]
[]
[]
[]
[null,null,null,null,null,null,"Para o correto uso da planilha, confira o vídeo explicativo.",null,null,null,"Desenvolvido por:"]
[null,null,null,null,null,null,null,null,null,null,"exceleasy.com.br"]

{"sheet":"Cadastro Cliente","index":1,"n_rows":7,"n_cols":2,"rows_kept":7,"cut":false,"hidden":false,"merged":[[0,0,0,1]]}
["Cadastro de Clientes"]
["Código do Cliente","Nome do Cliente"]
["abc","Maria Madalena"]
["bcd","João da Silva"]
["vbf","Julio Cesar"]
["avb","Ricardo Soares"]
["afg","Jose Ricardo"]

{"sheet":"Unidade Medida","index":2,"n_rows":7,"n_cols":2,"rows_kept":7,"cut":false,"hidden":false,"merged":[]}
["Unidades","Descrição"]
["PÇ","Peça"]
["PC","Pacote"]
["Kg","Quilo"]
["M","Metro"]
["M2","Metro Quadrado"]
["M3","Metro Cúbico"]

{"sheet":"Estoque","index":3,"n_rows":28228,"n_cols":6,"rows_kept":4500,"cut":true,"hidden":false,"merged":[[0,0,0,5]],"bounds":{"rows_first":2000,"rows_last":500,"rows_between":2000,"halvings":0}}
["Cadastro de Estoque"]
["Código do Produto","Descrição do produto","Unidade","Preço de compra","Preço de Venda","Saldo em estoque"]
[111,"Memoria Ram","PÇ",40,80,{"$f":"SUMIF(Codigo_Produto,Estoque!A3,[0]!quantidade_adquirida)-SUMIF([0]!cod_saida,Estoque!A3,quantidade_comprada)","v":155}]
[222,"HD","PÇ",30,65,{"$f":"SUMIF(Codigo_Produto,Estoque!A4,[0]!quantidade_adquirida)-SUMIF([0]!cod_saida,Estoque!A4,quantidade_comprada)","v":35}]
[333,"CD Rom","PC",10,15,{"$f":"SUMIF(Codigo_Produto,Estoque!A5,[0]!quantidade_adquirida)-SUMIF([0]!cod_saida,Estoque!A5,quantidade_comprada)","v":-10}]
[444,"Gabinete","PC",180,230,{"$f":"SUMIF(Codigo_Produto,Estoque!A6,[0]!quantidade_adquirida)-SUMIF([0]!cod_saida,Estoque!A6,quantidade_comprada)","v":0}]
[555,"Pasta termica","PC",67,120,{"$f":"SUMIF(Codigo_Produto,Estoque!A7,[0]!quantidade_adquirida)-SUMIF([0]!cod_saida,Estoque!A7,quantidade_comprada)","v":10}]
[777,"Processador","PÇ",200,400,{"$f":"SUMIF(Codigo_Produto,Estoque!A8,[0]!quantidade_adquirida)-SUMIF([0]!cod_saida,Estoque!A8,quantidade_comprada)","v":20}]
[null,null,null,null,null,{"$f":"SUMIF(Codigo_Produto,Estoque!A9,[0]!quantidade_adquirida)-SUMIF([0]!cod_saida,Estoque!A9,quantidade_comprada)","v":0}]
[null,null,null,null,null,{"$f":"SUMIF(Codigo_Produto,Estoque!A10,[0]!quantidade_adquirida)-SUMIF([0]!cod_saida,Estoque!A10,quantidade_comprada)","v":0}]
[null,null,null,null,null,{"$f":"SUMIF(Codigo_Produto,Estoque!A11,[0]!quantidade_adquirida)-SUMIF([0]!cod_saida,Estoque!A11,quantidade_comprada)","v":0}]
[null,null,null,null,null,{"$f":"SUMIF(Codigo_Produto,Estoque!A12,[0]!quantidade_adquirida)-SUMIF([0]!cod_saida,Estoque!A12,quantidade_comprada)","v":0}]
[null,null,null,null,null,{"$f":"SUMIF(Codigo_Produto,Estoque!A13,[0]!quantidade_adquirida)-SUMIF([0]!cod_saida,Estoque!A13,quantidade_comprada)","v":0}]
[null,null,null,null,null,{"$f":"SUMIF(Codigo_Produto,Estoque!A14,[0]!quantidade_adquirida)-SUMIF([0]!cod_saida,Estoque!A14,quantidade_comprada)","v":0}]
[null,null,null,null,null,{"$f":"SUMIF(Codigo_Produto,Estoque!A15,[0]!quantidade_adquirida)-SUMIF([0]!cod_saida,Estoque!A15,quantidade_comprada)","v":0}]
[null,null,null,null,null,{"$f":"SUMIF(Codigo_Produto,Estoque!A16,[0]!quantidade_adquirida)-SUMIF([0]!cod_saida,Estoque!A16,quantidade_comprada)","v":0}]
[null,null,null,null,null,{"$f":"SUMIF(Codigo_Produto,Estoque!A17,[0]!quantidade_adquirida)-SUMIF([0]!cod_saida,Estoque!A17,quantidade_comprada)","v":0}]
[null,null,null,null,null,{"$f":"SUMIF(Codigo_Produto,Estoque!A18,[0]!quantidade_adquirida)-SUMIF([0]!cod_saida,Estoque!A18,quantidade_comprada)","v":0}]
[null,null,null,null,null,{"$f":"SUMIF(Codigo_Produto,Estoque!A19,[0]!quantidade_adquirida)-SUMIF([0]!cod_saida,Estoque!A19,quantidade_comprada)","v":0}]
[null,null,null,null,null,{"$f":"SUMIF(Codigo_Produto,Estoque!A20,[0]!quantidade_adquirida)-SUMIF([0]!cod_saida,Estoque!A20,quantidade_comprada)","v":0}]
[null,null,null,null,null,{"$f":"SUMIF(Codigo_Produto,Estoque!A21,[0]!quantidade_adquirida)-SUMIF([0]!cod_saida,Estoque!A21,quantidade_comprada)","v":0}]
[null,null,null,null,null,{"$f":"SUMIF(Codigo_Produto,Estoque!A22,[0]!quantidade_adquirida)-SUMIF([0]!cod_saida,Estoque!A22,quantidade_comprada)","v":0}]
[null,null,null,null,null,{"$f":"SUMIF(Codigo_Produto,Estoque!A23,[0]!quantidade_adquirida)-SUMIF([0]!cod_saida,Estoque!A23,quantidade_comprada)","v":0}]
[null,null,null,null,null,{"$f":"SUMIF(Codigo_Produto,Estoque!A24,[0]!quantidade_adquirida)-SUMIF([0]!cod_saida,Estoque!A24,quantidade_comprada)","v":0}]
[null,null,null,null,null,{"$f":"SUMIF(Codigo_Produto,Estoque!A25,[0]!quantidade_adquirida)-SUMIF([0]!cod_saida,Estoque!A25,quantidade_comprada)","v":0}]
[null,null,null,null,null,{"$f":"SUMIF(Codigo_Produto,Estoque!A26,[0]!quantidade_adquirida)-SUMIF([0]!cod_saida,Estoque!A26,quantidade_comprada)","v":0}]
[null,null,null,null,null,{"$f":"SUMIF(Codigo_Produto,Estoque!A27,[0]!quantidade_adquirida)-SUMIF([0]!cod_saida,Estoque!A27,quantidade_comprada)","v":0}]
[null,null,null,null,null,{"$f":"SUMIF(Codigo_Produto,Estoque!A28,[0]!quantidade_adquirida)-SUMIF([0]!cod_saida,Estoque!A28,quantidade_comprada)","v":0}]
[null,null,null,null,null,{"$f":"SUMIF(Codigo_Produto,Estoque!A29,[0]!quantidade_adquirida)-SUMIF([0]!cod_saida,Estoque!A29,quantidade_comprada)","v":0}]
[null,null,null,null,null,{"$f":"SUMIF(Codigo_Produto,Estoque!A30,[0]!quantidade_adquirida)-SUMIF([0]!cod_saida,Estoque!A30,quantidade_comprada)","v":0}]
[null,null,null,null,null,{"$f":"SUMIF(Codigo_Produto,Estoque!A31,[0]!quantidade_adquirida)-SUMIF([0]!cod_saida,Estoque!A31,quantidade_comprada)","v":0}]
[null,null,null,null,null,{"$f":"SUMIF(Codigo_Produto,Estoque!A32,[0]!quantidade_adquirida)-SUMIF([0]!cod_saida,Estoque!A32,quantidade_comprada)","v":0}]
[null,null,null,null,null,{"$f":"SUMIF(Codigo_Produto,Estoque!A33,[0]!quantidade_adquirida)-SUMIF([0]!cod_saida,Estoque!A33,quantidade_comprada)","v":0}]
[null,null,null,null,null,{"$f":"SUMIF(Codigo_Produto,Estoque!A34,[0]!quantidade_adquirida)-SUMIF([0]!cod_saida,Estoque!A34,quantidade_comprada)","v":0}]
[null,null,null,null,null,{"$f":"SUMIF(Codigo_Produto,Estoque!A35,[0]!quantidade_adquirida)-SUMIF([0]!cod_saida,Estoque!A35,quantidade_comprada)","v":0}]
[null,null,null,null,null,{"$f":"SUMIF(Codigo_Produto,Estoque!A36,[0]!quantidade_adquirida)-SUMIF([0]!cod_saida,Estoque!A36,quantidade_comprada)","v":0}]
[null,null,null,null,null,{"$f":"SUMIF(Codigo_Produto,Estoque!A37,[0]!quantidade_adquirida)-SUMIF([0]!cod_saida,Estoque!A37,quantidade_comprada)","v":0}]
[null,null,null,null,null,{"$f":"SUMIF(Codigo_Produto,Estoque!A38,[0]!quantidade_adquirida)-SUMIF([0]!cod_saida,Estoque!A38,quantidade_comprada)","v":0}]
[null,null,null,null,null,{"$f":"SUMIF(Codigo_Produto,Estoque!A39,[0]!quantidade_adquirida)-SUMIF([0]!cod_saida,Estoque!A39,quantidade_comprada)","v":0}]
[null,null,null,null,null,{"$f":"SUMIF(Codigo_Produto,Estoque!A40,[0]!quantidade_adquirida)-SUMIF([0]!cod_saida,Estoque!A40,quantidade_comprada)","v":0}]
[null,null,null,null,null,{"$f":"SUMIF(Codigo_Produto,Estoque!A41,[0]!quantidade_adquirida)-SUMIF([0]!cod_saida,Estoque!A41,quantidade_comprada)","v":0}]
[null,null,null,null,null,{"$f":"SUMIF(Codigo_Produto,Estoque!A42,[0]!quantidade_adquirida)-SUMIF([0]!cod_saida,Estoque!A42,quantidade_comprada)","v":0}]
[null,null,null,null,null,{"$f":"SUMIF(Codigo_Produto,Estoque!A43,[0]!quantidade_adquirida)-SUMIF([0]!cod_saida,Estoque!A43,quantidade_comprada)","v":0}]
[null,null,null,null,null,{"$f":"SUMIF(Codigo_Produto,Estoque!A44,[0]!quantidade_adquirida)-SUMIF([0]!cod_saida,Estoque!A44,quantidade_comprada)","v":0}]
[null,null,null,null,null,{"$f":"SUMIF(Codigo_Produto,Estoque!A45,[0]!quantidade_adquirida)-SUMIF([0]!cod_saida,Estoque!A45,quantidade_comprada)","v":0}]
[null,null,null,null,null,{"$f":"SUMIF(Codigo_Produto,Estoque!A46,[0]!quantidade_adquirida)-SUMIF([0]!cod_saida,Estoque!A46,quantidade_comprada)","v":0}]
[null,null,null,null,null,{"$f":"SUMIF(Codigo_Produto,Estoque!A47,[0]!quantidade_adquirida)-SUMIF([0]!cod_saida,Estoque!A47,quantidade_comprada)","v":0}]
[null,null,null,null,null,{"$f":"SUMIF(Codigo_Produto,Estoque!A48,[0]!quantidade_adquirida)-SUMIF([0]!cod_saida,Estoque!A48,quantidade_comprada)","v":0}]
[null,null,null,null,null,{"$f":"SUMIF(Codigo_Produto,Estoque!A49,[0]!quantidade_adquirida)-SUMIF([0]!cod_saida,Estoque!A49,quantidade_comprada)","v":0}]
[null,null,null,null,null,{"$f":"SUMIF(Codigo_Produto,Estoque!A50,[0]!quantidade_adquirida)-SUMIF([0]!cod_saida,Estoque!A50,quantidade_comprada)","v":0}]
[null,null,null,null,null,{"$f":"SUMIF(Codigo_Produto,Estoque!A51,[0]!quantidade_adquirida)-SUMIF([0]!cod_saida,Estoque!A51,quantidade_comprada)","v":0}]
[null,null,null,null,null,{"$f":"SUMIF(Codigo_Produto,Estoque!A52,[0]!quantidade_adquirida)-SUMIF([0]!cod_saida,Estoque!A52,quantidade_comprada)","v":0}]
[null,null,null,null,null,{"$f":"SUMIF(Codigo_Produto,Estoque!A53,[0]!quantidade_adquirida)-SUMIF([0]!cod_saida,Estoque!A53,quantidade_comprada)","v":0}]
[null,null,null,null,null,{"$f":"SUMIF(Codigo_Produto,Estoque!A54,[0]!quantidade_adquirida)-SUMIF([0]!cod_saida,Estoque!A54,quantidade_comprada)","v":0}]
[null,null,null,null,null,{"$f":"SUMIF(Codigo_Produto,Estoque!A55,[0]!quantidade_adquirida)-SUMIF([0]!cod_saida,Estoque!A55,quantidade_comprada)","v":0}]
[null,null,null,null,null,{"$f":"SUMIF(Codigo_Produto,Estoque!A56,[0]!quantidade_adquirida)-SUMIF([0]!cod_saida,Estoque!A56,quantidade_comprada)","v":0}]
[null,null,null,null,null,{"$f":"SUMIF(Codigo_Produto,Estoque!A57,[0]!quantidade_adquirida)-SUMIF([0]!cod_saida,Estoque!A57,quantidade_comprada)","v":0}]
[null,null,null,null,null,{"$f":"SUMIF(Codigo_Produto,Estoque!A58,[0]!quantidade_adquirida)-SUMIF([0]!cod_saida,Estoque!A58,quantidade_comprada)","v":0}]
[null,null,null,null,null,{"$f":"SUMIF(Codigo_Produto,Estoque!A59,[0]!quantidade_adquirida)-SUMIF([0]!cod_saida,Estoque!A59,quantidade_comprada)","v":0}]
[null,null,null,null,null,{"$f":"SUMIF(Codigo_Produto,Estoque!A60,[0]!quantidade_adquirida)-SUMIF([0]!cod_saida,Estoque!A60,quantidade_comprada)","v":0}]
[null,null,null,null,null,{"$f":"SUMIF(Codigo_Produto,Estoque!A61,[0]!quantidade_adquirida)-SUMIF([0]!cod_saida,Estoque!A61,quantidade_comprada)","v":0}]
[null,null,null,null,null,{"$f":"SUMIF(Codigo_Produto,Estoque!A62,[0]!quantidade_adquirida)-SUMIF([0]!cod_saida,Estoque!A62,quantidade_comprada)","v":0}]
[null,null,null,null,null,{"$f":"SUMIF(Codigo_Produto,Estoque!A63,[0]!quantidade_adquirida)-SUMIF([0]!cod_saida,Estoque!A63,quantidade_comprada)","v":0}]
[null,null,null,null,null,{"$f":"SUMIF(Codigo_Produto,Estoque!A64,[0]!quantidade_adquirida)-SUMIF([0]!cod_saida,Estoque!A64,quantidade_comprada)","v":0}]
[null,null,null,null,null,{"$f":"SUMIF(Codigo_Produto,Estoque!A65,[0]!quantidade_adquirida)-SUMIF([0]!cod_saida,Estoque!A65,quantidade_comprada)","v":0}]
[null,null,null,null,null,{"$f":"SUMIF(Codigo_Produto,Estoque!A66,[0]!quantidade_adquirida)-SUMIF([0]!cod_saida,Estoque!A66,quantidade_comprada)","v":0}]
[null,null,null,null,null,{"$f":"SUMIF(Codigo_Produto,Estoque!A67,[0]!quantidade_adquirida)-SUMIF([0]!cod_saida,Estoque!A67,quantidade_comprada)","v":0}]
[null,null,null,null,null,{"$f":"SUMIF(Codigo_Produto,Estoque!A68,[0]!quantidade_adquirida)-SUMIF([0]!cod_saida,Estoque!A68,quantidade_comprada)","v":0}]
[null,null,null,null,null,{"$f":"SUMIF(Codigo_Produto,Estoque!A69,[0]!quantidade_adquirida)-SUMIF([0]!cod_saida,Estoque!A69,quantidade_comprada)","v":0}]
[null,null,null,null,null,{"$f":"SUMIF(Codigo_Produto,Estoque!A70,[0]!quantidade_adquirida)-SUMIF([0]!cod_saida,Estoque!A70,quantidade_comprada)","v":0}]
[null,null,null,null,null,{"$f":"SUMIF(Codigo_Produto,Estoque!A71,[0]!quantidade_adquirida)-SUMIF([0]!cod_saida,Estoque!A71,quantidade_comprada)","v":0}]
[null,null,null,null,null,{"$f":"SUMIF(Codigo_Produto,Estoque!A72,[0]!quantidade_adquirida)-SUMIF([0]!cod_saida,Estoque!A72,quantidade_comprada)","v":0}]
[null,null,null,null,null,{"$f":"SUMIF(Codigo_Produto,Estoque!A73,[0]!quantidade_adquirida)-SUMIF([0]!cod_saida,Estoque!A73,quantidade_comprada)","v":0}]
[null,null,null,null,null,{"$f":"SUMIF(Codigo_Produto,Estoque!A74,[0]!quantidade_adquirida)-SUMIF([0]!cod_saida,Estoque!A74,quantidade_comprada)","v":0}]
[null,null,null,null,null,{"$f":"SUMIF(Codigo_Produto,Estoque!A75,[0]!quantidade_adquirida)-SUMIF([0]!cod_saida,Estoque!A75,quantidade_comprada)","v":0}]
[null,null,null,null,null,{"$f":"SUMIF(Codigo_Produto,Estoque!A76,[0]!quantidade_adquirida)-SUMIF([0]!cod_saida,Estoque!A76,quantidade_comprada)","v":0}]
[null,null,null,null,null,{"$f":"SUMIF(Codigo_Produto,Estoque!A77,[0]!quantidade_adquirida)-SUMIF([0]!cod_saida,Estoque!A77,quantidade_comprada)","v":0}]
[null,null,null,null,null,{"$f":"SUMIF(Codigo_Produto,Estoque!A78,[0]!quantidade_adquirida)-SUMIF([0]!cod_saida,Estoque!A78,quantidade_comprada)","v":0}]
[null,null,null,null,null,{"$f":"SUMIF(Codigo_Produto,Estoque!A79,[0]!quantidade_adquirida)-SUMIF([0]!cod_saida,Estoque!A79,quantidade_comprada)","v":0}]
[null,null,null,null,null,{"$f":"SUMIF(Codigo_Produto,Estoque!A80,[0]!quantidade_adquirida)-SUMIF([0]!cod_saida,Estoque!A80,quantidade_comprada)","v":0}]
[null,null,null,null,null,{"$f":"SUMIF(Codigo_Produto,Estoque!A81,[0]!quantidade_adquirida)-SUMIF([0]!cod_saida,Estoque!A81,quantidade_comprada)","v":0}]
[null,null,null,null,null,{"$f":"SUMIF(Codigo_Produto,Estoque!A82,[0]!quantidade_adquirida)-SUMIF([0]!cod_saida,Estoque!A82,quantidade_comprada)","v":0}]
[null,null,null,null,null,{"$f":"SUMIF(Codigo_Produto,Estoque!A83,[0]!quantidade_adquirida)-SUMIF([0]!cod_saida,Estoque!A83,quantidade_comprada)","v":0}]
[null,null,null,null,null,{"$f":"SUMIF(Codigo_Produto,Estoque!A84,[0]!quantidade_adquirida)-SUMIF([0]!cod_saida,Estoque!A84,quantidade_comprada)","v":0}]
[null,null,null,null,null,{"$f":"SUMIF(Codigo_Produto,Estoque!A85,[0]!quantidade_adquirida)-SUMIF([0]!cod_saida,Estoque!A85,quantidade_comprada)","v":0}]
[null,null,null,null,null,{"$f":"SUMIF(Codigo_Produto,Estoque!A86,[0]!quantidade_adquirida)-SUMIF([0]!cod_saida,Estoque!A86,quantidade_comprada)","v":0}]
[null,null,null,null,null,{"$f":"SUMIF(Codigo_Produto,Estoque!A87,[0]!quantidade_adquirida)-SUMIF([0]!cod_saida,Estoque!A87,quantidade_comprada)","v":0}]
[null,null,null,null,null,{"$f":"SUMIF(Codigo_Produto,Estoque!A88,[0]!quantidade_adquirida)-SUMIF([0]!cod_saida,Estoque!A88,quantidade_comprada)","v":0}]
[null,null,null,null,null,{"$f":"SUMIF(Codigo_Produto,Estoque!A89,[0]!quantidade_adquirida)-SUMIF([0]!cod_saida,Estoque!A89,quantidade_comprada)","v":0}]
[null,null,null,null,null,{"$f":"SUMIF(Codigo_Produto,Estoque!A90,[0]!quantidade_adquirida)-SUMIF([0]!cod_saida,Estoque!A90,quantidade_comprada)","v":0}]
[null,null,null,null,null,{"$f":"SUMIF(Codigo_Produto,Estoque!A91,[0]!quantidade_adquirida)-SUMIF([0]!cod_saida,Estoque!A91,quantidade_comprada)","v":0}]
[null,null,null,null,null,{"$f":"SUMIF(Codigo_Produto,Estoque!A92,[0]!quantidade_adquirida)-SUMIF([0]!cod_saida,Estoque!A92,quantidade_comprada)","v":0}]
[null,null,null,null,null,{"$f":"SUMIF(Codigo_Produto,Estoque!A93,[0]!quantidade_adquirida)-SUMIF([0]!cod_saida,Estoque!A93,quantidade_comprada)","v":0}]
[null,null,null,null,null,{"$f":"SUMIF(Codigo_Produto,Estoque!A94,[0]!quantidade_adquirida)-SUMIF([0]!cod_saida,Estoque!A94,quantidade_comprada)","v":0}]
[null,null,null,null,null,{"$f":"SUMIF(Codigo_Produto,Estoque!A95,[0]!quantidade_adquirida)-SUMIF([0]!cod_saida,Estoque!A95,quantidade_comprada)","v":0}]
[null,null,null,null,null,{"$f":"SUMIF(Codigo_Produto,Estoque!A96,[0]!quantidade_adquirida)-SUMIF([0]!cod_saida,Estoque!A96,quantidade_comprada)","v":0}]
[null,null,null,null,null,{"$f":"SUMIF(Codigo_Produto,Estoque!A97,[0]!quantidade_adquirida)-SUMIF([0]!cod_saida,Estoque!A97,quantidade_comprada)","v":0}]
[null,null,null,null,null,{"$f":"SUMIF(Codigo_Produto,Estoque!A98,[0]!quantidade_adquirida)-SUMIF([0]!cod_saida,Estoque!A98,quantidade_comprada)","v":0}]
[null,null,null,null,null,{"$f":"SUMIF(Codigo_Produto,Estoque!A99,[0]!quantidade_adquirida)-SUMIF([0]!cod_saida,Estoque!A99,quantidade_comprada)","v":0}]
[null,null,null,null,null,{"$f":"SUMIF(Codigo_Produto,Estoque!A100,[0]!quantidade_adquirida)-SUMIF([0]!cod_saida,Estoque!A100,quantidade_comprada)","v":0}]
[null,null,null,null,null,{"$f":"SUMIF(Codigo_Produto,Estoque!A101,[0]!quantidade_adquirida)-SUMIF([0]!cod_saida,Estoque!A101,quantidade_comprada)","v":0}]
[null,null,null,null,null,{"$f":"SUMIF(Codigo_Produto,Estoque!A102,[0]!quantidade_adquirida)-SUMIF([0]!cod_saida,Estoque!A102,quantidade_comprada)","v":0}]
[null,null,null,null,null,{"$f":"SUMIF(Codigo_Produto,Estoque!A103,[0]!quantidade_adquirida)-SUMIF([0]!cod_saida,Estoque!A103,quantidade_comprada)","v":0}]
[null,null,null,null,null,{"$f":"SUMIF(Codigo_Produto,Estoque!A104,[0]!quantidade_adquirida)-SUMIF([0]!cod_saida,Estoque!A104,quantidade_comprada)","v":0}]
[null,null,null,null,null,{"$f":"SUMIF(Codigo_Produto,Estoque!A105,[0]!quantidade_adquirida)-SUMIF([0]!cod_saida,Estoque!A105,quantidade_comprada)","v":0}]
[null,null,null,null,null,{"$f":"SUMIF(Codigo_Produto,Estoque!A106,[0]!quantidade_adquirida)-SUMIF([0]!cod_saida,Estoque!A106,quantidade_comprada)","v":0}]
[null,null,null,null,null,{"$f":"SUMIF(Codigo_Produto,Estoque!A107,[0]!quantidade_adquirida)-SUMIF([0]!cod_saida,Estoque!A107,quantidade_comprada)","v":0}]
[null,null,null,null,null,{"$f":"SUMIF(Codigo_Produto,Estoque!A108,[0]!quantidade_adquirida)-SUMIF([0]!cod_saida,Estoque!A108,quantidade_comprada)","v":0}]
[null,null,null,null,null,{"$f":"SUMIF(Codigo_Produto,Estoque!A109,[0]!quantidade_adquirida)-SUMIF([0]!cod_saida,Estoque!A109,quantidade_comprada)","v":0}]
[null,null,null,null,null,{"$f":"SUMIF(Codigo_Produto,Estoque!A110,[0]!quantidade_adquirida)-SUMIF([0]!cod_saida,Estoque!A110,quantidade_comprada)","v":0}]
[null,null,null,null,null,{"$f":"SUMIF(Codigo_Produto,Estoque!A111,[0]!quantidade_adquirida)-SUMIF([0]!cod_saida,Estoque!A111,quantidade_comprada)","v":0}]
[null,null,null,null,null,{"$f":"SUMIF(Codigo_Produto,Estoque!A112,[0]!quantidade_adquirida)-SUMIF([0]!cod_saida,Estoque!A112,quantidade_comprada)","v":0}]
[null,null,null,null,null,{"$f":"SUMIF(Codigo_Produto,Estoque!A113,[0]!quantidade_adquirida)-SUMIF([0]!cod_saida,Estoque!A113,quantidade_comprada)","v":0}]
[null,null,null,null,null,{"$f":"SUMIF(Codigo_Produto,Estoque!A114,[0]!quantidade_adquirida)-SUMIF([0]!cod_saida,Estoque!A114,quantidade_comprada)","v":0}]
[null,null,null,null,null,{"$f":"SUMIF(Codigo_Produto,Estoque!A115,[0]!quantidade_adquirida)-SUMIF([0]!cod_saida,Estoque!A115,quantidade_comprada)","v":0}]
[null,null,null,null,null,{"$f":"SUMIF(Codigo_Produto,Estoque!A116,[0]!quantidade_adquirida)-SUMIF([0]!cod_saida,Estoque!A116,quantidade_comprada)","v":0}]
[null,null,null,null,null,{"$f":"SUMIF(Codigo_Produto,Estoque!A117,[0]!quantidade_adquirida)-SUMIF([0]!cod_saida,Estoque!A117,quantidade_comprada)","v":0}]
[null,null,null,null,null,{"$f":"SUMIF(Codigo_Produto,Estoque!A118,[0]!quantidade_adquirida)-SUMIF([0]!cod_saida,Estoque!A118,quantidade_comprada)","v":0}]
[null,null,null,null,null,{"$f":"SUMIF(Codigo_Produto,Estoque!A119,[0]!quantidade_adquirida)-SUMIF([0]!cod_saida,Estoque!A119,quantidade_comprada)","v":0}]
[null,null,null,null,null,{"$f":"SUMIF(Codigo_Produto,Estoque!A120,[0]!quantidade_adquirida)-SUMIF([0]!cod_saida,Estoque!A120,quantidade_comprada)","v":0}]
[null,null,null,null,null,{"$f":"SUMIF(Codigo_Produto,Estoque!A121,[0]!quantidade_adquirida)-SUMIF([0]!cod_saida,Estoque!A121,quantidade_comprada)","v":0}]
[null,null,null,null,null,{"$f":"SUMIF(Codigo_Produto,Estoque!A122,[0]!quantidade_adquirida)-SUMIF([0]!cod_saida,Estoque!A122,quantidade_comprada)","v":0}]
[null,null,null,null,null,{"$f":"SUMIF(Codigo_Produto,Estoque!A123,[0]!quantidade_adquirida)-SUMIF([0]!cod_saida,Estoque!A123,quantidade_comprada)","v":0}]
[null,null,null,null,null,{"$f":"SUMIF(Codigo_Produto,Estoque!A124,[0]!quantidade_adquirida)-SUMIF([0]!cod_saida,Estoque!A124,quantidade_comprada)","v":0}]
[null,null,null,null,null,{"$f":"SUMIF(Codigo_Produto,Estoque!A125,[0]!quantidade_adquirida)-SUMIF([0]!cod_saida,Estoque!A125,quantidade_comprada)","v":0}]
[null,null,null,null,null,{"$f":"SUMIF(Codigo_Produto,Estoque!A126,[0]!quantidade_adquirida)-SUMIF([0]!cod_saida,Estoque!A126,quantidade_comprada)","v":0}]
[null,null,null,null,null,{"$f":"SUMIF(Codigo_Produto,Estoque!A127,[0]!quantidade_adquirida)-SUMIF([0]!cod_saida,Estoque!A127,quantidade_comprada)","v":0}]
[null,null,null,null,null,{"$f":"SUMIF(Codigo_Produto,Estoque!A128,[0]!quantidade_adquirida)-SUMIF([0]!cod_saida,Estoque!A128,quantidade_comprada)","v":0}]
[null,null,null,null,null,{"$f":"SUMIF(Codigo_Produto,Estoque!A129,[0]!quantidade_adquirida)-SUMIF([0]!cod_saida,Estoque!A129,quantidade_comprada)","v":0}]
[null,null,null,null,null,{"$f":"SUMIF(Codigo_Produto,Estoque!A130,[0]!quantidade_adquirida)-SUMIF([0]!cod_saida,Estoque!A130,quantidade_comprada)","v":0}]
[null,null,null,null,null,{"$f":"SUMIF(Codigo_Produto,Estoque!A131,[0]!quantidade_adquirida)-SUMIF([0]!cod_saida,Estoque!A131,quantidade_comprada)","v":0}]
[null,null,null,null,null,{"$f":"SUMIF(Codigo_Produto,Estoque!A132,[0]!quantidade_adquirida)-SUMIF([0]!cod_saida,Estoque!A132,quantidade_comprada)","v":0}]
[null,null,null,null,null,{"$f":"SUMIF(Codigo_Produto,Estoque!A133,[0]!quantidade_adquirida)-SUMIF([0]!cod_saida,Estoque!A133,quantidade_comprada)","v":0}]
[null,null,null,null,null,{"$f":"SUMIF(Codigo_Produto,Estoque!A134,[0]!quantidade_adquirida)-SUMIF([0]!cod_saida,Estoque!A134,quantidade_comprada)","v":0}]
[null,null,null,null,null,{"$f":"SUMIF(Codigo_Produto,Estoque!A135,[0]!quantidade_adquirida)-SUMIF([0]!cod_saida,Estoque!A135,quantidade_comprada)","v":0}]
[null,null,null,null,null,{"$f":"SUMIF(Codigo_Produto,Estoque!A136,[0]!quantidade_adquirida)-SUMIF([0]!cod_saida,Estoque!A136,quantidade_comprada)","v":0}]
[null,null,null,null,null,{"$f":"SUMIF(Codigo_Produto,Estoque!A137,[0]!quantidade_adquirida)-SUMIF([0]!cod_saida,Estoque!A137,quantidade_comprada)","v":0}]
[null,null,null,null,null,{"$f":"SUMIF(Codigo_Produto,Estoque!A138,[0]!quantidade_adquirida)-SUMIF([0]!cod_saida,Estoque!A138,quantidade_comprada)","v":0}]
[null,null,null,null,null,{"$f":"SUMIF(Codigo_Produto,Estoque!A139,[0]!quantidade_adquirida)-SUMIF([0]!cod_saida,Estoque!A139,quantidade_comprada)","v":0}]
[null,null,null,null,null,{"$f":"SUMIF(Codigo_Produto,Estoque!A140,[0]!quantidade_adquirida)-SUMIF([0]!cod_saida,Estoque!A140,quantidade_comprada)","v":0}]
[null,null,null,null,null,{"$f":"SUMIF(Codigo_Produto,Estoque!A141,[0]!quantidade_adquirida)-SUMIF([0]!cod_saida,Estoque!A141,quantidade_comprada)","v":0}]
[null,null,null,null,null,{"$f":"SUMIF(Codigo_Produto,Estoque!A142,[0]!quantidade_adquirida)-SUMIF([0]!cod_saida,Estoque!A142,quantidade_comprada)","v":0}]
[null,null,null,null,null,{"$f":"SUMIF(Codigo_Produto,Estoque!A143,[0]!quantidade_adquirida)-SUMIF([0]!cod_saida,Estoque!A143,quantidade_comprada)","v":0}]
[null,null,null,null,null,{"$f":"SUMIF(Codigo_Produto,Estoque!A144,[0]!quantidade_adquirida)-SUMIF([0]!cod_saida,Estoque!A144,quantidade_comprada)","v":0}]
[null,null,null,null,null,{"$f":"SUMIF(Codigo_Produto,Estoque!A145,[0]!quantidade_adquirida)-SUMIF([0]!cod_saida,Estoque!A145,quantidade_comprada)","v":0}]
[null,null,null,null,null,{"$f":"SUMIF(Codigo_Produto,Estoque!A146,[0]!quantidade_adquirida)-SUMIF([0]!cod_saida,Estoque!A146,quantidade_comprada)","v":0}]
[null,null,null,null,null,{"$f":"SUMIF(Codigo_Produto,Estoque!A147,[0]!quantidade_adquirida)-SUMIF([0]!cod_saida,Estoque!A147,quantidade_comprada)","v":0}]
[null,null,null,null,null,{"$f":"SUMIF(Codigo_Produto,Estoque!A148,[0]!quantidade_adquirida)-SUMIF([0]!cod_saida,Estoque!A148,quantidade_comprada)","v":0}]
[null,null,null,null,null,{"$f":"SUMIF(Codigo_Produto,Estoque!A149,[0]!quantidade_adquirida)-SUMIF([0]!cod_saida,Estoque!A149,quantidade_comprada)","v":0}]
[null,null,null,null,null,{"$f":"SUMIF(Codigo_Produto,Estoque!A150,[0]!quantidade_adquirida)-SUMIF([0]!cod_saida,Estoque!A150,quantidade_comprada)","v":0}]
[null,null,null,null,null,{"$f":"SUMIF(Codigo_Produto,Estoque!A151,[0]!quantidade_adquirida)-SUMIF([0]!cod_saida,Estoque!A151,quantidade_comprada)","v":0}]
[null,null,null,null,null,{"$f":"SUMIF(Codigo_Produto,Estoque!A152,[0]!quantidade_adquirida)-SUMIF([0]!cod_saida,Estoque!A152,quantidade_comprada)","v":0}]
[null,null,null,null,null,{"$f":"SUMIF(Codigo_Produto,Estoque!A153,[0]!quantidade_adquirida)-SUMIF([0]!cod_saida,Estoque!A153,quantidade_comprada)","v":0}]
[null,null,null,null,null,{"$f":"SUMIF(Codigo_Produto,Estoque!A154,[0]!quantidade_adquirida)-SUMIF([0]!cod_saida,Estoque!A154,quantidade_comprada)","v":0}]
[null,null,null,null,null,{"$f":"SUMIF(Codigo_Produto,Estoque!A155,[0]!quantidade_adquirida)-SUMIF([0]!cod_saida,Estoque!A155,quantidade_comprada)","v":0}]
[null,null,null,null,null,{"$f":"SUMIF(Codigo_Produto,Estoque!A156,[0]!quantidade_adquirida)-SUMIF([0]!cod_saida,Estoque!A156,quantidade_comprada)","v":0}]
[null,null,null,null,null,{"$f":"SUMIF(Codigo_Produto,Estoque!A157,[0]!quantidade_adquirida)-SUMIF([0]!cod_saida,Estoque!A157,quantidade_comprada)","v":0}]
[null,null,null,null,null,{"$f":"SUMIF(Codigo_Produto,Estoque!A158,[0]!quantidade_adquirida)-SUMIF([0]!cod_saida,Estoque!A158,quantidade_comprada)","v":0}]
[null,null,null,null,null,{"$f":"SUMIF(Codigo_Produto,Estoque!A159,[0]!quantidade_adquirida)-SUMIF([0]!cod_saida,Estoque!A159,quantidade_comprada)","v":0}]
[null,null,null,null,null,{"$f":"SUMIF(Codigo_Produto,Estoque!A160,[0]!quantidade_adquirida)-SUMIF([0]!cod_saida,Estoque!A160,quantidade_comprada)","v":0}]
[null,null,null,null,null,{"$f":"SUMIF(Codigo_Produto,Estoque!A161,[0]!quantidade_adquirida)-SUMIF([0]!cod_saida,Estoque!A161,quantidade_comprada)","v":0}]
[null,null,null,null,null,{"$f":"SUMIF(Codigo_Produto,Estoque!A162,[0]!quantidade_adquirida)-SUMIF([0]!cod_saida,Estoque!A162,quantidade_comprada)","v":0}]
[null,null,null,null,null,{"$f":"SUMIF(Codigo_Produto,Estoque!A163,[0]!quantidade_adquirida)-SUMIF([0]!cod_saida,Estoque!A163,quantidade_comprada)","v":0}]
[null,null,null,null,null,{"$f":"SUMIF(Codigo_Produto,Estoque!A164,[0]!quantidade_adquirida)-SUMIF([0]!cod_saida,Estoque!A164,quantidade_comprada)","v":0}]
[null,null,null,null,null,{"$f":"SUMIF(Codigo_Produto,Estoque!A165,[0]!quantidade_adquirida)-SUMIF([0]!cod_saida,Estoque!A165,quantidade_comprada)","v":0}]
[null,null,null,null,null,{"$f":"SUMIF(Codigo_Produto,Estoque!A166,[0]!quantidade_adquirida)-SUMIF([0]!cod_saida,Estoque!A166,quantidade_comprada)","v":0}]
[null,null,null,null,null,{"$f":"SUMIF(Codigo_Produto,Estoque!A167,[0]!quantidade_adquirida)-SUMIF([0]!cod_saida,Estoque!A167,quantidade_comprada)","v":0}]
[null,null,null,null,null,{"$f":"SUMIF(Codigo_Produto,Estoque!A168,[0]!quantidade_adquirida)-SUMIF([0]!cod_saida,Estoque!A168,quantidade_comprada)","v":0}]
[null,null,null,null,null,{"$f":"SUMIF(Codigo_Produto,Estoque!A169,[0]!quantidade_adquirida)-SUMIF([0]!cod_saida,Estoque!A169,quantidade_comprada)","v":0}]
[null,null,null,null,null,{"$f":"SUMIF(Codigo_Produto,Estoque!A170,[0]!quantidade_adquirida)-SUMIF([0]!cod_saida,Estoque!A170,quantidade_comprada)","v":0}]
[null,null,null,null,null,{"$f":"SUMIF(Codigo_Produto,Estoque!A171,[0]!quantidade_adquirida)-SUMIF([0]!cod_saida,Estoque!A171,quantidade_comprada)","v":0}]
[null,null,null,null,null,{"$f":"SUMIF(Codigo_Produto,Estoque!A172,[0]!quantidade_adquirida)-SUMIF([0]!cod_saida,Estoque!A172,quantidade_comprada)","v":0}]
[null,null,null,null,null,{"$f":"SUMIF(Codigo_Produto,Estoque!A173,[0]!quantidade_adquirida)-SUMIF([0]!cod_saida,Estoque!A173,quantidade_comprada)","v":0}]
[null,null,null,null,null,{"$f":"SUMIF(Codigo_Produto,Estoque!A174,[0]!quantidade_adquirida)-SUMIF([0]!cod_saida,Estoque!A174,quantidade_comprada)","v":0}]
[null,null,null,null,null,{"$f":"SUMIF(Codigo_Produto,Estoque!A175,[0]!quantidade_adquirida)-SUMIF([0]!cod_saida,Estoque!A175,quantidade_comprada)","v":0}]
[null,null,null,null,null,{"$f":"SUMIF(Codigo_Produto,Estoque!A176,[0]!quantidade_adquirida)-SUMIF([0]!cod_saida,Estoque!A176,quantidade_comprada)","v":0}]
[null,null,null,null,null,{"$f":"SUMIF(Codigo_Produto,Estoque!A177,[0]!quantidade_adquirida)-SUMIF([0]!cod_saida,Estoque!A177,quantidade_comprada)","v":0}]
[null,null,null,null,null,{"$f":"SUMIF(Codigo_Produto,Estoque!A178,[0]!quantidade_adquirida)-SUMIF([0]!cod_saida,Estoque!A178,quantidade_comprada)","v":0}]
[null,null,null,null,null,{"$f":"SUMIF(Codigo_Produto,Estoque!A179,[0]!quantidade_adquirida)-SUMIF([0]!cod_saida,Estoque!A179,quantidade_comprada)","v":0}]
[null,null,null,null,null,{"$f":"SUMIF(Codigo_Produto,Estoque!A180,[0]!quantidade_adquirida)-SUMIF([0]!cod_saida,Estoque!A180,quantidade_comprada)","v":0}]
[null,null,null,null,null,{"$f":"SUMIF(Codigo_Produto,Estoque!A181,[0]!quantidade_adquirida)-SUMIF([0]!cod_saida,Estoque!A181,quantidade_comprada)","v":0}]
[null,null,null,null,null,{"$f":"SUMIF(Codigo_Produto,Estoque!A182,[0]!quantidade_adquirida)-SUMIF([0]!cod_saida,Estoque!A182,quantidade_comprada)","v":0}]
[null,null,null,null,null,{"$f":"SUMIF(Codigo_Produto,Estoque!A183,[0]!quantidade_adquirida)-SUMIF([0]!cod_saida,Estoque!A183,quantidade_comprada)","v":0}]
[null,null,null,null,null,{"$f":"SUMIF(Codigo_Produto,Estoque!A184,[0]!quantidade_adquirida)-SUMIF([0]!cod_saida,Estoque!A184,quantidade_comprada)","v":0}]
[null,null,null,null,null,{"$f":"SUMIF(Codigo_Produto,Estoque!A185,[0]!quantidade_adquirida)-SUMIF([0]!cod_saida,Estoque!A185,quantidade_comprada)","v":0}]
[null,null,null,null,null,{"$f":"SUMIF(Codigo_Produto,Estoque!A186,[0]!quantidade_adquirida)-SUMIF([0]!cod_saida,Estoque!A186,quantidade_comprada)","v":0}]
[null,null,null,null,null,{"$f":"SUMIF(Codigo_Produto,Estoque!A187,[0]!quantidade_adquirida)-SUMIF([0]!cod_saida,Estoque!A187,quantidade_comprada)","v":0}]
[null,null,null,null,null,{"$f":"SUMIF(Codigo_Produto,Estoque!A188,[0]!quantidade_adquirida)-SUMIF([0]!cod_saida,Estoque!A188,quantidade_comprada)","v":0}]
[null,null,null,null,null,{"$f":"SUMIF(Codigo_Produto,Estoque!A189,[0]!quantidade_adquirida)-SUMIF([0]!cod_saida,Estoque!A189,quantidade_comprada)","v":0}]
[null,null,null,null,null,{"$f":"SUMIF(Codigo_Produto,Estoque!A190,[0]!quantidade_adquirida)-SUMIF([0]!cod_saida,Estoque!A190,quantidade_comprada)","v":0}]
[null,null,null,null,null,{"$f":"SUMIF(Codigo_Produto,Estoque!A191,[0]!quantidade_adquirida)-SUMIF([0]!cod_saida,Estoque!A191,quantidade_comprada)","v":0}]
[null,null,null,null,null,{"$f":"SUMIF(Codigo_Produto,Estoque!A192,[0]!quantidade_adquirida)-SUMIF([0]!cod_saida,Estoque!A192,quantidade_comprada)","v":0}]
[null,null,null,null,null,{"$f":"SUMIF(Codigo_Produto,Estoque!A193,[0]!quantidade_adquirida)-SUMIF([0]!cod_saida,Estoque!A193,quantidade_comprada)","v":0}]
[null,null,null,null,null,{"$f":"SUMIF(Codigo_Produto,Estoque!A194,[0]!quantidade_adquirida)-SUMIF([0]!cod_saida,Estoque!A194,quantidade_comprada)","v":0}]
[null,null,null,null,null,{"$f":"SUMIF(Codigo_Produto,Estoque!A195,[0]!quantidade_adquirida)-SUMIF([0]!cod_saida,Estoque!A195,quantidade_comprada)","v":0}]
[null,null,null,null,null,{"$f":"SUMIF(Codigo_Produto,Estoque!A196,[0]!quantidade_adquirida)-SUMIF([0]!cod_saida,Estoque!A196,quantidade_comprada)","v":0}]
[null,null,null,null,null,{"$f":"SUMIF(Codigo_Produto,Estoque!A197,[0]!quantidade_adquirida)-SUMIF([0]!cod_saida,Estoque!A197,quantidade_comprada)","v":0}]
[null,null,null,null,null,{"$f":"SUMIF(Codigo_Produto,Estoque!A198,[0]!quantidade_adquirida)-SUMIF([0]!cod_saida,Estoque!A198,quantidade_comprada)","v":0}]
[null,null,null,null,null,{"$f":"SUMIF(Codigo_Produto,Estoque!A199,[0]!quantidade_adquirida)-SUMIF([0]!cod_saida,Estoque!A199,quantidade_comprada)","v":0}]
[null,null,null,null,null,{"$f":"SUMIF(Codigo_Produto,Estoque!A200,[0]!quantidade_adquirida)-SUMIF([0]!cod_saida,Estoque!A200,quantidade_comprada)","v":0}]
[null,null,null,null,null,{"$f":"SUMIF(Codigo_Produto,Estoque!A201,[0]!quantidade_adquirida)-SUMIF([0]!cod_saida,Estoque!A201,quantidade_comprada)","v":0}]
[null,null,null,null,null,{"$f":"SUMIF(Codigo_Produto,Estoque!A202,[0]!quantidade_adquirida)-SUMIF([0]!cod_saida,Estoque!A202,quantidade_comprada)","v":0}]
[null,null,null,null,null,{"$f":"SUMIF(Codigo_Produto,Estoque!A203,[0]!quantidade_adquirida)-SUMIF([0]!cod_saida,Estoque!A203,quantidade_comprada)","v":0}]
[null,null,null,null,null,{"$f":"SUMIF(Codigo_Produto,Estoque!A204,[0]!quantidade_adquirida)-SUMIF([0]!cod_saida,Estoque!A204,quantidade_comprada)","v":0}]
[null,null,null,null,null,{"$f":"SUMIF(Codigo_Produto,Estoque!A205,[0]!quantidade_adquirida)-SUMIF([0]!cod_saida,Estoque!A205,quantidade_comprada)","v":0}]
[null,null,null,null,null,{"$f":"SUMIF(Codigo_Produto,Estoque!A206,[0]!quantidade_adquirida)-SUMIF([0]!cod_saida,Estoque!A206,quantidade_comprada)","v":0}]
[null,null,null,null,null,{"$f":"SUMIF(Codigo_Produto,Estoque!A207,[0]!quantidade_adquirida)-SUMIF([0]!cod_saida,Estoque!A207,quantidade_comprada)","v":0}]
[null,null,null,null,null,{"$f":"SUMIF(Codigo_Produto,Estoque!A208,[0]!quantidade_adquirida)-SUMIF([0]!cod_saida,Estoque!A208,quantidade_comprada)","v":0}]
[null,null,null,null,null,{"$f":"SUMIF(Codigo_Produto,Estoque!A209,[0]!quantidade_adquirida)-SUMIF([0]!cod_saida,Estoque!A209,quantidade_comprada)","v":0}]
[null,null,null,null,null,{"$f":"SUMIF(Codigo_Produto,Estoque!A210,[0]!quantidade_adquirida)-SUMIF([0]!cod_saida,Estoque!A210,quantidade_comprada)","v":0}]
[null,null,null,null,null,{"$f":"SUMIF(Codigo_Produto,Estoque!A211,[0]!quantidade_adquirida)-SUMIF([0]!cod_saida,Estoque!A211,quantidade_comprada)","v":0}]
[null,null,null,null,null,{"$f":"SUMIF(Codigo_Produto,Estoque!A212,[0]!quantidade_adquirida)-SUMIF([0]!cod_saida,Estoque!A212,quantidade_comprada)","v":0}]
[null,null,null,null,null,{"$f":"SUMIF(Codigo_Produto,Estoque!A213,[0]!quantidade_adquirida)-SUMIF([0]!cod_saida,Estoque!A213,quantidade_comprada)","v":0}]
[null,null,null,null,null,{"$f":"SUMIF(Codigo_Produto,Estoque!A214,[0]!quantidade_adquirida)-SUMIF([0]!cod_saida,Estoque!A214,quantidade_comprada)","v":0}]
[null,null,null,null,null,{"$f":"SUMIF(Codigo_Produto,Estoque!A215,[0]!quantidade_adquirida)-SUMIF([0]!cod_saida,Estoque!A215,quantidade_comprada)","v":0}]
[null,null,null,null,null,{"$f":"SUMIF(Codigo_Produto,Estoque!A216,[0]!quantidade_adquirida)-SUMIF([0]!cod_saida,Estoque!A216,quantidade_comprada)","v":0}]
[null,null,null,null,null,{"$f":"SUMIF(Codigo_Produto,Estoque!A217,[0]!quantidade_adquirida)-SUMIF([0]!cod_saida,Estoque!A217,quantidade_comprada)","v":0}]
[null,null,null,null,null,{"$f":"SUMIF(Codigo_Produto,Estoque!A218,[0]!quantidade_adquirida)-SUMIF([0]!cod_saida,Estoque!A218,quantidade_comprada)","v":0}]
[null,null,null,null,null,{"$f":"SUMIF(Codigo_Produto,Estoque!A219,[0]!quantidade_adquirida)-SUMIF([0]!cod_saida,Estoque!A219,quantidade_comprada)","v":0}]
[null,null,null,null,null,{"$f":"SUMIF(Codigo_Produto,Estoque!A220,[0]!quantidade_adquirida)-SUMIF([0]!cod_saida,Estoque!A220,quantidade_comprada)","v":0}]
[null,null,null,null,null,{"$f":"SUMIF(Codigo_Produto,Estoque!A221,[0]!quantidade_adquirida)-SUMIF([0]!cod_saida,Estoque!A221,quantidade_comprada)","v":0}]
[null,null,null,null,null,{"$f":"SUMIF(Codigo_Produto,Estoque!A222,[0]!quantidade_adquirida)-SUMIF([0]!cod_saida,Estoque!A222,quantidade_comprada)","v":0}]
[null,null,null,null,null,{"$f":"SUMIF(Codigo_Produto,Estoque!A223,[0]!quantidade_adquirida)-SUMIF([0]!cod_saida,Estoque!A223,quantidade_comprada)","v":0}]
[null,null,null,null,null,{"$f":"SUMIF(Codigo_Produto,Estoque!A224,[0]!quantidade_adquirida)-SUMIF([0]!cod_saida,Estoque!A224,quantidade_comprada)","v":0}]
[null,null,null,null,null,{"$f":"SUMIF(Codigo_Produto,Estoque!A225,[0]!quantidade_adquirida)-SUMIF([0]!cod_saida,Estoque!A225,quantidade_comprada)","v":0}]
[null,null,null,null,null,{"$f":"SUMIF(Codigo_Produto,Estoque!A226,[0]!quantidade_adquirida)-SUMIF([0]!cod_saida,Estoque!A226,quantidade_comprada)","v":0}]
[null,null,null,null,null,{"$f":"SUMIF(Codigo_Produto,Estoque!A227,[0]!quantidade_adquirida)-SUMIF([0]!cod_saida,Estoque!A227,quantidade_comprada)","v":0}]
[null,null,null,null,null,{"$f":"SUMIF(Codigo_Produto,Estoque!A228,[0]!quantidade_adquirida)-SUMIF([0]!cod_saida,Estoque!A228,quantidade_comprada)","v":0}]
[null,null,null,null,null,{"$f":"SUMIF(Codigo_Produto,Estoque!A229,[0]!quantidade_adquirida)-SUMIF([0]!cod_saida,Estoque!A229,quantidade_comprada)","v":0}]
[null,null,null,null,null,{"$f":"SUMIF(Codigo_Produto,Estoque!A230,[0]!quantidade_adquirida)-SUMIF([0]!cod_saida,Estoque!A230,quantidade_comprada)","v":0}]
[null,null,null,null,null,{"$f":"SUMIF(Codigo_Produto,Estoque!A231,[0]!quantidade_adquirida)-SUMIF([0]!cod_saida,Estoque!A231,quantidade_comprada)","v":0}]
[null,null,null,null,null,{"$f":"SUMIF(Codigo_Produto,Estoque!A232,[0]!quantidade_adquirida)-SUMIF([0]!cod_saida,Estoque!A232,quantidade_comprada)","v":0}]
[null,null,null,null,null,{"$f":"SUMIF(Codigo_Produto,Estoque!A233,[0]!quantidade_adquirida)-SUMIF([0]!cod_saida,Estoque!A233,quantidade_comprada)","v":0}]
[null,null,null,null,null,{"$f":"SUMIF(Codigo_Produto,Estoque!A234,[0]!quantidade_adquirida)-SUMIF([0]!cod_saida,Estoque!A234,quantidade_comprada)","v":0}]
[null,null,null,null,null,{"$f":"SUMIF(Codigo_Produto,Estoque!A235,[0]!quantidade_adquirida)-SUMIF([0]!cod_saida,Estoque!A235,quantidade_comprada)","v":0}]
[null,null,null,null,null,{"$f":"SUMIF(Codigo_Produto,Estoque!A236,[0]!quantidade_adquirida)-SUMIF([0]!cod_saida,Estoque!A236,quantidade_comprada)","v":0}]
[null,null,null,null,null,{"$f":"SUMIF(Codigo_Produto,Estoque!A237,[0]!quantidade_adquirida)-SUMIF([0]!cod_saida,Estoque!A237,quantidade_comprada)","v":0}]
[null,null,null,null,null,{"$f":"SUMIF(Codigo_Produto,Estoque!A238,[0]!quantidade_adquirida)-SUMIF([0]!cod_saida,Estoque!A238,quantidade_comprada)","v":0}]
[null,null,null,null,null,{"$f":"SUMIF(Codigo_Produto,Estoque!A239,[0]!quantidade_adquirida)-SUMIF([0]!cod_saida,Estoque!A239,quantidade_comprada)","v":0}]
[null,null,null,null,null,{"$f":"SUMIF(Codigo_Produto,Estoque!A240,[0]!quantidade_adquirida)-SUMIF([0]!cod_saida,Estoque!A240,quantidade_comprada)","v":0}]
[null,null,null,null,null,{"$f":"SUMIF(Codigo_Produto,Estoque!A241,[0]!quantidade_adquirida)-SUMIF([0]!cod_saida,Estoque!A241,quantidade_comprada)","v":0}]
[null,null,null,null,null,{"$f":"SUMIF(Codigo_Produto,Estoque!A242,[0]!quantidade_adquirida)-SUMIF([0]!cod_saida,Estoque!A242,quantidade_comprada)","v":0}]
[null,null,null,null,null,{"$f":"SUMIF(Codigo_Produto,Estoque!A243,[0]!quantidade_adquirida)-SUMIF([0]!cod_saida,Estoque!A243,quantidade_comprada)","v":0}]
[null,null,null,null,null,{"$f":"SUMIF(Codigo_Produto,Estoque!A244,[0]!quantidade_adquirida)-SUMIF([0]!cod_saida,Estoque!A244,quantidade_comprada)","v":0}]
[null,null,null,null,null,{"$f":"SUMIF(Codigo_Produto,Estoque!A245,[0]!quantidade_adquirida)-SUMIF([0]!cod_saida,Estoque!A245,quantidade_comprada)","v":0}]
[null,null,null,null,null,{"$f":"SUMIF(Codigo_Produto,Estoque!A246,[0]!quantidade_adquirida)-SUMIF([0]!cod_saida,Estoque!A246,quantidade_comprada)","v":0}]
[null,null,null,null,null,{"$f":"SUMIF(Codigo_Produto,Estoque!A247,[0]!quantidade_adquirida)-SUMIF([0]!cod_saida,Estoque!A247,quantidade_comprada)","v":0}]
[null,null,null,null,null,{"$f":"SUMIF(Codigo_Produto,Estoque!A248,[0]!quantidade_adquirida)-SUMIF([0]!cod_saida,Estoque!A248,quantidade_comprada)","v":0}]
[null,null,null,null,null,{"$f":"SUMIF(Codigo_Produto,Estoque!A249,[0]!quantidade_adquirida)-SUMIF([0]!cod_saida,Estoque!A249,quantidade_comprada)","v":0}]
[null,null,null,null,null,{"$f":"SUMIF(Codigo_Produto,Estoque!A250,[0]!quantidade_adquirida)-SUMIF([0]!cod_saida,Estoque!A250,quantidade_comprada)","v":0}]
[null,null,null,null,null,{"$f":"SUMIF(Codigo_Produto,Estoque!A251,[0]!quantidade_adquirida)-SUMIF([0]!cod_saida,Estoque!A251,quantidade_comprada)","v":0}]
[null,null,null,null,null,{"$f":"SUMIF(Codigo_Produto,Estoque!A252,[0]!quantidade_adquirida)-SUMIF([0]!cod_saida,Estoque!A252,quantidade_comprada)","v":0}]
[null,null,null,null,null,{"$f":"SUMIF(Codigo_Produto,Estoque!A253,[0]!quantidade_adquirida)-SUMIF([0]!cod_saida,Estoque!A253,quantidade_comprada)","v":0}]
[null,null,null,null,null,{"$f":"SUMIF(Codigo_Produto,Estoque!A254,[0]!quantidade_adquirida)-SUMIF([0]!cod_saida,Estoque!A254,quantidade_comprada)","v":0}]
[null,null,null,null,null,{"$f":"SUMIF(Codigo_Produto,Estoque!A255,[0]!quantidade_adquirida)-SUMIF([0]!cod_saida,Estoque!A255,quantidade_comprada)","v":0}]
[null,null,null,null,null,{"$f":"SUMIF(Codigo_Produto,Estoque!A256,[0]!quantidade_adquirida)-SUMIF([0]!cod_saida,Estoque!A256,quantidade_comprada)","v":0}]
[null,null,null,null,null,{"$f":"SUMIF(Codigo_Produto,Estoque!A257,[0]!quantidade_adquirida)-SUMIF([0]!cod_saida,Estoque!A257,quantidade_comprada)","v":0}]
[null,null,null,null,null,{"$f":"SUMIF(Codigo_Produto,Estoque!A258,[0]!quantidade_adquirida)-SUMIF([0]!cod_saida,Estoque!A258,quantidade_comprada)","v":0}]
[null,null,null,null,null,{"$f":"SUMIF(Codigo_Produto,Estoque!A259,[0]!quantidade_adquirida)-SUMIF([0]!cod_saida,Estoque!A259,quantidade_comprada)","v":0}]
[null,null,null,null,null,{"$f":"SUMIF(Codigo_Produto,Estoque!A260,[0]!quantidade_adquirida)-SUMIF([0]!cod_saida,Estoque!A260,quantidade_comprada)","v":0}]
[null,null,null,null,null,{"$f":"SUMIF(Codigo_Produto,Estoque!A261,[0]!quantidade_adquirida)-SUMIF([0]!cod_saida,Estoque!A261,quantidade_comprada)","v":0}]
[null,null,null,null,null,{"$f":"SUMIF(Codigo_Produto,Estoque!A262,[0]!quantidade_adquirida)-SUMIF([0]!cod_saida,Estoque!A262,quantidade_comprada)","v":0}]
[null,null,null,null,null,{"$f":"SUMIF(Codigo_Produto,Estoque!A263,[0]!quantidade_adquirida)-SUMIF([0]!cod_saida,Estoque!A263,quantidade_comprada)","v":0}]
[null,null,null,null,null,{"$f":"SUMIF(Codigo_Produto,Estoque!A264,[0]!quantidade_adquirida)-SUMIF([0]!cod_saida,Estoque!A264,quantidade_comprada)","v":0}]
[null,null,null,null,null,{"$f":"SUMIF(Codigo_Produto,Estoque!A265,[0]!quantidade_adquirida)-SUMIF([0]!cod_saida,Estoque!A265,quantidade_comprada)","v":0}]
[null,null,null,null,null,{"$f":"SUMIF(Codigo_Produto,Estoque!A266,[0]!quantidade_adquirida)-SUMIF([0]!cod_saida,Estoque!A266,quantidade_comprada)","v":0}]
[null,null,null,null,null,{"$f":"SUMIF(Codigo_Produto,Estoque!A267,[0]!quantidade_adquirida)-SUMIF([0]!cod_saida,Estoque!A267,quantidade_comprada)","v":0}]
[null,null,null,null,null,{"$f":"SUMIF(Codigo_Produto,Estoque!A268,[0]!quantidade_adquirida)-SUMIF([0]!cod_saida,Estoque!A268,quantidade_comprada)","v":0}]
[null,null,null,null,null,{"$f":"SUMIF(Codigo_Produto,Estoque!A269,[0]!quantidade_adquirida)-SUMIF([0]!cod_saida,Estoque!A269,quantidade_comprada)","v":0}]
[null,null,null,null,null,{"$f":"SUMIF(Codigo_Produto,Estoque!A270,[0]!quantidade_adquirida)-SUMIF([0]!cod_saida,Estoque!A270,quantidade_comprada)","v":0}]
[null,null,null,null,null,{"$f":"SUMIF(Codigo_Produto,Estoque!A271,[0]!quantidade_adquirida)-SUMIF([0]!cod_saida,Estoque!A271,quantidade_comprada)","v":0}]
[null,null,null,null,null,{"$f":"SUMIF(Codigo_Produto,Estoque!A272,[0]!quantidade_adquirida)-SUMIF([0]!cod_saida,Estoque!A272,quantidade_comprada)","v":0}]
[null,null,null,null,null,{"$f":"SUMIF(Codigo_Produto,Estoque!A273,[0]!quantidade_adquirida)-SUMIF([0]!cod_saida,Estoque!A273,quantidade_comprada)","v":0}]
[null,null,null,null,null,{"$f":"SUMIF(Codigo_Produto,Estoque!A274,[0]!quantidade_adquirida)-SUMIF([0]!cod_saida,Estoque!A274,quantidade_comprada)","v":0}]
[null,null,null,null,null,{"$f":"SUMIF(Codigo_Produto,Estoque!A275,[0]!quantidade_adquirida)-SUMIF([0]!cod_saida,Estoque!A275,quantidade_comprada)","v":0}]
[null,null,null,null,null,{"$f":"SUMIF(Codigo_Produto,Estoque!A276,[0]!quantidade_adquirida)-SUMIF([0]!cod_saida,Estoque!A276,quantidade_comprada)","v":0}]
[null,null,null,null,null,{"$f":"SUMIF(Codigo_Produto,Estoque!A277,[0]!quantidade_adquirida)-SUMIF([0]!cod_saida,Estoque!A277,quantidade_comprada)","v":0}]
[null,null,null,null,null,{"$f":"SUMIF(Codigo_Produto,Estoque!A278,[0]!quantidade_adquirida)-SUMIF([0]!cod_saida,Estoque!A278,quantidade_comprada)","v":0}]
[null,null,null,null,null,{"$f":"SUMIF(Codigo_Produto,Estoque!A279,[0]!quantidade_adquirida)-SUMIF([0]!cod_saida,Estoque!A279,quantidade_comprada)","v":0}]
[null,null,null,null,null,{"$f":"SUMIF(Codigo_Produto,Estoque!A280,[0]!quantidade_adquirida)-SUMIF([0]!cod_saida,Estoque!A280,quantidade_comprada)","v":0}]
[null,null,null,null,null,{"$f":"SUMIF(Codigo_Produto,Estoque!A281,[0]!quantidade_adquirida)-SUMIF([0]!cod_saida,Estoque!A281,quantidade_comprada)","v":0}]
[null,null,null,null,null,{"$f":"SUMIF(Codigo_Produto,Estoque!A282,[0]!quantidade_adquirida)-SUMIF([0]!cod_saida,Estoque!A282,quantidade_comprada)","v":0}]
[null,null,null,null,null,{"$f":"SUMIF(Codigo_Produto,Estoque!A283,[0]!quantidade_adquirida)-SUMIF([0]!cod_saida,Estoque!A283,quantidade_comprada)","v":0}]
[null,null,null,null,null,{"$f":"SUMIF(Codigo_Produto,Estoque!A284,[0]!quantidade_adquirida)-SUMIF([0]!cod_saida,Estoque!A284,quantidade_comprada)","v":0}]
[null,null,null,null,null,{"$f":"SUMIF(Codigo_Produto,Estoque!A285,[0]!quantidade_adquirida)-SUMIF([0]!cod_saida,Estoque!A285,quantidade_comprada)","v":0}]
[null,null,null,null,null,{"$f":"SUMIF(Codigo_Produto,Estoque!A286,[0]!quantidade_adquirida)-SUMIF([0]!cod_saida,Estoque!A286,quantidade_comprada)","v":0}]
[null,null,null,null,null,{"$f":"SUMIF(Codigo_Produto,Estoque!A287,[0]!quantidade_adquirida)-SUMIF([0]!cod_saida,Estoque!A287,quantidade_comprada)","v":0}]
[null,null,null,null,null,{"$f":"SUMIF(Codigo_Produto,Estoque!A288,[0]!quantidade_adquirida)-SUMIF([0]!cod_saida,Estoque!A288,quantidade_comprada)","v":0}]
[null,null,null,null,null,{"$f":"SUMIF(Codigo_Produto,Estoque!A289,[0]!quantidade_adquirida)-SUMIF([0]!cod_saida,Estoque!A289,quantidade_comprada)","v":0}]
[null,null,null,null,null,{"$f":"SUMIF(Codigo_Produto,Estoque!A290,[0]!quantidade_adquirida)-SUMIF([0]!cod_saida,Estoque!A290,quantidade_comprada)","v":0}]
[null,null,null,null,null,{"$f":"SUMIF(Codigo_Produto,Estoque!A291,[0]!quantidade_adquirida)-SUMIF([0]!cod_saida,Estoque!A291,quantidade_comprada)","v":0}]
[null,null,null,null,null,{"$f":"SUMIF(Codigo_Produto,Estoque!A292,[0]!quantidade_adquirida)-SUMIF([0]!cod_saida,Estoque!A292,quantidade_comprada)","v":0}]
[null,null,null,null,null,{"$f":"SUMIF(Codigo_Produto,Estoque!A293,[0]!quantidade_adquirida)-SUMIF([0]!cod_saida,Estoque!A293,quantidade_comprada)","v":0}]
[null,null,null,null,null,{"$f":"SUMIF(Codigo_Produto,Estoque!A294,[0]!quantidade_adquirida)-SUMIF([0]!cod_saida,Estoque!A294,quantidade_comprada)","v":0}]
[null,null,null,null,null,{"$f":"SUMIF(Codigo_Produto,Estoque!A295,[0]!quantidade_adquirida)-SUMIF([0]!cod_saida,Estoque!A295,quantidade_comprada)","v":0}]
[null,null,null,null,null,{"$f":"SUMIF(Codigo_Produto,Estoque!A296,[0]!quantidade_adquirida)-SUMIF([0]!cod_saida,Estoque!A296,quantidade_comprada)","v":0}]
[null,null,null,null,null,{"$f":"SUMIF(Codigo_Produto,Estoque!A297,[0]!quantidade_adquirida)-SUMIF([0]!cod_saida,Estoque!A297,quantidade_comprada)","v":0}]
[null,null,null,null,null,{"$f":"SUMIF(Codigo_Produto,Estoque!A298,[0]!quantidade_adquirida)-SUMIF([0]!cod_saida,Estoque!A298,quantidade_comprada)","v":0}]
[null,null,null,null,null,{"$f":"SUMIF(Codigo_Produto,Estoque!A299,[0]!quantidade_adquirida)-SUMIF([0]!cod_saida,Estoque!A299,quantidade_comprada)","v":0}]
[null,null,null,null,null,{"$f":"SUMIF(Codigo_Produto,Estoque!A300,[0]!quantidade_adquirida)-SUMIF([0]!cod_saida,Estoque!A300,quantidade_comprada)","v":0}]
[null,null,null,null,null,{"$f":"SUMIF(Codigo_Produto,Estoque!A301,[0]!quantidade_adquirida)-SUMIF([0]!cod_saida,Estoque!A301,quantidade_comprada)","v":0}]
[null,null,null,null,null,{"$f":"SUMIF(Codigo_Produto,Estoque!A302,[0]!quantidade_adquirida)-SUMIF([0]!cod_saida,Estoque!A302,quantidade_comprada)","v":0}]
[null,null,null,null,null,{"$f":"SUMIF(Codigo_Produto,Estoque!A303,[0]!quantidade_adquirida)-SUMIF([0]!cod_saida,Estoque!A303,quantidade_comprada)","v":0}]
[null,null,null,null,null,{"$f":"SUMIF(Codigo_Produto,Estoque!A304,[0]!quantidade_adquirida)-SUMIF([0]!cod_saida,Estoque!A304,quantidade_comprada)","v":0}]
[null,null,null,null,null,{"$f":"SUMIF(Codigo_Produto,Estoque!A305,[0]!quantidade_adquirida)-SUMIF([0]!cod_saida,Estoque!A305,quantidade_comprada)","v":0}]
[null,null,null,null,null,{"$f":"SUMIF(Codigo_Produto,Estoque!A306,[0]!quantidade_adquirida)-SUMIF([0]!cod_saida,Estoque!A306,quantidade_comprada)","v":0}]
[null,null,null,null,null,{"$f":"SUMIF(Codigo_Produto,Estoque!A307,[0]!quantidade_adquirida)-SUMIF([0]!cod_saida,Estoque!A307,quantidade_comprada)","v":0}]
[null,null,null,null,null,{"$f":"SUMIF(Codigo_Produto,Estoque!A308,[0]!quantidade_adquirida)-SUMIF([0]!cod_saida,Estoque!A308,quantidade_comprada)","v":0}]
[null,null,null,null,null,{"$f":"SUMIF(Codigo_Produto,Estoque!A309,[0]!quantidade_adquirida)-SUMIF([0]!cod_saida,Estoque!A309,quantidade_comprada)","v":0}]
[null,null,null,null,null,{"$f":"SUMIF(Codigo_Produto,Estoque!A310,[0]!quantidade_adquirida)-SUMIF([0]!cod_saida,Estoque!A310,quantidade_comprada)","v":0}]
[null,null,null,null,null,{"$f":"SUMIF(Codigo_Produto,Estoque!A311,[0]!quantidade_adquirida)-SUMIF([0]!cod_saida,Estoque!A311,quantidade_comprada)","v":0}]
[null,null,null,null,null,{"$f":"SUMIF(Codigo_Produto,Estoque!A312,[0]!quantidade_adquirida)-SUMIF([0]!cod_saida,Estoque!A312,quantidade_comprada)","v":0}]
[null,null,null,null,null,{"$f":"SUMIF(Codigo_Produto,Estoque!A313,[0]!quantidade_adquirida)-SUMIF([0]!cod_saida,Estoque!A313,quantidade_comprada)","v":0}]
[null,null,null,null,null,{"$f":"SUMIF(Codigo_Produto,Estoque!A314,[0]!quantidade_adquirida)-SUMIF([0]!cod_saida,Estoque!A314,quantidade_comprada)","v":0}]
[null,null,null,null,null,{"$f":"SUMIF(Codigo_Produto,Estoque!A315,[0]!quantidade_adquirida)-SUMIF([0]!cod_saida,Estoque!A315,quantidade_comprada)","v":0}]
[null,null,null,null,null,{"$f":"SUMIF(Codigo_Produto,Estoque!A316,[0]!quantidade_adquirida)-SUMIF([0]!cod_saida,Estoque!A316,quantidade_comprada)","v":0}]
[null,null,null,null,null,{"$f":"SUMIF(Codigo_Produto,Estoque!A317,[0]!quantidade_adquirida)-SUMIF([0]!cod_saida,Estoque!A317,quantidade_comprada)","v":0}]
[null,null,null,null,null,{"$f":"SUMIF(Codigo_Produto,Estoque!A318,[0]!quantidade_adquirida)-SUMIF([0]!cod_saida,Estoque!A318,quantidade_comprada)","v":0}]
[null,null,null,null,null,{"$f":"SUMIF(Codigo_Produto,Estoque!A319,[0]!quantidade_adquirida)-SUMIF([0]!cod_saida,Estoque!A319,quantidade_comprada)","v":0}]
[null,null,null,null,null,{"$f":"SUMIF(Codigo_Produto,Estoque!A320,[0]!quantidade_adquirida)-SUMIF([0]!cod_saida,Estoque!A320,quantidade_comprada)","v":0}]
[null,null,null,null,null,{"$f":"SUMIF(Codigo_Produto,Estoque!A321,[0]!quantidade_adquirida)-SUMIF([0]!cod_saida,Estoque!A321,quantidade_comprada)","v":0}]
[null,null,null,null,null,{"$f":"SUMIF(Codigo_Produto,Estoque!A322,[0]!quantidade_adquirida)-SUMIF([0]!cod_saida,Estoque!A322,quantidade_comprada)","v":0}]
[null,null,null,null,null,{"$f":"SUMIF(Codigo_Produto,Estoque!A323,[0]!quantidade_adquirida)-SUMIF([0]!cod_saida,Estoque!A323,quantidade_comprada)","v":0}]
[null,null,null,null,null,{"$f":"SUMIF(Codigo_Produto,Estoque!A324,[0]!quantidade_adquirida)-SUMIF([0]!cod_saida,Estoque!A324,quantidade_comprada)","v":0}]
[null,null,null,null,null,{"$f":"SUMIF(Codigo_Produto,Estoque!A325,[0]!quantidade_adquirida)-SUMIF([0]!cod_saida,Estoque!A325,quantidade_comprada)","v":0}]
[null,null,null,null,null,{"$f":"SUMIF(Codigo_Produto,Estoque!A326,[0]!quantidade_adquirida)-SUMIF([0]!cod_saida,Estoque!A326,quantidade_comprada)","v":0}]
[null,null,null,null,null,{"$f":"SUMIF(Codigo_Produto,Estoque!A327,[0]!quantidade_adquirida)-SUMIF([0]!cod_saida,Estoque!A327,quantidade_comprada)","v":0}]
[null,null,null,null,null,{"$f":"SUMIF(Codigo_Produto,Estoque!A328,[0]!quantidade_adquirida)-SUMIF([0]!cod_saida,Estoque!A328,quantidade_comprada)","v":0}]
[null,null,null,null,null,{"$f":"SUMIF(Codigo_Produto,Estoque!A329,[0]!quantidade_adquirida)-SUMIF([0]!cod_saida,Estoque!A329,quantidade_comprada)","v":0}]
[null,null,null,null,null,{"$f":"SUMIF(Codigo_Produto,Estoque!A330,[0]!quantidade_adquirida)-SUMIF([0]!cod_saida,Estoque!A330,quantidade_comprada)","v":0}]
[null,null,null,null,null,{"$f":"SUMIF(Codigo_Produto,Estoque!A331,[0]!quantidade_adquirida)-SUMIF([0]!cod_saida,Estoque!A331,quantidade_comprada)","v":0}]
[null,null,null,null,null,{"$f":"SUMIF(Codigo_Produto,Estoque!A332,[0]!quantidade_adquirida)-SUMIF([0]!cod_saida,Estoque!A332,quantidade_comprada)","v":0}]
[null,null,null,null,null,{"$f":"SUMIF(Codigo_Produto,Estoque!A333,[0]!quantidade_adquirida)-SUMIF([0]!cod_saida,Estoque!A333,quantidade_comprada)","v":0}]
[null,null,null,null,null,{"$f":"SUMIF(Codigo_Produto,Estoque!A334,[0]!quantidade_adquirida)-SUMIF([0]!cod_saida,Estoque!A334,quantidade_comprada)","v":0}]
[null,null,null,null,null,{"$f":"SUMIF(Codigo_Produto,Estoque!A335,[0]!quantidade_adquirida)-SUMIF([0]!cod_saida,Estoque!A335,quantidade_comprada)","v":0}]
[null,null,null,null,null,{"$f":"SUMIF(Codigo_Produto,Estoque!A336,[0]!quantidade_adquirida)-SUMIF([0]!cod_saida,Estoque!A336,quantidade_comprada)","v":0}]
[null,null,null,null,null,{"$f":"SUMIF(Codigo_Produto,Estoque!A337,[0]!quantidade_adquirida)-SUMIF([0]!cod_saida,Estoque!A337,quantidade_comprada)","v":0}]
[null,null,null,null,null,{"$f":"SUMIF(Codigo_Produto,Estoque!A338,[0]!quantidade_adquirida)-SUMIF([0]!cod_saida,Estoque!A338,quantidade_comprada)","v":0}]
[null,null,null,null,null,{"$f":"SUMIF(Codigo_Produto,Estoque!A339,[0]!quantidade_adquirida)-SUMIF([0]!cod_saida,Estoque!A339,quantidade_comprada)","v":0}]
[null,null,null,null,null,{"$f":"SUMIF(Codigo_Produto,Estoque!A340,[0]!quantidade_adquirida)-SUMIF([0]!cod_saida,Estoque!A340,quantidade_comprada)","v":0}]
[null,null,null,null,null,{"$f":"SUMIF(Codigo_Produto,Estoque!A341,[0]!quantidade_adquirida)-SUMIF([0]!cod_saida,Estoque!A341,quantidade_comprada)","v":0}]
[null,null,null,null,null,{"$f":"SUMIF(Codigo_Produto,Estoque!A342,[0]!quantidade_adquirida)-SUMIF([0]!cod_saida,Estoque!A342,quantidade_comprada)","v":0}]
[null,null,null,null,null,{"$f":"SUMIF(Codigo_Produto,Estoque!A343,[0]!quantidade_adquirida)-SUMIF([0]!cod_saida,Estoque!A343,quantidade_comprada)","v":0}]
[null,null,null,null,null,{"$f":"SUMIF(Codigo_Produto,Estoque!A344,[0]!quantidade_adquirida)-SUMIF([0]!cod_saida,Estoque!A344,quantidade_comprada)","v":0}]
[null,null,null,null,null,{"$f":"SUMIF(Codigo_Produto,Estoque!A345,[0]!quantidade_adquirida)-SUMIF([0]!cod_saida,Estoque!A345,quantidade_comprada)","v":0}]
[null,null,null,null,null,{"$f":"SUMIF(Codigo_Produto,Estoque!A346,[0]!quantidade_adquirida)-SUMIF([0]!cod_saida,Estoque!A346,quantidade_comprada)","v":0}]
[null,null,null,null,null,{"$f":"SUMIF(Codigo_Produto,Estoque!A347,[0]!quantidade_adquirida)-SUMIF([0]!cod_saida,Estoque!A347,quantidade_comprada)","v":0}]
[null,null,null,null,null,{"$f":"SUMIF(Codigo_Produto,Estoque!A348,[0]!quantidade_adquirida)-SUMIF([0]!cod_saida,Estoque!A348,quantidade_comprada)","v":0}]
[null,null,null,null,null,{"$f":"SUMIF(Codigo_Produto,Estoque!A349,[0]!quantidade_adquirida)-SUMIF([0]!cod_saida,Estoque!A349,quantidade_comprada)","v":0}]
[null,null,null,null,null,{"$f":"SUMIF(Codigo_Produto,Estoque!A350,[0]!quantidade_adquirida)-SUMIF([0]!cod_saida,Estoque!A350,quantidade_comprada)","v":0}]
[null,null,null,null,null,{"$f":"SUMIF(Codigo_Produto,Estoque!A351,[0]!quantidade_adquirida)-SUMIF([0]!cod_saida,Estoque!A351,quantidade_comprada)","v":0}]
[null,null,null,null,null,{"$f":"SUMIF(Codigo_Produto,Estoque!A352,[0]!quantidade_adquirida)-SUMIF([0]!cod_saida,Estoque!A352,quantidade_comprada)","v":0}]
[null,null,null,null,null,{"$f":"SUMIF(Codigo_Produto,Estoque!A353,[0]!quantidade_adquirida)-SUMIF([0]!cod_saida,Estoque!A353,quantidade_comprada)","v":0}]
[null,null,null,null,null,{"$f":"SUMIF(Codigo_Produto,Estoque!A354,[0]!quantidade_adquirida)-SUMIF([0]!cod_saida,Estoque!A354,quantidade_comprada)","v":0}]
[null,null,null,null,null,{"$f":"SUMIF(Codigo_Produto,Estoque!A355,[0]!quantidade_adquirida)-SUMIF([0]!cod_saida,Estoque!A355,quantidade_comprada)","v":0}]
[null,null,null,null,null,{"$f":"SUMIF(Codigo_Produto,Estoque!A356,[0]!quantidade_adquirida)-SUMIF([0]!cod_saida,Estoque!A356,quantidade_comprada)","v":0}]
[null,null,null,null,null,{"$f":"SUMIF(Codigo_Produto,Estoque!A357,[0]!quantidade_adquirida)-SUMIF([0]!cod_saida,Estoque!A357,quantidade_comprada)","v":0}]
[null,null,null,null,null,{"$f":"SUMIF(Codigo_Produto,Estoque!A358,[0]!quantidade_adquirida)-SUMIF([0]!cod_saida,Estoque!A358,quantidade_comprada)","v":0}]
[null,null,null,null,null,{"$f":"SUMIF(Codigo_Produto,Estoque!A359,[0]!quantidade_adquirida)-SUMIF([0]!cod_saida,Estoque!A359,quantidade_comprada)","v":0}]
[null,null,null,null,null,{"$f":"SUMIF(Codigo_Produto,Estoque!A360,[0]!quantidade_adquirida)-SUMIF([0]!cod_saida,Estoque!A360,quantidade_comprada)","v":0}]
[null,null,null,null,null,{"$f":"SUMIF(Codigo_Produto,Estoque!A361,[0]!quantidade_adquirida)-SUMIF([0]!cod_saida,Estoque!A361,quantidade_comprada)","v":0}]
[null,null,null,null,null,{"$f":"SUMIF(Codigo_Produto,Estoque!A362,[0]!quantidade_adquirida)-SUMIF([0]!cod_saida,Estoque!A362,quantidade_comprada)","v":0}]
[null,null,null,null,null,{"$f":"SUMIF(Codigo_Produto,Estoque!A363,[0]!quantidade_adquirida)-SUMIF([0]!cod_saida,Estoque!A363,quantidade_comprada)","v":0}]
[null,null,null,null,null,{"$f":"SUMIF(Codigo_Produto,Estoque!A364,[0]!quantidade_adquirida)-SUMIF([0]!cod_saida,Estoque!A364,quantidade_comprada)","v":0}]
[null,null,null,null,null,{"$f":"SUMIF(Codigo_Produto,Estoque!A365,[0]!quantidade_adquirida)-SUMIF([0]!cod_saida,Estoque!A365,quantidade_comprada)","v":0}]
[null,null,null,null,null,{"$f":"SUMIF(Codigo_Produto,Estoque!A366,[0]!quantidade_adquirida)-SUMIF([0]!cod_saida,Estoque!A366,quantidade_comprada)","v":0}]
[null,null,null,null,null,{"$f":"SUMIF(Codigo_Produto,Estoque!A367,[0]!quantidade_adquirida)-SUMIF([0]!cod_saida,Estoque!A367,quantidade_comprada)","v":0}]
[null,null,null,null,null,{"$f":"SUMIF(Codigo_Produto,Estoque!A368,[0]!quantidade_adquirida)-SUMIF([0]!cod_saida,Estoque!A368,quantidade_comprada)","v":0}]
[null,null,null,null,null,{"$f":"SUMIF(Codigo_Produto,Estoque!A369,[0]!quantidade_adquirida)-SUMIF([0]!cod_saida,Estoque!A369,quantidade_comprada)","v":0}]
[null,null,null,null,null,{"$f":"SUMIF(Codigo_Produto,Estoque!A370,[0]!quantidade_adquirida)-SUMIF([0]!cod_saida,Estoque!A370,quantidade_comprada)","v":0}]
[null,null,null,null,null,{"$f":"SUMIF(Codigo_Produto,Estoque!A371,[0]!quantidade_adquirida)-SUMIF([0]!cod_saida,Estoque!A371,quantidade_comprada)","v":0}]
[null,null,null,null,null,{"$f":"SUMIF(Codigo_Produto,Estoque!A372,[0]!quantidade_adquirida)-SUMIF([0]!cod_saida,Estoque!A372,quantidade_comprada)","v":0}]
[null,null,null,null,null,{"$f":"SUMIF(Codigo_Produto,Estoque!A373,[0]!quantidade_adquirida)-SUMIF([0]!cod_saida,Estoque!A373,quantidade_comprada)","v":0}]
[null,null,null,null,null,{"$f":"SUMIF(Codigo_Produto,Estoque!A374,[0]!quantidade_adquirida)-SUMIF([0]!cod_saida,Estoque!A374,quantidade_comprada)","v":0}]
[null,null,null,null,null,{"$f":"SUMIF(Codigo_Produto,Estoque!A375,[0]!quantidade_adquirida)-SUMIF([0]!cod_saida,Estoque!A375,quantidade_comprada)","v":0}]
[null,null,null,null,null,{"$f":"SUMIF(Codigo_Produto,Estoque!A376,[0]!quantidade_adquirida)-SUMIF([0]!cod_saida,Estoque!A376,quantidade_comprada)","v":0}]
[null,null,null,null,null,{"$f":"SUMIF(Codigo_Produto,Estoque!A377,[0]!quantidade_adquirida)-SUMIF([0]!cod_saida,Estoque!A377,quantidade_comprada)","v":0}]
[null,null,null,null,null,{"$f":"SUMIF(Codigo_Produto,Estoque!A378,[0]!quantidade_adquirida)-SUMIF([0]!cod_saida,Estoque!A378,quantidade_comprada)","v":0}]
[null,null,null,null,null,{"$f":"SUMIF(Codigo_Produto,Estoque!A379,[0]!quantidade_adquirida)-SUMIF([0]!cod_saida,Estoque!A379,quantidade_comprada)","v":0}]
[null,null,null,null,null,{"$f":"SUMIF(Codigo_Produto,Estoque!A380,[0]!quantidade_adquirida)-SUMIF([0]!cod_saida,Estoque!A380,quantidade_comprada)","v":0}]
[null,null,null,null,null,{"$f":"SUMIF(Codigo_Produto,Estoque!A381,[0]!quantidade_adquirida)-SUMIF([0]!cod_saida,Estoque!A381,quantidade_comprada)","v":0}]
[null,null,null,null,null,{"$f":"SUMIF(Codigo_Produto,Estoque!A382,[0]!quantidade_adquirida)-SUMIF([0]!cod_saida,Estoque!A382,quantidade_comprada)","v":0}]
[null,null,null,null,null,{"$f":"SUMIF(Codigo_Produto,Estoque!A383,[0]!quantidade_adquirida)-SUMIF([0]!cod_saida,Estoque!A383,quantidade_comprada)","v":0}]
[null,null,null,null,null,{"$f":"SUMIF(Codigo_Produto,Estoque!A384,[0]!quantidade_adquirida)-SUMIF([0]!cod_saida,Estoque!A384,quantidade_comprada)","v":0}]
[null,null,null,null,null,{"$f":"SUMIF(Codigo_Produto,Estoque!A385,[0]!quantidade_adquirida)-SUMIF([0]!cod_saida,Estoque!A385,quantidade_comprada)","v":0}]
[null,null,null,null,null,{"$f":"SUMIF(Codigo_Produto,Estoque!A386,[0]!quantidade_adquirida)-SUMIF([0]!cod_saida,Estoque!A386,quantidade_comprada)","v":0}]
[null,null,null,null,null,{"$f":"SUMIF(Codigo_Produto,Estoque!A387,[0]!quantidade_adquirida)-SUMIF([0]!cod_saida,Estoque!A387,quantidade_comprada)","v":0}]
[null,null,null,null,null,{"$f":"SUMIF(Codigo_Produto,Estoque!A388,[0]!quantidade_adquirida)-SUMIF([0]!cod_saida,Estoque!A388,quantidade_comprada)","v":0}]
[null,null,null,null,null,{"$f":"SUMIF(Codigo_Produto,Estoque!A389,[0]!quantidade_adquirida)-SUMIF([0]!cod_saida,Estoque!A389,quantidade_comprada)","v":0}]
[null,null,null,null,null,{"$f":"SUMIF(Codigo_Produto,Estoque!A390,[0]!quantidade_adquirida)-SUMIF([0]!cod_saida,Estoque!A390,quantidade_comprada)","v":0}]
[null,null,null,null,null,{"$f":"SUMIF(Codigo_Produto,Estoque!A391,[0]!quantidade_adquirida)-SUMIF([0]!cod_saida,Estoque!A391,quantidade_comprada)","v":0}]
[null,null,null,null,null,{"$f":"SUMIF(Codigo_Produto,Estoque!A392,[0]!quantidade_adquirida)-SUMIF([0]!cod_saida,Estoque!A392,quantidade_comprada)","v":0}]
[null,null,null,null,null,{"$f":"SUMIF(Codigo_Produto,Estoque!A393,[0]!quantidade_adquirida)-SUMIF([0]!cod_saida,Estoque!A393,quantidade_comprada)","v":0}]
[null,null,null,null,null,{"$f":"SUMIF(Codigo_Produto,Estoque!A394,[0]!quantidade_adquirida)-SUMIF([0]!cod_saida,Estoque!A394,quantidade_comprada)","v":0}]
[null,null,null,null,null,{"$f":"SUMIF(Codigo_Produto,Estoque!A395,[0]!quantidade_adquirida)-SUMIF([0]!cod_saida,Estoque!A395,quantidade_comprada)","v":0}]
[null,null,null,null,null,{"$f":"SUMIF(Codigo_Produto,Estoque!A396,[0]!quantidade_adquirida)-SUMIF([0]!cod_saida,Estoque!A396,quantidade_comprada)","v":0}]
[null,null,null,null,null,{"$f":"SUMIF(Codigo_Produto,Estoque!A397,[0]!quantidade_adquirida)-SUMIF([0]!cod_saida,Estoque!A397,quantidade_comprada)","v":0}]
[null,null,null,null,null,{"$f":"SUMIF(Codigo_Produto,Estoque!A398,[0]!quantidade_adquirida)-SUMIF([0]!cod_saida,Estoque!A398,quantidade_comprada)","v":0}]
[null,null,null,null,null,{"$f":"SUMIF(Codigo_Produto,Estoque!A399,[0]!quantidade_adquirida)-SUMIF([0]!cod_saida,Estoque!A399,quantidade_comprada)","v":0}]
[null,null,null,null,null,{"$f":"SUMIF(Codigo_Produto,Estoque!A400,[0]!quantidade_adquirida)-SUMIF([0]!cod_saida,Estoque!A400,quantidade_comprada)","v":0}]
[null,null,null,null,null,{"$f":"SUMIF(Codigo_Produto,Estoque!A401,[0]!quantidade_adquirida)-SUMIF([0]!cod_saida,Estoque!A401,quantidade_comprada)","v":0}]
[null,null,null,null,null,{"$f":"SUMIF(Codigo_Produto,Estoque!A402,[0]!quantidade_adquirida)-SUMIF([0]!cod_saida,Estoque!A402,quantidade_comprada)","v":0}]
[null,null,null,null,null,{"$f":"SUMIF(Codigo_Produto,Estoque!A403,[0]!quantidade_adquirida)-SUMIF([0]!cod_saida,Estoque!A403,quantidade_comprada)","v":0}]
[null,null,null,null,null,{"$f":"SUMIF(Codigo_Produto,Estoque!A404,[0]!quantidade_adquirida)-SUMIF([0]!cod_saida,Estoque!A404,quantidade_comprada)","v":0}]
[null,null,null,null,null,{"$f":"SUMIF(Codigo_Produto,Estoque!A405,[0]!quantidade_adquirida)-SUMIF([0]!cod_saida,Estoque!A405,quantidade_comprada)","v":0}]
[null,null,null,null,null,{"$f":"SUMIF(Codigo_Produto,Estoque!A406,[0]!quantidade_adquirida)-SUMIF([0]!cod_saida,Estoque!A406,quantidade_comprada)","v":0}]
[null,null,null,null,null,{"$f":"SUMIF(Codigo_Produto,Estoque!A407,[0]!quantidade_adquirida)-SUMIF([0]!cod_saida,Estoque!A407,quantidade_comprada)","v":0}]
[null,null,null,null,null,{"$f":"SUMIF(Codigo_Produto,Estoque!A408,[0]!quantidade_adquirida)-SUMIF([0]!cod_saida,Estoque!A408,quantidade_comprada)","v":0}]
[null,null,null,null,null,{"$f":"SUMIF(Codigo_Produto,Estoque!A409,[0]!quantidade_adquirida)-SUMIF([0]!cod_saida,Estoque!A409,quantidade_comprada)","v":0}]
[null,null,null,null,null,{"$f":"SUMIF(Codigo_Produto,Estoque!A410,[0]!quantidade_adquirida)-SUMIF([0]!cod_saida,Estoque!A410,quantidade_comprada)","v":0}]
[null,null,null,null,null,{"$f":"SUMIF(Codigo_Produto,Estoque!A411,[0]!quantidade_adquirida)-SUMIF([0]!cod_saida,Estoque!A411,quantidade_comprada)","v":0}]
[null,null,null,null,null,{"$f":"SUMIF(Codigo_Produto,Estoque!A412,[0]!quantidade_adquirida)-SUMIF([0]!cod_saida,Estoque!A412,quantidade_comprada)","v":0}]
[null,null,null,null,null,{"$f":"SUMIF(Codigo_Produto,Estoque!A413,[0]!quantidade_adquirida)-SUMIF([0]!cod_saida,Estoque!A413,quantidade_comprada)","v":0}]
[null,null,null,null,null,{"$f":"SUMIF(Codigo_Produto,Estoque!A414,[0]!quantidade_adquirida)-SUMIF([0]!cod_saida,Estoque!A414,quantidade_comprada)","v":0}]
[null,null,null,null,null,{"$f":"SUMIF(Codigo_Produto,Estoque!A415,[0]!quantidade_adquirida)-SUMIF([0]!cod_saida,Estoque!A415,quantidade_comprada)","v":0}]
[null,null,null,null,null,{"$f":"SUMIF(Codigo_Produto,Estoque!A416,[0]!quantidade_adquirida)-SUMIF([0]!cod_saida,Estoque!A416,quantidade_comprada)","v":0}]
[null,null,null,null,null,{"$f":"SUMIF(Codigo_Produto,Estoque!A417,[0]!quantidade_adquirida)-SUMIF([0]!cod_saida,Estoque!A417,quantidade_comprada)","v":0}]
[null,null,null,null,null,{"$f":"SUMIF(Codigo_Produto,Estoque!A418,[0]!quantidade_adquirida)-SUMIF([0]!cod_saida,Estoque!A418,quantidade_comprada)","v":0}]
[null,null,null,null,null,{"$f":"SUMIF(Codigo_Produto,Estoque!A419,[0]!quantidade_adquirida)-SUMIF([0]!cod_saida,Estoque!A419,quantidade_comprada)","v":0}]
[null,null,null,null,null,{"$f":"SUMIF(Codigo_Produto,Estoque!A420,[0]!quantidade_adquirida)-SUMIF([0]!cod_saida,Estoque!A420,quantidade_comprada)","v":0}]
[null,null,null,null,null,{"$f":"SUMIF(Codigo_Produto,Estoque!A421,[0]!quantidade_adquirida)-SUMIF([0]!cod_saida,Estoque!A421,quantidade_comprada)","v":0}]
[null,null,null,null,null,{"$f":"SUMIF(Codigo_Produto,Estoque!A422,[0]!quantidade_adquirida)-SUMIF([0]!cod_saida,Estoque!A422,quantidade_comprada)","v":0}]
[null,null,null,null,null,{"$f":"SUMIF(Codigo_Produto,Estoque!A423,[0]!quantidade_adquirida)-SUMIF([0]!cod_saida,Estoque!A423,quantidade_comprada)","v":0}]
[null,null,null,null,null,{"$f":"SUMIF(Codigo_Produto,Estoque!A424,[0]!quantidade_adquirida)-SUMIF([0]!cod_saida,Estoque!A424,quantidade_comprada)","v":0}]
[null,null,null,null,null,{"$f":"SUMIF(Codigo_Produto,Estoque!A425,[0]!quantidade_adquirida)-SUMIF([0]!cod_saida,Estoque!A425,quantidade_comprada)","v":0}]
[null,null,null,null,null,{"$f":"SUMIF(Codigo_Produto,Estoque!A426,[0]!quantidade_adquirida)-SUMIF([0]!cod_saida,Estoque!A426,quantidade_comprada)","v":0}]
[null,null,null,null,null,{"$f":"SUMIF(Codigo_Produto,Estoque!A427,[0]!quantidade_adquirida)-SUMIF([0]!cod_saida,Estoque!A427,quantidade_comprada)","v":0}]
[null,null,null,null,null,{"$f":"SUMIF(Codigo_Produto,Estoque!A428,[0]!quantidade_adquirida)-SUMIF([0]!cod_saida,Estoque!A428,quantidade_comprada)","v":0}]
[null,null,null,null,null,{"$f":"SUMIF(Codigo_Produto,Estoque!A429,[0]!quantidade_adquirida)-SUMIF([0]!cod_saida,Estoque!A429,quantidade_comprada)","v":0}]
[null,null,null,null,null,{"$f":"SUMIF(Codigo_Produto,Estoque!A430,[0]!quantidade_adquirida)-SUMIF([0]!cod_saida,Estoque!A430,quantidade_comprada)","v":0}]
[null,null,null,null,null,{"$f":"SUMIF(Codigo_Produto,Estoque!A431,[0]!quantidade_adquirida)-SUMIF([0]!cod_saida,Estoque!A431,quantidade_comprada)","v":0}]
[null,null,null,null,null,{"$f":"SUMIF(Codigo_Produto,Estoque!A432,[0]!quantidade_adquirida)-SUMIF([0]!cod_saida,Estoque!A432,quantidade_comprada)","v":0}]
[null,null,null,null,null,{"$f":"SUMIF(Codigo_Produto,Estoque!A433,[0]!quantidade_adquirida)-SUMIF([0]!cod_saida,Estoque!A433,quantidade_comprada)","v":0}]
[null,null,null,null,null,{"$f":"SUMIF(Codigo_Produto,Estoque!A434,[0]!quantidade_adquirida)-SUMIF([0]!cod_saida,Estoque!A434,quantidade_comprada)","v":0}]
[null,null,null,null,null,{"$f":"SUMIF(Codigo_Produto,Estoque!A435,[0]!quantidade_adquirida)-SUMIF([0]!cod_saida,Estoque!A435,quantidade_comprada)","v":0}]
[null,null,null,null,null,{"$f":"SUMIF(Codigo_Produto,Estoque!A436,[0]!quantidade_adquirida)-SUMIF([0]!cod_saida,Estoque!A436,quantidade_comprada)","v":0}]
[null,null,null,null,null,{"$f":"SUMIF(Codigo_Produto,Estoque!A437,[0]!quantidade_adquirida)-SUMIF([0]!cod_saida,Estoque!A437,quantidade_comprada)","v":0}]
[null,null,null,null,null,{"$f":"SUMIF(Codigo_Produto,Estoque!A438,[0]!quantidade_adquirida)-SUMIF([0]!cod_saida,Estoque!A438,quantidade_comprada)","v":0}]
[null,null,null,null,null,{"$f":"SUMIF(Codigo_Produto,Estoque!A439,[0]!quantidade_adquirida)-SUMIF([0]!cod_saida,Estoque!A439,quantidade_comprada)","v":0}]
[null,null,null,null,null,{"$f":"SUMIF(Codigo_Produto,Estoque!A440,[0]!quantidade_adquirida)-SUMIF([0]!cod_saida,Estoque!A440,quantidade_comprada)","v":0}]
[null,null,null,null,null,{"$f":"SUMIF(Codigo_Produto,Estoque!A441,[0]!quantidade_adquirida)-SUMIF([0]!cod_saida,Estoque!A441,quantidade_comprada)","v":0}]
[null,null,null,null,null,{"$f":"SUMIF(Codigo_Produto,Estoque!A442,[0]!quantidade_adquirida)-SUMIF([0]!cod_saida,Estoque!A442,quantidade_comprada)","v":0}]
[null,null,null,null,null,{"$f":"SUMIF(Codigo_Produto,Estoque!A443,[0]!quantidade_adquirida)-SUMIF([0]!cod_saida,Estoque!A443,quantidade_comprada)","v":0}]
[null,null,null,null,null,{"$f":"SUMIF(Codigo_Produto,Estoque!A444,[0]!quantidade_adquirida)-SUMIF([0]!cod_saida,Estoque!A444,quantidade_comprada)","v":0}]
[null,null,null,null,null,{"$f":"SUMIF(Codigo_Produto,Estoque!A445,[0]!quantidade_adquirida)-SUMIF([0]!cod_saida,Estoque!A445,quantidade_comprada)","v":0}]
[null,null,null,null,null,{"$f":"SUMIF(Codigo_Produto,Estoque!A446,[0]!quantidade_adquirida)-SUMIF([0]!cod_saida,Estoque!A446,quantidade_comprada)","v":0}]
[null,null,null,null,null,{"$f":"SUMIF(Codigo_Produto,Estoque!A447,[0]!quantidade_adquirida)-SUMIF([0]!cod_saida,Estoque!A447,quantidade_comprada)","v":0}]
[null,null,null,null,null,{"$f":"SUMIF(Codigo_Produto,Estoque!A448,[0]!quantidade_adquirida)-SUMIF([0]!cod_saida,Estoque!A448,quantidade_comprada)","v":0}]
[null,null,null,null,null,{"$f":"SUMIF(Codigo_Produto,Estoque!A449,[0]!quantidade_adquirida)-SUMIF([0]!cod_saida,Estoque!A449,quantidade_comprada)","v":0}]
[null,null,null,null,null,{"$f":"SUMIF(Codigo_Produto,Estoque!A450,[0]!quantidade_adquirida)-SUMIF([0]!cod_saida,Estoque!A450,quantidade_comprada)","v":0}]
[null,null,null,null,null,{"$f":"SUMIF(Codigo_Produto,Estoque!A451,[0]!quantidade_adquirida)-SUMIF([0]!cod_saida,Estoque!A451,quantidade_comprada)","v":0}]
[null,null,null,null,null,{"$f":"SUMIF(Codigo_Produto,Estoque!A452,[0]!quantidade_adquirida)-SUMIF([0]!cod_saida,Estoque!A452,quantidade_comprada)","v":0}]
[null,null,null,null,null,{"$f":"SUMIF(Codigo_Produto,Estoque!A453,[0]!quantidade_adquirida)-SUMIF([0]!cod_saida,Estoque!A453,quantidade_comprada)","v":0}]
[null,null,null,null,null,{"$f":"SUMIF(Codigo_Produto,Estoque!A454,[0]!quantidade_adquirida)-SUMIF([0]!cod_saida,Estoque!A454,quantidade_comprada)","v":0}]
[null,null,null,null,null,{"$f":"SUMIF(Codigo_Produto,Estoque!A455,[0]!quantidade_adquirida)-SUMIF([0]!cod_saida,Estoque!A455,quantidade_comprada)","v":0}]
[null,null,null,null,null,{"$f":"SUMIF(Codigo_Produto,Estoque!A456,[0]!quantidade_adquirida)-SUMIF([0]!cod_saida,Estoque!A456,quantidade_comprada)","v":0}]
[null,null,null,null,null,{"$f":"SUMIF(Codigo_Produto,Estoque!A457,[0]!quantidade_adquirida)-SUMIF([0]!cod_saida,Estoque!A457,quantidade_comprada)","v":0}]
[null,null,null,null,null,{"$f":"SUMIF(Codigo_Produto,Estoque!A458,[0]!quantidade_adquirida)-SUMIF([0]!cod_saida,Estoque!A458,quantidade_comprada)","v":0}]
[null,null,null,null,null,{"$f":"SUMIF(Codigo_Produto,Estoque!A459,[0]!quantidade_adquirida)-SUMIF([0]!cod_saida,Estoque!A459,quantidade_comprada)","v":0}]
[null,null,null,null,null,{"$f":"SUMIF(Codigo_Produto,Estoque!A460,[0]!quantidade_adquirida)-SUMIF([0]!cod_saida,Estoque!A460,quantidade_comprada)","v":0}]
[null,null,null,null,null,{"$f":"SUMIF(Codigo_Produto,Estoque!A461,[0]!quantidade_adquirida)-SUMIF([0]!cod_saida,Estoque!A461,quantidade_comprada)","v":0}]
[null,null,null,null,null,{"$f":"SUMIF(Codigo_Produto,Estoque!A462,[0]!quantidade_adquirida)-SUMIF([0]!cod_saida,Estoque!A462,quantidade_comprada)","v":0}]
[null,null,null,null,null,{"$f":"SUMIF(Codigo_Produto,Estoque!A463,[0]!quantidade_adquirida)-SUMIF([0]!cod_saida,Estoque!A463,quantidade_comprada)","v":0}]
[null,null,null,null,null,{"$f":"SUMIF(Codigo_Produto,Estoque!A464,[0]!quantidade_adquirida)-SUMIF([0]!cod_saida,Estoque!A464,quantidade_comprada)","v":0}]
[null,null,null,null,null,{"$f":"SUMIF(Codigo_Produto,Estoque!A465,[0]!quantidade_adquirida)-SUMIF([0]!cod_saida,Estoque!A465,quantidade_comprada)","v":0}]
[null,null,null,null,null,{"$f":"SUMIF(Codigo_Produto,Estoque!A466,[0]!quantidade_adquirida)-SUMIF([0]!cod_saida,Estoque!A466,quantidade_comprada)","v":0}]
[null,null,null,null,null,{"$f":"SUMIF(Codigo_Produto,Estoque!A467,[0]!quantidade_adquirida)-SUMIF([0]!cod_saida,Estoque!A467,quantidade_comprada)","v":0}]
[null,null,null,null,null,{"$f":"SUMIF(Codigo_Produto,Estoque!A468,[0]!quantidade_adquirida)-SUMIF([0]!cod_saida,Estoque!A468,quantidade_comprada)","v":0}]
[null,null,null,null,null,{"$f":"SUMIF(Codigo_Produto,Estoque!A469,[0]!quantidade_adquirida)-SUMIF([0]!cod_saida,Estoque!A469,quantidade_comprada)","v":0}]
[null,null,null,null,null,{"$f":"SUMIF(Codigo_Produto,Estoque!A470,[0]!quantidade_adquirida)-SUMIF([0]!cod_saida,Estoque!A470,quantidade_comprada)","v":0}]
[null,null,null,null,null,{"$f":"SUMIF(Codigo_Produto,Estoque!A471,[0]!quantidade_adquirida)-SUMIF([0]!cod_saida,Estoque!A471,quantidade_comprada)","v":0}]
[null,null,null,null,null,{"$f":"SUMIF(Codigo_Produto,Estoque!A472,[0]!quantidade_adquirida)-SUMIF([0]!cod_saida,Estoque!A472,quantidade_comprada)","v":0}]
[null,null,null,null,null,{"$f":"SUMIF(Codigo_Produto,Estoque!A473,[0]!quantidade_adquirida)-SUMIF([0]!cod_saida,Estoque!A473,quantidade_comprada)","v":0}]
[null,null,null,null,null,{"$f":"SUMIF(Codigo_Produto,Estoque!A474,[0]!quantidade_adquirida)-SUMIF([0]!cod_saida,Estoque!A474,quantidade_comprada)","v":0}]
[null,null,null,null,null,{"$f":"SUMIF(Codigo_Produto,Estoque!A475,[0]!quantidade_adquirida)-SUMIF([0]!cod_saida,Estoque!A475,quantidade_comprada)","v":0}]
[null,null,null,null,null,{"$f":"SUMIF(Codigo_Produto,Estoque!A476,[0]!quantidade_adquirida)-SUMIF([0]!cod_saida,Estoque!A476,quantidade_comprada)","v":0}]
[null,null,null,null,null,{"$f":"SUMIF(Codigo_Produto,Estoque!A477,[0]!quantidade_adquirida)-SUMIF([0]!cod_saida,Estoque!A477,quantidade_comprada)","v":0}]
[null,null,null,null,null,{"$f":"SUMIF(Codigo_Produto,Estoque!A478,[0]!quantidade_adquirida)-SUMIF([0]!cod_saida,Estoque!A478,quantidade_comprada)","v":0}]
[null,null,null,null,null,{"$f":"SUMIF(Codigo_Produto,Estoque!A479,[0]!quantidade_adquirida)-SUMIF([0]!cod_saida,Estoque!A479,quantidade_comprada)","v":0}]
[null,null,null,null,null,{"$f":"SUMIF(Codigo_Produto,Estoque!A480,[0]!quantidade_adquirida)-SUMIF([0]!cod_saida,Estoque!A480,quantidade_comprada)","v":0}]
[null,null,null,null,null,{"$f":"SUMIF(Codigo_Produto,Estoque!A481,[0]!quantidade_adquirida)-SUMIF([0]!cod_saida,Estoque!A481,quantidade_comprada)","v":0}]
[null,null,null,null,null,{"$f":"SUMIF(Codigo_Produto,Estoque!A482,[0]!quantidade_adquirida)-SUMIF([0]!cod_saida,Estoque!A482,quantidade_comprada)","v":0}]
[null,null,null,null,null,{"$f":"SUMIF(Codigo_Produto,Estoque!A483,[0]!quantidade_adquirida)-SUMIF([0]!cod_saida,Estoque!A483,quantidade_comprada)","v":0}]
[null,null,null,null,null,{"$f":"SUMIF(Codigo_Produto,Estoque!A484,[0]!quantidade_adquirida)-SUMIF([0]!cod_saida,Estoque!A484,quantidade_comprada)","v":0}]
[null,null,null,null,null,{"$f":"SUMIF(Codigo_Produto,Estoque!A485,[0]!quantidade_adquirida)-SUMIF([0]!cod_saida,Estoque!A485,quantidade_comprada)","v":0}]
[null,null,null,null,null,{"$f":"SUMIF(Codigo_Produto,Estoque!A486,[0]!quantidade_adquirida)-SUMIF([0]!cod_saida,Estoque!A486,quantidade_comprada)","v":0}]
[null,null,null,null,null,{"$f":"SUMIF(Codigo_Produto,Estoque!A487,[0]!quantidade_adquirida)-SUMIF([0]!cod_saida,Estoque!A487,quantidade_comprada)","v":0}]
[null,null,null,null,null,{"$f":"SUMIF(Codigo_Produto,Estoque!A488,[0]!quantidade_adquirida)-SUMIF([0]!cod_saida,Estoque!A488,quantidade_comprada)","v":0}]
[null,null,null,null,null,{"$f":"SUMIF(Codigo_Produto,Estoque!A489,[0]!quantidade_adquirida)-SUMIF([0]!cod_saida,Estoque!A489,quantidade_comprada)","v":0}]
[null,null,null,null,null,{"$f":"SUMIF(Codigo_Produto,Estoque!A490,[0]!quantidade_adquirida)-SUMIF([0]!cod_saida,Estoque!A490,quantidade_comprada)","v":0}]
[null,null,null,null,null,{"$f":"SUMIF(Codigo_Produto,Estoque!A491,[0]!quantidade_adquirida)-SUMIF([0]!cod_saida,Estoque!A491,quantidade_comprada)","v":0}]
[null,null,null,null,null,{"$f":"SUMIF(Codigo_Produto,Estoque!A492,[0]!quantidade_adquirida)-SUMIF([0]!cod_saida,Estoque!A492,quantidade_comprada)","v":0}]
[null,null,null,null,null,{"$f":"SUMIF(Codigo_Produto,Estoque!A493,[0]!quantidade_adquirida)-SUMIF([0]!cod_saida,Estoque!A493,quantidade_comprada)","v":0}]
[null,null,null,null,null,{"$f":"SUMIF(Codigo_Produto,Estoque!A494,[0]!quantidade_adquirida)-SUMIF([0]!cod_saida,Estoque!A494,quantidade_comprada)","v":0}]
[null,null,null,null,null,{"$f":"SUMIF(Codigo_Produto,Estoque!A495,[0]!quantidade_adquirida)-SUMIF([0]!cod_saida,Estoque!A495,quantidade_comprada)","v":0}]
[null,null,null,null,null,{"$f":"SUMIF(Codigo_Produto,Estoque!A496,[0]!quantidade_adquirida)-SUMIF([0]!cod_saida,Estoque!A496,quantidade_comprada)","v":0}]
[null,null,null,null,null,{"$f":"SUMIF(Codigo_Produto,Estoque!A497,[0]!quantidade_adquirida)-SUMIF([0]!cod_saida,Estoque!A497,quantidade_comprada)","v":0}]
[null,null,null,null,null,{"$f":"SUMIF(Codigo_Produto,Estoque!A498,[0]!quantidade_adquirida)-SUMIF([0]!cod_saida,Estoque!A498,quantidade_comprada)","v":0}]
[null,null,null,null,null,{"$f":"SUMIF(Codigo_Produto,Estoque!A499,[0]!quantidade_adquirida)-SUMIF([0]!cod_saida,Estoque!A499,quantidade_comprada)","v":0}]
[null,null,null,null,null,{"$f":"SUMIF(Codigo_Produto,Estoque!A500,[0]!quantidade_adquirida)-SUMIF([0]!cod_saida,Estoque!A500,quantidade_comprada)","v":0}]
[null,null,null,null,null,{"$f":"SUMIF(Codigo_Produto,Estoque!A501,[0]!quantidade_adquirida)-SUMIF([0]!cod_saida,Estoque!A501,quantidade_comprada)","v":0}]
[null,null,null,null,null,{"$f":"SUMIF(Codigo_Produto,Estoque!A502,[0]!quantidade_adquirida)-SUMIF([0]!cod_saida,Estoque!A502,quantidade_comprada)","v":0}]
[null,null,null,null,null,{"$f":"SUMIF(Codigo_Produto,Estoque!A503,[0]!quantidade_adquirida)-SUMIF([0]!cod_saida,Estoque!A503,quantidade_comprada)","v":0}]
[null,null,null,null,null,{"$f":"SUMIF(Codigo_Produto,Estoque!A504,[0]!quantidade_adquirida)-SUMIF([0]!cod_saida,Estoque!A504,quantidade_comprada)","v":0}]
[null,null,null,null,null,{"$f":"SUMIF(Codigo_Produto,Estoque!A505,[0]!quantidade_adquirida)-SUMIF([0]!cod_saida,Estoque!A505,quantidade_comprada)","v":0}]
[null,null,null,null,null,{"$f":"SUMIF(Codigo_Produto,Estoque!A506,[0]!quantidade_adquirida)-SUMIF([0]!cod_saida,Estoque!A506,quantidade_comprada)","v":0}]
[null,null,null,null,null,{"$f":"SUMIF(Codigo_Produto,Estoque!A507,[0]!quantidade_adquirida)-SUMIF([0]!cod_saida,Estoque!A507,quantidade_comprada)","v":0}]
[null,null,null,null,null,{"$f":"SUMIF(Codigo_Produto,Estoque!A508,[0]!quantidade_adquirida)-SUMIF([0]!cod_saida,Estoque!A508,quantidade_comprada)","v":0}]
[null,null,null,null,null,{"$f":"SUMIF(Codigo_Produto,Estoque!A509,[0]!quantidade_adquirida)-SUMIF([0]!cod_saida,Estoque!A509,quantidade_comprada)","v":0}]
[null,null,null,null,null,{"$f":"SUMIF(Codigo_Produto,Estoque!A510,[0]!quantidade_adquirida)-SUMIF([0]!cod_saida,Estoque!A510,quantidade_comprada)","v":0}]
[null,null,null,null,null,{"$f":"SUMIF(Codigo_Produto,Estoque!A511,[0]!quantidade_adquirida)-SUMIF([0]!cod_saida,Estoque!A511,quantidade_comprada)","v":0}]
[null,null,null,null,null,{"$f":"SUMIF(Codigo_Produto,Estoque!A512,[0]!quantidade_adquirida)-SUMIF([0]!cod_saida,Estoque!A512,quantidade_comprada)","v":0}]
[null,null,null,null,null,{"$f":"SUMIF(Codigo_Produto,Estoque!A513,[0]!quantidade_adquirida)-SUMIF([0]!cod_saida,Estoque!A513,quantidade_comprada)","v":0}]
[null,null,null,null,null,{"$f":"SUMIF(Codigo_Produto,Estoque!A514,[0]!quantidade_adquirida)-SUMIF([0]!cod_saida,Estoque!A514,quantidade_comprada)","v":0}]
[null,null,null,null,null,{"$f":"SUMIF(Codigo_Produto,Estoque!A515,[0]!quantidade_adquirida)-SUMIF([0]!cod_saida,Estoque!A515,quantidade_comprada)","v":0}]
[null,null,null,null,null,{"$f":"SUMIF(Codigo_Produto,Estoque!A516,[0]!quantidade_adquirida)-SUMIF([0]!cod_saida,Estoque!A516,quantidade_comprada)","v":0}]
[null,null,null,null,null,{"$f":"SUMIF(Codigo_Produto,Estoque!A517,[0]!quantidade_adquirida)-SUMIF([0]!cod_saida,Estoque!A517,quantidade_comprada)","v":0}]
[null,null,null,null,null,{"$f":"SUMIF(Codigo_Produto,Estoque!A518,[0]!quantidade_adquirida)-SUMIF([0]!cod_saida,Estoque!A518,quantidade_comprada)","v":0}]
[null,null,null,null,null,{"$f":"SUMIF(Codigo_Produto,Estoque!A519,[0]!quantidade_adquirida)-SUMIF([0]!cod_saida,Estoque!A519,quantidade_comprada)","v":0}]
[null,null,null,null,null,{"$f":"SUMIF(Codigo_Produto,Estoque!A520,[0]!quantidade_adquirida)-SUMIF([0]!cod_saida,Estoque!A520,quantidade_comprada)","v":0}]
[null,null,null,null,null,{"$f":"SUMIF(Codigo_Produto,Estoque!A521,[0]!quantidade_adquirida)-SUMIF([0]!cod_saida,Estoque!A521,quantidade_comprada)","v":0}]
[null,null,null,null,null,{"$f":"SUMIF(Codigo_Produto,Estoque!A522,[0]!quantidade_adquirida)-SUMIF([0]!cod_saida,Estoque!A522,quantidade_comprada)","v":0}]
[null,null,null,null,null,{"$f":"SUMIF(Codigo_Produto,Estoque!A523,[0]!quantidade_adquirida)-SUMIF([0]!cod_saida,Estoque!A523,quantidade_comprada)","v":0}]
[null,null,null,null,null,{"$f":"SUMIF(Codigo_Produto,Estoque!A524,[0]!quantidade_adquirida)-SUMIF([0]!cod_saida,Estoque!A524,quantidade_comprada)","v":0}]
[null,null,null,null,null,{"$f":"SUMIF(Codigo_Produto,Estoque!A525,[0]!quantidade_adquirida)-SUMIF([0]!cod_saida,Estoque!A525,quantidade_comprada)","v":0}]
[null,null,null,null,null,{"$f":"SUMIF(Codigo_Produto,Estoque!A526,[0]!quantidade_adquirida)-SUMIF([0]!cod_saida,Estoque!A526,quantidade_comprada)","v":0}]
[null,null,null,null,null,{"$f":"SUMIF(Codigo_Produto,Estoque!A527,[0]!quantidade_adquirida)-SUMIF([0]!cod_saida,Estoque!A527,quantidade_comprada)","v":0}]
[null,null,null,null,null,{"$f":"SUMIF(Codigo_Produto,Estoque!A528,[0]!quantidade_adquirida)-SUMIF([0]!cod_saida,Estoque!A528,quantidade_comprada)","v":0}]
[null,null,null,null,null,{"$f":"SUMIF(Codigo_Produto,Estoque!A529,[0]!quantidade_adquirida)-SUMIF([0]!cod_saida,Estoque!A529,quantidade_comprada)","v":0}]
[null,null,null,null,null,{"$f":"SUMIF(Codigo_Produto,Estoque!A530,[0]!quantidade_adquirida)-SUMIF([0]!cod_saida,Estoque!A530,quantidade_comprada)","v":0}]
[null,null,null,null,null,{"$f":"SUMIF(Codigo_Produto,Estoque!A531,[0]!quantidade_adquirida)-SUMIF([0]!cod_saida,Estoque!A531,quantidade_comprada)","v":0}]
[null,null,null,null,null,{"$f":"SUMIF(Codigo_Produto,Estoque!A532,[0]!quantidade_adquirida)-SUMIF([0]!cod_saida,Estoque!A532,quantidade_comprada)","v":0}]
[null,null,null,null,null,{"$f":"SUMIF(Codigo_Produto,Estoque!A533,[0]!quantidade_adquirida)-SUMIF([0]!cod_saida,Estoque!A533,quantidade_comprada)","v":0}]
[null,null,null,null,null,{"$f":"SUMIF(Codigo_Produto,Estoque!A534,[0]!quantidade_adquirida)-SUMIF([0]!cod_saida,Estoque!A534,quantidade_comprada)","v":0}]
[null,null,null,null,null,{"$f":"SUMIF(Codigo_Produto,Estoque!A535,[0]!quantidade_adquirida)-SUMIF([0]!cod_saida,Estoque!A535,quantidade_comprada)","v":0}]
[null,null,null,null,null,{"$f":"SUMIF(Codigo_Produto,Estoque!A536,[0]!quantidade_adquirida)-SUMIF([0]!cod_saida,Estoque!A536,quantidade_comprada)","v":0}]
[null,null,null,null,null,{"$f":"SUMIF(Codigo_Produto,Estoque!A537,[0]!quantidade_adquirida)-SUMIF([0]!cod_saida,Estoque!A537,quantidade_comprada)","v":0}]
[null,null,null,null,null,{"$f":"SUMIF(Codigo_Produto,Estoque!A538,[0]!quantidade_adquirida)-SUMIF([0]!cod_saida,Estoque!A538,quantidade_comprada)","v":0}]
[null,null,null,null,null,{"$f":"SUMIF(Codigo_Produto,Estoque!A539,[0]!quantidade_adquirida)-SUMIF([0]!cod_saida,Estoque!A539,quantidade_comprada)","v":0}]
[null,null,null,null,null,{"$f":"SUMIF(Codigo_Produto,Estoque!A540,[0]!quantidade_adquirida)-SUMIF([0]!cod_saida,Estoque!A540,quantidade_comprada)","v":0}]
[null,null,null,null,null,{"$f":"SUMIF(Codigo_Produto,Estoque!A541,[0]!quantidade_adquirida)-SUMIF([0]!cod_saida,Estoque!A541,quantidade_comprada)","v":0}]
[null,null,null,null,null,{"$f":"SUMIF(Codigo_Produto,Estoque!A542,[0]!quantidade_adquirida)-SUMIF([0]!cod_saida,Estoque!A542,quantidade_comprada)","v":0}]
[null,null,null,null,null,{"$f":"SUMIF(Codigo_Produto,Estoque!A543,[0]!quantidade_adquirida)-SUMIF([0]!cod_saida,Estoque!A543,quantidade_comprada)","v":0}]
[null,null,null,null,null,{"$f":"SUMIF(Codigo_Produto,Estoque!A544,[0]!quantidade_adquirida)-SUMIF([0]!cod_saida,Estoque!A544,quantidade_comprada)","v":0}]
[null,null,null,null,null,{"$f":"SUMIF(Codigo_Produto,Estoque!A545,[0]!quantidade_adquirida)-SUMIF([0]!cod_saida,Estoque!A545,quantidade_comprada)","v":0}]
[null,null,null,null,null,{"$f":"SUMIF(Codigo_Produto,Estoque!A546,[0]!quantidade_adquirida)-SUMIF([0]!cod_saida,Estoque!A546,quantidade_comprada)","v":0}]
[null,null,null,null,null,{"$f":"SUMIF(Codigo_Produto,Estoque!A547,[0]!quantidade_adquirida)-SUMIF([0]!cod_saida,Estoque!A547,quantidade_comprada)","v":0}]
[null,null,null,null,null,{"$f":"SUMIF(Codigo_Produto,Estoque!A548,[0]!quantidade_adquirida)-SUMIF([0]!cod_saida,Estoque!A548,quantidade_comprada)","v":0}]
[null,null,null,null,null,{"$f":"SUMIF(Codigo_Produto,Estoque!A549,[0]!quantidade_adquirida)-SUMIF([0]!cod_saida,Estoque!A549,quantidade_comprada)","v":0}]
[null,null,null,null,null,{"$f":"SUMIF(Codigo_Produto,Estoque!A550,[0]!quantidade_adquirida)-SUMIF([0]!cod_saida,Estoque!A550,quantidade_comprada)","v":0}]
[null,null,null,null,null,{"$f":"SUMIF(Codigo_Produto,Estoque!A551,[0]!quantidade_adquirida)-SUMIF([0]!cod_saida,Estoque!A551,quantidade_comprada)","v":0}]
[null,null,null,null,null,{"$f":"SUMIF(Codigo_Produto,Estoque!A552,[0]!quantidade_adquirida)-SUMIF([0]!cod_saida,Estoque!A552,quantidade_comprada)","v":0}]
[null,null,null,null,null,{"$f":"SUMIF(Codigo_Produto,Estoque!A553,[0]!quantidade_adquirida)-SUMIF([0]!cod_saida,Estoque!A553,quantidade_comprada)","v":0}]
[null,null,null,null,null,{"$f":"SUMIF(Codigo_Produto,Estoque!A554,[0]!quantidade_adquirida)-SUMIF([0]!cod_saida,Estoque!A554,quantidade_comprada)","v":0}]
[null,null,null,null,null,{"$f":"SUMIF(Codigo_Produto,Estoque!A555,[0]!quantidade_adquirida)-SUMIF([0]!cod_saida,Estoque!A555,quantidade_comprada)","v":0}]
[null,null,null,null,null,{"$f":"SUMIF(Codigo_Produto,Estoque!A556,[0]!quantidade_adquirida)-SUMIF([0]!cod_saida,Estoque!A556,quantidade_comprada)","v":0}]
[null,null,null,null,null,{"$f":"SUMIF(Codigo_Produto,Estoque!A557,[0]!quantidade_adquirida)-SUMIF([0]!cod_saida,Estoque!A557,quantidade_comprada)","v":0}]
[null,null,null,null,null,{"$f":"SUMIF(Codigo_Produto,Estoque!A558,[0]!quantidade_adquirida)-SUMIF([0]!cod_saida,Estoque!A558,quantidade_comprada)","v":0}]
[null,null,null,null,null,{"$f":"SUMIF(Codigo_Produto,Estoque!A559,[0]!quantidade_adquirida)-SUMIF([0]!cod_saida,Estoque!A559,quantidade_comprada)","v":0}]
[null,null,null,null,null,{"$f":"SUMIF(Codigo_Produto,Estoque!A560,[0]!quantidade_adquirida)-SUMIF([0]!cod_saida,Estoque!A560,quantidade_comprada)","v":0}]
[null,null,null,null,null,{"$f":"SUMIF(Codigo_Produto,Estoque!A561,[0]!quantidade_adquirida)-SUMIF([0]!cod_saida,Estoque!A561,quantidade_comprada)","v":0}]
[null,null,null,null,null,{"$f":"SUMIF(Codigo_Produto,Estoque!A562,[0]!quantidade_adquirida)-SUMIF([0]!cod_saida,Estoque!A562,quantidade_comprada)","v":0}]
[null,null,null,null,null,{"$f":"SUMIF(Codigo_Produto,Estoque!A563,[0]!quantidade_adquirida)-SUMIF([0]!cod_saida,Estoque!A563,quantidade_comprada)","v":0}]
[null,null,null,null,null,{"$f":"SUMIF(Codigo_Produto,Estoque!A564,[0]!quantidade_adquirida)-SUMIF([0]!cod_saida,Estoque!A564,quantidade_comprada)","v":0}]
[null,null,null,null,null,{"$f":"SUMIF(Codigo_Produto,Estoque!A565,[0]!quantidade_adquirida)-SUMIF([0]!cod_saida,Estoque!A565,quantidade_comprada)","v":0}]
[null,null,null,null,null,{"$f":"SUMIF(Codigo_Produto,Estoque!A566,[0]!quantidade_adquirida)-SUMIF([0]!cod_saida,Estoque!A566,quantidade_comprada)","v":0}]
[null,null,null,null,null,{"$f":"SUMIF(Codigo_Produto,Estoque!A567,[0]!quantidade_adquirida)-SUMIF([0]!cod_saida,Estoque!A567,quantidade_comprada)","v":0}]
[null,null,null,null,null,{"$f":"SUMIF(Codigo_Produto,Estoque!A568,[0]!quantidade_adquirida)-SUMIF([0]!cod_saida,Estoque!A568,quantidade_comprada)","v":0}]
[null,null,null,null,null,{"$f":"SUMIF(Codigo_Produto,Estoque!A569,[0]!quantidade_adquirida)-SUMIF([0]!cod_saida,Estoque!A569,quantidade_comprada)","v":0}]
[null,null,null,null,null,{"$f":"SUMIF(Codigo_Produto,Estoque!A570,[0]!quantidade_adquirida)-SUMIF([0]!cod_saida,Estoque!A570,quantidade_comprada)","v":0}]
[null,null,null,null,null,{"$f":"SUMIF(Codigo_Produto,Estoque!A571,[0]!quantidade_adquirida)-SUMIF([0]!cod_saida,Estoque!A571,quantidade_comprada)","v":0}]
[null,null,null,null,null,{"$f":"SUMIF(Codigo_Produto,Estoque!A572,[0]!quantidade_adquirida)-SUMIF([0]!cod_saida,Estoque!A572,quantidade_comprada)","v":0}]
[null,null,null,null,null,{"$f":"SUMIF(Codigo_Produto,Estoque!A573,[0]!quantidade_adquirida)-SUMIF([0]!cod_saida,Estoque!A573,quantidade_comprada)","v":0}]
[null,null,null,null,null,{"$f":"SUMIF(Codigo_Produto,Estoque!A574,[0]!quantidade_adquirida)-SUMIF([0]!cod_saida,Estoque!A574,quantidade_comprada)","v":0}]
[null,null,null,null,null,{"$f":"SUMIF(Codigo_Produto,Estoque!A575,[0]!quantidade_adquirida)-SUMIF([0]!cod_saida,Estoque!A575,quantidade_comprada)","v":0}]
[null,null,null,null,null,{"$f":"SUMIF(Codigo_Produto,Estoque!A576,[0]!quantidade_adquirida)-SUMIF([0]!cod_saida,Estoque!A576,quantidade_comprada)","v":0}]
[null,null,null,null,null,{"$f":"SUMIF(Codigo_Produto,Estoque!A577,[0]!quantidade_adquirida)-SUMIF([0]!cod_saida,Estoque!A577,quantidade_comprada)","v":0}]
[null,null,null,null,null,{"$f":"SUMIF(Codigo_Produto,Estoque!A578,[0]!quantidade_adquirida)-SUMIF([0]!cod_saida,Estoque!A578,quantidade_comprada)","v":0}]
[null,null,null,null,null,{"$f":"SUMIF(Codigo_Produto,Estoque!A579,[0]!quantidade_adquirida)-SUMIF([0]!cod_saida,Estoque!A579,quantidade_comprada)","v":0}]
[null,null,null,null,null,{"$f":"SUMIF(Codigo_Produto,Estoque!A580,[0]!quantidade_adquirida)-SUMIF([0]!cod_saida,Estoque!A580,quantidade_comprada)","v":0}]
[null,null,null,null,null,{"$f":"SUMIF(Codigo_Produto,Estoque!A581,[0]!quantidade_adquirida)-SUMIF([0]!cod_saida,Estoque!A581,quantidade_comprada)","v":0}]
[null,null,null,null,null,{"$f":"SUMIF(Codigo_Produto,Estoque!A582,[0]!quantidade_adquirida)-SUMIF([0]!cod_saida,Estoque!A582,quantidade_comprada)","v":0}]
[null,null,null,null,null,{"$f":"SUMIF(Codigo_Produto,Estoque!A583,[0]!quantidade_adquirida)-SUMIF([0]!cod_saida,Estoque!A583,quantidade_comprada)","v":0}]
[null,null,null,null,null,{"$f":"SUMIF(Codigo_Produto,Estoque!A584,[0]!quantidade_adquirida)-SUMIF([0]!cod_saida,Estoque!A584,quantidade_comprada)","v":0}]
[null,null,null,null,null,{"$f":"SUMIF(Codigo_Produto,Estoque!A585,[0]!quantidade_adquirida)-SUMIF([0]!cod_saida,Estoque!A585,quantidade_comprada)","v":0}]
[null,null,null,null,null,{"$f":"SUMIF(Codigo_Produto,Estoque!A586,[0]!quantidade_adquirida)-SUMIF([0]!cod_saida,Estoque!A586,quantidade_comprada)","v":0}]
[null,null,null,null,null,{"$f":"SUMIF(Codigo_Produto,Estoque!A587,[0]!quantidade_adquirida)-SUMIF([0]!cod_saida,Estoque!A587,quantidade_comprada)","v":0}]
[null,null,null,null,null,{"$f":"SUMIF(Codigo_Produto,Estoque!A588,[0]!quantidade_adquirida)-SUMIF([0]!cod_saida,Estoque!A588,quantidade_comprada)","v":0}]
[null,null,null,null,null,{"$f":"SUMIF(Codigo_Produto,Estoque!A589,[0]!quantidade_adquirida)-SUMIF([0]!cod_saida,Estoque!A589,quantidade_comprada)","v":0}]
[null,null,null,null,null,{"$f":"SUMIF(Codigo_Produto,Estoque!A590,[0]!quantidade_adquirida)-SUMIF([0]!cod_saida,Estoque!A590,quantidade_comprada)","v":0}]
[null,null,null,null,null,{"$f":"SUMIF(Codigo_Produto,Estoque!A591,[0]!quantidade_adquirida)-SUMIF([0]!cod_saida,Estoque!A591,quantidade_comprada)","v":0}]
[null,null,null,null,null,{"$f":"SUMIF(Codigo_Produto,Estoque!A592,[0]!quantidade_adquirida)-SUMIF([0]!cod_saida,Estoque!A592,quantidade_comprada)","v":0}]
[null,null,null,null,null,{"$f":"SUMIF(Codigo_Produto,Estoque!A593,[0]!quantidade_adquirida)-SUMIF([0]!cod_saida,Estoque!A593,quantidade_comprada)","v":0}]
[null,null,null,null,null,{"$f":"SUMIF(Codigo_Produto,Estoque!A594,[0]!quantidade_adquirida)-SUMIF([0]!cod_saida,Estoque!A594,quantidade_comprada)","v":0}]
[null,null,null,null,null,{"$f":"SUMIF(Codigo_Produto,Estoque!A595,[0]!quantidade_adquirida)-SUMIF([0]!cod_saida,Estoque!A595,quantidade_comprada)","v":0}]
[null,null,null,null,null,{"$f":"SUMIF(Codigo_Produto,Estoque!A596,[0]!quantidade_adquirida)-SUMIF([0]!cod_saida,Estoque!A596,quantidade_comprada)","v":0}]
[null,null,null,null,null,{"$f":"SUMIF(Codigo_Produto,Estoque!A597,[0]!quantidade_adquirida)-SUMIF([0]!cod_saida,Estoque!A597,quantidade_comprada)","v":0}]
[null,null,null,null,null,{"$f":"SUMIF(Codigo_Produto,Estoque!A598,[0]!quantidade_adquirida)-SUMIF([0]!cod_saida,Estoque!A598,quantidade_comprada)","v":0}]
[null,null,null,null,null,{"$f":"SUMIF(Codigo_Produto,Estoque!A599,[0]!quantidade_adquirida)-SUMIF([0]!cod_saida,Estoque!A599,quantidade_comprada)","v":0}]
[null,null,null,null,null,{"$f":"SUMIF(Codigo_Produto,Estoque!A600,[0]!quantidade_adquirida)-SUMIF([0]!cod_saida,Estoque!A600,quantidade_comprada)","v":0}]
[null,null,null,null,null,{"$f":"SUMIF(Codigo_Produto,Estoque!A601,[0]!quantidade_adquirida)-SUMIF([0]!cod_saida,Estoque!A601,quantidade_comprada)","v":0}]
[null,null,null,null,null,{"$f":"SUMIF(Codigo_Produto,Estoque!A602,[0]!quantidade_adquirida)-SUMIF([0]!cod_saida,Estoque!A602,quantidade_comprada)","v":0}]
[null,null,null,null,null,{"$f":"SUMIF(Codigo_Produto,Estoque!A603,[0]!quantidade_adquirida)-SUMIF([0]!cod_saida,Estoque!A603,quantidade_comprada)","v":0}]
[null,null,null,null,null,{"$f":"SUMIF(Codigo_Produto,Estoque!A604,[0]!quantidade_adquirida)-SUMIF([0]!cod_saida,Estoque!A604,quantidade_comprada)","v":0}]
[null,null,null,null,null,{"$f":"SUMIF(Codigo_Produto,Estoque!A605,[0]!quantidade_adquirida)-SUMIF([0]!cod_saida,Estoque!A605,quantidade_comprada)","v":0}]
[null,null,null,null,null,{"$f":"SUMIF(Codigo_Produto,Estoque!A606,[0]!quantidade_adquirida)-SUMIF([0]!cod_saida,Estoque!A606,quantidade_comprada)","v":0}]
[null,null,null,null,null,{"$f":"SUMIF(Codigo_Produto,Estoque!A607,[0]!quantidade_adquirida)-SUMIF([0]!cod_saida,Estoque!A607,quantidade_comprada)","v":0}]
[null,null,null,null,null,{"$f":"SUMIF(Codigo_Produto,Estoque!A608,[0]!quantidade_adquirida)-SUMIF([0]!cod_saida,Estoque!A608,quantidade_comprada)","v":0}]
[null,null,null,null,null,{"$f":"SUMIF(Codigo_Produto,Estoque!A609,[0]!quantidade_adquirida)-SUMIF([0]!cod_saida,Estoque!A609,quantidade_comprada)","v":0}]
[null,null,null,null,null,{"$f":"SUMIF(Codigo_Produto,Estoque!A610,[0]!quantidade_adquirida)-SUMIF([0]!cod_saida,Estoque!A610,quantidade_comprada)","v":0}]
[null,null,null,null,null,{"$f":"SUMIF(Codigo_Produto,Estoque!A611,[0]!quantidade_adquirida)-SUMIF([0]!cod_saida,Estoque!A611,quantidade_comprada)","v":0}]
[null,null,null,null,null,{"$f":"SUMIF(Codigo_Produto,Estoque!A612,[0]!quantidade_adquirida)-SUMIF([0]!cod_saida,Estoque!A612,quantidade_comprada)","v":0}]
[null,null,null,null,null,{"$f":"SUMIF(Codigo_Produto,Estoque!A613,[0]!quantidade_adquirida)-SUMIF([0]!cod_saida,Estoque!A613,quantidade_comprada)","v":0}]
[null,null,null,null,null,{"$f":"SUMIF(Codigo_Produto,Estoque!A614,[0]!quantidade_adquirida)-SUMIF([0]!cod_saida,Estoque!A614,quantidade_comprada)","v":0}]
[null,null,null,null,null,{"$f":"SUMIF(Codigo_Produto,Estoque!A615,[0]!quantidade_adquirida)-SUMIF([0]!cod_saida,Estoque!A615,quantidade_comprada)","v":0}]
[null,null,null,null,null,{"$f":"SUMIF(Codigo_Produto,Estoque!A616,[0]!quantidade_adquirida)-SUMIF([0]!cod_saida,Estoque!A616,quantidade_comprada)","v":0}]
[null,null,null,null,null,{"$f":"SUMIF(Codigo_Produto,Estoque!A617,[0]!quantidade_adquirida)-SUMIF([0]!cod_saida,Estoque!A617,quantidade_comprada)","v":0}]
[null,null,null,null,null,{"$f":"SUMIF(Codigo_Produto,Estoque!A618,[0]!quantidade_adquirida)-SUMIF([0]!cod_saida,Estoque!A618,quantidade_comprada)","v":0}]
[null,null,null,null,null,{"$f":"SUMIF(Codigo_Produto,Estoque!A619,[0]!quantidade_adquirida)-SUMIF([0]!cod_saida,Estoque!A619,quantidade_comprada)","v":0}]
[null,null,null,null,null,{"$f":"SUMIF(Codigo_Produto,Estoque!A620,[0]!quantidade_adquirida)-SUMIF([0]!cod_saida,Estoque!A620,quantidade_comprada)","v":0}]
[null,null,null,null,null,{"$f":"SUMIF(Codigo_Produto,Estoque!A621,[0]!quantidade_adquirida)-SUMIF([0]!cod_saida,Estoque!A621,quantidade_comprada)","v":0}]
[null,null,null,null,null,{"$f":"SUMIF(Codigo_Produto,Estoque!A622,[0]!quantidade_adquirida)-SUMIF([0]!cod_saida,Estoque!A622,quantidade_comprada)","v":0}]
[null,null,null,null,null,{"$f":"SUMIF(Codigo_Produto,Estoque!A623,[0]!quantidade_adquirida)-SUMIF([0]!cod_saida,Estoque!A623,quantidade_comprada)","v":0}]
[null,null,null,null,null,{"$f":"SUMIF(Codigo_Produto,Estoque!A624,[0]!quantidade_adquirida)-SUMIF([0]!cod_saida,Estoque!A624,quantidade_comprada)","v":0}]
[null,null,null,null,null,{"$f":"SUMIF(Codigo_Produto,Estoque!A625,[0]!quantidade_adquirida)-SUMIF([0]!cod_saida,Estoque!A625,quantidade_comprada)","v":0}]
[null,null,null,null,null,{"$f":"SUMIF(Codigo_Produto,Estoque!A626,[0]!quantidade_adquirida)-SUMIF([0]!cod_saida,Estoque!A626,quantidade_comprada)","v":0}]
[null,null,null,null,null,{"$f":"SUMIF(Codigo_Produto,Estoque!A627,[0]!quantidade_adquirida)-SUMIF([0]!cod_saida,Estoque!A627,quantidade_comprada)","v":0}]
[null,null,null,null,null,{"$f":"SUMIF(Codigo_Produto,Estoque!A628,[0]!quantidade_adquirida)-SUMIF([0]!cod_saida,Estoque!A628,quantidade_comprada)","v":0}]
[null,null,null,null,null,{"$f":"SUMIF(Codigo_Produto,Estoque!A629,[0]!quantidade_adquirida)-SUMIF([0]!cod_saida,Estoque!A629,quantidade_comprada)","v":0}]
[null,null,null,null,null,{"$f":"SUMIF(Codigo_Produto,Estoque!A630,[0]!quantidade_adquirida)-SUMIF([0]!cod_saida,Estoque!A630,quantidade_comprada)","v":0}]
[null,null,null,null,null,{"$f":"SUMIF(Codigo_Produto,Estoque!A631,[0]!quantidade_adquirida)-SUMIF([0]!cod_saida,Estoque!A631,quantidade_comprada)","v":0}]
[null,null,null,null,null,{"$f":"SUMIF(Codigo_Produto,Estoque!A632,[0]!quantidade_adquirida)-SUMIF([0]!cod_saida,Estoque!A632,quantidade_comprada)","v":0}]
[null,null,null,null,null,{"$f":"SUMIF(Codigo_Produto,Estoque!A633,[0]!quantidade_adquirida)-SUMIF([0]!cod_saida,Estoque!A633,quantidade_comprada)","v":0}]
[null,null,null,null,null,{"$f":"SUMIF(Codigo_Produto,Estoque!A634,[0]!quantidade_adquirida)-SUMIF([0]!cod_saida,Estoque!A634,quantidade_comprada)","v":0}]
[null,null,null,null,null,{"$f":"SUMIF(Codigo_Produto,Estoque!A635,[0]!quantidade_adquirida)-SUMIF([0]!cod_saida,Estoque!A635,quantidade_comprada)","v":0}]
[null,null,null,null,null,{"$f":"SUMIF(Codigo_Produto,Estoque!A636,[0]!quantidade_adquirida)-SUMIF([0]!cod_saida,Estoque!A636,quantidade_comprada)","v":0}]
[null,null,null,null,null,{"$f":"SUMIF(Codigo_Produto,Estoque!A637,[0]!quantidade_adquirida)-SUMIF([0]!cod_saida,Estoque!A637,quantidade_comprada)","v":0}]
[null,null,null,null,null,{"$f":"SUMIF(Codigo_Produto,Estoque!A638,[0]!quantidade_adquirida)-SUMIF([0]!cod_saida,Estoque!A638,quantidade_comprada)","v":0}]
[null,null,null,null,null,{"$f":"SUMIF(Codigo_Produto,Estoque!A639,[0]!quantidade_adquirida)-SUMIF([0]!cod_saida,Estoque!A639,quantidade_comprada)","v":0}]
[null,null,null,null,null,{"$f":"SUMIF(Codigo_Produto,Estoque!A640,[0]!quantidade_adquirida)-SUMIF([0]!cod_saida,Estoque!A640,quantidade_comprada)","v":0}]
[null,null,null,null,null,{"$f":"SUMIF(Codigo_Produto,Estoque!A641,[0]!quantidade_adquirida)-SUMIF([0]!cod_saida,Estoque!A641,quantidade_comprada)","v":0}]
[null,null,null,null,null,{"$f":"SUMIF(Codigo_Produto,Estoque!A642,[0]!quantidade_adquirida)-SUMIF([0]!cod_saida,Estoque!A642,quantidade_comprada)","v":0}]
[null,null,null,null,null,{"$f":"SUMIF(Codigo_Produto,Estoque!A643,[0]!quantidade_adquirida)-SUMIF([0]!cod_saida,Estoque!A643,quantidade_comprada)","v":0}]
[null,null,null,null,null,{"$f":"SUMIF(Codigo_Produto,Estoque!A644,[0]!quantidade_adquirida)-SUMIF([0]!cod_saida,Estoque!A644,quantidade_comprada)","v":0}]
[null,null,null,null,null,{"$f":"SUMIF(Codigo_Produto,Estoque!A645,[0]!quantidade_adquirida)-SUMIF([0]!cod_saida,Estoque!A645,quantidade_comprada)","v":0}]
[null,null,null,null,null,{"$f":"SUMIF(Codigo_Produto,Estoque!A646,[0]!quantidade_adquirida)-SUMIF([0]!cod_saida,Estoque!A646,quantidade_comprada)","v":0}]
[null,null,null,null,null,{"$f":"SUMIF(Codigo_Produto,Estoque!A647,[0]!quantidade_adquirida)-SUMIF([0]!cod_saida,Estoque!A647,quantidade_comprada)","v":0}]
[null,null,null,null,null,{"$f":"SUMIF(Codigo_Produto,Estoque!A648,[0]!quantidade_adquirida)-SUMIF([0]!cod_saida,Estoque!A648,quantidade_comprada)","v":0}]
[null,null,null,null,null,{"$f":"SUMIF(Codigo_Produto,Estoque!A649,[0]!quantidade_adquirida)-SUMIF([0]!cod_saida,Estoque!A649,quantidade_comprada)","v":0}]
[null,null,null,null,null,{"$f":"SUMIF(Codigo_Produto,Estoque!A650,[0]!quantidade_adquirida)-SUMIF([0]!cod_saida,Estoque!A650,quantidade_comprada)","v":0}]
[null,null,null,null,null,{"$f":"SUMIF(Codigo_Produto,Estoque!A651,[0]!quantidade_adquirida)-SUMIF([0]!cod_saida,Estoque!A651,quantidade_comprada)","v":0}]
[null,null,null,null,null,{"$f":"SUMIF(Codigo_Produto,Estoque!A652,[0]!quantidade_adquirida)-SUMIF([0]!cod_saida,Estoque!A652,quantidade_comprada)","v":0}]
[null,null,null,null,null,{"$f":"SUMIF(Codigo_Produto,Estoque!A653,[0]!quantidade_adquirida)-SUMIF([0]!cod_saida,Estoque!A653,quantidade_comprada)","v":0}]
[null,null,null,null,null,{"$f":"SUMIF(Codigo_Produto,Estoque!A654,[0]!quantidade_adquirida)-SUMIF([0]!cod_saida,Estoque!A654,quantidade_comprada)","v":0}]
[null,null,null,null,null,{"$f":"SUMIF(Codigo_Produto,Estoque!A655,[0]!quantidade_adquirida)-SUMIF([0]!cod_saida,Estoque!A655,quantidade_comprada)","v":0}]
[null,null,null,null,null,{"$f":"SUMIF(Codigo_Produto,Estoque!A656,[0]!quantidade_adquirida)-SUMIF([0]!cod_saida,Estoque!A656,quantidade_comprada)","v":0}]
[null,null,null,null,null,{"$f":"SUMIF(Codigo_Produto,Estoque!A657,[0]!quantidade_adquirida)-SUMIF([0]!cod_saida,Estoque!A657,quantidade_comprada)","v":0}]
[null,null,null,null,null,{"$f":"SUMIF(Codigo_Produto,Estoque!A658,[0]!quantidade_adquirida)-SUMIF([0]!cod_saida,Estoque!A658,quantidade_comprada)","v":0}]
[null,null,null,null,null,{"$f":"SUMIF(Codigo_Produto,Estoque!A659,[0]!quantidade_adquirida)-SUMIF([0]!cod_saida,Estoque!A659,quantidade_comprada)","v":0}]
[null,null,null,null,null,{"$f":"SUMIF(Codigo_Produto,Estoque!A660,[0]!quantidade_adquirida)-SUMIF([0]!cod_saida,Estoque!A660,quantidade_comprada)","v":0}]
[null,null,null,null,null,{"$f":"SUMIF(Codigo_Produto,Estoque!A661,[0]!quantidade_adquirida)-SUMIF([0]!cod_saida,Estoque!A661,quantidade_comprada)","v":0}]
[null,null,null,null,null,{"$f":"SUMIF(Codigo_Produto,Estoque!A662,[0]!quantidade_adquirida)-SUMIF([0]!cod_saida,Estoque!A662,quantidade_comprada)","v":0}]
[null,null,null,null,null,{"$f":"SUMIF(Codigo_Produto,Estoque!A663,[0]!quantidade_adquirida)-SUMIF([0]!cod_saida,Estoque!A663,quantidade_comprada)","v":0}]
[null,null,null,null,null,{"$f":"SUMIF(Codigo_Produto,Estoque!A664,[0]!quantidade_adquirida)-SUMIF([0]!cod_saida,Estoque!A664,quantidade_comprada)","v":0}]
[null,null,null,null,null,{"$f":"SUMIF(Codigo_Produto,Estoque!A665,[0]!quantidade_adquirida)-SUMIF([0]!cod_saida,Estoque!A665,quantidade_comprada)","v":0}]
[null,null,null,null,null,{"$f":"SUMIF(Codigo_Produto,Estoque!A666,[0]!quantidade_adquirida)-SUMIF([0]!cod_saida,Estoque!A666,quantidade_comprada)","v":0}]
[null,null,null,null,null,{"$f":"SUMIF(Codigo_Produto,Estoque!A667,[0]!quantidade_adquirida)-SUMIF([0]!cod_saida,Estoque!A667,quantidade_comprada)","v":0}]
[null,null,null,null,null,{"$f":"SUMIF(Codigo_Produto,Estoque!A668,[0]!quantidade_adquirida)-SUMIF([0]!cod_saida,Estoque!A668,quantidade_comprada)","v":0}]
[null,null,null,null,null,{"$f":"SUMIF(Codigo_Produto,Estoque!A669,[0]!quantidade_adquirida)-SUMIF([0]!cod_saida,Estoque!A669,quantidade_comprada)","v":0}]
[null,null,null,null,null,{"$f":"SUMIF(Codigo_Produto,Estoque!A670,[0]!quantidade_adquirida)-SUMIF([0]!cod_saida,Estoque!A670,quantidade_comprada)","v":0}]
[null,null,null,null,null,{"$f":"SUMIF(Codigo_Produto,Estoque!A671,[0]!quantidade_adquirida)-SUMIF([0]!cod_saida,Estoque!A671,quantidade_comprada)","v":0}]
[null,null,null,null,null,{"$f":"SUMIF(Codigo_Produto,Estoque!A672,[0]!quantidade_adquirida)-SUMIF([0]!cod_saida,Estoque!A672,quantidade_comprada)","v":0}]
[null,null,null,null,null,{"$f":"SUMIF(Codigo_Produto,Estoque!A673,[0]!quantidade_adquirida)-SUMIF([0]!cod_saida,Estoque!A673,quantidade_comprada)","v":0}]
[null,null,null,null,null,{"$f":"SUMIF(Codigo_Produto,Estoque!A674,[0]!quantidade_adquirida)-SUMIF([0]!cod_saida,Estoque!A674,quantidade_comprada)","v":0}]
[null,null,null,null,null,{"$f":"SUMIF(Codigo_Produto,Estoque!A675,[0]!quantidade_adquirida)-SUMIF([0]!cod_saida,Estoque!A675,quantidade_comprada)","v":0}]
[null,null,null,null,null,{"$f":"SUMIF(Codigo_Produto,Estoque!A676,[0]!quantidade_adquirida)-SUMIF([0]!cod_saida,Estoque!A676,quantidade_comprada)","v":0}]
[null,null,null,null,null,{"$f":"SUMIF(Codigo_Produto,Estoque!A677,[0]!quantidade_adquirida)-SUMIF([0]!cod_saida,Estoque!A677,quantidade_comprada)","v":0}]
[null,null,null,null,null,{"$f":"SUMIF(Codigo_Produto,Estoque!A678,[0]!quantidade_adquirida)-SUMIF([0]!cod_saida,Estoque!A678,quantidade_comprada)","v":0}]
[null,null,null,null,null,{"$f":"SUMIF(Codigo_Produto,Estoque!A679,[0]!quantidade_adquirida)-SUMIF([0]!cod_saida,Estoque!A679,quantidade_comprada)","v":0}]
[null,null,null,null,null,{"$f":"SUMIF(Codigo_Produto,Estoque!A680,[0]!quantidade_adquirida)-SUMIF([0]!cod_saida,Estoque!A680,quantidade_comprada)","v":0}]
[null,null,null,null,null,{"$f":"SUMIF(Codigo_Produto,Estoque!A681,[0]!quantidade_adquirida)-SUMIF([0]!cod_saida,Estoque!A681,quantidade_comprada)","v":0}]
[null,null,null,null,null,{"$f":"SUMIF(Codigo_Produto,Estoque!A682,[0]!quantidade_adquirida)-SUMIF([0]!cod_saida,Estoque!A682,quantidade_comprada)","v":0}]
[null,null,null,null,null,{"$f":"SUMIF(Codigo_Produto,Estoque!A683,[0]!quantidade_adquirida)-SUMIF([0]!cod_saida,Estoque!A683,quantidade_comprada)","v":0}]
[null,null,null,null,null,{"$f":"SUMIF(Codigo_Produto,Estoque!A684,[0]!quantidade_adquirida)-SUMIF([0]!cod_saida,Estoque!A684,quantidade_comprada)","v":0}]
[null,null,null,null,null,{"$f":"SUMIF(Codigo_Produto,Estoque!A685,[0]!quantidade_adquirida)-SUMIF([0]!cod_saida,Estoque!A685,quantidade_comprada)","v":0}]
[null,null,null,null,null,{"$f":"SUMIF(Codigo_Produto,Estoque!A686,[0]!quantidade_adquirida)-SUMIF([0]!cod_saida,Estoque!A686,quantidade_comprada)","v":0}]
[null,null,null,null,null,{"$f":"SUMIF(Codigo_Produto,Estoque!A687,[0]!quantidade_adquirida)-SUMIF([0]!cod_saida,Estoque!A687,quantidade_comprada)","v":0}]
[null,null,null,null,null,{"$f":"SUMIF(Codigo_Produto,Estoque!A688,[0]!quantidade_adquirida)-SUMIF([0]!cod_saida,Estoque!A688,quantidade_comprada)","v":0}]
[null,null,null,null,null,{"$f":"SUMIF(Codigo_Produto,Estoque!A689,[0]!quantidade_adquirida)-SUMIF([0]!cod_saida,Estoque!A689,quantidade_comprada)","v":0}]
[null,null,null,null,null,{"$f":"SUMIF(Codigo_Produto,Estoque!A690,[0]!quantidade_adquirida)-SUMIF([0]!cod_saida,Estoque!A690,quantidade_comprada)","v":0}]
[null,null,null,null,null,{"$f":"SUMIF(Codigo_Produto,Estoque!A691,[0]!quantidade_adquirida)-SUMIF([0]!cod_saida,Estoque!A691,quantidade_comprada)","v":0}]
[null,null,null,null,null,{"$f":"SUMIF(Codigo_Produto,Estoque!A692,[0]!quantidade_adquirida)-SUMIF([0]!cod_saida,Estoque!A692,quantidade_comprada)","v":0}]
[null,null,null,null,null,{"$f":"SUMIF(Codigo_Produto,Estoque!A693,[0]!quantidade_adquirida)-SUMIF([0]!cod_saida,Estoque!A693,quantidade_comprada)","v":0}]
[null,null,null,null,null,{"$f":"SUMIF(Codigo_Produto,Estoque!A694,[0]!quantidade_adquirida)-SUMIF([0]!cod_saida,Estoque!A694,quantidade_comprada)","v":0}]
[null,null,null,null,null,{"$f":"SUMIF(Codigo_Produto,Estoque!A695,[0]!quantidade_adquirida)-SUMIF([0]!cod_saida,Estoque!A695,quantidade_comprada)","v":0}]
[null,null,null,null,null,{"$f":"SUMIF(Codigo_Produto,Estoque!A696,[0]!quantidade_adquirida)-SUMIF([0]!cod_saida,Estoque!A696,quantidade_comprada)","v":0}]
[null,null,null,null,null,{"$f":"SUMIF(Codigo_Produto,Estoque!A697,[0]!quantidade_adquirida)-SUMIF([0]!cod_saida,Estoque!A697,quantidade_comprada)","v":0}]
[null,null,null,null,null,{"$f":"SUMIF(Codigo_Produto,Estoque!A698,[0]!quantidade_adquirida)-SUMIF([0]!cod_saida,Estoque!A698,quantidade_comprada)","v":0}]
[null,null,null,null,null,{"$f":"SUMIF(Codigo_Produto,Estoque!A699,[0]!quantidade_adquirida)-SUMIF([0]!cod_saida,Estoque!A699,quantidade_comprada)","v":0}]
[null,null,null,null,null,{"$f":"SUMIF(Codigo_Produto,Estoque!A700,[0]!quantidade_adquirida)-SUMIF([0]!cod_saida,Estoque!A700,quantidade_comprada)","v":0}]
[null,null,null,null,null,{"$f":"SUMIF(Codigo_Produto,Estoque!A701,[0]!quantidade_adquirida)-SUMIF([0]!cod_saida,Estoque!A701,quantidade_comprada)","v":0}]
[null,null,null,null,null,{"$f":"SUMIF(Codigo_Produto,Estoque!A702,[0]!quantidade_adquirida)-SUMIF([0]!cod_saida,Estoque!A702,quantidade_comprada)","v":0}]
[null,null,null,null,null,{"$f":"SUMIF(Codigo_Produto,Estoque!A703,[0]!quantidade_adquirida)-SUMIF([0]!cod_saida,Estoque!A703,quantidade_comprada)","v":0}]
[null,null,null,null,null,{"$f":"SUMIF(Codigo_Produto,Estoque!A704,[0]!quantidade_adquirida)-SUMIF([0]!cod_saida,Estoque!A704,quantidade_comprada)","v":0}]
[null,null,null,null,null,{"$f":"SUMIF(Codigo_Produto,Estoque!A705,[0]!quantidade_adquirida)-SUMIF([0]!cod_saida,Estoque!A705,quantidade_comprada)","v":0}]
[null,null,null,null,null,{"$f":"SUMIF(Codigo_Produto,Estoque!A706,[0]!quantidade_adquirida)-SUMIF([0]!cod_saida,Estoque!A706,quantidade_comprada)","v":0}]
[null,null,null,null,null,{"$f":"SUMIF(Codigo_Produto,Estoque!A707,[0]!quantidade_adquirida)-SUMIF([0]!cod_saida,Estoque!A707,quantidade_comprada)","v":0}]
[null,null,null,null,null,{"$f":"SUMIF(Codigo_Produto,Estoque!A708,[0]!quantidade_adquirida)-SUMIF([0]!cod_saida,Estoque!A708,quantidade_comprada)","v":0}]
[null,null,null,null,null,{"$f":"SUMIF(Codigo_Produto,Estoque!A709,[0]!quantidade_adquirida)-SUMIF([0]!cod_saida,Estoque!A709,quantidade_comprada)","v":0}]
[null,null,null,null,null,{"$f":"SUMIF(Codigo_Produto,Estoque!A710,[0]!quantidade_adquirida)-SUMIF([0]!cod_saida,Estoque!A710,quantidade_comprada)","v":0}]
[null,null,null,null,null,{"$f":"SUMIF(Codigo_Produto,Estoque!A711,[0]!quantidade_adquirida)-SUMIF([0]!cod_saida,Estoque!A711,quantidade_comprada)","v":0}]
[null,null,null,null,null,{"$f":"SUMIF(Codigo_Produto,Estoque!A712,[0]!quantidade_adquirida)-SUMIF([0]!cod_saida,Estoque!A712,quantidade_comprada)","v":0}]
[null,null,null,null,null,{"$f":"SUMIF(Codigo_Produto,Estoque!A713,[0]!quantidade_adquirida)-SUMIF([0]!cod_saida,Estoque!A713,quantidade_comprada)","v":0}]
[null,null,null,null,null,{"$f":"SUMIF(Codigo_Produto,Estoque!A714,[0]!quantidade_adquirida)-SUMIF([0]!cod_saida,Estoque!A714,quantidade_comprada)","v":0}]
[null,null,null,null,null,{"$f":"SUMIF(Codigo_Produto,Estoque!A715,[0]!quantidade_adquirida)-SUMIF([0]!cod_saida,Estoque!A715,quantidade_comprada)","v":0}]
[null,null,null,null,null,{"$f":"SUMIF(Codigo_Produto,Estoque!A716,[0]!quantidade_adquirida)-SUMIF([0]!cod_saida,Estoque!A716,quantidade_comprada)","v":0}]
[null,null,null,null,null,{"$f":"SUMIF(Codigo_Produto,Estoque!A717,[0]!quantidade_adquirida)-SUMIF([0]!cod_saida,Estoque!A717,quantidade_comprada)","v":0}]
[null,null,null,null,null,{"$f":"SUMIF(Codigo_Produto,Estoque!A718,[0]!quantidade_adquirida)-SUMIF([0]!cod_saida,Estoque!A718,quantidade_comprada)","v":0}]
[null,null,null,null,null,{"$f":"SUMIF(Codigo_Produto,Estoque!A719,[0]!quantidade_adquirida)-SUMIF([0]!cod_saida,Estoque!A719,quantidade_comprada)","v":0}]
[null,null,null,null,null,{"$f":"SUMIF(Codigo_Produto,Estoque!A720,[0]!quantidade_adquirida)-SUMIF([0]!cod_saida,Estoque!A720,quantidade_comprada)","v":0}]
[null,null,null,null,null,{"$f":"SUMIF(Codigo_Produto,Estoque!A721,[0]!quantidade_adquirida)-SUMIF([0]!cod_saida,Estoque!A721,quantidade_comprada)","v":0}]
[null,null,null,null,null,{"$f":"SUMIF(Codigo_Produto,Estoque!A722,[0]!quantidade_adquirida)-SUMIF([0]!cod_saida,Estoque!A722,quantidade_comprada)","v":0}]
[null,null,null,null,null,{"$f":"SUMIF(Codigo_Produto,Estoque!A723,[0]!quantidade_adquirida)-SUMIF([0]!cod_saida,Estoque!A723,quantidade_comprada)","v":0}]
[null,null,null,null,null,{"$f":"SUMIF(Codigo_Produto,Estoque!A724,[0]!quantidade_adquirida)-SUMIF([0]!cod_saida,Estoque!A724,quantidade_comprada)","v":0}]
[null,null,null,null,null,{"$f":"SUMIF(Codigo_Produto,Estoque!A725,[0]!quantidade_adquirida)-SUMIF([0]!cod_saida,Estoque!A725,quantidade_comprada)","v":0}]
[null,null,null,null,null,{"$f":"SUMIF(Codigo_Produto,Estoque!A726,[0]!quantidade_adquirida)-SUMIF([0]!cod_saida,Estoque!A726,quantidade_comprada)","v":0}]
[null,null,null,null,null,{"$f":"SUMIF(Codigo_Produto,Estoque!A727,[0]!quantidade_adquirida)-SUMIF([0]!cod_saida,Estoque!A727,quantidade_comprada)","v":0}]
[null,null,null,null,null,{"$f":"SUMIF(Codigo_Produto,Estoque!A728,[0]!quantidade_adquirida)-SUMIF([0]!cod_saida,Estoque!A728,quantidade_comprada)","v":0}]
[null,null,null,null,null,{"$f":"SUMIF(Codigo_Produto,Estoque!A729,[0]!quantidade_adquirida)-SUMIF([0]!cod_saida,Estoque!A729,quantidade_comprada)","v":0}]
[null,null,null,null,null,{"$f":"SUMIF(Codigo_Produto,Estoque!A730,[0]!quantidade_adquirida)-SUMIF([0]!cod_saida,Estoque!A730,quantidade_comprada)","v":0}]
[null,null,null,null,null,{"$f":"SUMIF(Codigo_Produto,Estoque!A731,[0]!quantidade_adquirida)-SUMIF([0]!cod_saida,Estoque!A731,quantidade_comprada)","v":0}]
[null,null,null,null,null,{"$f":"SUMIF(Codigo_Produto,Estoque!A732,[0]!quantidade_adquirida)-SUMIF([0]!cod_saida,Estoque!A732,quantidade_comprada)","v":0}]
[null,null,null,null,null,{"$f":"SUMIF(Codigo_Produto,Estoque!A733,[0]!quantidade_adquirida)-SUMIF([0]!cod_saida,Estoque!A733,quantidade_comprada)","v":0}]
[null,null,null,null,null,{"$f":"SUMIF(Codigo_Produto,Estoque!A734,[0]!quantidade_adquirida)-SUMIF([0]!cod_saida,Estoque!A734,quantidade_comprada)","v":0}]
[null,null,null,null,null,{"$f":"SUMIF(Codigo_Produto,Estoque!A735,[0]!quantidade_adquirida)-SUMIF([0]!cod_saida,Estoque!A735,quantidade_comprada)","v":0}]
[null,null,null,null,null,{"$f":"SUMIF(Codigo_Produto,Estoque!A736,[0]!quantidade_adquirida)-SUMIF([0]!cod_saida,Estoque!A736,quantidade_comprada)","v":0}]
[null,null,null,null,null,{"$f":"SUMIF(Codigo_Produto,Estoque!A737,[0]!quantidade_adquirida)-SUMIF([0]!cod_saida,Estoque!A737,quantidade_comprada)","v":0}]
[null,null,null,null,null,{"$f":"SUMIF(Codigo_Produto,Estoque!A738,[0]!quantidade_adquirida)-SUMIF([0]!cod_saida,Estoque!A738,quantidade_comprada)","v":0}]
[null,null,null,null,null,{"$f":"SUMIF(Codigo_Produto,Estoque!A739,[0]!quantidade_adquirida)-SUMIF([0]!cod_saida,Estoque!A739,quantidade_comprada)","v":0}]
[null,null,null,null,null,{"$f":"SUMIF(Codigo_Produto,Estoque!A740,[0]!quantidade_adquirida)-SUMIF([0]!cod_saida,Estoque!A740,quantidade_comprada)","v":0}]
[null,null,null,null,null,{"$f":"SUMIF(Codigo_Produto,Estoque!A741,[0]!quantidade_adquirida)-SUMIF([0]!cod_saida,Estoque!A741,quantidade_comprada)","v":0}]
[null,null,null,null,null,{"$f":"SUMIF(Codigo_Produto,Estoque!A742,[0]!quantidade_adquirida)-SUMIF([0]!cod_saida,Estoque!A742,quantidade_comprada)","v":0}]
[null,null,null,null,null,{"$f":"SUMIF(Codigo_Produto,Estoque!A743,[0]!quantidade_adquirida)-SUMIF([0]!cod_saida,Estoque!A743,quantidade_comprada)","v":0}]
[null,null,null,null,null,{"$f":"SUMIF(Codigo_Produto,Estoque!A744,[0]!quantidade_adquirida)-SUMIF([0]!cod_saida,Estoque!A744,quantidade_comprada)","v":0}]
[null,null,null,null,null,{"$f":"SUMIF(Codigo_Produto,Estoque!A745,[0]!quantidade_adquirida)-SUMIF([0]!cod_saida,Estoque!A745,quantidade_comprada)","v":0}]
[null,null,null,null,null,{"$f":"SUMIF(Codigo_Produto,Estoque!A746,[0]!quantidade_adquirida)-SUMIF([0]!cod_saida,Estoque!A746,quantidade_comprada)","v":0}]
[null,null,null,null,null,{"$f":"SUMIF(Codigo_Produto,Estoque!A747,[0]!quantidade_adquirida)-SUMIF([0]!cod_saida,Estoque!A747,quantidade_comprada)","v":0}]
[null,null,null,null,null,{"$f":"SUMIF(Codigo_Produto,Estoque!A748,[0]!quantidade_adquirida)-SUMIF([0]!cod_saida,Estoque!A748,quantidade_comprada)","v":0}]
[null,null,null,null,null,{"$f":"SUMIF(Codigo_Produto,Estoque!A749,[0]!quantidade_adquirida)-SUMIF([0]!cod_saida,Estoque!A749,quantidade_comprada)","v":0}]
[null,null,null,null,null,{"$f":"SUMIF(Codigo_Produto,Estoque!A750,[0]!quantidade_adquirida)-SUMIF([0]!cod_saida,Estoque!A750,quantidade_comprada)","v":0}]
[null,null,null,null,null,{"$f":"SUMIF(Codigo_Produto,Estoque!A751,[0]!quantidade_adquirida)-SUMIF([0]!cod_saida,Estoque!A751,quantidade_comprada)","v":0}]
[null,null,null,null,null,{"$f":"SUMIF(Codigo_Produto,Estoque!A752,[0]!quantidade_adquirida)-SUMIF([0]!cod_saida,Estoque!A752,quantidade_comprada)","v":0}]
[null,null,null,null,null,{"$f":"SUMIF(Codigo_Produto,Estoque!A753,[0]!quantidade_adquirida)-SUMIF([0]!cod_saida,Estoque!A753,quantidade_comprada)","v":0}]
[null,null,null,null,null,{"$f":"SUMIF(Codigo_Produto,Estoque!A754,[0]!quantidade_adquirida)-SUMIF([0]!cod_saida,Estoque!A754,quantidade_comprada)","v":0}]
[null,null,null,null,null,{"$f":"SUMIF(Codigo_Produto,Estoque!A755,[0]!quantidade_adquirida)-SUMIF([0]!cod_saida,Estoque!A755,quantidade_comprada)","v":0}]
[null,null,null,null,null,{"$f":"SUMIF(Codigo_Produto,Estoque!A756,[0]!quantidade_adquirida)-SUMIF([0]!cod_saida,Estoque!A756,quantidade_comprada)","v":0}]
[null,null,null,null,null,{"$f":"SUMIF(Codigo_Produto,Estoque!A757,[0]!quantidade_adquirida)-SUMIF([0]!cod_saida,Estoque!A757,quantidade_comprada)","v":0}]
[null,null,null,null,null,{"$f":"SUMIF(Codigo_Produto,Estoque!A758,[0]!quantidade_adquirida)-SUMIF([0]!cod_saida,Estoque!A758,quantidade_comprada)","v":0}]
[null,null,null,null,null,{"$f":"SUMIF(Codigo_Produto,Estoque!A759,[0]!quantidade_adquirida)-SUMIF([0]!cod_saida,Estoque!A759,quantidade_comprada)","v":0}]
[null,null,null,null,null,{"$f":"SUMIF(Codigo_Produto,Estoque!A760,[0]!quantidade_adquirida)-SUMIF([0]!cod_saida,Estoque!A760,quantidade_comprada)","v":0}]
[null,null,null,null,null,{"$f":"SUMIF(Codigo_Produto,Estoque!A761,[0]!quantidade_adquirida)-SUMIF([0]!cod_saida,Estoque!A761,quantidade_comprada)","v":0}]
[null,null,null,null,null,{"$f":"SUMIF(Codigo_Produto,Estoque!A762,[0]!quantidade_adquirida)-SUMIF([0]!cod_saida,Estoque!A762,quantidade_comprada)","v":0}]
[null,null,null,null,null,{"$f":"SUMIF(Codigo_Produto,Estoque!A763,[0]!quantidade_adquirida)-SUMIF([0]!cod_saida,Estoque!A763,quantidade_comprada)","v":0}]
[null,null,null,null,null,{"$f":"SUMIF(Codigo_Produto,Estoque!A764,[0]!quantidade_adquirida)-SUMIF([0]!cod_saida,Estoque!A764,quantidade_comprada)","v":0}]
[null,null,null,null,null,{"$f":"SUMIF(Codigo_Produto,Estoque!A765,[0]!quantidade_adquirida)-SUMIF([0]!cod_saida,Estoque!A765,quantidade_comprada)","v":0}]
[null,null,null,null,null,{"$f":"SUMIF(Codigo_Produto,Estoque!A766,[0]!quantidade_adquirida)-SUMIF([0]!cod_saida,Estoque!A766,quantidade_comprada)","v":0}]
[null,null,null,null,null,{"$f":"SUMIF(Codigo_Produto,Estoque!A767,[0]!quantidade_adquirida)-SUMIF([0]!cod_saida,Estoque!A767,quantidade_comprada)","v":0}]
[null,null,null,null,null,{"$f":"SUMIF(Codigo_Produto,Estoque!A768,[0]!quantidade_adquirida)-SUMIF([0]!cod_saida,Estoque!A768,quantidade_comprada)","v":0}]
[null,null,null,null,null,{"$f":"SUMIF(Codigo_Produto,Estoque!A769,[0]!quantidade_adquirida)-SUMIF([0]!cod_saida,Estoque!A769,quantidade_comprada)","v":0}]
[null,null,null,null,null,{"$f":"SUMIF(Codigo_Produto,Estoque!A770,[0]!quantidade_adquirida)-SUMIF([0]!cod_saida,Estoque!A770,quantidade_comprada)","v":0}]
[null,null,null,null,null,{"$f":"SUMIF(Codigo_Produto,Estoque!A771,[0]!quantidade_adquirida)-SUMIF([0]!cod_saida,Estoque!A771,quantidade_comprada)","v":0}]
[null,null,null,null,null,{"$f":"SUMIF(Codigo_Produto,Estoque!A772,[0]!quantidade_adquirida)-SUMIF([0]!cod_saida,Estoque!A772,quantidade_comprada)","v":0}]
[null,null,null,null,null,{"$f":"SUMIF(Codigo_Produto,Estoque!A773,[0]!quantidade_adquirida)-SUMIF([0]!cod_saida,Estoque!A773,quantidade_comprada)","v":0}]
[null,null,null,null,null,{"$f":"SUMIF(Codigo_Produto,Estoque!A774,[0]!quantidade_adquirida)-SUMIF([0]!cod_saida,Estoque!A774,quantidade_comprada)","v":0}]
[null,null,null,null,null,{"$f":"SUMIF(Codigo_Produto,Estoque!A775,[0]!quantidade_adquirida)-SUMIF([0]!cod_saida,Estoque!A775,quantidade_comprada)","v":0}]
[null,null,null,null,null,{"$f":"SUMIF(Codigo_Produto,Estoque!A776,[0]!quantidade_adquirida)-SUMIF([0]!cod_saida,Estoque!A776,quantidade_comprada)","v":0}]
[null,null,null,null,null,{"$f":"SUMIF(Codigo_Produto,Estoque!A777,[0]!quantidade_adquirida)-SUMIF([0]!cod_saida,Estoque!A777,quantidade_comprada)","v":0}]
[null,null,null,null,null,{"$f":"SUMIF(Codigo_Produto,Estoque!A778,[0]!quantidade_adquirida)-SUMIF([0]!cod_saida,Estoque!A778,quantidade_comprada)","v":0}]
[null,null,null,null,null,{"$f":"SUMIF(Codigo_Produto,Estoque!A779,[0]!quantidade_adquirida)-SUMIF([0]!cod_saida,Estoque!A779,quantidade_comprada)","v":0}]
[null,null,null,null,null,{"$f":"SUMIF(Codigo_Produto,Estoque!A780,[0]!quantidade_adquirida)-SUMIF([0]!cod_saida,Estoque!A780,quantidade_comprada)","v":0}]
[null,null,null,null,null,{"$f":"SUMIF(Codigo_Produto,Estoque!A781,[0]!quantidade_adquirida)-SUMIF([0]!cod_saida,Estoque!A781,quantidade_comprada)","v":0}]
[null,null,null,null,null,{"$f":"SUMIF(Codigo_Produto,Estoque!A782,[0]!quantidade_adquirida)-SUMIF([0]!cod_saida,Estoque!A782,quantidade_comprada)","v":0}]
[null,null,null,null,null,{"$f":"SUMIF(Codigo_Produto,Estoque!A783,[0]!quantidade_adquirida)-SUMIF([0]!cod_saida,Estoque!A783,quantidade_comprada)","v":0}]
[null,null,null,null,null,{"$f":"SUMIF(Codigo_Produto,Estoque!A784,[0]!quantidade_adquirida)-SUMIF([0]!cod_saida,Estoque!A784,quantidade_comprada)","v":0}]
[null,null,null,null,null,{"$f":"SUMIF(Codigo_Produto,Estoque!A785,[0]!quantidade_adquirida)-SUMIF([0]!cod_saida,Estoque!A785,quantidade_comprada)","v":0}]
[null,null,null,null,null,{"$f":"SUMIF(Codigo_Produto,Estoque!A786,[0]!quantidade_adquirida)-SUMIF([0]!cod_saida,Estoque!A786,quantidade_comprada)","v":0}]
[null,null,null,null,null,{"$f":"SUMIF(Codigo_Produto,Estoque!A787,[0]!quantidade_adquirida)-SUMIF([0]!cod_saida,Estoque!A787,quantidade_comprada)","v":0}]
[null,null,null,null,null,{"$f":"SUMIF(Codigo_Produto,Estoque!A788,[0]!quantidade_adquirida)-SUMIF([0]!cod_saida,Estoque!A788,quantidade_comprada)","v":0}]
[null,null,null,null,null,{"$f":"SUMIF(Codigo_Produto,Estoque!A789,[0]!quantidade_adquirida)-SUMIF([0]!cod_saida,Estoque!A789,quantidade_comprada)","v":0}]
[null,null,null,null,null,{"$f":"SUMIF(Codigo_Produto,Estoque!A790,[0]!quantidade_adquirida)-SUMIF([0]!cod_saida,Estoque!A790,quantidade_comprada)","v":0}]
[null,null,null,null,null,{"$f":"SUMIF(Codigo_Produto,Estoque!A791,[0]!quantidade_adquirida)-SUMIF([0]!cod_saida,Estoque!A791,quantidade_comprada)","v":0}]
[null,null,null,null,null,{"$f":"SUMIF(Codigo_Produto,Estoque!A792,[0]!quantidade_adquirida)-SUMIF([0]!cod_saida,Estoque!A792,quantidade_comprada)","v":0}]
[null,null,null,null,null,{"$f":"SUMIF(Codigo_Produto,Estoque!A793,[0]!quantidade_adquirida)-SUMIF([0]!cod_saida,Estoque!A793,quantidade_comprada)","v":0}]
[null,null,null,null,null,{"$f":"SUMIF(Codigo_Produto,Estoque!A794,[0]!quantidade_adquirida)-SUMIF([0]!cod_saida,Estoque!A794,quantidade_comprada)","v":0}]
[null,null,null,null,null,{"$f":"SUMIF(Codigo_Produto,Estoque!A795,[0]!quantidade_adquirida)-SUMIF([0]!cod_saida,Estoque!A795,quantidade_comprada)","v":0}]
[null,null,null,null,null,{"$f":"SUMIF(Codigo_Produto,Estoque!A796,[0]!quantidade_adquirida)-SUMIF([0]!cod_saida,Estoque!A796,quantidade_comprada)","v":0}]
[null,null,null,null,null,{"$f":"SUMIF(Codigo_Produto,Estoque!A797,[0]!quantidade_adquirida)-SUMIF([0]!cod_saida,Estoque!A797,quantidade_comprada)","v":0}]
[null,null,null,null,null,{"$f":"SUMIF(Codigo_Produto,Estoque!A798,[0]!quantidade_adquirida)-SUMIF([0]!cod_saida,Estoque!A798,quantidade_comprada)","v":0}]
[null,null,null,null,null,{"$f":"SUMIF(Codigo_Produto,Estoque!A799,[0]!quantidade_adquirida)-SUMIF([0]!cod_saida,Estoque!A799,quantidade_comprada)","v":0}]
[null,null,null,null,null,{"$f":"SUMIF(Codigo_Produto,Estoque!A800,[0]!quantidade_adquirida)-SUMIF([0]!cod_saida,Estoque!A800,quantidade_comprada)","v":0}]
[null,null,null,null,null,{"$f":"SUMIF(Codigo_Produto,Estoque!A801,[0]!quantidade_adquirida)-SUMIF([0]!cod_saida,Estoque!A801,quantidade_comprada)","v":0}]
[null,null,null,null,null,{"$f":"SUMIF(Codigo_Produto,Estoque!A802,[0]!quantidade_adquirida)-SUMIF([0]!cod_saida,Estoque!A802,quantidade_comprada)","v":0}]
[null,null,null,null,null,{"$f":"SUMIF(Codigo_Produto,Estoque!A803,[0]!quantidade_adquirida)-SUMIF([0]!cod_saida,Estoque!A803,quantidade_comprada)","v":0}]
[null,null,null,null,null,{"$f":"SUMIF(Codigo_Produto,Estoque!A804,[0]!quantidade_adquirida)-SUMIF([0]!cod_saida,Estoque!A804,quantidade_comprada)","v":0}]
[null,null,null,null,null,{"$f":"SUMIF(Codigo_Produto,Estoque!A805,[0]!quantidade_adquirida)-SUMIF([0]!cod_saida,Estoque!A805,quantidade_comprada)","v":0}]
[null,null,null,null,null,{"$f":"SUMIF(Codigo_Produto,Estoque!A806,[0]!quantidade_adquirida)-SUMIF([0]!cod_saida,Estoque!A806,quantidade_comprada)","v":0}]
[null,null,null,null,null,{"$f":"SUMIF(Codigo_Produto,Estoque!A807,[0]!quantidade_adquirida)-SUMIF([0]!cod_saida,Estoque!A807,quantidade_comprada)","v":0}]
[null,null,null,null,null,{"$f":"SUMIF(Codigo_Produto,Estoque!A808,[0]!quantidade_adquirida)-SUMIF([0]!cod_saida,Estoque!A808,quantidade_comprada)","v":0}]
[null,null,null,null,null,{"$f":"SUMIF(Codigo_Produto,Estoque!A809,[0]!quantidade_adquirida)-SUMIF([0]!cod_saida,Estoque!A809,quantidade_comprada)","v":0}]
[null,null,null,null,null,{"$f":"SUMIF(Codigo_Produto,Estoque!A810,[0]!quantidade_adquirida)-SUMIF([0]!cod_saida,Estoque!A810,quantidade_comprada)","v":0}]
[null,null,null,null,null,{"$f":"SUMIF(Codigo_Produto,Estoque!A811,[0]!quantidade_adquirida)-SUMIF([0]!cod_saida,Estoque!A811,quantidade_comprada)","v":0}]
[null,null,null,null,null,{"$f":"SUMIF(Codigo_Produto,Estoque!A812,[0]!quantidade_adquirida)-SUMIF([0]!cod_saida,Estoque!A812,quantidade_comprada)","v":0}]
[null,null,null,null,null,{"$f":"SUMIF(Codigo_Produto,Estoque!A813,[0]!quantidade_adquirida)-SUMIF([0]!cod_saida,Estoque!A813,quantidade_comprada)","v":0}]
[null,null,null,null,null,{"$f":"SUMIF(Codigo_Produto,Estoque!A814,[0]!quantidade_adquirida)-SUMIF([0]!cod_saida,Estoque!A814,quantidade_comprada)","v":0}]
[null,null,null,null,null,{"$f":"SUMIF(Codigo_Produto,Estoque!A815,[0]!quantidade_adquirida)-SUMIF([0]!cod_saida,Estoque!A815,quantidade_comprada)","v":0}]
[null,null,null,null,null,{"$f":"SUMIF(Codigo_Produto,Estoque!A816,[0]!quantidade_adquirida)-SUMIF([0]!cod_saida,Estoque!A816,quantidade_comprada)","v":0}]
[null,null,null,null,null,{"$f":"SUMIF(Codigo_Produto,Estoque!A817,[0]!quantidade_adquirida)-SUMIF([0]!cod_saida,Estoque!A817,quantidade_comprada)","v":0}]
[null,null,null,null,null,{"$f":"SUMIF(Codigo_Produto,Estoque!A818,[0]!quantidade_adquirida)-SUMIF([0]!cod_saida,Estoque!A818,quantidade_comprada)","v":0}]
[null,null,null,null,null,{"$f":"SUMIF(Codigo_Produto,Estoque!A819,[0]!quantidade_adquirida)-SUMIF([0]!cod_saida,Estoque!A819,quantidade_comprada)","v":0}]
[null,null,null,null,null,{"$f":"SUMIF(Codigo_Produto,Estoque!A820,[0]!quantidade_adquirida)-SUMIF([0]!cod_saida,Estoque!A820,quantidade_comprada)","v":0}]
[null,null,null,null,null,{"$f":"SUMIF(Codigo_Produto,Estoque!A821,[0]!quantidade_adquirida)-SUMIF([0]!cod_saida,Estoque!A821,quantidade_comprada)","v":0}]
[null,null,null,null,null,{"$f":"SUMIF(Codigo_Produto,Estoque!A822,[0]!quantidade_adquirida)-SUMIF([0]!cod_saida,Estoque!A822,quantidade_comprada)","v":0}]
[null,null,null,null,null,{"$f":"SUMIF(Codigo_Produto,Estoque!A823,[0]!quantidade_adquirida)-SUMIF([0]!cod_saida,Estoque!A823,quantidade_comprada)","v":0}]
[null,null,null,null,null,{"$f":"SUMIF(Codigo_Produto,Estoque!A824,[0]!quantidade_adquirida)-SUMIF([0]!cod_saida,Estoque!A824,quantidade_comprada)","v":0}]
[null,null,null,null,null,{"$f":"SUMIF(Codigo_Produto,Estoque!A825,[0]!quantidade_adquirida)-SUMIF([0]!cod_saida,Estoque!A825,quantidade_comprada)","v":0}]
[null,null,null,null,null,{"$f":"SUMIF(Codigo_Produto,Estoque!A826,[0]!quantidade_adquirida)-SUMIF([0]!cod_saida,Estoque!A826,quantidade_comprada)","v":0}]
[null,null,null,null,null,{"$f":"SUMIF(Codigo_Produto,Estoque!A827,[0]!quantidade_adquirida)-SUMIF([0]!cod_saida,Estoque!A827,quantidade_comprada)","v":0}]
[null,null,null,null,null,{"$f":"SUMIF(Codigo_Produto,Estoque!A828,[0]!quantidade_adquirida)-SUMIF([0]!cod_saida,Estoque!A828,quantidade_comprada)","v":0}]
[null,null,null,null,null,{"$f":"SUMIF(Codigo_Produto,Estoque!A829,[0]!quantidade_adquirida)-SUMIF([0]!cod_saida,Estoque!A829,quantidade_comprada)","v":0}]
[null,null,null,null,null,{"$f":"SUMIF(Codigo_Produto,Estoque!A830,[0]!quantidade_adquirida)-SUMIF([0]!cod_saida,Estoque!A830,quantidade_comprada)","v":0}]
[null,null,null,null,null,{"$f":"SUMIF(Codigo_Produto,Estoque!A831,[0]!quantidade_adquirida)-SUMIF([0]!cod_saida,Estoque!A831,quantidade_comprada)","v":0}]
[null,null,null,null,null,{"$f":"SUMIF(Codigo_Produto,Estoque!A832,[0]!quantidade_adquirida)-SUMIF([0]!cod_saida,Estoque!A832,quantidade_comprada)","v":0}]
[null,null,null,null,null,{"$f":"SUMIF(Codigo_Produto,Estoque!A833,[0]!quantidade_adquirida)-SUMIF([0]!cod_saida,Estoque!A833,quantidade_comprada)","v":0}]
[null,null,null,null,null,{"$f":"SUMIF(Codigo_Produto,Estoque!A834,[0]!quantidade_adquirida)-SUMIF([0]!cod_saida,Estoque!A834,quantidade_comprada)","v":0}]
[null,null,null,null,null,{"$f":"SUMIF(Codigo_Produto,Estoque!A835,[0]!quantidade_adquirida)-SUMIF([0]!cod_saida,Estoque!A835,quantidade_comprada)","v":0}]
[null,null,null,null,null,{"$f":"SUMIF(Codigo_Produto,Estoque!A836,[0]!quantidade_adquirida)-SUMIF([0]!cod_saida,Estoque!A836,quantidade_comprada)","v":0}]
[null,null,null,null,null,{"$f":"SUMIF(Codigo_Produto,Estoque!A837,[0]!quantidade_adquirida)-SUMIF([0]!cod_saida,Estoque!A837,quantidade_comprada)","v":0}]
[null,null,null,null,null,{"$f":"SUMIF(Codigo_Produto,Estoque!A838,[0]!quantidade_adquirida)-SUMIF([0]!cod_saida,Estoque!A838,quantidade_comprada)","v":0}]
[null,null,null,null,null,{"$f":"SUMIF(Codigo_Produto,Estoque!A839,[0]!quantidade_adquirida)-SUMIF([0]!cod_saida,Estoque!A839,quantidade_comprada)","v":0}]
[null,null,null,null,null,{"$f":"SUMIF(Codigo_Produto,Estoque!A840,[0]!quantidade_adquirida)-SUMIF([0]!cod_saida,Estoque!A840,quantidade_comprada)","v":0}]
[null,null,null,null,null,{"$f":"SUMIF(Codigo_Produto,Estoque!A841,[0]!quantidade_adquirida)-SUMIF([0]!cod_saida,Estoque!A841,quantidade_comprada)","v":0}]
[null,null,null,null,null,{"$f":"SUMIF(Codigo_Produto,Estoque!A842,[0]!quantidade_adquirida)-SUMIF([0]!cod_saida,Estoque!A842,quantidade_comprada)","v":0}]
[null,null,null,null,null,{"$f":"SUMIF(Codigo_Produto,Estoque!A843,[0]!quantidade_adquirida)-SUMIF([0]!cod_saida,Estoque!A843,quantidade_comprada)","v":0}]
[null,null,null,null,null,{"$f":"SUMIF(Codigo_Produto,Estoque!A844,[0]!quantidade_adquirida)-SUMIF([0]!cod_saida,Estoque!A844,quantidade_comprada)","v":0}]
[null,null,null,null,null,{"$f":"SUMIF(Codigo_Produto,Estoque!A845,[0]!quantidade_adquirida)-SUMIF([0]!cod_saida,Estoque!A845,quantidade_comprada)","v":0}]
[null,null,null,null,null,{"$f":"SUMIF(Codigo_Produto,Estoque!A846,[0]!quantidade_adquirida)-SUMIF([0]!cod_saida,Estoque!A846,quantidade_comprada)","v":0}]
[null,null,null,null,null,{"$f":"SUMIF(Codigo_Produto,Estoque!A847,[0]!quantidade_adquirida)-SUMIF([0]!cod_saida,Estoque!A847,quantidade_comprada)","v":0}]
[null,null,null,null,null,{"$f":"SUMIF(Codigo_Produto,Estoque!A848,[0]!quantidade_adquirida)-SUMIF([0]!cod_saida,Estoque!A848,quantidade_comprada)","v":0}]
[null,null,null,null,null,{"$f":"SUMIF(Codigo_Produto,Estoque!A849,[0]!quantidade_adquirida)-SUMIF([0]!cod_saida,Estoque!A849,quantidade_comprada)","v":0}]
[null,null,null,null,null,{"$f":"SUMIF(Codigo_Produto,Estoque!A850,[0]!quantidade_adquirida)-SUMIF([0]!cod_saida,Estoque!A850,quantidade_comprada)","v":0}]
[null,null,null,null,null,{"$f":"SUMIF(Codigo_Produto,Estoque!A851,[0]!quantidade_adquirida)-SUMIF([0]!cod_saida,Estoque!A851,quantidade_comprada)","v":0}]
[null,null,null,null,null,{"$f":"SUMIF(Codigo_Produto,Estoque!A852,[0]!quantidade_adquirida)-SUMIF([0]!cod_saida,Estoque!A852,quantidade_comprada)","v":0}]
[null,null,null,null,null,{"$f":"SUMIF(Codigo_Produto,Estoque!A853,[0]!quantidade_adquirida)-SUMIF([0]!cod_saida,Estoque!A853,quantidade_comprada)","v":0}]
[null,null,null,null,null,{"$f":"SUMIF(Codigo_Produto,Estoque!A854,[0]!quantidade_adquirida)-SUMIF([0]!cod_saida,Estoque!A854,quantidade_comprada)","v":0}]
[null,null,null,null,null,{"$f":"SUMIF(Codigo_Produto,Estoque!A855,[0]!quantidade_adquirida)-SUMIF([0]!cod_saida,Estoque!A855,quantidade_comprada)","v":0}]
[null,null,null,null,null,{"$f":"SUMIF(Codigo_Produto,Estoque!A856,[0]!quantidade_adquirida)-SUMIF([0]!cod_saida,Estoque!A856,quantidade_comprada)","v":0}]
[null,null,null,null,null,{"$f":"SUMIF(Codigo_Produto,Estoque!A857,[0]!quantidade_adquirida)-SUMIF([0]!cod_saida,Estoque!A857,quantidade_comprada)","v":0}]
[null,null,null,null,null,{"$f":"SUMIF(Codigo_Produto,Estoque!A858,[0]!quantidade_adquirida)-SUMIF([0]!cod_saida,Estoque!A858,quantidade_comprada)","v":0}]
[null,null,null,null,null,{"$f":"SUMIF(Codigo_Produto,Estoque!A859,[0]!quantidade_adquirida)-SUMIF([0]!cod_saida,Estoque!A859,quantidade_comprada)","v":0}]
[null,null,null,null,null,{"$f":"SUMIF(Codigo_Produto,Estoque!A860,[0]!quantidade_adquirida)-SUMIF([0]!cod_saida,Estoque!A860,quantidade_comprada)","v":0}]
[null,null,null,null,null,{"$f":"SUMIF(Codigo_Produto,Estoque!A861,[0]!quantidade_adquirida)-SUMIF([0]!cod_saida,Estoque!A861,quantidade_comprada)","v":0}]
[null,null,null,null,null,{"$f":"SUMIF(Codigo_Produto,Estoque!A862,[0]!quantidade_adquirida)-SUMIF([0]!cod_saida,Estoque!A862,quantidade_comprada)","v":0}]
[null,null,null,null,null,{"$f":"SUMIF(Codigo_Produto,Estoque!A863,[0]!quantidade_adquirida)-SUMIF([0]!cod_saida,Estoque!A863,quantidade_comprada)","v":0}]
[null,null,null,null,null,{"$f":"SUMIF(Codigo_Produto,Estoque!A864,[0]!quantidade_adquirida)-SUMIF([0]!cod_saida,Estoque!A864,quantidade_comprada)","v":0}]
[null,null,null,null,null,{"$f":"SUMIF(Codigo_Produto,Estoque!A865,[0]!quantidade_adquirida)-SUMIF([0]!cod_saida,Estoque!A865,quantidade_comprada)","v":0}]
[null,null,null,null,null,{"$f":"SUMIF(Codigo_Produto,Estoque!A866,[0]!quantidade_adquirida)-SUMIF([0]!cod_saida,Estoque!A866,quantidade_comprada)","v":0}]
[null,null,null,null,null,{"$f":"SUMIF(Codigo_Produto,Estoque!A867,[0]!quantidade_adquirida)-SUMIF([0]!cod_saida,Estoque!A867,quantidade_comprada)","v":0}]
[null,null,null,null,null,{"$f":"SUMIF(Codigo_Produto,Estoque!A868,[0]!quantidade_adquirida)-SUMIF([0]!cod_saida,Estoque!A868,quantidade_comprada)","v":0}]
[null,null,null,null,null,{"$f":"SUMIF(Codigo_Produto,Estoque!A869,[0]!quantidade_adquirida)-SUMIF([0]!cod_saida,Estoque!A869,quantidade_comprada)","v":0}]
[null,null,null,null,null,{"$f":"SUMIF(Codigo_Produto,Estoque!A870,[0]!quantidade_adquirida)-SUMIF([0]!cod_saida,Estoque!A870,quantidade_comprada)","v":0}]
[null,null,null,null,null,{"$f":"SUMIF(Codigo_Produto,Estoque!A871,[0]!quantidade_adquirida)-SUMIF([0]!cod_saida,Estoque!A871,quantidade_comprada)","v":0}]
[null,null,null,null,null,{"$f":"SUMIF(Codigo_Produto,Estoque!A872,[0]!quantidade_adquirida)-SUMIF([0]!cod_saida,Estoque!A872,quantidade_comprada)","v":0}]
[null,null,null,null,null,{"$f":"SUMIF(Codigo_Produto,Estoque!A873,[0]!quantidade_adquirida)-SUMIF([0]!cod_saida,Estoque!A873,quantidade_comprada)","v":0}]
[null,null,null,null,null,{"$f":"SUMIF(Codigo_Produto,Estoque!A874,[0]!quantidade_adquirida)-SUMIF([0]!cod_saida,Estoque!A874,quantidade_comprada)","v":0}]
[null,null,null,null,null,{"$f":"SUMIF(Codigo_Produto,Estoque!A875,[0]!quantidade_adquirida)-SUMIF([0]!cod_saida,Estoque!A875,quantidade_comprada)","v":0}]
[null,null,null,null,null,{"$f":"SUMIF(Codigo_Produto,Estoque!A876,[0]!quantidade_adquirida)-SUMIF([0]!cod_saida,Estoque!A876,quantidade_comprada)","v":0}]
[null,null,null,null,null,{"$f":"SUMIF(Codigo_Produto,Estoque!A877,[0]!quantidade_adquirida)-SUMIF([0]!cod_saida,Estoque!A877,quantidade_comprada)","v":0}]
[null,null,null,null,null,{"$f":"SUMIF(Codigo_Produto,Estoque!A878,[0]!quantidade_adquirida)-SUMIF([0]!cod_saida,Estoque!A878,quantidade_comprada)","v":0}]
[null,null,null,null,null,{"$f":"SUMIF(Codigo_Produto,Estoque!A879,[0]!quantidade_adquirida)-SUMIF([0]!cod_saida,Estoque!A879,quantidade_comprada)","v":0}]
[null,null,null,null,null,{"$f":"SUMIF(Codigo_Produto,Estoque!A880,[0]!quantidade_adquirida)-SUMIF([0]!cod_saida,Estoque!A880,quantidade_comprada)","v":0}]
[null,null,null,null,null,{"$f":"SUMIF(Codigo_Produto,Estoque!A881,[0]!quantidade_adquirida)-SUMIF([0]!cod_saida,Estoque!A881,quantidade_comprada)","v":0}]
[null,null,null,null,null,{"$f":"SUMIF(Codigo_Produto,Estoque!A882,[0]!quantidade_adquirida)-SUMIF([0]!cod_saida,Estoque!A882,quantidade_comprada)","v":0}]
[null,null,null,null,null,{"$f":"SUMIF(Codigo_Produto,Estoque!A883,[0]!quantidade_adquirida)-SUMIF([0]!cod_saida,Estoque!A883,quantidade_comprada)","v":0}]
[null,null,null,null,null,{"$f":"SUMIF(Codigo_Produto,Estoque!A884,[0]!quantidade_adquirida)-SUMIF([0]!cod_saida,Estoque!A884,quantidade_comprada)","v":0}]
[null,null,null,null,null,{"$f":"SUMIF(Codigo_Produto,Estoque!A885,[0]!quantidade_adquirida)-SUMIF([0]!cod_saida,Estoque!A885,quantidade_comprada)","v":0}]
[null,null,null,null,null,{"$f":"SUMIF(Codigo_Produto,Estoque!A886,[0]!quantidade_adquirida)-SUMIF([0]!cod_saida,Estoque!A886,quantidade_comprada)","v":0}]
[null,null,null,null,null,{"$f":"SUMIF(Codigo_Produto,Estoque!A887,[0]!quantidade_adquirida)-SUMIF([0]!cod_saida,Estoque!A887,quantidade_comprada)","v":0}]
[null,null,null,null,null,{"$f":"SUMIF(Codigo_Produto,Estoque!A888,[0]!quantidade_adquirida)-SUMIF([0]!cod_saida,Estoque!A888,quantidade_comprada)","v":0}]
[null,null,null,null,null,{"$f":"SUMIF(Codigo_Produto,Estoque!A889,[0]!quantidade_adquirida)-SUMIF([0]!cod_saida,Estoque!A889,quantidade_comprada)","v":0}]
[null,null,null,null,null,{"$f":"SUMIF(Codigo_Produto,Estoque!A890,[0]!quantidade_adquirida)-SUMIF([0]!cod_saida,Estoque!A890,quantidade_comprada)","v":0}]
[null,null,null,null,null,{"$f":"SUMIF(Codigo_Produto,Estoque!A891,[0]!quantidade_adquirida)-SUMIF([0]!cod_saida,Estoque!A891,quantidade_comprada)","v":0}]
[null,null,null,null,null,{"$f":"SUMIF(Codigo_Produto,Estoque!A892,[0]!quantidade_adquirida)-SUMIF([0]!cod_saida,Estoque!A892,quantidade_comprada)","v":0}]
[null,null,null,null,null,{"$f":"SUMIF(Codigo_Produto,Estoque!A893,[0]!quantidade_adquirida)-SUMIF([0]!cod_saida,Estoque!A893,quantidade_comprada)","v":0}]
[null,null,null,null,null,{"$f":"SUMIF(Codigo_Produto,Estoque!A894,[0]!quantidade_adquirida)-SUMIF([0]!cod_saida,Estoque!A894,quantidade_comprada)","v":0}]
[null,null,null,null,null,{"$f":"SUMIF(Codigo_Produto,Estoque!A895,[0]!quantidade_adquirida)-SUMIF([0]!cod_saida,Estoque!A895,quantidade_comprada)","v":0}]
[null,null,null,null,null,{"$f":"SUMIF(Codigo_Produto,Estoque!A896,[0]!quantidade_adquirida)-SUMIF([0]!cod_saida,Estoque!A896,quantidade_comprada)","v":0}]
[null,null,null,null,null,{"$f":"SUMIF(Codigo_Produto,Estoque!A897,[0]!quantidade_adquirida)-SUMIF([0]!cod_saida,Estoque!A897,quantidade_comprada)","v":0}]
[null,null,null,null,null,{"$f":"SUMIF(Codigo_Produto,Estoque!A898,[0]!quantidade_adquirida)-SUMIF([0]!cod_saida,Estoque!A898,quantidade_comprada)","v":0}]
[null,null,null,null,null,{"$f":"SUMIF(Codigo_Produto,Estoque!A899,[0]!quantidade_adquirida)-SUMIF([0]!cod_saida,Estoque!A899,quantidade_comprada)","v":0}]
[null,null,null,null,null,{"$f":"SUMIF(Codigo_Produto,Estoque!A900,[0]!quantidade_adquirida)-SUMIF([0]!cod_saida,Estoque!A900,quantidade_comprada)","v":0}]
[null,null,null,null,null,{"$f":"SUMIF(Codigo_Produto,Estoque!A901,[0]!quantidade_adquirida)-SUMIF([0]!cod_saida,Estoque!A901,quantidade_comprada)","v":0}]
[null,null,null,null,null,{"$f":"SUMIF(Codigo_Produto,Estoque!A902,[0]!quantidade_adquirida)-SUMIF([0]!cod_saida,Estoque!A902,quantidade_comprada)","v":0}]
[null,null,null,null,null,{"$f":"SUMIF(Codigo_Produto,Estoque!A903,[0]!quantidade_adquirida)-SUMIF([0]!cod_saida,Estoque!A903,quantidade_comprada)","v":0}]
[null,null,null,null,null,{"$f":"SUMIF(Codigo_Produto,Estoque!A904,[0]!quantidade_adquirida)-SUMIF([0]!cod_saida,Estoque!A904,quantidade_comprada)","v":0}]
[null,null,null,null,null,{"$f":"SUMIF(Codigo_Produto,Estoque!A905,[0]!quantidade_adquirida)-SUMIF([0]!cod_saida,Estoque!A905,quantidade_comprada)","v":0}]
[null,null,null,null,null,{"$f":"SUMIF(Codigo_Produto,Estoque!A906,[0]!quantidade_adquirida)-SUMIF([0]!cod_saida,Estoque!A906,quantidade_comprada)","v":0}]
[null,null,null,null,null,{"$f":"SUMIF(Codigo_Produto,Estoque!A907,[0]!quantidade_adquirida)-SUMIF([0]!cod_saida,Estoque!A907,quantidade_comprada)","v":0}]
[null,null,null,null,null,{"$f":"SUMIF(Codigo_Produto,Estoque!A908,[0]!quantidade_adquirida)-SUMIF([0]!cod_saida,Estoque!A908,quantidade_comprada)","v":0}]
[null,null,null,null,null,{"$f":"SUMIF(Codigo_Produto,Estoque!A909,[0]!quantidade_adquirida)-SUMIF([0]!cod_saida,Estoque!A909,quantidade_comprada)","v":0}]
[null,null,null,null,null,{"$f":"SUMIF(Codigo_Produto,Estoque!A910,[0]!quantidade_adquirida)-SUMIF([0]!cod_saida,Estoque!A910,quantidade_comprada)","v":0}]
[null,null,null,null,null,{"$f":"SUMIF(Codigo_Produto,Estoque!A911,[0]!quantidade_adquirida)-SUMIF([0]!cod_saida,Estoque!A911,quantidade_comprada)","v":0}]
[null,null,null,null,null,{"$f":"SUMIF(Codigo_Produto,Estoque!A912,[0]!quantidade_adquirida)-SUMIF([0]!cod_saida,Estoque!A912,quantidade_comprada)","v":0}]
[null,null,null,null,null,{"$f":"SUMIF(Codigo_Produto,Estoque!A913,[0]!quantidade_adquirida)-SUMIF([0]!cod_saida,Estoque!A913,quantidade_comprada)","v":0}]
[null,null,null,null,null,{"$f":"SUMIF(Codigo_Produto,Estoque!A914,[0]!quantidade_adquirida)-SUMIF([0]!cod_saida,Estoque!A914,quantidade_comprada)","v":0}]
[null,null,null,null,null,{"$f":"SUMIF(Codigo_Produto,Estoque!A915,[0]!quantidade_adquirida)-SUMIF([0]!cod_saida,Estoque!A915,quantidade_comprada)","v":0}]
[null,null,null,null,null,{"$f":"SUMIF(Codigo_Produto,Estoque!A916,[0]!quantidade_adquirida)-SUMIF([0]!cod_saida,Estoque!A916,quantidade_comprada)","v":0}]
[null,null,null,null,null,{"$f":"SUMIF(Codigo_Produto,Estoque!A917,[0]!quantidade_adquirida)-SUMIF([0]!cod_saida,Estoque!A917,quantidade_comprada)","v":0}]
[null,null,null,null,null,{"$f":"SUMIF(Codigo_Produto,Estoque!A918,[0]!quantidade_adquirida)-SUMIF([0]!cod_saida,Estoque!A918,quantidade_comprada)","v":0}]
[null,null,null,null,null,{"$f":"SUMIF(Codigo_Produto,Estoque!A919,[0]!quantidade_adquirida)-SUMIF([0]!cod_saida,Estoque!A919,quantidade_comprada)","v":0}]
[null,null,null,null,null,{"$f":"SUMIF(Codigo_Produto,Estoque!A920,[0]!quantidade_adquirida)-SUMIF([0]!cod_saida,Estoque!A920,quantidade_comprada)","v":0}]
[null,null,null,null,null,{"$f":"SUMIF(Codigo_Produto,Estoque!A921,[0]!quantidade_adquirida)-SUMIF([0]!cod_saida,Estoque!A921,quantidade_comprada)","v":0}]
[null,null,null,null,null,{"$f":"SUMIF(Codigo_Produto,Estoque!A922,[0]!quantidade_adquirida)-SUMIF([0]!cod_saida,Estoque!A922,quantidade_comprada)","v":0}]
[null,null,null,null,null,{"$f":"SUMIF(Codigo_Produto,Estoque!A923,[0]!quantidade_adquirida)-SUMIF([0]!cod_saida,Estoque!A923,quantidade_comprada)","v":0}]
[null,null,null,null,null,{"$f":"SUMIF(Codigo_Produto,Estoque!A924,[0]!quantidade_adquirida)-SUMIF([0]!cod_saida,Estoque!A924,quantidade_comprada)","v":0}]
[null,null,null,null,null,{"$f":"SUMIF(Codigo_Produto,Estoque!A925,[0]!quantidade_adquirida)-SUMIF([0]!cod_saida,Estoque!A925,quantidade_comprada)","v":0}]
[null,null,null,null,null,{"$f":"SUMIF(Codigo_Produto,Estoque!A926,[0]!quantidade_adquirida)-SUMIF([0]!cod_saida,Estoque!A926,quantidade_comprada)","v":0}]
[null,null,null,null,null,{"$f":"SUMIF(Codigo_Produto,Estoque!A927,[0]!quantidade_adquirida)-SUMIF([0]!cod_saida,Estoque!A927,quantidade_comprada)","v":0}]
[null,null,null,null,null,{"$f":"SUMIF(Codigo_Produto,Estoque!A928,[0]!quantidade_adquirida)-SUMIF([0]!cod_saida,Estoque!A928,quantidade_comprada)","v":0}]
[null,null,null,null,null,{"$f":"SUMIF(Codigo_Produto,Estoque!A929,[0]!quantidade_adquirida)-SUMIF([0]!cod_saida,Estoque!A929,quantidade_comprada)","v":0}]
[null,null,null,null,null,{"$f":"SUMIF(Codigo_Produto,Estoque!A930,[0]!quantidade_adquirida)-SUMIF([0]!cod_saida,Estoque!A930,quantidade_comprada)","v":0}]
[null,null,null,null,null,{"$f":"SUMIF(Codigo_Produto,Estoque!A931,[0]!quantidade_adquirida)-SUMIF([0]!cod_saida,Estoque!A931,quantidade_comprada)","v":0}]
[null,null,null,null,null,{"$f":"SUMIF(Codigo_Produto,Estoque!A932,[0]!quantidade_adquirida)-SUMIF([0]!cod_saida,Estoque!A932,quantidade_comprada)","v":0}]
[null,null,null,null,null,{"$f":"SUMIF(Codigo_Produto,Estoque!A933,[0]!quantidade_adquirida)-SUMIF([0]!cod_saida,Estoque!A933,quantidade_comprada)","v":0}]
[null,null,null,null,null,{"$f":"SUMIF(Codigo_Produto,Estoque!A934,[0]!quantidade_adquirida)-SUMIF([0]!cod_saida,Estoque!A934,quantidade_comprada)","v":0}]
[null,null,null,null,null,{"$f":"SUMIF(Codigo_Produto,Estoque!A935,[0]!quantidade_adquirida)-SUMIF([0]!cod_saida,Estoque!A935,quantidade_comprada)","v":0}]
[null,null,null,null,null,{"$f":"SUMIF(Codigo_Produto,Estoque!A936,[0]!quantidade_adquirida)-SUMIF([0]!cod_saida,Estoque!A936,quantidade_comprada)","v":0}]
[null,null,null,null,null,{"$f":"SUMIF(Codigo_Produto,Estoque!A937,[0]!quantidade_adquirida)-SUMIF([0]!cod_saida,Estoque!A937,quantidade_comprada)","v":0}]
[null,null,null,null,null,{"$f":"SUMIF(Codigo_Produto,Estoque!A938,[0]!quantidade_adquirida)-SUMIF([0]!cod_saida,Estoque!A938,quantidade_comprada)","v":0}]
[null,null,null,null,null,{"$f":"SUMIF(Codigo_Produto,Estoque!A939,[0]!quantidade_adquirida)-SUMIF([0]!cod_saida,Estoque!A939,quantidade_comprada)","v":0}]
[null,null,null,null,null,{"$f":"SUMIF(Codigo_Produto,Estoque!A940,[0]!quantidade_adquirida)-SUMIF([0]!cod_saida,Estoque!A940,quantidade_comprada)","v":0}]
[null,null,null,null,null,{"$f":"SUMIF(Codigo_Produto,Estoque!A941,[0]!quantidade_adquirida)-SUMIF([0]!cod_saida,Estoque!A941,quantidade_comprada)","v":0}]
[null,null,null,null,null,{"$f":"SUMIF(Codigo_Produto,Estoque!A942,[0]!quantidade_adquirida)-SUMIF([0]!cod_saida,Estoque!A942,quantidade_comprada)","v":0}]
[null,null,null,null,null,{"$f":"SUMIF(Codigo_Produto,Estoque!A943,[0]!quantidade_adquirida)-SUMIF([0]!cod_saida,Estoque!A943,quantidade_comprada)","v":0}]
[null,null,null,null,null,{"$f":"SUMIF(Codigo_Produto,Estoque!A944,[0]!quantidade_adquirida)-SUMIF([0]!cod_saida,Estoque!A944,quantidade_comprada)","v":0}]
[null,null,null,null,null,{"$f":"SUMIF(Codigo_Produto,Estoque!A945,[0]!quantidade_adquirida)-SUMIF([0]!cod_saida,Estoque!A945,quantidade_comprada)","v":0}]
[null,null,null,null,null,{"$f":"SUMIF(Codigo_Produto,Estoque!A946,[0]!quantidade_adquirida)-SUMIF([0]!cod_saida,Estoque!A946,quantidade_comprada)","v":0}]
[null,null,null,null,null,{"$f":"SUMIF(Codigo_Produto,Estoque!A947,[0]!quantidade_adquirida)-SUMIF([0]!cod_saida,Estoque!A947,quantidade_comprada)","v":0}]
[null,null,null,null,null,{"$f":"SUMIF(Codigo_Produto,Estoque!A948,[0]!quantidade_adquirida)-SUMIF([0]!cod_saida,Estoque!A948,quantidade_comprada)","v":0}]
[null,null,null,null,null,{"$f":"SUMIF(Codigo_Produto,Estoque!A949,[0]!quantidade_adquirida)-SUMIF([0]!cod_saida,Estoque!A949,quantidade_comprada)","v":0}]
[null,null,null,null,null,{"$f":"SUMIF(Codigo_Produto,Estoque!A950,[0]!quantidade_adquirida)-SUMIF([0]!cod_saida,Estoque!A950,quantidade_comprada)","v":0}]
[null,null,null,null,null,{"$f":"SUMIF(Codigo_Produto,Estoque!A951,[0]!quantidade_adquirida)-SUMIF([0]!cod_saida,Estoque!A951,quantidade_comprada)","v":0}]
[null,null,null,null,null,{"$f":"SUMIF(Codigo_Produto,Estoque!A952,[0]!quantidade_adquirida)-SUMIF([0]!cod_saida,Estoque!A952,quantidade_comprada)","v":0}]
[null,null,null,null,null,{"$f":"SUMIF(Codigo_Produto,Estoque!A953,[0]!quantidade_adquirida)-SUMIF([0]!cod_saida,Estoque!A953,quantidade_comprada)","v":0}]
[null,null,null,null,null,{"$f":"SUMIF(Codigo_Produto,Estoque!A954,[0]!quantidade_adquirida)-SUMIF([0]!cod_saida,Estoque!A954,quantidade_comprada)","v":0}]
[null,null,null,null,null,{"$f":"SUMIF(Codigo_Produto,Estoque!A955,[0]!quantidade_adquirida)-SUMIF([0]!cod_saida,Estoque!A955,quantidade_comprada)","v":0}]
[null,null,null,null,null,{"$f":"SUMIF(Codigo_Produto,Estoque!A956,[0]!quantidade_adquirida)-SUMIF([0]!cod_saida,Estoque!A956,quantidade_comprada)","v":0}]
[null,null,null,null,null,{"$f":"SUMIF(Codigo_Produto,Estoque!A957,[0]!quantidade_adquirida)-SUMIF([0]!cod_saida,Estoque!A957,quantidade_comprada)","v":0}]
[null,null,null,null,null,{"$f":"SUMIF(Codigo_Produto,Estoque!A958,[0]!quantidade_adquirida)-SUMIF([0]!cod_saida,Estoque!A958,quantidade_comprada)","v":0}]
[null,null,null,null,null,{"$f":"SUMIF(Codigo_Produto,Estoque!A959,[0]!quantidade_adquirida)-SUMIF([0]!cod_saida,Estoque!A959,quantidade_comprada)","v":0}]
[null,null,null,null,null,{"$f":"SUMIF(Codigo_Produto,Estoque!A960,[0]!quantidade_adquirida)-SUMIF([0]!cod_saida,Estoque!A960,quantidade_comprada)","v":0}]
[null,null,null,null,null,{"$f":"SUMIF(Codigo_Produto,Estoque!A961,[0]!quantidade_adquirida)-SUMIF([0]!cod_saida,Estoque!A961,quantidade_comprada)","v":0}]
[null,null,null,null,null,{"$f":"SUMIF(Codigo_Produto,Estoque!A962,[0]!quantidade_adquirida)-SUMIF([0]!cod_saida,Estoque!A962,quantidade_comprada)","v":0}]
[null,null,null,null,null,{"$f":"SUMIF(Codigo_Produto,Estoque!A963,[0]!quantidade_adquirida)-SUMIF([0]!cod_saida,Estoque!A963,quantidade_comprada)","v":0}]
[null,null,null,null,null,{"$f":"SUMIF(Codigo_Produto,Estoque!A964,[0]!quantidade_adquirida)-SUMIF([0]!cod_saida,Estoque!A964,quantidade_comprada)","v":0}]
[null,null,null,null,null,{"$f":"SUMIF(Codigo_Produto,Estoque!A965,[0]!quantidade_adquirida)-SUMIF([0]!cod_saida,Estoque!A965,quantidade_comprada)","v":0}]
[null,null,null,null,null,{"$f":"SUMIF(Codigo_Produto,Estoque!A966,[0]!quantidade_adquirida)-SUMIF([0]!cod_saida,Estoque!A966,quantidade_comprada)","v":0}]
[null,null,null,null,null,{"$f":"SUMIF(Codigo_Produto,Estoque!A967,[0]!quantidade_adquirida)-SUMIF([0]!cod_saida,Estoque!A967,quantidade_comprada)","v":0}]
[null,null,null,null,null,{"$f":"SUMIF(Codigo_Produto,Estoque!A968,[0]!quantidade_adquirida)-SUMIF([0]!cod_saida,Estoque!A968,quantidade_comprada)","v":0}]
[null,null,null,null,null,{"$f":"SUMIF(Codigo_Produto,Estoque!A969,[0]!quantidade_adquirida)-SUMIF([0]!cod_saida,Estoque!A969,quantidade_comprada)","v":0}]
[null,null,null,null,null,{"$f":"SUMIF(Codigo_Produto,Estoque!A970,[0]!quantidade_adquirida)-SUMIF([0]!cod_saida,Estoque!A970,quantidade_comprada)","v":0}]
[null,null,null,null,null,{"$f":"SUMIF(Codigo_Produto,Estoque!A971,[0]!quantidade_adquirida)-SUMIF([0]!cod_saida,Estoque!A971,quantidade_comprada)","v":0}]
[null,null,null,null,null,{"$f":"SUMIF(Codigo_Produto,Estoque!A972,[0]!quantidade_adquirida)-SUMIF([0]!cod_saida,Estoque!A972,quantidade_comprada)","v":0}]
[null,null,null,null,null,{"$f":"SUMIF(Codigo_Produto,Estoque!A973,[0]!quantidade_adquirida)-SUMIF([0]!cod_saida,Estoque!A973,quantidade_comprada)","v":0}]
[null,null,null,null,null,{"$f":"SUMIF(Codigo_Produto,Estoque!A974,[0]!quantidade_adquirida)-SUMIF([0]!cod_saida,Estoque!A974,quantidade_comprada)","v":0}]
[null,null,null,null,null,{"$f":"SUMIF(Codigo_Produto,Estoque!A975,[0]!quantidade_adquirida)-SUMIF([0]!cod_saida,Estoque!A975,quantidade_comprada)","v":0}]
[null,null,null,null,null,{"$f":"SUMIF(Codigo_Produto,Estoque!A976,[0]!quantidade_adquirida)-SUMIF([0]!cod_saida,Estoque!A976,quantidade_comprada)","v":0}]
[null,null,null,null,null,{"$f":"SUMIF(Codigo_Produto,Estoque!A977,[0]!quantidade_adquirida)-SUMIF([0]!cod_saida,Estoque!A977,quantidade_comprada)","v":0}]
[null,null,null,null,null,{"$f":"SUMIF(Codigo_Produto,Estoque!A978,[0]!quantidade_adquirida)-SUMIF([0]!cod_saida,Estoque!A978,quantidade_comprada)","v":0}]
[null,null,null,null,null,{"$f":"SUMIF(Codigo_Produto,Estoque!A979,[0]!quantidade_adquirida)-SUMIF([0]!cod_saida,Estoque!A979,quantidade_comprada)","v":0}]
[null,null,null,null,null,{"$f":"SUMIF(Codigo_Produto,Estoque!A980,[0]!quantidade_adquirida)-SUMIF([0]!cod_saida,Estoque!A980,quantidade_comprada)","v":0}]
[null,null,null,null,null,{"$f":"SUMIF(Codigo_Produto,Estoque!A981,[0]!quantidade_adquirida)-SUMIF([0]!cod_saida,Estoque!A981,quantidade_comprada)","v":0}]
[null,null,null,null,null,{"$f":"SUMIF(Codigo_Produto,Estoque!A982,[0]!quantidade_adquirida)-SUMIF([0]!cod_saida,Estoque!A982,quantidade_comprada)","v":0}]
[null,null,null,null,null,{"$f":"SUMIF(Codigo_Produto,Estoque!A983,[0]!quantidade_adquirida)-SUMIF([0]!cod_saida,Estoque!A983,quantidade_comprada)","v":0}]
[null,null,null,null,null,{"$f":"SUMIF(Codigo_Produto,Estoque!A984,[0]!quantidade_adquirida)-SUMIF([0]!cod_saida,Estoque!A984,quantidade_comprada)","v":0}]
[null,null,null,null,null,{"$f":"SUMIF(Codigo_Produto,Estoque!A985,[0]!quantidade_adquirida)-SUMIF([0]!cod_saida,Estoque!A985,quantidade_comprada)","v":0}]
[null,null,null,null,null,{"$f":"SUMIF(Codigo_Produto,Estoque!A986,[0]!quantidade_adquirida)-SUMIF([0]!cod_saida,Estoque!A986,quantidade_comprada)","v":0}]
[null,null,null,null,null,{"$f":"SUMIF(Codigo_Produto,Estoque!A987,[0]!quantidade_adquirida)-SUMIF([0]!cod_saida,Estoque!A987,quantidade_comprada)","v":0}]
[null,null,null,null,null,{"$f":"SUMIF(Codigo_Produto,Estoque!A988,[0]!quantidade_adquirida)-SUMIF([0]!cod_saida,Estoque!A988,quantidade_comprada)","v":0}]
[null,null,null,null,null,{"$f":"SUMIF(Codigo_Produto,Estoque!A989,[0]!quantidade_adquirida)-SUMIF([0]!cod_saida,Estoque!A989,quantidade_comprada)","v":0}]
[null,null,null,null,null,{"$f":"SUMIF(Codigo_Produto,Estoque!A990,[0]!quantidade_adquirida)-SUMIF([0]!cod_saida,Estoque!A990,quantidade_comprada)","v":0}]
[null,null,null,null,null,{"$f":"SUMIF(Codigo_Produto,Estoque!A991,[0]!quantidade_adquirida)-SUMIF([0]!cod_saida,Estoque!A991,quantidade_comprada)","v":0}]
[null,null,null,null,null,{"$f":"SUMIF(Codigo_Produto,Estoque!A992,[0]!quantidade_adquirida)-SUMIF([0]!cod_saida,Estoque!A992,quantidade_comprada)","v":0}]
[null,null,null,null,null,{"$f":"SUMIF(Codigo_Produto,Estoque!A993,[0]!quantidade_adquirida)-SUMIF([0]!cod_saida,Estoque!A993,quantidade_comprada)","v":0}]
[null,null,null,null,null,{"$f":"SUMIF(Codigo_Produto,Estoque!A994,[0]!quantidade_adquirida)-SUMIF([0]!cod_saida,Estoque!A994,quantidade_comprada)","v":0}]
[null,null,null,null,null,{"$f":"SUMIF(Codigo_Produto,Estoque!A995,[0]!quantidade_adquirida)-SUMIF([0]!cod_saida,Estoque!A995,quantidade_comprada)","v":0}]
[null,null,null,null,null,{"$f":"SUMIF(Codigo_Produto,Estoque!A996,[0]!quantidade_adquirida)-SUMIF([0]!cod_saida,Estoque!A996,quantidade_comprada)","v":0}]
[null,null,null,null,null,{"$f":"SUMIF(Codigo_Produto,Estoque!A997,[0]!quantidade_adquirida)-SUMIF([0]!cod_saida,Estoque!A997,quantidade_comprada)","v":0}]
[null,null,null,null,null,{"$f":"SUMIF(Codigo_Produto,Estoque!A998,[0]!quantidade_adquirida)-SUMIF([0]!cod_saida,Estoque!A998,quantidade_comprada)","v":0}]
[null,null,null,null,null,{"$f":"SUMIF(Codigo_Produto,Estoque!A999,[0]!quantidade_adquirida)-SUMIF([0]!cod_saida,Estoque!A999,quantidade_comprada)","v":0}]
[null,null,null,null,null,{"$f":"SUMIF(Codigo_Produto,Estoque!A1000,[0]!quantidade_adquirida)-SUMIF([0]!cod_saida,Estoque!A1000,quantidade_comprada)","v":0}]
[null,null,null,null,null,{"$f":"SUMIF(Codigo_Produto,Estoque!A1001,[0]!quantidade_adquirida)-SUMIF([0]!cod_saida,Estoque!A1001,quantidade_comprada)","v":0}]
[null,null,null,null,null,{"$f":"SUMIF(Codigo_Produto,Estoque!A1002,[0]!quantidade_adquirida)-SUMIF([0]!cod_saida,Estoque!A1002,quantidade_comprada)","v":0}]
[null,null,null,null,null,{"$f":"SUMIF(Codigo_Produto,Estoque!A1003,[0]!quantidade_adquirida)-SUMIF([0]!cod_saida,Estoque!A1003,quantidade_comprada)","v":0}]
[null,null,null,null,null,{"$f":"SUMIF(Codigo_Produto,Estoque!A1004,[0]!quantidade_adquirida)-SUMIF([0]!cod_saida,Estoque!A1004,quantidade_comprada)","v":0}]
[null,null,null,null,null,{"$f":"SUMIF(Codigo_Produto,Estoque!A1005,[0]!quantidade_adquirida)-SUMIF([0]!cod_saida,Estoque!A1005,quantidade_comprada)","v":0}]
[null,null,null,null,null,{"$f":"SUMIF(Codigo_Produto,Estoque!A1006,[0]!quantidade_adquirida)-SUMIF([0]!cod_saida,Estoque!A1006,quantidade_comprada)","v":0}]
[null,null,null,null,null,{"$f":"SUMIF(Codigo_Produto,Estoque!A1007,[0]!quantidade_adquirida)-SUMIF([0]!cod_saida,Estoque!A1007,quantidade_comprada)","v":0}]
[null,null,null,null,null,{"$f":"SUMIF(Codigo_Produto,Estoque!A1008,[0]!quantidade_adquirida)-SUMIF([0]!cod_saida,Estoque!A1008,quantidade_comprada)","v":0}]
[null,null,null,null,null,{"$f":"SUMIF(Codigo_Produto,Estoque!A1009,[0]!quantidade_adquirida)-SUMIF([0]!cod_saida,Estoque!A1009,quantidade_comprada)","v":0}]
[null,null,null,null,null,{"$f":"SUMIF(Codigo_Produto,Estoque!A1010,[0]!quantidade_adquirida)-SUMIF([0]!cod_saida,Estoque!A1010,quantidade_comprada)","v":0}]
[null,null,null,null,null,{"$f":"SUMIF(Codigo_Produto,Estoque!A1011,[0]!quantidade_adquirida)-SUMIF([0]!cod_saida,Estoque!A1011,quantidade_comprada)","v":0}]
[null,null,null,null,null,{"$f":"SUMIF(Codigo_Produto,Estoque!A1012,[0]!quantidade_adquirida)-SUMIF([0]!cod_saida,Estoque!A1012,quantidade_comprada)","v":0}]
[null,null,null,null,null,{"$f":"SUMIF(Codigo_Produto,Estoque!A1013,[0]!quantidade_adquirida)-SUMIF([0]!cod_saida,Estoque!A1013,quantidade_comprada)","v":0}]
[null,null,null,null,null,{"$f":"SUMIF(Codigo_Produto,Estoque!A1014,[0]!quantidade_adquirida)-SUMIF([0]!cod_saida,Estoque!A1014,quantidade_comprada)","v":0}]
[null,null,null,null,null,{"$f":"SUMIF(Codigo_Produto,Estoque!A1015,[0]!quantidade_adquirida)-SUMIF([0]!cod_saida,Estoque!A1015,quantidade_comprada)","v":0}]
[null,null,null,null,null,{"$f":"SUMIF(Codigo_Produto,Estoque!A1016,[0]!quantidade_adquirida)-SUMIF([0]!cod_saida,Estoque!A1016,quantidade_comprada)","v":0}]
[null,null,null,null,null,{"$f":"SUMIF(Codigo_Produto,Estoque!A1017,[0]!quantidade_adquirida)-SUMIF([0]!cod_saida,Estoque!A1017,quantidade_comprada)","v":0}]
[null,null,null,null,null,{"$f":"SUMIF(Codigo_Produto,Estoque!A1018,[0]!quantidade_adquirida)-SUMIF([0]!cod_saida,Estoque!A1018,quantidade_comprada)","v":0}]
[null,null,null,null,null,{"$f":"SUMIF(Codigo_Produto,Estoque!A1019,[0]!quantidade_adquirida)-SUMIF([0]!cod_saida,Estoque!A1019,quantidade_comprada)","v":0}]
[null,null,null,null,null,{"$f":"SUMIF(Codigo_Produto,Estoque!A1020,[0]!quantidade_adquirida)-SUMIF([0]!cod_saida,Estoque!A1020,quantidade_comprada)","v":0}]
[null,null,null,null,null,{"$f":"SUMIF(Codigo_Produto,Estoque!A1021,[0]!quantidade_adquirida)-SUMIF([0]!cod_saida,Estoque!A1021,quantidade_comprada)","v":0}]
[null,null,null,null,null,{"$f":"SUMIF(Codigo_Produto,Estoque!A1022,[0]!quantidade_adquirida)-SUMIF([0]!cod_saida,Estoque!A1022,quantidade_comprada)","v":0}]
[null,null,null,null,null,{"$f":"SUMIF(Codigo_Produto,Estoque!A1023,[0]!quantidade_adquirida)-SUMIF([0]!cod_saida,Estoque!A1023,quantidade_comprada)","v":0}]
[null,null,null,null,null,{"$f":"SUMIF(Codigo_Produto,Estoque!A1024,[0]!quantidade_adquirida)-SUMIF([0]!cod_saida,Estoque!A1024,quantidade_comprada)","v":0}]
[null,null,null,null,null,{"$f":"SUMIF(Codigo_Produto,Estoque!A1025,[0]!quantidade_adquirida)-SUMIF([0]!cod_saida,Estoque!A1025,quantidade_comprada)","v":0}]
[null,null,null,null,null,{"$f":"SUMIF(Codigo_Produto,Estoque!A1026,[0]!quantidade_adquirida)-SUMIF([0]!cod_saida,Estoque!A1026,quantidade_comprada)","v":0}]
[null,null,null,null,null,{"$f":"SUMIF(Codigo_Produto,Estoque!A1027,[0]!quantidade_adquirida)-SUMIF([0]!cod_saida,Estoque!A1027,quantidade_comprada)","v":0}]
[null,null,null,null,null,{"$f":"SUMIF(Codigo_Produto,Estoque!A1028,[0]!quantidade_adquirida)-SUMIF([0]!cod_saida,Estoque!A1028,quantidade_comprada)","v":0}]
[null,null,null,null,null,{"$f":"SUMIF(Codigo_Produto,Estoque!A1029,[0]!quantidade_adquirida)-SUMIF([0]!cod_saida,Estoque!A1029,quantidade_comprada)","v":0}]
[null,null,null,null,null,{"$f":"SUMIF(Codigo_Produto,Estoque!A1030,[0]!quantidade_adquirida)-SUMIF([0]!cod_saida,Estoque!A1030,quantidade_comprada)","v":0}]
[null,null,null,null,null,{"$f":"SUMIF(Codigo_Produto,Estoque!A1031,[0]!quantidade_adquirida)-SUMIF([0]!cod_saida,Estoque!A1031,quantidade_comprada)","v":0}]
[null,null,null,null,null,{"$f":"SUMIF(Codigo_Produto,Estoque!A1032,[0]!quantidade_adquirida)-SUMIF([0]!cod_saida,Estoque!A1032,quantidade_comprada)","v":0}]
[null,null,null,null,null,{"$f":"SUMIF(Codigo_Produto,Estoque!A1033,[0]!quantidade_adquirida)-SUMIF([0]!cod_saida,Estoque!A1033,quantidade_comprada)","v":0}]
[null,null,null,null,null,{"$f":"SUMIF(Codigo_Produto,Estoque!A1034,[0]!quantidade_adquirida)-SUMIF([0]!cod_saida,Estoque!A1034,quantidade_comprada)","v":0}]
[null,null,null,null,null,{"$f":"SUMIF(Codigo_Produto,Estoque!A1035,[0]!quantidade_adquirida)-SUMIF([0]!cod_saida,Estoque!A1035,quantidade_comprada)","v":0}]
[null,null,null,null,null,{"$f":"SUMIF(Codigo_Produto,Estoque!A1036,[0]!quantidade_adquirida)-SUMIF([0]!cod_saida,Estoque!A1036,quantidade_comprada)","v":0}]
[null,null,null,null,null,{"$f":"SUMIF(Codigo_Produto,Estoque!A1037,[0]!quantidade_adquirida)-SUMIF([0]!cod_saida,Estoque!A1037,quantidade_comprada)","v":0}]
[null,null,null,null,null,{"$f":"SUMIF(Codigo_Produto,Estoque!A1038,[0]!quantidade_adquirida)-SUMIF([0]!cod_saida,Estoque!A1038,quantidade_comprada)","v":0}]
[null,null,null,null,null,{"$f":"SUMIF(Codigo_Produto,Estoque!A1039,[0]!quantidade_adquirida)-SUMIF([0]!cod_saida,Estoque!A1039,quantidade_comprada)","v":0}]
[null,null,null,null,null,{"$f":"SUMIF(Codigo_Produto,Estoque!A1040,[0]!quantidade_adquirida)-SUMIF([0]!cod_saida,Estoque!A1040,quantidade_comprada)","v":0}]
[null,null,null,null,null,{"$f":"SUMIF(Codigo_Produto,Estoque!A1041,[0]!quantidade_adquirida)-SUMIF([0]!cod_saida,Estoque!A1041,quantidade_comprada)","v":0}]
[null,null,null,null,null,{"$f":"SUMIF(Codigo_Produto,Estoque!A1042,[0]!quantidade_adquirida)-SUMIF([0]!cod_saida,Estoque!A1042,quantidade_comprada)","v":0}]
[null,null,null,null,null,{"$f":"SUMIF(Codigo_Produto,Estoque!A1043,[0]!quantidade_adquirida)-SUMIF([0]!cod_saida,Estoque!A1043,quantidade_comprada)","v":0}]
[null,null,null,null,null,{"$f":"SUMIF(Codigo_Produto,Estoque!A1044,[0]!quantidade_adquirida)-SUMIF([0]!cod_saida,Estoque!A1044,quantidade_comprada)","v":0}]
[null,null,null,null,null,{"$f":"SUMIF(Codigo_Produto,Estoque!A1045,[0]!quantidade_adquirida)-SUMIF([0]!cod_saida,Estoque!A1045,quantidade_comprada)","v":0}]
[null,null,null,null,null,{"$f":"SUMIF(Codigo_Produto,Estoque!A1046,[0]!quantidade_adquirida)-SUMIF([0]!cod_saida,Estoque!A1046,quantidade_comprada)","v":0}]
[null,null,null,null,null,{"$f":"SUMIF(Codigo_Produto,Estoque!A1047,[0]!quantidade_adquirida)-SUMIF([0]!cod_saida,Estoque!A1047,quantidade_comprada)","v":0}]
[null,null,null,null,null,{"$f":"SUMIF(Codigo_Produto,Estoque!A1048,[0]!quantidade_adquirida)-SUMIF([0]!cod_saida,Estoque!A1048,quantidade_comprada)","v":0}]
[null,null,null,null,null,{"$f":"SUMIF(Codigo_Produto,Estoque!A1049,[0]!quantidade_adquirida)-SUMIF([0]!cod_saida,Estoque!A1049,quantidade_comprada)","v":0}]
[null,null,null,null,null,{"$f":"SUMIF(Codigo_Produto,Estoque!A1050,[0]!quantidade_adquirida)-SUMIF([0]!cod_saida,Estoque!A1050,quantidade_comprada)","v":0}]
[null,null,null,null,null,{"$f":"SUMIF(Codigo_Produto,Estoque!A1051,[0]!quantidade_adquirida)-SUMIF([0]!cod_saida,Estoque!A1051,quantidade_comprada)","v":0}]
[null,null,null,null,null,{"$f":"SUMIF(Codigo_Produto,Estoque!A1052,[0]!quantidade_adquirida)-SUMIF([0]!cod_saida,Estoque!A1052,quantidade_comprada)","v":0}]
[null,null,null,null,null,{"$f":"SUMIF(Codigo_Produto,Estoque!A1053,[0]!quantidade_adquirida)-SUMIF([0]!cod_saida,Estoque!A1053,quantidade_comprada)","v":0}]
[null,null,null,null,null,{"$f":"SUMIF(Codigo_Produto,Estoque!A1054,[0]!quantidade_adquirida)-SUMIF([0]!cod_saida,Estoque!A1054,quantidade_comprada)","v":0}]
[null,null,null,null,null,{"$f":"SUMIF(Codigo_Produto,Estoque!A1055,[0]!quantidade_adquirida)-SUMIF([0]!cod_saida,Estoque!A1055,quantidade_comprada)","v":0}]
[null,null,null,null,null,{"$f":"SUMIF(Codigo_Produto,Estoque!A1056,[0]!quantidade_adquirida)-SUMIF([0]!cod_saida,Estoque!A1056,quantidade_comprada)","v":0}]
[null,null,null,null,null,{"$f":"SUMIF(Codigo_Produto,Estoque!A1057,[0]!quantidade_adquirida)-SUMIF([0]!cod_saida,Estoque!A1057,quantidade_comprada)","v":0}]
[null,null,null,null,null,{"$f":"SUMIF(Codigo_Produto,Estoque!A1058,[0]!quantidade_adquirida)-SUMIF([0]!cod_saida,Estoque!A1058,quantidade_comprada)","v":0}]
[null,null,null,null,null,{"$f":"SUMIF(Codigo_Produto,Estoque!A1059,[0]!quantidade_adquirida)-SUMIF([0]!cod_saida,Estoque!A1059,quantidade_comprada)","v":0}]
[null,null,null,null,null,{"$f":"SUMIF(Codigo_Produto,Estoque!A1060,[0]!quantidade_adquirida)-SUMIF([0]!cod_saida,Estoque!A1060,quantidade_comprada)","v":0}]
[null,null,null,null,null,{"$f":"SUMIF(Codigo_Produto,Estoque!A1061,[0]!quantidade_adquirida)-SUMIF([0]!cod_saida,Estoque!A1061,quantidade_comprada)","v":0}]
[null,null,null,null,null,{"$f":"SUMIF(Codigo_Produto,Estoque!A1062,[0]!quantidade_adquirida)-SUMIF([0]!cod_saida,Estoque!A1062,quantidade_comprada)","v":0}]
[null,null,null,null,null,{"$f":"SUMIF(Codigo_Produto,Estoque!A1063,[0]!quantidade_adquirida)-SUMIF([0]!cod_saida,Estoque!A1063,quantidade_comprada)","v":0}]
[null,null,null,null,null,{"$f":"SUMIF(Codigo_Produto,Estoque!A1064,[0]!quantidade_adquirida)-SUMIF([0]!cod_saida,Estoque!A1064,quantidade_comprada)","v":0}]
[null,null,null,null,null,{"$f":"SUMIF(Codigo_Produto,Estoque!A1065,[0]!quantidade_adquirida)-SUMIF([0]!cod_saida,Estoque!A1065,quantidade_comprada)","v":0}]
[null,null,null,null,null,{"$f":"SUMIF(Codigo_Produto,Estoque!A1066,[0]!quantidade_adquirida)-SUMIF([0]!cod_saida,Estoque!A1066,quantidade_comprada)","v":0}]
[null,null,null,null,null,{"$f":"SUMIF(Codigo_Produto,Estoque!A1067,[0]!quantidade_adquirida)-SUMIF([0]!cod_saida,Estoque!A1067,quantidade_comprada)","v":0}]
[null,null,null,null,null,{"$f":"SUMIF(Codigo_Produto,Estoque!A1068,[0]!quantidade_adquirida)-SUMIF([0]!cod_saida,Estoque!A1068,quantidade_comprada)","v":0}]
[null,null,null,null,null,{"$f":"SUMIF(Codigo_Produto,Estoque!A1069,[0]!quantidade_adquirida)-SUMIF([0]!cod_saida,Estoque!A1069,quantidade_comprada)","v":0}]
[null,null,null,null,null,{"$f":"SUMIF(Codigo_Produto,Estoque!A1070,[0]!quantidade_adquirida)-SUMIF([0]!cod_saida,Estoque!A1070,quantidade_comprada)","v":0}]
[null,null,null,null,null,{"$f":"SUMIF(Codigo_Produto,Estoque!A1071,[0]!quantidade_adquirida)-SUMIF([0]!cod_saida,Estoque!A1071,quantidade_comprada)","v":0}]
[null,null,null,null,null,{"$f":"SUMIF(Codigo_Produto,Estoque!A1072,[0]!quantidade_adquirida)-SUMIF([0]!cod_saida,Estoque!A1072,quantidade_comprada)","v":0}]
[null,null,null,null,null,{"$f":"SUMIF(Codigo_Produto,Estoque!A1073,[0]!quantidade_adquirida)-SUMIF([0]!cod_saida,Estoque!A1073,quantidade_comprada)","v":0}]
[null,null,null,null,null,{"$f":"SUMIF(Codigo_Produto,Estoque!A1074,[0]!quantidade_adquirida)-SUMIF([0]!cod_saida,Estoque!A1074,quantidade_comprada)","v":0}]
[null,null,null,null,null,{"$f":"SUMIF(Codigo_Produto,Estoque!A1075,[0]!quantidade_adquirida)-SUMIF([0]!cod_saida,Estoque!A1075,quantidade_comprada)","v":0}]
[null,null,null,null,null,{"$f":"SUMIF(Codigo_Produto,Estoque!A1076,[0]!quantidade_adquirida)-SUMIF([0]!cod_saida,Estoque!A1076,quantidade_comprada)","v":0}]
[null,null,null,null,null,{"$f":"SUMIF(Codigo_Produto,Estoque!A1077,[0]!quantidade_adquirida)-SUMIF([0]!cod_saida,Estoque!A1077,quantidade_comprada)","v":0}]
[null,null,null,null,null,{"$f":"SUMIF(Codigo_Produto,Estoque!A1078,[0]!quantidade_adquirida)-SUMIF([0]!cod_saida,Estoque!A1078,quantidade_comprada)","v":0}]
[null,null,null,null,null,{"$f":"SUMIF(Codigo_Produto,Estoque!A1079,[0]!quantidade_adquirida)-SUMIF([0]!cod_saida,Estoque!A1079,quantidade_comprada)","v":0}]
[null,null,null,null,null,{"$f":"SUMIF(Codigo_Produto,Estoque!A1080,[0]!quantidade_adquirida)-SUMIF([0]!cod_saida,Estoque!A1080,quantidade_comprada)","v":0}]
[null,null,null,null,null,{"$f":"SUMIF(Codigo_Produto,Estoque!A1081,[0]!quantidade_adquirida)-SUMIF([0]!cod_saida,Estoque!A1081,quantidade_comprada)","v":0}]
[null,null,null,null,null,{"$f":"SUMIF(Codigo_Produto,Estoque!A1082,[0]!quantidade_adquirida)-SUMIF([0]!cod_saida,Estoque!A1082,quantidade_comprada)","v":0}]
[null,null,null,null,null,{"$f":"SUMIF(Codigo_Produto,Estoque!A1083,[0]!quantidade_adquirida)-SUMIF([0]!cod_saida,Estoque!A1083,quantidade_comprada)","v":0}]
[null,null,null,null,null,{"$f":"SUMIF(Codigo_Produto,Estoque!A1084,[0]!quantidade_adquirida)-SUMIF([0]!cod_saida,Estoque!A1084,quantidade_comprada)","v":0}]
[null,null,null,null,null,{"$f":"SUMIF(Codigo_Produto,Estoque!A1085,[0]!quantidade_adquirida)-SUMIF([0]!cod_saida,Estoque!A1085,quantidade_comprada)","v":0}]
[null,null,null,null,null,{"$f":"SUMIF(Codigo_Produto,Estoque!A1086,[0]!quantidade_adquirida)-SUMIF([0]!cod_saida,Estoque!A1086,quantidade_comprada)","v":0}]
[null,null,null,null,null,{"$f":"SUMIF(Codigo_Produto,Estoque!A1087,[0]!quantidade_adquirida)-SUMIF([0]!cod_saida,Estoque!A1087,quantidade_comprada)","v":0}]
[null,null,null,null,null,{"$f":"SUMIF(Codigo_Produto,Estoque!A1088,[0]!quantidade_adquirida)-SUMIF([0]!cod_saida,Estoque!A1088,quantidade_comprada)","v":0}]
[null,null,null,null,null,{"$f":"SUMIF(Codigo_Produto,Estoque!A1089,[0]!quantidade_adquirida)-SUMIF([0]!cod_saida,Estoque!A1089,quantidade_comprada)","v":0}]
[null,null,null,null,null,{"$f":"SUMIF(Codigo_Produto,Estoque!A1090,[0]!quantidade_adquirida)-SUMIF([0]!cod_saida,Estoque!A1090,quantidade_comprada)","v":0}]
[null,null,null,null,null,{"$f":"SUMIF(Codigo_Produto,Estoque!A1091,[0]!quantidade_adquirida)-SUMIF([0]!cod_saida,Estoque!A1091,quantidade_comprada)","v":0}]
[null,null,null,null,null,{"$f":"SUMIF(Codigo_Produto,Estoque!A1092,[0]!quantidade_adquirida)-SUMIF([0]!cod_saida,Estoque!A1092,quantidade_comprada)","v":0}]
[null,null,null,null,null,{"$f":"SUMIF(Codigo_Produto,Estoque!A1093,[0]!quantidade_adquirida)-SUMIF([0]!cod_saida,Estoque!A1093,quantidade_comprada)","v":0}]
[null,null,null,null,null,{"$f":"SUMIF(Codigo_Produto,Estoque!A1094,[0]!quantidade_adquirida)-SUMIF([0]!cod_saida,Estoque!A1094,quantidade_comprada)","v":0}]
[null,null,null,null,null,{"$f":"SUMIF(Codigo_Produto,Estoque!A1095,[0]!quantidade_adquirida)-SUMIF([0]!cod_saida,Estoque!A1095,quantidade_comprada)","v":0}]
[null,null,null,null,null,{"$f":"SUMIF(Codigo_Produto,Estoque!A1096,[0]!quantidade_adquirida)-SUMIF([0]!cod_saida,Estoque!A1096,quantidade_comprada)","v":0}]
[null,null,null,null,null,{"$f":"SUMIF(Codigo_Produto,Estoque!A1097,[0]!quantidade_adquirida)-SUMIF([0]!cod_saida,Estoque!A1097,quantidade_comprada)","v":0}]
[null,null,null,null,null,{"$f":"SUMIF(Codigo_Produto,Estoque!A1098,[0]!quantidade_adquirida)-SUMIF([0]!cod_saida,Estoque!A1098,quantidade_comprada)","v":0}]
[null,null,null,null,null,{"$f":"SUMIF(Codigo_Produto,Estoque!A1099,[0]!quantidade_adquirida)-SUMIF([0]!cod_saida,Estoque!A1099,quantidade_comprada)","v":0}]
[null,null,null,null,null,{"$f":"SUMIF(Codigo_Produto,Estoque!A1100,[0]!quantidade_adquirida)-SUMIF([0]!cod_saida,Estoque!A1100,quantidade_comprada)","v":0}]
[null,null,null,null,null,{"$f":"SUMIF(Codigo_Produto,Estoque!A1101,[0]!quantidade_adquirida)-SUMIF([0]!cod_saida,Estoque!A1101,quantidade_comprada)","v":0}]
[null,null,null,null,null,{"$f":"SUMIF(Codigo_Produto,Estoque!A1102,[0]!quantidade_adquirida)-SUMIF([0]!cod_saida,Estoque!A1102,quantidade_comprada)","v":0}]
[null,null,null,null,null,{"$f":"SUMIF(Codigo_Produto,Estoque!A1103,[0]!quantidade_adquirida)-SUMIF([0]!cod_saida,Estoque!A1103,quantidade_comprada)","v":0}]
[null,null,null,null,null,{"$f":"SUMIF(Codigo_Produto,Estoque!A1104,[0]!quantidade_adquirida)-SUMIF([0]!cod_saida,Estoque!A1104,quantidade_comprada)","v":0}]
[null,null,null,null,null,{"$f":"SUMIF(Codigo_Produto,Estoque!A1105,[0]!quantidade_adquirida)-SUMIF([0]!cod_saida,Estoque!A1105,quantidade_comprada)","v":0}]
[null,null,null,null,null,{"$f":"SUMIF(Codigo_Produto,Estoque!A1106,[0]!quantidade_adquirida)-SUMIF([0]!cod_saida,Estoque!A1106,quantidade_comprada)","v":0}]
[null,null,null,null,null,{"$f":"SUMIF(Codigo_Produto,Estoque!A1107,[0]!quantidade_adquirida)-SUMIF([0]!cod_saida,Estoque!A1107,quantidade_comprada)","v":0}]
[null,null,null,null,null,{"$f":"SUMIF(Codigo_Produto,Estoque!A1108,[0]!quantidade_adquirida)-SUMIF([0]!cod_saida,Estoque!A1108,quantidade_comprada)","v":0}]
[null,null,null,null,null,{"$f":"SUMIF(Codigo_Produto,Estoque!A1109,[0]!quantidade_adquirida)-SUMIF([0]!cod_saida,Estoque!A1109,quantidade_comprada)","v":0}]
[null,null,null,null,null,{"$f":"SUMIF(Codigo_Produto,Estoque!A1110,[0]!quantidade_adquirida)-SUMIF([0]!cod_saida,Estoque!A1110,quantidade_comprada)","v":0}]
[null,null,null,null,null,{"$f":"SUMIF(Codigo_Produto,Estoque!A1111,[0]!quantidade_adquirida)-SUMIF([0]!cod_saida,Estoque!A1111,quantidade_comprada)","v":0}]
[null,null,null,null,null,{"$f":"SUMIF(Codigo_Produto,Estoque!A1112,[0]!quantidade_adquirida)-SUMIF([0]!cod_saida,Estoque!A1112,quantidade_comprada)","v":0}]
[null,null,null,null,null,{"$f":"SUMIF(Codigo_Produto,Estoque!A1113,[0]!quantidade_adquirida)-SUMIF([0]!cod_saida,Estoque!A1113,quantidade_comprada)","v":0}]
[null,null,null,null,null,{"$f":"SUMIF(Codigo_Produto,Estoque!A1114,[0]!quantidade_adquirida)-SUMIF([0]!cod_saida,Estoque!A1114,quantidade_comprada)","v":0}]
[null,null,null,null,null,{"$f":"SUMIF(Codigo_Produto,Estoque!A1115,[0]!quantidade_adquirida)-SUMIF([0]!cod_saida,Estoque!A1115,quantidade_comprada)","v":0}]
[null,null,null,null,null,{"$f":"SUMIF(Codigo_Produto,Estoque!A1116,[0]!quantidade_adquirida)-SUMIF([0]!cod_saida,Estoque!A1116,quantidade_comprada)","v":0}]
[null,null,null,null,null,{"$f":"SUMIF(Codigo_Produto,Estoque!A1117,[0]!quantidade_adquirida)-SUMIF([0]!cod_saida,Estoque!A1117,quantidade_comprada)","v":0}]
[null,null,null,null,null,{"$f":"SUMIF(Codigo_Produto,Estoque!A1118,[0]!quantidade_adquirida)-SUMIF([0]!cod_saida,Estoque!A1118,quantidade_comprada)","v":0}]
[null,null,null,null,null,{"$f":"SUMIF(Codigo_Produto,Estoque!A1119,[0]!quantidade_adquirida)-SUMIF([0]!cod_saida,Estoque!A1119,quantidade_comprada)","v":0}]
[null,null,null,null,null,{"$f":"SUMIF(Codigo_Produto,Estoque!A1120,[0]!quantidade_adquirida)-SUMIF([0]!cod_saida,Estoque!A1120,quantidade_comprada)","v":0}]
[null,null,null,null,null,{"$f":"SUMIF(Codigo_Produto,Estoque!A1121,[0]!quantidade_adquirida)-SUMIF([0]!cod_saida,Estoque!A1121,quantidade_comprada)","v":0}]
[null,null,null,null,null,{"$f":"SUMIF(Codigo_Produto,Estoque!A1122,[0]!quantidade_adquirida)-SUMIF([0]!cod_saida,Estoque!A1122,quantidade_comprada)","v":0}]
[null,null,null,null,null,{"$f":"SUMIF(Codigo_Produto,Estoque!A1123,[0]!quantidade_adquirida)-SUMIF([0]!cod_saida,Estoque!A1123,quantidade_comprada)","v":0}]
[null,null,null,null,null,{"$f":"SUMIF(Codigo_Produto,Estoque!A1124,[0]!quantidade_adquirida)-SUMIF([0]!cod_saida,Estoque!A1124,quantidade_comprada)","v":0}]
[null,null,null,null,null,{"$f":"SUMIF(Codigo_Produto,Estoque!A1125,[0]!quantidade_adquirida)-SUMIF([0]!cod_saida,Estoque!A1125,quantidade_comprada)","v":0}]
[null,null,null,null,null,{"$f":"SUMIF(Codigo_Produto,Estoque!A1126,[0]!quantidade_adquirida)-SUMIF([0]!cod_saida,Estoque!A1126,quantidade_comprada)","v":0}]
[null,null,null,null,null,{"$f":"SUMIF(Codigo_Produto,Estoque!A1127,[0]!quantidade_adquirida)-SUMIF([0]!cod_saida,Estoque!A1127,quantidade_comprada)","v":0}]
[null,null,null,null,null,{"$f":"SUMIF(Codigo_Produto,Estoque!A1128,[0]!quantidade_adquirida)-SUMIF([0]!cod_saida,Estoque!A1128,quantidade_comprada)","v":0}]
[null,null,null,null,null,{"$f":"SUMIF(Codigo_Produto,Estoque!A1129,[0]!quantidade_adquirida)-SUMIF([0]!cod_saida,Estoque!A1129,quantidade_comprada)","v":0}]
[null,null,null,null,null,{"$f":"SUMIF(Codigo_Produto,Estoque!A1130,[0]!quantidade_adquirida)-SUMIF([0]!cod_saida,Estoque!A1130,quantidade_comprada)","v":0}]
[null,null,null,null,null,{"$f":"SUMIF(Codigo_Produto,Estoque!A1131,[0]!quantidade_adquirida)-SUMIF([0]!cod_saida,Estoque!A1131,quantidade_comprada)","v":0}]
[null,null,null,null,null,{"$f":"SUMIF(Codigo_Produto,Estoque!A1132,[0]!quantidade_adquirida)-SUMIF([0]!cod_saida,Estoque!A1132,quantidade_comprada)","v":0}]
[null,null,null,null,null,{"$f":"SUMIF(Codigo_Produto,Estoque!A1133,[0]!quantidade_adquirida)-SUMIF([0]!cod_saida,Estoque!A1133,quantidade_comprada)","v":0}]
[null,null,null,null,null,{"$f":"SUMIF(Codigo_Produto,Estoque!A1134,[0]!quantidade_adquirida)-SUMIF([0]!cod_saida,Estoque!A1134,quantidade_comprada)","v":0}]
[null,null,null,null,null,{"$f":"SUMIF(Codigo_Produto,Estoque!A1135,[0]!quantidade_adquirida)-SUMIF([0]!cod_saida,Estoque!A1135,quantidade_comprada)","v":0}]
[null,null,null,null,null,{"$f":"SUMIF(Codigo_Produto,Estoque!A1136,[0]!quantidade_adquirida)-SUMIF([0]!cod_saida,Estoque!A1136,quantidade_comprada)","v":0}]
[null,null,null,null,null,{"$f":"SUMIF(Codigo_Produto,Estoque!A1137,[0]!quantidade_adquirida)-SUMIF([0]!cod_saida,Estoque!A1137,quantidade_comprada)","v":0}]
[null,null,null,null,null,{"$f":"SUMIF(Codigo_Produto,Estoque!A1138,[0]!quantidade_adquirida)-SUMIF([0]!cod_saida,Estoque!A1138,quantidade_comprada)","v":0}]
[null,null,null,null,null,{"$f":"SUMIF(Codigo_Produto,Estoque!A1139,[0]!quantidade_adquirida)-SUMIF([0]!cod_saida,Estoque!A1139,quantidade_comprada)","v":0}]
[null,null,null,null,null,{"$f":"SUMIF(Codigo_Produto,Estoque!A1140,[0]!quantidade_adquirida)-SUMIF([0]!cod_saida,Estoque!A1140,quantidade_comprada)","v":0}]
[null,null,null,null,null,{"$f":"SUMIF(Codigo_Produto,Estoque!A1141,[0]!quantidade_adquirida)-SUMIF([0]!cod_saida,Estoque!A1141,quantidade_comprada)","v":0}]
[null,null,null,null,null,{"$f":"SUMIF(Codigo_Produto,Estoque!A1142,[0]!quantidade_adquirida)-SUMIF([0]!cod_saida,Estoque!A1142,quantidade_comprada)","v":0}]
[null,null,null,null,null,{"$f":"SUMIF(Codigo_Produto,Estoque!A1143,[0]!quantidade_adquirida)-SUMIF([0]!cod_saida,Estoque!A1143,quantidade_comprada)","v":0}]
[null,null,null,null,null,{"$f":"SUMIF(Codigo_Produto,Estoque!A1144,[0]!quantidade_adquirida)-SUMIF([0]!cod_saida,Estoque!A1144,quantidade_comprada)","v":0}]
[null,null,null,null,null,{"$f":"SUMIF(Codigo_Produto,Estoque!A1145,[0]!quantidade_adquirida)-SUMIF([0]!cod_saida,Estoque!A1145,quantidade_comprada)","v":0}]
[null,null,null,null,null,{"$f":"SUMIF(Codigo_Produto,Estoque!A1146,[0]!quantidade_adquirida)-SUMIF([0]!cod_saida,Estoque!A1146,quantidade_comprada)","v":0}]
[null,null,null,null,null,{"$f":"SUMIF(Codigo_Produto,Estoque!A1147,[0]!quantidade_adquirida)-SUMIF([0]!cod_saida,Estoque!A1147,quantidade_comprada)","v":0}]
[null,null,null,null,null,{"$f":"SUMIF(Codigo_Produto,Estoque!A1148,[0]!quantidade_adquirida)-SUMIF([0]!cod_saida,Estoque!A1148,quantidade_comprada)","v":0}]
[null,null,null,null,null,{"$f":"SUMIF(Codigo_Produto,Estoque!A1149,[0]!quantidade_adquirida)-SUMIF([0]!cod_saida,Estoque!A1149,quantidade_comprada)","v":0}]
[null,null,null,null,null,{"$f":"SUMIF(Codigo_Produto,Estoque!A1150,[0]!quantidade_adquirida)-SUMIF([0]!cod_saida,Estoque!A1150,quantidade_comprada)","v":0}]
[null,null,null,null,null,{"$f":"SUMIF(Codigo_Produto,Estoque!A1151,[0]!quantidade_adquirida)-SUMIF([0]!cod_saida,Estoque!A1151,quantidade_comprada)","v":0}]
[null,null,null,null,null,{"$f":"SUMIF(Codigo_Produto,Estoque!A1152,[0]!quantidade_adquirida)-SUMIF([0]!cod_saida,Estoque!A1152,quantidade_comprada)","v":0}]
[null,null,null,null,null,{"$f":"SUMIF(Codigo_Produto,Estoque!A1153,[0]!quantidade_adquirida)-SUMIF([0]!cod_saida,Estoque!A1153,quantidade_comprada)","v":0}]
[null,null,null,null,null,{"$f":"SUMIF(Codigo_Produto,Estoque!A1154,[0]!quantidade_adquirida)-SUMIF([0]!cod_saida,Estoque!A1154,quantidade_comprada)","v":0}]
[null,null,null,null,null,{"$f":"SUMIF(Codigo_Produto,Estoque!A1155,[0]!quantidade_adquirida)-SUMIF([0]!cod_saida,Estoque!A1155,quantidade_comprada)","v":0}]
[null,null,null,null,null,{"$f":"SUMIF(Codigo_Produto,Estoque!A1156,[0]!quantidade_adquirida)-SUMIF([0]!cod_saida,Estoque!A1156,quantidade_comprada)","v":0}]
[null,null,null,null,null,{"$f":"SUMIF(Codigo_Produto,Estoque!A1157,[0]!quantidade_adquirida)-SUMIF([0]!cod_saida,Estoque!A1157,quantidade_comprada)","v":0}]
[null,null,null,null,null,{"$f":"SUMIF(Codigo_Produto,Estoque!A1158,[0]!quantidade_adquirida)-SUMIF([0]!cod_saida,Estoque!A1158,quantidade_comprada)","v":0}]
[null,null,null,null,null,{"$f":"SUMIF(Codigo_Produto,Estoque!A1159,[0]!quantidade_adquirida)-SUMIF([0]!cod_saida,Estoque!A1159,quantidade_comprada)","v":0}]
[null,null,null,null,null,{"$f":"SUMIF(Codigo_Produto,Estoque!A1160,[0]!quantidade_adquirida)-SUMIF([0]!cod_saida,Estoque!A1160,quantidade_comprada)","v":0}]
[null,null,null,null,null,{"$f":"SUMIF(Codigo_Produto,Estoque!A1161,[0]!quantidade_adquirida)-SUMIF([0]!cod_saida,Estoque!A1161,quantidade_comprada)","v":0}]
[null,null,null,null,null,{"$f":"SUMIF(Codigo_Produto,Estoque!A1162,[0]!quantidade_adquirida)-SUMIF([0]!cod_saida,Estoque!A1162,quantidade_comprada)","v":0}]
[null,null,null,null,null,{"$f":"SUMIF(Codigo_Produto,Estoque!A1163,[0]!quantidade_adquirida)-SUMIF([0]!cod_saida,Estoque!A1163,quantidade_comprada)","v":0}]
[null,null,null,null,null,{"$f":"SUMIF(Codigo_Produto,Estoque!A1164,[0]!quantidade_adquirida)-SUMIF([0]!cod_saida,Estoque!A1164,quantidade_comprada)","v":0}]
[null,null,null,null,null,{"$f":"SUMIF(Codigo_Produto,Estoque!A1165,[0]!quantidade_adquirida)-SUMIF([0]!cod_saida,Estoque!A1165,quantidade_comprada)","v":0}]
[null,null,null,null,null,{"$f":"SUMIF(Codigo_Produto,Estoque!A1166,[0]!quantidade_adquirida)-SUMIF([0]!cod_saida,Estoque!A1166,quantidade_comprada)","v":0}]
[null,null,null,null,null,{"$f":"SUMIF(Codigo_Produto,Estoque!A1167,[0]!quantidade_adquirida)-SUMIF([0]!cod_saida,Estoque!A1167,quantidade_comprada)","v":0}]
[null,null,null,null,null,{"$f":"SUMIF(Codigo_Produto,Estoque!A1168,[0]!quantidade_adquirida)-SUMIF([0]!cod_saida,Estoque!A1168,quantidade_comprada)","v":0}]
[null,null,null,null,null,{"$f":"SUMIF(Codigo_Produto,Estoque!A1169,[0]!quantidade_adquirida)-SUMIF([0]!cod_saida,Estoque!A1169,quantidade_comprada)","v":0}]
[null,null,null,null,null,{"$f":"SUMIF(Codigo_Produto,Estoque!A1170,[0]!quantidade_adquirida)-SUMIF([0]!cod_saida,Estoque!A1170,quantidade_comprada)","v":0}]
[null,null,null,null,null,{"$f":"SUMIF(Codigo_Produto,Estoque!A1171,[0]!quantidade_adquirida)-SUMIF([0]!cod_saida,Estoque!A1171,quantidade_comprada)","v":0}]
[null,null,null,null,null,{"$f":"SUMIF(Codigo_Produto,Estoque!A1172,[0]!quantidade_adquirida)-SUMIF([0]!cod_saida,Estoque!A1172,quantidade_comprada)","v":0}]
[null,null,null,null,null,{"$f":"SUMIF(Codigo_Produto,Estoque!A1173,[0]!quantidade_adquirida)-SUMIF([0]!cod_saida,Estoque!A1173,quantidade_comprada)","v":0}]
[null,null,null,null,null,{"$f":"SUMIF(Codigo_Produto,Estoque!A1174,[0]!quantidade_adquirida)-SUMIF([0]!cod_saida,Estoque!A1174,quantidade_comprada)","v":0}]
[null,null,null,null,null,{"$f":"SUMIF(Codigo_Produto,Estoque!A1175,[0]!quantidade_adquirida)-SUMIF([0]!cod_saida,Estoque!A1175,quantidade_comprada)","v":0}]
[null,null,null,null,null,{"$f":"SUMIF(Codigo_Produto,Estoque!A1176,[0]!quantidade_adquirida)-SUMIF([0]!cod_saida,Estoque!A1176,quantidade_comprada)","v":0}]
[null,null,null,null,null,{"$f":"SUMIF(Codigo_Produto,Estoque!A1177,[0]!quantidade_adquirida)-SUMIF([0]!cod_saida,Estoque!A1177,quantidade_comprada)","v":0}]
[null,null,null,null,null,{"$f":"SUMIF(Codigo_Produto,Estoque!A1178,[0]!quantidade_adquirida)-SUMIF([0]!cod_saida,Estoque!A1178,quantidade_comprada)","v":0}]
[null,null,null,null,null,{"$f":"SUMIF(Codigo_Produto,Estoque!A1179,[0]!quantidade_adquirida)-SUMIF([0]!cod_saida,Estoque!A1179,quantidade_comprada)","v":0}]
[null,null,null,null,null,{"$f":"SUMIF(Codigo_Produto,Estoque!A1180,[0]!quantidade_adquirida)-SUMIF([0]!cod_saida,Estoque!A1180,quantidade_comprada)","v":0}]
[null,null,null,null,null,{"$f":"SUMIF(Codigo_Produto,Estoque!A1181,[0]!quantidade_adquirida)-SUMIF([0]!cod_saida,Estoque!A1181,quantidade_comprada)","v":0}]
[null,null,null,null,null,{"$f":"SUMIF(Codigo_Produto,Estoque!A1182,[0]!quantidade_adquirida)-SUMIF([0]!cod_saida,Estoque!A1182,quantidade_comprada)","v":0}]
[null,null,null,null,null,{"$f":"SUMIF(Codigo_Produto,Estoque!A1183,[0]!quantidade_adquirida)-SUMIF([0]!cod_saida,Estoque!A1183,quantidade_comprada)","v":0}]
[null,null,null,null,null,{"$f":"SUMIF(Codigo_Produto,Estoque!A1184,[0]!quantidade_adquirida)-SUMIF([0]!cod_saida,Estoque!A1184,quantidade_comprada)","v":0}]
[null,null,null,null,null,{"$f":"SUMIF(Codigo_Produto,Estoque!A1185,[0]!quantidade_adquirida)-SUMIF([0]!cod_saida,Estoque!A1185,quantidade_comprada)","v":0}]
[null,null,null,null,null,{"$f":"SUMIF(Codigo_Produto,Estoque!A1186,[0]!quantidade_adquirida)-SUMIF([0]!cod_saida,Estoque!A1186,quantidade_comprada)","v":0}]
[null,null,null,null,null,{"$f":"SUMIF(Codigo_Produto,Estoque!A1187,[0]!quantidade_adquirida)-SUMIF([0]!cod_saida,Estoque!A1187,quantidade_comprada)","v":0}]
[null,null,null,null,null,{"$f":"SUMIF(Codigo_Produto,Estoque!A1188,[0]!quantidade_adquirida)-SUMIF([0]!cod_saida,Estoque!A1188,quantidade_comprada)","v":0}]
[null,null,null,null,null,{"$f":"SUMIF(Codigo_Produto,Estoque!A1189,[0]!quantidade_adquirida)-SUMIF([0]!cod_saida,Estoque!A1189,quantidade_comprada)","v":0}]
[null,null,null,null,null,{"$f":"SUMIF(Codigo_Produto,Estoque!A1190,[0]!quantidade_adquirida)-SUMIF([0]!cod_saida,Estoque!A1190,quantidade_comprada)","v":0}]
[null,null,null,null,null,{"$f":"SUMIF(Codigo_Produto,Estoque!A1191,[0]!quantidade_adquirida)-SUMIF([0]!cod_saida,Estoque!A1191,quantidade_comprada)","v":0}]
[null,null,null,null,null,{"$f":"SUMIF(Codigo_Produto,Estoque!A1192,[0]!quantidade_adquirida)-SUMIF([0]!cod_saida,Estoque!A1192,quantidade_comprada)","v":0}]
[null,null,null,null,null,{"$f":"SUMIF(Codigo_Produto,Estoque!A1193,[0]!quantidade_adquirida)-SUMIF([0]!cod_saida,Estoque!A1193,quantidade_comprada)","v":0}]
[null,null,null,null,null,{"$f":"SUMIF(Codigo_Produto,Estoque!A1194,[0]!quantidade_adquirida)-SUMIF([0]!cod_saida,Estoque!A1194,quantidade_comprada)","v":0}]
[null,null,null,null,null,{"$f":"SUMIF(Codigo_Produto,Estoque!A1195,[0]!quantidade_adquirida)-SUMIF([0]!cod_saida,Estoque!A1195,quantidade_comprada)","v":0}]
[null,null,null,null,null,{"$f":"SUMIF(Codigo_Produto,Estoque!A1196,[0]!quantidade_adquirida)-SUMIF([0]!cod_saida,Estoque!A1196,quantidade_comprada)","v":0}]
[null,null,null,null,null,{"$f":"SUMIF(Codigo_Produto,Estoque!A1197,[0]!quantidade_adquirida)-SUMIF([0]!cod_saida,Estoque!A1197,quantidade_comprada)","v":0}]
[null,null,null,null,null,{"$f":"SUMIF(Codigo_Produto,Estoque!A1198,[0]!quantidade_adquirida)-SUMIF([0]!cod_saida,Estoque!A1198,quantidade_comprada)","v":0}]
[null,null,null,null,null,{"$f":"SUMIF(Codigo_Produto,Estoque!A1199,[0]!quantidade_adquirida)-SUMIF([0]!cod_saida,Estoque!A1199,quantidade_comprada)","v":0}]
[null,null,null,null,null,{"$f":"SUMIF(Codigo_Produto,Estoque!A1200,[0]!quantidade_adquirida)-SUMIF([0]!cod_saida,Estoque!A1200,quantidade_comprada)","v":0}]
[null,null,null,null,null,{"$f":"SUMIF(Codigo_Produto,Estoque!A1201,[0]!quantidade_adquirida)-SUMIF([0]!cod_saida,Estoque!A1201,quantidade_comprada)","v":0}]
[null,null,null,null,null,{"$f":"SUMIF(Codigo_Produto,Estoque!A1202,[0]!quantidade_adquirida)-SUMIF([0]!cod_saida,Estoque!A1202,quantidade_comprada)","v":0}]
[null,null,null,null,null,{"$f":"SUMIF(Codigo_Produto,Estoque!A1203,[0]!quantidade_adquirida)-SUMIF([0]!cod_saida,Estoque!A1203,quantidade_comprada)","v":0}]
[null,null,null,null,null,{"$f":"SUMIF(Codigo_Produto,Estoque!A1204,[0]!quantidade_adquirida)-SUMIF([0]!cod_saida,Estoque!A1204,quantidade_comprada)","v":0}]
[null,null,null,null,null,{"$f":"SUMIF(Codigo_Produto,Estoque!A1205,[0]!quantidade_adquirida)-SUMIF([0]!cod_saida,Estoque!A1205,quantidade_comprada)","v":0}]
[null,null,null,null,null,{"$f":"SUMIF(Codigo_Produto,Estoque!A1206,[0]!quantidade_adquirida)-SUMIF([0]!cod_saida,Estoque!A1206,quantidade_comprada)","v":0}]
[null,null,null,null,null,{"$f":"SUMIF(Codigo_Produto,Estoque!A1207,[0]!quantidade_adquirida)-SUMIF([0]!cod_saida,Estoque!A1207,quantidade_comprada)","v":0}]
[null,null,null,null,null,{"$f":"SUMIF(Codigo_Produto,Estoque!A1208,[0]!quantidade_adquirida)-SUMIF([0]!cod_saida,Estoque!A1208,quantidade_comprada)","v":0}]
[null,null,null,null,null,{"$f":"SUMIF(Codigo_Produto,Estoque!A1209,[0]!quantidade_adquirida)-SUMIF([0]!cod_saida,Estoque!A1209,quantidade_comprada)","v":0}]
[null,null,null,null,null,{"$f":"SUMIF(Codigo_Produto,Estoque!A1210,[0]!quantidade_adquirida)-SUMIF([0]!cod_saida,Estoque!A1210,quantidade_comprada)","v":0}]
[null,null,null,null,null,{"$f":"SUMIF(Codigo_Produto,Estoque!A1211,[0]!quantidade_adquirida)-SUMIF([0]!cod_saida,Estoque!A1211,quantidade_comprada)","v":0}]
[null,null,null,null,null,{"$f":"SUMIF(Codigo_Produto,Estoque!A1212,[0]!quantidade_adquirida)-SUMIF([0]!cod_saida,Estoque!A1212,quantidade_comprada)","v":0}]
[null,null,null,null,null,{"$f":"SUMIF(Codigo_Produto,Estoque!A1213,[0]!quantidade_adquirida)-SUMIF([0]!cod_saida,Estoque!A1213,quantidade_comprada)","v":0}]
[null,null,null,null,null,{"$f":"SUMIF(Codigo_Produto,Estoque!A1214,[0]!quantidade_adquirida)-SUMIF([0]!cod_saida,Estoque!A1214,quantidade_comprada)","v":0}]
[null,null,null,null,null,{"$f":"SUMIF(Codigo_Produto,Estoque!A1215,[0]!quantidade_adquirida)-SUMIF([0]!cod_saida,Estoque!A1215,quantidade_comprada)","v":0}]
[null,null,null,null,null,{"$f":"SUMIF(Codigo_Produto,Estoque!A1216,[0]!quantidade_adquirida)-SUMIF([0]!cod_saida,Estoque!A1216,quantidade_comprada)","v":0}]
[null,null,null,null,null,{"$f":"SUMIF(Codigo_Produto,Estoque!A1217,[0]!quantidade_adquirida)-SUMIF([0]!cod_saida,Estoque!A1217,quantidade_comprada)","v":0}]
[null,null,null,null,null,{"$f":"SUMIF(Codigo_Produto,Estoque!A1218,[0]!quantidade_adquirida)-SUMIF([0]!cod_saida,Estoque!A1218,quantidade_comprada)","v":0}]
[null,null,null,null,null,{"$f":"SUMIF(Codigo_Produto,Estoque!A1219,[0]!quantidade_adquirida)-SUMIF([0]!cod_saida,Estoque!A1219,quantidade_comprada)","v":0}]
[null,null,null,null,null,{"$f":"SUMIF(Codigo_Produto,Estoque!A1220,[0]!quantidade_adquirida)-SUMIF([0]!cod_saida,Estoque!A1220,quantidade_comprada)","v":0}]
[null,null,null,null,null,{"$f":"SUMIF(Codigo_Produto,Estoque!A1221,[0]!quantidade_adquirida)-SUMIF([0]!cod_saida,Estoque!A1221,quantidade_comprada)","v":0}]
[null,null,null,null,null,{"$f":"SUMIF(Codigo_Produto,Estoque!A1222,[0]!quantidade_adquirida)-SUMIF([0]!cod_saida,Estoque!A1222,quantidade_comprada)","v":0}]
[null,null,null,null,null,{"$f":"SUMIF(Codigo_Produto,Estoque!A1223,[0]!quantidade_adquirida)-SUMIF([0]!cod_saida,Estoque!A1223,quantidade_comprada)","v":0}]
[null,null,null,null,null,{"$f":"SUMIF(Codigo_Produto,Estoque!A1224,[0]!quantidade_adquirida)-SUMIF([0]!cod_saida,Estoque!A1224,quantidade_comprada)","v":0}]
[null,null,null,null,null,{"$f":"SUMIF(Codigo_Produto,Estoque!A1225,[0]!quantidade_adquirida)-SUMIF([0]!cod_saida,Estoque!A1225,quantidade_comprada)","v":0}]
[null,null,null,null,null,{"$f":"SUMIF(Codigo_Produto,Estoque!A1226,[0]!quantidade_adquirida)-SUMIF([0]!cod_saida,Estoque!A1226,quantidade_comprada)","v":0}]
[null,null,null,null,null,{"$f":"SUMIF(Codigo_Produto,Estoque!A1227,[0]!quantidade_adquirida)-SUMIF([0]!cod_saida,Estoque!A1227,quantidade_comprada)","v":0}]
[null,null,null,null,null,{"$f":"SUMIF(Codigo_Produto,Estoque!A1228,[0]!quantidade_adquirida)-SUMIF([0]!cod_saida,Estoque!A1228,quantidade_comprada)","v":0}]
[null,null,null,null,null,{"$f":"SUMIF(Codigo_Produto,Estoque!A1229,[0]!quantidade_adquirida)-SUMIF([0]!cod_saida,Estoque!A1229,quantidade_comprada)","v":0}]
[null,null,null,null,null,{"$f":"SUMIF(Codigo_Produto,Estoque!A1230,[0]!quantidade_adquirida)-SUMIF([0]!cod_saida,Estoque!A1230,quantidade_comprada)","v":0}]
[null,null,null,null,null,{"$f":"SUMIF(Codigo_Produto,Estoque!A1231,[0]!quantidade_adquirida)-SUMIF([0]!cod_saida,Estoque!A1231,quantidade_comprada)","v":0}]
[null,null,null,null,null,{"$f":"SUMIF(Codigo_Produto,Estoque!A1232,[0]!quantidade_adquirida)-SUMIF([0]!cod_saida,Estoque!A1232,quantidade_comprada)","v":0}]
[null,null,null,null,null,{"$f":"SUMIF(Codigo_Produto,Estoque!A1233,[0]!quantidade_adquirida)-SUMIF([0]!cod_saida,Estoque!A1233,quantidade_comprada)","v":0}]
[null,null,null,null,null,{"$f":"SUMIF(Codigo_Produto,Estoque!A1234,[0]!quantidade_adquirida)-SUMIF([0]!cod_saida,Estoque!A1234,quantidade_comprada)","v":0}]
[null,null,null,null,null,{"$f":"SUMIF(Codigo_Produto,Estoque!A1235,[0]!quantidade_adquirida)-SUMIF([0]!cod_saida,Estoque!A1235,quantidade_comprada)","v":0}]
[null,null,null,null,null,{"$f":"SUMIF(Codigo_Produto,Estoque!A1236,[0]!quantidade_adquirida)-SUMIF([0]!cod_saida,Estoque!A1236,quantidade_comprada)","v":0}]
[null,null,null,null,null,{"$f":"SUMIF(Codigo_Produto,Estoque!A1237,[0]!quantidade_adquirida)-SUMIF([0]!cod_saida,Estoque!A1237,quantidade_comprada)","v":0}]
[null,null,null,null,null,{"$f":"SUMIF(Codigo_Produto,Estoque!A1238,[0]!quantidade_adquirida)-SUMIF([0]!cod_saida,Estoque!A1238,quantidade_comprada)","v":0}]
[null,null,null,null,null,{"$f":"SUMIF(Codigo_Produto,Estoque!A1239,[0]!quantidade_adquirida)-SUMIF([0]!cod_saida,Estoque!A1239,quantidade_comprada)","v":0}]
[null,null,null,null,null,{"$f":"SUMIF(Codigo_Produto,Estoque!A1240,[0]!quantidade_adquirida)-SUMIF([0]!cod_saida,Estoque!A1240,quantidade_comprada)","v":0}]
[null,null,null,null,null,{"$f":"SUMIF(Codigo_Produto,Estoque!A1241,[0]!quantidade_adquirida)-SUMIF([0]!cod_saida,Estoque!A1241,quantidade_comprada)","v":0}]
[null,null,null,null,null,{"$f":"SUMIF(Codigo_Produto,Estoque!A1242,[0]!quantidade_adquirida)-SUMIF([0]!cod_saida,Estoque!A1242,quantidade_comprada)","v":0}]
[null,null,null,null,null,{"$f":"SUMIF(Codigo_Produto,Estoque!A1243,[0]!quantidade_adquirida)-SUMIF([0]!cod_saida,Estoque!A1243,quantidade_comprada)","v":0}]
[null,null,null,null,null,{"$f":"SUMIF(Codigo_Produto,Estoque!A1244,[0]!quantidade_adquirida)-SUMIF([0]!cod_saida,Estoque!A1244,quantidade_comprada)","v":0}]
[null,null,null,null,null,{"$f":"SUMIF(Codigo_Produto,Estoque!A1245,[0]!quantidade_adquirida)-SUMIF([0]!cod_saida,Estoque!A1245,quantidade_comprada)","v":0}]
[null,null,null,null,null,{"$f":"SUMIF(Codigo_Produto,Estoque!A1246,[0]!quantidade_adquirida)-SUMIF([0]!cod_saida,Estoque!A1246,quantidade_comprada)","v":0}]
[null,null,null,null,null,{"$f":"SUMIF(Codigo_Produto,Estoque!A1247,[0]!quantidade_adquirida)-SUMIF([0]!cod_saida,Estoque!A1247,quantidade_comprada)","v":0}]
[null,null,null,null,null,{"$f":"SUMIF(Codigo_Produto,Estoque!A1248,[0]!quantidade_adquirida)-SUMIF([0]!cod_saida,Estoque!A1248,quantidade_comprada)","v":0}]
[null,null,null,null,null,{"$f":"SUMIF(Codigo_Produto,Estoque!A1249,[0]!quantidade_adquirida)-SUMIF([0]!cod_saida,Estoque!A1249,quantidade_comprada)","v":0}]
[null,null,null,null,null,{"$f":"SUMIF(Codigo_Produto,Estoque!A1250,[0]!quantidade_adquirida)-SUMIF([0]!cod_saida,Estoque!A1250,quantidade_comprada)","v":0}]
[null,null,null,null,null,{"$f":"SUMIF(Codigo_Produto,Estoque!A1251,[0]!quantidade_adquirida)-SUMIF([0]!cod_saida,Estoque!A1251,quantidade_comprada)","v":0}]
[null,null,null,null,null,{"$f":"SUMIF(Codigo_Produto,Estoque!A1252,[0]!quantidade_adquirida)-SUMIF([0]!cod_saida,Estoque!A1252,quantidade_comprada)","v":0}]
[null,null,null,null,null,{"$f":"SUMIF(Codigo_Produto,Estoque!A1253,[0]!quantidade_adquirida)-SUMIF([0]!cod_saida,Estoque!A1253,quantidade_comprada)","v":0}]
[null,null,null,null,null,{"$f":"SUMIF(Codigo_Produto,Estoque!A1254,[0]!quantidade_adquirida)-SUMIF([0]!cod_saida,Estoque!A1254,quantidade_comprada)","v":0}]
[null,null,null,null,null,{"$f":"SUMIF(Codigo_Produto,Estoque!A1255,[0]!quantidade_adquirida)-SUMIF([0]!cod_saida,Estoque!A1255,quantidade_comprada)","v":0}]
[null,null,null,null,null,{"$f":"SUMIF(Codigo_Produto,Estoque!A1256,[0]!quantidade_adquirida)-SUMIF([0]!cod_saida,Estoque!A1256,quantidade_comprada)","v":0}]
[null,null,null,null,null,{"$f":"SUMIF(Codigo_Produto,Estoque!A1257,[0]!quantidade_adquirida)-SUMIF([0]!cod_saida,Estoque!A1257,quantidade_comprada)","v":0}]
[null,null,null,null,null,{"$f":"SUMIF(Codigo_Produto,Estoque!A1258,[0]!quantidade_adquirida)-SUMIF([0]!cod_saida,Estoque!A1258,quantidade_comprada)","v":0}]
[null,null,null,null,null,{"$f":"SUMIF(Codigo_Produto,Estoque!A1259,[0]!quantidade_adquirida)-SUMIF([0]!cod_saida,Estoque!A1259,quantidade_comprada)","v":0}]
[null,null,null,null,null,{"$f":"SUMIF(Codigo_Produto,Estoque!A1260,[0]!quantidade_adquirida)-SUMIF([0]!cod_saida,Estoque!A1260,quantidade_comprada)","v":0}]
[null,null,null,null,null,{"$f":"SUMIF(Codigo_Produto,Estoque!A1261,[0]!quantidade_adquirida)-SUMIF([0]!cod_saida,Estoque!A1261,quantidade_comprada)","v":0}]
[null,null,null,null,null,{"$f":"SUMIF(Codigo_Produto,Estoque!A1262,[0]!quantidade_adquirida)-SUMIF([0]!cod_saida,Estoque!A1262,quantidade_comprada)","v":0}]
[null,null,null,null,null,{"$f":"SUMIF(Codigo_Produto,Estoque!A1263,[0]!quantidade_adquirida)-SUMIF([0]!cod_saida,Estoque!A1263,quantidade_comprada)","v":0}]
[null,null,null,null,null,{"$f":"SUMIF(Codigo_Produto,Estoque!A1264,[0]!quantidade_adquirida)-SUMIF([0]!cod_saida,Estoque!A1264,quantidade_comprada)","v":0}]
[null,null,null,null,null,{"$f":"SUMIF(Codigo_Produto,Estoque!A1265,[0]!quantidade_adquirida)-SUMIF([0]!cod_saida,Estoque!A1265,quantidade_comprada)","v":0}]
[null,null,null,null,null,{"$f":"SUMIF(Codigo_Produto,Estoque!A1266,[0]!quantidade_adquirida)-SUMIF([0]!cod_saida,Estoque!A1266,quantidade_comprada)","v":0}]
[null,null,null,null,null,{"$f":"SUMIF(Codigo_Produto,Estoque!A1267,[0]!quantidade_adquirida)-SUMIF([0]!cod_saida,Estoque!A1267,quantidade_comprada)","v":0}]
[null,null,null,null,null,{"$f":"SUMIF(Codigo_Produto,Estoque!A1268,[0]!quantidade_adquirida)-SUMIF([0]!cod_saida,Estoque!A1268,quantidade_comprada)","v":0}]
[null,null,null,null,null,{"$f":"SUMIF(Codigo_Produto,Estoque!A1269,[0]!quantidade_adquirida)-SUMIF([0]!cod_saida,Estoque!A1269,quantidade_comprada)","v":0}]
[null,null,null,null,null,{"$f":"SUMIF(Codigo_Produto,Estoque!A1270,[0]!quantidade_adquirida)-SUMIF([0]!cod_saida,Estoque!A1270,quantidade_comprada)","v":0}]
[null,null,null,null,null,{"$f":"SUMIF(Codigo_Produto,Estoque!A1271,[0]!quantidade_adquirida)-SUMIF([0]!cod_saida,Estoque!A1271,quantidade_comprada)","v":0}]
[null,null,null,null,null,{"$f":"SUMIF(Codigo_Produto,Estoque!A1272,[0]!quantidade_adquirida)-SUMIF([0]!cod_saida,Estoque!A1272,quantidade_comprada)","v":0}]
[null,null,null,null,null,{"$f":"SUMIF(Codigo_Produto,Estoque!A1273,[0]!quantidade_adquirida)-SUMIF([0]!cod_saida,Estoque!A1273,quantidade_comprada)","v":0}]
[null,null,null,null,null,{"$f":"SUMIF(Codigo_Produto,Estoque!A1274,[0]!quantidade_adquirida)-SUMIF([0]!cod_saida,Estoque!A1274,quantidade_comprada)","v":0}]
[null,null,null,null,null,{"$f":"SUMIF(Codigo_Produto,Estoque!A1275,[0]!quantidade_adquirida)-SUMIF([0]!cod_saida,Estoque!A1275,quantidade_comprada)","v":0}]
[null,null,null,null,null,{"$f":"SUMIF(Codigo_Produto,Estoque!A1276,[0]!quantidade_adquirida)-SUMIF([0]!cod_saida,Estoque!A1276,quantidade_comprada)","v":0}]
[null,null,null,null,null,{"$f":"SUMIF(Codigo_Produto,Estoque!A1277,[0]!quantidade_adquirida)-SUMIF([0]!cod_saida,Estoque!A1277,quantidade_comprada)","v":0}]
[null,null,null,null,null,{"$f":"SUMIF(Codigo_Produto,Estoque!A1278,[0]!quantidade_adquirida)-SUMIF([0]!cod_saida,Estoque!A1278,quantidade_comprada)","v":0}]
[null,null,null,null,null,{"$f":"SUMIF(Codigo_Produto,Estoque!A1279,[0]!quantidade_adquirida)-SUMIF([0]!cod_saida,Estoque!A1279,quantidade_comprada)","v":0}]
[null,null,null,null,null,{"$f":"SUMIF(Codigo_Produto,Estoque!A1280,[0]!quantidade_adquirida)-SUMIF([0]!cod_saida,Estoque!A1280,quantidade_comprada)","v":0}]
[null,null,null,null,null,{"$f":"SUMIF(Codigo_Produto,Estoque!A1281,[0]!quantidade_adquirida)-SUMIF([0]!cod_saida,Estoque!A1281,quantidade_comprada)","v":0}]
[null,null,null,null,null,{"$f":"SUMIF(Codigo_Produto,Estoque!A1282,[0]!quantidade_adquirida)-SUMIF([0]!cod_saida,Estoque!A1282,quantidade_comprada)","v":0}]
[null,null,null,null,null,{"$f":"SUMIF(Codigo_Produto,Estoque!A1283,[0]!quantidade_adquirida)-SUMIF([0]!cod_saida,Estoque!A1283,quantidade_comprada)","v":0}]
[null,null,null,null,null,{"$f":"SUMIF(Codigo_Produto,Estoque!A1284,[0]!quantidade_adquirida)-SUMIF([0]!cod_saida,Estoque!A1284,quantidade_comprada)","v":0}]
[null,null,null,null,null,{"$f":"SUMIF(Codigo_Produto,Estoque!A1285,[0]!quantidade_adquirida)-SUMIF([0]!cod_saida,Estoque!A1285,quantidade_comprada)","v":0}]
[null,null,null,null,null,{"$f":"SUMIF(Codigo_Produto,Estoque!A1286,[0]!quantidade_adquirida)-SUMIF([0]!cod_saida,Estoque!A1286,quantidade_comprada)","v":0}]
[null,null,null,null,null,{"$f":"SUMIF(Codigo_Produto,Estoque!A1287,[0]!quantidade_adquirida)-SUMIF([0]!cod_saida,Estoque!A1287,quantidade_comprada)","v":0}]
[null,null,null,null,null,{"$f":"SUMIF(Codigo_Produto,Estoque!A1288,[0]!quantidade_adquirida)-SUMIF([0]!cod_saida,Estoque!A1288,quantidade_comprada)","v":0}]
[null,null,null,null,null,{"$f":"SUMIF(Codigo_Produto,Estoque!A1289,[0]!quantidade_adquirida)-SUMIF([0]!cod_saida,Estoque!A1289,quantidade_comprada)","v":0}]
[null,null,null,null,null,{"$f":"SUMIF(Codigo_Produto,Estoque!A1290,[0]!quantidade_adquirida)-SUMIF([0]!cod_saida,Estoque!A1290,quantidade_comprada)","v":0}]
[null,null,null,null,null,{"$f":"SUMIF(Codigo_Produto,Estoque!A1291,[0]!quantidade_adquirida)-SUMIF([0]!cod_saida,Estoque!A1291,quantidade_comprada)","v":0}]
[null,null,null,null,null,{"$f":"SUMIF(Codigo_Produto,Estoque!A1292,[0]!quantidade_adquirida)-SUMIF([0]!cod_saida,Estoque!A1292,quantidade_comprada)","v":0}]
[null,null,null,null,null,{"$f":"SUMIF(Codigo_Produto,Estoque!A1293,[0]!quantidade_adquirida)-SUMIF([0]!cod_saida,Estoque!A1293,quantidade_comprada)","v":0}]
[null,null,null,null,null,{"$f":"SUMIF(Codigo_Produto,Estoque!A1294,[0]!quantidade_adquirida)-SUMIF([0]!cod_saida,Estoque!A1294,quantidade_comprada)","v":0}]
[null,null,null,null,null,{"$f":"SUMIF(Codigo_Produto,Estoque!A1295,[0]!quantidade_adquirida)-SUMIF([0]!cod_saida,Estoque!A1295,quantidade_comprada)","v":0}]
[null,null,null,null,null,{"$f":"SUMIF(Codigo_Produto,Estoque!A1296,[0]!quantidade_adquirida)-SUMIF([0]!cod_saida,Estoque!A1296,quantidade_comprada)","v":0}]
[null,null,null,null,null,{"$f":"SUMIF(Codigo_Produto,Estoque!A1297,[0]!quantidade_adquirida)-SUMIF([0]!cod_saida,Estoque!A1297,quantidade_comprada)","v":0}]
[null,null,null,null,null,{"$f":"SUMIF(Codigo_Produto,Estoque!A1298,[0]!quantidade_adquirida)-SUMIF([0]!cod_saida,Estoque!A1298,quantidade_comprada)","v":0}]
[null,null,null,null,null,{"$f":"SUMIF(Codigo_Produto,Estoque!A1299,[0]!quantidade_adquirida)-SUMIF([0]!cod_saida,Estoque!A1299,quantidade_comprada)","v":0}]
[null,null,null,null,null,{"$f":"SUMIF(Codigo_Produto,Estoque!A1300,[0]!quantidade_adquirida)-SUMIF([0]!cod_saida,Estoque!A1300,quantidade_comprada)","v":0}]
[null,null,null,null,null,{"$f":"SUMIF(Codigo_Produto,Estoque!A1301,[0]!quantidade_adquirida)-SUMIF([0]!cod_saida,Estoque!A1301,quantidade_comprada)","v":0}]
[null,null,null,null,null,{"$f":"SUMIF(Codigo_Produto,Estoque!A1302,[0]!quantidade_adquirida)-SUMIF([0]!cod_saida,Estoque!A1302,quantidade_comprada)","v":0}]
[null,null,null,null,null,{"$f":"SUMIF(Codigo_Produto,Estoque!A1303,[0]!quantidade_adquirida)-SUMIF([0]!cod_saida,Estoque!A1303,quantidade_comprada)","v":0}]
[null,null,null,null,null,{"$f":"SUMIF(Codigo_Produto,Estoque!A1304,[0]!quantidade_adquirida)-SUMIF([0]!cod_saida,Estoque!A1304,quantidade_comprada)","v":0}]
[null,null,null,null,null,{"$f":"SUMIF(Codigo_Produto,Estoque!A1305,[0]!quantidade_adquirida)-SUMIF([0]!cod_saida,Estoque!A1305,quantidade_comprada)","v":0}]
[null,null,null,null,null,{"$f":"SUMIF(Codigo_Produto,Estoque!A1306,[0]!quantidade_adquirida)-SUMIF([0]!cod_saida,Estoque!A1306,quantidade_comprada)","v":0}]
[null,null,null,null,null,{"$f":"SUMIF(Codigo_Produto,Estoque!A1307,[0]!quantidade_adquirida)-SUMIF([0]!cod_saida,Estoque!A1307,quantidade_comprada)","v":0}]
[null,null,null,null,null,{"$f":"SUMIF(Codigo_Produto,Estoque!A1308,[0]!quantidade_adquirida)-SUMIF([0]!cod_saida,Estoque!A1308,quantidade_comprada)","v":0}]
[null,null,null,null,null,{"$f":"SUMIF(Codigo_Produto,Estoque!A1309,[0]!quantidade_adquirida)-SUMIF([0]!cod_saida,Estoque!A1309,quantidade_comprada)","v":0}]
[null,null,null,null,null,{"$f":"SUMIF(Codigo_Produto,Estoque!A1310,[0]!quantidade_adquirida)-SUMIF([0]!cod_saida,Estoque!A1310,quantidade_comprada)","v":0}]
[null,null,null,null,null,{"$f":"SUMIF(Codigo_Produto,Estoque!A1311,[0]!quantidade_adquirida)-SUMIF([0]!cod_saida,Estoque!A1311,quantidade_comprada)","v":0}]
[null,null,null,null,null,{"$f":"SUMIF(Codigo_Produto,Estoque!A1312,[0]!quantidade_adquirida)-SUMIF([0]!cod_saida,Estoque!A1312,quantidade_comprada)","v":0}]
[null,null,null,null,null,{"$f":"SUMIF(Codigo_Produto,Estoque!A1313,[0]!quantidade_adquirida)-SUMIF([0]!cod_saida,Estoque!A1313,quantidade_comprada)","v":0}]
[null,null,null,null,null,{"$f":"SUMIF(Codigo_Produto,Estoque!A1314,[0]!quantidade_adquirida)-SUMIF([0]!cod_saida,Estoque!A1314,quantidade_comprada)","v":0}]
[null,null,null,null,null,{"$f":"SUMIF(Codigo_Produto,Estoque!A1315,[0]!quantidade_adquirida)-SUMIF([0]!cod_saida,Estoque!A1315,quantidade_comprada)","v":0}]
[null,null,null,null,null,{"$f":"SUMIF(Codigo_Produto,Estoque!A1316,[0]!quantidade_adquirida)-SUMIF([0]!cod_saida,Estoque!A1316,quantidade_comprada)","v":0}]
[null,null,null,null,null,{"$f":"SUMIF(Codigo_Produto,Estoque!A1317,[0]!quantidade_adquirida)-SUMIF([0]!cod_saida,Estoque!A1317,quantidade_comprada)","v":0}]
[null,null,null,null,null,{"$f":"SUMIF(Codigo_Produto,Estoque!A1318,[0]!quantidade_adquirida)-SUMIF([0]!cod_saida,Estoque!A1318,quantidade_comprada)","v":0}]
[null,null,null,null,null,{"$f":"SUMIF(Codigo_Produto,Estoque!A1319,[0]!quantidade_adquirida)-SUMIF([0]!cod_saida,Estoque!A1319,quantidade_comprada)","v":0}]
[null,null,null,null,null,{"$f":"SUMIF(Codigo_Produto,Estoque!A1320,[0]!quantidade_adquirida)-SUMIF([0]!cod_saida,Estoque!A1320,quantidade_comprada)","v":0}]
[null,null,null,null,null,{"$f":"SUMIF(Codigo_Produto,Estoque!A1321,[0]!quantidade_adquirida)-SUMIF([0]!cod_saida,Estoque!A1321,quantidade_comprada)","v":0}]
[null,null,null,null,null,{"$f":"SUMIF(Codigo_Produto,Estoque!A1322,[0]!quantidade_adquirida)-SUMIF([0]!cod_saida,Estoque!A1322,quantidade_comprada)","v":0}]
[null,null,null,null,null,{"$f":"SUMIF(Codigo_Produto,Estoque!A1323,[0]!quantidade_adquirida)-SUMIF([0]!cod_saida,Estoque!A1323,quantidade_comprada)","v":0}]
[null,null,null,null,null,{"$f":"SUMIF(Codigo_Produto,Estoque!A1324,[0]!quantidade_adquirida)-SUMIF([0]!cod_saida,Estoque!A1324,quantidade_comprada)","v":0}]
[null,null,null,null,null,{"$f":"SUMIF(Codigo_Produto,Estoque!A1325,[0]!quantidade_adquirida)-SUMIF([0]!cod_saida,Estoque!A1325,quantidade_comprada)","v":0}]
[null,null,null,null,null,{"$f":"SUMIF(Codigo_Produto,Estoque!A1326,[0]!quantidade_adquirida)-SUMIF([0]!cod_saida,Estoque!A1326,quantidade_comprada)","v":0}]
[null,null,null,null,null,{"$f":"SUMIF(Codigo_Produto,Estoque!A1327,[0]!quantidade_adquirida)-SUMIF([0]!cod_saida,Estoque!A1327,quantidade_comprada)","v":0}]
[null,null,null,null,null,{"$f":"SUMIF(Codigo_Produto,Estoque!A1328,[0]!quantidade_adquirida)-SUMIF([0]!cod_saida,Estoque!A1328,quantidade_comprada)","v":0}]
[null,null,null,null,null,{"$f":"SUMIF(Codigo_Produto,Estoque!A1329,[0]!quantidade_adquirida)-SUMIF([0]!cod_saida,Estoque!A1329,quantidade_comprada)","v":0}]
[null,null,null,null,null,{"$f":"SUMIF(Codigo_Produto,Estoque!A1330,[0]!quantidade_adquirida)-SUMIF([0]!cod_saida,Estoque!A1330,quantidade_comprada)","v":0}]
[null,null,null,null,null,{"$f":"SUMIF(Codigo_Produto,Estoque!A1331,[0]!quantidade_adquirida)-SUMIF([0]!cod_saida,Estoque!A1331,quantidade_comprada)","v":0}]
[null,null,null,null,null,{"$f":"SUMIF(Codigo_Produto,Estoque!A1332,[0]!quantidade_adquirida)-SUMIF([0]!cod_saida,Estoque!A1332,quantidade_comprada)","v":0}]
[null,null,null,null,null,{"$f":"SUMIF(Codigo_Produto,Estoque!A1333,[0]!quantidade_adquirida)-SUMIF([0]!cod_saida,Estoque!A1333,quantidade_comprada)","v":0}]
[null,null,null,null,null,{"$f":"SUMIF(Codigo_Produto,Estoque!A1334,[0]!quantidade_adquirida)-SUMIF([0]!cod_saida,Estoque!A1334,quantidade_comprada)","v":0}]
[null,null,null,null,null,{"$f":"SUMIF(Codigo_Produto,Estoque!A1335,[0]!quantidade_adquirida)-SUMIF([0]!cod_saida,Estoque!A1335,quantidade_comprada)","v":0}]
[null,null,null,null,null,{"$f":"SUMIF(Codigo_Produto,Estoque!A1336,[0]!quantidade_adquirida)-SUMIF([0]!cod_saida,Estoque!A1336,quantidade_comprada)","v":0}]
[null,null,null,null,null,{"$f":"SUMIF(Codigo_Produto,Estoque!A1337,[0]!quantidade_adquirida)-SUMIF([0]!cod_saida,Estoque!A1337,quantidade_comprada)","v":0}]
[null,null,null,null,null,{"$f":"SUMIF(Codigo_Produto,Estoque!A1338,[0]!quantidade_adquirida)-SUMIF([0]!cod_saida,Estoque!A1338,quantidade_comprada)","v":0}]
[null,null,null,null,null,{"$f":"SUMIF(Codigo_Produto,Estoque!A1339,[0]!quantidade_adquirida)-SUMIF([0]!cod_saida,Estoque!A1339,quantidade_comprada)","v":0}]
[null,null,null,null,null,{"$f":"SUMIF(Codigo_Produto,Estoque!A1340,[0]!quantidade_adquirida)-SUMIF([0]!cod_saida,Estoque!A1340,quantidade_comprada)","v":0}]
[null,null,null,null,null,{"$f":"SUMIF(Codigo_Produto,Estoque!A1341,[0]!quantidade_adquirida)-SUMIF([0]!cod_saida,Estoque!A1341,quantidade_comprada)","v":0}]
[null,null,null,null,null,{"$f":"SUMIF(Codigo_Produto,Estoque!A1342,[0]!quantidade_adquirida)-SUMIF([0]!cod_saida,Estoque!A1342,quantidade_comprada)","v":0}]
[null,null,null,null,null,{"$f":"SUMIF(Codigo_Produto,Estoque!A1343,[0]!quantidade_adquirida)-SUMIF([0]!cod_saida,Estoque!A1343,quantidade_comprada)","v":0}]
[null,null,null,null,null,{"$f":"SUMIF(Codigo_Produto,Estoque!A1344,[0]!quantidade_adquirida)-SUMIF([0]!cod_saida,Estoque!A1344,quantidade_comprada)","v":0}]
[null,null,null,null,null,{"$f":"SUMIF(Codigo_Produto,Estoque!A1345,[0]!quantidade_adquirida)-SUMIF([0]!cod_saida,Estoque!A1345,quantidade_comprada)","v":0}]
[null,null,null,null,null,{"$f":"SUMIF(Codigo_Produto,Estoque!A1346,[0]!quantidade_adquirida)-SUMIF([0]!cod_saida,Estoque!A1346,quantidade_comprada)","v":0}]
[null,null,null,null,null,{"$f":"SUMIF(Codigo_Produto,Estoque!A1347,[0]!quantidade_adquirida)-SUMIF([0]!cod_saida,Estoque!A1347,quantidade_comprada)","v":0}]
[null,null,null,null,null,{"$f":"SUMIF(Codigo_Produto,Estoque!A1348,[0]!quantidade_adquirida)-SUMIF([0]!cod_saida,Estoque!A1348,quantidade_comprada)","v":0}]
[null,null,null,null,null,{"$f":"SUMIF(Codigo_Produto,Estoque!A1349,[0]!quantidade_adquirida)-SUMIF([0]!cod_saida,Estoque!A1349,quantidade_comprada)","v":0}]
[null,null,null,null,null,{"$f":"SUMIF(Codigo_Produto,Estoque!A1350,[0]!quantidade_adquirida)-SUMIF([0]!cod_saida,Estoque!A1350,quantidade_comprada)","v":0}]
[null,null,null,null,null,{"$f":"SUMIF(Codigo_Produto,Estoque!A1351,[0]!quantidade_adquirida)-SUMIF([0]!cod_saida,Estoque!A1351,quantidade_comprada)","v":0}]
[null,null,null,null,null,{"$f":"SUMIF(Codigo_Produto,Estoque!A1352,[0]!quantidade_adquirida)-SUMIF([0]!cod_saida,Estoque!A1352,quantidade_comprada)","v":0}]
[null,null,null,null,null,{"$f":"SUMIF(Codigo_Produto,Estoque!A1353,[0]!quantidade_adquirida)-SUMIF([0]!cod_saida,Estoque!A1353,quantidade_comprada)","v":0}]
[null,null,null,null,null,{"$f":"SUMIF(Codigo_Produto,Estoque!A1354,[0]!quantidade_adquirida)-SUMIF([0]!cod_saida,Estoque!A1354,quantidade_comprada)","v":0}]
[null,null,null,null,null,{"$f":"SUMIF(Codigo_Produto,Estoque!A1355,[0]!quantidade_adquirida)-SUMIF([0]!cod_saida,Estoque!A1355,quantidade_comprada)","v":0}]
[null,null,null,null,null,{"$f":"SUMIF(Codigo_Produto,Estoque!A1356,[0]!quantidade_adquirida)-SUMIF([0]!cod_saida,Estoque!A1356,quantidade_comprada)","v":0}]
[null,null,null,null,null,{"$f":"SUMIF(Codigo_Produto,Estoque!A1357,[0]!quantidade_adquirida)-SUMIF([0]!cod_saida,Estoque!A1357,quantidade_comprada)","v":0}]
[null,null,null,null,null,{"$f":"SUMIF(Codigo_Produto,Estoque!A1358,[0]!quantidade_adquirida)-SUMIF([0]!cod_saida,Estoque!A1358,quantidade_comprada)","v":0}]
[null,null,null,null,null,{"$f":"SUMIF(Codigo_Produto,Estoque!A1359,[0]!quantidade_adquirida)-SUMIF([0]!cod_saida,Estoque!A1359,quantidade_comprada)","v":0}]
[null,null,null,null,null,{"$f":"SUMIF(Codigo_Produto,Estoque!A1360,[0]!quantidade_adquirida)-SUMIF([0]!cod_saida,Estoque!A1360,quantidade_comprada)","v":0}]
[null,null,null,null,null,{"$f":"SUMIF(Codigo_Produto,Estoque!A1361,[0]!quantidade_adquirida)-SUMIF([0]!cod_saida,Estoque!A1361,quantidade_comprada)","v":0}]
[null,null,null,null,null,{"$f":"SUMIF(Codigo_Produto,Estoque!A1362,[0]!quantidade_adquirida)-SUMIF([0]!cod_saida,Estoque!A1362,quantidade_comprada)","v":0}]
[null,null,null,null,null,{"$f":"SUMIF(Codigo_Produto,Estoque!A1363,[0]!quantidade_adquirida)-SUMIF([0]!cod_saida,Estoque!A1363,quantidade_comprada)","v":0}]
[null,null,null,null,null,{"$f":"SUMIF(Codigo_Produto,Estoque!A1364,[0]!quantidade_adquirida)-SUMIF([0]!cod_saida,Estoque!A1364,quantidade_comprada)","v":0}]
[null,null,null,null,null,{"$f":"SUMIF(Codigo_Produto,Estoque!A1365,[0]!quantidade_adquirida)-SUMIF([0]!cod_saida,Estoque!A1365,quantidade_comprada)","v":0}]
[null,null,null,null,null,{"$f":"SUMIF(Codigo_Produto,Estoque!A1366,[0]!quantidade_adquirida)-SUMIF([0]!cod_saida,Estoque!A1366,quantidade_comprada)","v":0}]
[null,null,null,null,null,{"$f":"SUMIF(Codigo_Produto,Estoque!A1367,[0]!quantidade_adquirida)-SUMIF([0]!cod_saida,Estoque!A1367,quantidade_comprada)","v":0}]
[null,null,null,null,null,{"$f":"SUMIF(Codigo_Produto,Estoque!A1368,[0]!quantidade_adquirida)-SUMIF([0]!cod_saida,Estoque!A1368,quantidade_comprada)","v":0}]
[null,null,null,null,null,{"$f":"SUMIF(Codigo_Produto,Estoque!A1369,[0]!quantidade_adquirida)-SUMIF([0]!cod_saida,Estoque!A1369,quantidade_comprada)","v":0}]
[null,null,null,null,null,{"$f":"SUMIF(Codigo_Produto,Estoque!A1370,[0]!quantidade_adquirida)-SUMIF([0]!cod_saida,Estoque!A1370,quantidade_comprada)","v":0}]
[null,null,null,null,null,{"$f":"SUMIF(Codigo_Produto,Estoque!A1371,[0]!quantidade_adquirida)-SUMIF([0]!cod_saida,Estoque!A1371,quantidade_comprada)","v":0}]
[null,null,null,null,null,{"$f":"SUMIF(Codigo_Produto,Estoque!A1372,[0]!quantidade_adquirida)-SUMIF([0]!cod_saida,Estoque!A1372,quantidade_comprada)","v":0}]
[null,null,null,null,null,{"$f":"SUMIF(Codigo_Produto,Estoque!A1373,[0]!quantidade_adquirida)-SUMIF([0]!cod_saida,Estoque!A1373,quantidade_comprada)","v":0}]
[null,null,null,null,null,{"$f":"SUMIF(Codigo_Produto,Estoque!A1374,[0]!quantidade_adquirida)-SUMIF([0]!cod_saida,Estoque!A1374,quantidade_comprada)","v":0}]
[null,null,null,null,null,{"$f":"SUMIF(Codigo_Produto,Estoque!A1375,[0]!quantidade_adquirida)-SUMIF([0]!cod_saida,Estoque!A1375,quantidade_comprada)","v":0}]
[null,null,null,null,null,{"$f":"SUMIF(Codigo_Produto,Estoque!A1376,[0]!quantidade_adquirida)-SUMIF([0]!cod_saida,Estoque!A1376,quantidade_comprada)","v":0}]
[null,null,null,null,null,{"$f":"SUMIF(Codigo_Produto,Estoque!A1377,[0]!quantidade_adquirida)-SUMIF([0]!cod_saida,Estoque!A1377,quantidade_comprada)","v":0}]
[null,null,null,null,null,{"$f":"SUMIF(Codigo_Produto,Estoque!A1378,[0]!quantidade_adquirida)-SUMIF([0]!cod_saida,Estoque!A1378,quantidade_comprada)","v":0}]
[null,null,null,null,null,{"$f":"SUMIF(Codigo_Produto,Estoque!A1379,[0]!quantidade_adquirida)-SUMIF([0]!cod_saida,Estoque!A1379,quantidade_comprada)","v":0}]
[null,null,null,null,null,{"$f":"SUMIF(Codigo_Produto,Estoque!A1380,[0]!quantidade_adquirida)-SUMIF([0]!cod_saida,Estoque!A1380,quantidade_comprada)","v":0}]
[null,null,null,null,null,{"$f":"SUMIF(Codigo_Produto,Estoque!A1381,[0]!quantidade_adquirida)-SUMIF([0]!cod_saida,Estoque!A1381,quantidade_comprada)","v":0}]
[null,null,null,null,null,{"$f":"SUMIF(Codigo_Produto,Estoque!A1382,[0]!quantidade_adquirida)-SUMIF([0]!cod_saida,Estoque!A1382,quantidade_comprada)","v":0}]
[null,null,null,null,null,{"$f":"SUMIF(Codigo_Produto,Estoque!A1383,[0]!quantidade_adquirida)-SUMIF([0]!cod_saida,Estoque!A1383,quantidade_comprada)","v":0}]
[null,null,null,null,null,{"$f":"SUMIF(Codigo_Produto,Estoque!A1384,[0]!quantidade_adquirida)-SUMIF([0]!cod_saida,Estoque!A1384,quantidade_comprada)","v":0}]
[null,null,null,null,null,{"$f":"SUMIF(Codigo_Produto,Estoque!A1385,[0]!quantidade_adquirida)-SUMIF([0]!cod_saida,Estoque!A1385,quantidade_comprada)","v":0}]
[null,null,null,null,null,{"$f":"SUMIF(Codigo_Produto,Estoque!A1386,[0]!quantidade_adquirida)-SUMIF([0]!cod_saida,Estoque!A1386,quantidade_comprada)","v":0}]
[null,null,null,null,null,{"$f":"SUMIF(Codigo_Produto,Estoque!A1387,[0]!quantidade_adquirida)-SUMIF([0]!cod_saida,Estoque!A1387,quantidade_comprada)","v":0}]
[null,null,null,null,null,{"$f":"SUMIF(Codigo_Produto,Estoque!A1388,[0]!quantidade_adquirida)-SUMIF([0]!cod_saida,Estoque!A1388,quantidade_comprada)","v":0}]
[null,null,null,null,null,{"$f":"SUMIF(Codigo_Produto,Estoque!A1389,[0]!quantidade_adquirida)-SUMIF([0]!cod_saida,Estoque!A1389,quantidade_comprada)","v":0}]
[null,null,null,null,null,{"$f":"SUMIF(Codigo_Produto,Estoque!A1390,[0]!quantidade_adquirida)-SUMIF([0]!cod_saida,Estoque!A1390,quantidade_comprada)","v":0}]
[null,null,null,null,null,{"$f":"SUMIF(Codigo_Produto,Estoque!A1391,[0]!quantidade_adquirida)-SUMIF([0]!cod_saida,Estoque!A1391,quantidade_comprada)","v":0}]
[null,null,null,null,null,{"$f":"SUMIF(Codigo_Produto,Estoque!A1392,[0]!quantidade_adquirida)-SUMIF([0]!cod_saida,Estoque!A1392,quantidade_comprada)","v":0}]
[null,null,null,null,null,{"$f":"SUMIF(Codigo_Produto,Estoque!A1393,[0]!quantidade_adquirida)-SUMIF([0]!cod_saida,Estoque!A1393,quantidade_comprada)","v":0}]
[null,null,null,null,null,{"$f":"SUMIF(Codigo_Produto,Estoque!A1394,[0]!quantidade_adquirida)-SUMIF([0]!cod_saida,Estoque!A1394,quantidade_comprada)","v":0}]
[null,null,null,null,null,{"$f":"SUMIF(Codigo_Produto,Estoque!A1395,[0]!quantidade_adquirida)-SUMIF([0]!cod_saida,Estoque!A1395,quantidade_comprada)","v":0}]
[null,null,null,null,null,{"$f":"SUMIF(Codigo_Produto,Estoque!A1396,[0]!quantidade_adquirida)-SUMIF([0]!cod_saida,Estoque!A1396,quantidade_comprada)","v":0}]
[null,null,null,null,null,{"$f":"SUMIF(Codigo_Produto,Estoque!A1397,[0]!quantidade_adquirida)-SUMIF([0]!cod_saida,Estoque!A1397,quantidade_comprada)","v":0}]
[null,null,null,null,null,{"$f":"SUMIF(Codigo_Produto,Estoque!A1398,[0]!quantidade_adquirida)-SUMIF([0]!cod_saida,Estoque!A1398,quantidade_comprada)","v":0}]
[null,null,null,null,null,{"$f":"SUMIF(Codigo_Produto,Estoque!A1399,[0]!quantidade_adquirida)-SUMIF([0]!cod_saida,Estoque!A1399,quantidade_comprada)","v":0}]
[null,null,null,null,null,{"$f":"SUMIF(Codigo_Produto,Estoque!A1400,[0]!quantidade_adquirida)-SUMIF([0]!cod_saida,Estoque!A1400,quantidade_comprada)","v":0}]
[null,null,null,null,null,{"$f":"SUMIF(Codigo_Produto,Estoque!A1401,[0]!quantidade_adquirida)-SUMIF([0]!cod_saida,Estoque!A1401,quantidade_comprada)","v":0}]
[null,null,null,null,null,{"$f":"SUMIF(Codigo_Produto,Estoque!A1402,[0]!quantidade_adquirida)-SUMIF([0]!cod_saida,Estoque!A1402,quantidade_comprada)","v":0}]
[null,null,null,null,null,{"$f":"SUMIF(Codigo_Produto,Estoque!A1403,[0]!quantidade_adquirida)-SUMIF([0]!cod_saida,Estoque!A1403,quantidade_comprada)","v":0}]
[null,null,null,null,null,{"$f":"SUMIF(Codigo_Produto,Estoque!A1404,[0]!quantidade_adquirida)-SUMIF([0]!cod_saida,Estoque!A1404,quantidade_comprada)","v":0}]
[null,null,null,null,null,{"$f":"SUMIF(Codigo_Produto,Estoque!A1405,[0]!quantidade_adquirida)-SUMIF([0]!cod_saida,Estoque!A1405,quantidade_comprada)","v":0}]
[null,null,null,null,null,{"$f":"SUMIF(Codigo_Produto,Estoque!A1406,[0]!quantidade_adquirida)-SUMIF([0]!cod_saida,Estoque!A1406,quantidade_comprada)","v":0}]
[null,null,null,null,null,{"$f":"SUMIF(Codigo_Produto,Estoque!A1407,[0]!quantidade_adquirida)-SUMIF([0]!cod_saida,Estoque!A1407,quantidade_comprada)","v":0}]
[null,null,null,null,null,{"$f":"SUMIF(Codigo_Produto,Estoque!A1408,[0]!quantidade_adquirida)-SUMIF([0]!cod_saida,Estoque!A1408,quantidade_comprada)","v":0}]
[null,null,null,null,null,{"$f":"SUMIF(Codigo_Produto,Estoque!A1409,[0]!quantidade_adquirida)-SUMIF([0]!cod_saida,Estoque!A1409,quantidade_comprada)","v":0}]
[null,null,null,null,null,{"$f":"SUMIF(Codigo_Produto,Estoque!A1410,[0]!quantidade_adquirida)-SUMIF([0]!cod_saida,Estoque!A1410,quantidade_comprada)","v":0}]
[null,null,null,null,null,{"$f":"SUMIF(Codigo_Produto,Estoque!A1411,[0]!quantidade_adquirida)-SUMIF([0]!cod_saida,Estoque!A1411,quantidade_comprada)","v":0}]
[null,null,null,null,null,{"$f":"SUMIF(Codigo_Produto,Estoque!A1412,[0]!quantidade_adquirida)-SUMIF([0]!cod_saida,Estoque!A1412,quantidade_comprada)","v":0}]
[null,null,null,null,null,{"$f":"SUMIF(Codigo_Produto,Estoque!A1413,[0]!quantidade_adquirida)-SUMIF([0]!cod_saida,Estoque!A1413,quantidade_comprada)","v":0}]
[null,null,null,null,null,{"$f":"SUMIF(Codigo_Produto,Estoque!A1414,[0]!quantidade_adquirida)-SUMIF([0]!cod_saida,Estoque!A1414,quantidade_comprada)","v":0}]
[null,null,null,null,null,{"$f":"SUMIF(Codigo_Produto,Estoque!A1415,[0]!quantidade_adquirida)-SUMIF([0]!cod_saida,Estoque!A1415,quantidade_comprada)","v":0}]
[null,null,null,null,null,{"$f":"SUMIF(Codigo_Produto,Estoque!A1416,[0]!quantidade_adquirida)-SUMIF([0]!cod_saida,Estoque!A1416,quantidade_comprada)","v":0}]
[null,null,null,null,null,{"$f":"SUMIF(Codigo_Produto,Estoque!A1417,[0]!quantidade_adquirida)-SUMIF([0]!cod_saida,Estoque!A1417,quantidade_comprada)","v":0}]
[null,null,null,null,null,{"$f":"SUMIF(Codigo_Produto,Estoque!A1418,[0]!quantidade_adquirida)-SUMIF([0]!cod_saida,Estoque!A1418,quantidade_comprada)","v":0}]
[null,null,null,null,null,{"$f":"SUMIF(Codigo_Produto,Estoque!A1419,[0]!quantidade_adquirida)-SUMIF([0]!cod_saida,Estoque!A1419,quantidade_comprada)","v":0}]
[null,null,null,null,null,{"$f":"SUMIF(Codigo_Produto,Estoque!A1420,[0]!quantidade_adquirida)-SUMIF([0]!cod_saida,Estoque!A1420,quantidade_comprada)","v":0}]
[null,null,null,null,null,{"$f":"SUMIF(Codigo_Produto,Estoque!A1421,[0]!quantidade_adquirida)-SUMIF([0]!cod_saida,Estoque!A1421,quantidade_comprada)","v":0}]
[null,null,null,null,null,{"$f":"SUMIF(Codigo_Produto,Estoque!A1422,[0]!quantidade_adquirida)-SUMIF([0]!cod_saida,Estoque!A1422,quantidade_comprada)","v":0}]
[null,null,null,null,null,{"$f":"SUMIF(Codigo_Produto,Estoque!A1423,[0]!quantidade_adquirida)-SUMIF([0]!cod_saida,Estoque!A1423,quantidade_comprada)","v":0}]
[null,null,null,null,null,{"$f":"SUMIF(Codigo_Produto,Estoque!A1424,[0]!quantidade_adquirida)-SUMIF([0]!cod_saida,Estoque!A1424,quantidade_comprada)","v":0}]
[null,null,null,null,null,{"$f":"SUMIF(Codigo_Produto,Estoque!A1425,[0]!quantidade_adquirida)-SUMIF([0]!cod_saida,Estoque!A1425,quantidade_comprada)","v":0}]
[null,null,null,null,null,{"$f":"SUMIF(Codigo_Produto,Estoque!A1426,[0]!quantidade_adquirida)-SUMIF([0]!cod_saida,Estoque!A1426,quantidade_comprada)","v":0}]
[null,null,null,null,null,{"$f":"SUMIF(Codigo_Produto,Estoque!A1427,[0]!quantidade_adquirida)-SUMIF([0]!cod_saida,Estoque!A1427,quantidade_comprada)","v":0}]
[null,null,null,null,null,{"$f":"SUMIF(Codigo_Produto,Estoque!A1428,[0]!quantidade_adquirida)-SUMIF([0]!cod_saida,Estoque!A1428,quantidade_comprada)","v":0}]
[null,null,null,null,null,{"$f":"SUMIF(Codigo_Produto,Estoque!A1429,[0]!quantidade_adquirida)-SUMIF([0]!cod_saida,Estoque!A1429,quantidade_comprada)","v":0}]
[null,null,null,null,null,{"$f":"SUMIF(Codigo_Produto,Estoque!A1430,[0]!quantidade_adquirida)-SUMIF([0]!cod_saida,Estoque!A1430,quantidade_comprada)","v":0}]
[null,null,null,null,null,{"$f":"SUMIF(Codigo_Produto,Estoque!A1431,[0]!quantidade_adquirida)-SUMIF([0]!cod_saida,Estoque!A1431,quantidade_comprada)","v":0}]
[null,null,null,null,null,{"$f":"SUMIF(Codigo_Produto,Estoque!A1432,[0]!quantidade_adquirida)-SUMIF([0]!cod_saida,Estoque!A1432,quantidade_comprada)","v":0}]
[null,null,null,null,null,{"$f":"SUMIF(Codigo_Produto,Estoque!A1433,[0]!quantidade_adquirida)-SUMIF([0]!cod_saida,Estoque!A1433,quantidade_comprada)","v":0}]
[null,null,null,null,null,{"$f":"SUMIF(Codigo_Produto,Estoque!A1434,[0]!quantidade_adquirida)-SUMIF([0]!cod_saida,Estoque!A1434,quantidade_comprada)","v":0}]
[null,null,null,null,null,{"$f":"SUMIF(Codigo_Produto,Estoque!A1435,[0]!quantidade_adquirida)-SUMIF([0]!cod_saida,Estoque!A1435,quantidade_comprada)","v":0}]
[null,null,null,null,null,{"$f":"SUMIF(Codigo_Produto,Estoque!A1436,[0]!quantidade_adquirida)-SUMIF([0]!cod_saida,Estoque!A1436,quantidade_comprada)","v":0}]
[null,null,null,null,null,{"$f":"SUMIF(Codigo_Produto,Estoque!A1437,[0]!quantidade_adquirida)-SUMIF([0]!cod_saida,Estoque!A1437,quantidade_comprada)","v":0}]
[null,null,null,null,null,{"$f":"SUMIF(Codigo_Produto,Estoque!A1438,[0]!quantidade_adquirida)-SUMIF([0]!cod_saida,Estoque!A1438,quantidade_comprada)","v":0}]
[null,null,null,null,null,{"$f":"SUMIF(Codigo_Produto,Estoque!A1439,[0]!quantidade_adquirida)-SUMIF([0]!cod_saida,Estoque!A1439,quantidade_comprada)","v":0}]
[null,null,null,null,null,{"$f":"SUMIF(Codigo_Produto,Estoque!A1440,[0]!quantidade_adquirida)-SUMIF([0]!cod_saida,Estoque!A1440,quantidade_comprada)","v":0}]
[null,null,null,null,null,{"$f":"SUMIF(Codigo_Produto,Estoque!A1441,[0]!quantidade_adquirida)-SUMIF([0]!cod_saida,Estoque!A1441,quantidade_comprada)","v":0}]
[null,null,null,null,null,{"$f":"SUMIF(Codigo_Produto,Estoque!A1442,[0]!quantidade_adquirida)-SUMIF([0]!cod_saida,Estoque!A1442,quantidade_comprada)","v":0}]
[null,null,null,null,null,{"$f":"SUMIF(Codigo_Produto,Estoque!A1443,[0]!quantidade_adquirida)-SUMIF([0]!cod_saida,Estoque!A1443,quantidade_comprada)","v":0}]
[null,null,null,null,null,{"$f":"SUMIF(Codigo_Produto,Estoque!A1444,[0]!quantidade_adquirida)-SUMIF([0]!cod_saida,Estoque!A1444,quantidade_comprada)","v":0}]
[null,null,null,null,null,{"$f":"SUMIF(Codigo_Produto,Estoque!A1445,[0]!quantidade_adquirida)-SUMIF([0]!cod_saida,Estoque!A1445,quantidade_comprada)","v":0}]
[null,null,null,null,null,{"$f":"SUMIF(Codigo_Produto,Estoque!A1446,[0]!quantidade_adquirida)-SUMIF([0]!cod_saida,Estoque!A1446,quantidade_comprada)","v":0}]
[null,null,null,null,null,{"$f":"SUMIF(Codigo_Produto,Estoque!A1447,[0]!quantidade_adquirida)-SUMIF([0]!cod_saida,Estoque!A1447,quantidade_comprada)","v":0}]
[null,null,null,null,null,{"$f":"SUMIF(Codigo_Produto,Estoque!A1448,[0]!quantidade_adquirida)-SUMIF([0]!cod_saida,Estoque!A1448,quantidade_comprada)","v":0}]
[null,null,null,null,null,{"$f":"SUMIF(Codigo_Produto,Estoque!A1449,[0]!quantidade_adquirida)-SUMIF([0]!cod_saida,Estoque!A1449,quantidade_comprada)","v":0}]
[null,null,null,null,null,{"$f":"SUMIF(Codigo_Produto,Estoque!A1450,[0]!quantidade_adquirida)-SUMIF([0]!cod_saida,Estoque!A1450,quantidade_comprada)","v":0}]
[null,null,null,null,null,{"$f":"SUMIF(Codigo_Produto,Estoque!A1451,[0]!quantidade_adquirida)-SUMIF([0]!cod_saida,Estoque!A1451,quantidade_comprada)","v":0}]
[null,null,null,null,null,{"$f":"SUMIF(Codigo_Produto,Estoque!A1452,[0]!quantidade_adquirida)-SUMIF([0]!cod_saida,Estoque!A1452,quantidade_comprada)","v":0}]
[null,null,null,null,null,{"$f":"SUMIF(Codigo_Produto,Estoque!A1453,[0]!quantidade_adquirida)-SUMIF([0]!cod_saida,Estoque!A1453,quantidade_comprada)","v":0}]
[null,null,null,null,null,{"$f":"SUMIF(Codigo_Produto,Estoque!A1454,[0]!quantidade_adquirida)-SUMIF([0]!cod_saida,Estoque!A1454,quantidade_comprada)","v":0}]
[null,null,null,null,null,{"$f":"SUMIF(Codigo_Produto,Estoque!A1455,[0]!quantidade_adquirida)-SUMIF([0]!cod_saida,Estoque!A1455,quantidade_comprada)","v":0}]
[null,null,null,null,null,{"$f":"SUMIF(Codigo_Produto,Estoque!A1456,[0]!quantidade_adquirida)-SUMIF([0]!cod_saida,Estoque!A1456,quantidade_comprada)","v":0}]
[null,null,null,null,null,{"$f":"SUMIF(Codigo_Produto,Estoque!A1457,[0]!quantidade_adquirida)-SUMIF([0]!cod_saida,Estoque!A1457,quantidade_comprada)","v":0}]
[null,null,null,null,null,{"$f":"SUMIF(Codigo_Produto,Estoque!A1458,[0]!quantidade_adquirida)-SUMIF([0]!cod_saida,Estoque!A1458,quantidade_comprada)","v":0}]
[null,null,null,null,null,{"$f":"SUMIF(Codigo_Produto,Estoque!A1459,[0]!quantidade_adquirida)-SUMIF([0]!cod_saida,Estoque!A1459,quantidade_comprada)","v":0}]
[null,null,null,null,null,{"$f":"SUMIF(Codigo_Produto,Estoque!A1460,[0]!quantidade_adquirida)-SUMIF([0]!cod_saida,Estoque!A1460,quantidade_comprada)","v":0}]
[null,null,null,null,null,{"$f":"SUMIF(Codigo_Produto,Estoque!A1461,[0]!quantidade_adquirida)-SUMIF([0]!cod_saida,Estoque!A1461,quantidade_comprada)","v":0}]
[null,null,null,null,null,{"$f":"SUMIF(Codigo_Produto,Estoque!A1462,[0]!quantidade_adquirida)-SUMIF([0]!cod_saida,Estoque!A1462,quantidade_comprada)","v":0}]
[null,null,null,null,null,{"$f":"SUMIF(Codigo_Produto,Estoque!A1463,[0]!quantidade_adquirida)-SUMIF([0]!cod_saida,Estoque!A1463,quantidade_comprada)","v":0}]
[null,null,null,null,null,{"$f":"SUMIF(Codigo_Produto,Estoque!A1464,[0]!quantidade_adquirida)-SUMIF([0]!cod_saida,Estoque!A1464,quantidade_comprada)","v":0}]
[null,null,null,null,null,{"$f":"SUMIF(Codigo_Produto,Estoque!A1465,[0]!quantidade_adquirida)-SUMIF([0]!cod_saida,Estoque!A1465,quantidade_comprada)","v":0}]
[null,null,null,null,null,{"$f":"SUMIF(Codigo_Produto,Estoque!A1466,[0]!quantidade_adquirida)-SUMIF([0]!cod_saida,Estoque!A1466,quantidade_comprada)","v":0}]
[null,null,null,null,null,{"$f":"SUMIF(Codigo_Produto,Estoque!A1467,[0]!quantidade_adquirida)-SUMIF([0]!cod_saida,Estoque!A1467,quantidade_comprada)","v":0}]
[null,null,null,null,null,{"$f":"SUMIF(Codigo_Produto,Estoque!A1468,[0]!quantidade_adquirida)-SUMIF([0]!cod_saida,Estoque!A1468,quantidade_comprada)","v":0}]
[null,null,null,null,null,{"$f":"SUMIF(Codigo_Produto,Estoque!A1469,[0]!quantidade_adquirida)-SUMIF([0]!cod_saida,Estoque!A1469,quantidade_comprada)","v":0}]
[null,null,null,null,null,{"$f":"SUMIF(Codigo_Produto,Estoque!A1470,[0]!quantidade_adquirida)-SUMIF([0]!cod_saida,Estoque!A1470,quantidade_comprada)","v":0}]
[null,null,null,null,null,{"$f":"SUMIF(Codigo_Produto,Estoque!A1471,[0]!quantidade_adquirida)-SUMIF([0]!cod_saida,Estoque!A1471,quantidade_comprada)","v":0}]
[null,null,null,null,null,{"$f":"SUMIF(Codigo_Produto,Estoque!A1472,[0]!quantidade_adquirida)-SUMIF([0]!cod_saida,Estoque!A1472,quantidade_comprada)","v":0}]
[null,null,null,null,null,{"$f":"SUMIF(Codigo_Produto,Estoque!A1473,[0]!quantidade_adquirida)-SUMIF([0]!cod_saida,Estoque!A1473,quantidade_comprada)","v":0}]
[null,null,null,null,null,{"$f":"SUMIF(Codigo_Produto,Estoque!A1474,[0]!quantidade_adquirida)-SUMIF([0]!cod_saida,Estoque!A1474,quantidade_comprada)","v":0}]
[null,null,null,null,null,{"$f":"SUMIF(Codigo_Produto,Estoque!A1475,[0]!quantidade_adquirida)-SUMIF([0]!cod_saida,Estoque!A1475,quantidade_comprada)","v":0}]
[null,null,null,null,null,{"$f":"SUMIF(Codigo_Produto,Estoque!A1476,[0]!quantidade_adquirida)-SUMIF([0]!cod_saida,Estoque!A1476,quantidade_comprada)","v":0}]
[null,null,null,null,null,{"$f":"SUMIF(Codigo_Produto,Estoque!A1477,[0]!quantidade_adquirida)-SUMIF([0]!cod_saida,Estoque!A1477,quantidade_comprada)","v":0}]
[null,null,null,null,null,{"$f":"SUMIF(Codigo_Produto,Estoque!A1478,[0]!quantidade_adquirida)-SUMIF([0]!cod_saida,Estoque!A1478,quantidade_comprada)","v":0}]
[null,null,null,null,null,{"$f":"SUMIF(Codigo_Produto,Estoque!A1479,[0]!quantidade_adquirida)-SUMIF([0]!cod_saida,Estoque!A1479,quantidade_comprada)","v":0}]
[null,null,null,null,null,{"$f":"SUMIF(Codigo_Produto,Estoque!A1480,[0]!quantidade_adquirida)-SUMIF([0]!cod_saida,Estoque!A1480,quantidade_comprada)","v":0}]
[null,null,null,null,null,{"$f":"SUMIF(Codigo_Produto,Estoque!A1481,[0]!quantidade_adquirida)-SUMIF([0]!cod_saida,Estoque!A1481,quantidade_comprada)","v":0}]
[null,null,null,null,null,{"$f":"SUMIF(Codigo_Produto,Estoque!A1482,[0]!quantidade_adquirida)-SUMIF([0]!cod_saida,Estoque!A1482,quantidade_comprada)","v":0}]
[null,null,null,null,null,{"$f":"SUMIF(Codigo_Produto,Estoque!A1483,[0]!quantidade_adquirida)-SUMIF([0]!cod_saida,Estoque!A1483,quantidade_comprada)","v":0}]
[null,null,null,null,null,{"$f":"SUMIF(Codigo_Produto,Estoque!A1484,[0]!quantidade_adquirida)-SUMIF([0]!cod_saida,Estoque!A1484,quantidade_comprada)","v":0}]
[null,null,null,null,null,{"$f":"SUMIF(Codigo_Produto,Estoque!A1485,[0]!quantidade_adquirida)-SUMIF([0]!cod_saida,Estoque!A1485,quantidade_comprada)","v":0}]
[null,null,null,null,null,{"$f":"SUMIF(Codigo_Produto,Estoque!A1486,[0]!quantidade_adquirida)-SUMIF([0]!cod_saida,Estoque!A1486,quantidade_comprada)","v":0}]
[null,null,null,null,null,{"$f":"SUMIF(Codigo_Produto,Estoque!A1487,[0]!quantidade_adquirida)-SUMIF([0]!cod_saida,Estoque!A1487,quantidade_comprada)","v":0}]
[null,null,null,null,null,{"$f":"SUMIF(Codigo_Produto,Estoque!A1488,[0]!quantidade_adquirida)-SUMIF([0]!cod_saida,Estoque!A1488,quantidade_comprada)","v":0}]
[null,null,null,null,null,{"$f":"SUMIF(Codigo_Produto,Estoque!A1489,[0]!quantidade_adquirida)-SUMIF([0]!cod_saida,Estoque!A1489,quantidade_comprada)","v":0}]
[null,null,null,null,null,{"$f":"SUMIF(Codigo_Produto,Estoque!A1490,[0]!quantidade_adquirida)-SUMIF([0]!cod_saida,Estoque!A1490,quantidade_comprada)","v":0}]
[null,null,null,null,null,{"$f":"SUMIF(Codigo_Produto,Estoque!A1491,[0]!quantidade_adquirida)-SUMIF([0]!cod_saida,Estoque!A1491,quantidade_comprada)","v":0}]
[null,null,null,null,null,{"$f":"SUMIF(Codigo_Produto,Estoque!A1492,[0]!quantidade_adquirida)-SUMIF([0]!cod_saida,Estoque!A1492,quantidade_comprada)","v":0}]
[null,null,null,null,null,{"$f":"SUMIF(Codigo_Produto,Estoque!A1493,[0]!quantidade_adquirida)-SUMIF([0]!cod_saida,Estoque!A1493,quantidade_comprada)","v":0}]
[null,null,null,null,null,{"$f":"SUMIF(Codigo_Produto,Estoque!A1494,[0]!quantidade_adquirida)-SUMIF([0]!cod_saida,Estoque!A1494,quantidade_comprada)","v":0}]
[null,null,null,null,null,{"$f":"SUMIF(Codigo_Produto,Estoque!A1495,[0]!quantidade_adquirida)-SUMIF([0]!cod_saida,Estoque!A1495,quantidade_comprada)","v":0}]
[null,null,null,null,null,{"$f":"SUMIF(Codigo_Produto,Estoque!A1496,[0]!quantidade_adquirida)-SUMIF([0]!cod_saida,Estoque!A1496,quantidade_comprada)","v":0}]
[null,null,null,null,null,{"$f":"SUMIF(Codigo_Produto,Estoque!A1497,[0]!quantidade_adquirida)-SUMIF([0]!cod_saida,Estoque!A1497,quantidade_comprada)","v":0}]
[null,null,null,null,null,{"$f":"SUMIF(Codigo_Produto,Estoque!A1498,[0]!quantidade_adquirida)-SUMIF([0]!cod_saida,Estoque!A1498,quantidade_comprada)","v":0}]
[null,null,null,null,null,{"$f":"SUMIF(Codigo_Produto,Estoque!A1499,[0]!quantidade_adquirida)-SUMIF([0]!cod_saida,Estoque!A1499,quantidade_comprada)","v":0}]
[null,null,null,null,null,{"$f":"SUMIF(Codigo_Produto,Estoque!A1500,[0]!quantidade_adquirida)-SUMIF([0]!cod_saida,Estoque!A1500,quantidade_comprada)","v":0}]
[null,null,null,null,null,{"$f":"SUMIF(Codigo_Produto,Estoque!A1501,[0]!quantidade_adquirida)-SUMIF([0]!cod_saida,Estoque!A1501,quantidade_comprada)","v":0}]
[null,null,null,null,null,{"$f":"SUMIF(Codigo_Produto,Estoque!A1502,[0]!quantidade_adquirida)-SUMIF([0]!cod_saida,Estoque!A1502,quantidade_comprada)","v":0}]
[null,null,null,null,null,{"$f":"SUMIF(Codigo_Produto,Estoque!A1503,[0]!quantidade_adquirida)-SUMIF([0]!cod_saida,Estoque!A1503,quantidade_comprada)","v":0}]
[null,null,null,null,null,{"$f":"SUMIF(Codigo_Produto,Estoque!A1504,[0]!quantidade_adquirida)-SUMIF([0]!cod_saida,Estoque!A1504,quantidade_comprada)","v":0}]
[null,null,null,null,null,{"$f":"SUMIF(Codigo_Produto,Estoque!A1505,[0]!quantidade_adquirida)-SUMIF([0]!cod_saida,Estoque!A1505,quantidade_comprada)","v":0}]
[null,null,null,null,null,{"$f":"SUMIF(Codigo_Produto,Estoque!A1506,[0]!quantidade_adquirida)-SUMIF([0]!cod_saida,Estoque!A1506,quantidade_comprada)","v":0}]
[null,null,null,null,null,{"$f":"SUMIF(Codigo_Produto,Estoque!A1507,[0]!quantidade_adquirida)-SUMIF([0]!cod_saida,Estoque!A1507,quantidade_comprada)","v":0}]
[null,null,null,null,null,{"$f":"SUMIF(Codigo_Produto,Estoque!A1508,[0]!quantidade_adquirida)-SUMIF([0]!cod_saida,Estoque!A1508,quantidade_comprada)","v":0}]
[null,null,null,null,null,{"$f":"SUMIF(Codigo_Produto,Estoque!A1509,[0]!quantidade_adquirida)-SUMIF([0]!cod_saida,Estoque!A1509,quantidade_comprada)","v":0}]
[null,null,null,null,null,{"$f":"SUMIF(Codigo_Produto,Estoque!A1510,[0]!quantidade_adquirida)-SUMIF([0]!cod_saida,Estoque!A1510,quantidade_comprada)","v":0}]
[null,null,null,null,null,{"$f":"SUMIF(Codigo_Produto,Estoque!A1511,[0]!quantidade_adquirida)-SUMIF([0]!cod_saida,Estoque!A1511,quantidade_comprada)","v":0}]
[null,null,null,null,null,{"$f":"SUMIF(Codigo_Produto,Estoque!A1512,[0]!quantidade_adquirida)-SUMIF([0]!cod_saida,Estoque!A1512,quantidade_comprada)","v":0}]
[null,null,null,null,null,{"$f":"SUMIF(Codigo_Produto,Estoque!A1513,[0]!quantidade_adquirida)-SUMIF([0]!cod_saida,Estoque!A1513,quantidade_comprada)","v":0}]
[null,null,null,null,null,{"$f":"SUMIF(Codigo_Produto,Estoque!A1514,[0]!quantidade_adquirida)-SUMIF([0]!cod_saida,Estoque!A1514,quantidade_comprada)","v":0}]
[null,null,null,null,null,{"$f":"SUMIF(Codigo_Produto,Estoque!A1515,[0]!quantidade_adquirida)-SUMIF([0]!cod_saida,Estoque!A1515,quantidade_comprada)","v":0}]
[null,null,null,null,null,{"$f":"SUMIF(Codigo_Produto,Estoque!A1516,[0]!quantidade_adquirida)-SUMIF([0]!cod_saida,Estoque!A1516,quantidade_comprada)","v":0}]
[null,null,null,null,null,{"$f":"SUMIF(Codigo_Produto,Estoque!A1517,[0]!quantidade_adquirida)-SUMIF([0]!cod_saida,Estoque!A1517,quantidade_comprada)","v":0}]
[null,null,null,null,null,{"$f":"SUMIF(Codigo_Produto,Estoque!A1518,[0]!quantidade_adquirida)-SUMIF([0]!cod_saida,Estoque!A1518,quantidade_comprada)","v":0}]
[null,null,null,null,null,{"$f":"SUMIF(Codigo_Produto,Estoque!A1519,[0]!quantidade_adquirida)-SUMIF([0]!cod_saida,Estoque!A1519,quantidade_comprada)","v":0}]
[null,null,null,null,null,{"$f":"SUMIF(Codigo_Produto,Estoque!A1520,[0]!quantidade_adquirida)-SUMIF([0]!cod_saida,Estoque!A1520,quantidade_comprada)","v":0}]
[null,null,null,null,null,{"$f":"SUMIF(Codigo_Produto,Estoque!A1521,[0]!quantidade_adquirida)-SUMIF([0]!cod_saida,Estoque!A1521,quantidade_comprada)","v":0}]
[null,null,null,null,null,{"$f":"SUMIF(Codigo_Produto,Estoque!A1522,[0]!quantidade_adquirida)-SUMIF([0]!cod_saida,Estoque!A1522,quantidade_comprada)","v":0}]
[null,null,null,null,null,{"$f":"SUMIF(Codigo_Produto,Estoque!A1523,[0]!quantidade_adquirida)-SUMIF([0]!cod_saida,Estoque!A1523,quantidade_comprada)","v":0}]
[null,null,null,null,null,{"$f":"SUMIF(Codigo_Produto,Estoque!A1524,[0]!quantidade_adquirida)-SUMIF([0]!cod_saida,Estoque!A1524,quantidade_comprada)","v":0}]
[null,null,null,null,null,{"$f":"SUMIF(Codigo_Produto,Estoque!A1525,[0]!quantidade_adquirida)-SUMIF([0]!cod_saida,Estoque!A1525,quantidade_comprada)","v":0}]
[null,null,null,null,null,{"$f":"SUMIF(Codigo_Produto,Estoque!A1526,[0]!quantidade_adquirida)-SUMIF([0]!cod_saida,Estoque!A1526,quantidade_comprada)","v":0}]
[null,null,null,null,null,{"$f":"SUMIF(Codigo_Produto,Estoque!A1527,[0]!quantidade_adquirida)-SUMIF([0]!cod_saida,Estoque!A1527,quantidade_comprada)","v":0}]
[null,null,null,null,null,{"$f":"SUMIF(Codigo_Produto,Estoque!A1528,[0]!quantidade_adquirida)-SUMIF([0]!cod_saida,Estoque!A1528,quantidade_comprada)","v":0}]
[null,null,null,null,null,{"$f":"SUMIF(Codigo_Produto,Estoque!A1529,[0]!quantidade_adquirida)-SUMIF([0]!cod_saida,Estoque!A1529,quantidade_comprada)","v":0}]
[null,null,null,null,null,{"$f":"SUMIF(Codigo_Produto,Estoque!A1530,[0]!quantidade_adquirida)-SUMIF([0]!cod_saida,Estoque!A1530,quantidade_comprada)","v":0}]
[null,null,null,null,null,{"$f":"SUMIF(Codigo_Produto,Estoque!A1531,[0]!quantidade_adquirida)-SUMIF([0]!cod_saida,Estoque!A1531,quantidade_comprada)","v":0}]
[null,null,null,null,null,{"$f":"SUMIF(Codigo_Produto,Estoque!A1532,[0]!quantidade_adquirida)-SUMIF([0]!cod_saida,Estoque!A1532,quantidade_comprada)","v":0}]
[null,null,null,null,null,{"$f":"SUMIF(Codigo_Produto,Estoque!A1533,[0]!quantidade_adquirida)-SUMIF([0]!cod_saida,Estoque!A1533,quantidade_comprada)","v":0}]
[null,null,null,null,null,{"$f":"SUMIF(Codigo_Produto,Estoque!A1534,[0]!quantidade_adquirida)-SUMIF([0]!cod_saida,Estoque!A1534,quantidade_comprada)","v":0}]
[null,null,null,null,null,{"$f":"SUMIF(Codigo_Produto,Estoque!A1535,[0]!quantidade_adquirida)-SUMIF([0]!cod_saida,Estoque!A1535,quantidade_comprada)","v":0}]
[null,null,null,null,null,{"$f":"SUMIF(Codigo_Produto,Estoque!A1536,[0]!quantidade_adquirida)-SUMIF([0]!cod_saida,Estoque!A1536,quantidade_comprada)","v":0}]
[null,null,null,null,null,{"$f":"SUMIF(Codigo_Produto,Estoque!A1537,[0]!quantidade_adquirida)-SUMIF([0]!cod_saida,Estoque!A1537,quantidade_comprada)","v":0}]
[null,null,null,null,null,{"$f":"SUMIF(Codigo_Produto,Estoque!A1538,[0]!quantidade_adquirida)-SUMIF([0]!cod_saida,Estoque!A1538,quantidade_comprada)","v":0}]
[null,null,null,null,null,{"$f":"SUMIF(Codigo_Produto,Estoque!A1539,[0]!quantidade_adquirida)-SUMIF([0]!cod_saida,Estoque!A1539,quantidade_comprada)","v":0}]
[null,null,null,null,null,{"$f":"SUMIF(Codigo_Produto,Estoque!A1540,[0]!quantidade_adquirida)-SUMIF([0]!cod_saida,Estoque!A1540,quantidade_comprada)","v":0}]
[null,null,null,null,null,{"$f":"SUMIF(Codigo_Produto,Estoque!A1541,[0]!quantidade_adquirida)-SUMIF([0]!cod_saida,Estoque!A1541,quantidade_comprada)","v":0}]
[null,null,null,null,null,{"$f":"SUMIF(Codigo_Produto,Estoque!A1542,[0]!quantidade_adquirida)-SUMIF([0]!cod_saida,Estoque!A1542,quantidade_comprada)","v":0}]
[null,null,null,null,null,{"$f":"SUMIF(Codigo_Produto,Estoque!A1543,[0]!quantidade_adquirida)-SUMIF([0]!cod_saida,Estoque!A1543,quantidade_comprada)","v":0}]
[null,null,null,null,null,{"$f":"SUMIF(Codigo_Produto,Estoque!A1544,[0]!quantidade_adquirida)-SUMIF([0]!cod_saida,Estoque!A1544,quantidade_comprada)","v":0}]
[null,null,null,null,null,{"$f":"SUMIF(Codigo_Produto,Estoque!A1545,[0]!quantidade_adquirida)-SUMIF([0]!cod_saida,Estoque!A1545,quantidade_comprada)","v":0}]
[null,null,null,null,null,{"$f":"SUMIF(Codigo_Produto,Estoque!A1546,[0]!quantidade_adquirida)-SUMIF([0]!cod_saida,Estoque!A1546,quantidade_comprada)","v":0}]
[null,null,null,null,null,{"$f":"SUMIF(Codigo_Produto,Estoque!A1547,[0]!quantidade_adquirida)-SUMIF([0]!cod_saida,Estoque!A1547,quantidade_comprada)","v":0}]
[null,null,null,null,null,{"$f":"SUMIF(Codigo_Produto,Estoque!A1548,[0]!quantidade_adquirida)-SUMIF([0]!cod_saida,Estoque!A1548,quantidade_comprada)","v":0}]
[null,null,null,null,null,{"$f":"SUMIF(Codigo_Produto,Estoque!A1549,[0]!quantidade_adquirida)-SUMIF([0]!cod_saida,Estoque!A1549,quantidade_comprada)","v":0}]
[null,null,null,null,null,{"$f":"SUMIF(Codigo_Produto,Estoque!A1550,[0]!quantidade_adquirida)-SUMIF([0]!cod_saida,Estoque!A1550,quantidade_comprada)","v":0}]
[null,null,null,null,null,{"$f":"SUMIF(Codigo_Produto,Estoque!A1551,[0]!quantidade_adquirida)-SUMIF([0]!cod_saida,Estoque!A1551,quantidade_comprada)","v":0}]
[null,null,null,null,null,{"$f":"SUMIF(Codigo_Produto,Estoque!A1552,[0]!quantidade_adquirida)-SUMIF([0]!cod_saida,Estoque!A1552,quantidade_comprada)","v":0}]
[null,null,null,null,null,{"$f":"SUMIF(Codigo_Produto,Estoque!A1553,[0]!quantidade_adquirida)-SUMIF([0]!cod_saida,Estoque!A1553,quantidade_comprada)","v":0}]
[null,null,null,null,null,{"$f":"SUMIF(Codigo_Produto,Estoque!A1554,[0]!quantidade_adquirida)-SUMIF([0]!cod_saida,Estoque!A1554,quantidade_comprada)","v":0}]
[null,null,null,null,null,{"$f":"SUMIF(Codigo_Produto,Estoque!A1555,[0]!quantidade_adquirida)-SUMIF([0]!cod_saida,Estoque!A1555,quantidade_comprada)","v":0}]
[null,null,null,null,null,{"$f":"SUMIF(Codigo_Produto,Estoque!A1556,[0]!quantidade_adquirida)-SUMIF([0]!cod_saida,Estoque!A1556,quantidade_comprada)","v":0}]
[null,null,null,null,null,{"$f":"SUMIF(Codigo_Produto,Estoque!A1557,[0]!quantidade_adquirida)-SUMIF([0]!cod_saida,Estoque!A1557,quantidade_comprada)","v":0}]
[null,null,null,null,null,{"$f":"SUMIF(Codigo_Produto,Estoque!A1558,[0]!quantidade_adquirida)-SUMIF([0]!cod_saida,Estoque!A1558,quantidade_comprada)","v":0}]
[null,null,null,null,null,{"$f":"SUMIF(Codigo_Produto,Estoque!A1559,[0]!quantidade_adquirida)-SUMIF([0]!cod_saida,Estoque!A1559,quantidade_comprada)","v":0}]
[null,null,null,null,null,{"$f":"SUMIF(Codigo_Produto,Estoque!A1560,[0]!quantidade_adquirida)-SUMIF([0]!cod_saida,Estoque!A1560,quantidade_comprada)","v":0}]
[null,null,null,null,null,{"$f":"SUMIF(Codigo_Produto,Estoque!A1561,[0]!quantidade_adquirida)-SUMIF([0]!cod_saida,Estoque!A1561,quantidade_comprada)","v":0}]
[null,null,null,null,null,{"$f":"SUMIF(Codigo_Produto,Estoque!A1562,[0]!quantidade_adquirida)-SUMIF([0]!cod_saida,Estoque!A1562,quantidade_comprada)","v":0}]
[null,null,null,null,null,{"$f":"SUMIF(Codigo_Produto,Estoque!A1563,[0]!quantidade_adquirida)-SUMIF([0]!cod_saida,Estoque!A1563,quantidade_comprada)","v":0}]
[null,null,null,null,null,{"$f":"SUMIF(Codigo_Produto,Estoque!A1564,[0]!quantidade_adquirida)-SUMIF([0]!cod_saida,Estoque!A1564,quantidade_comprada)","v":0}]
[null,null,null,null,null,{"$f":"SUMIF(Codigo_Produto,Estoque!A1565,[0]!quantidade_adquirida)-SUMIF([0]!cod_saida,Estoque!A1565,quantidade_comprada)","v":0}]
[null,null,null,null,null,{"$f":"SUMIF(Codigo_Produto,Estoque!A1566,[0]!quantidade_adquirida)-SUMIF([0]!cod_saida,Estoque!A1566,quantidade_comprada)","v":0}]
[null,null,null,null,null,{"$f":"SUMIF(Codigo_Produto,Estoque!A1567,[0]!quantidade_adquirida)-SUMIF([0]!cod_saida,Estoque!A1567,quantidade_comprada)","v":0}]
[null,null,null,null,null,{"$f":"SUMIF(Codigo_Produto,Estoque!A1568,[0]!quantidade_adquirida)-SUMIF([0]!cod_saida,Estoque!A1568,quantidade_comprada)","v":0}]
[null,null,null,null,null,{"$f":"SUMIF(Codigo_Produto,Estoque!A1569,[0]!quantidade_adquirida)-SUMIF([0]!cod_saida,Estoque!A1569,quantidade_comprada)","v":0}]
[null,null,null,null,null,{"$f":"SUMIF(Codigo_Produto,Estoque!A1570,[0]!quantidade_adquirida)-SUMIF([0]!cod_saida,Estoque!A1570,quantidade_comprada)","v":0}]
[null,null,null,null,null,{"$f":"SUMIF(Codigo_Produto,Estoque!A1571,[0]!quantidade_adquirida)-SUMIF([0]!cod_saida,Estoque!A1571,quantidade_comprada)","v":0}]
[null,null,null,null,null,{"$f":"SUMIF(Codigo_Produto,Estoque!A1572,[0]!quantidade_adquirida)-SUMIF([0]!cod_saida,Estoque!A1572,quantidade_comprada)","v":0}]
[null,null,null,null,null,{"$f":"SUMIF(Codigo_Produto,Estoque!A1573,[0]!quantidade_adquirida)-SUMIF([0]!cod_saida,Estoque!A1573,quantidade_comprada)","v":0}]
[null,null,null,null,null,{"$f":"SUMIF(Codigo_Produto,Estoque!A1574,[0]!quantidade_adquirida)-SUMIF([0]!cod_saida,Estoque!A1574,quantidade_comprada)","v":0}]
[null,null,null,null,null,{"$f":"SUMIF(Codigo_Produto,Estoque!A1575,[0]!quantidade_adquirida)-SUMIF([0]!cod_saida,Estoque!A1575,quantidade_comprada)","v":0}]
[null,null,null,null,null,{"$f":"SUMIF(Codigo_Produto,Estoque!A1576,[0]!quantidade_adquirida)-SUMIF([0]!cod_saida,Estoque!A1576,quantidade_comprada)","v":0}]
[null,null,null,null,null,{"$f":"SUMIF(Codigo_Produto,Estoque!A1577,[0]!quantidade_adquirida)-SUMIF([0]!cod_saida,Estoque!A1577,quantidade_comprada)","v":0}]
[null,null,null,null,null,{"$f":"SUMIF(Codigo_Produto,Estoque!A1578,[0]!quantidade_adquirida)-SUMIF([0]!cod_saida,Estoque!A1578,quantidade_comprada)","v":0}]
[null,null,null,null,null,{"$f":"SUMIF(Codigo_Produto,Estoque!A1579,[0]!quantidade_adquirida)-SUMIF([0]!cod_saida,Estoque!A1579,quantidade_comprada)","v":0}]
[null,null,null,null,null,{"$f":"SUMIF(Codigo_Produto,Estoque!A1580,[0]!quantidade_adquirida)-SUMIF([0]!cod_saida,Estoque!A1580,quantidade_comprada)","v":0}]
[null,null,null,null,null,{"$f":"SUMIF(Codigo_Produto,Estoque!A1581,[0]!quantidade_adquirida)-SUMIF([0]!cod_saida,Estoque!A1581,quantidade_comprada)","v":0}]
[null,null,null,null,null,{"$f":"SUMIF(Codigo_Produto,Estoque!A1582,[0]!quantidade_adquirida)-SUMIF([0]!cod_saida,Estoque!A1582,quantidade_comprada)","v":0}]
[null,null,null,null,null,{"$f":"SUMIF(Codigo_Produto,Estoque!A1583,[0]!quantidade_adquirida)-SUMIF([0]!cod_saida,Estoque!A1583,quantidade_comprada)","v":0}]
[null,null,null,null,null,{"$f":"SUMIF(Codigo_Produto,Estoque!A1584,[0]!quantidade_adquirida)-SUMIF([0]!cod_saida,Estoque!A1584,quantidade_comprada)","v":0}]
[null,null,null,null,null,{"$f":"SUMIF(Codigo_Produto,Estoque!A1585,[0]!quantidade_adquirida)-SUMIF([0]!cod_saida,Estoque!A1585,quantidade_comprada)","v":0}]
[null,null,null,null,null,{"$f":"SUMIF(Codigo_Produto,Estoque!A1586,[0]!quantidade_adquirida)-SUMIF([0]!cod_saida,Estoque!A1586,quantidade_comprada)","v":0}]
[null,null,null,null,null,{"$f":"SUMIF(Codigo_Produto,Estoque!A1587,[0]!quantidade_adquirida)-SUMIF([0]!cod_saida,Estoque!A1587,quantidade_comprada)","v":0}]
[null,null,null,null,null,{"$f":"SUMIF(Codigo_Produto,Estoque!A1588,[0]!quantidade_adquirida)-SUMIF([0]!cod_saida,Estoque!A1588,quantidade_comprada)","v":0}]
[null,null,null,null,null,{"$f":"SUMIF(Codigo_Produto,Estoque!A1589,[0]!quantidade_adquirida)-SUMIF([0]!cod_saida,Estoque!A1589,quantidade_comprada)","v":0}]
[null,null,null,null,null,{"$f":"SUMIF(Codigo_Produto,Estoque!A1590,[0]!quantidade_adquirida)-SUMIF([0]!cod_saida,Estoque!A1590,quantidade_comprada)","v":0}]
[null,null,null,null,null,{"$f":"SUMIF(Codigo_Produto,Estoque!A1591,[0]!quantidade_adquirida)-SUMIF([0]!cod_saida,Estoque!A1591,quantidade_comprada)","v":0}]
[null,null,null,null,null,{"$f":"SUMIF(Codigo_Produto,Estoque!A1592,[0]!quantidade_adquirida)-SUMIF([0]!cod_saida,Estoque!A1592,quantidade_comprada)","v":0}]
[null,null,null,null,null,{"$f":"SUMIF(Codigo_Produto,Estoque!A1593,[0]!quantidade_adquirida)-SUMIF([0]!cod_saida,Estoque!A1593,quantidade_comprada)","v":0}]
[null,null,null,null,null,{"$f":"SUMIF(Codigo_Produto,Estoque!A1594,[0]!quantidade_adquirida)-SUMIF([0]!cod_saida,Estoque!A1594,quantidade_comprada)","v":0}]
[null,null,null,null,null,{"$f":"SUMIF(Codigo_Produto,Estoque!A1595,[0]!quantidade_adquirida)-SUMIF([0]!cod_saida,Estoque!A1595,quantidade_comprada)","v":0}]
[null,null,null,null,null,{"$f":"SUMIF(Codigo_Produto,Estoque!A1596,[0]!quantidade_adquirida)-SUMIF([0]!cod_saida,Estoque!A1596,quantidade_comprada)","v":0}]
[null,null,null,null,null,{"$f":"SUMIF(Codigo_Produto,Estoque!A1597,[0]!quantidade_adquirida)-SUMIF([0]!cod_saida,Estoque!A1597,quantidade_comprada)","v":0}]
[null,null,null,null,null,{"$f":"SUMIF(Codigo_Produto,Estoque!A1598,[0]!quantidade_adquirida)-SUMIF([0]!cod_saida,Estoque!A1598,quantidade_comprada)","v":0}]
[null,null,null,null,null,{"$f":"SUMIF(Codigo_Produto,Estoque!A1599,[0]!quantidade_adquirida)-SUMIF([0]!cod_saida,Estoque!A1599,quantidade_comprada)","v":0}]
[null,null,null,null,null,{"$f":"SUMIF(Codigo_Produto,Estoque!A1600,[0]!quantidade_adquirida)-SUMIF([0]!cod_saida,Estoque!A1600,quantidade_comprada)","v":0}]
[null,null,null,null,null,{"$f":"SUMIF(Codigo_Produto,Estoque!A1601,[0]!quantidade_adquirida)-SUMIF([0]!cod_saida,Estoque!A1601,quantidade_comprada)","v":0}]
[null,null,null,null,null,{"$f":"SUMIF(Codigo_Produto,Estoque!A1602,[0]!quantidade_adquirida)-SUMIF([0]!cod_saida,Estoque!A1602,quantidade_comprada)","v":0}]
[null,null,null,null,null,{"$f":"SUMIF(Codigo_Produto,Estoque!A1603,[0]!quantidade_adquirida)-SUMIF([0]!cod_saida,Estoque!A1603,quantidade_comprada)","v":0}]
[null,null,null,null,null,{"$f":"SUMIF(Codigo_Produto,Estoque!A1604,[0]!quantidade_adquirida)-SUMIF([0]!cod_saida,Estoque!A1604,quantidade_comprada)","v":0}]
[null,null,null,null,null,{"$f":"SUMIF(Codigo_Produto,Estoque!A1605,[0]!quantidade_adquirida)-SUMIF([0]!cod_saida,Estoque!A1605,quantidade_comprada)","v":0}]
[null,null,null,null,null,{"$f":"SUMIF(Codigo_Produto,Estoque!A1606,[0]!quantidade_adquirida)-SUMIF([0]!cod_saida,Estoque!A1606,quantidade_comprada)","v":0}]
[null,null,null,null,null,{"$f":"SUMIF(Codigo_Produto,Estoque!A1607,[0]!quantidade_adquirida)-SUMIF([0]!cod_saida,Estoque!A1607,quantidade_comprada)","v":0}]
[null,null,null,null,null,{"$f":"SUMIF(Codigo_Produto,Estoque!A1608,[0]!quantidade_adquirida)-SUMIF([0]!cod_saida,Estoque!A1608,quantidade_comprada)","v":0}]
[null,null,null,null,null,{"$f":"SUMIF(Codigo_Produto,Estoque!A1609,[0]!quantidade_adquirida)-SUMIF([0]!cod_saida,Estoque!A1609,quantidade_comprada)","v":0}]
[null,null,null,null,null,{"$f":"SUMIF(Codigo_Produto,Estoque!A1610,[0]!quantidade_adquirida)-SUMIF([0]!cod_saida,Estoque!A1610,quantidade_comprada)","v":0}]
[null,null,null,null,null,{"$f":"SUMIF(Codigo_Produto,Estoque!A1611,[0]!quantidade_adquirida)-SUMIF([0]!cod_saida,Estoque!A1611,quantidade_comprada)","v":0}]
[null,null,null,null,null,{"$f":"SUMIF(Codigo_Produto,Estoque!A1612,[0]!quantidade_adquirida)-SUMIF([0]!cod_saida,Estoque!A1612,quantidade_comprada)","v":0}]
[null,null,null,null,null,{"$f":"SUMIF(Codigo_Produto,Estoque!A1613,[0]!quantidade_adquirida)-SUMIF([0]!cod_saida,Estoque!A1613,quantidade_comprada)","v":0}]
[null,null,null,null,null,{"$f":"SUMIF(Codigo_Produto,Estoque!A1614,[0]!quantidade_adquirida)-SUMIF([0]!cod_saida,Estoque!A1614,quantidade_comprada)","v":0}]
[null,null,null,null,null,{"$f":"SUMIF(Codigo_Produto,Estoque!A1615,[0]!quantidade_adquirida)-SUMIF([0]!cod_saida,Estoque!A1615,quantidade_comprada)","v":0}]
[null,null,null,null,null,{"$f":"SUMIF(Codigo_Produto,Estoque!A1616,[0]!quantidade_adquirida)-SUMIF([0]!cod_saida,Estoque!A1616,quantidade_comprada)","v":0}]
[null,null,null,null,null,{"$f":"SUMIF(Codigo_Produto,Estoque!A1617,[0]!quantidade_adquirida)-SUMIF([0]!cod_saida,Estoque!A1617,quantidade_comprada)","v":0}]
[null,null,null,null,null,{"$f":"SUMIF(Codigo_Produto,Estoque!A1618,[0]!quantidade_adquirida)-SUMIF([0]!cod_saida,Estoque!A1618,quantidade_comprada)","v":0}]
[null,null,null,null,null,{"$f":"SUMIF(Codigo_Produto,Estoque!A1619,[0]!quantidade_adquirida)-SUMIF([0]!cod_saida,Estoque!A1619,quantidade_comprada)","v":0}]
[null,null,null,null,null,{"$f":"SUMIF(Codigo_Produto,Estoque!A1620,[0]!quantidade_adquirida)-SUMIF([0]!cod_saida,Estoque!A1620,quantidade_comprada)","v":0}]
[null,null,null,null,null,{"$f":"SUMIF(Codigo_Produto,Estoque!A1621,[0]!quantidade_adquirida)-SUMIF([0]!cod_saida,Estoque!A1621,quantidade_comprada)","v":0}]
[null,null,null,null,null,{"$f":"SUMIF(Codigo_Produto,Estoque!A1622,[0]!quantidade_adquirida)-SUMIF([0]!cod_saida,Estoque!A1622,quantidade_comprada)","v":0}]
[null,null,null,null,null,{"$f":"SUMIF(Codigo_Produto,Estoque!A1623,[0]!quantidade_adquirida)-SUMIF([0]!cod_saida,Estoque!A1623,quantidade_comprada)","v":0}]
[null,null,null,null,null,{"$f":"SUMIF(Codigo_Produto,Estoque!A1624,[0]!quantidade_adquirida)-SUMIF([0]!cod_saida,Estoque!A1624,quantidade_comprada)","v":0}]
[null,null,null,null,null,{"$f":"SUMIF(Codigo_Produto,Estoque!A1625,[0]!quantidade_adquirida)-SUMIF([0]!cod_saida,Estoque!A1625,quantidade_comprada)","v":0}]
[null,null,null,null,null,{"$f":"SUMIF(Codigo_Produto,Estoque!A1626,[0]!quantidade_adquirida)-SUMIF([0]!cod_saida,Estoque!A1626,quantidade_comprada)","v":0}]
[null,null,null,null,null,{"$f":"SUMIF(Codigo_Produto,Estoque!A1627,[0]!quantidade_adquirida)-SUMIF([0]!cod_saida,Estoque!A1627,quantidade_comprada)","v":0}]
[null,null,null,null,null,{"$f":"SUMIF(Codigo_Produto,Estoque!A1628,[0]!quantidade_adquirida)-SUMIF([0]!cod_saida,Estoque!A1628,quantidade_comprada)","v":0}]
[null,null,null,null,null,{"$f":"SUMIF(Codigo_Produto,Estoque!A1629,[0]!quantidade_adquirida)-SUMIF([0]!cod_saida,Estoque!A1629,quantidade_comprada)","v":0}]
[null,null,null,null,null,{"$f":"SUMIF(Codigo_Produto,Estoque!A1630,[0]!quantidade_adquirida)-SUMIF([0]!cod_saida,Estoque!A1630,quantidade_comprada)","v":0}]
[null,null,null,null,null,{"$f":"SUMIF(Codigo_Produto,Estoque!A1631,[0]!quantidade_adquirida)-SUMIF([0]!cod_saida,Estoque!A1631,quantidade_comprada)","v":0}]
[null,null,null,null,null,{"$f":"SUMIF(Codigo_Produto,Estoque!A1632,[0]!quantidade_adquirida)-SUMIF([0]!cod_saida,Estoque!A1632,quantidade_comprada)","v":0}]
[null,null,null,null,null,{"$f":"SUMIF(Codigo_Produto,Estoque!A1633,[0]!quantidade_adquirida)-SUMIF([0]!cod_saida,Estoque!A1633,quantidade_comprada)","v":0}]
[null,null,null,null,null,{"$f":"SUMIF(Codigo_Produto,Estoque!A1634,[0]!quantidade_adquirida)-SUMIF([0]!cod_saida,Estoque!A1634,quantidade_comprada)","v":0}]
[null,null,null,null,null,{"$f":"SUMIF(Codigo_Produto,Estoque!A1635,[0]!quantidade_adquirida)-SUMIF([0]!cod_saida,Estoque!A1635,quantidade_comprada)","v":0}]
[null,null,null,null,null,{"$f":"SUMIF(Codigo_Produto,Estoque!A1636,[0]!quantidade_adquirida)-SUMIF([0]!cod_saida,Estoque!A1636,quantidade_comprada)","v":0}]
[null,null,null,null,null,{"$f":"SUMIF(Codigo_Produto,Estoque!A1637,[0]!quantidade_adquirida)-SUMIF([0]!cod_saida,Estoque!A1637,quantidade_comprada)","v":0}]
[null,null,null,null,null,{"$f":"SUMIF(Codigo_Produto,Estoque!A1638,[0]!quantidade_adquirida)-SUMIF([0]!cod_saida,Estoque!A1638,quantidade_comprada)","v":0}]
[null,null,null,null,null,{"$f":"SUMIF(Codigo_Produto,Estoque!A1639,[0]!quantidade_adquirida)-SUMIF([0]!cod_saida,Estoque!A1639,quantidade_comprada)","v":0}]
[null,null,null,null,null,{"$f":"SUMIF(Codigo_Produto,Estoque!A1640,[0]!quantidade_adquirida)-SUMIF([0]!cod_saida,Estoque!A1640,quantidade_comprada)","v":0}]
[null,null,null,null,null,{"$f":"SUMIF(Codigo_Produto,Estoque!A1641,[0]!quantidade_adquirida)-SUMIF([0]!cod_saida,Estoque!A1641,quantidade_comprada)","v":0}]
[null,null,null,null,null,{"$f":"SUMIF(Codigo_Produto,Estoque!A1642,[0]!quantidade_adquirida)-SUMIF([0]!cod_saida,Estoque!A1642,quantidade_comprada)","v":0}]
[null,null,null,null,null,{"$f":"SUMIF(Codigo_Produto,Estoque!A1643,[0]!quantidade_adquirida)-SUMIF([0]!cod_saida,Estoque!A1643,quantidade_comprada)","v":0}]
[null,null,null,null,null,{"$f":"SUMIF(Codigo_Produto,Estoque!A1644,[0]!quantidade_adquirida)-SUMIF([0]!cod_saida,Estoque!A1644,quantidade_comprada)","v":0}]
[null,null,null,null,null,{"$f":"SUMIF(Codigo_Produto,Estoque!A1645,[0]!quantidade_adquirida)-SUMIF([0]!cod_saida,Estoque!A1645,quantidade_comprada)","v":0}]
[null,null,null,null,null,{"$f":"SUMIF(Codigo_Produto,Estoque!A1646,[0]!quantidade_adquirida)-SUMIF([0]!cod_saida,Estoque!A1646,quantidade_comprada)","v":0}]
[null,null,null,null,null,{"$f":"SUMIF(Codigo_Produto,Estoque!A1647,[0]!quantidade_adquirida)-SUMIF([0]!cod_saida,Estoque!A1647,quantidade_comprada)","v":0}]
[null,null,null,null,null,{"$f":"SUMIF(Codigo_Produto,Estoque!A1648,[0]!quantidade_adquirida)-SUMIF([0]!cod_saida,Estoque!A1648,quantidade_comprada)","v":0}]
[null,null,null,null,null,{"$f":"SUMIF(Codigo_Produto,Estoque!A1649,[0]!quantidade_adquirida)-SUMIF([0]!cod_saida,Estoque!A1649,quantidade_comprada)","v":0}]
[null,null,null,null,null,{"$f":"SUMIF(Codigo_Produto,Estoque!A1650,[0]!quantidade_adquirida)-SUMIF([0]!cod_saida,Estoque!A1650,quantidade_comprada)","v":0}]
[null,null,null,null,null,{"$f":"SUMIF(Codigo_Produto,Estoque!A1651,[0]!quantidade_adquirida)-SUMIF([0]!cod_saida,Estoque!A1651,quantidade_comprada)","v":0}]
[null,null,null,null,null,{"$f":"SUMIF(Codigo_Produto,Estoque!A1652,[0]!quantidade_adquirida)-SUMIF([0]!cod_saida,Estoque!A1652,quantidade_comprada)","v":0}]
[null,null,null,null,null,{"$f":"SUMIF(Codigo_Produto,Estoque!A1653,[0]!quantidade_adquirida)-SUMIF([0]!cod_saida,Estoque!A1653,quantidade_comprada)","v":0}]
[null,null,null,null,null,{"$f":"SUMIF(Codigo_Produto,Estoque!A1654,[0]!quantidade_adquirida)-SUMIF([0]!cod_saida,Estoque!A1654,quantidade_comprada)","v":0}]
[null,null,null,null,null,{"$f":"SUMIF(Codigo_Produto,Estoque!A1655,[0]!quantidade_adquirida)-SUMIF([0]!cod_saida,Estoque!A1655,quantidade_comprada)","v":0}]
[null,null,null,null,null,{"$f":"SUMIF(Codigo_Produto,Estoque!A1656,[0]!quantidade_adquirida)-SUMIF([0]!cod_saida,Estoque!A1656,quantidade_comprada)","v":0}]
[null,null,null,null,null,{"$f":"SUMIF(Codigo_Produto,Estoque!A1657,[0]!quantidade_adquirida)-SUMIF([0]!cod_saida,Estoque!A1657,quantidade_comprada)","v":0}]
[null,null,null,null,null,{"$f":"SUMIF(Codigo_Produto,Estoque!A1658,[0]!quantidade_adquirida)-SUMIF([0]!cod_saida,Estoque!A1658,quantidade_comprada)","v":0}]
[null,null,null,null,null,{"$f":"SUMIF(Codigo_Produto,Estoque!A1659,[0]!quantidade_adquirida)-SUMIF([0]!cod_saida,Estoque!A1659,quantidade_comprada)","v":0}]
[null,null,null,null,null,{"$f":"SUMIF(Codigo_Produto,Estoque!A1660,[0]!quantidade_adquirida)-SUMIF([0]!cod_saida,Estoque!A1660,quantidade_comprada)","v":0}]
[null,null,null,null,null,{"$f":"SUMIF(Codigo_Produto,Estoque!A1661,[0]!quantidade_adquirida)-SUMIF([0]!cod_saida,Estoque!A1661,quantidade_comprada)","v":0}]
[null,null,null,null,null,{"$f":"SUMIF(Codigo_Produto,Estoque!A1662,[0]!quantidade_adquirida)-SUMIF([0]!cod_saida,Estoque!A1662,quantidade_comprada)","v":0}]
[null,null,null,null,null,{"$f":"SUMIF(Codigo_Produto,Estoque!A1663,[0]!quantidade_adquirida)-SUMIF([0]!cod_saida,Estoque!A1663,quantidade_comprada)","v":0}]
[null,null,null,null,null,{"$f":"SUMIF(Codigo_Produto,Estoque!A1664,[0]!quantidade_adquirida)-SUMIF([0]!cod_saida,Estoque!A1664,quantidade_comprada)","v":0}]
[null,null,null,null,null,{"$f":"SUMIF(Codigo_Produto,Estoque!A1665,[0]!quantidade_adquirida)-SUMIF([0]!cod_saida,Estoque!A1665,quantidade_comprada)","v":0}]
[null,null,null,null,null,{"$f":"SUMIF(Codigo_Produto,Estoque!A1666,[0]!quantidade_adquirida)-SUMIF([0]!cod_saida,Estoque!A1666,quantidade_comprada)","v":0}]
[null,null,null,null,null,{"$f":"SUMIF(Codigo_Produto,Estoque!A1667,[0]!quantidade_adquirida)-SUMIF([0]!cod_saida,Estoque!A1667,quantidade_comprada)","v":0}]
[null,null,null,null,null,{"$f":"SUMIF(Codigo_Produto,Estoque!A1668,[0]!quantidade_adquirida)-SUMIF([0]!cod_saida,Estoque!A1668,quantidade_comprada)","v":0}]
[null,null,null,null,null,{"$f":"SUMIF(Codigo_Produto,Estoque!A1669,[0]!quantidade_adquirida)-SUMIF([0]!cod_saida,Estoque!A1669,quantidade_comprada)","v":0}]
[null,null,null,null,null,{"$f":"SUMIF(Codigo_Produto,Estoque!A1670,[0]!quantidade_adquirida)-SUMIF([0]!cod_saida,Estoque!A1670,quantidade_comprada)","v":0}]
[null,null,null,null,null,{"$f":"SUMIF(Codigo_Produto,Estoque!A1671,[0]!quantidade_adquirida)-SUMIF([0]!cod_saida,Estoque!A1671,quantidade_comprada)","v":0}]
[null,null,null,null,null,{"$f":"SUMIF(Codigo_Produto,Estoque!A1672,[0]!quantidade_adquirida)-SUMIF([0]!cod_saida,Estoque!A1672,quantidade_comprada)","v":0}]
[null,null,null,null,null,{"$f":"SUMIF(Codigo_Produto,Estoque!A1673,[0]!quantidade_adquirida)-SUMIF([0]!cod_saida,Estoque!A1673,quantidade_comprada)","v":0}]
[null,null,null,null,null,{"$f":"SUMIF(Codigo_Produto,Estoque!A1674,[0]!quantidade_adquirida)-SUMIF([0]!cod_saida,Estoque!A1674,quantidade_comprada)","v":0}]
[null,null,null,null,null,{"$f":"SUMIF(Codigo_Produto,Estoque!A1675,[0]!quantidade_adquirida)-SUMIF([0]!cod_saida,Estoque!A1675,quantidade_comprada)","v":0}]
[null,null,null,null,null,{"$f":"SUMIF(Codigo_Produto,Estoque!A1676,[0]!quantidade_adquirida)-SUMIF([0]!cod_saida,Estoque!A1676,quantidade_comprada)","v":0}]
[null,null,null,null,null,{"$f":"SUMIF(Codigo_Produto,Estoque!A1677,[0]!quantidade_adquirida)-SUMIF([0]!cod_saida,Estoque!A1677,quantidade_comprada)","v":0}]
[null,null,null,null,null,{"$f":"SUMIF(Codigo_Produto,Estoque!A1678,[0]!quantidade_adquirida)-SUMIF([0]!cod_saida,Estoque!A1678,quantidade_comprada)","v":0}]
[null,null,null,null,null,{"$f":"SUMIF(Codigo_Produto,Estoque!A1679,[0]!quantidade_adquirida)-SUMIF([0]!cod_saida,Estoque!A1679,quantidade_comprada)","v":0}]
[null,null,null,null,null,{"$f":"SUMIF(Codigo_Produto,Estoque!A1680,[0]!quantidade_adquirida)-SUMIF([0]!cod_saida,Estoque!A1680,quantidade_comprada)","v":0}]
[null,null,null,null,null,{"$f":"SUMIF(Codigo_Produto,Estoque!A1681,[0]!quantidade_adquirida)-SUMIF([0]!cod_saida,Estoque!A1681,quantidade_comprada)","v":0}]
[null,null,null,null,null,{"$f":"SUMIF(Codigo_Produto,Estoque!A1682,[0]!quantidade_adquirida)-SUMIF([0]!cod_saida,Estoque!A1682,quantidade_comprada)","v":0}]
[null,null,null,null,null,{"$f":"SUMIF(Codigo_Produto,Estoque!A1683,[0]!quantidade_adquirida)-SUMIF([0]!cod_saida,Estoque!A1683,quantidade_comprada)","v":0}]
[null,null,null,null,null,{"$f":"SUMIF(Codigo_Produto,Estoque!A1684,[0]!quantidade_adquirida)-SUMIF([0]!cod_saida,Estoque!A1684,quantidade_comprada)","v":0}]
[null,null,null,null,null,{"$f":"SUMIF(Codigo_Produto,Estoque!A1685,[0]!quantidade_adquirida)-SUMIF([0]!cod_saida,Estoque!A1685,quantidade_comprada)","v":0}]
[null,null,null,null,null,{"$f":"SUMIF(Codigo_Produto,Estoque!A1686,[0]!quantidade_adquirida)-SUMIF([0]!cod_saida,Estoque!A1686,quantidade_comprada)","v":0}]
[null,null,null,null,null,{"$f":"SUMIF(Codigo_Produto,Estoque!A1687,[0]!quantidade_adquirida)-SUMIF([0]!cod_saida,Estoque!A1687,quantidade_comprada)","v":0}]
[null,null,null,null,null,{"$f":"SUMIF(Codigo_Produto,Estoque!A1688,[0]!quantidade_adquirida)-SUMIF([0]!cod_saida,Estoque!A1688,quantidade_comprada)","v":0}]
[null,null,null,null,null,{"$f":"SUMIF(Codigo_Produto,Estoque!A1689,[0]!quantidade_adquirida)-SUMIF([0]!cod_saida,Estoque!A1689,quantidade_comprada)","v":0}]
[null,null,null,null,null,{"$f":"SUMIF(Codigo_Produto,Estoque!A1690,[0]!quantidade_adquirida)-SUMIF([0]!cod_saida,Estoque!A1690,quantidade_comprada)","v":0}]
[null,null,null,null,null,{"$f":"SUMIF(Codigo_Produto,Estoque!A1691,[0]!quantidade_adquirida)-SUMIF([0]!cod_saida,Estoque!A1691,quantidade_comprada)","v":0}]
[null,null,null,null,null,{"$f":"SUMIF(Codigo_Produto,Estoque!A1692,[0]!quantidade_adquirida)-SUMIF([0]!cod_saida,Estoque!A1692,quantidade_comprada)","v":0}]
[null,null,null,null,null,{"$f":"SUMIF(Codigo_Produto,Estoque!A1693,[0]!quantidade_adquirida)-SUMIF([0]!cod_saida,Estoque!A1693,quantidade_comprada)","v":0}]
[null,null,null,null,null,{"$f":"SUMIF(Codigo_Produto,Estoque!A1694,[0]!quantidade_adquirida)-SUMIF([0]!cod_saida,Estoque!A1694,quantidade_comprada)","v":0}]
[null,null,null,null,null,{"$f":"SUMIF(Codigo_Produto,Estoque!A1695,[0]!quantidade_adquirida)-SUMIF([0]!cod_saida,Estoque!A1695,quantidade_comprada)","v":0}]
[null,null,null,null,null,{"$f":"SUMIF(Codigo_Produto,Estoque!A1696,[0]!quantidade_adquirida)-SUMIF([0]!cod_saida,Estoque!A1696,quantidade_comprada)","v":0}]
[null,null,null,null,null,{"$f":"SUMIF(Codigo_Produto,Estoque!A1697,[0]!quantidade_adquirida)-SUMIF([0]!cod_saida,Estoque!A1697,quantidade_comprada)","v":0}]
[null,null,null,null,null,{"$f":"SUMIF(Codigo_Produto,Estoque!A1698,[0]!quantidade_adquirida)-SUMIF([0]!cod_saida,Estoque!A1698,quantidade_comprada)","v":0}]
[null,null,null,null,null,{"$f":"SUMIF(Codigo_Produto,Estoque!A1699,[0]!quantidade_adquirida)-SUMIF([0]!cod_saida,Estoque!A1699,quantidade_comprada)","v":0}]
[null,null,null,null,null,{"$f":"SUMIF(Codigo_Produto,Estoque!A1700,[0]!quantidade_adquirida)-SUMIF([0]!cod_saida,Estoque!A1700,quantidade_comprada)","v":0}]
[null,null,null,null,null,{"$f":"SUMIF(Codigo_Produto,Estoque!A1701,[0]!quantidade_adquirida)-SUMIF([0]!cod_saida,Estoque!A1701,quantidade_comprada)","v":0}]
[null,null,null,null,null,{"$f":"SUMIF(Codigo_Produto,Estoque!A1702,[0]!quantidade_adquirida)-SUMIF([0]!cod_saida,Estoque!A1702,quantidade_comprada)","v":0}]
[null,null,null,null,null,{"$f":"SUMIF(Codigo_Produto,Estoque!A1703,[0]!quantidade_adquirida)-SUMIF([0]!cod_saida,Estoque!A1703,quantidade_comprada)","v":0}]
[null,null,null,null,null,{"$f":"SUMIF(Codigo_Produto,Estoque!A1704,[0]!quantidade_adquirida)-SUMIF([0]!cod_saida,Estoque!A1704,quantidade_comprada)","v":0}]
[null,null,null,null,null,{"$f":"SUMIF(Codigo_Produto,Estoque!A1705,[0]!quantidade_adquirida)-SUMIF([0]!cod_saida,Estoque!A1705,quantidade_comprada)","v":0}]
[null,null,null,null,null,{"$f":"SUMIF(Codigo_Produto,Estoque!A1706,[0]!quantidade_adquirida)-SUMIF([0]!cod_saida,Estoque!A1706,quantidade_comprada)","v":0}]
[null,null,null,null,null,{"$f":"SUMIF(Codigo_Produto,Estoque!A1707,[0]!quantidade_adquirida)-SUMIF([0]!cod_saida,Estoque!A1707,quantidade_comprada)","v":0}]
[null,null,null,null,null,{"$f":"SUMIF(Codigo_Produto,Estoque!A1708,[0]!quantidade_adquirida)-SUMIF([0]!cod_saida,Estoque!A1708,quantidade_comprada)","v":0}]
[null,null,null,null,null,{"$f":"SUMIF(Codigo_Produto,Estoque!A1709,[0]!quantidade_adquirida)-SUMIF([0]!cod_saida,Estoque!A1709,quantidade_comprada)","v":0}]
[null,null,null,null,null,{"$f":"SUMIF(Codigo_Produto,Estoque!A1710,[0]!quantidade_adquirida)-SUMIF([0]!cod_saida,Estoque!A1710,quantidade_comprada)","v":0}]
[null,null,null,null,null,{"$f":"SUMIF(Codigo_Produto,Estoque!A1711,[0]!quantidade_adquirida)-SUMIF([0]!cod_saida,Estoque!A1711,quantidade_comprada)","v":0}]
[null,null,null,null,null,{"$f":"SUMIF(Codigo_Produto,Estoque!A1712,[0]!quantidade_adquirida)-SUMIF([0]!cod_saida,Estoque!A1712,quantidade_comprada)","v":0}]
[null,null,null,null,null,{"$f":"SUMIF(Codigo_Produto,Estoque!A1713,[0]!quantidade_adquirida)-SUMIF([0]!cod_saida,Estoque!A1713,quantidade_comprada)","v":0}]
[null,null,null,null,null,{"$f":"SUMIF(Codigo_Produto,Estoque!A1714,[0]!quantidade_adquirida)-SUMIF([0]!cod_saida,Estoque!A1714,quantidade_comprada)","v":0}]
[null,null,null,null,null,{"$f":"SUMIF(Codigo_Produto,Estoque!A1715,[0]!quantidade_adquirida)-SUMIF([0]!cod_saida,Estoque!A1715,quantidade_comprada)","v":0}]
[null,null,null,null,null,{"$f":"SUMIF(Codigo_Produto,Estoque!A1716,[0]!quantidade_adquirida)-SUMIF([0]!cod_saida,Estoque!A1716,quantidade_comprada)","v":0}]
[null,null,null,null,null,{"$f":"SUMIF(Codigo_Produto,Estoque!A1717,[0]!quantidade_adquirida)-SUMIF([0]!cod_saida,Estoque!A1717,quantidade_comprada)","v":0}]
[null,null,null,null,null,{"$f":"SUMIF(Codigo_Produto,Estoque!A1718,[0]!quantidade_adquirida)-SUMIF([0]!cod_saida,Estoque!A1718,quantidade_comprada)","v":0}]
[null,null,null,null,null,{"$f":"SUMIF(Codigo_Produto,Estoque!A1719,[0]!quantidade_adquirida)-SUMIF([0]!cod_saida,Estoque!A1719,quantidade_comprada)","v":0}]
[null,null,null,null,null,{"$f":"SUMIF(Codigo_Produto,Estoque!A1720,[0]!quantidade_adquirida)-SUMIF([0]!cod_saida,Estoque!A1720,quantidade_comprada)","v":0}]
[null,null,null,null,null,{"$f":"SUMIF(Codigo_Produto,Estoque!A1721,[0]!quantidade_adquirida)-SUMIF([0]!cod_saida,Estoque!A1721,quantidade_comprada)","v":0}]
[null,null,null,null,null,{"$f":"SUMIF(Codigo_Produto,Estoque!A1722,[0]!quantidade_adquirida)-SUMIF([0]!cod_saida,Estoque!A1722,quantidade_comprada)","v":0}]
[null,null,null,null,null,{"$f":"SUMIF(Codigo_Produto,Estoque!A1723,[0]!quantidade_adquirida)-SUMIF([0]!cod_saida,Estoque!A1723,quantidade_comprada)","v":0}]
[null,null,null,null,null,{"$f":"SUMIF(Codigo_Produto,Estoque!A1724,[0]!quantidade_adquirida)-SUMIF([0]!cod_saida,Estoque!A1724,quantidade_comprada)","v":0}]
[null,null,null,null,null,{"$f":"SUMIF(Codigo_Produto,Estoque!A1725,[0]!quantidade_adquirida)-SUMIF([0]!cod_saida,Estoque!A1725,quantidade_comprada)","v":0}]
[null,null,null,null,null,{"$f":"SUMIF(Codigo_Produto,Estoque!A1726,[0]!quantidade_adquirida)-SUMIF([0]!cod_saida,Estoque!A1726,quantidade_comprada)","v":0}]
[null,null,null,null,null,{"$f":"SUMIF(Codigo_Produto,Estoque!A1727,[0]!quantidade_adquirida)-SUMIF([0]!cod_saida,Estoque!A1727,quantidade_comprada)","v":0}]
[null,null,null,null,null,{"$f":"SUMIF(Codigo_Produto,Estoque!A1728,[0]!quantidade_adquirida)-SUMIF([0]!cod_saida,Estoque!A1728,quantidade_comprada)","v":0}]
[null,null,null,null,null,{"$f":"SUMIF(Codigo_Produto,Estoque!A1729,[0]!quantidade_adquirida)-SUMIF([0]!cod_saida,Estoque!A1729,quantidade_comprada)","v":0}]
[null,null,null,null,null,{"$f":"SUMIF(Codigo_Produto,Estoque!A1730,[0]!quantidade_adquirida)-SUMIF([0]!cod_saida,Estoque!A1730,quantidade_comprada)","v":0}]
[null,null,null,null,null,{"$f":"SUMIF(Codigo_Produto,Estoque!A1731,[0]!quantidade_adquirida)-SUMIF([0]!cod_saida,Estoque!A1731,quantidade_comprada)","v":0}]
[null,null,null,null,null,{"$f":"SUMIF(Codigo_Produto,Estoque!A1732,[0]!quantidade_adquirida)-SUMIF([0]!cod_saida,Estoque!A1732,quantidade_comprada)","v":0}]
[null,null,null,null,null,{"$f":"SUMIF(Codigo_Produto,Estoque!A1733,[0]!quantidade_adquirida)-SUMIF([0]!cod_saida,Estoque!A1733,quantidade_comprada)","v":0}]
[null,null,null,null,null,{"$f":"SUMIF(Codigo_Produto,Estoque!A1734,[0]!quantidade_adquirida)-SUMIF([0]!cod_saida,Estoque!A1734,quantidade_comprada)","v":0}]
[null,null,null,null,null,{"$f":"SUMIF(Codigo_Produto,Estoque!A1735,[0]!quantidade_adquirida)-SUMIF([0]!cod_saida,Estoque!A1735,quantidade_comprada)","v":0}]
[null,null,null,null,null,{"$f":"SUMIF(Codigo_Produto,Estoque!A1736,[0]!quantidade_adquirida)-SUMIF([0]!cod_saida,Estoque!A1736,quantidade_comprada)","v":0}]
[null,null,null,null,null,{"$f":"SUMIF(Codigo_Produto,Estoque!A1737,[0]!quantidade_adquirida)-SUMIF([0]!cod_saida,Estoque!A1737,quantidade_comprada)","v":0}]
[null,null,null,null,null,{"$f":"SUMIF(Codigo_Produto,Estoque!A1738,[0]!quantidade_adquirida)-SUMIF([0]!cod_saida,Estoque!A1738,quantidade_comprada)","v":0}]
[null,null,null,null,null,{"$f":"SUMIF(Codigo_Produto,Estoque!A1739,[0]!quantidade_adquirida)-SUMIF([0]!cod_saida,Estoque!A1739,quantidade_comprada)","v":0}]
[null,null,null,null,null,{"$f":"SUMIF(Codigo_Produto,Estoque!A1740,[0]!quantidade_adquirida)-SUMIF([0]!cod_saida,Estoque!A1740,quantidade_comprada)","v":0}]
[null,null,null,null,null,{"$f":"SUMIF(Codigo_Produto,Estoque!A1741,[0]!quantidade_adquirida)-SUMIF([0]!cod_saida,Estoque!A1741,quantidade_comprada)","v":0}]
[null,null,null,null,null,{"$f":"SUMIF(Codigo_Produto,Estoque!A1742,[0]!quantidade_adquirida)-SUMIF([0]!cod_saida,Estoque!A1742,quantidade_comprada)","v":0}]
[null,null,null,null,null,{"$f":"SUMIF(Codigo_Produto,Estoque!A1743,[0]!quantidade_adquirida)-SUMIF([0]!cod_saida,Estoque!A1743,quantidade_comprada)","v":0}]
[null,null,null,null,null,{"$f":"SUMIF(Codigo_Produto,Estoque!A1744,[0]!quantidade_adquirida)-SUMIF([0]!cod_saida,Estoque!A1744,quantidade_comprada)","v":0}]
[null,null,null,null,null,{"$f":"SUMIF(Codigo_Produto,Estoque!A1745,[0]!quantidade_adquirida)-SUMIF([0]!cod_saida,Estoque!A1745,quantidade_comprada)","v":0}]
[null,null,null,null,null,{"$f":"SUMIF(Codigo_Produto,Estoque!A1746,[0]!quantidade_adquirida)-SUMIF([0]!cod_saida,Estoque!A1746,quantidade_comprada)","v":0}]
[null,null,null,null,null,{"$f":"SUMIF(Codigo_Produto,Estoque!A1747,[0]!quantidade_adquirida)-SUMIF([0]!cod_saida,Estoque!A1747,quantidade_comprada)","v":0}]
[null,null,null,null,null,{"$f":"SUMIF(Codigo_Produto,Estoque!A1748,[0]!quantidade_adquirida)-SUMIF([0]!cod_saida,Estoque!A1748,quantidade_comprada)","v":0}]
[null,null,null,null,null,{"$f":"SUMIF(Codigo_Produto,Estoque!A1749,[0]!quantidade_adquirida)-SUMIF([0]!cod_saida,Estoque!A1749,quantidade_comprada)","v":0}]
[null,null,null,null,null,{"$f":"SUMIF(Codigo_Produto,Estoque!A1750,[0]!quantidade_adquirida)-SUMIF([0]!cod_saida,Estoque!A1750,quantidade_comprada)","v":0}]
[null,null,null,null,null,{"$f":"SUMIF(Codigo_Produto,Estoque!A1751,[0]!quantidade_adquirida)-SUMIF([0]!cod_saida,Estoque!A1751,quantidade_comprada)","v":0}]
[null,null,null,null,null,{"$f":"SUMIF(Codigo_Produto,Estoque!A1752,[0]!quantidade_adquirida)-SUMIF([0]!cod_saida,Estoque!A1752,quantidade_comprada)","v":0}]
[null,null,null,null,null,{"$f":"SUMIF(Codigo_Produto,Estoque!A1753,[0]!quantidade_adquirida)-SUMIF([0]!cod_saida,Estoque!A1753,quantidade_comprada)","v":0}]
[null,null,null,null,null,{"$f":"SUMIF(Codigo_Produto,Estoque!A1754,[0]!quantidade_adquirida)-SUMIF([0]!cod_saida,Estoque!A1754,quantidade_comprada)","v":0}]
[null,null,null,null,null,{"$f":"SUMIF(Codigo_Produto,Estoque!A1755,[0]!quantidade_adquirida)-SUMIF([0]!cod_saida,Estoque!A1755,quantidade_comprada)","v":0}]
[null,null,null,null,null,{"$f":"SUMIF(Codigo_Produto,Estoque!A1756,[0]!quantidade_adquirida)-SUMIF([0]!cod_saida,Estoque!A1756,quantidade_comprada)","v":0}]
[null,null,null,null,null,{"$f":"SUMIF(Codigo_Produto,Estoque!A1757,[0]!quantidade_adquirida)-SUMIF([0]!cod_saida,Estoque!A1757,quantidade_comprada)","v":0}]
[null,null,null,null,null,{"$f":"SUMIF(Codigo_Produto,Estoque!A1758,[0]!quantidade_adquirida)-SUMIF([0]!cod_saida,Estoque!A1758,quantidade_comprada)","v":0}]
[null,null,null,null,null,{"$f":"SUMIF(Codigo_Produto,Estoque!A1759,[0]!quantidade_adquirida)-SUMIF([0]!cod_saida,Estoque!A1759,quantidade_comprada)","v":0}]
[null,null,null,null,null,{"$f":"SUMIF(Codigo_Produto,Estoque!A1760,[0]!quantidade_adquirida)-SUMIF([0]!cod_saida,Estoque!A1760,quantidade_comprada)","v":0}]
[null,null,null,null,null,{"$f":"SUMIF(Codigo_Produto,Estoque!A1761,[0]!quantidade_adquirida)-SUMIF([0]!cod_saida,Estoque!A1761,quantidade_comprada)","v":0}]
[null,null,null,null,null,{"$f":"SUMIF(Codigo_Produto,Estoque!A1762,[0]!quantidade_adquirida)-SUMIF([0]!cod_saida,Estoque!A1762,quantidade_comprada)","v":0}]
[null,null,null,null,null,{"$f":"SUMIF(Codigo_Produto,Estoque!A1763,[0]!quantidade_adquirida)-SUMIF([0]!cod_saida,Estoque!A1763,quantidade_comprada)","v":0}]
[null,null,null,null,null,{"$f":"SUMIF(Codigo_Produto,Estoque!A1764,[0]!quantidade_adquirida)-SUMIF([0]!cod_saida,Estoque!A1764,quantidade_comprada)","v":0}]
[null,null,null,null,null,{"$f":"SUMIF(Codigo_Produto,Estoque!A1765,[0]!quantidade_adquirida)-SUMIF([0]!cod_saida,Estoque!A1765,quantidade_comprada)","v":0}]
[null,null,null,null,null,{"$f":"SUMIF(Codigo_Produto,Estoque!A1766,[0]!quantidade_adquirida)-SUMIF([0]!cod_saida,Estoque!A1766,quantidade_comprada)","v":0}]
[null,null,null,null,null,{"$f":"SUMIF(Codigo_Produto,Estoque!A1767,[0]!quantidade_adquirida)-SUMIF([0]!cod_saida,Estoque!A1767,quantidade_comprada)","v":0}]
[null,null,null,null,null,{"$f":"SUMIF(Codigo_Produto,Estoque!A1768,[0]!quantidade_adquirida)-SUMIF([0]!cod_saida,Estoque!A1768,quantidade_comprada)","v":0}]
[null,null,null,null,null,{"$f":"SUMIF(Codigo_Produto,Estoque!A1769,[0]!quantidade_adquirida)-SUMIF([0]!cod_saida,Estoque!A1769,quantidade_comprada)","v":0}]
[null,null,null,null,null,{"$f":"SUMIF(Codigo_Produto,Estoque!A1770,[0]!quantidade_adquirida)-SUMIF([0]!cod_saida,Estoque!A1770,quantidade_comprada)","v":0}]
[null,null,null,null,null,{"$f":"SUMIF(Codigo_Produto,Estoque!A1771,[0]!quantidade_adquirida)-SUMIF([0]!cod_saida,Estoque!A1771,quantidade_comprada)","v":0}]
[null,null,null,null,null,{"$f":"SUMIF(Codigo_Produto,Estoque!A1772,[0]!quantidade_adquirida)-SUMIF([0]!cod_saida,Estoque!A1772,quantidade_comprada)","v":0}]
[null,null,null,null,null,{"$f":"SUMIF(Codigo_Produto,Estoque!A1773,[0]!quantidade_adquirida)-SUMIF([0]!cod_saida,Estoque!A1773,quantidade_comprada)","v":0}]
[null,null,null,null,null,{"$f":"SUMIF(Codigo_Produto,Estoque!A1774,[0]!quantidade_adquirida)-SUMIF([0]!cod_saida,Estoque!A1774,quantidade_comprada)","v":0}]
[null,null,null,null,null,{"$f":"SUMIF(Codigo_Produto,Estoque!A1775,[0]!quantidade_adquirida)-SUMIF([0]!cod_saida,Estoque!A1775,quantidade_comprada)","v":0}]
[null,null,null,null,null,{"$f":"SUMIF(Codigo_Produto,Estoque!A1776,[0]!quantidade_adquirida)-SUMIF([0]!cod_saida,Estoque!A1776,quantidade_comprada)","v":0}]
[null,null,null,null,null,{"$f":"SUMIF(Codigo_Produto,Estoque!A1777,[0]!quantidade_adquirida)-SUMIF([0]!cod_saida,Estoque!A1777,quantidade_comprada)","v":0}]
[null,null,null,null,null,{"$f":"SUMIF(Codigo_Produto,Estoque!A1778,[0]!quantidade_adquirida)-SUMIF([0]!cod_saida,Estoque!A1778,quantidade_comprada)","v":0}]
[null,null,null,null,null,{"$f":"SUMIF(Codigo_Produto,Estoque!A1779,[0]!quantidade_adquirida)-SUMIF([0]!cod_saida,Estoque!A1779,quantidade_comprada)","v":0}]
[null,null,null,null,null,{"$f":"SUMIF(Codigo_Produto,Estoque!A1780,[0]!quantidade_adquirida)-SUMIF([0]!cod_saida,Estoque!A1780,quantidade_comprada)","v":0}]
[null,null,null,null,null,{"$f":"SUMIF(Codigo_Produto,Estoque!A1781,[0]!quantidade_adquirida)-SUMIF([0]!cod_saida,Estoque!A1781,quantidade_comprada)","v":0}]
[null,null,null,null,null,{"$f":"SUMIF(Codigo_Produto,Estoque!A1782,[0]!quantidade_adquirida)-SUMIF([0]!cod_saida,Estoque!A1782,quantidade_comprada)","v":0}]
[null,null,null,null,null,{"$f":"SUMIF(Codigo_Produto,Estoque!A1783,[0]!quantidade_adquirida)-SUMIF([0]!cod_saida,Estoque!A1783,quantidade_comprada)","v":0}]
[null,null,null,null,null,{"$f":"SUMIF(Codigo_Produto,Estoque!A1784,[0]!quantidade_adquirida)-SUMIF([0]!cod_saida,Estoque!A1784,quantidade_comprada)","v":0}]
[null,null,null,null,null,{"$f":"SUMIF(Codigo_Produto,Estoque!A1785,[0]!quantidade_adquirida)-SUMIF([0]!cod_saida,Estoque!A1785,quantidade_comprada)","v":0}]
[null,null,null,null,null,{"$f":"SUMIF(Codigo_Produto,Estoque!A1786,[0]!quantidade_adquirida)-SUMIF([0]!cod_saida,Estoque!A1786,quantidade_comprada)","v":0}]
[null,null,null,null,null,{"$f":"SUMIF(Codigo_Produto,Estoque!A1787,[0]!quantidade_adquirida)-SUMIF([0]!cod_saida,Estoque!A1787,quantidade_comprada)","v":0}]
[null,null,null,null,null,{"$f":"SUMIF(Codigo_Produto,Estoque!A1788,[0]!quantidade_adquirida)-SUMIF([0]!cod_saida,Estoque!A1788,quantidade_comprada)","v":0}]
[null,null,null,null,null,{"$f":"SUMIF(Codigo_Produto,Estoque!A1789,[0]!quantidade_adquirida)-SUMIF([0]!cod_saida,Estoque!A1789,quantidade_comprada)","v":0}]
[null,null,null,null,null,{"$f":"SUMIF(Codigo_Produto,Estoque!A1790,[0]!quantidade_adquirida)-SUMIF([0]!cod_saida,Estoque!A1790,quantidade_comprada)","v":0}]
[null,null,null,null,null,{"$f":"SUMIF(Codigo_Produto,Estoque!A1791,[0]!quantidade_adquirida)-SUMIF([0]!cod_saida,Estoque!A1791,quantidade_comprada)","v":0}]
[null,null,null,null,null,{"$f":"SUMIF(Codigo_Produto,Estoque!A1792,[0]!quantidade_adquirida)-SUMIF([0]!cod_saida,Estoque!A1792,quantidade_comprada)","v":0}]
[null,null,null,null,null,{"$f":"SUMIF(Codigo_Produto,Estoque!A1793,[0]!quantidade_adquirida)-SUMIF([0]!cod_saida,Estoque!A1793,quantidade_comprada)","v":0}]
[null,null,null,null,null,{"$f":"SUMIF(Codigo_Produto,Estoque!A1794,[0]!quantidade_adquirida)-SUMIF([0]!cod_saida,Estoque!A1794,quantidade_comprada)","v":0}]
[null,null,null,null,null,{"$f":"SUMIF(Codigo_Produto,Estoque!A1795,[0]!quantidade_adquirida)-SUMIF([0]!cod_saida,Estoque!A1795,quantidade_comprada)","v":0}]
[null,null,null,null,null,{"$f":"SUMIF(Codigo_Produto,Estoque!A1796,[0]!quantidade_adquirida)-SUMIF([0]!cod_saida,Estoque!A1796,quantidade_comprada)","v":0}]
[null,null,null,null,null,{"$f":"SUMIF(Codigo_Produto,Estoque!A1797,[0]!quantidade_adquirida)-SUMIF([0]!cod_saida,Estoque!A1797,quantidade_comprada)","v":0}]
[null,null,null,null,null,{"$f":"SUMIF(Codigo_Produto,Estoque!A1798,[0]!quantidade_adquirida)-SUMIF([0]!cod_saida,Estoque!A1798,quantidade_comprada)","v":0}]
[null,null,null,null,null,{"$f":"SUMIF(Codigo_Produto,Estoque!A1799,[0]!quantidade_adquirida)-SUMIF([0]!cod_saida,Estoque!A1799,quantidade_comprada)","v":0}]
[null,null,null,null,null,{"$f":"SUMIF(Codigo_Produto,Estoque!A1800,[0]!quantidade_adquirida)-SUMIF([0]!cod_saida,Estoque!A1800,quantidade_comprada)","v":0}]
[null,null,null,null,null,{"$f":"SUMIF(Codigo_Produto,Estoque!A1801,[0]!quantidade_adquirida)-SUMIF([0]!cod_saida,Estoque!A1801,quantidade_comprada)","v":0}]
[null,null,null,null,null,{"$f":"SUMIF(Codigo_Produto,Estoque!A1802,[0]!quantidade_adquirida)-SUMIF([0]!cod_saida,Estoque!A1802,quantidade_comprada)","v":0}]
[null,null,null,null,null,{"$f":"SUMIF(Codigo_Produto,Estoque!A1803,[0]!quantidade_adquirida)-SUMIF([0]!cod_saida,Estoque!A1803,quantidade_comprada)","v":0}]
[null,null,null,null,null,{"$f":"SUMIF(Codigo_Produto,Estoque!A1804,[0]!quantidade_adquirida)-SUMIF([0]!cod_saida,Estoque!A1804,quantidade_comprada)","v":0}]
[null,null,null,null,null,{"$f":"SUMIF(Codigo_Produto,Estoque!A1805,[0]!quantidade_adquirida)-SUMIF([0]!cod_saida,Estoque!A1805,quantidade_comprada)","v":0}]
[null,null,null,null,null,{"$f":"SUMIF(Codigo_Produto,Estoque!A1806,[0]!quantidade_adquirida)-SUMIF([0]!cod_saida,Estoque!A1806,quantidade_comprada)","v":0}]
[null,null,null,null,null,{"$f":"SUMIF(Codigo_Produto,Estoque!A1807,[0]!quantidade_adquirida)-SUMIF([0]!cod_saida,Estoque!A1807,quantidade_comprada)","v":0}]
[null,null,null,null,null,{"$f":"SUMIF(Codigo_Produto,Estoque!A1808,[0]!quantidade_adquirida)-SUMIF([0]!cod_saida,Estoque!A1808,quantidade_comprada)","v":0}]
[null,null,null,null,null,{"$f":"SUMIF(Codigo_Produto,Estoque!A1809,[0]!quantidade_adquirida)-SUMIF([0]!cod_saida,Estoque!A1809,quantidade_comprada)","v":0}]
[null,null,null,null,null,{"$f":"SUMIF(Codigo_Produto,Estoque!A1810,[0]!quantidade_adquirida)-SUMIF([0]!cod_saida,Estoque!A1810,quantidade_comprada)","v":0}]
[null,null,null,null,null,{"$f":"SUMIF(Codigo_Produto,Estoque!A1811,[0]!quantidade_adquirida)-SUMIF([0]!cod_saida,Estoque!A1811,quantidade_comprada)","v":0}]
[null,null,null,null,null,{"$f":"SUMIF(Codigo_Produto,Estoque!A1812,[0]!quantidade_adquirida)-SUMIF([0]!cod_saida,Estoque!A1812,quantidade_comprada)","v":0}]
[null,null,null,null,null,{"$f":"SUMIF(Codigo_Produto,Estoque!A1813,[0]!quantidade_adquirida)-SUMIF([0]!cod_saida,Estoque!A1813,quantidade_comprada)","v":0}]
[null,null,null,null,null,{"$f":"SUMIF(Codigo_Produto,Estoque!A1814,[0]!quantidade_adquirida)-SUMIF([0]!cod_saida,Estoque!A1814,quantidade_comprada)","v":0}]
[null,null,null,null,null,{"$f":"SUMIF(Codigo_Produto,Estoque!A1815,[0]!quantidade_adquirida)-SUMIF([0]!cod_saida,Estoque!A1815,quantidade_comprada)","v":0}]
[null,null,null,null,null,{"$f":"SUMIF(Codigo_Produto,Estoque!A1816,[0]!quantidade_adquirida)-SUMIF([0]!cod_saida,Estoque!A1816,quantidade_comprada)","v":0}]
[null,null,null,null,null,{"$f":"SUMIF(Codigo_Produto,Estoque!A1817,[0]!quantidade_adquirida)-SUMIF([0]!cod_saida,Estoque!A1817,quantidade_comprada)","v":0}]
[null,null,null,null,null,{"$f":"SUMIF(Codigo_Produto,Estoque!A1818,[0]!quantidade_adquirida)-SUMIF([0]!cod_saida,Estoque!A1818,quantidade_comprada)","v":0}]
[null,null,null,null,null,{"$f":"SUMIF(Codigo_Produto,Estoque!A1819,[0]!quantidade_adquirida)-SUMIF([0]!cod_saida,Estoque!A1819,quantidade_comprada)","v":0}]
[null,null,null,null,null,{"$f":"SUMIF(Codigo_Produto,Estoque!A1820,[0]!quantidade_adquirida)-SUMIF([0]!cod_saida,Estoque!A1820,quantidade_comprada)","v":0}]
[null,null,null,null,null,{"$f":"SUMIF(Codigo_Produto,Estoque!A1821,[0]!quantidade_adquirida)-SUMIF([0]!cod_saida,Estoque!A1821,quantidade_comprada)","v":0}]
[null,null,null,null,null,{"$f":"SUMIF(Codigo_Produto,Estoque!A1822,[0]!quantidade_adquirida)-SUMIF([0]!cod_saida,Estoque!A1822,quantidade_comprada)","v":0}]
[null,null,null,null,null,{"$f":"SUMIF(Codigo_Produto,Estoque!A1823,[0]!quantidade_adquirida)-SUMIF([0]!cod_saida,Estoque!A1823,quantidade_comprada)","v":0}]
[null,null,null,null,null,{"$f":"SUMIF(Codigo_Produto,Estoque!A1824,[0]!quantidade_adquirida)-SUMIF([0]!cod_saida,Estoque!A1824,quantidade_comprada)","v":0}]
[null,null,null,null,null,{"$f":"SUMIF(Codigo_Produto,Estoque!A1825,[0]!quantidade_adquirida)-SUMIF([0]!cod_saida,Estoque!A1825,quantidade_comprada)","v":0}]
[null,null,null,null,null,{"$f":"SUMIF(Codigo_Produto,Estoque!A1826,[0]!quantidade_adquirida)-SUMIF([0]!cod_saida,Estoque!A1826,quantidade_comprada)","v":0}]
[null,null,null,null,null,{"$f":"SUMIF(Codigo_Produto,Estoque!A1827,[0]!quantidade_adquirida)-SUMIF([0]!cod_saida,Estoque!A1827,quantidade_comprada)","v":0}]
[null,null,null,null,null,{"$f":"SUMIF(Codigo_Produto,Estoque!A1828,[0]!quantidade_adquirida)-SUMIF([0]!cod_saida,Estoque!A1828,quantidade_comprada)","v":0}]
[null,null,null,null,null,{"$f":"SUMIF(Codigo_Produto,Estoque!A1829,[0]!quantidade_adquirida)-SUMIF([0]!cod_saida,Estoque!A1829,quantidade_comprada)","v":0}]
[null,null,null,null,null,{"$f":"SUMIF(Codigo_Produto,Estoque!A1830,[0]!quantidade_adquirida)-SUMIF([0]!cod_saida,Estoque!A1830,quantidade_comprada)","v":0}]
[null,null,null,null,null,{"$f":"SUMIF(Codigo_Produto,Estoque!A1831,[0]!quantidade_adquirida)-SUMIF([0]!cod_saida,Estoque!A1831,quantidade_comprada)","v":0}]
[null,null,null,null,null,{"$f":"SUMIF(Codigo_Produto,Estoque!A1832,[0]!quantidade_adquirida)-SUMIF([0]!cod_saida,Estoque!A1832,quantidade_comprada)","v":0}]
[null,null,null,null,null,{"$f":"SUMIF(Codigo_Produto,Estoque!A1833,[0]!quantidade_adquirida)-SUMIF([0]!cod_saida,Estoque!A1833,quantidade_comprada)","v":0}]
[null,null,null,null,null,{"$f":"SUMIF(Codigo_Produto,Estoque!A1834,[0]!quantidade_adquirida)-SUMIF([0]!cod_saida,Estoque!A1834,quantidade_comprada)","v":0}]
[null,null,null,null,null,{"$f":"SUMIF(Codigo_Produto,Estoque!A1835,[0]!quantidade_adquirida)-SUMIF([0]!cod_saida,Estoque!A1835,quantidade_comprada)","v":0}]
[null,null,null,null,null,{"$f":"SUMIF(Codigo_Produto,Estoque!A1836,[0]!quantidade_adquirida)-SUMIF([0]!cod_saida,Estoque!A1836,quantidade_comprada)","v":0}]
[null,null,null,null,null,{"$f":"SUMIF(Codigo_Produto,Estoque!A1837,[0]!quantidade_adquirida)-SUMIF([0]!cod_saida,Estoque!A1837,quantidade_comprada)","v":0}]
[null,null,null,null,null,{"$f":"SUMIF(Codigo_Produto,Estoque!A1838,[0]!quantidade_adquirida)-SUMIF([0]!cod_saida,Estoque!A1838,quantidade_comprada)","v":0}]
[null,null,null,null,null,{"$f":"SUMIF(Codigo_Produto,Estoque!A1839,[0]!quantidade_adquirida)-SUMIF([0]!cod_saida,Estoque!A1839,quantidade_comprada)","v":0}]
[null,null,null,null,null,{"$f":"SUMIF(Codigo_Produto,Estoque!A1840,[0]!quantidade_adquirida)-SUMIF([0]!cod_saida,Estoque!A1840,quantidade_comprada)","v":0}]
[null,null,null,null,null,{"$f":"SUMIF(Codigo_Produto,Estoque!A1841,[0]!quantidade_adquirida)-SUMIF([0]!cod_saida,Estoque!A1841,quantidade_comprada)","v":0}]
[null,null,null,null,null,{"$f":"SUMIF(Codigo_Produto,Estoque!A1842,[0]!quantidade_adquirida)-SUMIF([0]!cod_saida,Estoque!A1842,quantidade_comprada)","v":0}]
[null,null,null,null,null,{"$f":"SUMIF(Codigo_Produto,Estoque!A1843,[0]!quantidade_adquirida)-SUMIF([0]!cod_saida,Estoque!A1843,quantidade_comprada)","v":0}]
[null,null,null,null,null,{"$f":"SUMIF(Codigo_Produto,Estoque!A1844,[0]!quantidade_adquirida)-SUMIF([0]!cod_saida,Estoque!A1844,quantidade_comprada)","v":0}]
[null,null,null,null,null,{"$f":"SUMIF(Codigo_Produto,Estoque!A1845,[0]!quantidade_adquirida)-SUMIF([0]!cod_saida,Estoque!A1845,quantidade_comprada)","v":0}]
[null,null,null,null,null,{"$f":"SUMIF(Codigo_Produto,Estoque!A1846,[0]!quantidade_adquirida)-SUMIF([0]!cod_saida,Estoque!A1846,quantidade_comprada)","v":0}]
[null,null,null,null,null,{"$f":"SUMIF(Codigo_Produto,Estoque!A1847,[0]!quantidade_adquirida)-SUMIF([0]!cod_saida,Estoque!A1847,quantidade_comprada)","v":0}]
[null,null,null,null,null,{"$f":"SUMIF(Codigo_Produto,Estoque!A1848,[0]!quantidade_adquirida)-SUMIF([0]!cod_saida,Estoque!A1848,quantidade_comprada)","v":0}]
[null,null,null,null,null,{"$f":"SUMIF(Codigo_Produto,Estoque!A1849,[0]!quantidade_adquirida)-SUMIF([0]!cod_saida,Estoque!A1849,quantidade_comprada)","v":0}]
[null,null,null,null,null,{"$f":"SUMIF(Codigo_Produto,Estoque!A1850,[0]!quantidade_adquirida)-SUMIF([0]!cod_saida,Estoque!A1850,quantidade_comprada)","v":0}]
[null,null,null,null,null,{"$f":"SUMIF(Codigo_Produto,Estoque!A1851,[0]!quantidade_adquirida)-SUMIF([0]!cod_saida,Estoque!A1851,quantidade_comprada)","v":0}]
[null,null,null,null,null,{"$f":"SUMIF(Codigo_Produto,Estoque!A1852,[0]!quantidade_adquirida)-SUMIF([0]!cod_saida,Estoque!A1852,quantidade_comprada)","v":0}]
[null,null,null,null,null,{"$f":"SUMIF(Codigo_Produto,Estoque!A1853,[0]!quantidade_adquirida)-SUMIF([0]!cod_saida,Estoque!A1853,quantidade_comprada)","v":0}]
[null,null,null,null,null,{"$f":"SUMIF(Codigo_Produto,Estoque!A1854,[0]!quantidade_adquirida)-SUMIF([0]!cod_saida,Estoque!A1854,quantidade_comprada)","v":0}]
[null,null,null,null,null,{"$f":"SUMIF(Codigo_Produto,Estoque!A1855,[0]!quantidade_adquirida)-SUMIF([0]!cod_saida,Estoque!A1855,quantidade_comprada)","v":0}]
[null,null,null,null,null,{"$f":"SUMIF(Codigo_Produto,Estoque!A1856,[0]!quantidade_adquirida)-SUMIF([0]!cod_saida,Estoque!A1856,quantidade_comprada)","v":0}]
[null,null,null,null,null,{"$f":"SUMIF(Codigo_Produto,Estoque!A1857,[0]!quantidade_adquirida)-SUMIF([0]!cod_saida,Estoque!A1857,quantidade_comprada)","v":0}]
[null,null,null,null,null,{"$f":"SUMIF(Codigo_Produto,Estoque!A1858,[0]!quantidade_adquirida)-SUMIF([0]!cod_saida,Estoque!A1858,quantidade_comprada)","v":0}]
[null,null,null,null,null,{"$f":"SUMIF(Codigo_Produto,Estoque!A1859,[0]!quantidade_adquirida)-SUMIF([0]!cod_saida,Estoque!A1859,quantidade_comprada)","v":0}]
[null,null,null,null,null,{"$f":"SUMIF(Codigo_Produto,Estoque!A1860,[0]!quantidade_adquirida)-SUMIF([0]!cod_saida,Estoque!A1860,quantidade_comprada)","v":0}]
[null,null,null,null,null,{"$f":"SUMIF(Codigo_Produto,Estoque!A1861,[0]!quantidade_adquirida)-SUMIF([0]!cod_saida,Estoque!A1861,quantidade_comprada)","v":0}]
[null,null,null,null,null,{"$f":"SUMIF(Codigo_Produto,Estoque!A1862,[0]!quantidade_adquirida)-SUMIF([0]!cod_saida,Estoque!A1862,quantidade_comprada)","v":0}]
[null,null,null,null,null,{"$f":"SUMIF(Codigo_Produto,Estoque!A1863,[0]!quantidade_adquirida)-SUMIF([0]!cod_saida,Estoque!A1863,quantidade_comprada)","v":0}]
[null,null,null,null,null,{"$f":"SUMIF(Codigo_Produto,Estoque!A1864,[0]!quantidade_adquirida)-SUMIF([0]!cod_saida,Estoque!A1864,quantidade_comprada)","v":0}]
[null,null,null,null,null,{"$f":"SUMIF(Codigo_Produto,Estoque!A1865,[0]!quantidade_adquirida)-SUMIF([0]!cod_saida,Estoque!A1865,quantidade_comprada)","v":0}]
[null,null,null,null,null,{"$f":"SUMIF(Codigo_Produto,Estoque!A1866,[0]!quantidade_adquirida)-SUMIF([0]!cod_saida,Estoque!A1866,quantidade_comprada)","v":0}]
[null,null,null,null,null,{"$f":"SUMIF(Codigo_Produto,Estoque!A1867,[0]!quantidade_adquirida)-SUMIF([0]!cod_saida,Estoque!A1867,quantidade_comprada)","v":0}]
[null,null,null,null,null,{"$f":"SUMIF(Codigo_Produto,Estoque!A1868,[0]!quantidade_adquirida)-SUMIF([0]!cod_saida,Estoque!A1868,quantidade_comprada)","v":0}]
[null,null,null,null,null,{"$f":"SUMIF(Codigo_Produto,Estoque!A1869,[0]!quantidade_adquirida)-SUMIF([0]!cod_saida,Estoque!A1869,quantidade_comprada)","v":0}]
[null,null,null,null,null,{"$f":"SUMIF(Codigo_Produto,Estoque!A1870,[0]!quantidade_adquirida)-SUMIF([0]!cod_saida,Estoque!A1870,quantidade_comprada)","v":0}]
[null,null,null,null,null,{"$f":"SUMIF(Codigo_Produto,Estoque!A1871,[0]!quantidade_adquirida)-SUMIF([0]!cod_saida,Estoque!A1871,quantidade_comprada)","v":0}]
[null,null,null,null,null,{"$f":"SUMIF(Codigo_Produto,Estoque!A1872,[0]!quantidade_adquirida)-SUMIF([0]!cod_saida,Estoque!A1872,quantidade_comprada)","v":0}]
[null,null,null,null,null,{"$f":"SUMIF(Codigo_Produto,Estoque!A1873,[0]!quantidade_adquirida)-SUMIF([0]!cod_saida,Estoque!A1873,quantidade_comprada)","v":0}]
[null,null,null,null,null,{"$f":"SUMIF(Codigo_Produto,Estoque!A1874,[0]!quantidade_adquirida)-SUMIF([0]!cod_saida,Estoque!A1874,quantidade_comprada)","v":0}]
[null,null,null,null,null,{"$f":"SUMIF(Codigo_Produto,Estoque!A1875,[0]!quantidade_adquirida)-SUMIF([0]!cod_saida,Estoque!A1875,quantidade_comprada)","v":0}]
[null,null,null,null,null,{"$f":"SUMIF(Codigo_Produto,Estoque!A1876,[0]!quantidade_adquirida)-SUMIF([0]!cod_saida,Estoque!A1876,quantidade_comprada)","v":0}]
[null,null,null,null,null,{"$f":"SUMIF(Codigo_Produto,Estoque!A1877,[0]!quantidade_adquirida)-SUMIF([0]!cod_saida,Estoque!A1877,quantidade_comprada)","v":0}]
[null,null,null,null,null,{"$f":"SUMIF(Codigo_Produto,Estoque!A1878,[0]!quantidade_adquirida)-SUMIF([0]!cod_saida,Estoque!A1878,quantidade_comprada)","v":0}]
[null,null,null,null,null,{"$f":"SUMIF(Codigo_Produto,Estoque!A1879,[0]!quantidade_adquirida)-SUMIF([0]!cod_saida,Estoque!A1879,quantidade_comprada)","v":0}]
[null,null,null,null,null,{"$f":"SUMIF(Codigo_Produto,Estoque!A1880,[0]!quantidade_adquirida)-SUMIF([0]!cod_saida,Estoque!A1880,quantidade_comprada)","v":0}]
[null,null,null,null,null,{"$f":"SUMIF(Codigo_Produto,Estoque!A1881,[0]!quantidade_adquirida)-SUMIF([0]!cod_saida,Estoque!A1881,quantidade_comprada)","v":0}]
[null,null,null,null,null,{"$f":"SUMIF(Codigo_Produto,Estoque!A1882,[0]!quantidade_adquirida)-SUMIF([0]!cod_saida,Estoque!A1882,quantidade_comprada)","v":0}]
[null,null,null,null,null,{"$f":"SUMIF(Codigo_Produto,Estoque!A1883,[0]!quantidade_adquirida)-SUMIF([0]!cod_saida,Estoque!A1883,quantidade_comprada)","v":0}]
[null,null,null,null,null,{"$f":"SUMIF(Codigo_Produto,Estoque!A1884,[0]!quantidade_adquirida)-SUMIF([0]!cod_saida,Estoque!A1884,quantidade_comprada)","v":0}]
[null,null,null,null,null,{"$f":"SUMIF(Codigo_Produto,Estoque!A1885,[0]!quantidade_adquirida)-SUMIF([0]!cod_saida,Estoque!A1885,quantidade_comprada)","v":0}]
[null,null,null,null,null,{"$f":"SUMIF(Codigo_Produto,Estoque!A1886,[0]!quantidade_adquirida)-SUMIF([0]!cod_saida,Estoque!A1886,quantidade_comprada)","v":0}]
[null,null,null,null,null,{"$f":"SUMIF(Codigo_Produto,Estoque!A1887,[0]!quantidade_adquirida)-SUMIF([0]!cod_saida,Estoque!A1887,quantidade_comprada)","v":0}]
[null,null,null,null,null,{"$f":"SUMIF(Codigo_Produto,Estoque!A1888,[0]!quantidade_adquirida)-SUMIF([0]!cod_saida,Estoque!A1888,quantidade_comprada)","v":0}]
[null,null,null,null,null,{"$f":"SUMIF(Codigo_Produto,Estoque!A1889,[0]!quantidade_adquirida)-SUMIF([0]!cod_saida,Estoque!A1889,quantidade_comprada)","v":0}]
[null,null,null,null,null,{"$f":"SUMIF(Codigo_Produto,Estoque!A1890,[0]!quantidade_adquirida)-SUMIF([0]!cod_saida,Estoque!A1890,quantidade_comprada)","v":0}]
[null,null,null,null,null,{"$f":"SUMIF(Codigo_Produto,Estoque!A1891,[0]!quantidade_adquirida)-SUMIF([0]!cod_saida,Estoque!A1891,quantidade_comprada)","v":0}]
[null,null,null,null,null,{"$f":"SUMIF(Codigo_Produto,Estoque!A1892,[0]!quantidade_adquirida)-SUMIF([0]!cod_saida,Estoque!A1892,quantidade_comprada)","v":0}]
[null,null,null,null,null,{"$f":"SUMIF(Codigo_Produto,Estoque!A1893,[0]!quantidade_adquirida)-SUMIF([0]!cod_saida,Estoque!A1893,quantidade_comprada)","v":0}]
[null,null,null,null,null,{"$f":"SUMIF(Codigo_Produto,Estoque!A1894,[0]!quantidade_adquirida)-SUMIF([0]!cod_saida,Estoque!A1894,quantidade_comprada)","v":0}]
[null,null,null,null,null,{"$f":"SUMIF(Codigo_Produto,Estoque!A1895,[0]!quantidade_adquirida)-SUMIF([0]!cod_saida,Estoque!A1895,quantidade_comprada)","v":0}]
[null,null,null,null,null,{"$f":"SUMIF(Codigo_Produto,Estoque!A1896,[0]!quantidade_adquirida)-SUMIF([0]!cod_saida,Estoque!A1896,quantidade_comprada)","v":0}]
[null,null,null,null,null,{"$f":"SUMIF(Codigo_Produto,Estoque!A1897,[0]!quantidade_adquirida)-SUMIF([0]!cod_saida,Estoque!A1897,quantidade_comprada)","v":0}]
[null,null,null,null,null,{"$f":"SUMIF(Codigo_Produto,Estoque!A1898,[0]!quantidade_adquirida)-SUMIF([0]!cod_saida,Estoque!A1898,quantidade_comprada)","v":0}]
[null,null,null,null,null,{"$f":"SUMIF(Codigo_Produto,Estoque!A1899,[0]!quantidade_adquirida)-SUMIF([0]!cod_saida,Estoque!A1899,quantidade_comprada)","v":0}]
[null,null,null,null,null,{"$f":"SUMIF(Codigo_Produto,Estoque!A1900,[0]!quantidade_adquirida)-SUMIF([0]!cod_saida,Estoque!A1900,quantidade_comprada)","v":0}]
[null,null,null,null,null,{"$f":"SUMIF(Codigo_Produto,Estoque!A1901,[0]!quantidade_adquirida)-SUMIF([0]!cod_saida,Estoque!A1901,quantidade_comprada)","v":0}]
[null,null,null,null,null,{"$f":"SUMIF(Codigo_Produto,Estoque!A1902,[0]!quantidade_adquirida)-SUMIF([0]!cod_saida,Estoque!A1902,quantidade_comprada)","v":0}]
[null,null,null,null,null,{"$f":"SUMIF(Codigo_Produto,Estoque!A1903,[0]!quantidade_adquirida)-SUMIF([0]!cod_saida,Estoque!A1903,quantidade_comprada)","v":0}]
[null,null,null,null,null,{"$f":"SUMIF(Codigo_Produto,Estoque!A1904,[0]!quantidade_adquirida)-SUMIF([0]!cod_saida,Estoque!A1904,quantidade_comprada)","v":0}]
[null,null,null,null,null,{"$f":"SUMIF(Codigo_Produto,Estoque!A1905,[0]!quantidade_adquirida)-SUMIF([0]!cod_saida,Estoque!A1905,quantidade_comprada)","v":0}]
[null,null,null,null,null,{"$f":"SUMIF(Codigo_Produto,Estoque!A1906,[0]!quantidade_adquirida)-SUMIF([0]!cod_saida,Estoque!A1906,quantidade_comprada)","v":0}]
[null,null,null,null,null,{"$f":"SUMIF(Codigo_Produto,Estoque!A1907,[0]!quantidade_adquirida)-SUMIF([0]!cod_saida,Estoque!A1907,quantidade_comprada)","v":0}]
[null,null,null,null,null,{"$f":"SUMIF(Codigo_Produto,Estoque!A1908,[0]!quantidade_adquirida)-SUMIF([0]!cod_saida,Estoque!A1908,quantidade_comprada)","v":0}]
[null,null,null,null,null,{"$f":"SUMIF(Codigo_Produto,Estoque!A1909,[0]!quantidade_adquirida)-SUMIF([0]!cod_saida,Estoque!A1909,quantidade_comprada)","v":0}]
[null,null,null,null,null,{"$f":"SUMIF(Codigo_Produto,Estoque!A1910,[0]!quantidade_adquirida)-SUMIF([0]!cod_saida,Estoque!A1910,quantidade_comprada)","v":0}]
[null,null,null,null,null,{"$f":"SUMIF(Codigo_Produto,Estoque!A1911,[0]!quantidade_adquirida)-SUMIF([0]!cod_saida,Estoque!A1911,quantidade_comprada)","v":0}]
[null,null,null,null,null,{"$f":"SUMIF(Codigo_Produto,Estoque!A1912,[0]!quantidade_adquirida)-SUMIF([0]!cod_saida,Estoque!A1912,quantidade_comprada)","v":0}]
[null,null,null,null,null,{"$f":"SUMIF(Codigo_Produto,Estoque!A1913,[0]!quantidade_adquirida)-SUMIF([0]!cod_saida,Estoque!A1913,quantidade_comprada)","v":0}]
[null,null,null,null,null,{"$f":"SUMIF(Codigo_Produto,Estoque!A1914,[0]!quantidade_adquirida)-SUMIF([0]!cod_saida,Estoque!A1914,quantidade_comprada)","v":0}]
[null,null,null,null,null,{"$f":"SUMIF(Codigo_Produto,Estoque!A1915,[0]!quantidade_adquirida)-SUMIF([0]!cod_saida,Estoque!A1915,quantidade_comprada)","v":0}]
[null,null,null,null,null,{"$f":"SUMIF(Codigo_Produto,Estoque!A1916,[0]!quantidade_adquirida)-SUMIF([0]!cod_saida,Estoque!A1916,quantidade_comprada)","v":0}]
[null,null,null,null,null,{"$f":"SUMIF(Codigo_Produto,Estoque!A1917,[0]!quantidade_adquirida)-SUMIF([0]!cod_saida,Estoque!A1917,quantidade_comprada)","v":0}]
[null,null,null,null,null,{"$f":"SUMIF(Codigo_Produto,Estoque!A1918,[0]!quantidade_adquirida)-SUMIF([0]!cod_saida,Estoque!A1918,quantidade_comprada)","v":0}]
[null,null,null,null,null,{"$f":"SUMIF(Codigo_Produto,Estoque!A1919,[0]!quantidade_adquirida)-SUMIF([0]!cod_saida,Estoque!A1919,quantidade_comprada)","v":0}]
[null,null,null,null,null,{"$f":"SUMIF(Codigo_Produto,Estoque!A1920,[0]!quantidade_adquirida)-SUMIF([0]!cod_saida,Estoque!A1920,quantidade_comprada)","v":0}]
[null,null,null,null,null,{"$f":"SUMIF(Codigo_Produto,Estoque!A1921,[0]!quantidade_adquirida)-SUMIF([0]!cod_saida,Estoque!A1921,quantidade_comprada)","v":0}]
[null,null,null,null,null,{"$f":"SUMIF(Codigo_Produto,Estoque!A1922,[0]!quantidade_adquirida)-SUMIF([0]!cod_saida,Estoque!A1922,quantidade_comprada)","v":0}]
[null,null,null,null,null,{"$f":"SUMIF(Codigo_Produto,Estoque!A1923,[0]!quantidade_adquirida)-SUMIF([0]!cod_saida,Estoque!A1923,quantidade_comprada)","v":0}]
[null,null,null,null,null,{"$f":"SUMIF(Codigo_Produto,Estoque!A1924,[0]!quantidade_adquirida)-SUMIF([0]!cod_saida,Estoque!A1924,quantidade_comprada)","v":0}]
[null,null,null,null,null,{"$f":"SUMIF(Codigo_Produto,Estoque!A1925,[0]!quantidade_adquirida)-SUMIF([0]!cod_saida,Estoque!A1925,quantidade_comprada)","v":0}]
[null,null,null,null,null,{"$f":"SUMIF(Codigo_Produto,Estoque!A1926,[0]!quantidade_adquirida)-SUMIF([0]!cod_saida,Estoque!A1926,quantidade_comprada)","v":0}]
[null,null,null,null,null,{"$f":"SUMIF(Codigo_Produto,Estoque!A1927,[0]!quantidade_adquirida)-SUMIF([0]!cod_saida,Estoque!A1927,quantidade_comprada)","v":0}]
[null,null,null,null,null,{"$f":"SUMIF(Codigo_Produto,Estoque!A1928,[0]!quantidade_adquirida)-SUMIF([0]!cod_saida,Estoque!A1928,quantidade_comprada)","v":0}]
[null,null,null,null,null,{"$f":"SUMIF(Codigo_Produto,Estoque!A1929,[0]!quantidade_adquirida)-SUMIF([0]!cod_saida,Estoque!A1929,quantidade_comprada)","v":0}]
[null,null,null,null,null,{"$f":"SUMIF(Codigo_Produto,Estoque!A1930,[0]!quantidade_adquirida)-SUMIF([0]!cod_saida,Estoque!A1930,quantidade_comprada)","v":0}]
[null,null,null,null,null,{"$f":"SUMIF(Codigo_Produto,Estoque!A1931,[0]!quantidade_adquirida)-SUMIF([0]!cod_saida,Estoque!A1931,quantidade_comprada)","v":0}]
[null,null,null,null,null,{"$f":"SUMIF(Codigo_Produto,Estoque!A1932,[0]!quantidade_adquirida)-SUMIF([0]!cod_saida,Estoque!A1932,quantidade_comprada)","v":0}]
[null,null,null,null,null,{"$f":"SUMIF(Codigo_Produto,Estoque!A1933,[0]!quantidade_adquirida)-SUMIF([0]!cod_saida,Estoque!A1933,quantidade_comprada)","v":0}]
[null,null,null,null,null,{"$f":"SUMIF(Codigo_Produto,Estoque!A1934,[0]!quantidade_adquirida)-SUMIF([0]!cod_saida,Estoque!A1934,quantidade_comprada)","v":0}]
[null,null,null,null,null,{"$f":"SUMIF(Codigo_Produto,Estoque!A1935,[0]!quantidade_adquirida)-SUMIF([0]!cod_saida,Estoque!A1935,quantidade_comprada)","v":0}]
[null,null,null,null,null,{"$f":"SUMIF(Codigo_Produto,Estoque!A1936,[0]!quantidade_adquirida)-SUMIF([0]!cod_saida,Estoque!A1936,quantidade_comprada)","v":0}]
[null,null,null,null,null,{"$f":"SUMIF(Codigo_Produto,Estoque!A1937,[0]!quantidade_adquirida)-SUMIF([0]!cod_saida,Estoque!A1937,quantidade_comprada)","v":0}]
[null,null,null,null,null,{"$f":"SUMIF(Codigo_Produto,Estoque!A1938,[0]!quantidade_adquirida)-SUMIF([0]!cod_saida,Estoque!A1938,quantidade_comprada)","v":0}]
[null,null,null,null,null,{"$f":"SUMIF(Codigo_Produto,Estoque!A1939,[0]!quantidade_adquirida)-SUMIF([0]!cod_saida,Estoque!A1939,quantidade_comprada)","v":0}]
[null,null,null,null,null,{"$f":"SUMIF(Codigo_Produto,Estoque!A1940,[0]!quantidade_adquirida)-SUMIF([0]!cod_saida,Estoque!A1940,quantidade_comprada)","v":0}]
[null,null,null,null,null,{"$f":"SUMIF(Codigo_Produto,Estoque!A1941,[0]!quantidade_adquirida)-SUMIF([0]!cod_saida,Estoque!A1941,quantidade_comprada)","v":0}]
[null,null,null,null,null,{"$f":"SUMIF(Codigo_Produto,Estoque!A1942,[0]!quantidade_adquirida)-SUMIF([0]!cod_saida,Estoque!A1942,quantidade_comprada)","v":0}]
[null,null,null,null,null,{"$f":"SUMIF(Codigo_Produto,Estoque!A1943,[0]!quantidade_adquirida)-SUMIF([0]!cod_saida,Estoque!A1943,quantidade_comprada)","v":0}]
[null,null,null,null,null,{"$f":"SUMIF(Codigo_Produto,Estoque!A1944,[0]!quantidade_adquirida)-SUMIF([0]!cod_saida,Estoque!A1944,quantidade_comprada)","v":0}]
[null,null,null,null,null,{"$f":"SUMIF(Codigo_Produto,Estoque!A1945,[0]!quantidade_adquirida)-SUMIF([0]!cod_saida,Estoque!A1945,quantidade_comprada)","v":0}]
[null,null,null,null,null,{"$f":"SUMIF(Codigo_Produto,Estoque!A1946,[0]!quantidade_adquirida)-SUMIF([0]!cod_saida,Estoque!A1946,quantidade_comprada)","v":0}]
[null,null,null,null,null,{"$f":"SUMIF(Codigo_Produto,Estoque!A1947,[0]!quantidade_adquirida)-SUMIF([0]!cod_saida,Estoque!A1947,quantidade_comprada)","v":0}]
[null,null,null,null,null,{"$f":"SUMIF(Codigo_Produto,Estoque!A1948,[0]!quantidade_adquirida)-SUMIF([0]!cod_saida,Estoque!A1948,quantidade_comprada)","v":0}]
[null,null,null,null,null,{"$f":"SUMIF(Codigo_Produto,Estoque!A1949,[0]!quantidade_adquirida)-SUMIF([0]!cod_saida,Estoque!A1949,quantidade_comprada)","v":0}]
[null,null,null,null,null,{"$f":"SUMIF(Codigo_Produto,Estoque!A1950,[0]!quantidade_adquirida)-SUMIF([0]!cod_saida,Estoque!A1950,quantidade_comprada)","v":0}]
[null,null,null,null,null,{"$f":"SUMIF(Codigo_Produto,Estoque!A1951,[0]!quantidade_adquirida)-SUMIF([0]!cod_saida,Estoque!A1951,quantidade_comprada)","v":0}]
[null,null,null,null,null,{"$f":"SUMIF(Codigo_Produto,Estoque!A1952,[0]!quantidade_adquirida)-SUMIF([0]!cod_saida,Estoque!A1952,quantidade_comprada)","v":0}]
[null,null,null,null,null,{"$f":"SUMIF(Codigo_Produto,Estoque!A1953,[0]!quantidade_adquirida)-SUMIF([0]!cod_saida,Estoque!A1953,quantidade_comprada)","v":0}]
[null,null,null,null,null,{"$f":"SUMIF(Codigo_Produto,Estoque!A1954,[0]!quantidade_adquirida)-SUMIF([0]!cod_saida,Estoque!A1954,quantidade_comprada)","v":0}]
[null,null,null,null,null,{"$f":"SUMIF(Codigo_Produto,Estoque!A1955,[0]!quantidade_adquirida)-SUMIF([0]!cod_saida,Estoque!A1955,quantidade_comprada)","v":0}]
[null,null,null,null,null,{"$f":"SUMIF(Codigo_Produto,Estoque!A1956,[0]!quantidade_adquirida)-SUMIF([0]!cod_saida,Estoque!A1956,quantidade_comprada)","v":0}]
[null,null,null,null,null,{"$f":"SUMIF(Codigo_Produto,Estoque!A1957,[0]!quantidade_adquirida)-SUMIF([0]!cod_saida,Estoque!A1957,quantidade_comprada)","v":0}]
[null,null,null,null,null,{"$f":"SUMIF(Codigo_Produto,Estoque!A1958,[0]!quantidade_adquirida)-SUMIF([0]!cod_saida,Estoque!A1958,quantidade_comprada)","v":0}]
[null,null,null,null,null,{"$f":"SUMIF(Codigo_Produto,Estoque!A1959,[0]!quantidade_adquirida)-SUMIF([0]!cod_saida,Estoque!A1959,quantidade_comprada)","v":0}]
[null,null,null,null,null,{"$f":"SUMIF(Codigo_Produto,Estoque!A1960,[0]!quantidade_adquirida)-SUMIF([0]!cod_saida,Estoque!A1960,quantidade_comprada)","v":0}]
[null,null,null,null,null,{"$f":"SUMIF(Codigo_Produto,Estoque!A1961,[0]!quantidade_adquirida)-SUMIF([0]!cod_saida,Estoque!A1961,quantidade_comprada)","v":0}]
[null,null,null,null,null,{"$f":"SUMIF(Codigo_Produto,Estoque!A1962,[0]!quantidade_adquirida)-SUMIF([0]!cod_saida,Estoque!A1962,quantidade_comprada)","v":0}]
[null,null,null,null,null,{"$f":"SUMIF(Codigo_Produto,Estoque!A1963,[0]!quantidade_adquirida)-SUMIF([0]!cod_saida,Estoque!A1963,quantidade_comprada)","v":0}]
[null,null,null,null,null,{"$f":"SUMIF(Codigo_Produto,Estoque!A1964,[0]!quantidade_adquirida)-SUMIF([0]!cod_saida,Estoque!A1964,quantidade_comprada)","v":0}]
[null,null,null,null,null,{"$f":"SUMIF(Codigo_Produto,Estoque!A1965,[0]!quantidade_adquirida)-SUMIF([0]!cod_saida,Estoque!A1965,quantidade_comprada)","v":0}]
[null,null,null,null,null,{"$f":"SUMIF(Codigo_Produto,Estoque!A1966,[0]!quantidade_adquirida)-SUMIF([0]!cod_saida,Estoque!A1966,quantidade_comprada)","v":0}]
[null,null,null,null,null,{"$f":"SUMIF(Codigo_Produto,Estoque!A1967,[0]!quantidade_adquirida)-SUMIF([0]!cod_saida,Estoque!A1967,quantidade_comprada)","v":0}]
[null,null,null,null,null,{"$f":"SUMIF(Codigo_Produto,Estoque!A1968,[0]!quantidade_adquirida)-SUMIF([0]!cod_saida,Estoque!A1968,quantidade_comprada)","v":0}]
[null,null,null,null,null,{"$f":"SUMIF(Codigo_Produto,Estoque!A1969,[0]!quantidade_adquirida)-SUMIF([0]!cod_saida,Estoque!A1969,quantidade_comprada)","v":0}]
[null,null,null,null,null,{"$f":"SUMIF(Codigo_Produto,Estoque!A1970,[0]!quantidade_adquirida)-SUMIF([0]!cod_saida,Estoque!A1970,quantidade_comprada)","v":0}]
[null,null,null,null,null,{"$f":"SUMIF(Codigo_Produto,Estoque!A1971,[0]!quantidade_adquirida)-SUMIF([0]!cod_saida,Estoque!A1971,quantidade_comprada)","v":0}]
[null,null,null,null,null,{"$f":"SUMIF(Codigo_Produto,Estoque!A1972,[0]!quantidade_adquirida)-SUMIF([0]!cod_saida,Estoque!A1972,quantidade_comprada)","v":0}]
[null,null,null,null,null,{"$f":"SUMIF(Codigo_Produto,Estoque!A1973,[0]!quantidade_adquirida)-SUMIF([0]!cod_saida,Estoque!A1973,quantidade_comprada)","v":0}]
[null,null,null,null,null,{"$f":"SUMIF(Codigo_Produto,Estoque!A1974,[0]!quantidade_adquirida)-SUMIF([0]!cod_saida,Estoque!A1974,quantidade_comprada)","v":0}]
[null,null,null,null,null,{"$f":"SUMIF(Codigo_Produto,Estoque!A1975,[0]!quantidade_adquirida)-SUMIF([0]!cod_saida,Estoque!A1975,quantidade_comprada)","v":0}]
[null,null,null,null,null,{"$f":"SUMIF(Codigo_Produto,Estoque!A1976,[0]!quantidade_adquirida)-SUMIF([0]!cod_saida,Estoque!A1976,quantidade_comprada)","v":0}]
[null,null,null,null,null,{"$f":"SUMIF(Codigo_Produto,Estoque!A1977,[0]!quantidade_adquirida)-SUMIF([0]!cod_saida,Estoque!A1977,quantidade_comprada)","v":0}]
[null,null,null,null,null,{"$f":"SUMIF(Codigo_Produto,Estoque!A1978,[0]!quantidade_adquirida)-SUMIF([0]!cod_saida,Estoque!A1978,quantidade_comprada)","v":0}]
[null,null,null,null,null,{"$f":"SUMIF(Codigo_Produto,Estoque!A1979,[0]!quantidade_adquirida)-SUMIF([0]!cod_saida,Estoque!A1979,quantidade_comprada)","v":0}]
[null,null,null,null,null,{"$f":"SUMIF(Codigo_Produto,Estoque!A1980,[0]!quantidade_adquirida)-SUMIF([0]!cod_saida,Estoque!A1980,quantidade_comprada)","v":0}]
[null,null,null,null,null,{"$f":"SUMIF(Codigo_Produto,Estoque!A1981,[0]!quantidade_adquirida)-SUMIF([0]!cod_saida,Estoque!A1981,quantidade_comprada)","v":0}]
[null,null,null,null,null,{"$f":"SUMIF(Codigo_Produto,Estoque!A1982,[0]!quantidade_adquirida)-SUMIF([0]!cod_saida,Estoque!A1982,quantidade_comprada)","v":0}]
[null,null,null,null,null,{"$f":"SUMIF(Codigo_Produto,Estoque!A1983,[0]!quantidade_adquirida)-SUMIF([0]!cod_saida,Estoque!A1983,quantidade_comprada)","v":0}]
[null,null,null,null,null,{"$f":"SUMIF(Codigo_Produto,Estoque!A1984,[0]!quantidade_adquirida)-SUMIF([0]!cod_saida,Estoque!A1984,quantidade_comprada)","v":0}]
[null,null,null,null,null,{"$f":"SUMIF(Codigo_Produto,Estoque!A1985,[0]!quantidade_adquirida)-SUMIF([0]!cod_saida,Estoque!A1985,quantidade_comprada)","v":0}]
[null,null,null,null,null,{"$f":"SUMIF(Codigo_Produto,Estoque!A1986,[0]!quantidade_adquirida)-SUMIF([0]!cod_saida,Estoque!A1986,quantidade_comprada)","v":0}]
[null,null,null,null,null,{"$f":"SUMIF(Codigo_Produto,Estoque!A1987,[0]!quantidade_adquirida)-SUMIF([0]!cod_saida,Estoque!A1987,quantidade_comprada)","v":0}]
[null,null,null,null,null,{"$f":"SUMIF(Codigo_Produto,Estoque!A1988,[0]!quantidade_adquirida)-SUMIF([0]!cod_saida,Estoque!A1988,quantidade_comprada)","v":0}]
[null,null,null,null,null,{"$f":"SUMIF(Codigo_Produto,Estoque!A1989,[0]!quantidade_adquirida)-SUMIF([0]!cod_saida,Estoque!A1989,quantidade_comprada)","v":0}]
[null,null,null,null,null,{"$f":"SUMIF(Codigo_Produto,Estoque!A1990,[0]!quantidade_adquirida)-SUMIF([0]!cod_saida,Estoque!A1990,quantidade_comprada)","v":0}]
[null,null,null,null,null,{"$f":"SUMIF(Codigo_Produto,Estoque!A1991,[0]!quantidade_adquirida)-SUMIF([0]!cod_saida,Estoque!A1991,quantidade_comprada)","v":0}]
[null,null,null,null,null,{"$f":"SUMIF(Codigo_Produto,Estoque!A1992,[0]!quantidade_adquirida)-SUMIF([0]!cod_saida,Estoque!A1992,quantidade_comprada)","v":0}]
[null,null,null,null,null,{"$f":"SUMIF(Codigo_Produto,Estoque!A1993,[0]!quantidade_adquirida)-SUMIF([0]!cod_saida,Estoque!A1993,quantidade_comprada)","v":0}]
[null,null,null,null,null,{"$f":"SUMIF(Codigo_Produto,Estoque!A1994,[0]!quantidade_adquirida)-SUMIF([0]!cod_saida,Estoque!A1994,quantidade_comprada)","v":0}]
[null,null,null,null,null,{"$f":"SUMIF(Codigo_Produto,Estoque!A1995,[0]!quantidade_adquirida)-SUMIF([0]!cod_saida,Estoque!A1995,quantidade_comprada)","v":0}]
[null,null,null,null,null,{"$f":"SUMIF(Codigo_Produto,Estoque!A1996,[0]!quantidade_adquirida)-SUMIF([0]!cod_saida,Estoque!A1996,quantidade_comprada)","v":0}]
[null,null,null,null,null,{"$f":"SUMIF(Codigo_Produto,Estoque!A1997,[0]!quantidade_adquirida)-SUMIF([0]!cod_saida,Estoque!A1997,quantidade_comprada)","v":0}]
[null,null,null,null,null,{"$f":"SUMIF(Codigo_Produto,Estoque!A1998,[0]!quantidade_adquirida)-SUMIF([0]!cod_saida,Estoque!A1998,quantidade_comprada)","v":0}]
[null,null,null,null,null,{"$f":"SUMIF(Codigo_Produto,Estoque!A1999,[0]!quantidade_adquirida)-SUMIF([0]!cod_saida,Estoque!A1999,quantidade_comprada)","v":0}]
[null,null,null,null,null,{"$f":"SUMIF(Codigo_Produto,Estoque!A2000,[0]!quantidade_adquirida)-SUMIF([0]!cod_saida,Estoque!A2000,quantidade_comprada)","v":0}]
[null,null,null,null,null,{"$f":"SUMIF(Codigo_Produto,Estoque!A2010,[0]!quantidade_adquirida)-SUMIF([0]!cod_saida,Estoque!A2010,quantidade_comprada)","v":0}]
[null,null,null,null,null,{"$f":"SUMIF(Codigo_Produto,Estoque!A2024,[0]!quantidade_adquirida)-SUMIF([0]!cod_saida,Estoque!A2024,quantidade_comprada)","v":0}]
[null,null,null,null,null,{"$f":"SUMIF(Codigo_Produto,Estoque!A2031,[0]!quantidade_adquirida)-SUMIF([0]!cod_saida,Estoque!A2031,quantidade_comprada)","v":0}]
[null,null,null,null,null,{"$f":"SUMIF(Codigo_Produto,Estoque!A2047,[0]!quantidade_adquirida)-SUMIF([0]!cod_saida,Estoque!A2047,quantidade_comprada)","v":0}]
[null,null,null,null,null,{"$f":"SUMIF(Codigo_Produto,Estoque!A2054,[0]!quantidade_adquirida)-SUMIF([0]!cod_saida,Estoque!A2054,quantidade_comprada)","v":0}]
[null,null,null,null,null,{"$f":"SUMIF(Codigo_Produto,Estoque!A2074,[0]!quantidade_adquirida)-SUMIF([0]!cod_saida,Estoque!A2074,quantidade_comprada)","v":0}]
[null,null,null,null,null,{"$f":"SUMIF(Codigo_Produto,Estoque!A2090,[0]!quantidade_adquirida)-SUMIF([0]!cod_saida,Estoque!A2090,quantidade_comprada)","v":0}]
[null,null,null,null,null,{"$f":"SUMIF(Codigo_Produto,Estoque!A2091,[0]!quantidade_adquirida)-SUMIF([0]!cod_saida,Estoque!A2091,quantidade_comprada)","v":0}]
[null,null,null,null,null,{"$f":"SUMIF(Codigo_Produto,Estoque!A2112,[0]!quantidade_adquirida)-SUMIF([0]!cod_saida,Estoque!A2112,quantidade_comprada)","v":0}]
[null,null,null,null,null,{"$f":"SUMIF(Codigo_Produto,Estoque!A2119,[0]!quantidade_adquirida)-SUMIF([0]!cod_saida,Estoque!A2119,quantidade_comprada)","v":0}]
[null,null,null,null,null,{"$f":"SUMIF(Codigo_Produto,Estoque!A2139,[0]!quantidade_adquirida)-SUMIF([0]!cod_saida,Estoque!A2139,quantidade_comprada)","v":0}]
[null,null,null,null,null,{"$f":"SUMIF(Codigo_Produto,Estoque!A2142,[0]!quantidade_adquirida)-SUMIF([0]!cod_saida,Estoque!A2142,quantidade_comprada)","v":0}]
[null,null,null,null,null,{"$f":"SUMIF(Codigo_Produto,Estoque!A2162,[0]!quantidade_adquirida)-SUMIF([0]!cod_saida,Estoque!A2162,quantidade_comprada)","v":0}]
[null,null,null,null,null,{"$f":"SUMIF(Codigo_Produto,Estoque!A2169,[0]!quantidade_adquirida)-SUMIF([0]!cod_saida,Estoque!A2169,quantidade_comprada)","v":0}]
[null,null,null,null,null,{"$f":"SUMIF(Codigo_Produto,Estoque!A2184,[0]!quantidade_adquirida)-SUMIF([0]!cod_saida,Estoque!A2184,quantidade_comprada)","v":0}]
[null,null,null,null,null,{"$f":"SUMIF(Codigo_Produto,Estoque!A2204,[0]!quantidade_adquirida)-SUMIF([0]!cod_saida,Estoque!A2204,quantidade_comprada)","v":0}]
[null,null,null,null,null,{"$f":"SUMIF(Codigo_Produto,Estoque!A2207,[0]!quantidade_adquirida)-SUMIF([0]!cod_saida,Estoque!A2207,quantidade_comprada)","v":0}]
[null,null,null,null,null,{"$f":"SUMIF(Codigo_Produto,Estoque!A2227,[0]!quantidade_adquirida)-SUMIF([0]!cod_saida,Estoque!A2227,quantidade_comprada)","v":0}]
[null,null,null,null,null,{"$f":"SUMIF(Codigo_Produto,Estoque!A2234,[0]!quantidade_adquirida)-SUMIF([0]!cod_saida,Estoque!A2234,quantidade_comprada)","v":0}]
[null,null,null,null,null,{"$f":"SUMIF(Codigo_Produto,Estoque!A2250,[0]!quantidade_adquirida)-SUMIF([0]!cod_saida,Estoque!A2250,quantidade_comprada)","v":0}]
[null,null,null,null,null,{"$f":"SUMIF(Codigo_Produto,Estoque!A2270,[0]!quantidade_adquirida)-SUMIF([0]!cod_saida,Estoque!A2270,quantidade_comprada)","v":0}]
[null,null,null,null,null,{"$f":"SUMIF(Codigo_Produto,Estoque!A2273,[0]!quantidade_adquirida)-SUMIF([0]!cod_saida,Estoque!A2273,quantidade_comprada)","v":0}]
[null,null,null,null,null,{"$f":"SUMIF(Codigo_Produto,Estoque!A2287,[0]!quantidade_adquirida)-SUMIF([0]!cod_saida,Estoque!A2287,quantidade_comprada)","v":0}]
[null,null,null,null,null,{"$f":"SUMIF(Codigo_Produto,Estoque!A2299,[0]!quantidade_adquirida)-SUMIF([0]!cod_saida,Estoque!A2299,quantidade_comprada)","v":0}]
[null,null,null,null,null,{"$f":"SUMIF(Codigo_Produto,Estoque!A2315,[0]!quantidade_adquirida)-SUMIF([0]!cod_saida,Estoque!A2315,quantidade_comprada)","v":0}]
[null,null,null,null,null,{"$f":"SUMIF(Codigo_Produto,Estoque!A2322,[0]!quantidade_adquirida)-SUMIF([0]!cod_saida,Estoque!A2322,quantidade_comprada)","v":0}]
[null,null,null,null,null,{"$f":"SUMIF(Codigo_Produto,Estoque!A2342,[0]!quantidade_adquirida)-SUMIF([0]!cod_saida,Estoque!A2342,quantidade_comprada)","v":0}]
[null,null,null,null,null,{"$f":"SUMIF(Codigo_Produto,Estoque!A2358,[0]!quantidade_adquirida)-SUMIF([0]!cod_saida,Estoque!A2358,quantidade_comprada)","v":0}]
[null,null,null,null,null,{"$f":"SUMIF(Codigo_Produto,Estoque!A2365,[0]!quantidade_adquirida)-SUMIF([0]!cod_saida,Estoque!A2365,quantidade_comprada)","v":0}]
[null,null,null,null,null,{"$f":"SUMIF(Codigo_Produto,Estoque!A2380,[0]!quantidade_adquirida)-SUMIF([0]!cod_saida,Estoque!A2380,quantidade_comprada)","v":0}]
[null,null,null,null,null,{"$f":"SUMIF(Codigo_Produto,Estoque!A2387,[0]!quantidade_adquirida)-SUMIF([0]!cod_saida,Estoque!A2387,quantidade_comprada)","v":0}]
[null,null,null,null,null,{"$f":"SUMIF(Codigo_Produto,Estoque!A2407,[0]!quantidade_adquirida)-SUMIF([0]!cod_saida,Estoque!A2407,quantidade_comprada)","v":0}]
[null,null,null,null,null,{"$f":"SUMIF(Codigo_Produto,Estoque!A2423,[0]!quantidade_adquirida)-SUMIF([0]!cod_saida,Estoque!A2423,quantidade_comprada)","v":0}]
[null,null,null,null,null,{"$f":"SUMIF(Codigo_Produto,Estoque!A2430,[0]!quantidade_adquirida)-SUMIF([0]!cod_saida,Estoque!A2430,quantidade_comprada)","v":0}]
[null,null,null,null,null,{"$f":"SUMIF(Codigo_Produto,Estoque!A2450,[0]!quantidade_adquirida)-SUMIF([0]!cod_saida,Estoque!A2450,quantidade_comprada)","v":0}]
[null,null,null,null,null,{"$f":"SUMIF(Codigo_Produto,Estoque!A2453,[0]!quantidade_adquirida)-SUMIF([0]!cod_saida,Estoque!A2453,quantidade_comprada)","v":0}]
[null,null,null,null,null,{"$f":"SUMIF(Codigo_Produto,Estoque!A2469,[0]!quantidade_adquirida)-SUMIF([0]!cod_saida,Estoque!A2469,quantidade_comprada)","v":0}]
[null,null,null,null,null,{"$f":"SUMIF(Codigo_Produto,Estoque!A2488,[0]!quantidade_adquirida)-SUMIF([0]!cod_saida,Estoque!A2488,quantidade_comprada)","v":0}]
[null,null,null,null,null,{"$f":"SUMIF(Codigo_Produto,Estoque!A2495,[0]!quantidade_adquirida)-SUMIF([0]!cod_saida,Estoque!A2495,quantidade_comprada)","v":0}]
[null,null,null,null,null,{"$f":"SUMIF(Codigo_Produto,Estoque!A2502,[0]!quantidade_adquirida)-SUMIF([0]!cod_saida,Estoque!A2502,quantidade_comprada)","v":0}]
[null,null,null,null,null,{"$f":"SUMIF(Codigo_Produto,Estoque!A2518,[0]!quantidade_adquirida)-SUMIF([0]!cod_saida,Estoque!A2518,quantidade_comprada)","v":0}]
[null,null,null,null,null,{"$f":"SUMIF(Codigo_Produto,Estoque!A2538,[0]!quantidade_adquirida)-SUMIF([0]!cod_saida,Estoque!A2538,quantidade_comprada)","v":0}]
[null,null,null,null,null,{"$f":"SUMIF(Codigo_Produto,Estoque!A2541,[0]!quantidade_adquirida)-SUMIF([0]!cod_saida,Estoque!A2541,quantidade_comprada)","v":0}]
[null,null,null,null,null,{"$f":"SUMIF(Codigo_Produto,Estoque!A2561,[0]!quantidade_adquirida)-SUMIF([0]!cod_saida,Estoque!A2561,quantidade_comprada)","v":0}]
[null,null,null,null,null,{"$f":"SUMIF(Codigo_Produto,Estoque!A2572,[0]!quantidade_adquirida)-SUMIF([0]!cod_saida,Estoque!A2572,quantidade_comprada)","v":0}]
[null,null,null,null,null,{"$f":"SUMIF(Codigo_Produto,Estoque!A2583,[0]!quantidade_adquirida)-SUMIF([0]!cod_saida,Estoque!A2583,quantidade_comprada)","v":0}]
[null,null,null,null,null,{"$f":"SUMIF(Codigo_Produto,Estoque!A2603,[0]!quantidade_adquirida)-SUMIF([0]!cod_saida,Estoque!A2603,quantidade_comprada)","v":0}]
[null,null,null,null,null,{"$f":"SUMIF(Codigo_Produto,Estoque!A2610,[0]!quantidade_adquirida)-SUMIF([0]!cod_saida,Estoque!A2610,quantidade_comprada)","v":0}]
[null,null,null,null,null,{"$f":"SUMIF(Codigo_Produto,Estoque!A2626,[0]!quantidade_adquirida)-SUMIF([0]!cod_saida,Estoque!A2626,quantidade_comprada)","v":0}]
[null,null,null,null,null,{"$f":"SUMIF(Codigo_Produto,Estoque!A2633,[0]!quantidade_adquirida)-SUMIF([0]!cod_saida,Estoque!A2633,quantidade_comprada)","v":0}]
[null,null,null,null,null,{"$f":"SUMIF(Codigo_Produto,Estoque!A2649,[0]!quantidade_adquirida)-SUMIF([0]!cod_saida,Estoque!A2649,quantidade_comprada)","v":0}]
[null,null,null,null,null,{"$f":"SUMIF(Codigo_Produto,Estoque!A2665,[0]!quantidade_adquirida)-SUMIF([0]!cod_saida,Estoque!A2665,quantidade_comprada)","v":0}]
[null,null,null,null,null,{"$f":"SUMIF(Codigo_Produto,Estoque!A2675,[0]!quantidade_adquirida)-SUMIF([0]!cod_saida,Estoque!A2675,quantidade_comprada)","v":0}]
[null,null,null,null,null,{"$f":"SUMIF(Codigo_Produto,Estoque!A2691,[0]!quantidade_adquirida)-SUMIF([0]!cod_saida,Estoque!A2691,quantidade_comprada)","v":0}]
[null,null,null,null,null,{"$f":"SUMIF(Codigo_Produto,Estoque!A2698,[0]!quantidade_adquirida)-SUMIF([0]!cod_saida,Estoque!A2698,quantidade_comprada)","v":0}]
[null,null,null,null,null,{"$f":"SUMIF(Codigo_Produto,Estoque!A2714,[0]!quantidade_adquirida)-SUMIF([0]!cod_saida,Estoque!A2714,quantidade_comprada)","v":0}]
[null,null,null,null,null,{"$f":"SUMIF(Codigo_Produto,Estoque!A2721,[0]!quantidade_adquirida)-SUMIF([0]!cod_saida,Estoque!A2721,quantidade_comprada)","v":0}]
[null,null,null,null,null,{"$f":"SUMIF(Codigo_Produto,Estoque!A2741,[0]!quantidade_adquirida)-SUMIF([0]!cod_saida,Estoque!A2741,quantidade_comprada)","v":0}]
[null,null,null,null,null,{"$f":"SUMIF(Codigo_Produto,Estoque!A2758,[0]!quantidade_adquirida)-SUMIF([0]!cod_saida,Estoque!A2758,quantidade_comprada)","v":0}]
[null,null,null,null,null,{"$f":"SUMIF(Codigo_Produto,Estoque!A2763,[0]!quantidade_adquirida)-SUMIF([0]!cod_saida,Estoque!A2763,quantidade_comprada)","v":0}]
[null,null,null,null,null,{"$f":"SUMIF(Codigo_Produto,Estoque!A2783,[0]!quantidade_adquirida)-SUMIF([0]!cod_saida,Estoque!A2783,quantidade_comprada)","v":0}]
[null,null,null,null,null,{"$f":"SUMIF(Codigo_Produto,Estoque!A2786,[0]!quantidade_adquirida)-SUMIF([0]!cod_saida,Estoque!A2786,quantidade_comprada)","v":0}]
[null,null,null,null,null,{"$f":"SUMIF(Codigo_Produto,Estoque!A2806,[0]!quantidade_adquirida)-SUMIF([0]!cod_saida,Estoque!A2806,quantidade_comprada)","v":0}]
[null,null,null,null,null,{"$f":"SUMIF(Codigo_Produto,Estoque!A2822,[0]!quantidade_adquirida)-SUMIF([0]!cod_saida,Estoque!A2822,quantidade_comprada)","v":0}]
[null,null,null,null,null,{"$f":"SUMIF(Codigo_Produto,Estoque!A2829,[0]!quantidade_adquirida)-SUMIF([0]!cod_saida,Estoque!A2829,quantidade_comprada)","v":0}]
[null,null,null,null,null,{"$f":"SUMIF(Codigo_Produto,Estoque!A2849,[0]!quantidade_adquirida)-SUMIF([0]!cod_saida,Estoque!A2849,quantidade_comprada)","v":0}]
[null,null,null,null,null,{"$f":"SUMIF(Codigo_Produto,Estoque!A2861,[0]!quantidade_adquirida)-SUMIF([0]!cod_saida,Estoque!A2861,quantidade_comprada)","v":0}]
[null,null,null,null,null,{"$f":"SUMIF(Codigo_Produto,Estoque!A2871,[0]!quantidade_adquirida)-SUMIF([0]!cod_saida,Estoque!A2871,quantidade_comprada)","v":0}]
[null,null,null,null,null,{"$f":"SUMIF(Codigo_Produto,Estoque!A2878,[0]!quantidade_adquirida)-SUMIF([0]!cod_saida,Estoque!A2878,quantidade_comprada)","v":0}]
[null,null,null,null,null,{"$f":"SUMIF(Codigo_Produto,Estoque!A2894,[0]!quantidade_adquirida)-SUMIF([0]!cod_saida,Estoque!A2894,quantidade_comprada)","v":0}]
[null,null,null,null,null,{"$f":"SUMIF(Codigo_Produto,Estoque!A2901,[0]!quantidade_adquirida)-SUMIF([0]!cod_saida,Estoque!A2901,quantidade_comprada)","v":0}]
[null,null,null,null,null,{"$f":"SUMIF(Codigo_Produto,Estoque!A2917,[0]!quantidade_adquirida)-SUMIF([0]!cod_saida,Estoque!A2917,quantidade_comprada)","v":0}]
[null,null,null,null,null,{"$f":"SUMIF(Codigo_Produto,Estoque!A2937,[0]!quantidade_adquirida)-SUMIF([0]!cod_saida,Estoque!A2937,quantidade_comprada)","v":0}]
[null,null,null,null,null,{"$f":"SUMIF(Codigo_Produto,Estoque!A2950,[0]!quantidade_adquirida)-SUMIF([0]!cod_saida,Estoque!A2950,quantidade_comprada)","v":0}]
[null,null,null,null,null,{"$f":"SUMIF(Codigo_Produto,Estoque!A2959,[0]!quantidade_adquirida)-SUMIF([0]!cod_saida,Estoque!A2959,quantidade_comprada)","v":0}]
[null,null,null,null,null,{"$f":"SUMIF(Codigo_Produto,Estoque!A2966,[0]!quantidade_adquirida)-SUMIF([0]!cod_saida,Estoque!A2966,quantidade_comprada)","v":0}]
[null,null,null,null,null,{"$f":"SUMIF(Codigo_Produto,Estoque!A2982,[0]!quantidade_adquirida)-SUMIF([0]!cod_saida,Estoque!A2982,quantidade_comprada)","v":0}]
[null,null,null,null,null,{"$f":"SUMIF(Codigo_Produto,Estoque!A3002,[0]!quantidade_adquirida)-SUMIF([0]!cod_saida,Estoque!A3002,quantidade_comprada)","v":0}]
[null,null,null,null,null,{"$f":"SUMIF(Codigo_Produto,Estoque!A3009,[0]!quantidade_adquirida)-SUMIF([0]!cod_saida,Estoque!A3009,quantidade_comprada)","v":0}]
[null,null,null,null,null,{"$f":"SUMIF(Codigo_Produto,Estoque!A3025,[0]!quantidade_adquirida)-SUMIF([0]!cod_saida,Estoque!A3025,quantidade_comprada)","v":0}]
[null,null,null,null,null,{"$f":"SUMIF(Codigo_Produto,Estoque!A3031,[0]!quantidade_adquirida)-SUMIF([0]!cod_saida,Estoque!A3031,quantidade_comprada)","v":0}]
[null,null,null,null,null,{"$f":"SUMIF(Codigo_Produto,Estoque!A3051,[0]!quantidade_adquirida)-SUMIF([0]!cod_saida,Estoque!A3051,quantidade_comprada)","v":0}]
[null,null,null,null,null,{"$f":"SUMIF(Codigo_Produto,Estoque!A3067,[0]!quantidade_adquirida)-SUMIF([0]!cod_saida,Estoque!A3067,quantidade_comprada)","v":0}]
[null,null,null,null,null,{"$f":"SUMIF(Codigo_Produto,Estoque!A3074,[0]!quantidade_adquirida)-SUMIF([0]!cod_saida,Estoque!A3074,quantidade_comprada)","v":0}]
[null,null,null,null,null,{"$f":"SUMIF(Codigo_Produto,Estoque!A3090,[0]!quantidade_adquirida)-SUMIF([0]!cod_saida,Estoque!A3090,quantidade_comprada)","v":0}]
[null,null,null,null,null,{"$f":"SUMIF(Codigo_Produto,Estoque!A3097,[0]!quantidade_adquirida)-SUMIF([0]!cod_saida,Estoque!A3097,quantidade_comprada)","v":0}]
[null,null,null,null,null,{"$f":"SUMIF(Codigo_Produto,Estoque!A3117,[0]!quantidade_adquirida)-SUMIF([0]!cod_saida,Estoque!A3117,quantidade_comprada)","v":0}]
[null,null,null,null,null,{"$f":"SUMIF(Codigo_Produto,Estoque!A3120,[0]!quantidade_adquirida)-SUMIF([0]!cod_saida,Estoque!A3120,quantidade_comprada)","v":0}]
[null,null,null,null,null,{"$f":"SUMIF(Codigo_Produto,Estoque!A3134,[0]!quantidade_adquirida)-SUMIF([0]!cod_saida,Estoque!A3134,quantidade_comprada)","v":0}]
[null,null,null,null,null,{"$f":"SUMIF(Codigo_Produto,Estoque!A3146,[0]!quantidade_adquirida)-SUMIF([0]!cod_saida,Estoque!A3146,quantidade_comprada)","v":0}]
[null,null,null,null,null,{"$f":"SUMIF(Codigo_Produto,Estoque!A3162,[0]!quantidade_adquirida)-SUMIF([0]!cod_saida,Estoque!A3162,quantidade_comprada)","v":0}]
[null,null,null,null,null,{"$f":"SUMIF(Codigo_Produto,Estoque!A3182,[0]!quantidade_adquirida)-SUMIF([0]!cod_saida,Estoque!A3182,quantidade_comprada)","v":0}]
[null,null,null,null,null,{"$f":"SUMIF(Codigo_Produto,Estoque!A3185,[0]!quantidade_adquirida)-SUMIF([0]!cod_saida,Estoque!A3185,quantidade_comprada)","v":0}]
[null,null,null,null,null,{"$f":"SUMIF(Codigo_Produto,Estoque!A3205,[0]!quantidade_adquirida)-SUMIF([0]!cod_saida,Estoque!A3205,quantidade_comprada)","v":0}]
[null,null,null,null,null,{"$f":"SUMIF(Codigo_Produto,Estoque!A3212,[0]!quantidade_adquirida)-SUMIF([0]!cod_saida,Estoque!A3212,quantidade_comprada)","v":0}]
[null,null,null,null,null,{"$f":"SUMIF(Codigo_Produto,Estoque!A3227,[0]!quantidade_adquirida)-SUMIF([0]!cod_saida,Estoque!A3227,quantidade_comprada)","v":0}]
[null,null,null,null,null,{"$f":"SUMIF(Codigo_Produto,Estoque!A3247,[0]!quantidade_adquirida)-SUMIF([0]!cod_saida,Estoque!A3247,quantidade_comprada)","v":0}]
[null,null,null,null,null,{"$f":"SUMIF(Codigo_Produto,Estoque!A3250,[0]!quantidade_adquirida)-SUMIF([0]!cod_saida,Estoque!A3250,quantidade_comprada)","v":0}]
[null,null,null,null,null,{"$f":"SUMIF(Codigo_Produto,Estoque!A3270,[0]!quantidade_adquirida)-SUMIF([0]!cod_saida,Estoque!A3270,quantidade_comprada)","v":0}]
[null,null,null,null,null,{"$f":"SUMIF(Codigo_Produto,Estoque!A3277,[0]!quantidade_adquirida)-SUMIF([0]!cod_saida,Estoque!A3277,quantidade_comprada)","v":0}]
[null,null,null,null,null,{"$f":"SUMIF(Codigo_Produto,Estoque!A3293,[0]!quantidade_adquirida)-SUMIF([0]!cod_saida,Estoque!A3293,quantidade_comprada)","v":0}]
[null,null,null,null,null,{"$f":"SUMIF(Codigo_Produto,Estoque!A3300,[0]!quantidade_adquirida)-SUMIF([0]!cod_saida,Estoque!A3300,quantidade_comprada)","v":0}]
[null,null,null,null,null,{"$f":"SUMIF(Codigo_Produto,Estoque!A3316,[0]!quantidade_adquirida)-SUMIF([0]!cod_saida,Estoque!A3316,quantidade_comprada)","v":0}]
[null,null,null,null,null,{"$f":"SUMIF(Codigo_Produto,Estoque!A3335,[0]!quantidade_adquirida)-SUMIF([0]!cod_saida,Estoque!A3335,quantidade_comprada)","v":0}]
[null,null,null,null,null,{"$f":"SUMIF(Codigo_Produto,Estoque!A3342,[0]!quantidade_adquirida)-SUMIF([0]!cod_saida,Estoque!A3342,quantidade_comprada)","v":0}]
[null,null,null,null,null,{"$f":"SUMIF(Codigo_Produto,Estoque!A3358,[0]!quantidade_adquirida)-SUMIF([0]!cod_saida,Estoque!A3358,quantidade_comprada)","v":0}]
[null,null,null,null,null,{"$f":"SUMIF(Codigo_Produto,Estoque!A3365,[0]!quantidade_adquirida)-SUMIF([0]!cod_saida,Estoque!A3365,quantidade_comprada)","v":0}]
[null,null,null,null,null,{"$f":"SUMIF(Codigo_Produto,Estoque!A3385,[0]!quantidade_adquirida)-SUMIF([0]!cod_saida,Estoque!A3385,quantidade_comprada)","v":0}]
[null,null,null,null,null,{"$f":"SUMIF(Codigo_Produto,Estoque!A3401,[0]!quantidade_adquirida)-SUMIF([0]!cod_saida,Estoque!A3401,quantidade_comprada)","v":0}]
[null,null,null,null,null,{"$f":"SUMIF(Codigo_Produto,Estoque!A3408,[0]!quantidade_adquirida)-SUMIF([0]!cod_saida,Estoque!A3408,quantidade_comprada)","v":0}]
[null,null,null,null,null,{"$f":"SUMIF(Codigo_Produto,Estoque!A3423,[0]!quantidade_adquirida)-SUMIF([0]!cod_saida,Estoque!A3423,quantidade_comprada)","v":0}]
[null,null,null,null,null,{"$f":"SUMIF(Codigo_Produto,Estoque!A3430,[0]!quantidade_adquirida)-SUMIF([0]!cod_saida,Estoque!A3430,quantidade_comprada)","v":0}]
[null,null,null,null,null,{"$f":"SUMIF(Codigo_Produto,Estoque!A3450,[0]!quantidade_adquirida)-SUMIF([0]!cod_saida,Estoque!A3450,quantidade_comprada)","v":0}]
[null,null,null,null,null,{"$f":"SUMIF(Codigo_Produto,Estoque!A3466,[0]!quantidade_adquirida)-SUMIF([0]!cod_saida,Estoque!A3466,quantidade_comprada)","v":0}]
[null,null,null,null,null,{"$f":"SUMIF(Codigo_Produto,Estoque!A3473,[0]!quantidade_adquirida)-SUMIF([0]!cod_saida,Estoque!A3473,quantidade_comprada)","v":0}]
[null,null,null,null,null,{"$f":"SUMIF(Codigo_Produto,Estoque!A3480,[0]!quantidade_adquirida)-SUMIF([0]!cod_saida,Estoque!A3480,quantidade_comprada)","v":0}]
[null,null,null,null,null,{"$f":"SUMIF(Codigo_Produto,Estoque!A3496,[0]!quantidade_adquirida)-SUMIF([0]!cod_saida,Estoque!A3496,quantidade_comprada)","v":0}]
[null,null,null,null,null,{"$f":"SUMIF(Codigo_Produto,Estoque!A3512,[0]!quantidade_adquirida)-SUMIF([0]!cod_saida,Estoque!A3512,quantidade_comprada)","v":0}]
[null,null,null,null,null,{"$f":"SUMIF(Codigo_Produto,Estoque!A3518,[0]!quantidade_adquirida)-SUMIF([0]!cod_saida,Estoque!A3518,quantidade_comprada)","v":0}]
[null,null,null,null,null,{"$f":"SUMIF(Codigo_Produto,Estoque!A3538,[0]!quantidade_adquirida)-SUMIF([0]!cod_saida,Estoque!A3538,quantidade_comprada)","v":0}]
[null,null,null,null,null,{"$f":"SUMIF(Codigo_Produto,Estoque!A3545,[0]!quantidade_adquirida)-SUMIF([0]!cod_saida,Estoque!A3545,quantidade_comprada)","v":0}]
[null,null,null,null,null,{"$f":"SUMIF(Codigo_Produto,Estoque!A3561,[0]!quantidade_adquirida)-SUMIF([0]!cod_saida,Estoque!A3561,quantidade_comprada)","v":0}]
[null,null,null,null,null,{"$f":"SUMIF(Codigo_Produto,Estoque!A3581,[0]!quantidade_adquirida)-SUMIF([0]!cod_saida,Estoque!A3581,quantidade_comprada)","v":0}]
[null,null,null,null,null,{"$f":"SUMIF(Codigo_Produto,Estoque!A3588,[0]!quantidade_adquirida)-SUMIF([0]!cod_saida,Estoque!A3588,quantidade_comprada)","v":0}]
[null,null,null,null,null,{"$f":"SUMIF(Codigo_Produto,Estoque!A3604,[0]!quantidade_adquirida)-SUMIF([0]!cod_saida,Estoque!A3604,quantidade_comprada)","v":0}]
[null,null,null,null,null,{"$f":"SUMIF(Codigo_Produto,Estoque!A3615,[0]!quantidade_adquirida)-SUMIF([0]!cod_saida,Estoque!A3615,quantidade_comprada)","v":0}]
[null,null,null,null,null,{"$f":"SUMIF(Codigo_Produto,Estoque!A3626,[0]!quantidade_adquirida)-SUMIF([0]!cod_saida,Estoque!A3626,quantidade_comprada)","v":0}]
[null,null,null,null,null,{"$f":"SUMIF(Codigo_Produto,Estoque!A3646,[0]!quantidade_adquirida)-SUMIF([0]!cod_saida,Estoque!A3646,quantidade_comprada)","v":0}]
[null,null,null,null,null,{"$f":"SUMIF(Codigo_Produto,Estoque!A3653,[0]!quantidade_adquirida)-SUMIF([0]!cod_saida,Estoque!A3653,quantidade_comprada)","v":0}]
[null,null,null,null,null,{"$f":"SUMIF(Codigo_Produto,Estoque!A3669,[0]!quantidade_adquirida)-SUMIF([0]!cod_saida,Estoque!A3669,quantidade_comprada)","v":0}]
[null,null,null,null,null,{"$f":"SUMIF(Codigo_Produto,Estoque!A3676,[0]!quantidade_adquirida)-SUMIF([0]!cod_saida,Estoque!A3676,quantidade_comprada)","v":0}]
[null,null,null,null,null,{"$f":"SUMIF(Codigo_Produto,Estoque!A3692,[0]!quantidade_adquirida)-SUMIF([0]!cod_saida,Estoque!A3692,quantidade_comprada)","v":0}]
[null,null,null,null,null,{"$f":"SUMIF(Codigo_Produto,Estoque!A3708,[0]!quantidade_adquirida)-SUMIF([0]!cod_saida,Estoque!A3708,quantidade_comprada)","v":0}]
[null,null,null,null,null,{"$f":"SUMIF(Codigo_Produto,Estoque!A3718,[0]!quantidade_adquirida)-SUMIF([0]!cod_saida,Estoque!A3718,quantidade_comprada)","v":0}]
[null,null,null,null,null,{"$f":"SUMIF(Codigo_Produto,Estoque!A3734,[0]!quantidade_adquirida)-SUMIF([0]!cod_saida,Estoque!A3734,quantidade_comprada)","v":0}]
[null,null,null,null,null,{"$f":"SUMIF(Codigo_Produto,Estoque!A3741,[0]!quantidade_adquirida)-SUMIF([0]!cod_saida,Estoque!A3741,quantidade_comprada)","v":0}]
[null,null,null,null,null,{"$f":"SUMIF(Codigo_Produto,Estoque!A3761,[0]!quantidade_adquirida)-SUMIF([0]!cod_saida,Estoque!A3761,quantidade_comprada)","v":0}]
[null,null,null,null,null,{"$f":"SUMIF(Codigo_Produto,Estoque!A3764,[0]!quantidade_adquirida)-SUMIF([0]!cod_saida,Estoque!A3764,quantidade_comprada)","v":0}]
[null,null,null,null,null,{"$f":"SUMIF(Codigo_Produto,Estoque!A3784,[0]!quantidade_adquirida)-SUMIF([0]!cod_saida,Estoque!A3784,quantidade_comprada)","v":0}]
[null,null,null,null,null,{"$f":"SUMIF(Codigo_Produto,Estoque!A3789,[0]!quantidade_adquirida)-SUMIF([0]!cod_saida,Estoque!A3789,quantidade_comprada)","v":0}]
[null,null,null,null,null,{"$f":"SUMIF(Codigo_Produto,Estoque!A3806,[0]!quantidade_adquirida)-SUMIF([0]!cod_saida,Estoque!A3806,quantidade_comprada)","v":0}]
[null,null,null,null,null,{"$f":"SUMIF(Codigo_Produto,Estoque!A3826,[0]!quantidade_adquirida)-SUMIF([0]!cod_saida,Estoque!A3826,quantidade_comprada)","v":0}]
[null,null,null,null,null,{"$f":"SUMIF(Codigo_Produto,Estoque!A3829,[0]!quantidade_adquirida)-SUMIF([0]!cod_saida,Estoque!A3829,quantidade_comprada)","v":0}]
[null,null,null,null,null,{"$f":"SUMIF(Codigo_Produto,Estoque!A3849,[0]!quantidade_adquirida)-SUMIF([0]!cod_saida,Estoque!A3849,quantidade_comprada)","v":0}]
[null,null,null,null,null,{"$f":"SUMIF(Codigo_Produto,Estoque!A3865,[0]!quantidade_adquirida)-SUMIF([0]!cod_saida,Estoque!A3865,quantidade_comprada)","v":0}]
[null,null,null,null,null,{"$f":"SUMIF(Codigo_Produto,Estoque!A3872,[0]!quantidade_adquirida)-SUMIF([0]!cod_saida,Estoque!A3872,quantidade_comprada)","v":0}]
[null,null,null,null,null,{"$f":"SUMIF(Codigo_Produto,Estoque!A3879,[0]!quantidade_adquirida)-SUMIF([0]!cod_saida,Estoque!A3879,quantidade_comprada)","v":0}]
[null,null,null,null,null,{"$f":"SUMIF(Codigo_Produto,Estoque!A3892,[0]!quantidade_adquirida)-SUMIF([0]!cod_saida,Estoque!A3892,quantidade_comprada)","v":0}]
[null,null,null,null,null,{"$f":"SUMIF(Codigo_Produto,Estoque!A3914,[0]!quantidade_adquirida)-SUMIF([0]!cod_saida,Estoque!A3914,quantidade_comprada)","v":0}]
[null,null,null,null,null,{"$f":"SUMIF(Codigo_Produto,Estoque!A3921,[0]!quantidade_adquirida)-SUMIF([0]!cod_saida,Estoque!A3921,quantidade_comprada)","v":0}]
[null,null,null,null,null,{"$f":"SUMIF(Codigo_Produto,Estoque!A3937,[0]!quantidade_adquirida)-SUMIF([0]!cod_saida,Estoque!A3937,quantidade_comprada)","v":0}]
[null,null,null,null,null,{"$f":"SUMIF(Codigo_Produto,Estoque!A3944,[0]!quantidade_adquirida)-SUMIF([0]!cod_saida,Estoque!A3944,quantidade_comprada)","v":0}]
[null,null,null,null,null,{"$f":"SUMIF(Codigo_Produto,Estoque!A3960,[0]!quantidade_adquirida)-SUMIF([0]!cod_saida,Estoque!A3960,quantidade_comprada)","v":0}]
[null,null,null,null,null,{"$f":"SUMIF(Codigo_Produto,Estoque!A3980,[0]!quantidade_adquirida)-SUMIF([0]!cod_saida,Estoque!A3980,quantidade_comprada)","v":0}]
[null,null,null,null,null,{"$f":"SUMIF(Codigo_Produto,Estoque!A3993,[0]!quantidade_adquirida)-SUMIF([0]!cod_saida,Estoque!A3993,quantidade_comprada)","v":0}]
[null,null,null,null,null,{"$f":"SUMIF(Codigo_Produto,Estoque!A4002,[0]!quantidade_adquirida)-SUMIF([0]!cod_saida,Estoque!A4002,quantidade_comprada)","v":0}]
[null,null,null,null,null,{"$f":"SUMIF(Codigo_Produto,Estoque!A4009,[0]!quantidade_adquirida)-SUMIF([0]!cod_saida,Estoque!A4009,quantidade_comprada)","v":0}]
[null,null,null,null,null,{"$f":"SUMIF(Codigo_Produto,Estoque!A4029,[0]!quantidade_adquirida)-SUMIF([0]!cod_saida,Estoque!A4029,quantidade_comprada)","v":0}]
[null,null,null,null,null,{"$f":"SUMIF(Codigo_Produto,Estoque!A4045,[0]!quantidade_adquirida)-SUMIF([0]!cod_saida,Estoque!A4045,quantidade_comprada)","v":0}]
[null,null,null,null,null,{"$f":"SUMIF(Codigo_Produto,Estoque!A4052,[0]!quantidade_adquirida)-SUMIF([0]!cod_saida,Estoque!A4052,quantidade_comprada)","v":0}]
[null,null,null,null,null,{"$f":"SUMIF(Codigo_Produto,Estoque!A4068,[0]!quantidade_adquirida)-SUMIF([0]!cod_saida,Estoque!A4068,quantidade_comprada)","v":0}]
[null,null,null,null,null,{"$f":"SUMIF(Codigo_Produto,Estoque!A4074,[0]!quantidade_adquirida)-SUMIF([0]!cod_saida,Estoque!A4074,quantidade_comprada)","v":0}]
[null,null,null,null,null,{"$f":"SUMIF(Codigo_Produto,Estoque!A4094,[0]!quantidade_adquirida)-SUMIF([0]!cod_saida,Estoque!A4094,quantidade_comprada)","v":0}]
[null,null,null,null,null,{"$f":"SUMIF(Codigo_Produto,Estoque!A4097,[0]!quantidade_adquirida)-SUMIF([0]!cod_saida,Estoque!A4097,quantidade_comprada)","v":0}]
[null,null,null,null,null,{"$f":"SUMIF(Codigo_Produto,Estoque!A4117,[0]!quantidade_adquirida)-SUMIF([0]!cod_saida,Estoque!A4117,quantidade_comprada)","v":0}]
[null,null,null,null,null,{"$f":"SUMIF(Codigo_Produto,Estoque!A4133,[0]!quantidade_adquirida)-SUMIF([0]!cod_saida,Estoque!A4133,quantidade_comprada)","v":0}]
[null,null,null,null,null,{"$f":"SUMIF(Codigo_Produto,Estoque!A4140,[0]!quantidade_adquirida)-SUMIF([0]!cod_saida,Estoque!A4140,quantidade_comprada)","v":0}]
[null,null,null,null,null,{"$f":"SUMIF(Codigo_Produto,Estoque!A4160,[0]!quantidade_adquirida)-SUMIF([0]!cod_saida,Estoque!A4160,quantidade_comprada)","v":0}]
[null,null,null,null,null,{"$f":"SUMIF(Codigo_Produto,Estoque!A4163,[0]!quantidade_adquirida)-SUMIF([0]!cod_saida,Estoque!A4163,quantidade_comprada)","v":0}]
[null,null,null,null,null,{"$f":"SUMIF(Codigo_Produto,Estoque!A4177,[0]!quantidade_adquirida)-SUMIF([0]!cod_saida,Estoque!A4177,quantidade_comprada)","v":0}]
[null,null,null,null,null,{"$f":"SUMIF(Codigo_Produto,Estoque!A4189,[0]!quantidade_adquirida)-SUMIF([0]!cod_saida,Estoque!A4189,quantidade_comprada)","v":0}]
[null,null,null,null,null,{"$f":"SUMIF(Codigo_Produto,Estoque!A4205,[0]!quantidade_adquirida)-SUMIF([0]!cod_saida,Estoque!A4205,quantidade_comprada)","v":0}]
[null,null,null,null,null,{"$f":"SUMIF(Codigo_Produto,Estoque!A4225,[0]!quantidade_adquirida)-SUMIF([0]!cod_saida,Estoque!A4225,quantidade_comprada)","v":0}]
[null,null,null,null,null,{"$f":"SUMIF(Codigo_Produto,Estoque!A4228,[0]!quantidade_adquirida)-SUMIF([0]!cod_saida,Estoque!A4228,quantidade_comprada)","v":0}]
[null,null,null,null,null,{"$f":"SUMIF(Codigo_Produto,Estoque!A4248,[0]!quantidade_adquirida)-SUMIF([0]!cod_saida,Estoque!A4248,quantidade_comprada)","v":0}]
[null,null,null,null,null,{"$f":"SUMIF(Codigo_Produto,Estoque!A4255,[0]!quantidade_adquirida)-SUMIF([0]!cod_saida,Estoque!A4255,quantidade_comprada)","v":0}]
[null,null,null,null,null,{"$f":"SUMIF(Codigo_Produto,Estoque!A4270,[0]!quantidade_adquirida)-SUMIF([0]!cod_saida,Estoque!A4270,quantidade_comprada)","v":0}]
[null,null,null,null,null,{"$f":"SUMIF(Codigo_Produto,Estoque!A4277,[0]!quantidade_adquirida)-SUMIF([0]!cod_saida,Estoque!A4277,quantidade_comprada)","v":0}]
[null,null,null,null,null,{"$f":"SUMIF(Codigo_Produto,Estoque!A4297,[0]!quantidade_adquirida)-SUMIF([0]!cod_saida,Estoque!A4297,quantidade_comprada)","v":0}]
[null,null,null,null,null,{"$f":"SUMIF(Codigo_Produto,Estoque!A4313,[0]!quantidade_adquirida)-SUMIF([0]!cod_saida,Estoque!A4313,quantidade_comprada)","v":0}]
[null,null,null,null,null,{"$f":"SUMIF(Codigo_Produto,Estoque!A4320,[0]!quantidade_adquirida)-SUMIF([0]!cod_saida,Estoque!A4320,quantidade_comprada)","v":0}]
[null,null,null,null,null,{"$f":"SUMIF(Codigo_Produto,Estoque!A4336,[0]!quantidade_adquirida)-SUMIF([0]!cod_saida,Estoque!A4336,quantidade_comprada)","v":0}]
[null,null,null,null,null,{"$f":"SUMIF(Codigo_Produto,Estoque!A4343,[0]!quantidade_adquirida)-SUMIF([0]!cod_saida,Estoque!A4343,quantidade_comprada)","v":0}]
[null,null,null,null,null,{"$f":"SUMIF(Codigo_Produto,Estoque!A4359,[0]!quantidade_adquirida)-SUMIF([0]!cod_saida,Estoque!A4359,quantidade_comprada)","v":0}]
[null,null,null,null,null,{"$f":"SUMIF(Codigo_Produto,Estoque!A4378,[0]!quantidade_adquirida)-SUMIF([0]!cod_saida,Estoque!A4378,quantidade_comprada)","v":0}]
[null,null,null,null,null,{"$f":"SUMIF(Codigo_Produto,Estoque!A4385,[0]!quantidade_adquirida)-SUMIF([0]!cod_saida,Estoque!A4385,quantidade_comprada)","v":0}]
[null,null,null,null,null,{"$f":"SUMIF(Codigo_Produto,Estoque!A4401,[0]!quantidade_adquirida)-SUMIF([0]!cod_saida,Estoque!A4401,quantidade_comprada)","v":0}]
[null,null,null,null,null,{"$f":"SUMIF(Codigo_Produto,Estoque!A4408,[0]!quantidade_adquirida)-SUMIF([0]!cod_saida,Estoque!A4408,quantidade_comprada)","v":0}]
[null,null,null,null,null,{"$f":"SUMIF(Codigo_Produto,Estoque!A4428,[0]!quantidade_adquirida)-SUMIF([0]!cod_saida,Estoque!A4428,quantidade_comprada)","v":0}]
[null,null,null,null,null,{"$f":"SUMIF(Codigo_Produto,Estoque!A4444,[0]!quantidade_adquirida)-SUMIF([0]!cod_saida,Estoque!A4444,quantidade_comprada)","v":0}]
[null,null,null,null,null,{"$f":"SUMIF(Codigo_Produto,Estoque!A4451,[0]!quantidade_adquirida)-SUMIF([0]!cod_saida,Estoque!A4451,quantidade_comprada)","v":0}]
[null,null,null,null,null,{"$f":"SUMIF(Codigo_Produto,Estoque!A4462,[0]!quantidade_adquirida)-SUMIF([0]!cod_saida,Estoque!A4462,quantidade_comprada)","v":0}]
[null,null,null,null,null,{"$f":"SUMIF(Codigo_Produto,Estoque!A4473,[0]!quantidade_adquirida)-SUMIF([0]!cod_saida,Estoque!A4473,quantidade_comprada)","v":0}]
[null,null,null,null,null,{"$f":"SUMIF(Codigo_Produto,Estoque!A4493,[0]!quantidade_adquirida)-SUMIF([0]!cod_saida,Estoque!A4493,quantidade_comprada)","v":0}]
[null,null,null,null,null,{"$f":"SUMIF(Codigo_Produto,Estoque!A4496,[0]!quantidade_adquirida)-SUMIF([0]!cod_saida,Estoque!A4496,quantidade_comprada)","v":0}]
[null,null,null,null,null,{"$f":"SUMIF(Codigo_Produto,Estoque!A4516,[0]!quantidade_adquirida)-SUMIF([0]!cod_saida,Estoque!A4516,quantidade_comprada)","v":0}]
[null,null,null,null,null,{"$f":"SUMIF(Codigo_Produto,Estoque!A4523,[0]!quantidade_adquirida)-SUMIF([0]!cod_saida,Estoque!A4523,quantidade_comprada)","v":0}]
[null,null,null,null,null,{"$f":"SUMIF(Codigo_Produto,Estoque!A4539,[0]!quantidade_adquirida)-SUMIF([0]!cod_saida,Estoque!A4539,quantidade_comprada)","v":0}]
[null,null,null,null,null,{"$f":"SUMIF(Codigo_Produto,Estoque!A4555,[0]!quantidade_adquirida)-SUMIF([0]!cod_saida,Estoque!A4555,quantidade_comprada)","v":0}]
[null,null,null,null,null,{"$f":"SUMIF(Codigo_Produto,Estoque!A4561,[0]!quantidade_adquirida)-SUMIF([0]!cod_saida,Estoque!A4561,quantidade_comprada)","v":0}]
[null,null,null,null,null,{"$f":"SUMIF(Codigo_Produto,Estoque!A4581,[0]!quantidade_adquirida)-SUMIF([0]!cod_saida,Estoque!A4581,quantidade_comprada)","v":0}]
[null,null,null,null,null,{"$f":"SUMIF(Codigo_Produto,Estoque!A4588,[0]!quantidade_adquirida)-SUMIF([0]!cod_saida,Estoque!A4588,quantidade_comprada)","v":0}]
[null,null,null,null,null,{"$f":"SUMIF(Codigo_Produto,Estoque!A4604,[0]!quantidade_adquirida)-SUMIF([0]!cod_saida,Estoque!A4604,quantidade_comprada)","v":0}]
[null,null,null,null,null,{"$f":"SUMIF(Codigo_Produto,Estoque!A4624,[0]!quantidade_adquirida)-SUMIF([0]!cod_saida,Estoque!A4624,quantidade_comprada)","v":0}]
[null,null,null,null,null,{"$f":"SUMIF(Codigo_Produto,Estoque!A4631,[0]!quantidade_adquirida)-SUMIF([0]!cod_saida,Estoque!A4631,quantidade_comprada)","v":0}]
[null,null,null,null,null,{"$f":"SUMIF(Codigo_Produto,Estoque!A4648,[0]!quantidade_adquirida)-SUMIF([0]!cod_saida,Estoque!A4648,quantidade_comprada)","v":0}]
[null,null,null,null,null,{"$f":"SUMIF(Codigo_Produto,Estoque!A4653,[0]!quantidade_adquirida)-SUMIF([0]!cod_saida,Estoque!A4653,quantidade_comprada)","v":0}]
[null,null,null,null,null,{"$f":"SUMIF(Codigo_Produto,Estoque!A4669,[0]!quantidade_adquirida)-SUMIF([0]!cod_saida,Estoque!A4669,quantidade_comprada)","v":0}]
[null,null,null,null,null,{"$f":"SUMIF(Codigo_Produto,Estoque!A4676,[0]!quantidade_adquirida)-SUMIF([0]!cod_saida,Estoque!A4676,quantidade_comprada)","v":0}]
[null,null,null,null,null,{"$f":"SUMIF(Codigo_Produto,Estoque!A4696,[0]!quantidade_adquirida)-SUMIF([0]!cod_saida,Estoque!A4696,quantidade_comprada)","v":0}]
[null,null,null,null,null,{"$f":"SUMIF(Codigo_Produto,Estoque!A4712,[0]!quantidade_adquirida)-SUMIF([0]!cod_saida,Estoque!A4712,quantidade_comprada)","v":0}]
[null,null,null,null,null,{"$f":"SUMIF(Codigo_Produto,Estoque!A4719,[0]!quantidade_adquirida)-SUMIF([0]!cod_saida,Estoque!A4719,quantidade_comprada)","v":0}]
[null,null,null,null,null,{"$f":"SUMIF(Codigo_Produto,Estoque!A4739,[0]!quantidade_adquirida)-SUMIF([0]!cod_saida,Estoque!A4739,quantidade_comprada)","v":0}]
[null,null,null,null,null,{"$f":"SUMIF(Codigo_Produto,Estoque!A4751,[0]!quantidade_adquirida)-SUMIF([0]!cod_saida,Estoque!A4751,quantidade_comprada)","v":0}]
[null,null,null,null,null,{"$f":"SUMIF(Codigo_Produto,Estoque!A4761,[0]!quantidade_adquirida)-SUMIF([0]!cod_saida,Estoque!A4761,quantidade_comprada)","v":0}]
[null,null,null,null,null,{"$f":"SUMIF(Codigo_Produto,Estoque!A4777,[0]!quantidade_adquirida)-SUMIF([0]!cod_saida,Estoque!A4777,quantidade_comprada)","v":0}]
[null,null,null,null,null,{"$f":"SUMIF(Codigo_Produto,Estoque!A4784,[0]!quantidade_adquirida)-SUMIF([0]!cod_saida,Estoque!A4784,quantidade_comprada)","v":0}]
[null,null,null,null,null,{"$f":"SUMIF(Codigo_Produto,Estoque!A4804,[0]!quantidade_adquirida)-SUMIF([0]!cod_saida,Estoque!A4804,quantidade_comprada)","v":0}]
[null,null,null,null,null,{"$f":"SUMIF(Codigo_Produto,Estoque!A4807,[0]!quantidade_adquirida)-SUMIF([0]!cod_saida,Estoque!A4807,quantidade_comprada)","v":0}]
[null,null,null,null,null,{"$f":"SUMIF(Codigo_Produto,Estoque!A4827,[0]!quantidade_adquirida)-SUMIF([0]!cod_saida,Estoque!A4827,quantidade_comprada)","v":0}]
[null,null,null,null,null,{"$f":"SUMIF(Codigo_Produto,Estoque!A4832,[0]!quantidade_adquirida)-SUMIF([0]!cod_saida,Estoque!A4832,quantidade_comprada)","v":0}]
[null,null,null,null,null,{"$f":"SUMIF(Codigo_Produto,Estoque!A4849,[0]!quantidade_adquirida)-SUMIF([0]!cod_saida,Estoque!A4849,quantidade_comprada)","v":0}]
[null,null,null,null,null,{"$f":"SUMIF(Codigo_Produto,Estoque!A4856,[0]!quantidade_adquirida)-SUMIF([0]!cod_saida,Estoque!A4856,quantidade_comprada)","v":0}]
[null,null,null,null,null,{"$f":"SUMIF(Codigo_Produto,Estoque!A4872,[0]!quantidade_adquirida)-SUMIF([0]!cod_saida,Estoque!A4872,quantidade_comprada)","v":0}]
[null,null,null,null,null,{"$f":"SUMIF(Codigo_Produto,Estoque!A4892,[0]!quantidade_adquirida)-SUMIF([0]!cod_saida,Estoque!A4892,quantidade_comprada)","v":0}]
[null,null,null,null,null,{"$f":"SUMIF(Codigo_Produto,Estoque!A4899,[0]!quantidade_adquirida)-SUMIF([0]!cod_saida,Estoque!A4899,quantidade_comprada)","v":0}]
[null,null,null,null,null,{"$f":"SUMIF(Codigo_Produto,Estoque!A4915,[0]!quantidade_adquirida)-SUMIF([0]!cod_saida,Estoque!A4915,quantidade_comprada)","v":0}]
[null,null,null,null,null,{"$f":"SUMIF(Codigo_Produto,Estoque!A4921,[0]!quantidade_adquirida)-SUMIF([0]!cod_saida,Estoque!A4921,quantidade_comprada)","v":0}]
[null,null,null,null,null,{"$f":"SUMIF(Codigo_Produto,Estoque!A4937,[0]!quantidade_adquirida)-SUMIF([0]!cod_saida,Estoque!A4937,quantidade_comprada)","v":0}]
[null,null,null,null,null,{"$f":"SUMIF(Codigo_Produto,Estoque!A4957,[0]!quantidade_adquirida)-SUMIF([0]!cod_saida,Estoque!A4957,quantidade_comprada)","v":0}]
[null,null,null,null,null,{"$f":"SUMIF(Codigo_Produto,Estoque!A4964,[0]!quantidade_adquirida)-SUMIF([0]!cod_saida,Estoque!A4964,quantidade_comprada)","v":0}]
[null,null,null,null,null,{"$f":"SUMIF(Codigo_Produto,Estoque!A4980,[0]!quantidade_adquirida)-SUMIF([0]!cod_saida,Estoque!A4980,quantidade_comprada)","v":0}]
[null,null,null,null,null,{"$f":"SUMIF(Codigo_Produto,Estoque!A4987,[0]!quantidade_adquirida)-SUMIF([0]!cod_saida,Estoque!A4987,quantidade_comprada)","v":0}]
[null,null,null,null,null,{"$f":"SUMIF(Codigo_Produto,Estoque!A5007,[0]!quantidade_adquirida)-SUMIF([0]!cod_saida,Estoque!A5007,quantidade_comprada)","v":0}]
[null,null,null,null,null,{"$f":"SUMIF(Codigo_Produto,Estoque!A5023,[0]!quantidade_adquirida)-SUMIF([0]!cod_saida,Estoque!A5023,quantidade_comprada)","v":0}]
[null,null,null,null,null,{"$f":"SUMIF(Codigo_Produto,Estoque!A5024,[0]!quantidade_adquirida)-SUMIF([0]!cod_saida,Estoque!A5024,quantidade_comprada)","v":0}]
[null,null,null,null,null,{"$f":"SUMIF(Codigo_Produto,Estoque!A5045,[0]!quantidade_adquirida)-SUMIF([0]!cod_saida,Estoque!A5045,quantidade_comprada)","v":0}]
[null,null,null,null,null,{"$f":"SUMIF(Codigo_Produto,Estoque!A5052,[0]!quantidade_adquirida)-SUMIF([0]!cod_saida,Estoque!A5052,quantidade_comprada)","v":0}]
[null,null,null,null,null,{"$f":"SUMIF(Codigo_Produto,Estoque!A5072,[0]!quantidade_adquirida)-SUMIF([0]!cod_saida,Estoque!A5072,quantidade_comprada)","v":0}]
[null,null,null,null,null,{"$f":"SUMIF(Codigo_Produto,Estoque!A5075,[0]!quantidade_adquirida)-SUMIF([0]!cod_saida,Estoque!A5075,quantidade_comprada)","v":0}]
[null,null,null,null,null,{"$f":"SUMIF(Codigo_Produto,Estoque!A5095,[0]!quantidade_adquirida)-SUMIF([0]!cod_saida,Estoque!A5095,quantidade_comprada)","v":0}]
[null,null,null,null,null,{"$f":"SUMIF(Codigo_Produto,Estoque!A5111,[0]!quantidade_adquirida)-SUMIF([0]!cod_saida,Estoque!A5111,quantidade_comprada)","v":0}]
[null,null,null,null,null,{"$f":"SUMIF(Codigo_Produto,Estoque!A5117,[0]!quantidade_adquirida)-SUMIF([0]!cod_saida,Estoque!A5117,quantidade_comprada)","v":0}]
[null,null,null,null,null,{"$f":"SUMIF(Codigo_Produto,Estoque!A5137,[0]!quantidade_adquirida)-SUMIF([0]!cod_saida,Estoque!A5137,quantidade_comprada)","v":0}]
[null,null,null,null,null,{"$f":"SUMIF(Codigo_Produto,Estoque!A5140,[0]!quantidade_adquirida)-SUMIF([0]!cod_saida,Estoque!A5140,quantidade_comprada)","v":0}]
[null,null,null,null,null,{"$f":"SUMIF(Codigo_Produto,Estoque!A5160,[0]!quantidade_adquirida)-SUMIF([0]!cod_saida,Estoque!A5160,quantidade_comprada)","v":0}]
[null,null,null,null,null,{"$f":"SUMIF(Codigo_Produto,Estoque!A5167,[0]!quantidade_adquirida)-SUMIF([0]!cod_saida,Estoque!A5167,quantidade_comprada)","v":0}]
[null,null,null,null,null,{"$f":"SUMIF(Codigo_Produto,Estoque!A5183,[0]!quantidade_adquirida)-SUMIF([0]!cod_saida,Estoque!A5183,quantidade_comprada)","v":0}]
[null,null,null,null,null,{"$f":"SUMIF(Codigo_Produto,Estoque!A5203,[0]!quantidade_adquirida)-SUMIF([0]!cod_saida,Estoque!A5203,quantidade_comprada)","v":0}]
[null,null,null,null,null,{"$f":"SUMIF(Codigo_Produto,Estoque!A5206,[0]!quantidade_adquirida)-SUMIF([0]!cod_saida,Estoque!A5206,quantidade_comprada)","v":0}]
[null,null,null,null,null,{"$f":"SUMIF(Codigo_Produto,Estoque!A5220,[0]!quantidade_adquirida)-SUMIF([0]!cod_saida,Estoque!A5220,quantidade_comprada)","v":0}]
[null,null,null,null,null,{"$f":"SUMIF(Codigo_Produto,Estoque!A5232,[0]!quantidade_adquirida)-SUMIF([0]!cod_saida,Estoque!A5232,quantidade_comprada)","v":0}]
[null,null,null,null,null,{"$f":"SUMIF(Codigo_Produto,Estoque!A5248,[0]!quantidade_adquirida)-SUMIF([0]!cod_saida,Estoque!A5248,quantidade_comprada)","v":0}]
[null,null,null,null,null,{"$f":"SUMIF(Codigo_Produto,Estoque!A5255,[0]!quantidade_adquirida)-SUMIF([0]!cod_saida,Estoque!A5255,quantidade_comprada)","v":0}]
[null,null,null,null,null,{"$f":"SUMIF(Codigo_Produto,Estoque!A5271,[0]!quantidade_adquirida)-SUMIF([0]!cod_saida,Estoque!A5271,quantidade_comprada)","v":0}]
[null,null,null,null,null,{"$f":"SUMIF(Codigo_Produto,Estoque!A5291,[0]!quantidade_adquirida)-SUMIF([0]!cod_saida,Estoque!A5291,quantidade_comprada)","v":0}]
[null,null,null,null,null,{"$f":"SUMIF(Codigo_Produto,Estoque!A5298,[0]!quantidade_adquirida)-SUMIF([0]!cod_saida,Estoque!A5298,quantidade_comprada)","v":0}]
[null,null,null,null,null,{"$f":"SUMIF(Codigo_Produto,Estoque!A5313,[0]!quantidade_adquirida)-SUMIF([0]!cod_saida,Estoque!A5313,quantidade_comprada)","v":0}]
[null,null,null,null,null,{"$f":"SUMIF(Codigo_Produto,Estoque!A5320,[0]!quantidade_adquirida)-SUMIF([0]!cod_saida,Estoque!A5320,quantidade_comprada)","v":0}]
[null,null,null,null,null,{"$f":"SUMIF(Codigo_Produto,Estoque!A5340,[0]!quantidade_adquirida)-SUMIF([0]!cod_saida,Estoque!A5340,quantidade_comprada)","v":0}]
[null,null,null,null,null,{"$f":"SUMIF(Codigo_Produto,Estoque!A5356,[0]!quantidade_adquirida)-SUMIF([0]!cod_saida,Estoque!A5356,quantidade_comprada)","v":0}]
[null,null,null,null,null,{"$f":"SUMIF(Codigo_Produto,Estoque!A5363,[0]!quantidade_adquirida)-SUMIF([0]!cod_saida,Estoque!A5363,quantidade_comprada)","v":0}]
[null,null,null,null,null,{"$f":"SUMIF(Codigo_Produto,Estoque!A5379,[0]!quantidade_adquirida)-SUMIF([0]!cod_saida,Estoque!A5379,quantidade_comprada)","v":0}]
[null,null,null,null,null,{"$f":"SUMIF(Codigo_Produto,Estoque!A5386,[0]!quantidade_adquirida)-SUMIF([0]!cod_saida,Estoque!A5386,quantidade_comprada)","v":0}]
[null,null,null,null,null,{"$f":"SUMIF(Codigo_Produto,Estoque!A5402,[0]!quantidade_adquirida)-SUMIF([0]!cod_saida,Estoque!A5402,quantidade_comprada)","v":0}]
[null,null,null,null,null,{"$f":"SUMIF(Codigo_Produto,Estoque!A5421,[0]!quantidade_adquirida)-SUMIF([0]!cod_saida,Estoque!A5421,quantidade_comprada)","v":0}]
[null,null,null,null,null,{"$f":"SUMIF(Codigo_Produto,Estoque!A5428,[0]!quantidade_adquirida)-SUMIF([0]!cod_saida,Estoque!A5428,quantidade_comprada)","v":0}]
[null,null,null,null,null,{"$f":"SUMIF(Codigo_Produto,Estoque!A5435,[0]!quantidade_adquirida)-SUMIF([0]!cod_saida,Estoque!A5435,quantidade_comprada)","v":0}]
[null,null,null,null,null,{"$f":"SUMIF(Codigo_Produto,Estoque!A5451,[0]!quantidade_adquirida)-SUMIF([0]!cod_saida,Estoque!A5451,quantidade_comprada)","v":0}]
[null,null,null,null,null,{"$f":"SUMIF(Codigo_Produto,Estoque!A5471,[0]!quantidade_adquirida)-SUMIF([0]!cod_saida,Estoque!A5471,quantidade_comprada)","v":0}]
[null,null,null,null,null,{"$f":"SUMIF(Codigo_Produto,Estoque!A5474,[0]!quantidade_adquirida)-SUMIF([0]!cod_saida,Estoque!A5474,quantidade_comprada)","v":0}]
[null,null,null,null,null,{"$f":"SUMIF(Codigo_Produto,Estoque!A5494,[0]!quantidade_adquirida)-SUMIF([0]!cod_saida,Estoque!A5494,quantidade_comprada)","v":0}]
[null,null,null,null,null,{"$f":"SUMIF(Codigo_Produto,Estoque!A5505,[0]!quantidade_adquirida)-SUMIF([0]!cod_saida,Estoque!A5505,quantidade_comprada)","v":0}]
[null,null,null,null,null,{"$f":"SUMIF(Codigo_Produto,Estoque!A5516,[0]!quantidade_adquirida)-SUMIF([0]!cod_saida,Estoque!A5516,quantidade_comprada)","v":0}]
[null,null,null,null,null,{"$f":"SUMIF(Codigo_Produto,Estoque!A5536,[0]!quantidade_adquirida)-SUMIF([0]!cod_saida,Estoque!A5536,quantidade_comprada)","v":0}]
[null,null,null,null,null,{"$f":"SUMIF(Codigo_Produto,Estoque!A5539,[0]!quantidade_adquirida)-SUMIF([0]!cod_saida,Estoque!A5539,quantidade_comprada)","v":0}]
[null,null,null,null,null,{"$f":"SUMIF(Codigo_Produto,Estoque!A5559,[0]!quantidade_adquirida)-SUMIF([0]!cod_saida,Estoque!A5559,quantidade_comprada)","v":0}]
[null,null,null,null,null,{"$f":"SUMIF(Codigo_Produto,Estoque!A5566,[0]!quantidade_adquirida)-SUMIF([0]!cod_saida,Estoque!A5566,quantidade_comprada)","v":0}]
[null,null,null,null,null,{"$f":"SUMIF(Codigo_Produto,Estoque!A5582,[0]!quantidade_adquirida)-SUMIF([0]!cod_saida,Estoque!A5582,quantidade_comprada)","v":0}]
[null,null,null,null,null,{"$f":"SUMIF(Codigo_Produto,Estoque!A5598,[0]!quantidade_adquirida)-SUMIF([0]!cod_saida,Estoque!A5598,quantidade_comprada)","v":0}]
[null,null,null,null,null,{"$f":"SUMIF(Codigo_Produto,Estoque!A5608,[0]!quantidade_adquirida)-SUMIF([0]!cod_saida,Estoque!A5608,quantidade_comprada)","v":0}]
[null,null,null,null,null,{"$f":"SUMIF(Codigo_Produto,Estoque!A5624,[0]!quantidade_adquirida)-SUMIF([0]!cod_saida,Estoque!A5624,quantidade_comprada)","v":0}]
[null,null,null,null,null,{"$f":"SUMIF(Codigo_Produto,Estoque!A5631,[0]!quantidade_adquirida)-SUMIF([0]!cod_saida,Estoque!A5631,quantidade_comprada)","v":0}]
[null,null,null,null,null,{"$f":"SUMIF(Codigo_Produto,Estoque!A5647,[0]!quantidade_adquirida)-SUMIF([0]!cod_saida,Estoque!A5647,quantidade_comprada)","v":0}]
[null,null,null,null,null,{"$f":"SUMIF(Codigo_Produto,Estoque!A5654,[0]!quantidade_adquirida)-SUMIF([0]!cod_saida,Estoque!A5654,quantidade_comprada)","v":0}]
[null,null,null,null,null,{"$f":"SUMIF(Codigo_Produto,Estoque!A5674,[0]!quantidade_adquirida)-SUMIF([0]!cod_saida,Estoque!A5674,quantidade_comprada)","v":0}]
[null,null,null,null,null,{"$f":"SUMIF(Codigo_Produto,Estoque!A5691,[0]!quantidade_adquirida)-SUMIF([0]!cod_saida,Estoque!A5691,quantidade_comprada)","v":0}]
[null,null,null,null,null,{"$f":"SUMIF(Codigo_Produto,Estoque!A5696,[0]!quantidade_adquirida)-SUMIF([0]!cod_saida,Estoque!A5696,quantidade_comprada)","v":0}]
[null,null,null,null,null,{"$f":"SUMIF(Codigo_Produto,Estoque!A5712,[0]!quantidade_adquirida)-SUMIF([0]!cod_saida,Estoque!A5712,quantidade_comprada)","v":0}]
[null,null,null,null,null,{"$f":"SUMIF(Codigo_Produto,Estoque!A5719,[0]!quantidade_adquirida)-SUMIF([0]!cod_saida,Estoque!A5719,quantidade_comprada)","v":0}]
[null,null,null,null,null,{"$f":"SUMIF(Codigo_Produto,Estoque!A5739,[0]!quantidade_adquirida)-SUMIF([0]!cod_saida,Estoque!A5739,quantidade_comprada)","v":0}]
[null,null,null,null,null,{"$f":"SUMIF(Codigo_Produto,Estoque!A5755,[0]!quantidade_adquirida)-SUMIF([0]!cod_saida,Estoque!A5755,quantidade_comprada)","v":0}]
[null,null,null,null,null,{"$f":"SUMIF(Codigo_Produto,Estoque!A5762,[0]!quantidade_adquirida)-SUMIF([0]!cod_saida,Estoque!A5762,quantidade_comprada)","v":0}]
[null,null,null,null,null,{"$f":"SUMIF(Codigo_Produto,Estoque!A5782,[0]!quantidade_adquirida)-SUMIF([0]!cod_saida,Estoque!A5782,quantidade_comprada)","v":0}]
[null,null,null,null,null,{"$f":"SUMIF(Codigo_Produto,Estoque!A5794,[0]!quantidade_adquirida)-SUMIF([0]!cod_saida,Estoque!A5794,quantidade_comprada)","v":0}]
[null,null,null,null,null,{"$f":"SUMIF(Codigo_Produto,Estoque!A5804,[0]!quantidade_adquirida)-SUMIF([0]!cod_saida,Estoque!A5804,quantidade_comprada)","v":0}]
[null,null,null,null,null,{"$f":"SUMIF(Codigo_Produto,Estoque!A5820,[0]!quantidade_adquirida)-SUMIF([0]!cod_saida,Estoque!A5820,quantidade_comprada)","v":0}]
[null,null,null,null,null,{"$f":"SUMIF(Codigo_Produto,Estoque!A5827,[0]!quantidade_adquirida)-SUMIF([0]!cod_saida,Estoque!A5827,quantidade_comprada)","v":0}]
[null,null,null,null,null,{"$f":"SUMIF(Codigo_Produto,Estoque!A5834,[0]!quantidade_adquirida)-SUMIF([0]!cod_saida,Estoque!A5834,quantidade_comprada)","v":0}]
[null,null,null,null,null,{"$f":"SUMIF(Codigo_Produto,Estoque!A5850,[0]!quantidade_adquirida)-SUMIF([0]!cod_saida,Estoque!A5850,quantidade_comprada)","v":0}]
[null,null,null,null,null,{"$f":"SUMIF(Codigo_Produto,Estoque!A5870,[0]!quantidade_adquirida)-SUMIF([0]!cod_saida,Estoque!A5870,quantidade_comprada)","v":0}]
[null,null,null,null,null,{"$f":"SUMIF(Codigo_Produto,Estoque!A5883,[0]!quantidade_adquirida)-SUMIF([0]!cod_saida,Estoque!A5883,quantidade_comprada)","v":0}]
[null,null,null,null,null,{"$f":"SUMIF(Codigo_Produto,Estoque!A5892,[0]!quantidade_adquirida)-SUMIF([0]!cod_saida,Estoque!A5892,quantidade_comprada)","v":0}]
[null,null,null,null,null,{"$f":"SUMIF(Codigo_Produto,Estoque!A5899,[0]!quantidade_adquirida)-SUMIF([0]!cod_saida,Estoque!A5899,quantidade_comprada)","v":0}]
[null,null,null,null,null,{"$f":"SUMIF(Codigo_Produto,Estoque!A5915,[0]!quantidade_adquirida)-SUMIF([0]!cod_saida,Estoque!A5915,quantidade_comprada)","v":0}]
[null,null,null,null,null,{"$f":"SUMIF(Codigo_Produto,Estoque!A5935,[0]!quantidade_adquirida)-SUMIF([0]!cod_saida,Estoque!A5935,quantidade_comprada)","v":0}]
[null,null,null,null,null,{"$f":"SUMIF(Codigo_Produto,Estoque!A5942,[0]!quantidade_adquirida)-SUMIF([0]!cod_saida,Estoque!A5942,quantidade_comprada)","v":0}]
[null,null,null,null,null,{"$f":"SUMIF(Codigo_Produto,Estoque!A5958,[0]!quantidade_adquirida)-SUMIF([0]!cod_saida,Estoque!A5958,quantidade_comprada)","v":0}]
[null,null,null,null,null,{"$f":"SUMIF(Codigo_Produto,Estoque!A5964,[0]!quantidade_adquirida)-SUMIF([0]!cod_saida,Estoque!A5964,quantidade_comprada)","v":0}]
[null,null,null,null,null,{"$f":"SUMIF(Codigo_Produto,Estoque!A5980,[0]!quantidade_adquirida)-SUMIF([0]!cod_saida,Estoque!A5980,quantidade_comprada)","v":0}]
[null,null,null,null,null,{"$f":"SUMIF(Codigo_Produto,Estoque!A6000,[0]!quantidade_adquirida)-SUMIF([0]!cod_saida,Estoque!A6000,quantidade_comprada)","v":0}]
[null,null,null,null,null,{"$f":"SUMIF(Codigo_Produto,Estoque!A6007,[0]!quantidade_adquirida)-SUMIF([0]!cod_saida,Estoque!A6007,quantidade_comprada)","v":0}]
[null,null,null,null,null,{"$f":"SUMIF(Codigo_Produto,Estoque!A6023,[0]!quantidade_adquirida)-SUMIF([0]!cod_saida,Estoque!A6023,quantidade_comprada)","v":0}]
[null,null,null,null,null,{"$f":"SUMIF(Codigo_Produto,Estoque!A6030,[0]!quantidade_adquirida)-SUMIF([0]!cod_saida,Estoque!A6030,quantidade_comprada)","v":0}]
[null,null,null,null,null,{"$f":"SUMIF(Codigo_Produto,Estoque!A6050,[0]!quantidade_adquirida)-SUMIF([0]!cod_saida,Estoque!A6050,quantidade_comprada)","v":0}]
[null,null,null,null,null,{"$f":"SUMIF(Codigo_Produto,Estoque!A6053,[0]!quantidade_adquirida)-SUMIF([0]!cod_saida,Estoque!A6053,quantidade_comprada)","v":0}]
[null,null,null,null,null,{"$f":"SUMIF(Codigo_Produto,Estoque!A6067,[0]!quantidade_adquirida)-SUMIF([0]!cod_saida,Estoque!A6067,quantidade_comprada)","v":0}]
[null,null,null,null,null,{"$f":"SUMIF(Codigo_Produto,Estoque!A6088,[0]!quantidade_adquirida)-SUMIF([0]!cod_saida,Estoque!A6088,quantidade_comprada)","v":0}]
[null,null,null,null,null,{"$f":"SUMIF(Codigo_Produto,Estoque!A6095,[0]!quantidade_adquirida)-SUMIF([0]!cod_saida,Estoque!A6095,quantidade_comprada)","v":0}]
[null,null,null,null,null,{"$f":"SUMIF(Codigo_Produto,Estoque!A6115,[0]!quantidade_adquirida)-SUMIF([0]!cod_saida,Estoque!A6115,quantidade_comprada)","v":0}]
[null,null,null,null,null,{"$f":"SUMIF(Codigo_Produto,Estoque!A6118,[0]!quantidade_adquirida)-SUMIF([0]!cod_saida,Estoque!A6118,quantidade_comprada)","v":0}]
[null,null,null,null,null,{"$f":"SUMIF(Codigo_Produto,Estoque!A6138,[0]!quantidade_adquirida)-SUMIF([0]!cod_saida,Estoque!A6138,quantidade_comprada)","v":0}]
[null,null,null,null,null,{"$f":"SUMIF(Codigo_Produto,Estoque!A6145,[0]!quantidade_adquirida)-SUMIF([0]!cod_saida,Estoque!A6145,quantidade_comprada)","v":0}]
[null,null,null,null,null,{"$f":"SUMIF(Codigo_Produto,Estoque!A6160,[0]!quantidade_adquirida)-SUMIF([0]!cod_saida,Estoque!A6160,quantidade_comprada)","v":0}]
[null,null,null,null,null,{"$f":"SUMIF(Codigo_Produto,Estoque!A6180,[0]!quantidade_adquirida)-SUMIF([0]!cod_saida,Estoque!A6180,quantidade_comprada)","v":0}]
[null,null,null,null,null,{"$f":"SUMIF(Codigo_Produto,Estoque!A6183,[0]!quantidade_adquirida)-SUMIF([0]!cod_saida,Estoque!A6183,quantidade_comprada)","v":0}]
[null,null,null,null,null,{"$f":"SUMIF(Codigo_Produto,Estoque!A6203,[0]!quantidade_adquirida)-SUMIF([0]!cod_saida,Estoque!A6203,quantidade_comprada)","v":0}]
[null,null,null,null,null,{"$f":"SUMIF(Codigo_Produto,Estoque!A6210,[0]!quantidade_adquirida)-SUMIF([0]!cod_saida,Estoque!A6210,quantidade_comprada)","v":0}]
[null,null,null,null,null,{"$f":"SUMIF(Codigo_Produto,Estoque!A6226,[0]!quantidade_adquirida)-SUMIF([0]!cod_saida,Estoque!A6226,quantidade_comprada)","v":0}]
[null,null,null,null,null,{"$f":"SUMIF(Codigo_Produto,Estoque!A6233,[0]!quantidade_adquirida)-SUMIF([0]!cod_saida,Estoque!A6233,quantidade_comprada)","v":0}]
[null,null,null,null,null,{"$f":"SUMIF(Codigo_Produto,Estoque!A6253,[0]!quantidade_adquirida)-SUMIF([0]!cod_saida,Estoque!A6253,quantidade_comprada)","v":0}]
[null,null,null,null,null,{"$f":"SUMIF(Codigo_Produto,Estoque!A6268,[0]!quantidade_adquirida)-SUMIF([0]!cod_saida,Estoque!A6268,quantidade_comprada)","v":0}]
[null,null,null,null,null,{"$f":"SUMIF(Codigo_Produto,Estoque!A6275,[0]!quantidade_adquirida)-SUMIF([0]!cod_saida,Estoque!A6275,quantidade_comprada)","v":0}]
[null,null,null,null,null,{"$f":"SUMIF(Codigo_Produto,Estoque!A6291,[0]!quantidade_adquirida)-SUMIF([0]!cod_saida,Estoque!A6291,quantidade_comprada)","v":0}]
[null,null,null,null,null,{"$f":"SUMIF(Codigo_Produto,Estoque!A6298,[0]!quantidade_adquirida)-SUMIF([0]!cod_saida,Estoque!A6298,quantidade_comprada)","v":0}]
[null,null,null,null,null,{"$f":"SUMIF(Codigo_Produto,Estoque!A6318,[0]!quantidade_adquirida)-SUMIF([0]!cod_saida,Estoque!A6318,quantidade_comprada)","v":0}]
[null,null,null,null,null,{"$f":"SUMIF(Codigo_Produto,Estoque!A6334,[0]!quantidade_adquirida)-SUMIF([0]!cod_saida,Estoque!A6334,quantidade_comprada)","v":0}]
[null,null,null,null,null,{"$f":"SUMIF(Codigo_Produto,Estoque!A6341,[0]!quantidade_adquirida)-SUMIF([0]!cod_saida,Estoque!A6341,quantidade_comprada)","v":0}]
[null,null,null,null,null,{"$f":"SUMIF(Codigo_Produto,Estoque!A6356,[0]!quantidade_adquirida)-SUMIF([0]!cod_saida,Estoque!A6356,quantidade_comprada)","v":0}]
[null,null,null,null,null,{"$f":"SUMIF(Codigo_Produto,Estoque!A6363,[0]!quantidade_adquirida)-SUMIF([0]!cod_saida,Estoque!A6363,quantidade_comprada)","v":0}]
[null,null,null,null,null,{"$f":"SUMIF(Codigo_Produto,Estoque!A6383,[0]!quantidade_adquirida)-SUMIF([0]!cod_saida,Estoque!A6383,quantidade_comprada)","v":0}]
[null,null,null,null,null,{"$f":"SUMIF(Codigo_Produto,Estoque!A6399,[0]!quantidade_adquirida)-SUMIF([0]!cod_saida,Estoque!A6399,quantidade_comprada)","v":0}]
[null,null,null,null,null,{"$f":"SUMIF(Codigo_Produto,Estoque!A6406,[0]!quantidade_adquirida)-SUMIF([0]!cod_saida,Estoque!A6406,quantidade_comprada)","v":0}]
[null,null,null,null,null,{"$f":"SUMIF(Codigo_Produto,Estoque!A6422,[0]!quantidade_adquirida)-SUMIF([0]!cod_saida,Estoque!A6422,quantidade_comprada)","v":0}]
[null,null,null,null,null,{"$f":"SUMIF(Codigo_Produto,Estoque!A6429,[0]!quantidade_adquirida)-SUMIF([0]!cod_saida,Estoque!A6429,quantidade_comprada)","v":0}]
[null,null,null,null,null,{"$f":"SUMIF(Codigo_Produto,Estoque!A6445,[0]!quantidade_adquirida)-SUMIF([0]!cod_saida,Estoque!A6445,quantidade_comprada)","v":0}]
[null,null,null,null,null,{"$f":"SUMIF(Codigo_Produto,Estoque!A6451,[0]!quantidade_adquirida)-SUMIF([0]!cod_saida,Estoque!A6451,quantidade_comprada)","v":0}]
[null,null,null,null,null,{"$f":"SUMIF(Codigo_Produto,Estoque!A6471,[0]!quantidade_adquirida)-SUMIF([0]!cod_saida,Estoque!A6471,quantidade_comprada)","v":0}]
[null,null,null,null,null,{"$f":"SUMIF(Codigo_Produto,Estoque!A6478,[0]!quantidade_adquirida)-SUMIF([0]!cod_saida,Estoque!A6478,quantidade_comprada)","v":0}]
[null,null,null,null,null,{"$f":"SUMIF(Codigo_Produto,Estoque!A6494,[0]!quantidade_adquirida)-SUMIF([0]!cod_saida,Estoque!A6494,quantidade_comprada)","v":0}]
[null,null,null,null,null,{"$f":"SUMIF(Codigo_Produto,Estoque!A6514,[0]!quantidade_adquirida)-SUMIF([0]!cod_saida,Estoque!A6514,quantidade_comprada)","v":0}]
[null,null,null,null,null,{"$f":"SUMIF(Codigo_Produto,Estoque!A6517,[0]!quantidade_adquirida)-SUMIF([0]!cod_saida,Estoque!A6517,quantidade_comprada)","v":0}]
[null,null,null,null,null,{"$f":"SUMIF(Codigo_Produto,Estoque!A6538,[0]!quantidade_adquirida)-SUMIF([0]!cod_saida,Estoque!A6538,quantidade_comprada)","v":0}]
[null,null,null,null,null,{"$f":"SUMIF(Codigo_Produto,Estoque!A6543,[0]!quantidade_adquirida)-SUMIF([0]!cod_saida,Estoque!A6543,quantidade_comprada)","v":0}]
[null,null,null,null,null,{"$f":"SUMIF(Codigo_Produto,Estoque!A6559,[0]!quantidade_adquirida)-SUMIF([0]!cod_saida,Estoque!A6559,quantidade_comprada)","v":0}]
[null,null,null,null,null,{"$f":"SUMIF(Codigo_Produto,Estoque!A6579,[0]!quantidade_adquirida)-SUMIF([0]!cod_saida,Estoque!A6579,quantidade_comprada)","v":0}]
[null,null,null,null,null,{"$f":"SUMIF(Codigo_Produto,Estoque!A6586,[0]!quantidade_adquirida)-SUMIF([0]!cod_saida,Estoque!A6586,quantidade_comprada)","v":0}]
[null,null,null,null,null,{"$f":"SUMIF(Codigo_Produto,Estoque!A6602,[0]!quantidade_adquirida)-SUMIF([0]!cod_saida,Estoque!A6602,quantidade_comprada)","v":0}]
[null,null,null,null,null,{"$f":"SUMIF(Codigo_Produto,Estoque!A6609,[0]!quantidade_adquirida)-SUMIF([0]!cod_saida,Estoque!A6609,quantidade_comprada)","v":0}]
[null,null,null,null,null,{"$f":"SUMIF(Codigo_Produto,Estoque!A6625,[0]!quantidade_adquirida)-SUMIF([0]!cod_saida,Estoque!A6625,quantidade_comprada)","v":0}]
[null,null,null,null,null,{"$f":"SUMIF(Codigo_Produto,Estoque!A6641,[0]!quantidade_adquirida)-SUMIF([0]!cod_saida,Estoque!A6641,quantidade_comprada)","v":0}]
[null,null,null,null,null,{"$f":"SUMIF(Codigo_Produto,Estoque!A6651,[0]!quantidade_adquirida)-SUMIF([0]!cod_saida,Estoque!A6651,quantidade_comprada)","v":0}]
[null,null,null,null,null,{"$f":"SUMIF(Codigo_Produto,Estoque!A6667,[0]!quantidade_adquirida)-SUMIF([0]!cod_saida,Estoque!A6667,quantidade_comprada)","v":0}]
[null,null,null,null,null,{"$f":"SUMIF(Codigo_Produto,Estoque!A6674,[0]!quantidade_adquirida)-SUMIF([0]!cod_saida,Estoque!A6674,quantidade_comprada)","v":0}]
[null,null,null,null,null,{"$f":"SUMIF(Codigo_Produto,Estoque!A6690,[0]!quantidade_adquirida)-SUMIF([0]!cod_saida,Estoque!A6690,quantidade_comprada)","v":0}]
[null,null,null,null,null,{"$f":"SUMIF(Codigo_Produto,Estoque!A6697,[0]!quantidade_adquirida)-SUMIF([0]!cod_saida,Estoque!A6697,quantidade_comprada)","v":0}]
[null,null,null,null,null,{"$f":"SUMIF(Codigo_Produto,Estoque!A6717,[0]!quantidade_adquirida)-SUMIF([0]!cod_saida,Estoque!A6717,quantidade_comprada)","v":0}]
[null,null,null,null,null,{"$f":"SUMIF(Codigo_Produto,Estoque!A6722,[0]!quantidade_adquirida)-SUMIF([0]!cod_saida,Estoque!A6722,quantidade_comprada)","v":0}]
[null,null,null,null,null,{"$f":"SUMIF(Codigo_Produto,Estoque!A6739,[0]!quantidade_adquirida)-SUMIF([0]!cod_saida,Estoque!A6739,quantidade_comprada)","v":0}]
[null,null,null,null,null,{"$f":"SUMIF(Codigo_Produto,Estoque!A6759,[0]!quantidade_adquirida)-SUMIF([0]!cod_saida,Estoque!A6759,quantidade_comprada)","v":0}]
[null,null,null,null,null,{"$f":"SUMIF(Codigo_Produto,Estoque!A6762,[0]!quantidade_adquirida)-SUMIF([0]!cod_saida,Estoque!A6762,quantidade_comprada)","v":0}]
[null,null,null,null,null,{"$f":"SUMIF(Codigo_Produto,Estoque!A6782,[0]!quantidade_adquirida)-SUMIF([0]!cod_saida,Estoque!A6782,quantidade_comprada)","v":0}]
[null,null,null,null,null,{"$f":"SUMIF(Codigo_Produto,Estoque!A6798,[0]!quantidade_adquirida)-SUMIF([0]!cod_saida,Estoque!A6798,quantidade_comprada)","v":0}]
[null,null,null,null,null,{"$f":"SUMIF(Codigo_Produto,Estoque!A6805,[0]!quantidade_adquirida)-SUMIF([0]!cod_saida,Estoque!A6805,quantidade_comprada)","v":0}]
[null,null,null,null,null,{"$f":"SUMIF(Codigo_Produto,Estoque!A6812,[0]!quantidade_adquirida)-SUMIF([0]!cod_saida,Estoque!A6812,quantidade_comprada)","v":0}]
[null,null,null,null,null,{"$f":"SUMIF(Codigo_Produto,Estoque!A6825,[0]!quantidade_adquirida)-SUMIF([0]!cod_saida,Estoque!A6825,quantidade_comprada)","v":0}]
[null,null,null,null,null,{"$f":"SUMIF(Codigo_Produto,Estoque!A6847,[0]!quantidade_adquirida)-SUMIF([0]!cod_saida,Estoque!A6847,quantidade_comprada)","v":0}]
[null,null,null,null,null,{"$f":"SUMIF(Codigo_Produto,Estoque!A6850,[0]!quantidade_adquirida)-SUMIF([0]!cod_saida,Estoque!A6850,quantidade_comprada)","v":0}]
[null,null,null,null,null,{"$f":"SUMIF(Codigo_Produto,Estoque!A6870,[0]!quantidade_adquirida)-SUMIF([0]!cod_saida,Estoque!A6870,quantidade_comprada)","v":0}]
[null,null,null,null,null,{"$f":"SUMIF(Codigo_Produto,Estoque!A6877,[0]!quantidade_adquirida)-SUMIF([0]!cod_saida,Estoque!A6877,quantidade_comprada)","v":0}]
[null,null,null,null,null,{"$f":"SUMIF(Codigo_Produto,Estoque!A6893,[0]!quantidade_adquirida)-SUMIF([0]!cod_saida,Estoque!A6893,quantidade_comprada)","v":0}]
[null,null,null,null,null,{"$f":"SUMIF(Codigo_Produto,Estoque!A6913,[0]!quantidade_adquirida)-SUMIF([0]!cod_saida,Estoque!A6913,quantidade_comprada)","v":0}]
[null,null,null,null,null,{"$f":"SUMIF(Codigo_Produto,Estoque!A6926,[0]!quantidade_adquirida)-SUMIF([0]!cod_saida,Estoque!A6926,quantidade_comprada)","v":0}]
[null,null,null,null,null,{"$f":"SUMIF(Codigo_Produto,Estoque!A6935,[0]!quantidade_adquirida)-SUMIF([0]!cod_saida,Estoque!A6935,quantidade_comprada)","v":0}]
[null,null,null,null,null,{"$f":"SUMIF(Codigo_Produto,Estoque!A6942,[0]!quantidade_adquirida)-SUMIF([0]!cod_saida,Estoque!A6942,quantidade_comprada)","v":0}]
[null,null,null,null,null,{"$f":"SUMIF(Codigo_Produto,Estoque!A6958,[0]!quantidade_adquirida)-SUMIF([0]!cod_saida,Estoque!A6958,quantidade_comprada)","v":0}]
[null,null,null,null,null,{"$f":"SUMIF(Codigo_Produto,Estoque!A6978,[0]!quantidade_adquirida)-SUMIF([0]!cod_saida,Estoque!A6978,quantidade_comprada)","v":0}]
[null,null,null,null,null,{"$f":"SUMIF(Codigo_Produto,Estoque!A6985,[0]!quantidade_adquirida)-SUMIF([0]!cod_saida,Estoque!A6985,quantidade_comprada)","v":0}]
[null,null,null,null,null,{"$f":"SUMIF(Codigo_Produto,Estoque!A7001,[0]!quantidade_adquirida)-SUMIF([0]!cod_saida,Estoque!A7001,quantidade_comprada)","v":0}]
[null,null,null,null,null,{"$f":"SUMIF(Codigo_Produto,Estoque!A7007,[0]!quantidade_adquirida)-SUMIF([0]!cod_saida,Estoque!A7007,quantidade_comprada)","v":0}]
[null,null,null,null,null,{"$f":"SUMIF(Codigo_Produto,Estoque!A7027,[0]!quantidade_adquirida)-SUMIF([0]!cod_saida,Estoque!A7027,quantidade_comprada)","v":0}]
[null,null,null,null,null,{"$f":"SUMIF(Codigo_Produto,Estoque!A7030,[0]!quantidade_adquirida)-SUMIF([0]!cod_saida,Estoque!A7030,quantidade_comprada)","v":0}]
[null,null,null,null,null,{"$f":"SUMIF(Codigo_Produto,Estoque!A7050,[0]!quantidade_adquirida)-SUMIF([0]!cod_saida,Estoque!A7050,quantidade_comprada)","v":0}]
[null,null,null,null,null,{"$f":"SUMIF(Codigo_Produto,Estoque!A7066,[0]!quantidade_adquirida)-SUMIF([0]!cod_saida,Estoque!A7066,quantidade_comprada)","v":0}]
[null,null,null,null,null,{"$f":"SUMIF(Codigo_Produto,Estoque!A7073,[0]!quantidade_adquirida)-SUMIF([0]!cod_saida,Estoque!A7073,quantidade_comprada)","v":0}]
[null,null,null,null,null,{"$f":"SUMIF(Codigo_Produto,Estoque!A7093,[0]!quantidade_adquirida)-SUMIF([0]!cod_saida,Estoque!A7093,quantidade_comprada)","v":0}]
[null,null,null,null,null,{"$f":"SUMIF(Codigo_Produto,Estoque!A7096,[0]!quantidade_adquirida)-SUMIF([0]!cod_saida,Estoque!A7096,quantidade_comprada)","v":0}]
[null,null,null,null,null,{"$f":"SUMIF(Codigo_Produto,Estoque!A7110,[0]!quantidade_adquirida)-SUMIF([0]!cod_saida,Estoque!A7110,quantidade_comprada)","v":0}]
[null,null,null,null,null,{"$f":"SUMIF(Codigo_Produto,Estoque!A7131,[0]!quantidade_adquirida)-SUMIF([0]!cod_saida,Estoque!A7131,quantidade_comprada)","v":0}]
[null,null,null,null,null,{"$f":"SUMIF(Codigo_Produto,Estoque!A7138,[0]!quantidade_adquirida)-SUMIF([0]!cod_saida,Estoque!A7138,quantidade_comprada)","v":0}]
[null,null,null,null,null,{"$f":"SUMIF(Codigo_Produto,Estoque!A7158,[0]!quantidade_adquirida)-SUMIF([0]!cod_saida,Estoque!A7158,quantidade_comprada)","v":0}]
[null,null,null,null,null,{"$f":"SUMIF(Codigo_Produto,Estoque!A7161,[0]!quantidade_adquirida)-SUMIF([0]!cod_saida,Estoque!A7161,quantidade_comprada)","v":0}]
[null,null,null,null,null,{"$f":"SUMIF(Codigo_Produto,Estoque!A7181,[0]!quantidade_adquirida)-SUMIF([0]!cod_saida,Estoque!A7181,quantidade_comprada)","v":0}]
[null,null,null,null,null,{"$f":"SUMIF(Codigo_Produto,Estoque!A7188,[0]!quantidade_adquirida)-SUMIF([0]!cod_saida,Estoque!A7188,quantidade_comprada)","v":0}]
[null,null,null,null,null,{"$f":"SUMIF(Codigo_Produto,Estoque!A7203,[0]!quantidade_adquirida)-SUMIF([0]!cod_saida,Estoque!A7203,quantidade_comprada)","v":0}]
[null,null,null,null,null,{"$f":"SUMIF(Codigo_Produto,Estoque!A7210,[0]!quantidade_adquirida)-SUMIF([0]!cod_saida,Estoque!A7210,quantidade_comprada)","v":0}]
[null,null,null,null,null,{"$f":"SUMIF(Codigo_Produto,Estoque!A7226,[0]!quantidade_adquirida)-SUMIF([0]!cod_saida,Estoque!A7226,quantidade_comprada)","v":0}]
[null,null,null,null,null,{"$f":"SUMIF(Codigo_Produto,Estoque!A7246,[0]!quantidade_adquirida)-SUMIF([0]!cod_saida,Estoque!A7246,quantidade_comprada)","v":0}]
[null,null,null,null,null,{"$f":"SUMIF(Codigo_Produto,Estoque!A7253,[0]!quantidade_adquirida)-SUMIF([0]!cod_saida,Estoque!A7253,quantidade_comprada)","v":0}]
[null,null,null,null,null,{"$f":"SUMIF(Codigo_Produto,Estoque!A7269,[0]!quantidade_adquirida)-SUMIF([0]!cod_saida,Estoque!A7269,quantidade_comprada)","v":0}]
[null,null,null,null,null,{"$f":"SUMIF(Codigo_Produto,Estoque!A7276,[0]!quantidade_adquirida)-SUMIF([0]!cod_saida,Estoque!A7276,quantidade_comprada)","v":0}]
[null,null,null,null,null,{"$f":"SUMIF(Codigo_Produto,Estoque!A7292,[0]!quantidade_adquirida)-SUMIF([0]!cod_saida,Estoque!A7292,quantidade_comprada)","v":0}]
[null,null,null,null,null,{"$f":"SUMIF(Codigo_Produto,Estoque!A7311,[0]!quantidade_adquirida)-SUMIF([0]!cod_saida,Estoque!A7311,quantidade_comprada)","v":0}]
[null,null,null,null,null,{"$f":"SUMIF(Codigo_Produto,Estoque!A7318,[0]!quantidade_adquirida)-SUMIF([0]!cod_saida,Estoque!A7318,quantidade_comprada)","v":0}]
[null,null,null,null,null,{"$f":"SUMIF(Codigo_Produto,Estoque!A7334,[0]!quantidade_adquirida)-SUMIF([0]!cod_saida,Estoque!A7334,quantidade_comprada)","v":0}]
[null,null,null,null,null,{"$f":"SUMIF(Codigo_Produto,Estoque!A7341,[0]!quantidade_adquirida)-SUMIF([0]!cod_saida,Estoque!A7341,quantidade_comprada)","v":0}]
[null,null,null,null,null,{"$f":"SUMIF(Codigo_Produto,Estoque!A7361,[0]!quantidade_adquirida)-SUMIF([0]!cod_saida,Estoque!A7361,quantidade_comprada)","v":0}]
[null,null,null,null,null,{"$f":"SUMIF(Codigo_Produto,Estoque!A7377,[0]!quantidade_adquirida)-SUMIF([0]!cod_saida,Estoque!A7377,quantidade_comprada)","v":0}]
[null,null,null,null,null,{"$f":"SUMIF(Codigo_Produto,Estoque!A7384,[0]!quantidade_adquirida)-SUMIF([0]!cod_saida,Estoque!A7384,quantidade_comprada)","v":0}]
[null,null,null,null,null,{"$f":"SUMIF(Codigo_Produto,Estoque!A7399,[0]!quantidade_adquirida)-SUMIF([0]!cod_saida,Estoque!A7399,quantidade_comprada)","v":0}]
[null,null,null,null,null,{"$f":"SUMIF(Codigo_Produto,Estoque!A7406,[0]!quantidade_adquirida)-SUMIF([0]!cod_saida,Estoque!A7406,quantidade_comprada)","v":0}]
[null,null,null,null,null,{"$f":"SUMIF(Codigo_Produto,Estoque!A7426,[0]!quantidade_adquirida)-SUMIF([0]!cod_saida,Estoque!A7426,quantidade_comprada)","v":0}]
[null,null,null,null,null,{"$f":"SUMIF(Codigo_Produto,Estoque!A7429,[0]!quantidade_adquirida)-SUMIF([0]!cod_saida,Estoque!A7429,quantidade_comprada)","v":0}]
[null,null,null,null,null,{"$f":"SUMIF(Codigo_Produto,Estoque!A7449,[0]!quantidade_adquirida)-SUMIF([0]!cod_saida,Estoque!A7449,quantidade_comprada)","v":0}]
[null,null,null,null,null,{"$f":"SUMIF(Codigo_Produto,Estoque!A7456,[0]!quantidade_adquirida)-SUMIF([0]!cod_saida,Estoque!A7456,quantidade_comprada)","v":0}]
[null,null,null,null,null,{"$f":"SUMIF(Codigo_Produto,Estoque!A7472,[0]!quantidade_adquirida)-SUMIF([0]!cod_saida,Estoque!A7472,quantidade_comprada)","v":0}]
[null,null,null,null,null,{"$f":"SUMIF(Codigo_Produto,Estoque!A7488,[0]!quantidade_adquirida)-SUMIF([0]!cod_saida,Estoque!A7488,quantidade_comprada)","v":0}]
[null,null,null,null,null,{"$f":"SUMIF(Codigo_Produto,Estoque!A7494,[0]!quantidade_adquirida)-SUMIF([0]!cod_saida,Estoque!A7494,quantidade_comprada)","v":0}]
[null,null,null,null,null,{"$f":"SUMIF(Codigo_Produto,Estoque!A7514,[0]!quantidade_adquirida)-SUMIF([0]!cod_saida,Estoque!A7514,quantidade_comprada)","v":0}]
[null,null,null,null,null,{"$f":"SUMIF(Codigo_Produto,Estoque!A7521,[0]!quantidade_adquirida)-SUMIF([0]!cod_saida,Estoque!A7521,quantidade_comprada)","v":0}]
[null,null,null,null,null,{"$f":"SUMIF(Codigo_Produto,Estoque!A7537,[0]!quantidade_adquirida)-SUMIF([0]!cod_saida,Estoque!A7537,quantidade_comprada)","v":0}]
[null,null,null,null,null,{"$f":"SUMIF(Codigo_Produto,Estoque!A7557,[0]!quantidade_adquirida)-SUMIF([0]!cod_saida,Estoque!A7557,quantidade_comprada)","v":0}]
[null,null,null,null,null,{"$f":"SUMIF(Codigo_Produto,Estoque!A7560,[0]!quantidade_adquirida)-SUMIF([0]!cod_saida,Estoque!A7560,quantidade_comprada)","v":0}]
[null,null,null,null,null,{"$f":"SUMIF(Codigo_Produto,Estoque!A7581,[0]!quantidade_adquirida)-SUMIF([0]!cod_saida,Estoque!A7581,quantidade_comprada)","v":0}]
[null,null,null,null,null,{"$f":"SUMIF(Codigo_Produto,Estoque!A7586,[0]!quantidade_adquirida)-SUMIF([0]!cod_saida,Estoque!A7586,quantidade_comprada)","v":0}]
[null,null,null,null,null,{"$f":"SUMIF(Codigo_Produto,Estoque!A7602,[0]!quantidade_adquirida)-SUMIF([0]!cod_saida,Estoque!A7602,quantidade_comprada)","v":0}]
[null,null,null,null,null,{"$f":"SUMIF(Codigo_Produto,Estoque!A7609,[0]!quantidade_adquirida)-SUMIF([0]!cod_saida,Estoque!A7609,quantidade_comprada)","v":0}]
[null,null,null,null,null,{"$f":"SUMIF(Codigo_Produto,Estoque!A7629,[0]!quantidade_adquirida)-SUMIF([0]!cod_saida,Estoque!A7629,quantidade_comprada)","v":0}]
[null,null,null,null,null,{"$f":"SUMIF(Codigo_Produto,Estoque!A7645,[0]!quantidade_adquirida)-SUMIF([0]!cod_saida,Estoque!A7645,quantidade_comprada)","v":0}]
[null,null,null,null,null,{"$f":"SUMIF(Codigo_Produto,Estoque!A7652,[0]!quantidade_adquirida)-SUMIF([0]!cod_saida,Estoque!A7652,quantidade_comprada)","v":0}]
[null,null,null,null,null,{"$f":"SUMIF(Codigo_Produto,Estoque!A7668,[0]!quantidade_adquirida)-SUMIF([0]!cod_saida,Estoque!A7668,quantidade_comprada)","v":0}]
[null,null,null,null,null,{"$f":"SUMIF(Codigo_Produto,Estoque!A7684,[0]!quantidade_adquirida)-SUMIF([0]!cod_saida,Estoque!A7684,quantidade_comprada)","v":0}]
[null,null,null,null,null,{"$f":"SUMIF(Codigo_Produto,Estoque!A7694,[0]!quantidade_adquirida)-SUMIF([0]!cod_saida,Estoque!A7694,quantidade_comprada)","v":0}]
[null,null,null,null,null,{"$f":"SUMIF(Codigo_Produto,Estoque!A7710,[0]!quantidade_adquirida)-SUMIF([0]!cod_saida,Estoque!A7710,quantidade_comprada)","v":0}]
[null,null,null,null,null,{"$f":"SUMIF(Codigo_Produto,Estoque!A7717,[0]!quantidade_adquirida)-SUMIF([0]!cod_saida,Estoque!A7717,quantidade_comprada)","v":0}]
[null,null,null,null,null,{"$f":"SUMIF(Codigo_Produto,Estoque!A7737,[0]!quantidade_adquirida)-SUMIF([0]!cod_saida,Estoque!A7737,quantidade_comprada)","v":0}]
[null,null,null,null,null,{"$f":"SUMIF(Codigo_Produto,Estoque!A7740,[0]!quantidade_adquirida)-SUMIF([0]!cod_saida,Estoque!A7740,quantidade_comprada)","v":0}]
[null,null,null,null,null,{"$f":"SUMIF(Codigo_Produto,Estoque!A7760,[0]!quantidade_adquirida)-SUMIF([0]!cod_saida,Estoque!A7760,quantidade_comprada)","v":0}]
[null,null,null,null,null,{"$f":"SUMIF(Codigo_Produto,Estoque!A7765,[0]!quantidade_adquirida)-SUMIF([0]!cod_saida,Estoque!A7765,quantidade_comprada)","v":0}]
[null,null,null,null,null,{"$f":"SUMIF(Codigo_Produto,Estoque!A7782,[0]!quantidade_adquirida)-SUMIF([0]!cod_saida,Estoque!A7782,quantidade_comprada)","v":0}]
[null,null,null,null,null,{"$f":"SUMIF(Codigo_Produto,Estoque!A7789,[0]!quantidade_adquirida)-SUMIF([0]!cod_saida,Estoque!A7789,quantidade_comprada)","v":0}]
[null,null,null,null,null,{"$f":"SUMIF(Codigo_Produto,Estoque!A7805,[0]!quantidade_adquirida)-SUMIF([0]!cod_saida,Estoque!A7805,quantidade_comprada)","v":0}]
[null,null,null,null,null,{"$f":"SUMIF(Codigo_Produto,Estoque!A7825,[0]!quantidade_adquirida)-SUMIF([0]!cod_saida,Estoque!A7825,quantidade_comprada)","v":0}]
[null,null,null,null,null,{"$f":"SUMIF(Codigo_Produto,Estoque!A7828,[0]!quantidade_adquirida)-SUMIF([0]!cod_saida,Estoque!A7828,quantidade_comprada)","v":0}]
[null,null,null,null,null,{"$f":"SUMIF(Codigo_Produto,Estoque!A7848,[0]!quantidade_adquirida)-SUMIF([0]!cod_saida,Estoque!A7848,quantidade_comprada)","v":0}]
[null,null,null,null,null,{"$f":"SUMIF(Codigo_Produto,Estoque!A7854,[0]!quantidade_adquirida)-SUMIF([0]!cod_saida,Estoque!A7854,quantidade_comprada)","v":0}]
[null,null,null,null,null,{"$f":"SUMIF(Codigo_Produto,Estoque!A7870,[0]!quantidade_adquirida)-SUMIF([0]!cod_saida,Estoque!A7870,quantidade_comprada)","v":0}]
[null,null,null,null,null,{"$f":"SUMIF(Codigo_Produto,Estoque!A7890,[0]!quantidade_adquirida)-SUMIF([0]!cod_saida,Estoque!A7890,quantidade_comprada)","v":0}]
[null,null,null,null,null,{"$f":"SUMIF(Codigo_Produto,Estoque!A7897,[0]!quantidade_adquirida)-SUMIF([0]!cod_saida,Estoque!A7897,quantidade_comprada)","v":0}]
[null,null,null,null,null,{"$f":"SUMIF(Codigo_Produto,Estoque!A7913,[0]!quantidade_adquirida)-SUMIF([0]!cod_saida,Estoque!A7913,quantidade_comprada)","v":0}]
[null,null,null,null,null,{"$f":"SUMIF(Codigo_Produto,Estoque!A7920,[0]!quantidade_adquirida)-SUMIF([0]!cod_saida,Estoque!A7920,quantidade_comprada)","v":0}]
[null,null,null,null,null,{"$f":"SUMIF(Codigo_Produto,Estoque!A7936,[0]!quantidade_adquirida)-SUMIF([0]!cod_saida,Estoque!A7936,quantidade_comprada)","v":0}]
[null,null,null,null,null,{"$f":"SUMIF(Codigo_Produto,Estoque!A7956,[0]!quantidade_adquirida)-SUMIF([0]!cod_saida,Estoque!A7956,quantidade_comprada)","v":0}]
[null,null,null,null,null,{"$f":"SUMIF(Codigo_Produto,Estoque!A7957,[0]!quantidade_adquirida)-SUMIF([0]!cod_saida,Estoque!A7957,quantidade_comprada)","v":0}]
[null,null,null,null,null,{"$f":"SUMIF(Codigo_Produto,Estoque!A7978,[0]!quantidade_adquirida)-SUMIF([0]!cod_saida,Estoque!A7978,quantidade_comprada)","v":0}]
[null,null,null,null,null,{"$f":"SUMIF(Codigo_Produto,Estoque!A7985,[0]!quantidade_adquirida)-SUMIF([0]!cod_saida,Estoque!A7985,quantidade_comprada)","v":0}]
[null,null,null,null,null,{"$f":"SUMIF(Codigo_Produto,Estoque!A8005,[0]!quantidade_adquirida)-SUMIF([0]!cod_saida,Estoque!A8005,quantidade_comprada)","v":0}]
[null,null,null,null,null,{"$f":"SUMIF(Codigo_Produto,Estoque!A8008,[0]!quantidade_adquirida)-SUMIF([0]!cod_saida,Estoque!A8008,quantidade_comprada)","v":0}]
[null,null,null,null,null,{"$f":"SUMIF(Codigo_Produto,Estoque!A8028,[0]!quantidade_adquirida)-SUMIF([0]!cod_saida,Estoque!A8028,quantidade_comprada)","v":0}]
[null,null,null,null,null,{"$f":"SUMIF(Codigo_Produto,Estoque!A8044,[0]!quantidade_adquirida)-SUMIF([0]!cod_saida,Estoque!A8044,quantidade_comprada)","v":0}]
[null,null,null,null,null,{"$f":"SUMIF(Codigo_Produto,Estoque!A8050,[0]!quantidade_adquirida)-SUMIF([0]!cod_saida,Estoque!A8050,quantidade_comprada)","v":0}]
[null,null,null,null,null,{"$f":"SUMIF(Codigo_Produto,Estoque!A8070,[0]!quantidade_adquirida)-SUMIF([0]!cod_saida,Estoque!A8070,quantidade_comprada)","v":0}]
[null,null,null,null,null,{"$f":"SUMIF(Codigo_Produto,Estoque!A8073,[0]!quantidade_adquirida)-SUMIF([0]!cod_saida,Estoque!A8073,quantidade_comprada)","v":0}]
[null,null,null,null,null,{"$f":"SUMIF(Codigo_Produto,Estoque!A8093,[0]!quantidade_adquirida)-SUMIF([0]!cod_saida,Estoque!A8093,quantidade_comprada)","v":0}]
[null,null,null,null,null,{"$f":"SUMIF(Codigo_Produto,Estoque!A8109,[0]!quantidade_adquirida)-SUMIF([0]!cod_saida,Estoque!A8109,quantidade_comprada)","v":0}]
[null,null,null,null,null,{"$f":"SUMIF(Codigo_Produto,Estoque!A8116,[0]!quantidade_adquirida)-SUMIF([0]!cod_saida,Estoque!A8116,quantidade_comprada)","v":0}]
[null,null,null,null,null,{"$f":"SUMIF(Codigo_Produto,Estoque!A8136,[0]!quantidade_adquirida)-SUMIF([0]!cod_saida,Estoque!A8136,quantidade_comprada)","v":0}]
[null,null,null,null,null,{"$f":"SUMIF(Codigo_Produto,Estoque!A8143,[0]!quantidade_adquirida)-SUMIF([0]!cod_saida,Estoque!A8143,quantidade_comprada)","v":0}]
[null,null,null,null,null,{"$f":"SUMIF(Codigo_Produto,Estoque!A8158,[0]!quantidade_adquirida)-SUMIF([0]!cod_saida,Estoque!A8158,quantidade_comprada)","v":0}]
[null,null,null,null,null,{"$f":"SUMIF(Codigo_Produto,Estoque!A8165,[0]!quantidade_adquirida)-SUMIF([0]!cod_saida,Estoque!A8165,quantidade_comprada)","v":0}]
[null,null,null,null,null,{"$f":"SUMIF(Codigo_Produto,Estoque!A8181,[0]!quantidade_adquirida)-SUMIF([0]!cod_saida,Estoque!A8181,quantidade_comprada)","v":0}]
[null,null,null,null,null,{"$f":"SUMIF(Codigo_Produto,Estoque!A8188,[0]!quantidade_adquirida)-SUMIF([0]!cod_saida,Estoque!A8188,quantidade_comprada)","v":0}]
[null,null,null,null,null,{"$f":"SUMIF(Codigo_Produto,Estoque!A8204,[0]!quantidade_adquirida)-SUMIF([0]!cod_saida,Estoque!A8204,quantidade_comprada)","v":0}]
[null,null,null,null,null,{"$f":"SUMIF(Codigo_Produto,Estoque!A8224,[0]!quantidade_adquirida)-SUMIF([0]!cod_saida,Estoque!A8224,quantidade_comprada)","v":0}]
[null,null,null,null,null,{"$f":"SUMIF(Codigo_Produto,Estoque!A8231,[0]!quantidade_adquirida)-SUMIF([0]!cod_saida,Estoque!A8231,quantidade_comprada)","v":0}]
[null,null,null,null,null,{"$f":"SUMIF(Codigo_Produto,Estoque!A8246,[0]!quantidade_adquirida)-SUMIF([0]!cod_saida,Estoque!A8246,quantidade_comprada)","v":0}]
[null,null,null,null,null,{"$f":"SUMIF(Codigo_Produto,Estoque!A8253,[0]!quantidade_adquirida)-SUMIF([0]!cod_saida,Estoque!A8253,quantidade_comprada)","v":0}]
[null,null,null,null,null,{"$f":"SUMIF(Codigo_Produto,Estoque!A8269,[0]!quantidade_adquirida)-SUMIF([0]!cod_saida,Estoque!A8269,quantidade_comprada)","v":0}]
[null,null,null,null,null,{"$f":"SUMIF(Codigo_Produto,Estoque!A8289,[0]!quantidade_adquirida)-SUMIF([0]!cod_saida,Estoque!A8289,quantidade_comprada)","v":0}]
[null,null,null,null,null,{"$f":"SUMIF(Codigo_Produto,Estoque!A8296,[0]!quantidade_adquirida)-SUMIF([0]!cod_saida,Estoque!A8296,quantidade_comprada)","v":0}]
[null,null,null,null,null,{"$f":"SUMIF(Codigo_Produto,Estoque!A8312,[0]!quantidade_adquirida)-SUMIF([0]!cod_saida,Estoque!A8312,quantidade_comprada)","v":0}]
[null,null,null,null,null,{"$f":"SUMIF(Codigo_Produto,Estoque!A8319,[0]!quantidade_adquirida)-SUMIF([0]!cod_saida,Estoque!A8319,quantidade_comprada)","v":0}]
[null,null,null,null,null,{"$f":"SUMIF(Codigo_Produto,Estoque!A8335,[0]!quantidade_adquirida)-SUMIF([0]!cod_saida,Estoque!A8335,quantidade_comprada)","v":0}]
[null,null,null,null,null,{"$f":"SUMIF(Codigo_Produto,Estoque!A8354,[0]!quantidade_adquirida)-SUMIF([0]!cod_saida,Estoque!A8354,quantidade_comprada)","v":0}]
[null,null,null,null,null,{"$f":"SUMIF(Codigo_Produto,Estoque!A8361,[0]!quantidade_adquirida)-SUMIF([0]!cod_saida,Estoque!A8361,quantidade_comprada)","v":0}]
[null,null,null,null,null,{"$f":"SUMIF(Codigo_Produto,Estoque!A8377,[0]!quantidade_adquirida)-SUMIF([0]!cod_saida,Estoque!A8377,quantidade_comprada)","v":0}]
[null,null,null,null,null,{"$f":"SUMIF(Codigo_Produto,Estoque!A8384,[0]!quantidade_adquirida)-SUMIF([0]!cod_saida,Estoque!A8384,quantidade_comprada)","v":0}]
[null,null,null,null,null,{"$f":"SUMIF(Codigo_Produto,Estoque!A8404,[0]!quantidade_adquirida)-SUMIF([0]!cod_saida,Estoque!A8404,quantidade_comprada)","v":0}]
[null,null,null,null,null,{"$f":"SUMIF(Codigo_Produto,Estoque!A8407,[0]!quantidade_adquirida)-SUMIF([0]!cod_saida,Estoque!A8407,quantidade_comprada)","v":0}]
[null,null,null,null,null,{"$f":"SUMIF(Codigo_Produto,Estoque!A8427,[0]!quantidade_adquirida)-SUMIF([0]!cod_saida,Estoque!A8427,quantidade_comprada)","v":0}]
[null,null,null,null,null,{"$f":"SUMIF(Codigo_Produto,Estoque!A8438,[0]!quantidade_adquirida)-SUMIF([0]!cod_saida,Estoque!A8438,quantidade_comprada)","v":0}]
[null,null,null,null,null,{"$f":"SUMIF(Codigo_Produto,Estoque!A8449,[0]!quantidade_adquirida)-SUMIF([0]!cod_saida,Estoque!A8449,quantidade_comprada)","v":0}]
[null,null,null,null,null,{"$f":"SUMIF(Codigo_Produto,Estoque!A8469,[0]!quantidade_adquirida)-SUMIF([0]!cod_saida,Estoque!A8469,quantidade_comprada)","v":0}]
[null,null,null,null,null,{"$f":"SUMIF(Codigo_Produto,Estoque!A8472,[0]!quantidade_adquirida)-SUMIF([0]!cod_saida,Estoque!A8472,quantidade_comprada)","v":0}]
[null,null,null,null,null,{"$f":"SUMIF(Codigo_Produto,Estoque!A8492,[0]!quantidade_adquirida)-SUMIF([0]!cod_saida,Estoque!A8492,quantidade_comprada)","v":0}]
[null,null,null,null,null,{"$f":"SUMIF(Codigo_Produto,Estoque!A8499,[0]!quantidade_adquirida)-SUMIF([0]!cod_saida,Estoque!A8499,quantidade_comprada)","v":0}]
[null,null,null,null,null,{"$f":"SUMIF(Codigo_Produto,Estoque!A8515,[0]!quantidade_adquirida)-SUMIF([0]!cod_saida,Estoque!A8515,quantidade_comprada)","v":0}]
[null,null,null,null,null,{"$f":"SUMIF(Codigo_Produto,Estoque!A8531,[0]!quantidade_adquirida)-SUMIF([0]!cod_saida,Estoque!A8531,quantidade_comprada)","v":0}]
[null,null,null,null,null,{"$f":"SUMIF(Codigo_Produto,Estoque!A8537,[0]!quantidade_adquirida)-SUMIF([0]!cod_saida,Estoque!A8537,quantidade_comprada)","v":0}]
[null,null,null,null,null,{"$f":"SUMIF(Codigo_Produto,Estoque!A8557,[0]!quantidade_adquirida)-SUMIF([0]!cod_saida,Estoque!A8557,quantidade_comprada)","v":0}]
[null,null,null,null,null,{"$f":"SUMIF(Codigo_Produto,Estoque!A8564,[0]!quantidade_adquirida)-SUMIF([0]!cod_saida,Estoque!A8564,quantidade_comprada)","v":0}]
[null,null,null,null,null,{"$f":"SUMIF(Codigo_Produto,Estoque!A8580,[0]!quantidade_adquirida)-SUMIF([0]!cod_saida,Estoque!A8580,quantidade_comprada)","v":0}]
[null,null,null,null,null,{"$f":"SUMIF(Codigo_Produto,Estoque!A8587,[0]!quantidade_adquirida)-SUMIF([0]!cod_saida,Estoque!A8587,quantidade_comprada)","v":0}]
[null,null,null,null,null,{"$f":"SUMIF(Codigo_Produto,Estoque!A8607,[0]!quantidade_adquirida)-SUMIF([0]!cod_saida,Estoque!A8607,quantidade_comprada)","v":0}]
[null,null,null,null,null,{"$f":"SUMIF(Codigo_Produto,Estoque!A8624,[0]!quantidade_adquirida)-SUMIF([0]!cod_saida,Estoque!A8624,quantidade_comprada)","v":0}]
[null,null,null,null,null,{"$f":"SUMIF(Codigo_Produto,Estoque!A8629,[0]!quantidade_adquirida)-SUMIF([0]!cod_saida,Estoque!A8629,quantidade_comprada)","v":0}]
[null,null,null,null,null,{"$f":"SUMIF(Codigo_Produto,Estoque!A8645,[0]!quantidade_adquirida)-SUMIF([0]!cod_saida,Estoque!A8645,quantidade_comprada)","v":0}]
[null,null,null,null,null,{"$f":"SUMIF(Codigo_Produto,Estoque!A8652,[0]!quantidade_adquirida)-SUMIF([0]!cod_saida,Estoque!A8652,quantidade_comprada)","v":0}]
[null,null,null,null,null,{"$f":"SUMIF(Codigo_Produto,Estoque!A8672,[0]!quantidade_adquirida)-SUMIF([0]!cod_saida,Estoque!A8672,quantidade_comprada)","v":0}]
[null,null,null,null,null,{"$f":"SUMIF(Codigo_Produto,Estoque!A8688,[0]!quantidade_adquirida)-SUMIF([0]!cod_saida,Estoque!A8688,quantidade_comprada)","v":0}]
[null,null,null,null,null,{"$f":"SUMIF(Codigo_Produto,Estoque!A8695,[0]!quantidade_adquirida)-SUMIF([0]!cod_saida,Estoque!A8695,quantidade_comprada)","v":0}]
[null,null,null,null,null,{"$f":"SUMIF(Codigo_Produto,Estoque!A8711,[0]!quantidade_adquirida)-SUMIF([0]!cod_saida,Estoque!A8711,quantidade_comprada)","v":0}]
[null,null,null,null,null,{"$f":"SUMIF(Codigo_Produto,Estoque!A8727,[0]!quantidade_adquirida)-SUMIF([0]!cod_saida,Estoque!A8727,quantidade_comprada)","v":0}]
[null,null,null,null,null,{"$f":"SUMIF(Codigo_Produto,Estoque!A8737,[0]!quantidade_adquirida)-SUMIF([0]!cod_saida,Estoque!A8737,quantidade_comprada)","v":0}]
[null,null,null,null,null,{"$f":"SUMIF(Codigo_Produto,Estoque!A8753,[0]!quantidade_adquirida)-SUMIF([0]!cod_saida,Estoque!A8753,quantidade_comprada)","v":0}]
[null,null,null,null,null,{"$f":"SUMIF(Codigo_Produto,Estoque!A8760,[0]!quantidade_adquirida)-SUMIF([0]!cod_saida,Estoque!A8760,quantidade_comprada)","v":0}]
[null,null,null,null,null,{"$f":"SUMIF(Codigo_Produto,Estoque!A8767,[0]!quantidade_adquirida)-SUMIF([0]!cod_saida,Estoque!A8767,quantidade_comprada)","v":0}]
[null,null,null,null,null,{"$f":"SUMIF(Codigo_Produto,Estoque!A8783,[0]!quantidade_adquirida)-SUMIF([0]!cod_saida,Estoque!A8783,quantidade_comprada)","v":0}]
[null,null,null,null,null,{"$f":"SUMIF(Codigo_Produto,Estoque!A8803,[0]!quantidade_adquirida)-SUMIF([0]!cod_saida,Estoque!A8803,quantidade_comprada)","v":0}]
[null,null,null,null,null,{"$f":"SUMIF(Codigo_Produto,Estoque!A8808,[0]!quantidade_adquirida)-SUMIF([0]!cod_saida,Estoque!A8808,quantidade_comprada)","v":0}]
[null,null,null,null,null,{"$f":"SUMIF(Codigo_Produto,Estoque!A8825,[0]!quantidade_adquirida)-SUMIF([0]!cod_saida,Estoque!A8825,quantidade_comprada)","v":0}]
[null,null,null,null,null,{"$f":"SUMIF(Codigo_Produto,Estoque!A8832,[0]!quantidade_adquirida)-SUMIF([0]!cod_saida,Estoque!A8832,quantidade_comprada)","v":0}]
[null,null,null,null,null,{"$f":"SUMIF(Codigo_Produto,Estoque!A8848,[0]!quantidade_adquirida)-SUMIF([0]!cod_saida,Estoque!A8848,quantidade_comprada)","v":0}]
[null,null,null,null,null,{"$f":"SUMIF(Codigo_Produto,Estoque!A8868,[0]!quantidade_adquirida)-SUMIF([0]!cod_saida,Estoque!A8868,quantidade_comprada)","v":0}]
[null,null,null,null,null,{"$f":"SUMIF(Codigo_Produto,Estoque!A8875,[0]!quantidade_adquirida)-SUMIF([0]!cod_saida,Estoque!A8875,quantidade_comprada)","v":0}]
[null,null,null,null,null,{"$f":"SUMIF(Codigo_Produto,Estoque!A8891,[0]!quantidade_adquirida)-SUMIF([0]!cod_saida,Estoque!A8891,quantidade_comprada)","v":0}]
[null,null,null,null,null,{"$f":"SUMIF(Codigo_Produto,Estoque!A8897,[0]!quantidade_adquirida)-SUMIF([0]!cod_saida,Estoque!A8897,quantidade_comprada)","v":0}]
[null,null,null,null,null,{"$f":"SUMIF(Codigo_Produto,Estoque!A8913,[0]!quantidade_adquirida)-SUMIF([0]!cod_saida,Estoque!A8913,quantidade_comprada)","v":0}]
[null,null,null,null,null,{"$f":"SUMIF(Codigo_Produto,Estoque!A8933,[0]!quantidade_adquirida)-SUMIF([0]!cod_saida,Estoque!A8933,quantidade_comprada)","v":0}]
[null,null,null,null,null,{"$f":"SUMIF(Codigo_Produto,Estoque!A8940,[0]!quantidade_adquirida)-SUMIF([0]!cod_saida,Estoque!A8940,quantidade_comprada)","v":0}]
[null,null,null,null,null,{"$f":"SUMIF(Codigo_Produto,Estoque!A8956,[0]!quantidade_adquirida)-SUMIF([0]!cod_saida,Estoque!A8956,quantidade_comprada)","v":0}]
[null,null,null,null,null,{"$f":"SUMIF(Codigo_Produto,Estoque!A8963,[0]!quantidade_adquirida)-SUMIF([0]!cod_saida,Estoque!A8963,quantidade_comprada)","v":0}]
[null,null,null,null,null,{"$f":"SUMIF(Codigo_Produto,Estoque!A8979,[0]!quantidade_adquirida)-SUMIF([0]!cod_saida,Estoque!A8979,quantidade_comprada)","v":0}]
[null,null,null,null,null,{"$f":"SUMIF(Codigo_Produto,Estoque!A8986,[0]!quantidade_adquirida)-SUMIF([0]!cod_saida,Estoque!A8986,quantidade_comprada)","v":0}]
[null,null,null,null,null,{"$f":"SUMIF(Codigo_Produto,Estoque!A9000,[0]!quantidade_adquirida)-SUMIF([0]!cod_saida,Estoque!A9000,quantidade_comprada)","v":0}]
[null,null,null,null,null,{"$f":"SUMIF(Codigo_Produto,Estoque!A9021,[0]!quantidade_adquirida)-SUMIF([0]!cod_saida,Estoque!A9021,quantidade_comprada)","v":0}]
[null,null,null,null,null,{"$f":"SUMIF(Codigo_Produto,Estoque!A9028,[0]!quantidade_adquirida)-SUMIF([0]!cod_saida,Estoque!A9028,quantidade_comprada)","v":0}]
[null,null,null,null,null,{"$f":"SUMIF(Codigo_Produto,Estoque!A9048,[0]!quantidade_adquirida)-SUMIF([0]!cod_saida,Estoque!A9048,quantidade_comprada)","v":0}]
[null,null,null,null,null,{"$f":"SUMIF(Codigo_Produto,Estoque!A9051,[0]!quantidade_adquirida)-SUMIF([0]!cod_saida,Estoque!A9051,quantidade_comprada)","v":0}]
[null,null,null,null,null,{"$f":"SUMIF(Codigo_Produto,Estoque!A9071,[0]!quantidade_adquirida)-SUMIF([0]!cod_saida,Estoque!A9071,quantidade_comprada)","v":0}]
[null,null,null,null,null,{"$f":"SUMIF(Codigo_Produto,Estoque!A9087,[0]!quantidade_adquirida)-SUMIF([0]!cod_saida,Estoque!A9087,quantidade_comprada)","v":0}]
[null,null,null,null,null,{"$f":"SUMIF(Codigo_Produto,Estoque!A9093,[0]!quantidade_adquirida)-SUMIF([0]!cod_saida,Estoque!A9093,quantidade_comprada)","v":0}]
[null,null,null,null,null,{"$f":"SUMIF(Codigo_Produto,Estoque!A9113,[0]!quantidade_adquirida)-SUMIF([0]!cod_saida,Estoque!A9113,quantidade_comprada)","v":0}]
[null,null,null,null,null,{"$f":"SUMIF(Codigo_Produto,Estoque!A9116,[0]!quantidade_adquirida)-SUMIF([0]!cod_saida,Estoque!A9116,quantidade_comprada)","v":0}]
[null,null,null,null,null,{"$f":"SUMIF(Codigo_Produto,Estoque!A9136,[0]!quantidade_adquirida)-SUMIF([0]!cod_saida,Estoque!A9136,quantidade_comprada)","v":0}]
[null,null,null,null,null,{"$f":"SUMIF(Codigo_Produto,Estoque!A9143,[0]!quantidade_adquirida)-SUMIF([0]!cod_saida,Estoque!A9143,quantidade_comprada)","v":0}]
[null,null,null,null,null,{"$f":"SUMIF(Codigo_Produto,Estoque!A9159,[0]!quantidade_adquirida)-SUMIF([0]!cod_saida,Estoque!A9159,quantidade_comprada)","v":0}]
[null,null,null,null,null,{"$f":"SUMIF(Codigo_Produto,Estoque!A9166,[0]!quantidade_adquirida)-SUMIF([0]!cod_saida,Estoque!A9166,quantidade_comprada)","v":0}]
[null,null,null,null,null,{"$f":"SUMIF(Codigo_Produto,Estoque!A9186,[0]!quantidade_adquirida)-SUMIF([0]!cod_saida,Estoque!A9186,quantidade_comprada)","v":0}]
[null,null,null,null,null,{"$f":"SUMIF(Codigo_Produto,Estoque!A9201,[0]!quantidade_adquirida)-SUMIF([0]!cod_saida,Estoque!A9201,quantidade_comprada)","v":0}]
[null,null,null,null,null,{"$f":"SUMIF(Codigo_Produto,Estoque!A9208,[0]!quantidade_adquirida)-SUMIF([0]!cod_saida,Estoque!A9208,quantidade_comprada)","v":0}]
[null,null,null,null,null,{"$f":"SUMIF(Codigo_Produto,Estoque!A9224,[0]!quantidade_adquirida)-SUMIF([0]!cod_saida,Estoque!A9224,quantidade_comprada)","v":0}]
[null,null,null,null,null,{"$f":"SUMIF(Codigo_Produto,Estoque!A9231,[0]!quantidade_adquirida)-SUMIF([0]!cod_saida,Estoque!A9231,quantidade_comprada)","v":0}]
[null,null,null,null,null,{"$f":"SUMIF(Codigo_Produto,Estoque!A9247,[0]!quantidade_adquirida)-SUMIF([0]!cod_saida,Estoque!A9247,quantidade_comprada)","v":0}]
[null,null,null,null,null,{"$f":"SUMIF(Codigo_Produto,Estoque!A9267,[0]!quantidade_adquirida)-SUMIF([0]!cod_saida,Estoque!A9267,quantidade_comprada)","v":0}]
[null,null,null,null,null,{"$f":"SUMIF(Codigo_Produto,Estoque!A9274,[0]!quantidade_adquirida)-SUMIF([0]!cod_saida,Estoque!A9274,quantidade_comprada)","v":0}]
[null,null,null,null,null,{"$f":"SUMIF(Codigo_Produto,Estoque!A9289,[0]!quantidade_adquirida)-SUMIF([0]!cod_saida,Estoque!A9289,quantidade_comprada)","v":0}]
[null,null,null,null,null,{"$f":"SUMIF(Codigo_Produto,Estoque!A9296,[0]!quantidade_adquirida)-SUMIF([0]!cod_saida,Estoque!A9296,quantidade_comprada)","v":0}]
[null,null,null,null,null,{"$f":"SUMIF(Codigo_Produto,Estoque!A9316,[0]!quantidade_adquirida)-SUMIF([0]!cod_saida,Estoque!A9316,quantidade_comprada)","v":0}]
[null,null,null,null,null,{"$f":"SUMIF(Codigo_Produto,Estoque!A9332,[0]!quantidade_adquirida)-SUMIF([0]!cod_saida,Estoque!A9332,quantidade_comprada)","v":0}]
[null,null,null,null,null,{"$f":"SUMIF(Codigo_Produto,Estoque!A9339,[0]!quantidade_adquirida)-SUMIF([0]!cod_saida,Estoque!A9339,quantidade_comprada)","v":0}]
[null,null,null,null,null,{"$f":"SUMIF(Codigo_Produto,Estoque!A9355,[0]!quantidade_adquirida)-SUMIF([0]!cod_saida,Estoque!A9355,quantidade_comprada)","v":0}]
[null,null,null,null,null,{"$f":"SUMIF(Codigo_Produto,Estoque!A9362,[0]!quantidade_adquirida)-SUMIF([0]!cod_saida,Estoque!A9362,quantidade_comprada)","v":0}]
[null,null,null,null,null,{"$f":"SUMIF(Codigo_Produto,Estoque!A9378,[0]!quantidade_adquirida)-SUMIF([0]!cod_saida,Estoque!A9378,quantidade_comprada)","v":0}]
[null,null,null,null,null,{"$f":"SUMIF(Codigo_Produto,Estoque!A9384,[0]!quantidade_adquirida)-SUMIF([0]!cod_saida,Estoque!A9384,quantidade_comprada)","v":0}]
[null,null,null,null,null,{"$f":"SUMIF(Codigo_Produto,Estoque!A9404,[0]!quantidade_adquirida)-SUMIF([0]!cod_saida,Estoque!A9404,quantidade_comprada)","v":0}]
[null,null,null,null,null,{"$f":"SUMIF(Codigo_Produto,Estoque!A9420,[0]!quantidade_adquirida)-SUMIF([0]!cod_saida,Estoque!A9420,quantidade_comprada)","v":0}]
[null,null,null,null,null,{"$f":"SUMIF(Codigo_Produto,Estoque!A9427,[0]!quantidade_adquirida)-SUMIF([0]!cod_saida,Estoque!A9427,quantidade_comprada)","v":0}]
[null,null,null,null,null,{"$f":"SUMIF(Codigo_Produto,Estoque!A9447,[0]!quantidade_adquirida)-SUMIF([0]!cod_saida,Estoque!A9447,quantidade_comprada)","v":0}]
[null,null,null,null,null,{"$f":"SUMIF(Codigo_Produto,Estoque!A9450,[0]!quantidade_adquirida)-SUMIF([0]!cod_saida,Estoque!A9450,quantidade_comprada)","v":0}]
[null,null,null,null,null,{"$f":"SUMIF(Codigo_Produto,Estoque!A9471,[0]!quantidade_adquirida)-SUMIF([0]!cod_saida,Estoque!A9471,quantidade_comprada)","v":0}]
[null,null,null,null,null,{"$f":"SUMIF(Codigo_Produto,Estoque!A9476,[0]!quantidade_adquirida)-SUMIF([0]!cod_saida,Estoque!A9476,quantidade_comprada)","v":0}]
[null,null,null,null,null,{"$f":"SUMIF(Codigo_Produto,Estoque!A9492,[0]!quantidade_adquirida)-SUMIF([0]!cod_saida,Estoque!A9492,quantidade_comprada)","v":0}]
[null,null,null,null,null,{"$f":"SUMIF(Codigo_Produto,Estoque!A9512,[0]!quantidade_adquirida)-SUMIF([0]!cod_saida,Estoque!A9512,quantidade_comprada)","v":0}]
[null,null,null,null,null,{"$f":"SUMIF(Codigo_Produto,Estoque!A9515,[0]!quantidade_adquirida)-SUMIF([0]!cod_saida,Estoque!A9515,quantidade_comprada)","v":0}]
[null,null,null,null,null,{"$f":"SUMIF(Codigo_Produto,Estoque!A9535,[0]!quantidade_adquirida)-SUMIF([0]!cod_saida,Estoque!A9535,quantidade_comprada)","v":0}]
[null,null,null,null,null,{"$f":"SUMIF(Codigo_Produto,Estoque!A9542,[0]!quantidade_adquirida)-SUMIF([0]!cod_saida,Estoque!A9542,quantidade_comprada)","v":0}]
[null,null,null,null,null,{"$f":"SUMIF(Codigo_Produto,Estoque!A9558,[0]!quantidade_adquirida)-SUMIF([0]!cod_saida,Estoque!A9558,quantidade_comprada)","v":0}]
[null,null,null,null,null,{"$f":"SUMIF(Codigo_Produto,Estoque!A9574,[0]!quantidade_adquirida)-SUMIF([0]!cod_saida,Estoque!A9574,quantidade_comprada)","v":0}]
[null,null,null,null,null,{"$f":"SUMIF(Codigo_Produto,Estoque!A9584,[0]!quantidade_adquirida)-SUMIF([0]!cod_saida,Estoque!A9584,quantidade_comprada)","v":0}]
[null,null,null,null,null,{"$f":"SUMIF(Codigo_Produto,Estoque!A9600,[0]!quantidade_adquirida)-SUMIF([0]!cod_saida,Estoque!A9600,quantidade_comprada)","v":0}]
[null,null,null,null,null,{"$f":"SUMIF(Codigo_Produto,Estoque!A9607,[0]!quantidade_adquirida)-SUMIF([0]!cod_saida,Estoque!A9607,quantidade_comprada)","v":0}]
[null,null,null,null,null,{"$f":"SUMIF(Codigo_Produto,Estoque!A9623,[0]!quantidade_adquirida)-SUMIF([0]!cod_saida,Estoque!A9623,quantidade_comprada)","v":0}]
[null,null,null,null,null,{"$f":"SUMIF(Codigo_Produto,Estoque!A9630,[0]!quantidade_adquirida)-SUMIF([0]!cod_saida,Estoque!A9630,quantidade_comprada)","v":0}]
[null,null,null,null,null,{"$f":"SUMIF(Codigo_Produto,Estoque!A9650,[0]!quantidade_adquirida)-SUMIF([0]!cod_saida,Estoque!A9650,quantidade_comprada)","v":0}]
[null,null,null,null,null,{"$f":"SUMIF(Codigo_Produto,Estoque!A9655,[0]!quantidade_adquirida)-SUMIF([0]!cod_saida,Estoque!A9655,quantidade_comprada)","v":0}]
[null,null,null,null,null,{"$f":"SUMIF(Codigo_Produto,Estoque!A9672,[0]!quantidade_adquirida)-SUMIF([0]!cod_saida,Estoque!A9672,quantidade_comprada)","v":0}]
[null,null,null,null,null,{"$f":"SUMIF(Codigo_Produto,Estoque!A9688,[0]!quantidade_adquirida)-SUMIF([0]!cod_saida,Estoque!A9688,quantidade_comprada)","v":0}]
[null,null,null,null,null,{"$f":"SUMIF(Codigo_Produto,Estoque!A9695,[0]!quantidade_adquirida)-SUMIF([0]!cod_saida,Estoque!A9695,quantidade_comprada)","v":0}]
[null,null,null,null,null,{"$f":"SUMIF(Codigo_Produto,Estoque!A9715,[0]!quantidade_adquirida)-SUMIF([0]!cod_saida,Estoque!A9715,quantidade_comprada)","v":0}]
[null,null,null,null,null,{"$f":"SUMIF(Codigo_Produto,Estoque!A9731,[0]!quantidade_adquirida)-SUMIF([0]!cod_saida,Estoque!A9731,quantidade_comprada)","v":0}]
[null,null,null,null,null,{"$f":"SUMIF(Codigo_Produto,Estoque!A9738,[0]!quantidade_adquirida)-SUMIF([0]!cod_saida,Estoque!A9738,quantidade_comprada)","v":0}]
[null,null,null,null,null,{"$f":"SUMIF(Codigo_Produto,Estoque!A9756,[0]!quantidade_adquirida)-SUMIF([0]!cod_saida,Estoque!A9756,quantidade_comprada)","v":0}]
[null,null,null,null,null,{"$f":"SUMIF(Codigo_Produto,Estoque!A9760,[0]!quantidade_adquirida)-SUMIF([0]!cod_saida,Estoque!A9760,quantidade_comprada)","v":0}]
[null,null,null,null,null,{"$f":"SUMIF(Codigo_Produto,Estoque!A9780,[0]!quantidade_adquirida)-SUMIF([0]!cod_saida,Estoque!A9780,quantidade_comprada)","v":0}]
[null,null,null,null,null,{"$f":"SUMIF(Codigo_Produto,Estoque!A9783,[0]!quantidade_adquirida)-SUMIF([0]!cod_saida,Estoque!A9783,quantidade_comprada)","v":0}]
[null,null,null,null,null,{"$f":"SUMIF(Codigo_Produto,Estoque!A9803,[0]!quantidade_adquirida)-SUMIF([0]!cod_saida,Estoque!A9803,quantidade_comprada)","v":0}]
[null,null,null,null,null,{"$f":"SUMIF(Codigo_Produto,Estoque!A9810,[0]!quantidade_adquirida)-SUMIF([0]!cod_saida,Estoque!A9810,quantidade_comprada)","v":0}]
[null,null,null,null,null,{"$f":"SUMIF(Codigo_Produto,Estoque!A9826,[0]!quantidade_adquirida)-SUMIF([0]!cod_saida,Estoque!A9826,quantidade_comprada)","v":0}]
[null,null,null,null,null,{"$f":"SUMIF(Codigo_Produto,Estoque!A9846,[0]!quantidade_adquirida)-SUMIF([0]!cod_saida,Estoque!A9846,quantidade_comprada)","v":0}]
[null,null,null,null,null,{"$f":"SUMIF(Codigo_Produto,Estoque!A9859,[0]!quantidade_adquirida)-SUMIF([0]!cod_saida,Estoque!A9859,quantidade_comprada)","v":0}]
[null,null,null,null,null,{"$f":"SUMIF(Codigo_Produto,Estoque!A9868,[0]!quantidade_adquirida)-SUMIF([0]!cod_saida,Estoque!A9868,quantidade_comprada)","v":0}]
[null,null,null,null,null,{"$f":"SUMIF(Codigo_Produto,Estoque!A9875,[0]!quantidade_adquirida)-SUMIF([0]!cod_saida,Estoque!A9875,quantidade_comprada)","v":0}]
[null,null,null,null,null,{"$f":"SUMIF(Codigo_Produto,Estoque!A9891,[0]!quantidade_adquirida)-SUMIF([0]!cod_saida,Estoque!A9891,quantidade_comprada)","v":0}]
[null,null,null,null,null,{"$f":"SUMIF(Codigo_Produto,Estoque!A9911,[0]!quantidade_adquirida)-SUMIF([0]!cod_saida,Estoque!A9911,quantidade_comprada)","v":0}]
[null,null,null,null,null,{"$f":"SUMIF(Codigo_Produto,Estoque!A9918,[0]!quantidade_adquirida)-SUMIF([0]!cod_saida,Estoque!A9918,quantidade_comprada)","v":0}]
[null,null,null,null,null,{"$f":"SUMIF(Codigo_Produto,Estoque!A9934,[0]!quantidade_adquirida)-SUMIF([0]!cod_saida,Estoque!A9934,quantidade_comprada)","v":0}]
[null,null,null,null,null,{"$f":"SUMIF(Codigo_Produto,Estoque!A9940,[0]!quantidade_adquirida)-SUMIF([0]!cod_saida,Estoque!A9940,quantidade_comprada)","v":0}]
[null,null,null,null,null,{"$f":"SUMIF(Codigo_Produto,Estoque!A9956,[0]!quantidade_adquirida)-SUMIF([0]!cod_saida,Estoque!A9956,quantidade_comprada)","v":0}]
[null,null,null,null,null,{"$f":"SUMIF(Codigo_Produto,Estoque!A9963,[0]!quantidade_adquirida)-SUMIF([0]!cod_saida,Estoque!A9963,quantidade_comprada)","v":0}]
[null,null,null,null,null,{"$f":"SUMIF(Codigo_Produto,Estoque!A9983,[0]!quantidade_adquirida)-SUMIF([0]!cod_saida,Estoque!A9983,quantidade_comprada)","v":0}]
[null,null,null,null,null,{"$f":"SUMIF(Codigo_Produto,Estoque!A9999,[0]!quantidade_adquirida)-SUMIF([0]!cod_saida,Estoque!A9999,quantidade_comprada)","v":0}]
[null,null,null,null,null,{"$f":"SUMIF(Codigo_Produto,Estoque!A10006,[0]!quantidade_adquirida)-SUMIF([0]!cod_saida,Estoque!A10006,quantidade_comprada)","v":0}]
[null,null,null,null,null,{"$f":"SUMIF(Codigo_Produto,Estoque!A10026,[0]!quantidade_adquirida)-SUMIF([0]!cod_saida,Estoque!A10026,quantidade_comprada)","v":0}]
[null,null,null,null,null,{"$f":"SUMIF(Codigo_Produto,Estoque!A10029,[0]!quantidade_adquirida)-SUMIF([0]!cod_saida,Estoque!A10029,quantidade_comprada)","v":0}]
[null,null,null,null,null,{"$f":"SUMIF(Codigo_Produto,Estoque!A10043,[0]!quantidade_adquirida)-SUMIF([0]!cod_saida,Estoque!A10043,quantidade_comprada)","v":0}]
[null,null,null,null,null,{"$f":"SUMIF(Codigo_Produto,Estoque!A10064,[0]!quantidade_adquirida)-SUMIF([0]!cod_saida,Estoque!A10064,quantidade_comprada)","v":0}]
[null,null,null,null,null,{"$f":"SUMIF(Codigo_Produto,Estoque!A10071,[0]!quantidade_adquirida)-SUMIF([0]!cod_saida,Estoque!A10071,quantidade_comprada)","v":0}]
[null,null,null,null,null,{"$f":"SUMIF(Codigo_Produto,Estoque!A10091,[0]!quantidade_adquirida)-SUMIF([0]!cod_saida,Estoque!A10091,quantidade_comprada)","v":0}]
[null,null,null,null,null,{"$f":"SUMIF(Codigo_Produto,Estoque!A10094,[0]!quantidade_adquirida)-SUMIF([0]!cod_saida,Estoque!A10094,quantidade_comprada)","v":0}]
[null,null,null,null,null,{"$f":"SUMIF(Codigo_Produto,Estoque!A10114,[0]!quantidade_adquirida)-SUMIF([0]!cod_saida,Estoque!A10114,quantidade_comprada)","v":0}]
[null,null,null,null,null,{"$f":"SUMIF(Codigo_Produto,Estoque!A10130,[0]!quantidade_adquirida)-SUMIF([0]!cod_saida,Estoque!A10130,quantidade_comprada)","v":0}]
[null,null,null,null,null,{"$f":"SUMIF(Codigo_Produto,Estoque!A10136,[0]!quantidade_adquirida)-SUMIF([0]!cod_saida,Estoque!A10136,quantidade_comprada)","v":0}]
[null,null,null,null,null,{"$f":"SUMIF(Codigo_Produto,Estoque!A10143,[0]!quantidade_adquirida)-SUMIF([0]!cod_saida,Estoque!A10143,quantidade_comprada)","v":0}]
[null,null,null,null,null,{"$f":"SUMIF(Codigo_Produto,Estoque!A10159,[0]!quantidade_adquirida)-SUMIF([0]!cod_saida,Estoque!A10159,quantidade_comprada)","v":0}]
[null,null,null,null,null,{"$f":"SUMIF(Codigo_Produto,Estoque!A10179,[0]!quantidade_adquirida)-SUMIF([0]!cod_saida,Estoque!A10179,quantidade_comprada)","v":0}]
[null,null,null,null,null,{"$f":"SUMIF(Codigo_Produto,Estoque!A10186,[0]!quantidade_adquirida)-SUMIF([0]!cod_saida,Estoque!A10186,quantidade_comprada)","v":0}]
[null,null,null,null,null,{"$f":"SUMIF(Codigo_Produto,Estoque!A10202,[0]!quantidade_adquirida)-SUMIF([0]!cod_saida,Estoque!A10202,quantidade_comprada)","v":0}]
[null,null,null,null,null,{"$f":"SUMIF(Codigo_Produto,Estoque!A10209,[0]!quantidade_adquirida)-SUMIF([0]!cod_saida,Estoque!A10209,quantidade_comprada)","v":0}]
[null,null,null,null,null,{"$f":"SUMIF(Codigo_Produto,Estoque!A10229,[0]!quantidade_adquirida)-SUMIF([0]!cod_saida,Estoque!A10229,quantidade_comprada)","v":0}]
[null,null,null,null,null,{"$f":"SUMIF(Codigo_Produto,Estoque!A10244,[0]!quantidade_adquirida)-SUMIF([0]!cod_saida,Estoque!A10244,quantidade_comprada)","v":0}]
[null,null,null,null,null,{"$f":"SUMIF(Codigo_Produto,Estoque!A10251,[0]!quantidade_adquirida)-SUMIF([0]!cod_saida,Estoque!A10251,quantidade_comprada)","v":0}]
[null,null,null,null,null,{"$f":"SUMIF(Codigo_Produto,Estoque!A10267,[0]!quantidade_adquirida)-SUMIF([0]!cod_saida,Estoque!A10267,quantidade_comprada)","v":0}]
[null,null,null,null,null,{"$f":"SUMIF(Codigo_Produto,Estoque!A10274,[0]!quantidade_adquirida)-SUMIF([0]!cod_saida,Estoque!A10274,quantidade_comprada)","v":0}]
[null,null,null,null,null,{"$f":"SUMIF(Codigo_Produto,Estoque!A10294,[0]!quantidade_adquirida)-SUMIF([0]!cod_saida,Estoque!A10294,quantidade_comprada)","v":0}]
[null,null,null,null,null,{"$f":"SUMIF(Codigo_Produto,Estoque!A10310,[0]!quantidade_adquirida)-SUMIF([0]!cod_saida,Estoque!A10310,quantidade_comprada)","v":0}]
[null,null,null,null,null,{"$f":"SUMIF(Codigo_Produto,Estoque!A10317,[0]!quantidade_adquirida)-SUMIF([0]!cod_saida,Estoque!A10317,quantidade_comprada)","v":0}]
[null,null,null,null,null,{"$f":"SUMIF(Codigo_Produto,Estoque!A10332,[0]!quantidade_adquirida)-SUMIF([0]!cod_saida,Estoque!A10332,quantidade_comprada)","v":0}]
[null,null,null,null,null,{"$f":"SUMIF(Codigo_Produto,Estoque!A10339,[0]!quantidade_adquirida)-SUMIF([0]!cod_saida,Estoque!A10339,quantidade_comprada)","v":0}]
[null,null,null,null,null,{"$f":"SUMIF(Codigo_Produto,Estoque!A10359,[0]!quantidade_adquirida)-SUMIF([0]!cod_saida,Estoque!A10359,quantidade_comprada)","v":0}]
[null,null,null,null,null,{"$f":"SUMIF(Codigo_Produto,Estoque!A10362,[0]!quantidade_adquirida)-SUMIF([0]!cod_saida,Estoque!A10362,quantidade_comprada)","v":0}]
[null,null,null,null,null,{"$f":"SUMIF(Codigo_Produto,Estoque!A10382,[0]!quantidade_adquirida)-SUMIF([0]!cod_saida,Estoque!A10382,quantidade_comprada)","v":0}]
[null,null,null,null,null,{"$f":"SUMIF(Codigo_Produto,Estoque!A10398,[0]!quantidade_adquirida)-SUMIF([0]!cod_saida,Estoque!A10398,quantidade_comprada)","v":0}]
[null,null,null,null,null,{"$f":"SUMIF(Codigo_Produto,Estoque!A10405,[0]!quantidade_adquirida)-SUMIF([0]!cod_saida,Estoque!A10405,quantidade_comprada)","v":0}]
[null,null,null,null,null,{"$f":"SUMIF(Codigo_Produto,Estoque!A10421,[0]!quantidade_adquirida)-SUMIF([0]!cod_saida,Estoque!A10421,quantidade_comprada)","v":0}]
[null,null,null,null,null,{"$f":"SUMIF(Codigo_Produto,Estoque!A10427,[0]!quantidade_adquirida)-SUMIF([0]!cod_saida,Estoque!A10427,quantidade_comprada)","v":0}]
[null,null,null,null,null,{"$f":"SUMIF(Codigo_Produto,Estoque!A10447,[0]!quantidade_adquirida)-SUMIF([0]!cod_saida,Estoque!A10447,quantidade_comprada)","v":0}]
[null,null,null,null,null,{"$f":"SUMIF(Codigo_Produto,Estoque!A10454,[0]!quantidade_adquirida)-SUMIF([0]!cod_saida,Estoque!A10454,quantidade_comprada)","v":0}]
[null,null,null,null,null,{"$f":"SUMIF(Codigo_Produto,Estoque!A10470,[0]!quantidade_adquirida)-SUMIF([0]!cod_saida,Estoque!A10470,quantidade_comprada)","v":0}]
[null,null,null,null,null,{"$f":"SUMIF(Codigo_Produto,Estoque!A10490,[0]!quantidade_adquirida)-SUMIF([0]!cod_saida,Estoque!A10490,quantidade_comprada)","v":0}]
[null,null,null,null,null,{"$f":"SUMIF(Codigo_Produto,Estoque!A10493,[0]!quantidade_adquirida)-SUMIF([0]!cod_saida,Estoque!A10493,quantidade_comprada)","v":0}]
[null,null,null,null,null,{"$f":"SUMIF(Codigo_Produto,Estoque!A10514,[0]!quantidade_adquirida)-SUMIF([0]!cod_saida,Estoque!A10514,quantidade_comprada)","v":0}]
[null,null,null,null,null,{"$f":"SUMIF(Codigo_Produto,Estoque!A10519,[0]!quantidade_adquirida)-SUMIF([0]!cod_saida,Estoque!A10519,quantidade_comprada)","v":0}]
[null,null,null,null,null,{"$f":"SUMIF(Codigo_Produto,Estoque!A10535,[0]!quantidade_adquirida)-SUMIF([0]!cod_saida,Estoque!A10535,quantidade_comprada)","v":0}]
[null,null,null,null,null,{"$f":"SUMIF(Codigo_Produto,Estoque!A10542,[0]!quantidade_adquirida)-SUMIF([0]!cod_saida,Estoque!A10542,quantidade_comprada)","v":0}]
[null,null,null,null,null,{"$f":"SUMIF(Codigo_Produto,Estoque!A10558,[0]!quantidade_adquirida)-SUMIF([0]!cod_saida,Estoque!A10558,quantidade_comprada)","v":0}]
[null,null,null,null,null,{"$f":"SUMIF(Codigo_Produto,Estoque!A10578,[0]!quantidade_adquirida)-SUMIF([0]!cod_saida,Estoque!A10578,quantidade_comprada)","v":0}]
[null,null,null,null,null,{"$f":"SUMIF(Codigo_Produto,Estoque!A10585,[0]!quantidade_adquirida)-SUMIF([0]!cod_saida,Estoque!A10585,quantidade_comprada)","v":0}]
[null,null,null,null,null,{"$f":"SUMIF(Codigo_Produto,Estoque!A10601,[0]!quantidade_adquirida)-SUMIF([0]!cod_saida,Estoque!A10601,quantidade_comprada)","v":0}]
[null,null,null,null,null,{"$f":"SUMIF(Codigo_Produto,Estoque!A10617,[0]!quantidade_adquirida)-SUMIF([0]!cod_saida,Estoque!A10617,quantidade_comprada)","v":0}]
[null,null,null,null,null,{"$f":"SUMIF(Codigo_Produto,Estoque!A10627,[0]!quantidade_adquirida)-SUMIF([0]!cod_saida,Estoque!A10627,quantidade_comprada)","v":0}]
[null,null,null,null,null,{"$f":"SUMIF(Codigo_Produto,Estoque!A10643,[0]!quantidade_adquirida)-SUMIF([0]!cod_saida,Estoque!A10643,quantidade_comprada)","v":0}]
[null,null,null,null,null,{"$f":"SUMIF(Codigo_Produto,Estoque!A10650,[0]!quantidade_adquirida)-SUMIF([0]!cod_saida,Estoque!A10650,quantidade_comprada)","v":0}]
[null,null,null,null,null,{"$f":"SUMIF(Codigo_Produto,Estoque!A10666,[0]!quantidade_adquirida)-SUMIF([0]!cod_saida,Estoque!A10666,quantidade_comprada)","v":0}]
[null,null,null,null,null,{"$f":"SUMIF(Codigo_Produto,Estoque!A10673,[0]!quantidade_adquirida)-SUMIF([0]!cod_saida,Estoque!A10673,quantidade_comprada)","v":0}]
[null,null,null,null,null,{"$f":"SUMIF(Codigo_Produto,Estoque!A10693,[0]!quantidade_adquirida)-SUMIF([0]!cod_saida,Estoque!A10693,quantidade_comprada)","v":0}]
[null,null,null,null,null,{"$f":"SUMIF(Codigo_Produto,Estoque!A10698,[0]!quantidade_adquirida)-SUMIF([0]!cod_saida,Estoque!A10698,quantidade_comprada)","v":0}]
[null,null,null,null,null,{"$f":"SUMIF(Codigo_Produto,Estoque!A10715,[0]!quantidade_adquirida)-SUMIF([0]!cod_saida,Estoque!A10715,quantidade_comprada)","v":0}]
[null,null,null,null,null,{"$f":"SUMIF(Codigo_Produto,Estoque!A10722,[0]!quantidade_adquirida)-SUMIF([0]!cod_saida,Estoque!A10722,quantidade_comprada)","v":0}]
[null,null,null,null,null,{"$f":"SUMIF(Codigo_Produto,Estoque!A10738,[0]!quantidade_adquirida)-SUMIF([0]!cod_saida,Estoque!A10738,quantidade_comprada)","v":0}]
[null,null,null,null,null,{"$f":"SUMIF(Codigo_Produto,Estoque!A10758,[0]!quantidade_adquirida)-SUMIF([0]!cod_saida,Estoque!A10758,quantidade_comprada)","v":0}]
[null,null,null,null,null,{"$f":"SUMIF(Codigo_Produto,Estoque!A10761,[0]!quantidade_adquirida)-SUMIF([0]!cod_saida,Estoque!A10761,quantidade_comprada)","v":0}]
[null,null,null,null,null,{"$f":"SUMIF(Codigo_Produto,Estoque!A10781,[0]!quantidade_adquirida)-SUMIF([0]!cod_saida,Estoque!A10781,quantidade_comprada)","v":0}]
[null,null,null,null,null,{"$f":"SUMIF(Codigo_Produto,Estoque!A10787,[0]!quantidade_adquirida)-SUMIF([0]!cod_saida,Estoque!A10787,quantidade_comprada)","v":0}]
[null,null,null,null,null,{"$f":"SUMIF(Codigo_Produto,Estoque!A10803,[0]!quantidade_adquirida)-SUMIF([0]!cod_saida,Estoque!A10803,quantidade_comprada)","v":0}]
[null,null,null,null,null,{"$f":"SUMIF(Codigo_Produto,Estoque!A10823,[0]!quantidade_adquirida)-SUMIF([0]!cod_saida,Estoque!A10823,quantidade_comprada)","v":0}]
[null,null,null,null,null,{"$f":"SUMIF(Codigo_Produto,Estoque!A10826,[0]!quantidade_adquirida)-SUMIF([0]!cod_saida,Estoque!A10826,quantidade_comprada)","v":0}]
[null,null,null,null,null,{"$f":"SUMIF(Codigo_Produto,Estoque!A10846,[0]!quantidade_adquirida)-SUMIF([0]!cod_saida,Estoque!A10846,quantidade_comprada)","v":0}]
[null,null,null,null,null,{"$f":"SUMIF(Codigo_Produto,Estoque!A10853,[0]!quantidade_adquirida)-SUMIF([0]!cod_saida,Estoque!A10853,quantidade_comprada)","v":0}]
[null,null,null,null,null,{"$f":"SUMIF(Codigo_Produto,Estoque!A10869,[0]!quantidade_adquirida)-SUMIF([0]!cod_saida,Estoque!A10869,quantidade_comprada)","v":0}]
[null,null,null,null,null,{"$f":"SUMIF(Codigo_Produto,Estoque!A10889,[0]!quantidade_adquirida)-SUMIF([0]!cod_saida,Estoque!A10889,quantidade_comprada)","v":0}]
[null,null,null,null,null,{"$f":"SUMIF(Codigo_Produto,Estoque!A10890,[0]!quantidade_adquirida)-SUMIF([0]!cod_saida,Estoque!A10890,quantidade_comprada)","v":0}]
[null,null,null,null,null,{"$f":"SUMIF(Codigo_Produto,Estoque!A10911,[0]!quantidade_adquirida)-SUMIF([0]!cod_saida,Estoque!A10911,quantidade_comprada)","v":0}]
[null,null,null,null,null,{"$f":"SUMIF(Codigo_Produto,Estoque!A10918,[0]!quantidade_adquirida)-SUMIF([0]!cod_saida,Estoque!A10918,quantidade_comprada)","v":0}]
[null,null,null,null,null,{"$f":"SUMIF(Codigo_Produto,Estoque!A10934,[0]!quantidade_adquirida)-SUMIF([0]!cod_saida,Estoque!A10934,quantidade_comprada)","v":0}]
[null,null,null,null,null,{"$f":"SUMIF(Codigo_Produto,Estoque!A10941,[0]!quantidade_adquirida)-SUMIF([0]!cod_saida,Estoque!A10941,quantidade_comprada)","v":0}]
[null,null,null,null,null,{"$f":"SUMIF(Codigo_Produto,Estoque!A10961,[0]!quantidade_adquirida)-SUMIF([0]!cod_saida,Estoque!A10961,quantidade_comprada)","v":0}]
[null,null,null,null,null,{"$f":"SUMIF(Codigo_Produto,Estoque!A10977,[0]!quantidade_adquirida)-SUMIF([0]!cod_saida,Estoque!A10977,quantidade_comprada)","v":0}]
[null,null,null,null,null,{"$f":"SUMIF(Codigo_Produto,Estoque!A10983,[0]!quantidade_adquirida)-SUMIF([0]!cod_saida,Estoque!A10983,quantidade_comprada)","v":0}]
[null,null,null,null,null,{"$f":"SUMIF(Codigo_Produto,Estoque!A11003,[0]!quantidade_adquirida)-SUMIF([0]!cod_saida,Estoque!A11003,quantidade_comprada)","v":0}]
[null,null,null,null,null,{"$f":"SUMIF(Codigo_Produto,Estoque!A11006,[0]!quantidade_adquirida)-SUMIF([0]!cod_saida,Estoque!A11006,quantidade_comprada)","v":0}]
[null,null,null,null,null,{"$f":"SUMIF(Codigo_Produto,Estoque!A11026,[0]!quantidade_adquirida)-SUMIF([0]!cod_saida,Estoque!A11026,quantidade_comprada)","v":0}]
[null,null,null,null,null,{"$f":"SUMIF(Codigo_Produto,Estoque!A11042,[0]!quantidade_adquirida)-SUMIF([0]!cod_saida,Estoque!A11042,quantidade_comprada)","v":0}]
[null,null,null,null,null,{"$f":"SUMIF(Codigo_Produto,Estoque!A11049,[0]!quantidade_adquirida)-SUMIF([0]!cod_saida,Estoque!A11049,quantidade_comprada)","v":0}]
[null,null,null,null,null,{"$f":"SUMIF(Codigo_Produto,Estoque!A11069,[0]!quantidade_adquirida)-SUMIF([0]!cod_saida,Estoque!A11069,quantidade_comprada)","v":0}]
[null,null,null,null,null,{"$f":"SUMIF(Codigo_Produto,Estoque!A11076,[0]!quantidade_adquirida)-SUMIF([0]!cod_saida,Estoque!A11076,quantidade_comprada)","v":0}]
[null,null,null,null,null,{"$f":"SUMIF(Codigo_Produto,Estoque!A11091,[0]!quantidade_adquirida)-SUMIF([0]!cod_saida,Estoque!A11091,quantidade_comprada)","v":0}]
[null,null,null,null,null,{"$f":"SUMIF(Codigo_Produto,Estoque!A11107,[0]!quantidade_adquirida)-SUMIF([0]!cod_saida,Estoque!A11107,quantidade_comprada)","v":0}]
[null,null,null,null,null,{"$f":"SUMIF(Codigo_Produto,Estoque!A11114,[0]!quantidade_adquirida)-SUMIF([0]!cod_saida,Estoque!A11114,quantidade_comprada)","v":0}]
[null,null,null,null,null,{"$f":"SUMIF(Codigo_Produto,Estoque!A11121,[0]!quantidade_adquirida)-SUMIF([0]!cod_saida,Estoque!A11121,quantidade_comprada)","v":0}]
[null,null,null,null,null,{"$f":"SUMIF(Codigo_Produto,Estoque!A11137,[0]!quantidade_adquirida)-SUMIF([0]!cod_saida,Estoque!A11137,quantidade_comprada)","v":0}]
[null,null,null,null,null,{"$f":"SUMIF(Codigo_Produto,Estoque!A11157,[0]!quantidade_adquirida)-SUMIF([0]!cod_saida,Estoque!A11157,quantidade_comprada)","v":0}]
[null,null,null,null,null,{"$f":"SUMIF(Codigo_Produto,Estoque!A11164,[0]!quantidade_adquirida)-SUMIF([0]!cod_saida,Estoque!A11164,quantidade_comprada)","v":0}]
[null,null,null,null,null,{"$f":"SUMIF(Codigo_Produto,Estoque!A11179,[0]!quantidade_adquirida)-SUMIF([0]!cod_saida,Estoque!A11179,quantidade_comprada)","v":0}]
[null,null,null,null,null,{"$f":"SUMIF(Codigo_Produto,Estoque!A11186,[0]!quantidade_adquirida)-SUMIF([0]!cod_saida,Estoque!A11186,quantidade_comprada)","v":0}]
[null,null,null,null,null,{"$f":"SUMIF(Codigo_Produto,Estoque!A11202,[0]!quantidade_adquirida)-SUMIF([0]!cod_saida,Estoque!A11202,quantidade_comprada)","v":0}]
[null,null,null,null,null,{"$f":"SUMIF(Codigo_Produto,Estoque!A11222,[0]!quantidade_adquirida)-SUMIF([0]!cod_saida,Estoque!A11222,quantidade_comprada)","v":0}]
[null,null,null,null,null,{"$f":"SUMIF(Codigo_Produto,Estoque!A11229,[0]!quantidade_adquirida)-SUMIF([0]!cod_saida,Estoque!A11229,quantidade_comprada)","v":0}]
[null,null,null,null,null,{"$f":"SUMIF(Codigo_Produto,Estoque!A11245,[0]!quantidade_adquirida)-SUMIF([0]!cod_saida,Estoque!A11245,quantidade_comprada)","v":0}]
[null,null,null,null,null,{"$f":"SUMIF(Codigo_Produto,Estoque!A11252,[0]!quantidade_adquirida)-SUMIF([0]!cod_saida,Estoque!A11252,quantidade_comprada)","v":0}]
[null,null,null,null,null,{"$f":"SUMIF(Codigo_Produto,Estoque!A11272,[0]!quantidade_adquirida)-SUMIF([0]!cod_saida,Estoque!A11272,quantidade_comprada)","v":0}]
[null,null,null,null,null,{"$f":"SUMIF(Codigo_Produto,Estoque!A11287,[0]!quantidade_adquirida)-SUMIF([0]!cod_saida,Estoque!A11287,quantidade_comprada)","v":0}]
[null,null,null,null,null,{"$f":"SUMIF(Codigo_Produto,Estoque!A11294,[0]!quantidade_adquirida)-SUMIF([0]!cod_saida,Estoque!A11294,quantidade_comprada)","v":0}]
[null,null,null,null,null,{"$f":"SUMIF(Codigo_Produto,Estoque!A11310,[0]!quantidade_adquirida)-SUMIF([0]!cod_saida,Estoque!A11310,quantidade_comprada)","v":0}]
[null,null,null,null,null,{"$f":"SUMIF(Codigo_Produto,Estoque!A11317,[0]!quantidade_adquirida)-SUMIF([0]!cod_saida,Estoque!A11317,quantidade_comprada)","v":0}]
[null,null,null,null,null,{"$f":"SUMIF(Codigo_Produto,Estoque!A11337,[0]!quantidade_adquirida)-SUMIF([0]!cod_saida,Estoque!A11337,quantidade_comprada)","v":0}]
[null,null,null,null,null,{"$f":"SUMIF(Codigo_Produto,Estoque!A11340,[0]!quantidade_adquirida)-SUMIF([0]!cod_saida,Estoque!A11340,quantidade_comprada)","v":0}]
[null,null,null,null,null,{"$f":"SUMIF(Codigo_Produto,Estoque!A11361,[0]!quantidade_adquirida)-SUMIF([0]!cod_saida,Estoque!A11361,quantidade_comprada)","v":0}]
[null,null,null,null,null,{"$f":"SUMIF(Codigo_Produto,Estoque!A11375,[0]!quantidade_adquirida)-SUMIF([0]!cod_saida,Estoque!A11375,quantidade_comprada)","v":0}]
[null,null,null,null,null,{"$f":"SUMIF(Codigo_Produto,Estoque!A11382,[0]!quantidade_adquirida)-SUMIF([0]!cod_saida,Estoque!A11382,quantidade_comprada)","v":0}]
[null,null,null,null,null,{"$f":"SUMIF(Codigo_Produto,Estoque!A11402,[0]!quantidade_adquirida)-SUMIF([0]!cod_saida,Estoque!A11402,quantidade_comprada)","v":0}]
[null,null,null,null,null,{"$f":"SUMIF(Codigo_Produto,Estoque!A11405,[0]!quantidade_adquirida)-SUMIF([0]!cod_saida,Estoque!A11405,quantidade_comprada)","v":0}]
[null,null,null,null,null,{"$f":"SUMIF(Codigo_Produto,Estoque!A11425,[0]!quantidade_adquirida)-SUMIF([0]!cod_saida,Estoque!A11425,quantidade_comprada)","v":0}]
[null,null,null,null,null,{"$f":"SUMIF(Codigo_Produto,Estoque!A11432,[0]!quantidade_adquirida)-SUMIF([0]!cod_saida,Estoque!A11432,quantidade_comprada)","v":0}]
[null,null,null,null,null,{"$f":"SUMIF(Codigo_Produto,Estoque!A11448,[0]!quantidade_adquirida)-SUMIF([0]!cod_saida,Estoque!A11448,quantidade_comprada)","v":0}]
[null,null,null,null,null,{"$f":"SUMIF(Codigo_Produto,Estoque!A11464,[0]!quantidade_adquirida)-SUMIF([0]!cod_saida,Estoque!A11464,quantidade_comprada)","v":0}]
[null,null,null,null,null,{"$f":"SUMIF(Codigo_Produto,Estoque!A11470,[0]!quantidade_adquirida)-SUMIF([0]!cod_saida,Estoque!A11470,quantidade_comprada)","v":0}]
[null,null,null,null,null,{"$f":"SUMIF(Codigo_Produto,Estoque!A11490,[0]!quantidade_adquirida)-SUMIF([0]!cod_saida,Estoque!A11490,quantidade_comprada)","v":0}]
[null,null,null,null,null,{"$f":"SUMIF(Codigo_Produto,Estoque!A11497,[0]!quantidade_adquirida)-SUMIF([0]!cod_saida,Estoque!A11497,quantidade_comprada)","v":0}]
[null,null,null,null,null,{"$f":"SUMIF(Codigo_Produto,Estoque!A11513,[0]!quantidade_adquirida)-SUMIF([0]!cod_saida,Estoque!A11513,quantidade_comprada)","v":0}]
[null,null,null,null,null,{"$f":"SUMIF(Codigo_Produto,Estoque!A11520,[0]!quantidade_adquirida)-SUMIF([0]!cod_saida,Estoque!A11520,quantidade_comprada)","v":0}]
[null,null,null,null,null,{"$f":"SUMIF(Codigo_Produto,Estoque!A11536,[0]!quantidade_adquirida)-SUMIF([0]!cod_saida,Estoque!A11536,quantidade_comprada)","v":0}]
[null,null,null,null,null,{"$f":"SUMIF(Codigo_Produto,Estoque!A11557,[0]!quantidade_adquirida)-SUMIF([0]!cod_saida,Estoque!A11557,quantidade_comprada)","v":0}]
[null,null,null,null,null,{"$f":"SUMIF(Codigo_Produto,Estoque!A11562,[0]!quantidade_adquirida)-SUMIF([0]!cod_saida,Estoque!A11562,quantidade_comprada)","v":0}]
[null,null,null,null,null,{"$f":"SUMIF(Codigo_Produto,Estoque!A11578,[0]!quantidade_adquirida)-SUMIF([0]!cod_saida,Estoque!A11578,quantidade_comprada)","v":0}]
[null,null,null,null,null,{"$f":"SUMIF(Codigo_Produto,Estoque!A11585,[0]!quantidade_adquirida)-SUMIF([0]!cod_saida,Estoque!A11585,quantidade_comprada)","v":0}]
[null,null,null,null,null,{"$f":"SUMIF(Codigo_Produto,Estoque!A11605,[0]!quantidade_adquirida)-SUMIF([0]!cod_saida,Estoque!A11605,quantidade_comprada)","v":0}]
[null,null,null,null,null,{"$f":"SUMIF(Codigo_Produto,Estoque!A11621,[0]!quantidade_adquirida)-SUMIF([0]!cod_saida,Estoque!A11621,quantidade_comprada)","v":0}]
[null,null,null,null,null,{"$f":"SUMIF(Codigo_Produto,Estoque!A11628,[0]!quantidade_adquirida)-SUMIF([0]!cod_saida,Estoque!A11628,quantidade_comprada)","v":0}]
[null,null,null,null,null,{"$f":"SUMIF(Codigo_Produto,Estoque!A11644,[0]!quantidade_adquirida)-SUMIF([0]!cod_saida,Estoque!A11644,quantidade_comprada)","v":0}]
[null,null,null,null,null,{"$f":"SUMIF(Codigo_Produto,Estoque!A11660,[0]!quantidade_adquirida)-SUMIF([0]!cod_saida,Estoque!A11660,quantidade_comprada)","v":0}]
[null,null,null,null,null,{"$f":"SUMIF(Codigo_Produto,Estoque!A11670,[0]!quantidade_adquirida)-SUMIF([0]!cod_saida,Estoque!A11670,quantidade_comprada)","v":0}]
[null,null,null,null,null,{"$f":"SUMIF(Codigo_Produto,Estoque!A11686,[0]!quantidade_adquirida)-SUMIF([0]!cod_saida,Estoque!A11686,quantidade_comprada)","v":0}]
[null,null,null,null,null,{"$f":"SUMIF(Codigo_Produto,Estoque!A11693,[0]!quantidade_adquirida)-SUMIF([0]!cod_saida,Estoque!A11693,quantidade_comprada)","v":0}]
[null,null,null,null,null,{"$f":"SUMIF(Codigo_Produto,Estoque!A11709,[0]!quantidade_adquirida)-SUMIF([0]!cod_saida,Estoque!A11709,quantidade_comprada)","v":0}]
[null,null,null,null,null,{"$f":"SUMIF(Codigo_Produto,Estoque!A11716,[0]!quantidade_adquirida)-SUMIF([0]!cod_saida,Estoque!A11716,quantidade_comprada)","v":0}]
[null,null,null,null,null,{"$f":"SUMIF(Codigo_Produto,Estoque!A11736,[0]!quantidade_adquirida)-SUMIF([0]!cod_saida,Estoque!A11736,quantidade_comprada)","v":0}]
[null,null,null,null,null,{"$f":"SUMIF(Codigo_Produto,Estoque!A11741,[0]!quantidade_adquirida)-SUMIF([0]!cod_saida,Estoque!A11741,quantidade_comprada)","v":0}]
[null,null,null,null,null,{"$f":"SUMIF(Codigo_Produto,Estoque!A11758,[0]!quantidade_adquirida)-SUMIF([0]!cod_saida,Estoque!A11758,quantidade_comprada)","v":0}]
[null,null,null,null,null,{"$f":"SUMIF(Codigo_Produto,Estoque!A11765,[0]!quantidade_adquirida)-SUMIF([0]!cod_saida,Estoque!A11765,quantidade_comprada)","v":0}]
[null,null,null,null,null,{"$f":"SUMIF(Codigo_Produto,Estoque!A11781,[0]!quantidade_adquirida)-SUMIF([0]!cod_saida,Estoque!A11781,quantidade_comprada)","v":0}]
[null,null,null,null,null,{"$f":"SUMIF(Codigo_Produto,Estoque!A11801,[0]!quantidade_adquirida)-SUMIF([0]!cod_saida,Estoque!A11801,quantidade_comprada)","v":0}]
[null,null,null,null,null,{"$f":"SUMIF(Codigo_Produto,Estoque!A11804,[0]!quantidade_adquirida)-SUMIF([0]!cod_saida,Estoque!A11804,quantidade_comprada)","v":0}]
[null,null,null,null,null,{"$f":"SUMIF(Codigo_Produto,Estoque!A11824,[0]!quantidade_adquirida)-SUMIF([0]!cod_saida,Estoque!A11824,quantidade_comprada)","v":0}]
[null,null,null,null,null,{"$f":"SUMIF(Codigo_Produto,Estoque!A11830,[0]!quantidade_adquirida)-SUMIF([0]!cod_saida,Estoque!A11830,quantidade_comprada)","v":0}]
[null,null,null,null,null,{"$f":"SUMIF(Codigo_Produto,Estoque!A11846,[0]!quantidade_adquirida)-SUMIF([0]!cod_saida,Estoque!A11846,quantidade_comprada)","v":0}]
[null,null,null,null,null,{"$f":"SUMIF(Codigo_Produto,Estoque!A11866,[0]!quantidade_adquirida)-SUMIF([0]!cod_saida,Estoque!A11866,quantidade_comprada)","v":0}]
[null,null,null,null,null,{"$f":"SUMIF(Codigo_Produto,Estoque!A11873,[0]!quantidade_adquirida)-SUMIF([0]!cod_saida,Estoque!A11873,quantidade_comprada)","v":0}]
[null,null,null,null,null,{"$f":"SUMIF(Codigo_Produto,Estoque!A11889,[0]!quantidade_adquirida)-SUMIF([0]!cod_saida,Estoque!A11889,quantidade_comprada)","v":0}]
[null,null,null,null,null,{"$f":"SUMIF(Codigo_Produto,Estoque!A11896,[0]!quantidade_adquirida)-SUMIF([0]!cod_saida,Estoque!A11896,quantidade_comprada)","v":0}]
[null,null,null,null,null,{"$f":"SUMIF(Codigo_Produto,Estoque!A11912,[0]!quantidade_adquirida)-SUMIF([0]!cod_saida,Estoque!A11912,quantidade_comprada)","v":0}]
[null,null,null,null,null,{"$f":"SUMIF(Codigo_Produto,Estoque!A11919,[0]!quantidade_adquirida)-SUMIF([0]!cod_saida,Estoque!A11919,quantidade_comprada)","v":0}]
[null,null,null,null,null,{"$f":"SUMIF(Codigo_Produto,Estoque!A11933,[0]!quantidade_adquirida)-SUMIF([0]!cod_saida,Estoque!A11933,quantidade_comprada)","v":0}]
[null,null,null,null,null,{"$f":"SUMIF(Codigo_Produto,Estoque!A11954,[0]!quantidade_adquirida)-SUMIF([0]!cod_saida,Estoque!A11954,quantidade_comprada)","v":0}]
[null,null,null,null,null,{"$f":"SUMIF(Codigo_Produto,Estoque!A11961,[0]!quantidade_adquirida)-SUMIF([0]!cod_saida,Estoque!A11961,quantidade_comprada)","v":0}]
[null,null,null,null,null,{"$f":"SUMIF(Codigo_Produto,Estoque!A11977,[0]!quantidade_adquirida)-SUMIF([0]!cod_saida,Estoque!A11977,quantidade_comprada)","v":0}]
[null,null,null,null,null,{"$f":"SUMIF(Codigo_Produto,Estoque!A11984,[0]!quantidade_adquirida)-SUMIF([0]!cod_saida,Estoque!A11984,quantidade_comprada)","v":0}]
[null,null,null,null,null,{"$f":"SUMIF(Codigo_Produto,Estoque!A12004,[0]!quantidade_adquirida)-SUMIF([0]!cod_saida,Estoque!A12004,quantidade_comprada)","v":0}]
[null,null,null,null,null,{"$f":"SUMIF(Codigo_Produto,Estoque!A12020,[0]!quantidade_adquirida)-SUMIF([0]!cod_saida,Estoque!A12020,quantidade_comprada)","v":0}]
[null,null,null,null,null,{"$f":"SUMIF(Codigo_Produto,Estoque!A12026,[0]!quantidade_adquirida)-SUMIF([0]!cod_saida,Estoque!A12026,quantidade_comprada)","v":0}]
[null,null,null,null,null,{"$f":"SUMIF(Codigo_Produto,Estoque!A12046,[0]!quantidade_adquirida)-SUMIF([0]!cod_saida,Estoque!A12046,quantidade_comprada)","v":0}]
[null,null,null,null,null,{"$f":"SUMIF(Codigo_Produto,Estoque!A12049,[0]!quantidade_adquirida)-SUMIF([0]!cod_saida,Estoque!A12049,quantidade_comprada)","v":0}]
[null,null,null,null,null,{"$f":"SUMIF(Codigo_Produto,Estoque!A12069,[0]!quantidade_adquirida)-SUMIF([0]!cod_saida,Estoque!A12069,quantidade_comprada)","v":0}]
[null,null,null,null,null,{"$f":"SUMIF(Codigo_Produto,Estoque!A12085,[0]!quantidade_adquirida)-SUMIF([0]!cod_saida,Estoque!A12085,quantidade_comprada)","v":0}]
[null,null,null,null,null,{"$f":"SUMIF(Codigo_Produto,Estoque!A12092,[0]!quantidade_adquirida)-SUMIF([0]!cod_saida,Estoque!A12092,quantidade_comprada)","v":0}]
[null,null,null,null,null,{"$f":"SUMIF(Codigo_Produto,Estoque!A12099,[0]!quantidade_adquirida)-SUMIF([0]!cod_saida,Estoque!A12099,quantidade_comprada)","v":0}]
[null,null,null,null,null,{"$f":"SUMIF(Codigo_Produto,Estoque!A12119,[0]!quantidade_adquirida)-SUMIF([0]!cod_saida,Estoque!A12119,quantidade_comprada)","v":0}]
[null,null,null,null,null,{"$f":"SUMIF(Codigo_Produto,Estoque!A12134,[0]!quantidade_adquirida)-SUMIF([0]!cod_saida,Estoque!A12134,quantidade_comprada)","v":0}]
[null,null,null,null,null,{"$f":"SUMIF(Codigo_Produto,Estoque!A12141,[0]!quantidade_adquirida)-SUMIF([0]!cod_saida,Estoque!A12141,quantidade_comprada)","v":0}]
[null,null,null,null,null,{"$f":"SUMIF(Codigo_Produto,Estoque!A12157,[0]!quantidade_adquirida)-SUMIF([0]!cod_saida,Estoque!A12157,quantidade_comprada)","v":0}]
[null,null,null,null,null,{"$f":"SUMIF(Codigo_Produto,Estoque!A12164,[0]!quantidade_adquirida)-SUMIF([0]!cod_saida,Estoque!A12164,quantidade_comprada)","v":0}]
[null,null,null,null,null,{"$f":"SUMIF(Codigo_Produto,Estoque!A12180,[0]!quantidade_adquirida)-SUMIF([0]!cod_saida,Estoque!A12180,quantidade_comprada)","v":0}]
[null,null,null,null,null,{"$f":"SUMIF(Codigo_Produto,Estoque!A12200,[0]!quantidade_adquirida)-SUMIF([0]!cod_saida,Estoque!A12200,quantidade_comprada)","v":0}]
[null,null,null,null,null,{"$f":"SUMIF(Codigo_Produto,Estoque!A12207,[0]!quantidade_adquirida)-SUMIF([0]!cod_saida,Estoque!A12207,quantidade_comprada)","v":0}]
[null,null,null,null,null,{"$f":"SUMIF(Codigo_Produto,Estoque!A12222,[0]!quantidade_adquirida)-SUMIF([0]!cod_saida,Estoque!A12222,quantidade_comprada)","v":0}]
[null,null,null,null,null,{"$f":"SUMIF(Codigo_Produto,Estoque!A12229,[0]!quantidade_adquirida)-SUMIF([0]!cod_saida,Estoque!A12229,quantidade_comprada)","v":0}]
[null,null,null,null,null,{"$f":"SUMIF(Codigo_Produto,Estoque!A12245,[0]!quantidade_adquirida)-SUMIF([0]!cod_saida,Estoque!A12245,quantidade_comprada)","v":0}]
[null,null,null,null,null,{"$f":"SUMIF(Codigo_Produto,Estoque!A12265,[0]!quantidade_adquirida)-SUMIF([0]!cod_saida,Estoque!A12265,quantidade_comprada)","v":0}]
[null,null,null,null,null,{"$f":"SUMIF(Codigo_Produto,Estoque!A12272,[0]!quantidade_adquirida)-SUMIF([0]!cod_saida,Estoque!A12272,quantidade_comprada)","v":0}]
[null,null,null,null,null,{"$f":"SUMIF(Codigo_Produto,Estoque!A12288,[0]!quantidade_adquirida)-SUMIF([0]!cod_saida,Estoque!A12288,quantidade_comprada)","v":0}]
[null,null,null,null,null,{"$f":"SUMIF(Codigo_Produto,Estoque!A12295,[0]!quantidade_adquirida)-SUMIF([0]!cod_saida,Estoque!A12295,quantidade_comprada)","v":0}]
[null,null,null,null,null,{"$f":"SUMIF(Codigo_Produto,Estoque!A12311,[0]!quantidade_adquirida)-SUMIF([0]!cod_saida,Estoque!A12311,quantidade_comprada)","v":0}]
[null,null,null,null,null,{"$f":"SUMIF(Codigo_Produto,Estoque!A12317,[0]!quantidade_adquirida)-SUMIF([0]!cod_saida,Estoque!A12317,quantidade_comprada)","v":0}]
[null,null,null,null,null,{"$f":"SUMIF(Codigo_Produto,Estoque!A12337,[0]!quantidade_adquirida)-SUMIF([0]!cod_saida,Estoque!A12337,quantidade_comprada)","v":0}]
[null,null,null,null,null,{"$f":"SUMIF(Codigo_Produto,Estoque!A12353,[0]!quantidade_adquirida)-SUMIF([0]!cod_saida,Estoque!A12353,quantidade_comprada)","v":0}]
[null,null,null,null,null,{"$f":"SUMIF(Codigo_Produto,Estoque!A12360,[0]!quantidade_adquirida)-SUMIF([0]!cod_saida,Estoque!A12360,quantidade_comprada)","v":0}]
[null,null,null,null,null,{"$f":"SUMIF(Codigo_Produto,Estoque!A12380,[0]!quantidade_adquirida)-SUMIF([0]!cod_saida,Estoque!A12380,quantidade_comprada)","v":0}]
[null,null,null,null,null,{"$f":"SUMIF(Codigo_Produto,Estoque!A12383,[0]!quantidade_adquirida)-SUMIF([0]!cod_saida,Estoque!A12383,quantidade_comprada)","v":0}]
[null,null,null,null,null,{"$f":"SUMIF(Codigo_Produto,Estoque!A12404,[0]!quantidade_adquirida)-SUMIF([0]!cod_saida,Estoque!A12404,quantidade_comprada)","v":0}]
[null,null,null,null,null,{"$f":"SUMIF(Codigo_Produto,Estoque!A12418,[0]!quantidade_adquirida)-SUMIF([0]!cod_saida,Estoque!A12418,quantidade_comprada)","v":0}]
[null,null,null,null,null,{"$f":"SUMIF(Codigo_Produto,Estoque!A12425,[0]!quantidade_adquirida)-SUMIF([0]!cod_saida,Estoque!A12425,quantidade_comprada)","v":0}]
[null,null,null,null,null,{"$f":"SUMIF(Codigo_Produto,Estoque!A12445,[0]!quantidade_adquirida)-SUMIF([0]!cod_saida,Estoque!A12445,quantidade_comprada)","v":0}]
[null,null,null,null,null,{"$f":"SUMIF(Codigo_Produto,Estoque!A12448,[0]!quantidade_adquirida)-SUMIF([0]!cod_saida,Estoque!A12448,quantidade_comprada)","v":0}]
[null,null,null,null,null,{"$f":"SUMIF(Codigo_Produto,Estoque!A12468,[0]!quantidade_adquirida)-SUMIF([0]!cod_saida,Estoque!A12468,quantidade_comprada)","v":0}]
[null,null,null,null,null,{"$f":"SUMIF(Codigo_Produto,Estoque!A12475,[0]!quantidade_adquirida)-SUMIF([0]!cod_saida,Estoque!A12475,quantidade_comprada)","v":0}]
[null,null,null,null,null,{"$f":"SUMIF(Codigo_Produto,Estoque!A12491,[0]!quantidade_adquirida)-SUMIF([0]!cod_saida,Estoque!A12491,quantidade_comprada)","v":0}]
[null,null,null,null,null,{"$f":"SUMIF(Codigo_Produto,Estoque!A12507,[0]!quantidade_adquirida)-SUMIF([0]!cod_saida,Estoque!A12507,quantidade_comprada)","v":0}]
[null,null,null,null,null,{"$f":"SUMIF(Codigo_Produto,Estoque!A12513,[0]!quantidade_adquirida)-SUMIF([0]!cod_saida,Estoque!A12513,quantidade_comprada)","v":0}]
[null,null,null,null,null,{"$f":"SUMIF(Codigo_Produto,Estoque!A12533,[0]!quantidade_adquirida)-SUMIF([0]!cod_saida,Estoque!A12533,quantidade_comprada)","v":0}]
[null,null,null,null,null,{"$f":"SUMIF(Codigo_Produto,Estoque!A12540,[0]!quantidade_adquirida)-SUMIF([0]!cod_saida,Estoque!A12540,quantidade_comprada)","v":0}]
[null,null,null,null,null,{"$f":"SUMIF(Codigo_Produto,Estoque!A12556,[0]!quantidade_adquirida)-SUMIF([0]!cod_saida,Estoque!A12556,quantidade_comprada)","v":0}]
[null,null,null,null,null,{"$f":"SUMIF(Codigo_Produto,Estoque!A12563,[0]!quantidade_adquirida)-SUMIF([0]!cod_saida,Estoque!A12563,quantidade_comprada)","v":0}]
[null,null,null,null,null,{"$f":"SUMIF(Codigo_Produto,Estoque!A12583,[0]!quantidade_adquirida)-SUMIF([0]!cod_saida,Estoque!A12583,quantidade_comprada)","v":0}]
[null,null,null,null,null,{"$f":"SUMIF(Codigo_Produto,Estoque!A12588,[0]!quantidade_adquirida)-SUMIF([0]!cod_saida,Estoque!A12588,quantidade_comprada)","v":0}]
[null,null,null,null,null,{"$f":"SUMIF(Codigo_Produto,Estoque!A12605,[0]!quantidade_adquirida)-SUMIF([0]!cod_saida,Estoque!A12605,quantidade_comprada)","v":0}]
[null,null,null,null,null,{"$f":"SUMIF(Codigo_Produto,Estoque!A12621,[0]!quantidade_adquirida)-SUMIF([0]!cod_saida,Estoque!A12621,quantidade_comprada)","v":0}]
[null,null,null,null,null,{"$f":"SUMIF(Codigo_Produto,Estoque!A12628,[0]!quantidade_adquirida)-SUMIF([0]!cod_saida,Estoque!A12628,quantidade_comprada)","v":0}]
[null,null,null,null,null,{"$f":"SUMIF(Codigo_Produto,Estoque!A12648,[0]!quantidade_adquirida)-SUMIF([0]!cod_saida,Estoque!A12648,quantidade_comprada)","v":0}]
[null,null,null,null,null,{"$f":"SUMIF(Codigo_Produto,Estoque!A12664,[0]!quantidade_adquirida)-SUMIF([0]!cod_saida,Estoque!A12664,quantidade_comprada)","v":0}]
[null,null,null,null,null,{"$f":"SUMIF(Codigo_Produto,Estoque!A12671,[0]!quantidade_adquirida)-SUMIF([0]!cod_saida,Estoque!A12671,quantidade_comprada)","v":0}]
[null,null,null,null,null,{"$f":"SUMIF(Codigo_Produto,Estoque!A12681,[0]!quantidade_adquirida)-SUMIF([0]!cod_saida,Estoque!A12681,quantidade_comprada)","v":0}]
[null,null,null,null,null,{"$f":"SUMIF(Codigo_Produto,Estoque!A12693,[0]!quantidade_adquirida)-SUMIF([0]!cod_saida,Estoque!A12693,quantidade_comprada)","v":0}]
[null,null,null,null,null,{"$f":"SUMIF(Codigo_Produto,Estoque!A12713,[0]!quantidade_adquirida)-SUMIF([0]!cod_saida,Estoque!A12713,quantidade_comprada)","v":0}]
[null,null,null,null,null,{"$f":"SUMIF(Codigo_Produto,Estoque!A12716,[0]!quantidade_adquirida)-SUMIF([0]!cod_saida,Estoque!A12716,quantidade_comprada)","v":0}]
[null,null,null,null,null,{"$f":"SUMIF(Codigo_Produto,Estoque!A12736,[0]!quantidade_adquirida)-SUMIF([0]!cod_saida,Estoque!A12736,quantidade_comprada)","v":0}]
[null,null,null,null,null,{"$f":"SUMIF(Codigo_Produto,Estoque!A12743,[0]!quantidade_adquirida)-SUMIF([0]!cod_saida,Estoque!A12743,quantidade_comprada)","v":0}]
[null,null,null,null,null,{"$f":"SUMIF(Codigo_Produto,Estoque!A12759,[0]!quantidade_adquirida)-SUMIF([0]!cod_saida,Estoque!A12759,quantidade_comprada)","v":0}]
[null,null,null,null,null,{"$f":"SUMIF(Codigo_Produto,Estoque!A12779,[0]!quantidade_adquirida)-SUMIF([0]!cod_saida,Estoque!A12779,quantidade_comprada)","v":0}]
[null,null,null,null,null,{"$f":"SUMIF(Codigo_Produto,Estoque!A12784,[0]!quantidade_adquirida)-SUMIF([0]!cod_saida,Estoque!A12784,quantidade_comprada)","v":0}]
[null,null,null,null,null,{"$f":"SUMIF(Codigo_Produto,Estoque!A12801,[0]!quantidade_adquirida)-SUMIF([0]!cod_saida,Estoque!A12801,quantidade_comprada)","v":0}]
[null,null,null,null,null,{"$f":"SUMIF(Codigo_Produto,Estoque!A12808,[0]!quantidade_adquirida)-SUMIF([0]!cod_saida,Estoque!A12808,quantidade_comprada)","v":0}]
[null,null,null,null,null,{"$f":"SUMIF(Codigo_Produto,Estoque!A12824,[0]!quantidade_adquirida)-SUMIF([0]!cod_saida,Estoque!A12824,quantidade_comprada)","v":0}]
[null,null,null,null,null,{"$f":"SUMIF(Codigo_Produto,Estoque!A12844,[0]!quantidade_adquirida)-SUMIF([0]!cod_saida,Estoque!A12844,quantidade_comprada)","v":0}]
[null,null,null,null,null,{"$f":"SUMIF(Codigo_Produto,Estoque!A12851,[0]!quantidade_adquirida)-SUMIF([0]!cod_saida,Estoque!A12851,quantidade_comprada)","v":0}]
[null,null,null,null,null,{"$f":"SUMIF(Codigo_Produto,Estoque!A12867,[0]!quantidade_adquirida)-SUMIF([0]!cod_saida,Estoque!A12867,quantidade_comprada)","v":0}]
[null,null,null,null,null,{"$f":"SUMIF(Codigo_Produto,Estoque!A12873,[0]!quantidade_adquirida)-SUMIF([0]!cod_saida,Estoque!A12873,quantidade_comprada)","v":0}]
[null,null,null,null,null,{"$f":"SUMIF(Codigo_Produto,Estoque!A12889,[0]!quantidade_adquirida)-SUMIF([0]!cod_saida,Estoque!A12889,quantidade_comprada)","v":0}]
[null,null,null,null,null,{"$f":"SUMIF(Codigo_Produto,Estoque!A12896,[0]!quantidade_adquirida)-SUMIF([0]!cod_saida,Estoque!A12896,quantidade_comprada)","v":0}]
[null,null,null,null,null,{"$f":"SUMIF(Codigo_Produto,Estoque!A12916,[0]!quantidade_adquirida)-SUMIF([0]!cod_saida,Estoque!A12916,quantidade_comprada)","v":0}]
[null,null,null,null,null,{"$f":"SUMIF(Codigo_Produto,Estoque!A12932,[0]!quantidade_adquirida)-SUMIF([0]!cod_saida,Estoque!A12932,quantidade_comprada)","v":0}]
[null,null,null,null,null,{"$f":"SUMIF(Codigo_Produto,Estoque!A12939,[0]!quantidade_adquirida)-SUMIF([0]!cod_saida,Estoque!A12939,quantidade_comprada)","v":0}]
[null,null,null,null,null,{"$f":"SUMIF(Codigo_Produto,Estoque!A12955,[0]!quantidade_adquirida)-SUMIF([0]!cod_saida,Estoque!A12955,quantidade_comprada)","v":0}]
[null,null,null,null,null,{"$f":"SUMIF(Codigo_Produto,Estoque!A12966,[0]!quantidade_adquirida)-SUMIF([0]!cod_saida,Estoque!A12966,quantidade_comprada)","v":0}]
[null,null,null,null,null,{"$f":"SUMIF(Codigo_Produto,Estoque!A12981,[0]!quantidade_adquirida)-SUMIF([0]!cod_saida,Estoque!A12981,quantidade_comprada)","v":0}]
[null,null,null,null,null,{"$f":"SUMIF(Codigo_Produto,Estoque!A12997,[0]!quantidade_adquirida)-SUMIF([0]!cod_saida,Estoque!A12997,quantidade_comprada)","v":0}]
[null,null,null,null,null,{"$f":"SUMIF(Codigo_Produto,Estoque!A13004,[0]!quantidade_adquirida)-SUMIF([0]!cod_saida,Estoque!A13004,quantidade_comprada)","v":0}]
[null,null,null,null,null,{"$f":"SUMIF(Codigo_Produto,Estoque!A13024,[0]!quantidade_adquirida)-SUMIF([0]!cod_saida,Estoque!A13024,quantidade_comprada)","v":0}]
[null,null,null,null,null,{"$f":"SUMIF(Codigo_Produto,Estoque!A13027,[0]!quantidade_adquirida)-SUMIF([0]!cod_saida,Estoque!A13027,quantidade_comprada)","v":0}]
[null,null,null,null,null,{"$f":"SUMIF(Codigo_Produto,Estoque!A13047,[0]!quantidade_adquirida)-SUMIF([0]!cod_saida,Estoque!A13047,quantidade_comprada)","v":0}]
[null,null,null,null,null,{"$f":"SUMIF(Codigo_Produto,Estoque!A13063,[0]!quantidade_adquirida)-SUMIF([0]!cod_saida,Estoque!A13063,quantidade_comprada)","v":0}]
[null,null,null,null,null,{"$f":"SUMIF(Codigo_Produto,Estoque!A13069,[0]!quantidade_adquirida)-SUMIF([0]!cod_saida,Estoque!A13069,quantidade_comprada)","v":0}]
[null,null,null,null,null,{"$f":"SUMIF(Codigo_Produto,Estoque!A13076,[0]!quantidade_adquirida)-SUMIF([0]!cod_saida,Estoque!A13076,quantidade_comprada)","v":0}]
[null,null,null,null,null,{"$f":"SUMIF(Codigo_Produto,Estoque!A13092,[0]!quantidade_adquirida)-SUMIF([0]!cod_saida,Estoque!A13092,quantidade_comprada)","v":0}]
[null,null,null,null,null,{"$f":"SUMIF(Codigo_Produto,Estoque!A13112,[0]!quantidade_adquirida)-SUMIF([0]!cod_saida,Estoque!A13112,quantidade_comprada)","v":0}]
[null,null,null,null,null,{"$f":"SUMIF(Codigo_Produto,Estoque!A13115,[0]!quantidade_adquirida)-SUMIF([0]!cod_saida,Estoque!A13115,quantidade_comprada)","v":0}]
[null,null,null,null,null,{"$f":"SUMIF(Codigo_Produto,Estoque!A13135,[0]!quantidade_adquirida)-SUMIF([0]!cod_saida,Estoque!A13135,quantidade_comprada)","v":0}]
[null,null,null,null,null,{"$f":"SUMIF(Codigo_Produto,Estoque!A13142,[0]!quantidade_adquirida)-SUMIF([0]!cod_saida,Estoque!A13142,quantidade_comprada)","v":0}]
[null,null,null,null,null,{"$f":"SUMIF(Codigo_Produto,Estoque!A13162,[0]!quantidade_adquirida)-SUMIF([0]!cod_saida,Estoque!A13162,quantidade_comprada)","v":0}]
[null,null,null,null,null,{"$f":"SUMIF(Codigo_Produto,Estoque!A13177,[0]!quantidade_adquirida)-SUMIF([0]!cod_saida,Estoque!A13177,quantidade_comprada)","v":0}]
[null,null,null,null,null,{"$f":"SUMIF(Codigo_Produto,Estoque!A13184,[0]!quantidade_adquirida)-SUMIF([0]!cod_saida,Estoque!A13184,quantidade_comprada)","v":0}]
[null,null,null,null,null,{"$f":"SUMIF(Codigo_Produto,Estoque!A13200,[0]!quantidade_adquirida)-SUMIF([0]!cod_saida,Estoque!A13200,quantidade_comprada)","v":0}]
[null,null,null,null,null,{"$f":"SUMIF(Codigo_Produto,Estoque!A13207,[0]!quantidade_adquirida)-SUMIF([0]!cod_saida,Estoque!A13207,quantidade_comprada)","v":0}]
[null,null,null,null,null,{"$f":"SUMIF(Codigo_Produto,Estoque!A13223,[0]!quantidade_adquirida)-SUMIF([0]!cod_saida,Estoque!A13223,quantidade_comprada)","v":0}]
[null,null,null,null,null,{"$f":"SUMIF(Codigo_Produto,Estoque!A13243,[0]!quantidade_adquirida)-SUMIF([0]!cod_saida,Estoque!A13243,quantidade_comprada)","v":0}]
[null,null,null,null,null,{"$f":"SUMIF(Codigo_Produto,Estoque!A13250,[0]!quantidade_adquirida)-SUMIF([0]!cod_saida,Estoque!A13250,quantidade_comprada)","v":0}]
[null,null,null,null,null,{"$f":"SUMIF(Codigo_Produto,Estoque!A13265,[0]!quantidade_adquirida)-SUMIF([0]!cod_saida,Estoque!A13265,quantidade_comprada)","v":0}]
[null,null,null,null,null,{"$f":"SUMIF(Codigo_Produto,Estoque!A13272,[0]!quantidade_adquirida)-SUMIF([0]!cod_saida,Estoque!A13272,quantidade_comprada)","v":0}]
[null,null,null,null,null,{"$f":"SUMIF(Codigo_Produto,Estoque!A13292,[0]!quantidade_adquirida)-SUMIF([0]!cod_saida,Estoque!A13292,quantidade_comprada)","v":0}]
[null,null,null,null,null,{"$f":"SUMIF(Codigo_Produto,Estoque!A13295,[0]!quantidade_adquirida)-SUMIF([0]!cod_saida,Estoque!A13295,quantidade_comprada)","v":0}]
[null,null,null,null,null,{"$f":"SUMIF(Codigo_Produto,Estoque!A13315,[0]!quantidade_adquirida)-SUMIF([0]!cod_saida,Estoque!A13315,quantidade_comprada)","v":0}]
[null,null,null,null,null,{"$f":"SUMIF(Codigo_Produto,Estoque!A13331,[0]!quantidade_adquirida)-SUMIF([0]!cod_saida,Estoque!A13331,quantidade_comprada)","v":0}]
[null,null,null,null,null,{"$f":"SUMIF(Codigo_Produto,Estoque!A13338,[0]!quantidade_adquirida)-SUMIF([0]!cod_saida,Estoque!A13338,quantidade_comprada)","v":0}]
[null,null,null,null,null,{"$f":"SUMIF(Codigo_Produto,Estoque!A13354,[0]!quantidade_adquirida)-SUMIF([0]!cod_saida,Estoque!A13354,quantidade_comprada)","v":0}]
[null,null,null,null,null,{"$f":"SUMIF(Codigo_Produto,Estoque!A13360,[0]!quantidade_adquirida)-SUMIF([0]!cod_saida,Estoque!A13360,quantidade_comprada)","v":0}]
[null,null,null,null,null,{"$f":"SUMIF(Codigo_Produto,Estoque!A13380,[0]!quantidade_adquirida)-SUMIF([0]!cod_saida,Estoque!A13380,quantidade_comprada)","v":0}]
[null,null,null,null,null,{"$f":"SUMIF(Codigo_Produto,Estoque!A13396,[0]!quantidade_adquirida)-SUMIF([0]!cod_saida,Estoque!A13396,quantidade_comprada)","v":0}]
[null,null,null,null,null,{"$f":"SUMIF(Codigo_Produto,Estoque!A13403,[0]!quantidade_adquirida)-SUMIF([0]!cod_saida,Estoque!A13403,quantidade_comprada)","v":0}]
[null,null,null,null,null,{"$f":"SUMIF(Codigo_Produto,Estoque!A13423,[0]!quantidade_adquirida)-SUMIF([0]!cod_saida,Estoque!A13423,quantidade_comprada)","v":0}]
[null,null,null,null,null,{"$f":"SUMIF(Codigo_Produto,Estoque!A13426,[0]!quantidade_adquirida)-SUMIF([0]!cod_saida,Estoque!A13426,quantidade_comprada)","v":0}]
[null,null,null,null,null,{"$f":"SUMIF(Codigo_Produto,Estoque!A13447,[0]!quantidade_adquirida)-SUMIF([0]!cod_saida,Estoque!A13447,quantidade_comprada)","v":0}]
[null,null,null,null,null,{"$f":"SUMIF(Codigo_Produto,Estoque!A13452,[0]!quantidade_adquirida)-SUMIF([0]!cod_saida,Estoque!A13452,quantidade_comprada)","v":0}]
[null,null,null,null,null,{"$f":"SUMIF(Codigo_Produto,Estoque!A13468,[0]!quantidade_adquirida)-SUMIF([0]!cod_saida,Estoque!A13468,quantidade_comprada)","v":0}]
[null,null,null,null,null,{"$f":"SUMIF(Codigo_Produto,Estoque!A13475,[0]!quantidade_adquirida)-SUMIF([0]!cod_saida,Estoque!A13475,quantidade_comprada)","v":0}]
[null,null,null,null,null,{"$f":"SUMIF(Codigo_Produto,Estoque!A13491,[0]!quantidade_adquirida)-SUMIF([0]!cod_saida,Estoque!A13491,quantidade_comprada)","v":0}]
[null,null,null,null,null,{"$f":"SUMIF(Codigo_Produto,Estoque!A13511,[0]!quantidade_adquirida)-SUMIF([0]!cod_saida,Estoque!A13511,quantidade_comprada)","v":0}]
[null,null,null,null,null,{"$f":"SUMIF(Codigo_Produto,Estoque!A13518,[0]!quantidade_adquirida)-SUMIF([0]!cod_saida,Estoque!A13518,quantidade_comprada)","v":0}]
[null,null,null,null,null,{"$f":"SUMIF(Codigo_Produto,Estoque!A13534,[0]!quantidade_adquirida)-SUMIF([0]!cod_saida,Estoque!A13534,quantidade_comprada)","v":0}]
[null,null,null,null,null,{"$f":"SUMIF(Codigo_Produto,Estoque!A13550,[0]!quantidade_adquirida)-SUMIF([0]!cod_saida,Estoque!A13550,quantidade_comprada)","v":0}]
[null,null,null,null,null,{"$f":"SUMIF(Codigo_Produto,Estoque!A13556,[0]!quantidade_adquirida)-SUMIF([0]!cod_saida,Estoque!A13556,quantidade_comprada)","v":0}]
[null,null,null,null,null,{"$f":"SUMIF(Codigo_Produto,Estoque!A13576,[0]!quantidade_adquirida)-SUMIF([0]!cod_saida,Estoque!A13576,quantidade_comprada)","v":0}]
[null,null,null,null,null,{"$f":"SUMIF(Codigo_Produto,Estoque!A13583,[0]!quantidade_adquirida)-SUMIF([0]!cod_saida,Estoque!A13583,quantidade_comprada)","v":0}]
[null,null,null,null,null,{"$f":"SUMIF(Codigo_Produto,Estoque!A13599,[0]!quantidade_adquirida)-SUMIF([0]!cod_saida,Estoque!A13599,quantidade_comprada)","v":0}]
[null,null,null,null,null,{"$f":"SUMIF(Codigo_Produto,Estoque!A13606,[0]!quantidade_adquirida)-SUMIF([0]!cod_saida,Estoque!A13606,quantidade_comprada)","v":0}]
[null,null,null,null,null,{"$f":"SUMIF(Codigo_Produto,Estoque!A13626,[0]!quantidade_adquirida)-SUMIF([0]!cod_saida,Estoque!A13626,quantidade_comprada)","v":0}]
[null,null,null,null,null,{"$f":"SUMIF(Codigo_Produto,Estoque!A13631,[0]!quantidade_adquirida)-SUMIF([0]!cod_saida,Estoque!A13631,quantidade_comprada)","v":0}]
[null,null,null,null,null,{"$f":"SUMIF(Codigo_Produto,Estoque!A13648,[0]!quantidade_adquirida)-SUMIF([0]!cod_saida,Estoque!A13648,quantidade_comprada)","v":0}]
[null,null,null,null,null,{"$f":"SUMIF(Codigo_Produto,Estoque!A13664,[0]!quantidade_adquirida)-SUMIF([0]!cod_saida,Estoque!A13664,quantidade_comprada)","v":0}]
[null,null,null,null,null,{"$f":"SUMIF(Codigo_Produto,Estoque!A13671,[0]!quantidade_adquirida)-SUMIF([0]!cod_saida,Estoque!A13671,quantidade_comprada)","v":0}]
[null,null,null,null,null,{"$f":"SUMIF(Codigo_Produto,Estoque!A13691,[0]!quantidade_adquirida)-SUMIF([0]!cod_saida,Estoque!A13691,quantidade_comprada)","v":0}]
[null,null,null,null,null,{"$f":"SUMIF(Codigo_Produto,Estoque!A13694,[0]!quantidade_adquirida)-SUMIF([0]!cod_saida,Estoque!A13694,quantidade_comprada)","v":0}]
[null,null,null,null,null,{"$f":"SUMIF(Codigo_Produto,Estoque!A13714,[0]!quantidade_adquirida)-SUMIF([0]!cod_saida,Estoque!A13714,quantidade_comprada)","v":0}]
[null,null,null,null,null,{"$f":"SUMIF(Codigo_Produto,Estoque!A13720,[0]!quantidade_adquirida)-SUMIF([0]!cod_saida,Estoque!A13720,quantidade_comprada)","v":0}]
[null,null,null,null,null,{"$f":"SUMIF(Codigo_Produto,Estoque!A13736,[0]!quantidade_adquirida)-SUMIF([0]!cod_saida,Estoque!A13736,quantidade_comprada)","v":0}]
[null,null,null,null,null,{"$f":"SUMIF(Codigo_Produto,Estoque!A13756,[0]!quantidade_adquirida)-SUMIF([0]!cod_saida,Estoque!A13756,quantidade_comprada)","v":0}]
[null,null,null,null,null,{"$f":"SUMIF(Codigo_Produto,Estoque!A13759,[0]!quantidade_adquirida)-SUMIF([0]!cod_saida,Estoque!A13759,quantidade_comprada)","v":0}]
[null,null,null,null,null,{"$f":"SUMIF(Codigo_Produto,Estoque!A13779,[0]!quantidade_adquirida)-SUMIF([0]!cod_saida,Estoque!A13779,quantidade_comprada)","v":0}]
[null,null,null,null,null,{"$f":"SUMIF(Codigo_Produto,Estoque!A13786,[0]!quantidade_adquirida)-SUMIF([0]!cod_saida,Estoque!A13786,quantidade_comprada)","v":0}]
[null,null,null,null,null,{"$f":"SUMIF(Codigo_Produto,Estoque!A13802,[0]!quantidade_adquirida)-SUMIF([0]!cod_saida,Estoque!A13802,quantidade_comprada)","v":0}]
[null,null,null,null,null,{"$f":"SUMIF(Codigo_Produto,Estoque!A13822,[0]!quantidade_adquirida)-SUMIF([0]!cod_saida,Estoque!A13822,quantidade_comprada)","v":0}]
[null,null,null,null,null,{"$f":"SUMIF(Codigo_Produto,Estoque!A13827,[0]!quantidade_adquirida)-SUMIF([0]!cod_saida,Estoque!A13827,quantidade_comprada)","v":0}]
[null,null,null,null,null,{"$f":"SUMIF(Codigo_Produto,Estoque!A13844,[0]!quantidade_adquirida)-SUMIF([0]!cod_saida,Estoque!A13844,quantidade_comprada)","v":0}]
[null,null,null,null,null,{"$f":"SUMIF(Codigo_Produto,Estoque!A13851,[0]!quantidade_adquirida)-SUMIF([0]!cod_saida,Estoque!A13851,quantidade_comprada)","v":0}]
[null,null,null,null,null,{"$f":"SUMIF(Codigo_Produto,Estoque!A13867,[0]!quantidade_adquirida)-SUMIF([0]!cod_saida,Estoque!A13867,quantidade_comprada)","v":0}]
[null,null,null,null,null,{"$f":"SUMIF(Codigo_Produto,Estoque!A13874,[0]!quantidade_adquirida)-SUMIF([0]!cod_saida,Estoque!A13874,quantidade_comprada)","v":0}]
[null,null,null,null,null,{"$f":"SUMIF(Codigo_Produto,Estoque!A13894,[0]!quantidade_adquirida)-SUMIF([0]!cod_saida,Estoque!A13894,quantidade_comprada)","v":0}]
[null,null,null,null,null,{"$f":"SUMIF(Codigo_Produto,Estoque!A13910,[0]!quantidade_adquirida)-SUMIF([0]!cod_saida,Estoque!A13910,quantidade_comprada)","v":0}]
[null,null,null,null,null,{"$f":"SUMIF(Codigo_Produto,Estoque!A13916,[0]!quantidade_adquirida)-SUMIF([0]!cod_saida,Estoque!A13916,quantidade_comprada)","v":0}]
[null,null,null,null,null,{"$f":"SUMIF(Codigo_Produto,Estoque!A13932,[0]!quantidade_adquirida)-SUMIF([0]!cod_saida,Estoque!A13932,quantidade_comprada)","v":0}]
[null,null,null,null,null,{"$f":"SUMIF(Codigo_Produto,Estoque!A13939,[0]!quantidade_adquirida)-SUMIF([0]!cod_saida,Estoque!A13939,quantidade_comprada)","v":0}]
[null,null,null,null,null,{"$f":"SUMIF(Codigo_Produto,Estoque!A13959,[0]!quantidade_adquirida)-SUMIF([0]!cod_saida,Estoque!A13959,quantidade_comprada)","v":0}]
[null,null,null,null,null,{"$f":"SUMIF(Codigo_Produto,Estoque!A13975,[0]!quantidade_adquirida)-SUMIF([0]!cod_saida,Estoque!A13975,quantidade_comprada)","v":0}]
[null,null,null,null,null,{"$f":"SUMIF(Codigo_Produto,Estoque!A13982,[0]!quantidade_adquirida)-SUMIF([0]!cod_saida,Estoque!A13982,quantidade_comprada)","v":0}]
[null,null,null,null,null,{"$f":"SUMIF(Codigo_Produto,Estoque!A14002,[0]!quantidade_adquirida)-SUMIF([0]!cod_saida,Estoque!A14002,quantidade_comprada)","v":0}]
[null,null,null,null,null,{"$f":"SUMIF(Codigo_Produto,Estoque!A14009,[0]!quantidade_adquirida)-SUMIF([0]!cod_saida,Estoque!A14009,quantidade_comprada)","v":0}]
[null,null,null,null,null,{"$f":"SUMIF(Codigo_Produto,Estoque!A14024,[0]!quantidade_adquirida)-SUMIF([0]!cod_saida,Estoque!A14024,quantidade_comprada)","v":0}]
[null,null,null,null,null,{"$f":"SUMIF(Codigo_Produto,Estoque!A14040,[0]!quantidade_adquirida)-SUMIF([0]!cod_saida,Estoque!A14040,quantidade_comprada)","v":0}]
[null,null,null,null,null,{"$f":"SUMIF(Codigo_Produto,Estoque!A14047,[0]!quantidade_adquirida)-SUMIF([0]!cod_saida,Estoque!A14047,quantidade_comprada)","v":0}]
[null,null,null,null,null,{"$f":"SUMIF(Codigo_Produto,Estoque!A14054,[0]!quantidade_adquirida)-SUMIF([0]!cod_saida,Estoque!A14054,quantidade_comprada)","v":0}]
[null,null,null,null,null,{"$f":"SUMIF(Codigo_Produto,Estoque!A14070,[0]!quantidade_adquirida)-SUMIF([0]!cod_saida,Estoque!A14070,quantidade_comprada)","v":0}]
[null,null,null,null,null,{"$f":"SUMIF(Codigo_Produto,Estoque!A14090,[0]!quantidade_adquirida)-SUMIF([0]!cod_saida,Estoque!A14090,quantidade_comprada)","v":0}]
[null,null,null,null,null,{"$f":"SUMIF(Codigo_Produto,Estoque!A14093,[0]!quantidade_adquirida)-SUMIF([0]!cod_saida,Estoque!A14093,quantidade_comprada)","v":0}]
[null,null,null,null,null,{"$f":"SUMIF(Codigo_Produto,Estoque!A14112,[0]!quantidade_adquirida)-SUMIF([0]!cod_saida,Estoque!A14112,quantidade_comprada)","v":0}]
[null,null,null,null,null,{"$f":"SUMIF(Codigo_Produto,Estoque!A14119,[0]!quantidade_adquirida)-SUMIF([0]!cod_saida,Estoque!A14119,quantidade_comprada)","v":0}]
[null,null,null,null,null,{"$f":"SUMIF(Codigo_Produto,Estoque!A14135,[0]!quantidade_adquirida)-SUMIF([0]!cod_saida,Estoque!A14135,quantidade_comprada)","v":0}]
[null,null,null,null,null,{"$f":"SUMIF(Codigo_Produto,Estoque!A14155,[0]!quantidade_adquirida)-SUMIF([0]!cod_saida,Estoque!A14155,quantidade_comprada)","v":0}]
[null,null,null,null,null,{"$f":"SUMIF(Codigo_Produto,Estoque!A14162,[0]!quantidade_adquirida)-SUMIF([0]!cod_saida,Estoque!A14162,quantidade_comprada)","v":0}]
[null,null,null,null,null,{"$f":"SUMIF(Codigo_Produto,Estoque!A14178,[0]!quantidade_adquirida)-SUMIF([0]!cod_saida,Estoque!A14178,quantidade_comprada)","v":0}]
[null,null,null,null,null,{"$f":"SUMIF(Codigo_Produto,Estoque!A14185,[0]!quantidade_adquirida)-SUMIF([0]!cod_saida,Estoque!A14185,quantidade_comprada)","v":0}]
[null,null,null,null,null,{"$f":"SUMIF(Codigo_Produto,Estoque!A14205,[0]!quantidade_adquirida)-SUMIF([0]!cod_saida,Estoque!A14205,quantidade_comprada)","v":0}]
[null,null,null,null,null,{"$f":"SUMIF(Codigo_Produto,Estoque!A14220,[0]!quantidade_adquirida)-SUMIF([0]!cod_saida,Estoque!A14220,quantidade_comprada)","v":0}]
[null,null,null,null,null,{"$f":"SUMIF(Codigo_Produto,Estoque!A14227,[0]!quantidade_adquirida)-SUMIF([0]!cod_saida,Estoque!A14227,quantidade_comprada)","v":0}]
[null,null,null,null,null,{"$f":"SUMIF(Codigo_Produto,Estoque!A14243,[0]!quantidade_adquirida)-SUMIF([0]!cod_saida,Estoque!A14243,quantidade_comprada)","v":0}]
[null,null,null,null,null,{"$f":"SUMIF(Codigo_Produto,Estoque!A14250,[0]!quantidade_adquirida)-SUMIF([0]!cod_saida,Estoque!A14250,quantidade_comprada)","v":0}]
[null,null,null,null,null,{"$f":"SUMIF(Codigo_Produto,Estoque!A14266,[0]!quantidade_adquirida)-SUMIF([0]!cod_saida,Estoque!A14266,quantidade_comprada)","v":0}]
[null,null,null,null,null,{"$f":"SUMIF(Codigo_Produto,Estoque!A14273,[0]!quantidade_adquirida)-SUMIF([0]!cod_saida,Estoque!A14273,quantidade_comprada)","v":0}]
[null,null,null,null,null,{"$f":"SUMIF(Codigo_Produto,Estoque!A14294,[0]!quantidade_adquirida)-SUMIF([0]!cod_saida,Estoque!A14294,quantidade_comprada)","v":0}]
[null,null,null,null,null,{"$f":"SUMIF(Codigo_Produto,Estoque!A14308,[0]!quantidade_adquirida)-SUMIF([0]!cod_saida,Estoque!A14308,quantidade_comprada)","v":0}]
[null,null,null,null,null,{"$f":"SUMIF(Codigo_Produto,Estoque!A14315,[0]!quantidade_adquirida)-SUMIF([0]!cod_saida,Estoque!A14315,quantidade_comprada)","v":0}]
[null,null,null,null,null,{"$f":"SUMIF(Codigo_Produto,Estoque!A14335,[0]!quantidade_adquirida)-SUMIF([0]!cod_saida,Estoque!A14335,quantidade_comprada)","v":0}]
[null,null,null,null,null,{"$f":"SUMIF(Codigo_Produto,Estoque!A14338,[0]!quantidade_adquirida)-SUMIF([0]!cod_saida,Estoque!A14338,quantidade_comprada)","v":0}]
[null,null,null,null,null,{"$f":"SUMIF(Codigo_Produto,Estoque!A14358,[0]!quantidade_adquirida)-SUMIF([0]!cod_saida,Estoque!A14358,quantidade_comprada)","v":0}]
[null,null,null,null,null,{"$f":"SUMIF(Codigo_Produto,Estoque!A14374,[0]!quantidade_adquirida)-SUMIF([0]!cod_saida,Estoque!A14374,quantidade_comprada)","v":0}]
[null,null,null,null,null,{"$f":"SUMIF(Codigo_Produto,Estoque!A14381,[0]!quantidade_adquirida)-SUMIF([0]!cod_saida,Estoque!A14381,quantidade_comprada)","v":0}]
[null,null,null,null,null,{"$f":"SUMIF(Codigo_Produto,Estoque!A14397,[0]!quantidade_adquirida)-SUMIF([0]!cod_saida,Estoque!A14397,quantidade_comprada)","v":0}]
[null,null,null,null,null,{"$f":"SUMIF(Codigo_Produto,Estoque!A14403,[0]!quantidade_adquirida)-SUMIF([0]!cod_saida,Estoque!A14403,quantidade_comprada)","v":0}]
[null,null,null,null,null,{"$f":"SUMIF(Codigo_Produto,Estoque!A14423,[0]!quantidade_adquirida)-SUMIF([0]!cod_saida,Estoque!A14423,quantidade_comprada)","v":0}]
[null,null,null,null,null,{"$f":"SUMIF(Codigo_Produto,Estoque!A14430,[0]!quantidade_adquirida)-SUMIF([0]!cod_saida,Estoque!A14430,quantidade_comprada)","v":0}]
[null,null,null,null,null,{"$f":"SUMIF(Codigo_Produto,Estoque!A14446,[0]!quantidade_adquirida)-SUMIF([0]!cod_saida,Estoque!A14446,quantidade_comprada)","v":0}]
[null,null,null,null,null,{"$f":"SUMIF(Codigo_Produto,Estoque!A14453,[0]!quantidade_adquirida)-SUMIF([0]!cod_saida,Estoque!A14453,quantidade_comprada)","v":0}]
[null,null,null,null,null,{"$f":"SUMIF(Codigo_Produto,Estoque!A14469,[0]!quantidade_adquirida)-SUMIF([0]!cod_saida,Estoque!A14469,quantidade_comprada)","v":0}]
[null,null,null,null,null,{"$f":"SUMIF(Codigo_Produto,Estoque!A14490,[0]!quantidade_adquirida)-SUMIF([0]!cod_saida,Estoque!A14490,quantidade_comprada)","v":0}]
[null,null,null,null,null,{"$f":"SUMIF(Codigo_Produto,Estoque!A14495,[0]!quantidade_adquirida)-SUMIF([0]!cod_saida,Estoque!A14495,quantidade_comprada)","v":0}]
[null,null,null,null,null,{"$f":"SUMIF(Codigo_Produto,Estoque!A14511,[0]!quantidade_adquirida)-SUMIF([0]!cod_saida,Estoque!A14511,quantidade_comprada)","v":0}]
[null,null,null,null,null,{"$f":"SUMIF(Codigo_Produto,Estoque!A14518,[0]!quantidade_adquirida)-SUMIF([0]!cod_saida,Estoque!A14518,quantidade_comprada)","v":0}]
[null,null,null,null,null,{"$f":"SUMIF(Codigo_Produto,Estoque!A14534,[0]!quantidade_adquirida)-SUMIF([0]!cod_saida,Estoque!A14534,quantidade_comprada)","v":0}]
[null,null,null,null,null,{"$f":"SUMIF(Codigo_Produto,Estoque!A14554,[0]!quantidade_adquirida)-SUMIF([0]!cod_saida,Estoque!A14554,quantidade_comprada)","v":0}]
[null,null,null,null,null,{"$f":"SUMIF(Codigo_Produto,Estoque!A14561,[0]!quantidade_adquirida)-SUMIF([0]!cod_saida,Estoque!A14561,quantidade_comprada)","v":0}]
[null,null,null,null,null,{"$f":"SUMIF(Codigo_Produto,Estoque!A14571,[0]!quantidade_adquirida)-SUMIF([0]!cod_saida,Estoque!A14571,quantidade_comprada)","v":0}]
[null,null,null,null,null,{"$f":"SUMIF(Codigo_Produto,Estoque!A14583,[0]!quantidade_adquirida)-SUMIF([0]!cod_saida,Estoque!A14583,quantidade_comprada)","v":0}]
[null,null,null,null,null,{"$f":"SUMIF(Codigo_Produto,Estoque!A14603,[0]!quantidade_adquirida)-SUMIF([0]!cod_saida,Estoque!A14603,quantidade_comprada)","v":0}]
[null,null,null,null,null,{"$f":"SUMIF(Codigo_Produto,Estoque!A14619,[0]!quantidade_adquirida)-SUMIF([0]!cod_saida,Estoque!A14619,quantidade_comprada)","v":0}]
[null,null,null,null,null,{"$f":"SUMIF(Codigo_Produto,Estoque!A14626,[0]!quantidade_adquirida)-SUMIF([0]!cod_saida,Estoque!A14626,quantidade_comprada)","v":0}]
[null,null,null,null,null,{"$f":"SUMIF(Codigo_Produto,Estoque!A14642,[0]!quantidade_adquirida)-SUMIF([0]!cod_saida,Estoque!A14642,quantidade_comprada)","v":0}]
[null,null,null,null,null,{"$f":"SUMIF(Codigo_Produto,Estoque!A14649,[0]!quantidade_adquirida)-SUMIF([0]!cod_saida,Estoque!A14649,quantidade_comprada)","v":0}]
[null,null,null,null,null,{"$f":"SUMIF(Codigo_Produto,Estoque!A14669,[0]!quantidade_adquirida)-SUMIF([0]!cod_saida,Estoque!A14669,quantidade_comprada)","v":0}]
[null,null,null,null,null,{"$f":"SUMIF(Codigo_Produto,Estoque!A14674,[0]!quantidade_adquirida)-SUMIF([0]!cod_saida,Estoque!A14674,quantidade_comprada)","v":0}]
[null,null,null,null,null,{"$f":"SUMIF(Codigo_Produto,Estoque!A14691,[0]!quantidade_adquirida)-SUMIF([0]!cod_saida,Estoque!A14691,quantidade_comprada)","v":0}]
[null,null,null,null,null,{"$f":"SUMIF(Codigo_Produto,Estoque!A14707,[0]!quantidade_adquirida)-SUMIF([0]!cod_saida,Estoque!A14707,quantidade_comprada)","v":0}]
[null,null,null,null,null,{"$f":"SUMIF(Codigo_Produto,Estoque!A14714,[0]!quantidade_adquirida)-SUMIF([0]!cod_saida,Estoque!A14714,quantidade_comprada)","v":0}]
[null,null,null,null,null,{"$f":"SUMIF(Codigo_Produto,Estoque!A14734,[0]!quantidade_adquirida)-SUMIF([0]!cod_saida,Estoque!A14734,quantidade_comprada)","v":0}]
[null,null,null,null,null,{"$f":"SUMIF(Codigo_Produto,Estoque!A14737,[0]!quantidade_adquirida)-SUMIF([0]!cod_saida,Estoque!A14737,quantidade_comprada)","v":0}]
[null,null,null,null,null,{"$f":"SUMIF(Codigo_Produto,Estoque!A14757,[0]!quantidade_adquirida)-SUMIF([0]!cod_saida,Estoque!A14757,quantidade_comprada)","v":0}]
[null,null,null,null,null,{"$f":"SUMIF(Codigo_Produto,Estoque!A14763,[0]!quantidade_adquirida)-SUMIF([0]!cod_saida,Estoque!A14763,quantidade_comprada)","v":0}]
[null,null,null,null,null,{"$f":"SUMIF(Codigo_Produto,Estoque!A14779,[0]!quantidade_adquirida)-SUMIF([0]!cod_saida,Estoque!A14779,quantidade_comprada)","v":0}]
[null,null,null,null,null,{"$f":"SUMIF(Codigo_Produto,Estoque!A14799,[0]!quantidade_adquirida)-SUMIF([0]!cod_saida,Estoque!A14799,quantidade_comprada)","v":0}]
[null,null,null,null,null,{"$f":"SUMIF(Codigo_Produto,Estoque!A14802,[0]!quantidade_adquirida)-SUMIF([0]!cod_saida,Estoque!A14802,quantidade_comprada)","v":0}]
[null,null,null,null,null,{"$f":"SUMIF(Codigo_Produto,Estoque!A14822,[0]!quantidade_adquirida)-SUMIF([0]!cod_saida,Estoque!A14822,quantidade_comprada)","v":0}]
[null,null,null,null,null,{"$f":"SUMIF(Codigo_Produto,Estoque!A14829,[0]!quantidade_adquirida)-SUMIF([0]!cod_saida,Estoque!A14829,quantidade_comprada)","v":0}]
[null,null,null,null,null,{"$f":"SUMIF(Codigo_Produto,Estoque!A14845,[0]!quantidade_adquirida)-SUMIF([0]!cod_saida,Estoque!A14845,quantidade_comprada)","v":0}]
[null,null,null,null,null,{"$f":"SUMIF(Codigo_Produto,Estoque!A14852,[0]!quantidade_adquirida)-SUMIF([0]!cod_saida,Estoque!A14852,quantidade_comprada)","v":0}]
[null,null,null,null,null,{"$f":"SUMIF(Codigo_Produto,Estoque!A14866,[0]!quantidade_adquirida)-SUMIF([0]!cod_saida,Estoque!A14866,quantidade_comprada)","v":0}]
[null,null,null,null,null,{"$f":"SUMIF(Codigo_Produto,Estoque!A14887,[0]!quantidade_adquirida)-SUMIF([0]!cod_saida,Estoque!A14887,quantidade_comprada)","v":0}]
[null,null,null,null,null,{"$f":"SUMIF(Codigo_Produto,Estoque!A14894,[0]!quantidade_adquirida)-SUMIF([0]!cod_saida,Estoque!A14894,quantidade_comprada)","v":0}]
[null,null,null,null,null,{"$f":"SUMIF(Codigo_Produto,Estoque!A14910,[0]!quantidade_adquirida)-SUMIF([0]!cod_saida,Estoque!A14910,quantidade_comprada)","v":0}]
[null,null,null,null,null,{"$f":"SUMIF(Codigo_Produto,Estoque!A14917,[0]!quantidade_adquirida)-SUMIF([0]!cod_saida,Estoque!A14917,quantidade_comprada)","v":0}]
[null,null,null,null,null,{"$f":"SUMIF(Codigo_Produto,Estoque!A14937,[0]!quantidade_adquirida)-SUMIF([0]!cod_saida,Estoque!A14937,quantidade_comprada)","v":0}]
[null,null,null,null,null,{"$f":"SUMIF(Codigo_Produto,Estoque!A14953,[0]!quantidade_adquirida)-SUMIF([0]!cod_saida,Estoque!A14953,quantidade_comprada)","v":0}]
[null,null,null,null,null,{"$f":"SUMIF(Codigo_Produto,Estoque!A14959,[0]!quantidade_adquirida)-SUMIF([0]!cod_saida,Estoque!A14959,quantidade_comprada)","v":0}]
[null,null,null,null,null,{"$f":"SUMIF(Codigo_Produto,Estoque!A14975,[0]!quantidade_adquirida)-SUMIF([0]!cod_saida,Estoque!A14975,quantidade_comprada)","v":0}]
[null,null,null,null,null,{"$f":"SUMIF(Codigo_Produto,Estoque!A14982,[0]!quantidade_adquirida)-SUMIF([0]!cod_saida,Estoque!A14982,quantidade_comprada)","v":0}]
[null,null,null,null,null,{"$f":"SUMIF(Codigo_Produto,Estoque!A15002,[0]!quantidade_adquirida)-SUMIF([0]!cod_saida,Estoque!A15002,quantidade_comprada)","v":0}]
[null,null,null,null,null,{"$f":"SUMIF(Codigo_Produto,Estoque!A15018,[0]!quantidade_adquirida)-SUMIF([0]!cod_saida,Estoque!A15018,quantidade_comprada)","v":0}]
[null,null,null,null,null,{"$f":"SUMIF(Codigo_Produto,Estoque!A15025,[0]!quantidade_adquirida)-SUMIF([0]!cod_saida,Estoque!A15025,quantidade_comprada)","v":0}]
[null,null,null,null,null,{"$f":"SUMIF(Codigo_Produto,Estoque!A15032,[0]!quantidade_adquirida)-SUMIF([0]!cod_saida,Estoque!A15032,quantidade_comprada)","v":0}]
[null,null,null,null,null,{"$f":"SUMIF(Codigo_Produto,Estoque!A15052,[0]!quantidade_adquirida)-SUMIF([0]!cod_saida,Estoque!A15052,quantidade_comprada)","v":0}]
[null,null,null,null,null,{"$f":"SUMIF(Codigo_Produto,Estoque!A15067,[0]!quantidade_adquirida)-SUMIF([0]!cod_saida,Estoque!A15067,quantidade_comprada)","v":0}]
[null,null,null,null,null,{"$f":"SUMIF(Codigo_Produto,Estoque!A15070,[0]!quantidade_adquirida)-SUMIF([0]!cod_saida,Estoque!A15070,quantidade_comprada)","v":0}]
[null,null,null,null,null,{"$f":"SUMIF(Codigo_Produto,Estoque!A15090,[0]!quantidade_adquirida)-SUMIF([0]!cod_saida,Estoque!A15090,quantidade_comprada)","v":0}]
[null,null,null,null,null,{"$f":"SUMIF(Codigo_Produto,Estoque!A15097,[0]!quantidade_adquirida)-SUMIF([0]!cod_saida,Estoque!A15097,quantidade_comprada)","v":0}]
[null,null,null,null,null,{"$f":"SUMIF(Codigo_Produto,Estoque!A15113,[0]!quantidade_adquirida)-SUMIF([0]!cod_saida,Estoque!A15113,quantidade_comprada)","v":0}]
[null,null,null,null,null,{"$f":"SUMIF(Codigo_Produto,Estoque!A15133,[0]!quantidade_adquirida)-SUMIF([0]!cod_saida,Estoque!A15133,quantidade_comprada)","v":0}]
[null,null,null,null,null,{"$f":"SUMIF(Codigo_Produto,Estoque!A15140,[0]!quantidade_adquirida)-SUMIF([0]!cod_saida,Estoque!A15140,quantidade_comprada)","v":0}]
[null,null,null,null,null,{"$f":"SUMIF(Codigo_Produto,Estoque!A15155,[0]!quantidade_adquirida)-SUMIF([0]!cod_saida,Estoque!A15155,quantidade_comprada)","v":0}]
[null,null,null,null,null,{"$f":"SUMIF(Codigo_Produto,Estoque!A15162,[0]!quantidade_adquirida)-SUMIF([0]!cod_saida,Estoque!A15162,quantidade_comprada)","v":0}]
[null,null,null,null,null,{"$f":"SUMIF(Codigo_Produto,Estoque!A15178,[0]!quantidade_adquirida)-SUMIF([0]!cod_saida,Estoque!A15178,quantidade_comprada)","v":0}]
[null,null,null,null,null,{"$f":"SUMIF(Codigo_Produto,Estoque!A15198,[0]!quantidade_adquirida)-SUMIF([0]!cod_saida,Estoque!A15198,quantidade_comprada)","v":0}]
[null,null,null,null,null,{"$f":"SUMIF(Codigo_Produto,Estoque!A15205,[0]!quantidade_adquirida)-SUMIF([0]!cod_saida,Estoque!A15205,quantidade_comprada)","v":0}]
[null,null,null,null,null,{"$f":"SUMIF(Codigo_Produto,Estoque!A15221,[0]!quantidade_adquirida)-SUMIF([0]!cod_saida,Estoque!A15221,quantidade_comprada)","v":0}]
[null,null,null,null,null,{"$f":"SUMIF(Codigo_Produto,Estoque!A15228,[0]!quantidade_adquirida)-SUMIF([0]!cod_saida,Estoque!A15228,quantidade_comprada)","v":0}]
[null,null,null,null,null,{"$f":"SUMIF(Codigo_Produto,Estoque!A15248,[0]!quantidade_adquirida)-SUMIF([0]!cod_saida,Estoque!A15248,quantidade_comprada)","v":0}]
[null,null,null,null,null,{"$f":"SUMIF(Codigo_Produto,Estoque!A15250,[0]!quantidade_adquirida)-SUMIF([0]!cod_saida,Estoque!A15250,quantidade_comprada)","v":0}]
[null,null,null,null,null,{"$f":"SUMIF(Codigo_Produto,Estoque!A15270,[0]!quantidade_adquirida)-SUMIF([0]!cod_saida,Estoque!A15270,quantidade_comprada)","v":0}]
[null,null,null,null,null,{"$f":"SUMIF(Codigo_Produto,Estoque!A15286,[0]!quantidade_adquirida)-SUMIF([0]!cod_saida,Estoque!A15286,quantidade_comprada)","v":0}]
[null,null,null,null,null,{"$f":"SUMIF(Codigo_Produto,Estoque!A15293,[0]!quantidade_adquirida)-SUMIF([0]!cod_saida,Estoque!A15293,quantidade_comprada)","v":0}]
[null,null,null,null,null,{"$f":"SUMIF(Codigo_Produto,Estoque!A15313,[0]!quantidade_adquirida)-SUMIF([0]!cod_saida,Estoque!A15313,quantidade_comprada)","v":0}]
[null,null,null,null,null,{"$f":"SUMIF(Codigo_Produto,Estoque!A15316,[0]!quantidade_adquirida)-SUMIF([0]!cod_saida,Estoque!A15316,quantidade_comprada)","v":0}]
[null,null,null,null,null,{"$f":"SUMIF(Codigo_Produto,Estoque!A15337,[0]!quantidade_adquirida)-SUMIF([0]!cod_saida,Estoque!A15337,quantidade_comprada)","v":0}]
[null,null,null,null,null,{"$f":"SUMIF(Codigo_Produto,Estoque!A15351,[0]!quantidade_adquirida)-SUMIF([0]!cod_saida,Estoque!A15351,quantidade_comprada)","v":0}]
[null,null,null,null,null,{"$f":"SUMIF(Codigo_Produto,Estoque!A15358,[0]!quantidade_adquirida)-SUMIF([0]!cod_saida,Estoque!A15358,quantidade_comprada)","v":0}]
[null,null,null,null,null,{"$f":"SUMIF(Codigo_Produto,Estoque!A15378,[0]!quantidade_adquirida)-SUMIF([0]!cod_saida,Estoque!A15378,quantidade_comprada)","v":0}]
[null,null,null,null,null,{"$f":"SUMIF(Codigo_Produto,Estoque!A15381,[0]!quantidade_adquirida)-SUMIF([0]!cod_saida,Estoque!A15381,quantidade_comprada)","v":0}]
[null,null,null,null,null,{"$f":"SUMIF(Codigo_Produto,Estoque!A15401,[0]!quantidade_adquirida)-SUMIF([0]!cod_saida,Estoque!A15401,quantidade_comprada)","v":0}]
[null,null,null,null,null,{"$f":"SUMIF(Codigo_Produto,Estoque!A15417,[0]!quantidade_adquirida)-SUMIF([0]!cod_saida,Estoque!A15417,quantidade_comprada)","v":0}]
[null,null,null,null,null,{"$f":"SUMIF(Codigo_Produto,Estoque!A15424,[0]!quantidade_adquirida)-SUMIF([0]!cod_saida,Estoque!A15424,quantidade_comprada)","v":0}]
[null,null,null,null,null,{"$f":"SUMIF(Codigo_Produto,Estoque!A15440,[0]!quantidade_adquirida)-SUMIF([0]!cod_saida,Estoque!A15440,quantidade_comprada)","v":0}]
[null,null,null,null,null,{"$f":"SUMIF(Codigo_Produto,Estoque!A15446,[0]!quantidade_adquirida)-SUMIF([0]!cod_saida,Estoque!A15446,quantidade_comprada)","v":0}]
[null,null,null,null,null,{"$f":"SUMIF(Codigo_Produto,Estoque!A15466,[0]!quantidade_adquirida)-SUMIF([0]!cod_saida,Estoque!A15466,quantidade_comprada)","v":0}]
[null,null,null,null,null,{"$f":"SUMIF(Codigo_Produto,Estoque!A15473,[0]!quantidade_adquirida)-SUMIF([0]!cod_saida,Estoque!A15473,quantidade_comprada)","v":0}]
[null,null,null,null,null,{"$f":"SUMIF(Codigo_Produto,Estoque!A15489,[0]!quantidade_adquirida)-SUMIF([0]!cod_saida,Estoque!A15489,quantidade_comprada)","v":0}]
[null,null,null,null,null,{"$f":"SUMIF(Codigo_Produto,Estoque!A15496,[0]!quantidade_adquirida)-SUMIF([0]!cod_saida,Estoque!A15496,quantidade_comprada)","v":0}]
[null,null,null,null,null,{"$f":"SUMIF(Codigo_Produto,Estoque!A15512,[0]!quantidade_adquirida)-SUMIF([0]!cod_saida,Estoque!A15512,quantidade_comprada)","v":0}]
[null,null,null,null,null,{"$f":"SUMIF(Codigo_Produto,Estoque!A15521,[0]!quantidade_adquirida)-SUMIF([0]!cod_saida,Estoque!A15521,quantidade_comprada)","v":0}]
[null,null,null,null,null,{"$f":"SUMIF(Codigo_Produto,Estoque!A15538,[0]!quantidade_adquirida)-SUMIF([0]!cod_saida,Estoque!A15538,quantidade_comprada)","v":0}]
[null,null,null,null,null,{"$f":"SUMIF(Codigo_Produto,Estoque!A15554,[0]!quantidade_adquirida)-SUMIF([0]!cod_saida,Estoque!A15554,quantidade_comprada)","v":0}]
[null,null,null,null,null,{"$f":"SUMIF(Codigo_Produto,Estoque!A15561,[0]!quantidade_adquirida)-SUMIF([0]!cod_saida,Estoque!A15561,quantidade_comprada)","v":0}]
[null,null,null,null,null,{"$f":"SUMIF(Codigo_Produto,Estoque!A15581,[0]!quantidade_adquirida)-SUMIF([0]!cod_saida,Estoque!A15581,quantidade_comprada)","v":0}]
[null,null,null,null,null,{"$f":"SUMIF(Codigo_Produto,Estoque!A15597,[0]!quantidade_adquirida)-SUMIF([0]!cod_saida,Estoque!A15597,quantidade_comprada)","v":0}]
[null,null,null,null,null,{"$f":"SUMIF(Codigo_Produto,Estoque!A15604,[0]!quantidade_adquirida)-SUMIF([0]!cod_saida,Estoque!A15604,quantidade_comprada)","v":0}]
[null,null,null,null,null,{"$f":"SUMIF(Codigo_Produto,Estoque!A15614,[0]!quantidade_adquirida)-SUMIF([0]!cod_saida,Estoque!A15614,quantidade_comprada)","v":0}]
[null,null,null,null,null,{"$f":"SUMIF(Codigo_Produto,Estoque!A15626,[0]!quantidade_adquirida)-SUMIF([0]!cod_saida,Estoque!A15626,quantidade_comprada)","v":0}]
[null,null,null,null,null,{"$f":"SUMIF(Codigo_Produto,Estoque!A15646,[0]!quantidade_adquirida)-SUMIF([0]!cod_saida,Estoque!A15646,quantidade_comprada)","v":0}]
[null,null,null,null,null,{"$f":"SUMIF(Codigo_Produto,Estoque!A15649,[0]!quantidade_adquirida)-SUMIF([0]!cod_saida,Estoque!A15649,quantidade_comprada)","v":0}]
[null,null,null,null,null,{"$f":"SUMIF(Codigo_Produto,Estoque!A15669,[0]!quantidade_adquirida)-SUMIF([0]!cod_saida,Estoque!A15669,quantidade_comprada)","v":0}]
[null,null,null,null,null,{"$f":"SUMIF(Codigo_Produto,Estoque!A15685,[0]!quantidade_adquirida)-SUMIF([0]!cod_saida,Estoque!A15685,quantidade_comprada)","v":0}]
[null,null,null,null,null,{"$f":"SUMIF(Codigo_Produto,Estoque!A15692,[0]!quantidade_adquirida)-SUMIF([0]!cod_saida,Estoque!A15692,quantidade_comprada)","v":0}]
[null,null,null,null,null,{"$f":"SUMIF(Codigo_Produto,Estoque!A15712,[0]!quantidade_adquirida)-SUMIF([0]!cod_saida,Estoque!A15712,quantidade_comprada)","v":0}]
[null,null,null,null,null,{"$f":"SUMIF(Codigo_Produto,Estoque!A15717,[0]!quantidade_adquirida)-SUMIF([0]!cod_saida,Estoque!A15717,quantidade_comprada)","v":0}]
[null,null,null,null,null,{"$f":"SUMIF(Codigo_Produto,Estoque!A15734,[0]!quantidade_adquirida)-SUMIF([0]!cod_saida,Estoque!A15734,quantidade_comprada)","v":0}]
[null,null,null,null,null,{"$f":"SUMIF(Codigo_Produto,Estoque!A15741,[0]!quantidade_adquirida)-SUMIF([0]!cod_saida,Estoque!A15741,quantidade_comprada)","v":0}]
[null,null,null,null,null,{"$f":"SUMIF(Codigo_Produto,Estoque!A15757,[0]!quantidade_adquirida)-SUMIF([0]!cod_saida,Estoque!A15757,quantidade_comprada)","v":0}]
[null,null,null,null,null,{"$f":"SUMIF(Codigo_Produto,Estoque!A15777,[0]!quantidade_adquirida)-SUMIF([0]!cod_saida,Estoque!A15777,quantidade_comprada)","v":0}]
[null,null,null,null,null,{"$f":"SUMIF(Codigo_Produto,Estoque!A15780,[0]!quantidade_adquirida)-SUMIF([0]!cod_saida,Estoque!A15780,quantidade_comprada)","v":0}]
[null,null,null,null,null,{"$f":"SUMIF(Codigo_Produto,Estoque!A15800,[0]!quantidade_adquirida)-SUMIF([0]!cod_saida,Estoque!A15800,quantidade_comprada)","v":0}]
[null,null,null,null,null,{"$f":"SUMIF(Codigo_Produto,Estoque!A15806,[0]!quantidade_adquirida)-SUMIF([0]!cod_saida,Estoque!A15806,quantidade_comprada)","v":0}]
[null,null,null,null,null,{"$f":"SUMIF(Codigo_Produto,Estoque!A15822,[0]!quantidade_adquirida)-SUMIF([0]!cod_saida,Estoque!A15822,quantidade_comprada)","v":0}]
[null,null,null,null,null,{"$f":"SUMIF(Codigo_Produto,Estoque!A15829,[0]!quantidade_adquirida)-SUMIF([0]!cod_saida,Estoque!A15829,quantidade_comprada)","v":0}]
[null,null,null,null,null,{"$f":"SUMIF(Codigo_Produto,Estoque!A15849,[0]!quantidade_adquirida)-SUMIF([0]!cod_saida,Estoque!A15849,quantidade_comprada)","v":0}]
[null,null,null,null,null,{"$f":"SUMIF(Codigo_Produto,Estoque!A15865,[0]!quantidade_adquirida)-SUMIF([0]!cod_saida,Estoque!A15865,quantidade_comprada)","v":0}]
[null,null,null,null,null,{"$f":"SUMIF(Codigo_Produto,Estoque!A15872,[0]!quantidade_adquirida)-SUMIF([0]!cod_saida,Estoque!A15872,quantidade_comprada)","v":0}]
[null,null,null,null,null,{"$f":"SUMIF(Codigo_Produto,Estoque!A15888,[0]!quantidade_adquirida)-SUMIF([0]!cod_saida,Estoque!A15888,quantidade_comprada)","v":0}]
[null,null,null,null,null,{"$f":"SUMIF(Codigo_Produto,Estoque!A15899,[0]!quantidade_adquirida)-SUMIF([0]!cod_saida,Estoque!A15899,quantidade_comprada)","v":0}]
[null,null,null,null,null,{"$f":"SUMIF(Codigo_Produto,Estoque!A15914,[0]!quantidade_adquirida)-SUMIF([0]!cod_saida,Estoque!A15914,quantidade_comprada)","v":0}]
[null,null,null,null,null,{"$f":"SUMIF(Codigo_Produto,Estoque!A15930,[0]!quantidade_adquirida)-SUMIF([0]!cod_saida,Estoque!A15930,quantidade_comprada)","v":0}]
[null,null,null,null,null,{"$f":"SUMIF(Codigo_Produto,Estoque!A15937,[0]!quantidade_adquirida)-SUMIF([0]!cod_saida,Estoque!A15937,quantidade_comprada)","v":0}]
[null,null,null,null,null,{"$f":"SUMIF(Codigo_Produto,Estoque!A15953,[0]!quantidade_adquirida)-SUMIF([0]!cod_saida,Estoque!A15953,quantidade_comprada)","v":0}]
[null,null,null,null,null,{"$f":"SUMIF(Codigo_Produto,Estoque!A15960,[0]!quantidade_adquirida)-SUMIF([0]!cod_saida,Estoque!A15960,quantidade_comprada)","v":0}]
[null,null,null,null,null,{"$f":"SUMIF(Codigo_Produto,Estoque!A15980,[0]!quantidade_adquirida)-SUMIF([0]!cod_saida,Estoque!A15980,quantidade_comprada)","v":0}]
[null,null,null,null,null,{"$f":"SUMIF(Codigo_Produto,Estoque!A15996,[0]!quantidade_adquirida)-SUMIF([0]!cod_saida,Estoque!A15996,quantidade_comprada)","v":0}]
[null,null,null,null,null,{"$f":"SUMIF(Codigo_Produto,Estoque!A16002,[0]!quantidade_adquirida)-SUMIF([0]!cod_saida,Estoque!A16002,quantidade_comprada)","v":0}]
[null,null,null,null,null,{"$f":"SUMIF(Codigo_Produto,Estoque!A16009,[0]!quantidade_adquirida)-SUMIF([0]!cod_saida,Estoque!A16009,quantidade_comprada)","v":0}]
[null,null,null,null,null,{"$f":"SUMIF(Codigo_Produto,Estoque!A16025,[0]!quantidade_adquirida)-SUMIF([0]!cod_saida,Estoque!A16025,quantidade_comprada)","v":0}]
[null,null,null,null,null,{"$f":"SUMIF(Codigo_Produto,Estoque!A16045,[0]!quantidade_adquirida)-SUMIF([0]!cod_saida,Estoque!A16045,quantidade_comprada)","v":0}]
[null,null,null,null,null,{"$f":"SUMIF(Codigo_Produto,Estoque!A16048,[0]!quantidade_adquirida)-SUMIF([0]!cod_saida,Estoque!A16048,quantidade_comprada)","v":0}]
[null,null,null,null,null,{"$f":"SUMIF(Codigo_Produto,Estoque!A16068,[0]!quantidade_adquirida)-SUMIF([0]!cod_saida,Estoque!A16068,quantidade_comprada)","v":0}]
[null,null,null,null,null,{"$f":"SUMIF(Codigo_Produto,Estoque!A16075,[0]!quantidade_adquirida)-SUMIF([0]!cod_saida,Estoque!A16075,quantidade_comprada)","v":0}]
[null,null,null,null,null,{"$f":"SUMIF(Codigo_Produto,Estoque!A16095,[0]!quantidade_adquirida)-SUMIF([0]!cod_saida,Estoque!A16095,quantidade_comprada)","v":0}]
[null,null,null,null,null,{"$f":"SUMIF(Codigo_Produto,Estoque!A16110,[0]!quantidade_adquirida)-SUMIF([0]!cod_saida,Estoque!A16110,quantidade_comprada)","v":0}]
[null,null,null,null,null,{"$f":"SUMIF(Codigo_Produto,Estoque!A16113,[0]!quantidade_adquirida)-SUMIF([0]!cod_saida,Estoque!A16113,quantidade_comprada)","v":0}]
[null,null,null,null,null,{"$f":"SUMIF(Codigo_Produto,Estoque!A16133,[0]!quantidade_adquirida)-SUMIF([0]!cod_saida,Estoque!A16133,quantidade_comprada)","v":0}]
[null,null,null,null,null,{"$f":"SUMIF(Codigo_Produto,Estoque!A16140,[0]!quantidade_adquirida)-SUMIF([0]!cod_saida,Estoque!A16140,quantidade_comprada)","v":0}]
[null,null,null,null,null,{"$f":"SUMIF(Codigo_Produto,Estoque!A16156,[0]!quantidade_adquirida)-SUMIF([0]!cod_saida,Estoque!A16156,quantidade_comprada)","v":0}]
[null,null,null,null,null,{"$f":"SUMIF(Codigo_Produto,Estoque!A16176,[0]!quantidade_adquirida)-SUMIF([0]!cod_saida,Estoque!A16176,quantidade_comprada)","v":0}]
[null,null,null,null,null,{"$f":"SUMIF(Codigo_Produto,Estoque!A16184,[0]!quantidade_adquirida)-SUMIF([0]!cod_saida,Estoque!A16184,quantidade_comprada)","v":0}]
[null,null,null,null,null,{"$f":"SUMIF(Codigo_Produto,Estoque!A16198,[0]!quantidade_adquirida)-SUMIF([0]!cod_saida,Estoque!A16198,quantidade_comprada)","v":0}]
[null,null,null,null,null,{"$f":"SUMIF(Codigo_Produto,Estoque!A16205,[0]!quantidade_adquirida)-SUMIF([0]!cod_saida,Estoque!A16205,quantidade_comprada)","v":0}]
[null,null,null,null,null,{"$f":"SUMIF(Codigo_Produto,Estoque!A16221,[0]!quantidade_adquirida)-SUMIF([0]!cod_saida,Estoque!A16221,quantidade_comprada)","v":0}]
[null,null,null,null,null,{"$f":"SUMIF(Codigo_Produto,Estoque!A16228,[0]!quantidade_adquirida)-SUMIF([0]!cod_saida,Estoque!A16228,quantidade_comprada)","v":0}]
[null,null,null,null,null,{"$f":"SUMIF(Codigo_Produto,Estoque!A16248,[0]!quantidade_adquirida)-SUMIF([0]!cod_saida,Estoque!A16248,quantidade_comprada)","v":0}]
[null,null,null,null,null,{"$f":"SUMIF(Codigo_Produto,Estoque!A16264,[0]!quantidade_adquirida)-SUMIF([0]!cod_saida,Estoque!A16264,quantidade_comprada)","v":0}]
[null,null,null,null,null,{"$f":"SUMIF(Codigo_Produto,Estoque!A16271,[0]!quantidade_adquirida)-SUMIF([0]!cod_saida,Estoque!A16271,quantidade_comprada)","v":0}]
[null,null,null,null,null,{"$f":"SUMIF(Codigo_Produto,Estoque!A16287,[0]!quantidade_adquirida)-SUMIF([0]!cod_saida,Estoque!A16287,quantidade_comprada)","v":0}]
[null,null,null,null,null,{"$f":"SUMIF(Codigo_Produto,Estoque!A16293,[0]!quantidade_adquirida)-SUMIF([0]!cod_saida,Estoque!A16293,quantidade_comprada)","v":0}]
[null,null,null,null,null,{"$f":"SUMIF(Codigo_Produto,Estoque!A16313,[0]!quantidade_adquirida)-SUMIF([0]!cod_saida,Estoque!A16313,quantidade_comprada)","v":0}]
[null,null,null,null,null,{"$f":"SUMIF(Codigo_Produto,Estoque!A16329,[0]!quantidade_adquirida)-SUMIF([0]!cod_saida,Estoque!A16329,quantidade_comprada)","v":0}]
[null,null,null,null,null,{"$f":"SUMIF(Codigo_Produto,Estoque!A16336,[0]!quantidade_adquirida)-SUMIF([0]!cod_saida,Estoque!A16336,quantidade_comprada)","v":0}]
[null,null,null,null,null,{"$f":"SUMIF(Codigo_Produto,Estoque!A16356,[0]!quantidade_adquirida)-SUMIF([0]!cod_saida,Estoque!A16356,quantidade_comprada)","v":0}]
[null,null,null,null,null,{"$f":"SUMIF(Codigo_Produto,Estoque!A16359,[0]!quantidade_adquirida)-SUMIF([0]!cod_saida,Estoque!A16359,quantidade_comprada)","v":0}]
[null,null,null,null,null,{"$f":"SUMIF(Codigo_Produto,Estoque!A16380,[0]!quantidade_adquirida)-SUMIF([0]!cod_saida,Estoque!A16380,quantidade_comprada)","v":0}]
[null,null,null,null,null,{"$f":"SUMIF(Codigo_Produto,Estoque!A16394,[0]!quantidade_adquirida)-SUMIF([0]!cod_saida,Estoque!A16394,quantidade_comprada)","v":0}]
[null,null,null,null,null,{"$f":"SUMIF(Codigo_Produto,Estoque!A16401,[0]!quantidade_adquirida)-SUMIF([0]!cod_saida,Estoque!A16401,quantidade_comprada)","v":0}]
[null,null,null,null,null,{"$f":"SUMIF(Codigo_Produto,Estoque!A16408,[0]!quantidade_adquirida)-SUMIF([0]!cod_saida,Estoque!A16408,quantidade_comprada)","v":0}]
[null,null,null,null,null,{"$f":"SUMIF(Codigo_Produto,Estoque!A16424,[0]!quantidade_adquirida)-SUMIF([0]!cod_saida,Estoque!A16424,quantidade_comprada)","v":0}]
[null,null,null,null,null,{"$f":"SUMIF(Codigo_Produto,Estoque!A16444,[0]!quantidade_adquirida)-SUMIF([0]!cod_saida,Estoque!A16444,quantidade_comprada)","v":0}]
[null,null,null,null,null,{"$f":"SUMIF(Codigo_Produto,Estoque!A16451,[0]!quantidade_adquirida)-SUMIF([0]!cod_saida,Estoque!A16451,quantidade_comprada)","v":0}]
[null,null,null,null,null,{"$f":"SUMIF(Codigo_Produto,Estoque!A16467,[0]!quantidade_adquirida)-SUMIF([0]!cod_saida,Estoque!A16467,quantidade_comprada)","v":0}]
[null,null,null,null,null,{"$f":"SUMIF(Codigo_Produto,Estoque!A16483,[0]!quantidade_adquirida)-SUMIF([0]!cod_saida,Estoque!A16483,quantidade_comprada)","v":0}]
[null,null,null,null,null,{"$f":"SUMIF(Codigo_Produto,Estoque!A16489,[0]!quantidade_adquirida)-SUMIF([0]!cod_saida,Estoque!A16489,quantidade_comprada)","v":0}]
[null,null,null,null,null,{"$f":"SUMIF(Codigo_Produto,Estoque!A16509,[0]!quantidade_adquirida)-SUMIF([0]!cod_saida,Estoque!A16509,quantidade_comprada)","v":0}]
[null,null,null,null,null,{"$f":"SUMIF(Codigo_Produto,Estoque!A16516,[0]!quantidade_adquirida)-SUMIF([0]!cod_saida,Estoque!A16516,quantidade_comprada)","v":0}]
[null,null,null,null,null,{"$f":"SUMIF(Codigo_Produto,Estoque!A16532,[0]!quantidade_adquirida)-SUMIF([0]!cod_saida,Estoque!A16532,quantidade_comprada)","v":0}]
[null,null,null,null,null,{"$f":"SUMIF(Codigo_Produto,Estoque!A16539,[0]!quantidade_adquirida)-SUMIF([0]!cod_saida,Estoque!A16539,quantidade_comprada)","v":0}]
[null,null,null,null,null,{"$f":"SUMIF(Codigo_Produto,Estoque!A16555,[0]!quantidade_adquirida)-SUMIF([0]!cod_saida,Estoque!A16555,quantidade_comprada)","v":0}]
[null,null,null,null,null,{"$f":"SUMIF(Codigo_Produto,Estoque!A16564,[0]!quantidade_adquirida)-SUMIF([0]!cod_saida,Estoque!A16564,quantidade_comprada)","v":0}]
[null,null,null,null,null,{"$f":"SUMIF(Codigo_Produto,Estoque!A16581,[0]!quantidade_adquirida)-SUMIF([0]!cod_saida,Estoque!A16581,quantidade_comprada)","v":0}]
[null,null,null,null,null,{"$f":"SUMIF(Codigo_Produto,Estoque!A16597,[0]!quantidade_adquirida)-SUMIF([0]!cod_saida,Estoque!A16597,quantidade_comprada)","v":0}]
[null,null,null,null,null,{"$f":"SUMIF(Codigo_Produto,Estoque!A16604,[0]!quantidade_adquirida)-SUMIF([0]!cod_saida,Estoque!A16604,quantidade_comprada)","v":0}]
[null,null,null,null,null,{"$f":"SUMIF(Codigo_Produto,Estoque!A16624,[0]!quantidade_adquirida)-SUMIF([0]!cod_saida,Estoque!A16624,quantidade_comprada)","v":0}]
[null,null,null,null,null,{"$f":"SUMIF(Codigo_Produto,Estoque!A16627,[0]!quantidade_adquirida)-SUMIF([0]!cod_saida,Estoque!A16627,quantidade_comprada)","v":0}]
[null,null,null,null,null,{"$f":"SUMIF(Codigo_Produto,Estoque!A16647,[0]!quantidade_adquirida)-SUMIF([0]!cod_saida,Estoque!A16647,quantidade_comprada)","v":0}]
[null,null,null,null,null,{"$f":"SUMIF(Codigo_Produto,Estoque!A16657,[0]!quantidade_adquirida)-SUMIF([0]!cod_saida,Estoque!A16657,quantidade_comprada)","v":0}]
[null,null,null,null,null,{"$f":"SUMIF(Codigo_Produto,Estoque!A16669,[0]!quantidade_adquirida)-SUMIF([0]!cod_saida,Estoque!A16669,quantidade_comprada)","v":0}]
[null,null,null,null,null,{"$f":"SUMIF(Codigo_Produto,Estoque!A16689,[0]!quantidade_adquirida)-SUMIF([0]!cod_saida,Estoque!A16689,quantidade_comprada)","v":0}]
[null,null,null,null,null,{"$f":"SUMIF(Codigo_Produto,Estoque!A16692,[0]!quantidade_adquirida)-SUMIF([0]!cod_saida,Estoque!A16692,quantidade_comprada)","v":0}]
[null,null,null,null,null,{"$f":"SUMIF(Codigo_Produto,Estoque!A16712,[0]!quantidade_adquirida)-SUMIF([0]!cod_saida,Estoque!A16712,quantidade_comprada)","v":0}]
[null,null,null,null,null,{"$f":"SUMIF(Codigo_Produto,Estoque!A16719,[0]!quantidade_adquirida)-SUMIF([0]!cod_saida,Estoque!A16719,quantidade_comprada)","v":0}]
[null,null,null,null,null,{"$f":"SUMIF(Codigo_Produto,Estoque!A16735,[0]!quantidade_adquirida)-SUMIF([0]!cod_saida,Estoque!A16735,quantidade_comprada)","v":0}]
[null,null,null,null,null,{"$f":"SUMIF(Codigo_Produto,Estoque!A16755,[0]!quantidade_adquirida)-SUMIF([0]!cod_saida,Estoque!A16755,quantidade_comprada)","v":0}]
[null,null,null,null,null,{"$f":"SUMIF(Codigo_Produto,Estoque!A16760,[0]!quantidade_adquirida)-SUMIF([0]!cod_saida,Estoque!A16760,quantidade_comprada)","v":0}]
[null,null,null,null,null,{"$f":"SUMIF(Codigo_Produto,Estoque!A16777,[0]!quantidade_adquirida)-SUMIF([0]!cod_saida,Estoque!A16777,quantidade_comprada)","v":0}]
[null,null,null,null,null,{"$f":"SUMIF(Codigo_Produto,Estoque!A16784,[0]!quantidade_adquirida)-SUMIF([0]!cod_saida,Estoque!A16784,quantidade_comprada)","v":0}]
[null,null,null,null,null,{"$f":"SUMIF(Codigo_Produto,Estoque!A16800,[0]!quantidade_adquirida)-SUMIF([0]!cod_saida,Estoque!A16800,quantidade_comprada)","v":0}]
[null,null,null,null,null,{"$f":"SUMIF(Codigo_Produto,Estoque!A16807,[0]!quantidade_adquirida)-SUMIF([0]!cod_saida,Estoque!A16807,quantidade_comprada)","v":0}]
[null,null,null,null,null,{"$f":"SUMIF(Codigo_Produto,Estoque!A16823,[0]!quantidade_adquirida)-SUMIF([0]!cod_saida,Estoque!A16823,quantidade_comprada)","v":0}]
[null,null,null,null,null,{"$f":"SUMIF(Codigo_Produto,Estoque!A16843,[0]!quantidade_adquirida)-SUMIF([0]!cod_saida,Estoque!A16843,quantidade_comprada)","v":0}]
[null,null,null,null,null,{"$f":"SUMIF(Codigo_Produto,Estoque!A16849,[0]!quantidade_adquirida)-SUMIF([0]!cod_saida,Estoque!A16849,quantidade_comprada)","v":0}]
[null,null,null,null,null,{"$f":"SUMIF(Codigo_Produto,Estoque!A16865,[0]!quantidade_adquirida)-SUMIF([0]!cod_saida,Estoque!A16865,quantidade_comprada)","v":0}]
[null,null,null,null,null,{"$f":"SUMIF(Codigo_Produto,Estoque!A16872,[0]!quantidade_adquirida)-SUMIF([0]!cod_saida,Estoque!A16872,quantidade_comprada)","v":0}]
[null,null,null,null,null,{"$f":"SUMIF(Codigo_Produto,Estoque!A16892,[0]!quantidade_adquirida)-SUMIF([0]!cod_saida,Estoque!A16892,quantidade_comprada)","v":0}]
[null,null,null,null,null,{"$f":"SUMIF(Codigo_Produto,Estoque!A16908,[0]!quantidade_adquirida)-SUMIF([0]!cod_saida,Estoque!A16908,quantidade_comprada)","v":0}]
[null,null,null,null,null,{"$f":"SUMIF(Codigo_Produto,Estoque!A16915,[0]!quantidade_adquirida)-SUMIF([0]!cod_saida,Estoque!A16915,quantidade_comprada)","v":0}]
[null,null,null,null,null,{"$f":"SUMIF(Codigo_Produto,Estoque!A16931,[0]!quantidade_adquirida)-SUMIF([0]!cod_saida,Estoque!A16931,quantidade_comprada)","v":0}]
[null,null,null,null,null,{"$f":"SUMIF(Codigo_Produto,Estoque!A16942,[0]!quantidade_adquirida)-SUMIF([0]!cod_saida,Estoque!A16942,quantidade_comprada)","v":0}]
[null,null,null,null,null,{"$f":"SUMIF(Codigo_Produto,Estoque!A16957,[0]!quantidade_adquirida)-SUMIF([0]!cod_saida,Estoque!A16957,quantidade_comprada)","v":0}]
[null,null,null,null,null,{"$f":"SUMIF(Codigo_Produto,Estoque!A16973,[0]!quantidade_adquirida)-SUMIF([0]!cod_saida,Estoque!A16973,quantidade_comprada)","v":0}]
[null,null,null,null,null,{"$f":"SUMIF(Codigo_Produto,Estoque!A16980,[0]!quantidade_adquirida)-SUMIF([0]!cod_saida,Estoque!A16980,quantidade_comprada)","v":0}]
[null,null,null,null,null,{"$f":"SUMIF(Codigo_Produto,Estoque!A16987,[0]!quantidade_adquirida)-SUMIF([0]!cod_saida,Estoque!A16987,quantidade_comprada)","v":0}]
[null,null,null,null,null,{"$f":"SUMIF(Codigo_Produto,Estoque!A17003,[0]!quantidade_adquirida)-SUMIF([0]!cod_saida,Estoque!A17003,quantidade_comprada)","v":0}]
[null,null,null,null,null,{"$f":"SUMIF(Codigo_Produto,Estoque!A17023,[0]!quantidade_adquirida)-SUMIF([0]!cod_saida,Estoque!A17023,quantidade_comprada)","v":0}]
[null,null,null,null,null,{"$f":"SUMIF(Codigo_Produto,Estoque!A17026,[0]!quantidade_adquirida)-SUMIF([0]!cod_saida,Estoque!A17026,quantidade_comprada)","v":0}]
[null,null,null,null,null,{"$f":"SUMIF(Codigo_Produto,Estoque!A17045,[0]!quantidade_adquirida)-SUMIF([0]!cod_saida,Estoque!A17045,quantidade_comprada)","v":0}]
[null,null,null,null,null,{"$f":"SUMIF(Codigo_Produto,Estoque!A17052,[0]!quantidade_adquirida)-SUMIF([0]!cod_saida,Estoque!A17052,quantidade_comprada)","v":0}]
[null,null,null,null,null,{"$f":"SUMIF(Codigo_Produto,Estoque!A17068,[0]!quantidade_adquirida)-SUMIF([0]!cod_saida,Estoque!A17068,quantidade_comprada)","v":0}]
[null,null,null,null,null,{"$f":"SUMIF(Codigo_Produto,Estoque!A17088,[0]!quantidade_adquirida)-SUMIF([0]!cod_saida,Estoque!A17088,quantidade_comprada)","v":0}]
[null,null,null,null,null,{"$f":"SUMIF(Codigo_Produto,Estoque!A17091,[0]!quantidade_adquirida)-SUMIF([0]!cod_saida,Estoque!A17091,quantidade_comprada)","v":0}]
[null,null,null,null,null,{"$f":"SUMIF(Codigo_Produto,Estoque!A17111,[0]!quantidade_adquirida)-SUMIF([0]!cod_saida,Estoque!A17111,quantidade_comprada)","v":0}]
[null,null,null,null,null,{"$f":"SUMIF(Codigo_Produto,Estoque!A17118,[0]!quantidade_adquirida)-SUMIF([0]!cod_saida,Estoque!A17118,quantidade_comprada)","v":0}]
[null,null,null,null,null,{"$f":"SUMIF(Codigo_Produto,Estoque!A17138,[0]!quantidade_adquirida)-SUMIF([0]!cod_saida,Estoque!A17138,quantidade_comprada)","v":0}]
[null,null,null,null,null,{"$f":"SUMIF(Codigo_Produto,Estoque!A17153,[0]!quantidade_adquirida)-SUMIF([0]!cod_saida,Estoque!A17153,quantidade_comprada)","v":0}]
[null,null,null,null,null,{"$f":"SUMIF(Codigo_Produto,Estoque!A17160,[0]!quantidade_adquirida)-SUMIF([0]!cod_saida,Estoque!A17160,quantidade_comprada)","v":0}]
[null,null,null,null,null,{"$f":"SUMIF(Codigo_Produto,Estoque!A17176,[0]!quantidade_adquirida)-SUMIF([0]!cod_saida,Estoque!A17176,quantidade_comprada)","v":0}]
[null,null,null,null,null,{"$f":"SUMIF(Codigo_Produto,Estoque!A17183,[0]!quantidade_adquirida)-SUMIF([0]!cod_saida,Estoque!A17183,quantidade_comprada)","v":0}]
[null,null,null,null,null,{"$f":"SUMIF(Codigo_Produto,Estoque!A17199,[0]!quantidade_adquirida)-SUMIF([0]!cod_saida,Estoque!A17199,quantidade_comprada)","v":0}]
[null,null,null,null,null,{"$f":"SUMIF(Codigo_Produto,Estoque!A17206,[0]!quantidade_adquirida)-SUMIF([0]!cod_saida,Estoque!A17206,quantidade_comprada)","v":0}]
[null,null,null,null,null,{"$f":"SUMIF(Codigo_Produto,Estoque!A17227,[0]!quantidade_adquirida)-SUMIF([0]!cod_saida,Estoque!A17227,quantidade_comprada)","v":0}]
[null,null,null,null,null,{"$f":"SUMIF(Codigo_Produto,Estoque!A17241,[0]!quantidade_adquirida)-SUMIF([0]!cod_saida,Estoque!A17241,quantidade_comprada)","v":0}]
[null,null,null,null,null,{"$f":"SUMIF(Codigo_Produto,Estoque!A17248,[0]!quantidade_adquirida)-SUMIF([0]!cod_saida,Estoque!A17248,quantidade_comprada)","v":0}]
[null,null,null,null,null,{"$f":"SUMIF(Codigo_Produto,Estoque!A17264,[0]!quantidade_adquirida)-SUMIF([0]!cod_saida,Estoque!A17264,quantidade_comprada)","v":0}]
[null,null,null,null,null,{"$f":"SUMIF(Codigo_Produto,Estoque!A17271,[0]!quantidade_adquirida)-SUMIF([0]!cod_saida,Estoque!A17271,quantidade_comprada)","v":0}]
[null,null,null,null,null,{"$f":"SUMIF(Codigo_Produto,Estoque!A17291,[0]!quantidade_adquirida)-SUMIF([0]!cod_saida,Estoque!A17291,quantidade_comprada)","v":0}]
[null,null,null,null,null,{"$f":"SUMIF(Codigo_Produto,Estoque!A17307,[0]!quantidade_adquirida)-SUMIF([0]!cod_saida,Estoque!A17307,quantidade_comprada)","v":0}]
[null,null,null,null,null,{"$f":"SUMIF(Codigo_Produto,Estoque!A17314,[0]!quantidade_adquirida)-SUMIF([0]!cod_saida,Estoque!A17314,quantidade_comprada)","v":0}]
[null,null,null,null,null,{"$f":"SUMIF(Codigo_Produto,Estoque!A17330,[0]!quantidade_adquirida)-SUMIF([0]!cod_saida,Estoque!A17330,quantidade_comprada)","v":0}]
[null,null,null,null,null,{"$f":"SUMIF(Codigo_Produto,Estoque!A17336,[0]!quantidade_adquirida)-SUMIF([0]!cod_saida,Estoque!A17336,quantidade_comprada)","v":0}]
[null,null,null,null,null,{"$f":"SUMIF(Codigo_Produto,Estoque!A17356,[0]!quantidade_adquirida)-SUMIF([0]!cod_saida,Estoque!A17356,quantidade_comprada)","v":0}]
[null,null,null,null,null,{"$f":"SUMIF(Codigo_Produto,Estoque!A17372,[0]!quantidade_adquirida)-SUMIF([0]!cod_saida,Estoque!A17372,quantidade_comprada)","v":0}]
[null,null,null,null,null,{"$f":"SUMIF(Codigo_Produto,Estoque!A17379,[0]!quantidade_adquirida)-SUMIF([0]!cod_saida,Estoque!A17379,quantidade_comprada)","v":0}]
[null,null,null,null,null,{"$f":"SUMIF(Codigo_Produto,Estoque!A17386,[0]!quantidade_adquirida)-SUMIF([0]!cod_saida,Estoque!A17386,quantidade_comprada)","v":0}]
[null,null,null,null,null,{"$f":"SUMIF(Codigo_Produto,Estoque!A17402,[0]!quantidade_adquirida)-SUMIF([0]!cod_saida,Estoque!A17402,quantidade_comprada)","v":0}]
[null,null,null,null,null,{"$f":"SUMIF(Codigo_Produto,Estoque!A17423,[0]!quantidade_adquirida)-SUMIF([0]!cod_saida,Estoque!A17423,quantidade_comprada)","v":0}]
[null,null,null,null,null,{"$f":"SUMIF(Codigo_Produto,Estoque!A17428,[0]!quantidade_adquirida)-SUMIF([0]!cod_saida,Estoque!A17428,quantidade_comprada)","v":0}]
[null,null,null,null,null,{"$f":"SUMIF(Codigo_Produto,Estoque!A17444,[0]!quantidade_adquirida)-SUMIF([0]!cod_saida,Estoque!A17444,quantidade_comprada)","v":0}]
[null,null,null,null,null,{"$f":"SUMIF(Codigo_Produto,Estoque!A17451,[0]!quantidade_adquirida)-SUMIF([0]!cod_saida,Estoque!A17451,quantidade_comprada)","v":0}]
[null,null,null,null,null,{"$f":"SUMIF(Codigo_Produto,Estoque!A17467,[0]!quantidade_adquirida)-SUMIF([0]!cod_saida,Estoque!A17467,quantidade_comprada)","v":0}]
[null,null,null,null,null,{"$f":"SUMIF(Codigo_Produto,Estoque!A17487,[0]!quantidade_adquirida)-SUMIF([0]!cod_saida,Estoque!A17487,quantidade_comprada)","v":0}]
[null,null,null,null,null,{"$f":"SUMIF(Codigo_Produto,Estoque!A17494,[0]!quantidade_adquirida)-SUMIF([0]!cod_saida,Estoque!A17494,quantidade_comprada)","v":0}]
[null,null,null,null,null,{"$f":"SUMIF(Codigo_Produto,Estoque!A17504,[0]!quantidade_adquirida)-SUMIF([0]!cod_saida,Estoque!A17504,quantidade_comprada)","v":0}]
[null,null,null,null,null,{"$f":"SUMIF(Codigo_Produto,Estoque!A17516,[0]!quantidade_adquirida)-SUMIF([0]!cod_saida,Estoque!A17516,quantidade_comprada)","v":0}]
[null,null,null,null,null,{"$f":"SUMIF(Codigo_Produto,Estoque!A17532,[0]!quantidade_adquirida)-SUMIF([0]!cod_saida,Estoque!A17532,quantidade_comprada)","v":0}]
[null,null,null,null,null,{"$f":"SUMIF(Codigo_Produto,Estoque!A17552,[0]!quantidade_adquirida)-SUMIF([0]!cod_saida,Estoque!A17552,quantidade_comprada)","v":0}]
[null,null,null,null,null,{"$f":"SUMIF(Codigo_Produto,Estoque!A17559,[0]!quantidade_adquirida)-SUMIF([0]!cod_saida,Estoque!A17559,quantidade_comprada)","v":0}]
[null,null,null,null,null,{"$f":"SUMIF(Codigo_Produto,Estoque!A17575,[0]!quantidade_adquirida)-SUMIF([0]!cod_saida,Estoque!A17575,quantidade_comprada)","v":0}]
[null,null,null,null,null,{"$f":"SUMIF(Codigo_Produto,Estoque!A17582,[0]!quantidade_adquirida)-SUMIF([0]!cod_saida,Estoque!A17582,quantidade_comprada)","v":0}]
[null,null,null,null,null,{"$f":"SUMIF(Codigo_Produto,Estoque!A17602,[0]!quantidade_adquirida)-SUMIF([0]!cod_saida,Estoque!A17602,quantidade_comprada)","v":0}]
[null,null,null,null,null,{"$f":"SUMIF(Codigo_Produto,Estoque!A17607,[0]!quantidade_adquirida)-SUMIF([0]!cod_saida,Estoque!A17607,quantidade_comprada)","v":0}]
[null,null,null,null,null,{"$f":"SUMIF(Codigo_Produto,Estoque!A17624,[0]!quantidade_adquirida)-SUMIF([0]!cod_saida,Estoque!A17624,quantidade_comprada)","v":0}]
[null,null,null,null,null,{"$f":"SUMIF(Codigo_Produto,Estoque!A17640,[0]!quantidade_adquirida)-SUMIF([0]!cod_saida,Estoque!A17640,quantidade_comprada)","v":0}]
[null,null,null,null,null,{"$f":"SUMIF(Codigo_Produto,Estoque!A17647,[0]!quantidade_adquirida)-SUMIF([0]!cod_saida,Estoque!A17647,quantidade_comprada)","v":0}]
[null,null,null,null,null,{"$f":"SUMIF(Codigo_Produto,Estoque!A17667,[0]!quantidade_adquirida)-SUMIF([0]!cod_saida,Estoque!A17667,quantidade_comprada)","v":0}]
[null,null,null,null,null,{"$f":"SUMIF(Codigo_Produto,Estoque!A17670,[0]!quantidade_adquirida)-SUMIF([0]!cod_saida,Estoque!A17670,quantidade_comprada)","v":0}]
[null,null,null,null,null,{"$f":"SUMIF(Codigo_Produto,Estoque!A17690,[0]!quantidade_adquirida)-SUMIF([0]!cod_saida,Estoque!A17690,quantidade_comprada)","v":0}]
[null,null,null,null,null,{"$f":"SUMIF(Codigo_Produto,Estoque!A17696,[0]!quantidade_adquirida)-SUMIF([0]!cod_saida,Estoque!A17696,quantidade_comprada)","v":0}]
[null,null,null,null,null,{"$f":"SUMIF(Codigo_Produto,Estoque!A17712,[0]!quantidade_adquirida)-SUMIF([0]!cod_saida,Estoque!A17712,quantidade_comprada)","v":0}]
[null,null,null,null,null,{"$f":"SUMIF(Codigo_Produto,Estoque!A17732,[0]!quantidade_adquirida)-SUMIF([0]!cod_saida,Estoque!A17732,quantidade_comprada)","v":0}]
[null,null,null,null,null,{"$f":"SUMIF(Codigo_Produto,Estoque!A17735,[0]!quantidade_adquirida)-SUMIF([0]!cod_saida,Estoque!A17735,quantidade_comprada)","v":0}]
[null,null,null,null,null,{"$f":"SUMIF(Codigo_Produto,Estoque!A17755,[0]!quantidade_adquirida)-SUMIF([0]!cod_saida,Estoque!A17755,quantidade_comprada)","v":0}]
[null,null,null,null,null,{"$f":"SUMIF(Codigo_Produto,Estoque!A17762,[0]!quantidade_adquirida)-SUMIF([0]!cod_saida,Estoque!A17762,quantidade_comprada)","v":0}]
[null,null,null,null,null,{"$f":"SUMIF(Codigo_Produto,Estoque!A17778,[0]!quantidade_adquirida)-SUMIF([0]!cod_saida,Estoque!A17778,quantidade_comprada)","v":0}]
[null,null,null,null,null,{"$f":"SUMIF(Codigo_Produto,Estoque!A17789,[0]!quantidade_adquirida)-SUMIF([0]!cod_saida,Estoque!A17789,quantidade_comprada)","v":0}]
[null,null,null,null,null,{"$f":"SUMIF(Codigo_Produto,Estoque!A17800,[0]!quantidade_adquirida)-SUMIF([0]!cod_saida,Estoque!A17800,quantidade_comprada)","v":0}]
[null,null,null,null,null,{"$f":"SUMIF(Codigo_Produto,Estoque!A17820,[0]!quantidade_adquirida)-SUMIF([0]!cod_saida,Estoque!A17820,quantidade_comprada)","v":0}]
[null,null,null,null,null,{"$f":"SUMIF(Codigo_Produto,Estoque!A17827,[0]!quantidade_adquirida)-SUMIF([0]!cod_saida,Estoque!A17827,quantidade_comprada)","v":0}]
[null,null,null,null,null,{"$f":"SUMIF(Codigo_Produto,Estoque!A17843,[0]!quantidade_adquirida)-SUMIF([0]!cod_saida,Estoque!A17843,quantidade_comprada)","v":0}]
[null,null,null,null,null,{"$f":"SUMIF(Codigo_Produto,Estoque!A17850,[0]!quantidade_adquirida)-SUMIF([0]!cod_saida,Estoque!A17850,quantidade_comprada)","v":0}]
[null,null,null,null,null,{"$f":"SUMIF(Codigo_Produto,Estoque!A17870,[0]!quantidade_adquirida)-SUMIF([0]!cod_saida,Estoque!A17870,quantidade_comprada)","v":0}]
[null,null,null,null,null,{"$f":"SUMIF(Codigo_Produto,Estoque!A17886,[0]!quantidade_adquirida)-SUMIF([0]!cod_saida,Estoque!A17886,quantidade_comprada)","v":0}]
[null,null,null,null,null,{"$f":"SUMIF(Codigo_Produto,Estoque!A17892,[0]!quantidade_adquirida)-SUMIF([0]!cod_saida,Estoque!A17892,quantidade_comprada)","v":0}]
[null,null,null,null,null,{"$f":"SUMIF(Codigo_Produto,Estoque!A17908,[0]!quantidade_adquirida)-SUMIF([0]!cod_saida,Estoque!A17908,quantidade_comprada)","v":0}]
[null,null,null,null,null,{"$f":"SUMIF(Codigo_Produto,Estoque!A17915,[0]!quantidade_adquirida)-SUMIF([0]!cod_saida,Estoque!A17915,quantidade_comprada)","v":0}]
[null,null,null,null,null,{"$f":"SUMIF(Codigo_Produto,Estoque!A17935,[0]!quantidade_adquirida)-SUMIF([0]!cod_saida,Estoque!A17935,quantidade_comprada)","v":0}]
[null,null,null,null,null,{"$f":"SUMIF(Codigo_Produto,Estoque!A17951,[0]!quantidade_adquirida)-SUMIF([0]!cod_saida,Estoque!A17951,quantidade_comprada)","v":0}]
[null,null,null,null,null,{"$f":"SUMIF(Codigo_Produto,Estoque!A17958,[0]!quantidade_adquirida)-SUMIF([0]!cod_saida,Estoque!A17958,quantidade_comprada)","v":0}]
[null,null,null,null,null,{"$f":"SUMIF(Codigo_Produto,Estoque!A17974,[0]!quantidade_adquirida)-SUMIF([0]!cod_saida,Estoque!A17974,quantidade_comprada)","v":0}]
[null,null,null,null,null,{"$f":"SUMIF(Codigo_Produto,Estoque!A17985,[0]!quantidade_adquirida)-SUMIF([0]!cod_saida,Estoque!A17985,quantidade_comprada)","v":0}]
[null,null,null,null,null,{"$f":"SUMIF(Codigo_Produto,Estoque!A18000,[0]!quantidade_adquirida)-SUMIF([0]!cod_saida,Estoque!A18000,quantidade_comprada)","v":0}]
[null,null,null,null,null,{"$f":"SUMIF(Codigo_Produto,Estoque!A18003,[0]!quantidade_adquirida)-SUMIF([0]!cod_saida,Estoque!A18003,quantidade_comprada)","v":0}]
[null,null,null,null,null,{"$f":"SUMIF(Codigo_Produto,Estoque!A18023,[0]!quantidade_adquirida)-SUMIF([0]!cod_saida,Estoque!A18023,quantidade_comprada)","v":0}]
[null,null,null,null,null,{"$f":"SUMIF(Codigo_Produto,Estoque!A18030,[0]!quantidade_adquirida)-SUMIF([0]!cod_saida,Estoque!A18030,quantidade_comprada)","v":0}]
[null,null,null,null,null,{"$f":"SUMIF(Codigo_Produto,Estoque!A18046,[0]!quantidade_adquirida)-SUMIF([0]!cod_saida,Estoque!A18046,quantidade_comprada)","v":0}]
[null,null,null,null,null,{"$f":"SUMIF(Codigo_Produto,Estoque!A18066,[0]!quantidade_adquirida)-SUMIF([0]!cod_saida,Estoque!A18066,quantidade_comprada)","v":0}]
[null,null,null,null,null,{"$f":"SUMIF(Codigo_Produto,Estoque!A18069,[0]!quantidade_adquirida)-SUMIF([0]!cod_saida,Estoque!A18069,quantidade_comprada)","v":0}]
[null,null,null,null,null,{"$f":"SUMIF(Codigo_Produto,Estoque!A18088,[0]!quantidade_adquirida)-SUMIF([0]!cod_saida,Estoque!A18088,quantidade_comprada)","v":0}]
[null,null,null,null,null,{"$f":"SUMIF(Codigo_Produto,Estoque!A18095,[0]!quantidade_adquirida)-SUMIF([0]!cod_saida,Estoque!A18095,quantidade_comprada)","v":0}]
[null,null,null,null,null,{"$f":"SUMIF(Codigo_Produto,Estoque!A18111,[0]!quantidade_adquirida)-SUMIF([0]!cod_saida,Estoque!A18111,quantidade_comprada)","v":0}]
[null,null,null,null,null,{"$f":"SUMIF(Codigo_Produto,Estoque!A18131,[0]!quantidade_adquirida)-SUMIF([0]!cod_saida,Estoque!A18131,quantidade_comprada)","v":0}]
[null,null,null,null,null,{"$f":"SUMIF(Codigo_Produto,Estoque!A18138,[0]!quantidade_adquirida)-SUMIF([0]!cod_saida,Estoque!A18138,quantidade_comprada)","v":0}]
[null,null,null,null,null,{"$f":"SUMIF(Codigo_Produto,Estoque!A18154,[0]!quantidade_adquirida)-SUMIF([0]!cod_saida,Estoque!A18154,quantidade_comprada)","v":0}]
[null,null,null,null,null,{"$f":"SUMIF(Codigo_Produto,Estoque!A18161,[0]!quantidade_adquirida)-SUMIF([0]!cod_saida,Estoque!A18161,quantidade_comprada)","v":0}]
[null,null,null,null,null,{"$f":"SUMIF(Codigo_Produto,Estoque!A18181,[0]!quantidade_adquirida)-SUMIF([0]!cod_saida,Estoque!A18181,quantidade_comprada)","v":0}]
[null,null,null,null,null,{"$f":"SUMIF(Codigo_Produto,Estoque!A18183,[0]!quantidade_adquirida)-SUMIF([0]!cod_saida,Estoque!A18183,quantidade_comprada)","v":0}]
[null,null,null,null,null,{"$f":"SUMIF(Codigo_Produto,Estoque!A18203,[0]!quantidade_adquirida)-SUMIF([0]!cod_saida,Estoque!A18203,quantidade_comprada)","v":0}]
[null,null,null,null,null,{"$f":"SUMIF(Codigo_Produto,Estoque!A18219,[0]!quantidade_adquirida)-SUMIF([0]!cod_saida,Estoque!A18219,quantidade_comprada)","v":0}]
[null,null,null,null,null,{"$f":"SUMIF(Codigo_Produto,Estoque!A18226,[0]!quantidade_adquirida)-SUMIF([0]!cod_saida,Estoque!A18226,quantidade_comprada)","v":0}]
[null,null,null,null,null,{"$f":"SUMIF(Codigo_Produto,Estoque!A18242,[0]!quantidade_adquirida)-SUMIF([0]!cod_saida,Estoque!A18242,quantidade_comprada)","v":0}]
[null,null,null,null,null,{"$f":"SUMIF(Codigo_Produto,Estoque!A18249,[0]!quantidade_adquirida)-SUMIF([0]!cod_saida,Estoque!A18249,quantidade_comprada)","v":0}]
[null,null,null,null,null,{"$f":"SUMIF(Codigo_Produto,Estoque!A18270,[0]!quantidade_adquirida)-SUMIF([0]!cod_saida,Estoque!A18270,quantidade_comprada)","v":0}]
[null,null,null,null,null,{"$f":"SUMIF(Codigo_Produto,Estoque!A18284,[0]!quantidade_adquirida)-SUMIF([0]!cod_saida,Estoque!A18284,quantidade_comprada)","v":0}]
[null,null,null,null,null,{"$f":"SUMIF(Codigo_Produto,Estoque!A18291,[0]!quantidade_adquirida)-SUMIF([0]!cod_saida,Estoque!A18291,quantidade_comprada)","v":0}]
[null,null,null,null,null,{"$f":"SUMIF(Codigo_Produto,Estoque!A18311,[0]!quantidade_adquirida)-SUMIF([0]!cod_saida,Estoque!A18311,quantidade_comprada)","v":0}]
[null,null,null,null,null,{"$f":"SUMIF(Codigo_Produto,Estoque!A18314,[0]!quantidade_adquirida)-SUMIF([0]!cod_saida,Estoque!A18314,quantidade_comprada)","v":0}]
[null,null,null,null,null,{"$f":"SUMIF(Codigo_Produto,Estoque!A18334,[0]!quantidade_adquirida)-SUMIF([0]!cod_saida,Estoque!A18334,quantidade_comprada)","v":0}]
[null,null,null,null,null,{"$f":"SUMIF(Codigo_Produto,Estoque!A18350,[0]!quantidade_adquirida)-SUMIF([0]!cod_saida,Estoque!A18350,quantidade_comprada)","v":0}]
[null,null,null,null,null,{"$f":"SUMIF(Codigo_Produto,Estoque!A18357,[0]!quantidade_adquirida)-SUMIF([0]!cod_saida,Estoque!A18357,quantidade_comprada)","v":0}]
[null,null,null,null,null,{"$f":"SUMIF(Codigo_Produto,Estoque!A18373,[0]!quantidade_adquirida)-SUMIF([0]!cod_saida,Estoque!A18373,quantidade_comprada)","v":0}]
[null,null,null,null,null,{"$f":"SUMIF(Codigo_Produto,Estoque!A18379,[0]!quantidade_adquirida)-SUMIF([0]!cod_saida,Estoque!A18379,quantidade_comprada)","v":0}]
[null,null,null,null,null,{"$f":"SUMIF(Codigo_Produto,Estoque!A18399,[0]!quantidade_adquirida)-SUMIF([0]!cod_saida,Estoque!A18399,quantidade_comprada)","v":0}]
[null,null,null,null,null,{"$f":"SUMIF(Codigo_Produto,Estoque!A18402,[0]!quantidade_adquirida)-SUMIF([0]!cod_saida,Estoque!A18402,quantidade_comprada)","v":0}]
[null,null,null,null,null,{"$f":"SUMIF(Codigo_Produto,Estoque!A18422,[0]!quantidade_adquirida)-SUMIF([0]!cod_saida,Estoque!A18422,quantidade_comprada)","v":0}]
[null,null,null,null,null,{"$f":"SUMIF(Codigo_Produto,Estoque!A18429,[0]!quantidade_adquirida)-SUMIF([0]!cod_saida,Estoque!A18429,quantidade_comprada)","v":0}]
[null,null,null,null,null,{"$f":"SUMIF(Codigo_Produto,Estoque!A18445,[0]!quantidade_adquirida)-SUMIF([0]!cod_saida,Estoque!A18445,quantidade_comprada)","v":0}]
[null,null,null,null,null,{"$f":"SUMIF(Codigo_Produto,Estoque!A18454,[0]!quantidade_adquirida)-SUMIF([0]!cod_saida,Estoque!A18454,quantidade_comprada)","v":0}]
[null,null,null,null,null,{"$f":"SUMIF(Codigo_Produto,Estoque!A18471,[0]!quantidade_adquirida)-SUMIF([0]!cod_saida,Estoque!A18471,quantidade_comprada)","v":0}]
[null,null,null,null,null,{"$f":"SUMIF(Codigo_Produto,Estoque!A18487,[0]!quantidade_adquirida)-SUMIF([0]!cod_saida,Estoque!A18487,quantidade_comprada)","v":0}]
[null,null,null,null,null,{"$f":"SUMIF(Codigo_Produto,Estoque!A18494,[0]!quantidade_adquirida)-SUMIF([0]!cod_saida,Estoque!A18494,quantidade_comprada)","v":0}]
[null,null,null,null,null,{"$f":"SUMIF(Codigo_Produto,Estoque!A18510,[0]!quantidade_adquirida)-SUMIF([0]!cod_saida,Estoque!A18510,quantidade_comprada)","v":0}]
[null,null,null,null,null,{"$f":"SUMIF(Codigo_Produto,Estoque!A18530,[0]!quantidade_adquirida)-SUMIF([0]!cod_saida,Estoque!A18530,quantidade_comprada)","v":0}]
[null,null,null,null,null,{"$f":"SUMIF(Codigo_Produto,Estoque!A18537,[0]!quantidade_adquirida)-SUMIF([0]!cod_saida,Estoque!A18537,quantidade_comprada)","v":0}]
[null,null,null,null,null,{"$f":"SUMIF(Codigo_Produto,Estoque!A18547,[0]!quantidade_adquirida)-SUMIF([0]!cod_saida,Estoque!A18547,quantidade_comprada)","v":0}]
[null,null,null,null,null,{"$f":"SUMIF(Codigo_Produto,Estoque!A18559,[0]!quantidade_adquirida)-SUMIF([0]!cod_saida,Estoque!A18559,quantidade_comprada)","v":0}]
[null,null,null,null,null,{"$f":"SUMIF(Codigo_Produto,Estoque!A18579,[0]!quantidade_adquirida)-SUMIF([0]!cod_saida,Estoque!A18579,quantidade_comprada)","v":0}]
[null,null,null,null,null,{"$f":"SUMIF(Codigo_Produto,Estoque!A18582,[0]!quantidade_adquirida)-SUMIF([0]!cod_saida,Estoque!A18582,quantidade_comprada)","v":0}]
[null,null,null,null,null,{"$f":"SUMIF(Codigo_Produto,Estoque!A18602,[0]!quantidade_adquirida)-SUMIF([0]!cod_saida,Estoque!A18602,quantidade_comprada)","v":0}]
[null,null,null,null,null,{"$f":"SUMIF(Codigo_Produto,Estoque!A18618,[0]!quantidade_adquirida)-SUMIF([0]!cod_saida,Estoque!A18618,quantidade_comprada)","v":0}]
[null,null,null,null,null,{"$f":"SUMIF(Codigo_Produto,Estoque!A18625,[0]!quantidade_adquirida)-SUMIF([0]!cod_saida,Estoque!A18625,quantidade_comprada)","v":0}]
[null,null,null,null,null,{"$f":"SUMIF(Codigo_Produto,Estoque!A18645,[0]!quantidade_adquirida)-SUMIF([0]!cod_saida,Estoque!A18645,quantidade_comprada)","v":0}]
[null,null,null,null,null,{"$f":"SUMIF(Codigo_Produto,Estoque!A18650,[0]!quantidade_adquirida)-SUMIF([0]!cod_saida,Estoque!A18650,quantidade_comprada)","v":0}]
[null,null,null,null,null,{"$f":"SUMIF(Codigo_Produto,Estoque!A18667,[0]!quantidade_adquirida)-SUMIF([0]!cod_saida,Estoque!A18667,quantidade_comprada)","v":0}]
[null,null,null,null,null,{"$f":"SUMIF(Codigo_Produto,Estoque!A18683,[0]!quantidade_adquirida)-SUMIF([0]!cod_saida,Estoque!A18683,quantidade_comprada)","v":0}]
[null,null,null,null,null,{"$f":"SUMIF(Codigo_Produto,Estoque!A18690,[0]!quantidade_adquirida)-SUMIF([0]!cod_saida,Estoque!A18690,quantidade_comprada)","v":0}]
[null,null,null,null,null,{"$f":"SUMIF(Codigo_Produto,Estoque!A18710,[0]!quantidade_adquirida)-SUMIF([0]!cod_saida,Estoque!A18710,quantidade_comprada)","v":0}]
[null,null,null,null,null,{"$f":"SUMIF(Codigo_Produto,Estoque!A18713,[0]!quantidade_adquirida)-SUMIF([0]!cod_saida,Estoque!A18713,quantidade_comprada)","v":0}]
[null,null,null,null,null,{"$f":"SUMIF(Codigo_Produto,Estoque!A18733,[0]!quantidade_adquirida)-SUMIF([0]!cod_saida,Estoque!A18733,quantidade_comprada)","v":0}]
[null,null,null,null,null,{"$f":"SUMIF(Codigo_Produto,Estoque!A18739,[0]!quantidade_adquirida)-SUMIF([0]!cod_saida,Estoque!A18739,quantidade_comprada)","v":0}]
[null,null,null,null,null,{"$f":"SUMIF(Codigo_Produto,Estoque!A18755,[0]!quantidade_adquirida)-SUMIF([0]!cod_saida,Estoque!A18755,quantidade_comprada)","v":0}]
[null,null,null,null,null,{"$f":"SUMIF(Codigo_Produto,Estoque!A18762,[0]!quantidade_adquirida)-SUMIF([0]!cod_saida,Estoque!A18762,quantidade_comprada)","v":0}]
[null,null,null,null,null,{"$f":"SUMIF(Codigo_Produto,Estoque!A18778,[0]!quantidade_adquirida)-SUMIF([0]!cod_saida,Estoque!A18778,quantidade_comprada)","v":0}]
[null,null,null,null,null,{"$f":"SUMIF(Codigo_Produto,Estoque!A18798,[0]!quantidade_adquirida)-SUMIF([0]!cod_saida,Estoque!A18798,quantidade_comprada)","v":0}]
[null,null,null,null,null,{"$f":"SUMIF(Codigo_Produto,Estoque!A18805,[0]!quantidade_adquirida)-SUMIF([0]!cod_saida,Estoque!A18805,quantidade_comprada)","v":0}]
[null,null,null,null,null,{"$f":"SUMIF(Codigo_Produto,Estoque!A18821,[0]!quantidade_adquirida)-SUMIF([0]!cod_saida,Estoque!A18821,quantidade_comprada)","v":0}]
[null,null,null,null,null,{"$f":"SUMIF(Codigo_Produto,Estoque!A18832,[0]!quantidade_adquirida)-SUMIF([0]!cod_saida,Estoque!A18832,quantidade_comprada)","v":0}]
[null,null,null,null,null,{"$f":"SUMIF(Codigo_Produto,Estoque!A18847,[0]!quantidade_adquirida)-SUMIF([0]!cod_saida,Estoque!A18847,quantidade_comprada)","v":0}]
[null,null,null,null,null,{"$f":"SUMIF(Codigo_Produto,Estoque!A18863,[0]!quantidade_adquirida)-SUMIF([0]!cod_saida,Estoque!A18863,quantidade_comprada)","v":0}]
[null,null,null,null,null,{"$f":"SUMIF(Codigo_Produto,Estoque!A18870,[0]!quantidade_adquirida)-SUMIF([0]!cod_saida,Estoque!A18870,quantidade_comprada)","v":0}]
[null,null,null,null,null,{"$f":"SUMIF(Codigo_Produto,Estoque!A18886,[0]!quantidade_adquirida)-SUMIF([0]!cod_saida,Estoque!A18886,quantidade_comprada)","v":0}]
[null,null,null,null,null,{"$f":"SUMIF(Codigo_Produto,Estoque!A18893,[0]!quantidade_adquirida)-SUMIF([0]!cod_saida,Estoque!A18893,quantidade_comprada)","v":0}]
[null,null,null,null,null,{"$f":"SUMIF(Codigo_Produto,Estoque!A18913,[0]!quantidade_adquirida)-SUMIF([0]!cod_saida,Estoque!A18913,quantidade_comprada)","v":0}]
[null,null,null,null,null,{"$f":"SUMIF(Codigo_Produto,Estoque!A18929,[0]!quantidade_adquirida)-SUMIF([0]!cod_saida,Estoque!A18929,quantidade_comprada)","v":0}]
[null,null,null,null,null,{"$f":"SUMIF(Codigo_Produto,Estoque!A18935,[0]!quantidade_adquirida)-SUMIF([0]!cod_saida,Estoque!A18935,quantidade_comprada)","v":0}]
[null,null,null,null,null,{"$f":"SUMIF(Codigo_Produto,Estoque!A18951,[0]!quantidade_adquirida)-SUMIF([0]!cod_saida,Estoque!A18951,quantidade_comprada)","v":0}]
[null,null,null,null,null,{"$f":"SUMIF(Codigo_Produto,Estoque!A18958,[0]!quantidade_adquirida)-SUMIF([0]!cod_saida,Estoque!A18958,quantidade_comprada)","v":0}]
[null,null,null,null,null,{"$f":"SUMIF(Codigo_Produto,Estoque!A18978,[0]!quantidade_adquirida)-SUMIF([0]!cod_saida,Estoque!A18978,quantidade_comprada)","v":0}]
[null,null,null,null,null,{"$f":"SUMIF(Codigo_Produto,Estoque!A18981,[0]!quantidade_adquirida)-SUMIF([0]!cod_saida,Estoque!A18981,quantidade_comprada)","v":0}]
[null,null,null,null,null,{"$f":"SUMIF(Codigo_Produto,Estoque!A19001,[0]!quantidade_adquirida)-SUMIF([0]!cod_saida,Estoque!A19001,quantidade_comprada)","v":0}]
[null,null,null,null,null,{"$f":"SUMIF(Codigo_Produto,Estoque!A19008,[0]!quantidade_adquirida)-SUMIF([0]!cod_saida,Estoque!A19008,quantidade_comprada)","v":0}]
[null,null,null,null,null,{"$f":"SUMIF(Codigo_Produto,Estoque!A19028,[0]!quantidade_adquirida)-SUMIF([0]!cod_saida,Estoque!A19028,quantidade_comprada)","v":0}]
[null,null,null,null,null,{"$f":"SUMIF(Codigo_Produto,Estoque!A19043,[0]!quantidade_adquirida)-SUMIF([0]!cod_saida,Estoque!A19043,quantidade_comprada)","v":0}]
[null,null,null,null,null,{"$f":"SUMIF(Codigo_Produto,Estoque!A19046,[0]!quantidade_adquirida)-SUMIF([0]!cod_saida,Estoque!A19046,quantidade_comprada)","v":0}]
[null,null,null,null,null,{"$f":"SUMIF(Codigo_Produto,Estoque!A19066,[0]!quantidade_adquirida)-SUMIF([0]!cod_saida,Estoque!A19066,quantidade_comprada)","v":0}]
[null,null,null,null,null,{"$f":"SUMIF(Codigo_Produto,Estoque!A19073,[0]!quantidade_adquirida)-SUMIF([0]!cod_saida,Estoque!A19073,quantidade_comprada)","v":0}]
[null,null,null,null,null,{"$f":"SUMIF(Codigo_Produto,Estoque!A19089,[0]!quantidade_adquirida)-SUMIF([0]!cod_saida,Estoque!A19089,quantidade_comprada)","v":0}]
[null,null,null,null,null,{"$f":"SUMIF(Codigo_Produto,Estoque!A19109,[0]!quantidade_adquirida)-SUMIF([0]!cod_saida,Estoque!A19109,quantidade_comprada)","v":0}]
[null,null,null,null,null,{"$f":"SUMIF(Codigo_Produto,Estoque!A19121,[0]!quantidade_adquirida)-SUMIF([0]!cod_saida,Estoque!A19121,quantidade_comprada)","v":0}]
[null,null,null,null,null,{"$f":"SUMIF(Codigo_Produto,Estoque!A19131,[0]!quantidade_adquirida)-SUMIF([0]!cod_saida,Estoque!A19131,quantidade_comprada)","v":0}]
[null,null,null,null,null,{"$f":"SUMIF(Codigo_Produto,Estoque!A19138,[0]!quantidade_adquirida)-SUMIF([0]!cod_saida,Estoque!A19138,quantidade_comprada)","v":0}]
[null,null,null,null,null,{"$f":"SUMIF(Codigo_Produto,Estoque!A19154,[0]!quantidade_adquirida)-SUMIF([0]!cod_saida,Estoque!A19154,quantidade_comprada)","v":0}]
[null,null,null,null,null,{"$f":"SUMIF(Codigo_Produto,Estoque!A19161,[0]!quantidade_adquirida)-SUMIF([0]!cod_saida,Estoque!A19161,quantidade_comprada)","v":0}]
[null,null,null,null,null,{"$f":"SUMIF(Codigo_Produto,Estoque!A19181,[0]!quantidade_adquirida)-SUMIF([0]!cod_saida,Estoque!A19181,quantidade_comprada)","v":0}]
[null,null,null,null,null,{"$f":"SUMIF(Codigo_Produto,Estoque!A19197,[0]!quantidade_adquirida)-SUMIF([0]!cod_saida,Estoque!A19197,quantidade_comprada)","v":0}]
[null,null,null,null,null,{"$f":"SUMIF(Codigo_Produto,Estoque!A19204,[0]!quantidade_adquirida)-SUMIF([0]!cod_saida,Estoque!A19204,quantidade_comprada)","v":0}]
[null,null,null,null,null,{"$f":"SUMIF(Codigo_Produto,Estoque!A19224,[0]!quantidade_adquirida)-SUMIF([0]!cod_saida,Estoque!A19224,quantidade_comprada)","v":0}]
[null,null,null,null,null,{"$f":"SUMIF(Codigo_Produto,Estoque!A19226,[0]!quantidade_adquirida)-SUMIF([0]!cod_saida,Estoque!A19226,quantidade_comprada)","v":0}]
[null,null,null,null,null,{"$f":"SUMIF(Codigo_Produto,Estoque!A19246,[0]!quantidade_adquirida)-SUMIF([0]!cod_saida,Estoque!A19246,quantidade_comprada)","v":0}]
[null,null,null,null,null,{"$f":"SUMIF(Codigo_Produto,Estoque!A19262,[0]!quantidade_adquirida)-SUMIF([0]!cod_saida,Estoque!A19262,quantidade_comprada)","v":0}]
[null,null,null,null,null,{"$f":"SUMIF(Codigo_Produto,Estoque!A19269,[0]!quantidade_adquirida)-SUMIF([0]!cod_saida,Estoque!A19269,quantidade_comprada)","v":0}]
[null,null,null,null,null,{"$f":"SUMIF(Codigo_Produto,Estoque!A19289,[0]!quantidade_adquirida)-SUMIF([0]!cod_saida,Estoque!A19289,quantidade_comprada)","v":0}]
[null,null,null,null,null,{"$f":"SUMIF(Codigo_Produto,Estoque!A19292,[0]!quantidade_adquirida)-SUMIF([0]!cod_saida,Estoque!A19292,quantidade_comprada)","v":0}]
[null,null,null,null,null,{"$f":"SUMIF(Codigo_Produto,Estoque!A19313,[0]!quantidade_adquirida)-SUMIF([0]!cod_saida,Estoque!A19313,quantidade_comprada)","v":0}]
[null,null,null,null,null,{"$f":"SUMIF(Codigo_Produto,Estoque!A19327,[0]!quantidade_adquirida)-SUMIF([0]!cod_saida,Estoque!A19327,quantidade_comprada)","v":0}]
[null,null,null,null,null,{"$f":"SUMIF(Codigo_Produto,Estoque!A19334,[0]!quantidade_adquirida)-SUMIF([0]!cod_saida,Estoque!A19334,quantidade_comprada)","v":0}]
[null,null,null,null,null,{"$f":"SUMIF(Codigo_Produto,Estoque!A19341,[0]!quantidade_adquirida)-SUMIF([0]!cod_saida,Estoque!A19341,quantidade_comprada)","v":0}]
[null,null,null,null,null,{"$f":"SUMIF(Codigo_Produto,Estoque!A19357,[0]!quantidade_adquirida)-SUMIF([0]!cod_saida,Estoque!A19357,quantidade_comprada)","v":0}]
[null,null,null,null,null,{"$f":"SUMIF(Codigo_Produto,Estoque!A19377,[0]!quantidade_adquirida)-SUMIF([0]!cod_saida,Estoque!A19377,quantidade_comprada)","v":0}]
[null,null,null,null,null,{"$f":"SUMIF(Codigo_Produto,Estoque!A19380,[0]!quantidade_adquirida)-SUMIF([0]!cod_saida,Estoque!A19380,quantidade_comprada)","v":0}]
[null,null,null,null,null,{"$f":"SUMIF(Codigo_Produto,Estoque!A19394,[0]!quantidade_adquirida)-SUMIF([0]!cod_saida,Estoque!A19394,quantidade_comprada)","v":0}]
[null,null,null,null,null,{"$f":"SUMIF(Codigo_Produto,Estoque!A19406,[0]!quantidade_adquirida)-SUMIF([0]!cod_saida,Estoque!A19406,quantidade_comprada)","v":0}]
[null,null,null,null,null,{"$f":"SUMIF(Codigo_Produto,Estoque!A19422,[0]!quantidade_adquirida)-SUMIF([0]!cod_saida,Estoque!A19422,quantidade_comprada)","v":0}]
[null,null,null,null,null,{"$f":"SUMIF(Codigo_Produto,Estoque!A19442,[0]!quantidade_adquirida)-SUMIF([0]!cod_saida,Estoque!A19442,quantidade_comprada)","v":0}]
[null,null,null,null,null,{"$f":"SUMIF(Codigo_Produto,Estoque!A19449,[0]!quantidade_adquirida)-SUMIF([0]!cod_saida,Estoque!A19449,quantidade_comprada)","v":0}]
[null,null,null,null,null,{"$f":"SUMIF(Codigo_Produto,Estoque!A19465,[0]!quantidade_adquirida)-SUMIF([0]!cod_saida,Estoque!A19465,quantidade_comprada)","v":0}]
[null,null,null,null,null,{"$f":"SUMIF(Codigo_Produto,Estoque!A19472,[0]!quantidade_adquirida)-SUMIF([0]!cod_saida,Estoque!A19472,quantidade_comprada)","v":0}]
[null,null,null,null,null,{"$f":"SUMIF(Codigo_Produto,Estoque!A19488,[0]!quantidade_adquirida)-SUMIF([0]!cod_saida,Estoque!A19488,quantidade_comprada)","v":0}]
[null,null,null,null,null,{"$f":"SUMIF(Codigo_Produto,Estoque!A19497,[0]!quantidade_adquirida)-SUMIF([0]!cod_saida,Estoque!A19497,quantidade_comprada)","v":0}]
[null,null,null,null,null,{"$f":"SUMIF(Codigo_Produto,Estoque!A19514,[0]!quantidade_adquirida)-SUMIF([0]!cod_saida,Estoque!A19514,quantidade_comprada)","v":0}]
[null,null,null,null,null,{"$f":"SUMIF(Codigo_Produto,Estoque!A19530,[0]!quantidade_adquirida)-SUMIF([0]!cod_saida,Estoque!A19530,quantidade_comprada)","v":0}]
[null,null,null,null,null,{"$f":"SUMIF(Codigo_Produto,Estoque!A19537,[0]!quantidade_adquirida)-SUMIF([0]!cod_saida,Estoque!A19537,quantidade_comprada)","v":0}]
[null,null,null,null,null,{"$f":"SUMIF(Codigo_Produto,Estoque!A19553,[0]!quantidade_adquirida)-SUMIF([0]!cod_saida,Estoque!A19553,quantidade_comprada)","v":0}]
[null,null,null,null,null,{"$f":"SUMIF(Codigo_Produto,Estoque!A19560,[0]!quantidade_adquirida)-SUMIF([0]!cod_saida,Estoque!A19560,quantidade_comprada)","v":0}]
[null,null,null,null,null,{"$f":"SUMIF(Codigo_Produto,Estoque!A19580,[0]!quantidade_adquirida)-SUMIF([0]!cod_saida,Estoque!A19580,quantidade_comprada)","v":0}]
[null,null,null,null,null,{"$f":"SUMIF(Codigo_Produto,Estoque!A19590,[0]!quantidade_adquirida)-SUMIF([0]!cod_saida,Estoque!A19590,quantidade_comprada)","v":0}]
[null,null,null,null,null,{"$f":"SUMIF(Codigo_Produto,Estoque!A19602,[0]!quantidade_adquirida)-SUMIF([0]!cod_saida,Estoque!A19602,quantidade_comprada)","v":0}]
[null,null,null,null,null,{"$f":"SUMIF(Codigo_Produto,Estoque!A19622,[0]!quantidade_adquirida)-SUMIF([0]!cod_saida,Estoque!A19622,quantidade_comprada)","v":0}]
[null,null,null,null,null,{"$f":"SUMIF(Codigo_Produto,Estoque!A19625,[0]!quantidade_adquirida)-SUMIF([0]!cod_saida,Estoque!A19625,quantidade_comprada)","v":0}]
[null,null,null,null,null,{"$f":"SUMIF(Codigo_Produto,Estoque!A19645,[0]!quantidade_adquirida)-SUMIF([0]!cod_saida,Estoque!A19645,quantidade_comprada)","v":0}]
[null,null,null,null,null,{"$f":"SUMIF(Codigo_Produto,Estoque!A19661,[0]!quantidade_adquirida)-SUMIF([0]!cod_saida,Estoque!A19661,quantidade_comprada)","v":0}]
[null,null,null,null,null,{"$f":"SUMIF(Codigo_Produto,Estoque!A19668,[0]!quantidade_adquirida)-SUMIF([0]!cod_saida,Estoque!A19668,quantidade_comprada)","v":0}]
[null,null,null,null,null,{"$f":"SUMIF(Codigo_Produto,Estoque!A19688,[0]!quantidade_adquirida)-SUMIF([0]!cod_saida,Estoque!A19688,quantidade_comprada)","v":0}]
[null,null,null,null,null,{"$f":"SUMIF(Codigo_Produto,Estoque!A19693,[0]!quantidade_adquirida)-SUMIF([0]!cod_saida,Estoque!A19693,quantidade_comprada)","v":0}]
[null,null,null,null,null,{"$f":"SUMIF(Codigo_Produto,Estoque!A19710,[0]!quantidade_adquirida)-SUMIF([0]!cod_saida,Estoque!A19710,quantidade_comprada)","v":0}]
[null,null,null,null,null,{"$f":"SUMIF(Codigo_Produto,Estoque!A19717,[0]!quantidade_adquirida)-SUMIF([0]!cod_saida,Estoque!A19717,quantidade_comprada)","v":0}]
[null,null,null,null,null,{"$f":"SUMIF(Codigo_Produto,Estoque!A19733,[0]!quantidade_adquirida)-SUMIF([0]!cod_saida,Estoque!A19733,quantidade_comprada)","v":0}]
[null,null,null,null,null,{"$f":"SUMIF(Codigo_Produto,Estoque!A19740,[0]!quantidade_adquirida)-SUMIF([0]!cod_saida,Estoque!A19740,quantidade_comprada)","v":0}]
[null,null,null,null,null,{"$f":"SUMIF(Codigo_Produto,Estoque!A19756,[0]!quantidade_adquirida)-SUMIF([0]!cod_saida,Estoque!A19756,quantidade_comprada)","v":0}]
[null,null,null,null,null,{"$f":"SUMIF(Codigo_Produto,Estoque!A19776,[0]!quantidade_adquirida)-SUMIF([0]!cod_saida,Estoque!A19776,quantidade_comprada)","v":0}]
[null,null,null,null,null,{"$f":"SUMIF(Codigo_Produto,Estoque!A19782,[0]!quantidade_adquirida)-SUMIF([0]!cod_saida,Estoque!A19782,quantidade_comprada)","v":0}]
[null,null,null,null,null,{"$f":"SUMIF(Codigo_Produto,Estoque!A19798,[0]!quantidade_adquirida)-SUMIF([0]!cod_saida,Estoque!A19798,quantidade_comprada)","v":0}]
[null,null,null,null,null,{"$f":"SUMIF(Codigo_Produto,Estoque!A19805,[0]!quantidade_adquirida)-SUMIF([0]!cod_saida,Estoque!A19805,quantidade_comprada)","v":0}]
[null,null,null,null,null,{"$f":"SUMIF(Codigo_Produto,Estoque!A19821,[0]!quantidade_adquirida)-SUMIF([0]!cod_saida,Estoque!A19821,quantidade_comprada)","v":0}]
[null,null,null,null,null,{"$f":"SUMIF(Codigo_Produto,Estoque!A19841,[0]!quantidade_adquirida)-SUMIF([0]!cod_saida,Estoque!A19841,quantidade_comprada)","v":0}]
[null,null,null,null,null,{"$f":"SUMIF(Codigo_Produto,Estoque!A19848,[0]!quantidade_adquirida)-SUMIF([0]!cod_saida,Estoque!A19848,quantidade_comprada)","v":0}]
[null,null,null,null,null,{"$f":"SUMIF(Codigo_Produto,Estoque!A19864,[0]!quantidade_adquirida)-SUMIF([0]!cod_saida,Estoque!A19864,quantidade_comprada)","v":0}]
[null,null,null,null,null,{"$f":"SUMIF(Codigo_Produto,Estoque!A19875,[0]!quantidade_adquirida)-SUMIF([0]!cod_saida,Estoque!A19875,quantidade_comprada)","v":0}]
[null,null,null,null,null,{"$f":"SUMIF(Codigo_Produto,Estoque!A19890,[0]!quantidade_adquirida)-SUMIF([0]!cod_saida,Estoque!A19890,quantidade_comprada)","v":0}]
[null,null,null,null,null,{"$f":"SUMIF(Codigo_Produto,Estoque!A19906,[0]!quantidade_adquirida)-SUMIF([0]!cod_saida,Estoque!A19906,quantidade_comprada)","v":0}]
[null,null,null,null,null,{"$f":"SUMIF(Codigo_Produto,Estoque!A19913,[0]!quantidade_adquirida)-SUMIF([0]!cod_saida,Estoque!A19913,quantidade_comprada)","v":0}]
[null,null,null,null,null,{"$f":"SUMIF(Codigo_Produto,Estoque!A19929,[0]!quantidade_adquirida)-SUMIF([0]!cod_saida,Estoque!A19929,quantidade_comprada)","v":0}]
[null,null,null,null,null,{"$f":"SUMIF(Codigo_Produto,Estoque!A19936,[0]!quantidade_adquirida)-SUMIF([0]!cod_saida,Estoque!A19936,quantidade_comprada)","v":0}]
[null,null,null,null,null,{"$f":"SUMIF(Codigo_Produto,Estoque!A19956,[0]!quantidade_adquirida)-SUMIF([0]!cod_saida,Estoque!A19956,quantidade_comprada)","v":0}]
[null,null,null,null,null,{"$f":"SUMIF(Codigo_Produto,Estoque!A19959,[0]!quantidade_adquirida)-SUMIF([0]!cod_saida,Estoque!A19959,quantidade_comprada)","v":0}]
[null,null,null,null,null,{"$f":"SUMIF(Codigo_Produto,Estoque!A19978,[0]!quantidade_adquirida)-SUMIF([0]!cod_saida,Estoque!A19978,quantidade_comprada)","v":0}]
[null,null,null,null,null,{"$f":"SUMIF(Codigo_Produto,Estoque!A19985,[0]!quantidade_adquirida)-SUMIF([0]!cod_saida,Estoque!A19985,quantidade_comprada)","v":0}]
[null,null,null,null,null,{"$f":"SUMIF(Codigo_Produto,Estoque!A20001,[0]!quantidade_adquirida)-SUMIF([0]!cod_saida,Estoque!A20001,quantidade_comprada)","v":0}]
[null,null,null,null,null,{"$f":"SUMIF(Codigo_Produto,Estoque!A20021,[0]!quantidade_adquirida)-SUMIF([0]!cod_saida,Estoque!A20021,quantidade_comprada)","v":0}]
[null,null,null,null,null,{"$f":"SUMIF(Codigo_Produto,Estoque!A20024,[0]!quantidade_adquirida)-SUMIF([0]!cod_saida,Estoque!A20024,quantidade_comprada)","v":0}]
[null,null,null,null,null,{"$f":"SUMIF(Codigo_Produto,Estoque!A20044,[0]!quantidade_adquirida)-SUMIF([0]!cod_saida,Estoque!A20044,quantidade_comprada)","v":0}]
[null,null,null,null,null,{"$f":"SUMIF(Codigo_Produto,Estoque!A20051,[0]!quantidade_adquirida)-SUMIF([0]!cod_saida,Estoque!A20051,quantidade_comprada)","v":0}]
[null,null,null,null,null,{"$f":"SUMIF(Codigo_Produto,Estoque!A20071,[0]!quantidade_adquirida)-SUMIF([0]!cod_saida,Estoque!A20071,quantidade_comprada)","v":0}]
[null,null,null,null,null,{"$f":"SUMIF(Codigo_Produto,Estoque!A20086,[0]!quantidade_adquirida)-SUMIF([0]!cod_saida,Estoque!A20086,quantidade_comprada)","v":0}]
[null,null,null,null,null,{"$f":"SUMIF(Codigo_Produto,Estoque!A20089,[0]!quantidade_adquirida)-SUMIF([0]!cod_saida,Estoque!A20089,quantidade_comprada)","v":0}]
[null,null,null,null,null,{"$f":"SUMIF(Codigo_Produto,Estoque!A20109,[0]!quantidade_adquirida)-SUMIF([0]!cod_saida,Estoque!A20109,quantidade_comprada)","v":0}]
[null,null,null,null,null,{"$f":"SUMIF(Codigo_Produto,Estoque!A20116,[0]!quantidade_adquirida)-SUMIF([0]!cod_saida,Estoque!A20116,quantidade_comprada)","v":0}]
[null,null,null,null,null,{"$f":"SUMIF(Codigo_Produto,Estoque!A20132,[0]!quantidade_adquirida)-SUMIF([0]!cod_saida,Estoque!A20132,quantidade_comprada)","v":0}]
[null,null,null,null,null,{"$f":"SUMIF(Codigo_Produto,Estoque!A20139,[0]!quantidade_adquirida)-SUMIF([0]!cod_saida,Estoque!A20139,quantidade_comprada)","v":0}]
[null,null,null,null,null,{"$f":"SUMIF(Codigo_Produto,Estoque!A20160,[0]!quantidade_adquirida)-SUMIF([0]!cod_saida,Estoque!A20160,quantidade_comprada)","v":0}]
[null,null,null,null,null,{"$f":"SUMIF(Codigo_Produto,Estoque!A20174,[0]!quantidade_adquirida)-SUMIF([0]!cod_saida,Estoque!A20174,quantidade_comprada)","v":0}]
[null,null,null,null,null,{"$f":"SUMIF(Codigo_Produto,Estoque!A20181,[0]!quantidade_adquirida)-SUMIF([0]!cod_saida,Estoque!A20181,quantidade_comprada)","v":0}]
[null,null,null,null,null,{"$f":"SUMIF(Codigo_Produto,Estoque!A20197,[0]!quantidade_adquirida)-SUMIF([0]!cod_saida,Estoque!A20197,quantidade_comprada)","v":0}]
[null,null,null,null,null,{"$f":"SUMIF(Codigo_Produto,Estoque!A20204,[0]!quantidade_adquirida)-SUMIF([0]!cod_saida,Estoque!A20204,quantidade_comprada)","v":0}]
[null,null,null,null,null,{"$f":"SUMIF(Codigo_Produto,Estoque!A20224,[0]!quantidade_adquirida)-SUMIF([0]!cod_saida,Estoque!A20224,quantidade_comprada)","v":0}]
[null,null,null,null,null,{"$f":"SUMIF(Codigo_Produto,Estoque!A20240,[0]!quantidade_adquirida)-SUMIF([0]!cod_saida,Estoque!A20240,quantidade_comprada)","v":0}]
[null,null,null,null,null,{"$f":"SUMIF(Codigo_Produto,Estoque!A20247,[0]!quantidade_adquirida)-SUMIF([0]!cod_saida,Estoque!A20247,quantidade_comprada)","v":0}]
[null,null,null,null,null,{"$f":"SUMIF(Codigo_Produto,Estoque!A20255,[0]!quantidade_adquirida)-SUMIF([0]!cod_saida,Estoque!A20255,quantidade_comprada)","v":0}]
[null,null,null,null,null,{"$f":"SUMIF(Codigo_Produto,Estoque!A20269,[0]!quantidade_adquirida)-SUMIF([0]!cod_saida,Estoque!A20269,quantidade_comprada)","v":0}]
[null,null,null,null,null,{"$f":"SUMIF(Codigo_Produto,Estoque!A20289,[0]!quantidade_adquirida)-SUMIF([0]!cod_saida,Estoque!A20289,quantidade_comprada)","v":0}]
[null,null,null,null,null,{"$f":"SUMIF(Codigo_Produto,Estoque!A20305,[0]!quantidade_adquirida)-SUMIF([0]!cod_saida,Estoque!A20305,quantidade_comprada)","v":0}]
[null,null,null,null,null,{"$f":"SUMIF(Codigo_Produto,Estoque!A20312,[0]!quantidade_adquirida)-SUMIF([0]!cod_saida,Estoque!A20312,quantidade_comprada)","v":0}]
[null,null,null,null,null,{"$f":"SUMIF(Codigo_Produto,Estoque!A20319,[0]!quantidade_adquirida)-SUMIF([0]!cod_saida,Estoque!A20319,quantidade_comprada)","v":0}]
[null,null,null,null,null,{"$f":"SUMIF(Codigo_Produto,Estoque!A20335,[0]!quantidade_adquirida)-SUMIF([0]!cod_saida,Estoque!A20335,quantidade_comprada)","v":0}]
[null,null,null,null,null,{"$f":"SUMIF(Codigo_Produto,Estoque!A20356,[0]!quantidade_adquirida)-SUMIF([0]!cod_saida,Estoque!A20356,quantidade_comprada)","v":0}]
[null,null,null,null,null,{"$f":"SUMIF(Codigo_Produto,Estoque!A20357,[0]!quantidade_adquirida)-SUMIF([0]!cod_saida,Estoque!A20357,quantidade_comprada)","v":0}]
[null,null,null,null,null,{"$f":"SUMIF(Codigo_Produto,Estoque!A20377,[0]!quantidade_adquirida)-SUMIF([0]!cod_saida,Estoque!A20377,quantidade_comprada)","v":0}]
[null,null,null,null,null,{"$f":"SUMIF(Codigo_Produto,Estoque!A20384,[0]!quantidade_adquirida)-SUMIF([0]!cod_saida,Estoque!A20384,quantidade_comprada)","v":0}]
[null,null,null,null,null,{"$f":"SUMIF(Codigo_Produto,Estoque!A20400,[0]!quantidade_adquirida)-SUMIF([0]!cod_saida,Estoque!A20400,quantidade_comprada)","v":0}]
[null,null,null,null,null,{"$f":"SUMIF(Codigo_Produto,Estoque!A20420,[0]!quantidade_adquirida)-SUMIF([0]!cod_saida,Estoque!A20420,quantidade_comprada)","v":0}]
[null,null,null,null,null,{"$f":"SUMIF(Codigo_Produto,Estoque!A20427,[0]!quantidade_adquirida)-SUMIF([0]!cod_saida,Estoque!A20427,quantidade_comprada)","v":0}]
[null,null,null,null,null,{"$f":"SUMIF(Codigo_Produto,Estoque!A20437,[0]!quantidade_adquirida)-SUMIF([0]!cod_saida,Estoque!A20437,quantidade_comprada)","v":0}]
[null,null,null,null,null,{"$f":"SUMIF(Codigo_Produto,Estoque!A20449,[0]!quantidade_adquirida)-SUMIF([0]!cod_saida,Estoque!A20449,quantidade_comprada)","v":0}]
[null,null,null,null,null,{"$f":"SUMIF(Codigo_Produto,Estoque!A20465,[0]!quantidade_adquirida)-SUMIF([0]!cod_saida,Estoque!A20465,quantidade_comprada)","v":0}]
[null,null,null,null,null,{"$f":"SUMIF(Codigo_Produto,Estoque!A20485,[0]!quantidade_adquirida)-SUMIF([0]!cod_saida,Estoque!A20485,quantidade_comprada)","v":0}]
[null,null,null,null,null,{"$f":"SUMIF(Codigo_Produto,Estoque!A20492,[0]!quantidade_adquirida)-SUMIF([0]!cod_saida,Estoque!A20492,quantidade_comprada)","v":0}]
[null,null,null,null,null,{"$f":"SUMIF(Codigo_Produto,Estoque!A20508,[0]!quantidade_adquirida)-SUMIF([0]!cod_saida,Estoque!A20508,quantidade_comprada)","v":0}]
[null,null,null,null,null,{"$f":"SUMIF(Codigo_Produto,Estoque!A20515,[0]!quantidade_adquirida)-SUMIF([0]!cod_saida,Estoque!A20515,quantidade_comprada)","v":0}]
[null,null,null,null,null,{"$f":"SUMIF(Codigo_Produto,Estoque!A20531,[0]!quantidade_adquirida)-SUMIF([0]!cod_saida,Estoque!A20531,quantidade_comprada)","v":0}]
[null,null,null,null,null,{"$f":"SUMIF(Codigo_Produto,Estoque!A20540,[0]!quantidade_adquirida)-SUMIF([0]!cod_saida,Estoque!A20540,quantidade_comprada)","v":0}]
[null,null,null,null,null,{"$f":"SUMIF(Codigo_Produto,Estoque!A20557,[0]!quantidade_adquirida)-SUMIF([0]!cod_saida,Estoque!A20557,quantidade_comprada)","v":0}]
[null,null,null,null,null,{"$f":"SUMIF(Codigo_Produto,Estoque!A20573,[0]!quantidade_adquirida)-SUMIF([0]!cod_saida,Estoque!A20573,quantidade_comprada)","v":0}]
[null,null,null,null,null,{"$f":"SUMIF(Codigo_Produto,Estoque!A20580,[0]!quantidade_adquirida)-SUMIF([0]!cod_saida,Estoque!A20580,quantidade_comprada)","v":0}]
[null,null,null,null,null,{"$f":"SUMIF(Codigo_Produto,Estoque!A20600,[0]!quantidade_adquirida)-SUMIF([0]!cod_saida,Estoque!A20600,quantidade_comprada)","v":0}]
[null,null,null,null,null,{"$f":"SUMIF(Codigo_Produto,Estoque!A20603,[0]!quantidade_adquirida)-SUMIF([0]!cod_saida,Estoque!A20603,quantidade_comprada)","v":0}]
[null,null,null,null,null,{"$f":"SUMIF(Codigo_Produto,Estoque!A20623,[0]!quantidade_adquirida)-SUMIF([0]!cod_saida,Estoque!A20623,quantidade_comprada)","v":0}]
[null,null,null,null,null,{"$f":"SUMIF(Codigo_Produto,Estoque!A20633,[0]!quantidade_adquirida)-SUMIF([0]!cod_saida,Estoque!A20633,quantidade_comprada)","v":0}]
[null,null,null,null,null,{"$f":"SUMIF(Codigo_Produto,Estoque!A20645,[0]!quantidade_adquirida)-SUMIF([0]!cod_saida,Estoque!A20645,quantidade_comprada)","v":0}]
[null,null,null,null,null,{"$f":"SUMIF(Codigo_Produto,Estoque!A20665,[0]!quantidade_adquirida)-SUMIF([0]!cod_saida,Estoque!A20665,quantidade_comprada)","v":0}]
[null,null,null,null,null,{"$f":"SUMIF(Codigo_Produto,Estoque!A20668,[0]!quantidade_adquirida)-SUMIF([0]!cod_saida,Estoque!A20668,quantidade_comprada)","v":0}]
[null,null,null,null,null,{"$f":"SUMIF(Codigo_Produto,Estoque!A20688,[0]!quantidade_adquirida)-SUMIF([0]!cod_saida,Estoque!A20688,quantidade_comprada)","v":0}]
[null,null,null,null,null,{"$f":"SUMIF(Codigo_Produto,Estoque!A20695,[0]!quantidade_adquirida)-SUMIF([0]!cod_saida,Estoque!A20695,quantidade_comprada)","v":0}]
[null,null,null,null,null,{"$f":"SUMIF(Codigo_Produto,Estoque!A20711,[0]!quantidade_adquirida)-SUMIF([0]!cod_saida,Estoque!A20711,quantidade_comprada)","v":0}]
[null,null,null,null,null,{"$f":"SUMIF(Codigo_Produto,Estoque!A20722,[0]!quantidade_adquirida)-SUMIF([0]!cod_saida,Estoque!A20722,quantidade_comprada)","v":0}]
[null,null,null,null,null,{"$f":"SUMIF(Codigo_Produto,Estoque!A20733,[0]!quantidade_adquirida)-SUMIF([0]!cod_saida,Estoque!A20733,quantidade_comprada)","v":0}]
[null,null,null,null,null,{"$f":"SUMIF(Codigo_Produto,Estoque!A20753,[0]!quantidade_adquirida)-SUMIF([0]!cod_saida,Estoque!A20753,quantidade_comprada)","v":0}]
[null,null,null,null,null,{"$f":"SUMIF(Codigo_Produto,Estoque!A20760,[0]!quantidade_adquirida)-SUMIF([0]!cod_saida,Estoque!A20760,quantidade_comprada)","v":0}]
[null,null,null,null,null,{"$f":"SUMIF(Codigo_Produto,Estoque!A20776,[0]!quantidade_adquirida)-SUMIF([0]!cod_saida,Estoque!A20776,quantidade_comprada)","v":0}]
[null,null,null,null,null,{"$f":"SUMIF(Codigo_Produto,Estoque!A20783,[0]!quantidade_adquirida)-SUMIF([0]!cod_saida,Estoque!A20783,quantidade_comprada)","v":0}]
[null,null,null,null,null,{"$f":"SUMIF(Codigo_Produto,Estoque!A20799,[0]!quantidade_adquirida)-SUMIF([0]!cod_saida,Estoque!A20799,quantidade_comprada)","v":0}]
[null,null,null,null,null,{"$f":"SUMIF(Codigo_Produto,Estoque!A20819,[0]!quantidade_adquirida)-SUMIF([0]!cod_saida,Estoque!A20819,quantidade_comprada)","v":0}]
[null,null,null,null,null,{"$f":"SUMIF(Codigo_Produto,Estoque!A20825,[0]!quantidade_adquirida)-SUMIF([0]!cod_saida,Estoque!A20825,quantidade_comprada)","v":0}]
[null,null,null,null,null,{"$f":"SUMIF(Codigo_Produto,Estoque!A20841,[0]!quantidade_adquirida)-SUMIF([0]!cod_saida,Estoque!A20841,quantidade_comprada)","v":0}]
[null,null,null,null,null,{"$f":"SUMIF(Codigo_Produto,Estoque!A20848,[0]!quantidade_adquirida)-SUMIF([0]!cod_saida,Estoque!A20848,quantidade_comprada)","v":0}]
[null,null,null,null,null,{"$f":"SUMIF(Codigo_Produto,Estoque!A20868,[0]!quantidade_adquirida)-SUMIF([0]!cod_saida,Estoque!A20868,quantidade_comprada)","v":0}]
[null,null,null,null,null,{"$f":"SUMIF(Codigo_Produto,Estoque!A20884,[0]!quantidade_adquirida)-SUMIF([0]!cod_saida,Estoque!A20884,quantidade_comprada)","v":0}]
[null,null,null,null,null,{"$f":"SUMIF(Codigo_Produto,Estoque!A20891,[0]!quantidade_adquirida)-SUMIF([0]!cod_saida,Estoque!A20891,quantidade_comprada)","v":0}]
[null,null,null,null,null,{"$f":"SUMIF(Codigo_Produto,Estoque!A20907,[0]!quantidade_adquirida)-SUMIF([0]!cod_saida,Estoque!A20907,quantidade_comprada)","v":0}]
[null,null,null,null,null,{"$f":"SUMIF(Codigo_Produto,Estoque!A20918,[0]!quantidade_adquirida)-SUMIF([0]!cod_saida,Estoque!A20918,quantidade_comprada)","v":0}]
[null,null,null,null,null,{"$f":"SUMIF(Codigo_Produto,Estoque!A20933,[0]!quantidade_adquirida)-SUMIF([0]!cod_saida,Estoque!A20933,quantidade_comprada)","v":0}]
[null,null,null,null,null,{"$f":"SUMIF(Codigo_Produto,Estoque!A20936,[0]!quantidade_adquirida)-SUMIF([0]!cod_saida,Estoque!A20936,quantidade_comprada)","v":0}]
[null,null,null,null,null,{"$f":"SUMIF(Codigo_Produto,Estoque!A20956,[0]!quantidade_adquirida)-SUMIF([0]!cod_saida,Estoque!A20956,quantidade_comprada)","v":0}]
[null,null,null,null,null,{"$f":"SUMIF(Codigo_Produto,Estoque!A20972,[0]!quantidade_adquirida)-SUMIF([0]!cod_saida,Estoque!A20972,quantidade_comprada)","v":0}]
[null,null,null,null,null,{"$f":"SUMIF(Codigo_Produto,Estoque!A20979,[0]!quantidade_adquirida)-SUMIF([0]!cod_saida,Estoque!A20979,quantidade_comprada)","v":0}]
[null,null,null,null,null,{"$f":"SUMIF(Codigo_Produto,Estoque!A20999,[0]!quantidade_adquirida)-SUMIF([0]!cod_saida,Estoque!A20999,quantidade_comprada)","v":0}]
[null,null,null,null,null,{"$f":"SUMIF(Codigo_Produto,Estoque!A21011,[0]!quantidade_adquirida)-SUMIF([0]!cod_saida,Estoque!A21011,quantidade_comprada)","v":0}]
[null,null,null,null,null,{"$f":"SUMIF(Codigo_Produto,Estoque!A21021,[0]!quantidade_adquirida)-SUMIF([0]!cod_saida,Estoque!A21021,quantidade_comprada)","v":0}]
[null,null,null,null,null,{"$f":"SUMIF(Codigo_Produto,Estoque!A21028,[0]!quantidade_adquirida)-SUMIF([0]!cod_saida,Estoque!A21028,quantidade_comprada)","v":0}]
[null,null,null,null,null,{"$f":"SUMIF(Codigo_Produto,Estoque!A21044,[0]!quantidade_adquirida)-SUMIF([0]!cod_saida,Estoque!A21044,quantidade_comprada)","v":0}]
[null,null,null,null,null,{"$f":"SUMIF(Codigo_Produto,Estoque!A21064,[0]!quantidade_adquirida)-SUMIF([0]!cod_saida,Estoque!A21064,quantidade_comprada)","v":0}]
[null,null,null,null,null,{"$f":"SUMIF(Codigo_Produto,Estoque!A21067,[0]!quantidade_adquirida)-SUMIF([0]!cod_saida,Estoque!A21067,quantidade_comprada)","v":0}]
[null,null,null,null,null,{"$f":"SUMIF(Codigo_Produto,Estoque!A21087,[0]!quantidade_adquirida)-SUMIF([0]!cod_saida,Estoque!A21087,quantidade_comprada)","v":0}]
[null,null,null,null,null,{"$f":"SUMIF(Codigo_Produto,Estoque!A21094,[0]!quantidade_adquirida)-SUMIF([0]!cod_saida,Estoque!A21094,quantidade_comprada)","v":0}]
[null,null,null,null,null,{"$f":"SUMIF(Codigo_Produto,Estoque!A21114,[0]!quantidade_adquirida)-SUMIF([0]!cod_saida,Estoque!A21114,quantidade_comprada)","v":0}]
[null,null,null,null,null,{"$f":"SUMIF(Codigo_Produto,Estoque!A21116,[0]!quantidade_adquirida)-SUMIF([0]!cod_saida,Estoque!A21116,quantidade_comprada)","v":0}]
[null,null,null,null,null,{"$f":"SUMIF(Codigo_Produto,Estoque!A21136,[0]!quantidade_adquirida)-SUMIF([0]!cod_saida,Estoque!A21136,quantidade_comprada)","v":0}]
[null,null,null,null,null,{"$f":"SUMIF(Codigo_Produto,Estoque!A21152,[0]!quantidade_adquirida)-SUMIF([0]!cod_saida,Estoque!A21152,quantidade_comprada)","v":0}]
[null,null,null,null,null,{"$f":"SUMIF(Codigo_Produto,Estoque!A21159,[0]!quantidade_adquirida)-SUMIF([0]!cod_saida,Estoque!A21159,quantidade_comprada)","v":0}]
[null,null,null,null,null,{"$f":"SUMIF(Codigo_Produto,Estoque!A21175,[0]!quantidade_adquirida)-SUMIF([0]!cod_saida,Estoque!A21175,quantidade_comprada)","v":0}]
[null,null,null,null,null,{"$f":"SUMIF(Codigo_Produto,Estoque!A21182,[0]!quantidade_adquirida)-SUMIF([0]!cod_saida,Estoque!A21182,quantidade_comprada)","v":0}]
[null,null,null,null,null,{"$f":"SUMIF(Codigo_Produto,Estoque!A21203,[0]!quantidade_adquirida)-SUMIF([0]!cod_saida,Estoque!A21203,quantidade_comprada)","v":0}]
[null,null,null,null,null,{"$f":"SUMIF(Codigo_Produto,Estoque!A21217,[0]!quantidade_adquirida)-SUMIF([0]!cod_saida,Estoque!A21217,quantidade_comprada)","v":0}]
[null,null,null,null,null,{"$f":"SUMIF(Codigo_Produto,Estoque!A21224,[0]!quantidade_adquirida)-SUMIF([0]!cod_saida,Estoque!A21224,quantidade_comprada)","v":0}]
[null,null,null,null,null,{"$f":"SUMIF(Codigo_Produto,Estoque!A21240,[0]!quantidade_adquirida)-SUMIF([0]!cod_saida,Estoque!A21240,quantidade_comprada)","v":0}]
[null,null,null,null,null,{"$f":"SUMIF(Codigo_Produto,Estoque!A21247,[0]!quantidade_adquirida)-SUMIF([0]!cod_saida,Estoque!A21247,quantidade_comprada)","v":0}]
[null,null,null,null,null,{"$f":"SUMIF(Codigo_Produto,Estoque!A21267,[0]!quantidade_adquirida)-SUMIF([0]!cod_saida,Estoque!A21267,quantidade_comprada)","v":0}]
[null,null,null,null,null,{"$f":"SUMIF(Codigo_Produto,Estoque!A21283,[0]!quantidade_adquirida)-SUMIF([0]!cod_saida,Estoque!A21283,quantidade_comprada)","v":0}]
[null,null,null,null,null,{"$f":"SUMIF(Codigo_Produto,Estoque!A21290,[0]!quantidade_adquirida)-SUMIF([0]!cod_saida,Estoque!A21290,quantidade_comprada)","v":0}]
[null,null,null,null,null,{"$f":"SUMIF(Codigo_Produto,Estoque!A21306,[0]!quantidade_adquirida)-SUMIF([0]!cod_saida,Estoque!A21306,quantidade_comprada)","v":0}]
[null,null,null,null,null,{"$f":"SUMIF(Codigo_Produto,Estoque!A21312,[0]!quantidade_adquirida)-SUMIF([0]!cod_saida,Estoque!A21312,quantidade_comprada)","v":0}]
[null,null,null,null,null,{"$f":"SUMIF(Codigo_Produto,Estoque!A21332,[0]!quantidade_adquirida)-SUMIF([0]!cod_saida,Estoque!A21332,quantidade_comprada)","v":0}]
[null,null,null,null,null,{"$f":"SUMIF(Codigo_Produto,Estoque!A21335,[0]!quantidade_adquirida)-SUMIF([0]!cod_saida,Estoque!A21335,quantidade_comprada)","v":0}]
[null,null,null,null,null,{"$f":"SUMIF(Codigo_Produto,Estoque!A21355,[0]!quantidade_adquirida)-SUMIF([0]!cod_saida,Estoque!A21355,quantidade_comprada)","v":0}]
[null,null,null,null,null,{"$f":"SUMIF(Codigo_Produto,Estoque!A21362,[0]!quantidade_adquirida)-SUMIF([0]!cod_saida,Estoque!A21362,quantidade_comprada)","v":0}]
[null,null,null,null,null,{"$f":"SUMIF(Codigo_Produto,Estoque!A21378,[0]!quantidade_adquirida)-SUMIF([0]!cod_saida,Estoque!A21378,quantidade_comprada)","v":0}]
[null,null,null,null,null,{"$f":"SUMIF(Codigo_Produto,Estoque!A21387,[0]!quantidade_adquirida)-SUMIF([0]!cod_saida,Estoque!A21387,quantidade_comprada)","v":0}]
[null,null,null,null,null,{"$f":"SUMIF(Codigo_Produto,Estoque!A21400,[0]!quantidade_adquirida)-SUMIF([0]!cod_saida,Estoque!A21400,quantidade_comprada)","v":0}]
[null,null,null,null,null,{"$f":"SUMIF(Codigo_Produto,Estoque!A21420,[0]!quantidade_adquirida)-SUMIF([0]!cod_saida,Estoque!A21420,quantidade_comprada)","v":0}]
[null,null,null,null,null,{"$f":"SUMIF(Codigo_Produto,Estoque!A21427,[0]!quantidade_adquirida)-SUMIF([0]!cod_saida,Estoque!A21427,quantidade_comprada)","v":0}]
[null,null,null,null,null,{"$f":"SUMIF(Codigo_Produto,Estoque!A21443,[0]!quantidade_adquirida)-SUMIF([0]!cod_saida,Estoque!A21443,quantidade_comprada)","v":0}]
[null,null,null,null,null,{"$f":"SUMIF(Codigo_Produto,Estoque!A21463,[0]!quantidade_adquirida)-SUMIF([0]!cod_saida,Estoque!A21463,quantidade_comprada)","v":0}]
[null,null,null,null,null,{"$f":"SUMIF(Codigo_Produto,Estoque!A21470,[0]!quantidade_adquirida)-SUMIF([0]!cod_saida,Estoque!A21470,quantidade_comprada)","v":0}]
[null,null,null,null,null,{"$f":"SUMIF(Codigo_Produto,Estoque!A21480,[0]!quantidade_adquirida)-SUMIF([0]!cod_saida,Estoque!A21480,quantidade_comprada)","v":0}]
[null,null,null,null,null,{"$f":"SUMIF(Codigo_Produto,Estoque!A21492,[0]!quantidade_adquirida)-SUMIF([0]!cod_saida,Estoque!A21492,quantidade_comprada)","v":0}]
[null,null,null,null,null,{"$f":"SUMIF(Codigo_Produto,Estoque!A21508,[0]!quantidade_adquirida)-SUMIF([0]!cod_saida,Estoque!A21508,quantidade_comprada)","v":0}]
[null,null,null,null,null,{"$f":"SUMIF(Codigo_Produto,Estoque!A21515,[0]!quantidade_adquirida)-SUMIF([0]!cod_saida,Estoque!A21515,quantidade_comprada)","v":0}]
[null,null,null,null,null,{"$f":"SUMIF(Codigo_Produto,Estoque!A21535,[0]!quantidade_adquirida)-SUMIF([0]!cod_saida,Estoque!A21535,quantidade_comprada)","v":0}]
[null,null,null,null,null,{"$f":"SUMIF(Codigo_Produto,Estoque!A21551,[0]!quantidade_adquirida)-SUMIF([0]!cod_saida,Estoque!A21551,quantidade_comprada)","v":0}]
[null,null,null,null,null,{"$f":"SUMIF(Codigo_Produto,Estoque!A21558,[0]!quantidade_adquirida)-SUMIF([0]!cod_saida,Estoque!A21558,quantidade_comprada)","v":0}]
[null,null,null,null,null,{"$f":"SUMIF(Codigo_Produto,Estoque!A21578,[0]!quantidade_adquirida)-SUMIF([0]!cod_saida,Estoque!A21578,quantidade_comprada)","v":0}]
[null,null,null,null,null,{"$f":"SUMIF(Codigo_Produto,Estoque!A21583,[0]!quantidade_adquirida)-SUMIF([0]!cod_saida,Estoque!A21583,quantidade_comprada)","v":0}]
[null,null,null,null,null,{"$f":"SUMIF(Codigo_Produto,Estoque!A21600,[0]!quantidade_adquirida)-SUMIF([0]!cod_saida,Estoque!A21600,quantidade_comprada)","v":0}]
[null,null,null,null,null,{"$f":"SUMIF(Codigo_Produto,Estoque!A21616,[0]!quantidade_adquirida)-SUMIF([0]!cod_saida,Estoque!A21616,quantidade_comprada)","v":0}]
[null,null,null,null,null,{"$f":"SUMIF(Codigo_Produto,Estoque!A21623,[0]!quantidade_adquirida)-SUMIF([0]!cod_saida,Estoque!A21623,quantidade_comprada)","v":0}]
[null,null,null,null,null,{"$f":"SUMIF(Codigo_Produto,Estoque!A21643,[0]!quantidade_adquirida)-SUMIF([0]!cod_saida,Estoque!A21643,quantidade_comprada)","v":0}]
[null,null,null,null,null,{"$f":"SUMIF(Codigo_Produto,Estoque!A21646,[0]!quantidade_adquirida)-SUMIF([0]!cod_saida,Estoque!A21646,quantidade_comprada)","v":0}]
[null,null,null,null,null,{"$f":"SUMIF(Codigo_Produto,Estoque!A21666,[0]!quantidade_adquirida)-SUMIF([0]!cod_saida,Estoque!A21666,quantidade_comprada)","v":0}]
[null,null,null,null,null,{"$f":"SUMIF(Codigo_Produto,Estoque!A21676,[0]!quantidade_adquirida)-SUMIF([0]!cod_saida,Estoque!A21676,quantidade_comprada)","v":0}]
[null,null,null,null,null,{"$f":"SUMIF(Codigo_Produto,Estoque!A21688,[0]!quantidade_adquirida)-SUMIF([0]!cod_saida,Estoque!A21688,quantidade_comprada)","v":0}]
[null,null,null,null,null,{"$f":"SUMIF(Codigo_Produto,Estoque!A21695,[0]!quantidade_adquirida)-SUMIF([0]!cod_saida,Estoque!A21695,quantidade_comprada)","v":0}]
[null,null,null,null,null,{"$f":"SUMIF(Codigo_Produto,Estoque!A21711,[0]!quantidade_adquirida)-SUMIF([0]!cod_saida,Estoque!A21711,quantidade_comprada)","v":0}]
[null,null,null,null,null,{"$f":"SUMIF(Codigo_Produto,Estoque!A21731,[0]!quantidade_adquirida)-SUMIF([0]!cod_saida,Estoque!A21731,quantidade_comprada)","v":0}]
[null,null,null,null,null,{"$f":"SUMIF(Codigo_Produto,Estoque!A21738,[0]!quantidade_adquirida)-SUMIF([0]!cod_saida,Estoque!A21738,quantidade_comprada)","v":0}]
[null,null,null,null,null,{"$f":"SUMIF(Codigo_Produto,Estoque!A21754,[0]!quantidade_adquirida)-SUMIF([0]!cod_saida,Estoque!A21754,quantidade_comprada)","v":0}]
[null,null,null,null,null,{"$f":"SUMIF(Codigo_Produto,Estoque!A21765,[0]!quantidade_adquirida)-SUMIF([0]!cod_saida,Estoque!A21765,quantidade_comprada)","v":0}]
[null,null,null,null,null,{"$f":"SUMIF(Codigo_Produto,Estoque!A21776,[0]!quantidade_adquirida)-SUMIF([0]!cod_saida,Estoque!A21776,quantidade_comprada)","v":0}]
[null,null,null,null,null,{"$f":"SUMIF(Codigo_Produto,Estoque!A21796,[0]!quantidade_adquirida)-SUMIF([0]!cod_saida,Estoque!A21796,quantidade_comprada)","v":0}]
[null,null,null,null,null,{"$f":"SUMIF(Codigo_Produto,Estoque!A21803,[0]!quantidade_adquirida)-SUMIF([0]!cod_saida,Estoque!A21803,quantidade_comprada)","v":0}]
[null,null,null,null,null,{"$f":"SUMIF(Codigo_Produto,Estoque!A21819,[0]!quantidade_adquirida)-SUMIF([0]!cod_saida,Estoque!A21819,quantidade_comprada)","v":0}]
[null,null,null,null,null,{"$f":"SUMIF(Codigo_Produto,Estoque!A21826,[0]!quantidade_adquirida)-SUMIF([0]!cod_saida,Estoque!A21826,quantidade_comprada)","v":0}]
[null,null,null,null,null,{"$f":"SUMIF(Codigo_Produto,Estoque!A21846,[0]!quantidade_adquirida)-SUMIF([0]!cod_saida,Estoque!A21846,quantidade_comprada)","v":0}]
[null,null,null,null,null,{"$f":"SUMIF(Codigo_Produto,Estoque!A21862,[0]!quantidade_adquirida)-SUMIF([0]!cod_saida,Estoque!A21862,quantidade_comprada)","v":0}]
[null,null,null,null,null,{"$f":"SUMIF(Codigo_Produto,Estoque!A21868,[0]!quantidade_adquirida)-SUMIF([0]!cod_saida,Estoque!A21868,quantidade_comprada)","v":0}]
[null,null,null,null,null,{"$f":"SUMIF(Codigo_Produto,Estoque!A21884,[0]!quantidade_adquirida)-SUMIF([0]!cod_saida,Estoque!A21884,quantidade_comprada)","v":0}]
[null,null,null,null,null,{"$f":"SUMIF(Codigo_Produto,Estoque!A21891,[0]!quantidade_adquirida)-SUMIF([0]!cod_saida,Estoque!A21891,quantidade_comprada)","v":0}]
[null,null,null,null,null,{"$f":"SUMIF(Codigo_Produto,Estoque!A21911,[0]!quantidade_adquirida)-SUMIF([0]!cod_saida,Estoque!A21911,quantidade_comprada)","v":0}]
[null,null,null,null,null,{"$f":"SUMIF(Codigo_Produto,Estoque!A21914,[0]!quantidade_adquirida)-SUMIF([0]!cod_saida,Estoque!A21914,quantidade_comprada)","v":0}]
[null,null,null,null,null,{"$f":"SUMIF(Codigo_Produto,Estoque!A21934,[0]!quantidade_adquirida)-SUMIF([0]!cod_saida,Estoque!A21934,quantidade_comprada)","v":0}]
[null,null,null,null,null,{"$f":"SUMIF(Codigo_Produto,Estoque!A21950,[0]!quantidade_adquirida)-SUMIF([0]!cod_saida,Estoque!A21950,quantidade_comprada)","v":0}]
[null,null,null,null,null,{"$f":"SUMIF(Codigo_Produto,Estoque!A21961,[0]!quantidade_adquirida)-SUMIF([0]!cod_saida,Estoque!A21961,quantidade_comprada)","v":0}]
[null,null,null,null,null,{"$f":"SUMIF(Codigo_Produto,Estoque!A21976,[0]!quantidade_adquirida)-SUMIF([0]!cod_saida,Estoque!A21976,quantidade_comprada)","v":0}]
[null,null,null,null,null,{"$f":"SUMIF(Codigo_Produto,Estoque!A21979,[0]!quantidade_adquirida)-SUMIF([0]!cod_saida,Estoque!A21979,quantidade_comprada)","v":0}]
[null,null,null,null,null,{"$f":"SUMIF(Codigo_Produto,Estoque!A21999,[0]!quantidade_adquirida)-SUMIF([0]!cod_saida,Estoque!A21999,quantidade_comprada)","v":0}]
[null,null,null,null,null,{"$f":"SUMIF(Codigo_Produto,Estoque!A22006,[0]!quantidade_adquirida)-SUMIF([0]!cod_saida,Estoque!A22006,quantidade_comprada)","v":0}]
[null,null,null,null,null,{"$f":"SUMIF(Codigo_Produto,Estoque!A22022,[0]!quantidade_adquirida)-SUMIF([0]!cod_saida,Estoque!A22022,quantidade_comprada)","v":0}]
[null,null,null,null,null,{"$f":"SUMIF(Codigo_Produto,Estoque!A22042,[0]!quantidade_adquirida)-SUMIF([0]!cod_saida,Estoque!A22042,quantidade_comprada)","v":0}]
[null,null,null,null,null,{"$f":"SUMIF(Codigo_Produto,Estoque!A22054,[0]!quantidade_adquirida)-SUMIF([0]!cod_saida,Estoque!A22054,quantidade_comprada)","v":0}]
[null,null,null,null,null,{"$f":"SUMIF(Codigo_Produto,Estoque!A22064,[0]!quantidade_adquirida)-SUMIF([0]!cod_saida,Estoque!A22064,quantidade_comprada)","v":0}]
[null,null,null,null,null,{"$f":"SUMIF(Codigo_Produto,Estoque!A22071,[0]!quantidade_adquirida)-SUMIF([0]!cod_saida,Estoque!A22071,quantidade_comprada)","v":0}]
[null,null,null,null,null,{"$f":"SUMIF(Codigo_Produto,Estoque!A22087,[0]!quantidade_adquirida)-SUMIF([0]!cod_saida,Estoque!A22087,quantidade_comprada)","v":0}]
[null,null,null,null,null,{"$f":"SUMIF(Codigo_Produto,Estoque!A22094,[0]!quantidade_adquirida)-SUMIF([0]!cod_saida,Estoque!A22094,quantidade_comprada)","v":0}]
[null,null,null,null,null,{"$f":"SUMIF(Codigo_Produto,Estoque!A22110,[0]!quantidade_adquirida)-SUMIF([0]!cod_saida,Estoque!A22110,quantidade_comprada)","v":0}]
[null,null,null,null,null,{"$f":"SUMIF(Codigo_Produto,Estoque!A22130,[0]!quantidade_adquirida)-SUMIF([0]!cod_saida,Estoque!A22130,quantidade_comprada)","v":0}]
[null,null,null,null,null,{"$f":"SUMIF(Codigo_Produto,Estoque!A22137,[0]!quantidade_adquirida)-SUMIF([0]!cod_saida,Estoque!A22137,quantidade_comprada)","v":0}]
[null,null,null,null,null,{"$f":"SUMIF(Codigo_Produto,Estoque!A22157,[0]!quantidade_adquirida)-SUMIF([0]!cod_saida,Estoque!A22157,quantidade_comprada)","v":0}]
[null,null,null,null,null,{"$f":"SUMIF(Codigo_Produto,Estoque!A22159,[0]!quantidade_adquirida)-SUMIF([0]!cod_saida,Estoque!A22159,quantidade_comprada)","v":0}]
[null,null,null,null,null,{"$f":"SUMIF(Codigo_Produto,Estoque!A22179,[0]!quantidade_adquirida)-SUMIF([0]!cod_saida,Estoque!A22179,quantidade_comprada)","v":0}]
[null,null,null,null,null,{"$f":"SUMIF(Codigo_Produto,Estoque!A22195,[0]!quantidade_adquirida)-SUMIF([0]!cod_saida,Estoque!A22195,quantidade_comprada)","v":0}]
[null,null,null,null,null,{"$f":"SUMIF(Codigo_Produto,Estoque!A22202,[0]!quantidade_adquirida)-SUMIF([0]!cod_saida,Estoque!A22202,quantidade_comprada)","v":0}]
[null,null,null,null,null,{"$f":"SUMIF(Codigo_Produto,Estoque!A22218,[0]!quantidade_adquirida)-SUMIF([0]!cod_saida,Estoque!A22218,quantidade_comprada)","v":0}]
[null,null,null,null,null,{"$f":"SUMIF(Codigo_Produto,Estoque!A22225,[0]!quantidade_adquirida)-SUMIF([0]!cod_saida,Estoque!A22225,quantidade_comprada)","v":0}]
[null,null,null,null,null,{"$f":"SUMIF(Codigo_Produto,Estoque!A22246,[0]!quantidade_adquirida)-SUMIF([0]!cod_saida,Estoque!A22246,quantidade_comprada)","v":0}]
[null,null,null,null,null,{"$f":"SUMIF(Codigo_Produto,Estoque!A22260,[0]!quantidade_adquirida)-SUMIF([0]!cod_saida,Estoque!A22260,quantidade_comprada)","v":0}]
[null,null,null,null,null,{"$f":"SUMIF(Codigo_Produto,Estoque!A22267,[0]!quantidade_adquirida)-SUMIF([0]!cod_saida,Estoque!A22267,quantidade_comprada)","v":0}]
[null,null,null,null,null,{"$f":"SUMIF(Codigo_Produto,Estoque!A22274,[0]!quantidade_adquirida)-SUMIF([0]!cod_saida,Estoque!A22274,quantidade_comprada)","v":0}]
[null,null,null,null,null,{"$f":"SUMIF(Codigo_Produto,Estoque!A22290,[0]!quantidade_adquirida)-SUMIF([0]!cod_saida,Estoque!A22290,quantidade_comprada)","v":0}]
[null,null,null,null,null,{"$f":"SUMIF(Codigo_Produto,Estoque!A22310,[0]!quantidade_adquirida)-SUMIF([0]!cod_saida,Estoque!A22310,quantidade_comprada)","v":0}]
[null,null,null,null,null,{"$f":"SUMIF(Codigo_Produto,Estoque!A22313,[0]!quantidade_adquirida)-SUMIF([0]!cod_saida,Estoque!A22313,quantidade_comprada)","v":0}]
[null,null,null,null,null,{"$f":"SUMIF(Codigo_Produto,Estoque!A22327,[0]!quantidade_adquirida)-SUMIF([0]!cod_saida,Estoque!A22327,quantidade_comprada)","v":0}]
[null,null,null,null,null,{"$f":"SUMIF(Codigo_Produto,Estoque!A22339,[0]!quantidade_adquirida)-SUMIF([0]!cod_saida,Estoque!A22339,quantidade_comprada)","v":0}]
[null,null,null,null,null,{"$f":"SUMIF(Codigo_Produto,Estoque!A22355,[0]!quantidade_adquirida)-SUMIF([0]!cod_saida,Estoque!A22355,quantidade_comprada)","v":0}]
[null,null,null,null,null,{"$f":"SUMIF(Codigo_Produto,Estoque!A22375,[0]!quantidade_adquirida)-SUMIF([0]!cod_saida,Estoque!A22375,quantidade_comprada)","v":0}]
[null,null,null,null,null,{"$f":"SUMIF(Codigo_Produto,Estoque!A22378,[0]!quantidade_adquirida)-SUMIF([0]!cod_saida,Estoque!A22378,quantidade_comprada)","v":0}]
[null,null,null,null,null,{"$f":"SUMIF(Codigo_Produto,Estoque!A22398,[0]!quantidade_adquirida)-SUMIF([0]!cod_saida,Estoque!A22398,quantidade_comprada)","v":0}]
[null,null,null,null,null,{"$f":"SUMIF(Codigo_Produto,Estoque!A22405,[0]!quantidade_adquirida)-SUMIF([0]!cod_saida,Estoque!A22405,quantidade_comprada)","v":0}]
[null,null,null,null,null,{"$f":"SUMIF(Codigo_Produto,Estoque!A22421,[0]!quantidade_adquirida)-SUMIF([0]!cod_saida,Estoque!A22421,quantidade_comprada)","v":0}]
[null,null,null,null,null,{"$f":"SUMIF(Codigo_Produto,Estoque!A22430,[0]!quantidade_adquirida)-SUMIF([0]!cod_saida,Estoque!A22430,quantidade_comprada)","v":0}]
[null,null,null,null,null,{"$f":"SUMIF(Codigo_Produto,Estoque!A22447,[0]!quantidade_adquirida)-SUMIF([0]!cod_saida,Estoque!A22447,quantidade_comprada)","v":0}]
[null,null,null,null,null,{"$f":"SUMIF(Codigo_Produto,Estoque!A22463,[0]!quantidade_adquirida)-SUMIF([0]!cod_saida,Estoque!A22463,quantidade_comprada)","v":0}]
[null,null,null,null,null,{"$f":"SUMIF(Codigo_Produto,Estoque!A22470,[0]!quantidade_adquirida)-SUMIF([0]!cod_saida,Estoque!A22470,quantidade_comprada)","v":0}]
[null,null,null,null,null,{"$f":"SUMIF(Codigo_Produto,Estoque!A22486,[0]!quantidade_adquirida)-SUMIF([0]!cod_saida,Estoque!A22486,quantidade_comprada)","v":0}]
[null,null,null,null,null,{"$f":"SUMIF(Codigo_Produto,Estoque!A22493,[0]!quantidade_adquirida)-SUMIF([0]!cod_saida,Estoque!A22493,quantidade_comprada)","v":0}]
[null,null,null,null,null,{"$f":"SUMIF(Codigo_Produto,Estoque!A22513,[0]!quantidade_adquirida)-SUMIF([0]!cod_saida,Estoque!A22513,quantidade_comprada)","v":0}]
[null,null,null,null,null,{"$f":"SUMIF(Codigo_Produto,Estoque!A22523,[0]!quantidade_adquirida)-SUMIF([0]!cod_saida,Estoque!A22523,quantidade_comprada)","v":0}]
[null,null,null,null,null,{"$f":"SUMIF(Codigo_Produto,Estoque!A22535,[0]!quantidade_adquirida)-SUMIF([0]!cod_saida,Estoque!A22535,quantidade_comprada)","v":0}]
[null,null,null,null,null,{"$f":"SUMIF(Codigo_Produto,Estoque!A22555,[0]!quantidade_adquirida)-SUMIF([0]!cod_saida,Estoque!A22555,quantidade_comprada)","v":0}]
[null,null,null,null,null,{"$f":"SUMIF(Codigo_Produto,Estoque!A22558,[0]!quantidade_adquirida)-SUMIF([0]!cod_saida,Estoque!A22558,quantidade_comprada)","v":0}]
[null,null,null,null,null,{"$f":"SUMIF(Codigo_Produto,Estoque!A22578,[0]!quantidade_adquirida)-SUMIF([0]!cod_saida,Estoque!A22578,quantidade_comprada)","v":0}]
[null,null,null,null,null,{"$f":"SUMIF(Codigo_Produto,Estoque!A22594,[0]!quantidade_adquirida)-SUMIF([0]!cod_saida,Estoque!A22594,quantidade_comprada)","v":0}]
[null,null,null,null,null,{"$f":"SUMIF(Codigo_Produto,Estoque!A22601,[0]!quantidade_adquirida)-SUMIF([0]!cod_saida,Estoque!A22601,quantidade_comprada)","v":0}]
[null,null,null,null,null,{"$f":"SUMIF(Codigo_Produto,Estoque!A22612,[0]!quantidade_adquirida)-SUMIF([0]!cod_saida,Estoque!A22612,quantidade_comprada)","v":0}]
[null,null,null,null,null,{"$f":"SUMIF(Codigo_Produto,Estoque!A22623,[0]!quantidade_adquirida)-SUMIF([0]!cod_saida,Estoque!A22623,quantidade_comprada)","v":0}]
[null,null,null,null,null,{"$f":"SUMIF(Codigo_Produto,Estoque!A22643,[0]!quantidade_adquirida)-SUMIF([0]!cod_saida,Estoque!A22643,quantidade_comprada)","v":0}]
[null,null,null,null,null,{"$f":"SUMIF(Codigo_Produto,Estoque!A22659,[0]!quantidade_adquirida)-SUMIF([0]!cod_saida,Estoque!A22659,quantidade_comprada)","v":0}]
[null,null,null,null,null,{"$f":"SUMIF(Codigo_Produto,Estoque!A22666,[0]!quantidade_adquirida)-SUMIF([0]!cod_saida,Estoque!A22666,quantidade_comprada)","v":0}]
[null,null,null,null,null,{"$f":"SUMIF(Codigo_Produto,Estoque!A22673,[0]!quantidade_adquirida)-SUMIF([0]!cod_saida,Estoque!A22673,quantidade_comprada)","v":0}]
[null,null,null,null,null,{"$f":"SUMIF(Codigo_Produto,Estoque!A22689,[0]!quantidade_adquirida)-SUMIF([0]!cod_saida,Estoque!A22689,quantidade_comprada)","v":0}]
[null,null,null,null,null,{"$f":"SUMIF(Codigo_Produto,Estoque!A22709,[0]!quantidade_adquirida)-SUMIF([0]!cod_saida,Estoque!A22709,quantidade_comprada)","v":0}]
[null,null,null,null,null,{"$f":"SUMIF(Codigo_Produto,Estoque!A22715,[0]!quantidade_adquirida)-SUMIF([0]!cod_saida,Estoque!A22715,quantidade_comprada)","v":0}]
[null,null,null,null,null,{"$f":"SUMIF(Codigo_Produto,Estoque!A22731,[0]!quantidade_adquirida)-SUMIF([0]!cod_saida,Estoque!A22731,quantidade_comprada)","v":0}]
[null,null,null,null,null,{"$f":"SUMIF(Codigo_Produto,Estoque!A22738,[0]!quantidade_adquirida)-SUMIF([0]!cod_saida,Estoque!A22738,quantidade_comprada)","v":0}]
[null,null,null,null,null,{"$f":"SUMIF(Codigo_Produto,Estoque!A22754,[0]!quantidade_adquirida)-SUMIF([0]!cod_saida,Estoque!A22754,quantidade_comprada)","v":0}]
[null,null,null,null,null,{"$f":"SUMIF(Codigo_Produto,Estoque!A22774,[0]!quantidade_adquirida)-SUMIF([0]!cod_saida,Estoque!A22774,quantidade_comprada)","v":0}]
[null,null,null,null,null,{"$f":"SUMIF(Codigo_Produto,Estoque!A22781,[0]!quantidade_adquirida)-SUMIF([0]!cod_saida,Estoque!A22781,quantidade_comprada)","v":0}]
[null,null,null,null,null,{"$f":"SUMIF(Codigo_Produto,Estoque!A22797,[0]!quantidade_adquirida)-SUMIF([0]!cod_saida,Estoque!A22797,quantidade_comprada)","v":0}]
[null,null,null,null,null,{"$f":"SUMIF(Codigo_Produto,Estoque!A22808,[0]!quantidade_adquirida)-SUMIF([0]!cod_saida,Estoque!A22808,quantidade_comprada)","v":0}]
[null,null,null,null,null,{"$f":"SUMIF(Codigo_Produto,Estoque!A22819,[0]!quantidade_adquirida)-SUMIF([0]!cod_saida,Estoque!A22819,quantidade_comprada)","v":0}]
[null,null,null,null,null,{"$f":"SUMIF(Codigo_Produto,Estoque!A22839,[0]!quantidade_adquirida)-SUMIF([0]!cod_saida,Estoque!A22839,quantidade_comprada)","v":0}]
[null,null,null,null,null,{"$f":"SUMIF(Codigo_Produto,Estoque!A22846,[0]!quantidade_adquirida)-SUMIF([0]!cod_saida,Estoque!A22846,quantidade_comprada)","v":0}]
[null,null,null,null,null,{"$f":"SUMIF(Codigo_Produto,Estoque!A22862,[0]!quantidade_adquirida)-SUMIF([0]!cod_saida,Estoque!A22862,quantidade_comprada)","v":0}]
[null,null,null,null,null,{"$f":"SUMIF(Codigo_Produto,Estoque!A22869,[0]!quantidade_adquirida)-SUMIF([0]!cod_saida,Estoque!A22869,quantidade_comprada)","v":0}]
[null,null,null,null,null,{"$f":"SUMIF(Codigo_Produto,Estoque!A22889,[0]!quantidade_adquirida)-SUMIF([0]!cod_saida,Estoque!A22889,quantidade_comprada)","v":0}]
[null,null,null,null,null,{"$f":"SUMIF(Codigo_Produto,Estoque!A22892,[0]!quantidade_adquirida)-SUMIF([0]!cod_saida,Estoque!A22892,quantidade_comprada)","v":0}]
[null,null,null,null,null,{"$f":"SUMIF(Codigo_Produto,Estoque!A22911,[0]!quantidade_adquirida)-SUMIF([0]!cod_saida,Estoque!A22911,quantidade_comprada)","v":0}]
[null,null,null,null,null,{"$f":"SUMIF(Codigo_Produto,Estoque!A22927,[0]!quantidade_adquirida)-SUMIF([0]!cod_saida,Estoque!A22927,quantidade_comprada)","v":0}]
[null,null,null,null,null,{"$f":"SUMIF(Codigo_Produto,Estoque!A22934,[0]!quantidade_adquirida)-SUMIF([0]!cod_saida,Estoque!A22934,quantidade_comprada)","v":0}]
[null,null,null,null,null,{"$f":"SUMIF(Codigo_Produto,Estoque!A22954,[0]!quantidade_adquirida)-SUMIF([0]!cod_saida,Estoque!A22954,quantidade_comprada)","v":0}]
[null,null,null,null,null,{"$f":"SUMIF(Codigo_Produto,Estoque!A22957,[0]!quantidade_adquirida)-SUMIF([0]!cod_saida,Estoque!A22957,quantidade_comprada)","v":0}]
[null,null,null,null,null,{"$f":"SUMIF(Codigo_Produto,Estoque!A22977,[0]!quantidade_adquirida)-SUMIF([0]!cod_saida,Estoque!A22977,quantidade_comprada)","v":0}]
[null,null,null,null,null,{"$f":"SUMIF(Codigo_Produto,Estoque!A22984,[0]!quantidade_adquirida)-SUMIF([0]!cod_saida,Estoque!A22984,quantidade_comprada)","v":0}]
[null,null,null,null,null,{"$f":"SUMIF(Codigo_Produto,Estoque!A23004,[0]!quantidade_adquirida)-SUMIF([0]!cod_saida,Estoque!A23004,quantidade_comprada)","v":0}]
[null,null,null,null,null,{"$f":"SUMIF(Codigo_Produto,Estoque!A23019,[0]!quantidade_adquirida)-SUMIF([0]!cod_saida,Estoque!A23019,quantidade_comprada)","v":0}]
[null,null,null,null,null,{"$f":"SUMIF(Codigo_Produto,Estoque!A23022,[0]!quantidade_adquirida)-SUMIF([0]!cod_saida,Estoque!A23022,quantidade_comprada)","v":0}]
[null,null,null,null,null,{"$f":"SUMIF(Codigo_Produto,Estoque!A23042,[0]!quantidade_adquirida)-SUMIF([0]!cod_saida,Estoque!A23042,quantidade_comprada)","v":0}]
[null,null,null,null,null,{"$f":"SUMIF(Codigo_Produto,Estoque!A23049,[0]!quantidade_adquirida)-SUMIF([0]!cod_saida,Estoque!A23049,quantidade_comprada)","v":0}]
[null,null,null,null,null,{"$f":"SUMIF(Codigo_Produto,Estoque!A23065,[0]!quantidade_adquirida)-SUMIF([0]!cod_saida,Estoque!A23065,quantidade_comprada)","v":0}]
[null,null,null,null,null,{"$f":"SUMIF(Codigo_Produto,Estoque!A23072,[0]!quantidade_adquirida)-SUMIF([0]!cod_saida,Estoque!A23072,quantidade_comprada)","v":0}]
[null,null,null,null,null,{"$f":"SUMIF(Codigo_Produto,Estoque!A23085,[0]!quantidade_adquirida)-SUMIF([0]!cod_saida,Estoque!A23085,quantidade_comprada)","v":0}]
[null,null,null,null,null,{"$f":"SUMIF(Codigo_Produto,Estoque!A23107,[0]!quantidade_adquirida)-SUMIF([0]!cod_saida,Estoque!A23107,quantidade_comprada)","v":0}]
[null,null,null,null,null,{"$f":"SUMIF(Codigo_Produto,Estoque!A23114,[0]!quantidade_adquirida)-SUMIF([0]!cod_saida,Estoque!A23114,quantidade_comprada)","v":0}]
[null,null,null,null,null,{"$f":"SUMIF(Codigo_Produto,Estoque!A23130,[0]!quantidade_adquirida)-SUMIF([0]!cod_saida,Estoque!A23130,quantidade_comprada)","v":0}]
[null,null,null,null,null,{"$f":"SUMIF(Codigo_Produto,Estoque!A23137,[0]!quantidade_adquirida)-SUMIF([0]!cod_saida,Estoque!A23137,quantidade_comprada)","v":0}]
[null,null,null,null,null,{"$f":"SUMIF(Codigo_Produto,Estoque!A23157,[0]!quantidade_adquirida)-SUMIF([0]!cod_saida,Estoque!A23157,quantidade_comprada)","v":0}]
[null,null,null,null,null,{"$f":"SUMIF(Codigo_Produto,Estoque!A23173,[0]!quantidade_adquirida)-SUMIF([0]!cod_saida,Estoque!A23173,quantidade_comprada)","v":0}]
[null,null,null,null,null,{"$f":"SUMIF(Codigo_Produto,Estoque!A23180,[0]!quantidade_adquirida)-SUMIF([0]!cod_saida,Estoque!A23180,quantidade_comprada)","v":0}]
[null,null,null,null,null,{"$f":"SUMIF(Codigo_Produto,Estoque!A23188,[0]!quantidade_adquirida)-SUMIF([0]!cod_saida,Estoque!A23188,quantidade_comprada)","v":0}]
[null,null,null,null,null,{"$f":"SUMIF(Codigo_Produto,Estoque!A23202,[0]!quantidade_adquirida)-SUMIF([0]!cod_saida,Estoque!A23202,quantidade_comprada)","v":0}]
[null,null,null,null,null,{"$f":"SUMIF(Codigo_Produto,Estoque!A23222,[0]!quantidade_adquirida)-SUMIF([0]!cod_saida,Estoque!A23222,quantidade_comprada)","v":0}]
[null,null,null,null,null,{"$f":"SUMIF(Codigo_Produto,Estoque!A23238,[0]!quantidade_adquirida)-SUMIF([0]!cod_saida,Estoque!A23238,quantidade_comprada)","v":0}]
[null,null,null,null,null,{"$f":"SUMIF(Codigo_Produto,Estoque!A23245,[0]!quantidade_adquirida)-SUMIF([0]!cod_saida,Estoque!A23245,quantidade_comprada)","v":0}]
[null,null,null,null,null,{"$f":"SUMIF(Codigo_Produto,Estoque!A23261,[0]!quantidade_adquirida)-SUMIF([0]!cod_saida,Estoque!A23261,quantidade_comprada)","v":0}]
[null,null,null,null,null,{"$f":"SUMIF(Codigo_Produto,Estoque!A23268,[0]!quantidade_adquirida)-SUMIF([0]!cod_saida,Estoque!A23268,quantidade_comprada)","v":0}]
[null,null,null,null,null,{"$f":"SUMIF(Codigo_Produto,Estoque!A23289,[0]!quantidade_adquirida)-SUMIF([0]!cod_saida,Estoque!A23289,quantidade_comprada)","v":0}]
[null,null,null,null,null,{"$f":"SUMIF(Codigo_Produto,Estoque!A23290,[0]!quantidade_adquirida)-SUMIF([0]!cod_saida,Estoque!A23290,quantidade_comprada)","v":0}]
[null,null,null,null,null,{"$f":"SUMIF(Codigo_Produto,Estoque!A23310,[0]!quantidade_adquirida)-SUMIF([0]!cod_saida,Estoque!A23310,quantidade_comprada)","v":0}]
[null,null,null,null,null,{"$f":"SUMIF(Codigo_Produto,Estoque!A23317,[0]!quantidade_adquirida)-SUMIF([0]!cod_saida,Estoque!A23317,quantidade_comprada)","v":0}]
[null,null,null,null,null,{"$f":"SUMIF(Codigo_Produto,Estoque!A23333,[0]!quantidade_adquirida)-SUMIF([0]!cod_saida,Estoque!A23333,quantidade_comprada)","v":0}]
[null,null,null,null,null,{"$f":"SUMIF(Codigo_Produto,Estoque!A23353,[0]!quantidade_adquirida)-SUMIF([0]!cod_saida,Estoque!A23353,quantidade_comprada)","v":0}]
[null,null,null,null,null,{"$f":"SUMIF(Codigo_Produto,Estoque!A23356,[0]!quantidade_adquirida)-SUMIF([0]!cod_saida,Estoque!A23356,quantidade_comprada)","v":0}]
[null,null,null,null,null,{"$f":"SUMIF(Codigo_Produto,Estoque!A23370,[0]!quantidade_adquirida)-SUMIF([0]!cod_saida,Estoque!A23370,quantidade_comprada)","v":0}]
[null,null,null,null,null,{"$f":"SUMIF(Codigo_Produto,Estoque!A23382,[0]!quantidade_adquirida)-SUMIF([0]!cod_saida,Estoque!A23382,quantidade_comprada)","v":0}]
[null,null,null,null,null,{"$f":"SUMIF(Codigo_Produto,Estoque!A23398,[0]!quantidade_adquirida)-SUMIF([0]!cod_saida,Estoque!A23398,quantidade_comprada)","v":0}]
[null,null,null,null,null,{"$f":"SUMIF(Codigo_Produto,Estoque!A23418,[0]!quantidade_adquirida)-SUMIF([0]!cod_saida,Estoque!A23418,quantidade_comprada)","v":0}]
[null,null,null,null,null,{"$f":"SUMIF(Codigo_Produto,Estoque!A23425,[0]!quantidade_adquirida)-SUMIF([0]!cod_saida,Estoque!A23425,quantidade_comprada)","v":0}]
[null,null,null,null,null,{"$f":"SUMIF(Codigo_Produto,Estoque!A23441,[0]!quantidade_adquirida)-SUMIF([0]!cod_saida,Estoque!A23441,quantidade_comprada)","v":0}]
[null,null,null,null,null,{"$f":"SUMIF(Codigo_Produto,Estoque!A23448,[0]!quantidade_adquirida)-SUMIF([0]!cod_saida,Estoque!A23448,quantidade_comprada)","v":0}]
[null,null,null,null,null,{"$f":"SUMIF(Codigo_Produto,Estoque!A23464,[0]!quantidade_adquirida)-SUMIF([0]!cod_saida,Estoque!A23464,quantidade_comprada)","v":0}]
[null,null,null,null,null,{"$f":"SUMIF(Codigo_Produto,Estoque!A23473,[0]!quantidade_adquirida)-SUMIF([0]!cod_saida,Estoque!A23473,quantidade_comprada)","v":0}]
[null,null,null,null,null,{"$f":"SUMIF(Codigo_Produto,Estoque!A23490,[0]!quantidade_adquirida)-SUMIF([0]!cod_saida,Estoque!A23490,quantidade_comprada)","v":0}]
[null,null,null,null,null,{"$f":"SUMIF(Codigo_Produto,Estoque!A23506,[0]!quantidade_adquirida)-SUMIF([0]!cod_saida,Estoque!A23506,quantidade_comprada)","v":0}]
[null,null,null,null,null,{"$f":"SUMIF(Codigo_Produto,Estoque!A23513,[0]!quantidade_adquirida)-SUMIF([0]!cod_saida,Estoque!A23513,quantidade_comprada)","v":0}]
[null,null,null,null,null,{"$f":"SUMIF(Codigo_Produto,Estoque!A23529,[0]!quantidade_adquirida)-SUMIF([0]!cod_saida,Estoque!A23529,quantidade_comprada)","v":0}]
[null,null,null,null,null,{"$f":"SUMIF(Codigo_Produto,Estoque!A23536,[0]!quantidade_adquirida)-SUMIF([0]!cod_saida,Estoque!A23536,quantidade_comprada)","v":0}]
[null,null,null,null,null,{"$f":"SUMIF(Codigo_Produto,Estoque!A23556,[0]!quantidade_adquirida)-SUMIF([0]!cod_saida,Estoque!A23556,quantidade_comprada)","v":0}]
[null,null,null,null,null,{"$f":"SUMIF(Codigo_Produto,Estoque!A23566,[0]!quantidade_adquirida)-SUMIF([0]!cod_saida,Estoque!A23566,quantidade_comprada)","v":0}]
[null,null,null,null,null,{"$f":"SUMIF(Codigo_Produto,Estoque!A23578,[0]!quantidade_adquirida)-SUMIF([0]!cod_saida,Estoque!A23578,quantidade_comprada)","v":0}]
[null,null,null,null,null,{"$f":"SUMIF(Codigo_Produto,Estoque!A23598,[0]!quantidade_adquirida)-SUMIF([0]!cod_saida,Estoque!A23598,quantidade_comprada)","v":0}]
[null,null,null,null,null,{"$f":"SUMIF(Codigo_Produto,Estoque!A23601,[0]!quantidade_adquirida)-SUMIF([0]!cod_saida,Estoque!A23601,quantidade_comprada)","v":0}]
[null,null,null,null,null,{"$f":"SUMIF(Codigo_Produto,Estoque!A23621,[0]!quantidade_adquirida)-SUMIF([0]!cod_saida,Estoque!A23621,quantidade_comprada)","v":0}]
[null,null,null,null,null,{"$f":"SUMIF(Codigo_Produto,Estoque!A23637,[0]!quantidade_adquirida)-SUMIF([0]!cod_saida,Estoque!A23637,quantidade_comprada)","v":0}]
[null,null,null,null,null,{"$f":"SUMIF(Codigo_Produto,Estoque!A23644,[0]!quantidade_adquirida)-SUMIF([0]!cod_saida,Estoque!A23644,quantidade_comprada)","v":0}]
[null,null,null,null,null,{"$f":"SUMIF(Codigo_Produto,Estoque!A23655,[0]!quantidade_adquirida)-SUMIF([0]!cod_saida,Estoque!A23655,quantidade_comprada)","v":0}]
[null,null,null,null,null,{"$f":"SUMIF(Codigo_Produto,Estoque!A23666,[0]!quantidade_adquirida)-SUMIF([0]!cod_saida,Estoque!A23666,quantidade_comprada)","v":0}]
[null,null,null,null,null,{"$f":"SUMIF(Codigo_Produto,Estoque!A23686,[0]!quantidade_adquirida)-SUMIF([0]!cod_saida,Estoque!A23686,quantidade_comprada)","v":0}]
[null,null,null,null,null,{"$f":"SUMIF(Codigo_Produto,Estoque!A23693,[0]!quantidade_adquirida)-SUMIF([0]!cod_saida,Estoque!A23693,quantidade_comprada)","v":0}]
[null,null,null,null,null,{"$f":"SUMIF(Codigo_Produto,Estoque!A23709,[0]!quantidade_adquirida)-SUMIF([0]!cod_saida,Estoque!A23709,quantidade_comprada)","v":0}]
[null,null,null,null,null,{"$f":"SUMIF(Codigo_Produto,Estoque!A23716,[0]!quantidade_adquirida)-SUMIF([0]!cod_saida,Estoque!A23716,quantidade_comprada)","v":0}]
[null,null,null,null,null,{"$f":"SUMIF(Codigo_Produto,Estoque!A23732,[0]!quantidade_adquirida)-SUMIF([0]!cod_saida,Estoque!A23732,quantidade_comprada)","v":0}]
[null,null,null,null,null,{"$f":"SUMIF(Codigo_Produto,Estoque!A23752,[0]!quantidade_adquirida)-SUMIF([0]!cod_saida,Estoque!A23752,quantidade_comprada)","v":0}]
[null,null,null,null,null,{"$f":"SUMIF(Codigo_Produto,Estoque!A23758,[0]!quantidade_adquirida)-SUMIF([0]!cod_saida,Estoque!A23758,quantidade_comprada)","v":0}]
[null,null,null,null,null,{"$f":"SUMIF(Codigo_Produto,Estoque!A23774,[0]!quantidade_adquirida)-SUMIF([0]!cod_saida,Estoque!A23774,quantidade_comprada)","v":0}]
[null,null,null,null,null,{"$f":"SUMIF(Codigo_Produto,Estoque!A23781,[0]!quantidade_adquirida)-SUMIF([0]!cod_saida,Estoque!A23781,quantidade_comprada)","v":0}]
[null,null,null,null,null,{"$f":"SUMIF(Codigo_Produto,Estoque!A23797,[0]!quantidade_adquirida)-SUMIF([0]!cod_saida,Estoque!A23797,quantidade_comprada)","v":0}]
[null,null,null,null,null,{"$f":"SUMIF(Codigo_Produto,Estoque!A23817,[0]!quantidade_adquirida)-SUMIF([0]!cod_saida,Estoque!A23817,quantidade_comprada)","v":0}]
[null,null,null,null,null,{"$f":"SUMIF(Codigo_Produto,Estoque!A23824,[0]!quantidade_adquirida)-SUMIF([0]!cod_saida,Estoque!A23824,quantidade_comprada)","v":0}]
[null,null,null,null,null,{"$f":"SUMIF(Codigo_Produto,Estoque!A23840,[0]!quantidade_adquirida)-SUMIF([0]!cod_saida,Estoque!A23840,quantidade_comprada)","v":0}]
[null,null,null,null,null,{"$f":"SUMIF(Codigo_Produto,Estoque!A23851,[0]!quantidade_adquirida)-SUMIF([0]!cod_saida,Estoque!A23851,quantidade_comprada)","v":0}]
[null,null,null,null,null,{"$f":"SUMIF(Codigo_Produto,Estoque!A23866,[0]!quantidade_adquirida)-SUMIF([0]!cod_saida,Estoque!A23866,quantidade_comprada)","v":0}]
[null,null,null,null,null,{"$f":"SUMIF(Codigo_Produto,Estoque!A23869,[0]!quantidade_adquirida)-SUMIF([0]!cod_saida,Estoque!A23869,quantidade_comprada)","v":0}]
[null,null,null,null,null,{"$f":"SUMIF(Codigo_Produto,Estoque!A23889,[0]!quantidade_adquirida)-SUMIF([0]!cod_saida,Estoque!A23889,quantidade_comprada)","v":0}]
[null,null,null,null,null,{"$f":"SUMIF(Codigo_Produto,Estoque!A23905,[0]!quantidade_adquirida)-SUMIF([0]!cod_saida,Estoque!A23905,quantidade_comprada)","v":0}]
[null,null,null,null,null,{"$f":"SUMIF(Codigo_Produto,Estoque!A23912,[0]!quantidade_adquirida)-SUMIF([0]!cod_saida,Estoque!A23912,quantidade_comprada)","v":0}]
[null,null,null,null,null,{"$f":"SUMIF(Codigo_Produto,Estoque!A23932,[0]!quantidade_adquirida)-SUMIF([0]!cod_saida,Estoque!A23932,quantidade_comprada)","v":0}]
[null,null,null,null,null,{"$f":"SUMIF(Codigo_Produto,Estoque!A23944,[0]!quantidade_adquirida)-SUMIF([0]!cod_saida,Estoque!A23944,quantidade_comprada)","v":0}]
[null,null,null,null,null,{"$f":"SUMIF(Codigo_Produto,Estoque!A23954,[0]!quantidade_adquirida)-SUMIF([0]!cod_saida,Estoque!A23954,quantidade_comprada)","v":0}]
[null,null,null,null,null,{"$f":"SUMIF(Codigo_Produto,Estoque!A23970,[0]!quantidade_adquirida)-SUMIF([0]!cod_saida,Estoque!A23970,quantidade_comprada)","v":0}]
[null,null,null,null,null,{"$f":"SUMIF(Codigo_Produto,Estoque!A23977,[0]!quantidade_adquirida)-SUMIF([0]!cod_saida,Estoque!A23977,quantidade_comprada)","v":0}]
[null,null,null,null,null,{"$f":"SUMIF(Codigo_Produto,Estoque!A23997,[0]!quantidade_adquirida)-SUMIF([0]!cod_saida,Estoque!A23997,quantidade_comprada)","v":0}]
[null,null,null,null,null,{"$f":"SUMIF(Codigo_Produto,Estoque!A24000,[0]!quantidade_adquirida)-SUMIF([0]!cod_saida,Estoque!A24000,quantidade_comprada)","v":0}]
[null,null,null,null,null,{"$f":"SUMIF(Codigo_Produto,Estoque!A24020,[0]!quantidade_adquirida)-SUMIF([0]!cod_saida,Estoque!A24020,quantidade_comprada)","v":0}]
[null,null,null,null,null,{"$f":"SUMIF(Codigo_Produto,Estoque!A24027,[0]!quantidade_adquirida)-SUMIF([0]!cod_saida,Estoque!A24027,quantidade_comprada)","v":0}]
[null,null,null,null,null,{"$f":"SUMIF(Codigo_Produto,Estoque!A24047,[0]!quantidade_adquirida)-SUMIF([0]!cod_saida,Estoque!A24047,quantidade_comprada)","v":0}]
[null,null,null,null,null,{"$f":"SUMIF(Codigo_Produto,Estoque!A24049,[0]!quantidade_adquirida)-SUMIF([0]!cod_saida,Estoque!A24049,quantidade_comprada)","v":0}]
[null,null,null,null,null,{"$f":"SUMIF(Codigo_Produto,Estoque!A24065,[0]!quantidade_adquirida)-SUMIF([0]!cod_saida,Estoque!A24065,quantidade_comprada)","v":0}]
[null,null,null,null,null,{"$f":"SUMIF(Codigo_Produto,Estoque!A24085,[0]!quantidade_adquirida)-SUMIF([0]!cod_saida,Estoque!A24085,quantidade_comprada)","v":0}]
[null,null,null,null,null,{"$f":"SUMIF(Codigo_Produto,Estoque!A24092,[0]!quantidade_adquirida)-SUMIF([0]!cod_saida,Estoque!A24092,quantidade_comprada)","v":0}]
[null,null,null,null,null,{"$f":"SUMIF(Codigo_Produto,Estoque!A24108,[0]!quantidade_adquirida)-SUMIF([0]!cod_saida,Estoque!A24108,quantidade_comprada)","v":0}]
[null,null,null,null,null,{"$f":"SUMIF(Codigo_Produto,Estoque!A24115,[0]!quantidade_adquirida)-SUMIF([0]!cod_saida,Estoque!A24115,quantidade_comprada)","v":0}]
[null,null,null,null,null,{"$f":"SUMIF(Codigo_Produto,Estoque!A24136,[0]!quantidade_adquirida)-SUMIF([0]!cod_saida,Estoque!A24136,quantidade_comprada)","v":0}]
[null,null,null,null,null,{"$f":"SUMIF(Codigo_Produto,Estoque!A24150,[0]!quantidade_adquirida)-SUMIF([0]!cod_saida,Estoque!A24150,quantidade_comprada)","v":0}]
[null,null,null,null,null,{"$f":"SUMIF(Codigo_Produto,Estoque!A24157,[0]!quantidade_adquirida)-SUMIF([0]!cod_saida,Estoque!A24157,quantidade_comprada)","v":0}]
[null,null,null,null,null,{"$f":"SUMIF(Codigo_Produto,Estoque!A24173,[0]!quantidade_adquirida)-SUMIF([0]!cod_saida,Estoque!A24173,quantidade_comprada)","v":0}]
[null,null,null,null,null,{"$f":"SUMIF(Codigo_Produto,Estoque!A24180,[0]!quantidade_adquirida)-SUMIF([0]!cod_saida,Estoque!A24180,quantidade_comprada)","v":0}]
[null,null,null,null,null,{"$f":"SUMIF(Codigo_Produto,Estoque!A24200,[0]!quantidade_adquirida)-SUMIF([0]!cod_saida,Estoque!A24200,quantidade_comprada)","v":0}]
[null,null,null,null,null,{"$f":"SUMIF(Codigo_Produto,Estoque!A24216,[0]!quantidade_adquirida)-SUMIF([0]!cod_saida,Estoque!A24216,quantidade_comprada)","v":0}]
[null,null,null,null,null,{"$f":"SUMIF(Codigo_Produto,Estoque!A24217,[0]!quantidade_adquirida)-SUMIF([0]!cod_saida,Estoque!A24217,quantidade_comprada)","v":0}]
[null,null,null,null,null,{"$f":"SUMIF(Codigo_Produto,Estoque!A24238,[0]!quantidade_adquirida)-SUMIF([0]!cod_saida,Estoque!A24238,quantidade_comprada)","v":0}]
[null,null,null,null,null,{"$f":"SUMIF(Codigo_Produto,Estoque!A24245,[0]!quantidade_adquirida)-SUMIF([0]!cod_saida,Estoque!A24245,quantidade_comprada)","v":0}]
[null,null,null,null,null,{"$f":"SUMIF(Codigo_Produto,Estoque!A24265,[0]!quantidade_adquirida)-SUMIF([0]!cod_saida,Estoque!A24265,quantidade_comprada)","v":0}]
[null,null,null,null,null,{"$f":"SUMIF(Codigo_Produto,Estoque!A24268,[0]!quantidade_adquirida)-SUMIF([0]!cod_saida,Estoque!A24268,quantidade_comprada)","v":0}]
[null,null,null,null,null,{"$f":"SUMIF(Codigo_Produto,Estoque!A24288,[0]!quantidade_adquirida)-SUMIF([0]!cod_saida,Estoque!A24288,quantidade_comprada)","v":0}]
[null,null,null,null,null,{"$f":"SUMIF(Codigo_Produto,Estoque!A24295,[0]!quantidade_adquirida)-SUMIF([0]!cod_saida,Estoque!A24295,quantidade_comprada)","v":0}]
[null,null,null,null,null,{"$f":"SUMIF(Codigo_Produto,Estoque!A24311,[0]!quantidade_adquirida)-SUMIF([0]!cod_saida,Estoque!A24311,quantidade_comprada)","v":0}]
[null,null,null,null,null,{"$f":"SUMIF(Codigo_Produto,Estoque!A24320,[0]!quantidade_adquirida)-SUMIF([0]!cod_saida,Estoque!A24320,quantidade_comprada)","v":0}]
[null,null,null,null,null,{"$f":"SUMIF(Codigo_Produto,Estoque!A24333,[0]!quantidade_adquirida)-SUMIF([0]!cod_saida,Estoque!A24333,quantidade_comprada)","v":0}]
[null,null,null,null,null,{"$f":"SUMIF(Codigo_Produto,Estoque!A24353,[0]!quantidade_adquirida)-SUMIF([0]!cod_saida,Estoque!A24353,quantidade_comprada)","v":0}]
[null,null,null,null,null,{"$f":"SUMIF(Codigo_Produto,Estoque!A24360,[0]!quantidade_adquirida)-SUMIF([0]!cod_saida,Estoque!A24360,quantidade_comprada)","v":0}]
[null,null,null,null,null,{"$f":"SUMIF(Codigo_Produto,Estoque!A24376,[0]!quantidade_adquirida)-SUMIF([0]!cod_saida,Estoque!A24376,quantidade_comprada)","v":0}]
[null,null,null,null,null,{"$f":"SUMIF(Codigo_Produto,Estoque!A24396,[0]!quantidade_adquirida)-SUMIF([0]!cod_saida,Estoque!A24396,quantidade_comprada)","v":0}]
[null,null,null,null,null,{"$f":"SUMIF(Codigo_Produto,Estoque!A24399,[0]!quantidade_adquirida)-SUMIF([0]!cod_saida,Estoque!A24399,quantidade_comprada)","v":0}]
[null,null,null,null,null,{"$f":"SUMIF(Codigo_Produto,Estoque!A24413,[0]!quantidade_adquirida)-SUMIF([0]!cod_saida,Estoque!A24413,quantidade_comprada)","v":0}]
[null,null,null,null,null,{"$f":"SUMIF(Codigo_Produto,Estoque!A24425,[0]!quantidade_adquirida)-SUMIF([0]!cod_saida,Estoque!A24425,quantidade_comprada)","v":0}]
[null,null,null,null,null,{"$f":"SUMIF(Codigo_Produto,Estoque!A24441,[0]!quantidade_adquirida)-SUMIF([0]!cod_saida,Estoque!A24441,quantidade_comprada)","v":0}]
[null,null,null,null,null,{"$f":"SUMIF(Codigo_Produto,Estoque!A24448,[0]!quantidade_adquirida)-SUMIF([0]!cod_saida,Estoque!A24448,quantidade_comprada)","v":0}]
[null,null,null,null,null,{"$f":"SUMIF(Codigo_Produto,Estoque!A24468,[0]!quantidade_adquirida)-SUMIF([0]!cod_saida,Estoque!A24468,quantidade_comprada)","v":0}]
[null,null,null,null,null,{"$f":"SUMIF(Codigo_Produto,Estoque!A24484,[0]!quantidade_adquirida)-SUMIF([0]!cod_saida,Estoque!A24484,quantidade_comprada)","v":0}]
[null,null,null,null,null,{"$f":"SUMIF(Codigo_Produto,Estoque!A24491,[0]!quantidade_adquirida)-SUMIF([0]!cod_saida,Estoque!A24491,quantidade_comprada)","v":0}]
[null,null,null,null,null,{"$f":"SUMIF(Codigo_Produto,Estoque!A24507,[0]!quantidade_adquirida)-SUMIF([0]!cod_saida,Estoque!A24507,quantidade_comprada)","v":0}]
[null,null,null,null,null,{"$f":"SUMIF(Codigo_Produto,Estoque!A24516,[0]!quantidade_adquirida)-SUMIF([0]!cod_saida,Estoque!A24516,quantidade_comprada)","v":0}]
[null,null,null,null,null,{"$f":"SUMIF(Codigo_Produto,Estoque!A24533,[0]!quantidade_adquirida)-SUMIF([0]!cod_saida,Estoque!A24533,quantidade_comprada)","v":0}]
[null,null,null,null,null,{"$f":"SUMIF(Codigo_Produto,Estoque!A24549,[0]!quantidade_adquirida)-SUMIF([0]!cod_saida,Estoque!A24549,quantidade_comprada)","v":0}]
[null,null,null,null,null,{"$f":"SUMIF(Codigo_Produto,Estoque!A24556,[0]!quantidade_adquirida)-SUMIF([0]!cod_saida,Estoque!A24556,quantidade_comprada)","v":0}]
[null,null,null,null,null,{"$f":"SUMIF(Codigo_Produto,Estoque!A24576,[0]!quantidade_adquirida)-SUMIF([0]!cod_saida,Estoque!A24576,quantidade_comprada)","v":0}]
[null,null,null,null,null,{"$f":"SUMIF(Codigo_Produto,Estoque!A24579,[0]!quantidade_adquirida)-SUMIF([0]!cod_saida,Estoque!A24579,quantidade_comprada)","v":0}]
[null,null,null,null,null,{"$f":"SUMIF(Codigo_Produto,Estoque!A24599,[0]!quantidade_adquirida)-SUMIF([0]!cod_saida,Estoque!A24599,quantidade_comprada)","v":0}]
[null,null,null,null,null,{"$f":"SUMIF(Codigo_Produto,Estoque!A24609,[0]!quantidade_adquirida)-SUMIF([0]!cod_saida,Estoque!A24609,quantidade_comprada)","v":0}]
[null,null,null,null,null,{"$f":"SUMIF(Codigo_Produto,Estoque!A24621,[0]!quantidade_adquirida)-SUMIF([0]!cod_saida,Estoque!A24621,quantidade_comprada)","v":0}]
[null,null,null,null,null,{"$f":"SUMIF(Codigo_Produto,Estoque!A24628,[0]!quantidade_adquirida)-SUMIF([0]!cod_saida,Estoque!A24628,quantidade_comprada)","v":0}]
[null,null,null,null,null,{"$f":"SUMIF(Codigo_Produto,Estoque!A24644,[0]!quantidade_adquirida)-SUMIF([0]!cod_saida,Estoque!A24644,quantidade_comprada)","v":0}]
[null,null,null,null,null,{"$f":"SUMIF(Codigo_Produto,Estoque!A24664,[0]!quantidade_adquirida)-SUMIF([0]!cod_saida,Estoque!A24664,quantidade_comprada)","v":0}]
[null,null,null,null,null,{"$f":"SUMIF(Codigo_Produto,Estoque!A24667,[0]!quantidade_adquirida)-SUMIF([0]!cod_saida,Estoque!A24667,quantidade_comprada)","v":0}]
[null,null,null,null,null,{"$f":"SUMIF(Codigo_Produto,Estoque!A24687,[0]!quantidade_adquirida)-SUMIF([0]!cod_saida,Estoque!A24687,quantidade_comprada)","v":0}]
[null,null,null,null,null,{"$f":"SUMIF(Codigo_Produto,Estoque!A24698,[0]!quantidade_adquirida)-SUMIF([0]!cod_saida,Estoque!A24698,quantidade_comprada)","v":0}]
[null,null,null,null,null,{"$f":"SUMIF(Codigo_Produto,Estoque!A24709,[0]!quantidade_adquirida)-SUMIF([0]!cod_saida,Estoque!A24709,quantidade_comprada)","v":0}]
[null,null,null,null,null,{"$f":"SUMIF(Codigo_Produto,Estoque!A24729,[0]!quantidade_adquirida)-SUMIF([0]!cod_saida,Estoque!A24729,quantidade_comprada)","v":0}]
[null,null,null,null,null,{"$f":"SUMIF(Codigo_Produto,Estoque!A24736,[0]!quantidade_adquirida)-SUMIF([0]!cod_saida,Estoque!A24736,quantidade_comprada)","v":0}]
[null,null,null,null,null,{"$f":"SUMIF(Codigo_Produto,Estoque!A24752,[0]!quantidade_adquirida)-SUMIF([0]!cod_saida,Estoque!A24752,quantidade_comprada)","v":0}]
[null,null,null,null,null,{"$f":"SUMIF(Codigo_Produto,Estoque!A24759,[0]!quantidade_adquirida)-SUMIF([0]!cod_saida,Estoque!A24759,quantidade_comprada)","v":0}]
[null,null,null,null,null,{"$f":"SUMIF(Codigo_Produto,Estoque!A24775,[0]!quantidade_adquirida)-SUMIF([0]!cod_saida,Estoque!A24775,quantidade_comprada)","v":0}]
[null,null,null,null,null,{"$f":"SUMIF(Codigo_Produto,Estoque!A24795,[0]!quantidade_adquirida)-SUMIF([0]!cod_saida,Estoque!A24795,quantidade_comprada)","v":0}]
[null,null,null,null,null,{"$f":"SUMIF(Codigo_Produto,Estoque!A24801,[0]!quantidade_adquirida)-SUMIF([0]!cod_saida,Estoque!A24801,quantidade_comprada)","v":0}]
[null,null,null,null,null,{"$f":"SUMIF(Codigo_Produto,Estoque!A24817,[0]!quantidade_adquirida)-SUMIF([0]!cod_saida,Estoque!A24817,quantidade_comprada)","v":0}]
[null,null,null,null,null,{"$f":"SUMIF(Codigo_Produto,Estoque!A24824,[0]!quantidade_adquirida)-SUMIF([0]!cod_saida,Estoque!A24824,quantidade_comprada)","v":0}]
[null,null,null,null,null,{"$f":"SUMIF(Codigo_Produto,Estoque!A24844,[0]!quantidade_adquirida)-SUMIF([0]!cod_saida,Estoque!A24844,quantidade_comprada)","v":0}]
[null,null,null,null,null,{"$f":"SUMIF(Codigo_Produto,Estoque!A24847,[0]!quantidade_adquirida)-SUMIF([0]!cod_saida,Estoque!A24847,quantidade_comprada)","v":0}]
[null,null,null,null,null,{"$f":"SUMIF(Codigo_Produto,Estoque!A24867,[0]!quantidade_adquirida)-SUMIF([0]!cod_saida,Estoque!A24867,quantidade_comprada)","v":0}]
[null,null,null,null,null,{"$f":"SUMIF(Codigo_Produto,Estoque!A24883,[0]!quantidade_adquirida)-SUMIF([0]!cod_saida,Estoque!A24883,quantidade_comprada)","v":0}]
[null,null,null,null,null,{"$f":"SUMIF(Codigo_Produto,Estoque!A24894,[0]!quantidade_adquirida)-SUMIF([0]!cod_saida,Estoque!A24894,quantidade_comprada)","v":0}]
[null,null,null,null,null,{"$f":"SUMIF(Codigo_Produto,Estoque!A24909,[0]!quantidade_adquirida)-SUMIF([0]!cod_saida,Estoque!A24909,quantidade_comprada)","v":0}]
[null,null,null,null,null,{"$f":"SUMIF(Codigo_Produto,Estoque!A24912,[0]!quantidade_adquirida)-SUMIF([0]!cod_saida,Estoque!A24912,quantidade_comprada)","v":0}]
[null,null,null,null,null,{"$f":"SUMIF(Codigo_Produto,Estoque!A24932,[0]!quantidade_adquirida)-SUMIF([0]!cod_saida,Estoque!A24932,quantidade_comprada)","v":0}]
[null,null,null,null,null,{"$f":"SUMIF(Codigo_Produto,Estoque!A24948,[0]!quantidade_adquirida)-SUMIF([0]!cod_saida,Estoque!A24948,quantidade_comprada)","v":0}]
[null,null,null,null,null,{"$f":"SUMIF(Codigo_Produto,Estoque!A24955,[0]!quantidade_adquirida)-SUMIF([0]!cod_saida,Estoque!A24955,quantidade_comprada)","v":0}]
[null,null,null,null,null,{"$f":"SUMIF(Codigo_Produto,Estoque!A24975,[0]!quantidade_adquirida)-SUMIF([0]!cod_saida,Estoque!A24975,quantidade_comprada)","v":0}]
[null,null,null,null,null,{"$f":"SUMIF(Codigo_Produto,Estoque!A24987,[0]!quantidade_adquirida)-SUMIF([0]!cod_saida,Estoque!A24987,quantidade_comprada)","v":0}]
[null,null,null,null,null,{"$f":"SUMIF(Codigo_Produto,Estoque!A24997,[0]!quantidade_adquirida)-SUMIF([0]!cod_saida,Estoque!A24997,quantidade_comprada)","v":0}]
[null,null,null,null,null,{"$f":"SUMIF(Codigo_Produto,Estoque!A25004,[0]!quantidade_adquirida)-SUMIF([0]!cod_saida,Estoque!A25004,quantidade_comprada)","v":0}]
[null,null,null,null,null,{"$f":"SUMIF(Codigo_Produto,Estoque!A25020,[0]!quantidade_adquirida)-SUMIF([0]!cod_saida,Estoque!A25020,quantidade_comprada)","v":0}]
[null,null,null,null,null,{"$f":"SUMIF(Codigo_Produto,Estoque!A25027,[0]!quantidade_adquirida)-SUMIF([0]!cod_saida,Estoque!A25027,quantidade_comprada)","v":0}]
[null,null,null,null,null,{"$f":"SUMIF(Codigo_Produto,Estoque!A25043,[0]!quantidade_adquirida)-SUMIF([0]!cod_saida,Estoque!A25043,quantidade_comprada)","v":0}]
[null,null,null,null,null,{"$f":"SUMIF(Codigo_Produto,Estoque!A25063,[0]!quantidade_adquirida)-SUMIF([0]!cod_saida,Estoque!A25063,quantidade_comprada)","v":0}]
[null,null,null,null,null,{"$f":"SUMIF(Codigo_Produto,Estoque!A25070,[0]!quantidade_adquirida)-SUMIF([0]!cod_saida,Estoque!A25070,quantidade_comprada)","v":0}]
[null,null,null,null,null,{"$f":"SUMIF(Codigo_Produto,Estoque!A25090,[0]!quantidade_adquirida)-SUMIF([0]!cod_saida,Estoque!A25090,quantidade_comprada)","v":0}]
[null,null,null,null,null,{"$f":"SUMIF(Codigo_Produto,Estoque!A25092,[0]!quantidade_adquirida)-SUMIF([0]!cod_saida,Estoque!A25092,quantidade_comprada)","v":0}]
[null,null,null,null,null,{"$f":"SUMIF(Codigo_Produto,Estoque!A25108,[0]!quantidade_adquirida)-SUMIF([0]!cod_saida,Estoque!A25108,quantidade_comprada)","v":0}]
[null,null,null,null,null,{"$f":"SUMIF(Codigo_Produto,Estoque!A25128,[0]!quantidade_adquirida)-SUMIF([0]!cod_saida,Estoque!A25128,quantidade_comprada)","v":0}]
[null,null,null,null,null,{"$f":"SUMIF(Codigo_Produto,Estoque!A25135,[0]!quantidade_adquirida)-SUMIF([0]!cod_saida,Estoque!A25135,quantidade_comprada)","v":0}]
[null,null,null,null,null,{"$f":"SUMIF(Codigo_Produto,Estoque!A25151,[0]!quantidade_adquirida)-SUMIF([0]!cod_saida,Estoque!A25151,quantidade_comprada)","v":0}]
[null,null,null,null,null,{"$f":"SUMIF(Codigo_Produto,Estoque!A25158,[0]!quantidade_adquirida)-SUMIF([0]!cod_saida,Estoque!A25158,quantidade_comprada)","v":0}]
[null,null,null,null,null,{"$f":"SUMIF(Codigo_Produto,Estoque!A25179,[0]!quantidade_adquirida)-SUMIF([0]!cod_saida,Estoque!A25179,quantidade_comprada)","v":0}]
[null,null,null,null,null,{"$f":"SUMIF(Codigo_Produto,Estoque!A25193,[0]!quantidade_adquirida)-SUMIF([0]!cod_saida,Estoque!A25193,quantidade_comprada)","v":0}]
[null,null,null,null,null,{"$f":"SUMIF(Codigo_Produto,Estoque!A25200,[0]!quantidade_adquirida)-SUMIF([0]!cod_saida,Estoque!A25200,quantidade_comprada)","v":0}]
[null,null,null,null,null,{"$f":"SUMIF(Codigo_Produto,Estoque!A25216,[0]!quantidade_adquirida)-SUMIF([0]!cod_saida,Estoque!A25216,quantidade_comprada)","v":0}]
[null,null,null,null,null,{"$f":"SUMIF(Codigo_Produto,Estoque!A25223,[0]!quantidade_adquirida)-SUMIF([0]!cod_saida,Estoque!A25223,quantidade_comprada)","v":0}]
[null,null,null,null,null,{"$f":"SUMIF(Codigo_Produto,Estoque!A25243,[0]!quantidade_adquirida)-SUMIF([0]!cod_saida,Estoque!A25243,quantidade_comprada)","v":0}]
[null,null,null,null,null,{"$f":"SUMIF(Codigo_Produto,Estoque!A25246,[0]!quantidade_adquirida)-SUMIF([0]!cod_saida,Estoque!A25246,quantidade_comprada)","v":0}]
[null,null,null,null,null,{"$f":"SUMIF(Codigo_Produto,Estoque!A25260,[0]!quantidade_adquirida)-SUMIF([0]!cod_saida,Estoque!A25260,quantidade_comprada)","v":0}]
[null,null,null,null,null,{"$f":"SUMIF(Codigo_Produto,Estoque!A25272,[0]!quantidade_adquirida)-SUMIF([0]!cod_saida,Estoque!A25272,quantidade_comprada)","v":0}]
[null,null,null,null,null,{"$f":"SUMIF(Codigo_Produto,Estoque!A25288,[0]!quantidade_adquirida)-SUMIF([0]!cod_saida,Estoque!A25288,quantidade_comprada)","v":0}]
[null,null,null,null,null,{"$f":"SUMIF(Codigo_Produto,Estoque!A25308,[0]!quantidade_adquirida)-SUMIF([0]!cod_saida,Estoque!A25308,quantidade_comprada)","v":0}]
[null,null,null,null,null,{"$f":"SUMIF(Codigo_Produto,Estoque!A25311,[0]!quantidade_adquirida)-SUMIF([0]!cod_saida,Estoque!A25311,quantidade_comprada)","v":0}]
[null,null,null,null,null,{"$f":"SUMIF(Codigo_Produto,Estoque!A25331,[0]!quantidade_adquirida)-SUMIF([0]!cod_saida,Estoque!A25331,quantidade_comprada)","v":0}]
[null,null,null,null,null,{"$f":"SUMIF(Codigo_Produto,Estoque!A25338,[0]!quantidade_adquirida)-SUMIF([0]!cod_saida,Estoque!A25338,quantidade_comprada)","v":0}]
[null,null,null,null,null,{"$f":"SUMIF(Codigo_Produto,Estoque!A25354,[0]!quantidade_adquirida)-SUMIF([0]!cod_saida,Estoque!A25354,quantidade_comprada)","v":0}]
[null,null,null,null,null,{"$f":"SUMIF(Codigo_Produto,Estoque!A25363,[0]!quantidade_adquirida)-SUMIF([0]!cod_saida,Estoque!A25363,quantidade_comprada)","v":0}]
[null,null,null,null,null,{"$f":"SUMIF(Codigo_Produto,Estoque!A25376,[0]!quantidade_adquirida)-SUMIF([0]!cod_saida,Estoque!A25376,quantidade_comprada)","v":0}]
[null,null,null,null,null,{"$f":"SUMIF(Codigo_Produto,Estoque!A25396,[0]!quantidade_adquirida)-SUMIF([0]!cod_saida,Estoque!A25396,quantidade_comprada)","v":0}]
[null,null,null,null,null,{"$f":"SUMIF(Codigo_Produto,Estoque!A25403,[0]!quantidade_adquirida)-SUMIF([0]!cod_saida,Estoque!A25403,quantidade_comprada)","v":0}]
[null,null,null,null,null,{"$f":"SUMIF(Codigo_Produto,Estoque!A25419,[0]!quantidade_adquirida)-SUMIF([0]!cod_saida,Estoque!A25419,quantidade_comprada)","v":0}]
[null,null,null,null,null,{"$f":"SUMIF(Codigo_Produto,Estoque!A25426,[0]!quantidade_adquirida)-SUMIF([0]!cod_saida,Estoque!A25426,quantidade_comprada)","v":0}]
[null,null,null,null,null,{"$f":"SUMIF(Codigo_Produto,Estoque!A25446,[0]!quantidade_adquirida)-SUMIF([0]!cod_saida,Estoque!A25446,quantidade_comprada)","v":0}]
[null,null,null,null,null,{"$f":"SUMIF(Codigo_Produto,Estoque!A25456,[0]!quantidade_adquirida)-SUMIF([0]!cod_saida,Estoque!A25456,quantidade_comprada)","v":0}]
[null,null,null,null,null,{"$f":"SUMIF(Codigo_Produto,Estoque!A25468,[0]!quantidade_adquirida)-SUMIF([0]!cod_saida,Estoque!A25468,quantidade_comprada)","v":0}]
[null,null,null,null,null,{"$f":"SUMIF(Codigo_Produto,Estoque!A25484,[0]!quantidade_adquirida)-SUMIF([0]!cod_saida,Estoque!A25484,quantidade_comprada)","v":0}]
[null,null,null,null,null,{"$f":"SUMIF(Codigo_Produto,Estoque!A25491,[0]!quantidade_adquirida)-SUMIF([0]!cod_saida,Estoque!A25491,quantidade_comprada)","v":0}]
[null,null,null,null,null,{"$f":"SUMIF(Codigo_Produto,Estoque!A25511,[0]!quantidade_adquirida)-SUMIF([0]!cod_saida,Estoque!A25511,quantidade_comprada)","v":0}]
[null,null,null,null,null,{"$f":"SUMIF(Codigo_Produto,Estoque!A25527,[0]!quantidade_adquirida)-SUMIF([0]!cod_saida,Estoque!A25527,quantidade_comprada)","v":0}]
[null,null,null,null,null,{"$f":"SUMIF(Codigo_Produto,Estoque!A25534,[0]!quantidade_adquirida)-SUMIF([0]!cod_saida,Estoque!A25534,quantidade_comprada)","v":0}]
[null,null,null,null,null,{"$f":"SUMIF(Codigo_Produto,Estoque!A25545,[0]!quantidade_adquirida)-SUMIF([0]!cod_saida,Estoque!A25545,quantidade_comprada)","v":0}]
[null,null,null,null,null,{"$f":"SUMIF(Codigo_Produto,Estoque!A25556,[0]!quantidade_adquirida)-SUMIF([0]!cod_saida,Estoque!A25556,quantidade_comprada)","v":0}]
[null,null,null,null,null,{"$f":"SUMIF(Codigo_Produto,Estoque!A25576,[0]!quantidade_adquirida)-SUMIF([0]!cod_saida,Estoque!A25576,quantidade_comprada)","v":0}]
[null,null,null,null,null,{"$f":"SUMIF(Codigo_Produto,Estoque!A25592,[0]!quantidade_adquirida)-SUMIF([0]!cod_saida,Estoque!A25592,quantidade_comprada)","v":0}]
[null,null,null,null,null,{"$f":"SUMIF(Codigo_Produto,Estoque!A25599,[0]!quantidade_adquirida)-SUMIF([0]!cod_saida,Estoque!A25599,quantidade_comprada)","v":0}]
[null,null,null,null,null,{"$f":"SUMIF(Codigo_Produto,Estoque!A25606,[0]!quantidade_adquirida)-SUMIF([0]!cod_saida,Estoque!A25606,quantidade_comprada)","v":0}]
[null,null,null,null,null,{"$f":"SUMIF(Codigo_Produto,Estoque!A25622,[0]!quantidade_adquirida)-SUMIF([0]!cod_saida,Estoque!A25622,quantidade_comprada)","v":0}]
[null,null,null,null,null,{"$f":"SUMIF(Codigo_Produto,Estoque!A25642,[0]!quantidade_adquirida)-SUMIF([0]!cod_saida,Estoque!A25642,quantidade_comprada)","v":0}]
[null,null,null,null,null,{"$f":"SUMIF(Codigo_Produto,Estoque!A25652,[0]!quantidade_adquirida)-SUMIF([0]!cod_saida,Estoque!A25652,quantidade_comprada)","v":0}]
[null,null,null,null,null,{"$f":"SUMIF(Codigo_Produto,Estoque!A25664,[0]!quantidade_adquirida)-SUMIF([0]!cod_saida,Estoque!A25664,quantidade_comprada)","v":0}]
[null,null,null,null,null,{"$f":"SUMIF(Codigo_Produto,Estoque!A25671,[0]!quantidade_adquirida)-SUMIF([0]!cod_saida,Estoque!A25671,quantidade_comprada)","v":0}]
[null,null,null,null,null,{"$f":"SUMIF(Codigo_Produto,Estoque!A25687,[0]!quantidade_adquirida)-SUMIF([0]!cod_saida,Estoque!A25687,quantidade_comprada)","v":0}]
[null,null,null,null,null,{"$f":"SUMIF(Codigo_Produto,Estoque!A25707,[0]!quantidade_adquirida)-SUMIF([0]!cod_saida,Estoque!A25707,quantidade_comprada)","v":0}]
[null,null,null,null,null,{"$f":"SUMIF(Codigo_Produto,Estoque!A25714,[0]!quantidade_adquirida)-SUMIF([0]!cod_saida,Estoque!A25714,quantidade_comprada)","v":0}]
[null,null,null,null,null,{"$f":"SUMIF(Codigo_Produto,Estoque!A25730,[0]!quantidade_adquirida)-SUMIF([0]!cod_saida,Estoque!A25730,quantidade_comprada)","v":0}]
[null,null,null,null,null,{"$f":"SUMIF(Codigo_Produto,Estoque!A25741,[0]!quantidade_adquirida)-SUMIF([0]!cod_saida,Estoque!A25741,quantidade_comprada)","v":0}]
[null,null,null,null,null,{"$f":"SUMIF(Codigo_Produto,Estoque!A25752,[0]!quantidade_adquirida)-SUMIF([0]!cod_saida,Estoque!A25752,quantidade_comprada)","v":0}]
[null,null,null,null,null,{"$f":"SUMIF(Codigo_Produto,Estoque!A25772,[0]!quantidade_adquirida)-SUMIF([0]!cod_saida,Estoque!A25772,quantidade_comprada)","v":0}]
[null,null,null,null,null,{"$f":"SUMIF(Codigo_Produto,Estoque!A25779,[0]!quantidade_adquirida)-SUMIF([0]!cod_saida,Estoque!A25779,quantidade_comprada)","v":0}]
[null,null,null,null,null,{"$f":"SUMIF(Codigo_Produto,Estoque!A25795,[0]!quantidade_adquirida)-SUMIF([0]!cod_saida,Estoque!A25795,quantidade_comprada)","v":0}]
[null,null,null,null,null,{"$f":"SUMIF(Codigo_Produto,Estoque!A25802,[0]!quantidade_adquirida)-SUMIF([0]!cod_saida,Estoque!A25802,quantidade_comprada)","v":0}]
[null,null,null,null,null,{"$f":"SUMIF(Codigo_Produto,Estoque!A25818,[0]!quantidade_adquirida)-SUMIF([0]!cod_saida,Estoque!A25818,quantidade_comprada)","v":0}]
[null,null,null,null,null,{"$f":"SUMIF(Codigo_Produto,Estoque!A25834,[0]!quantidade_adquirida)-SUMIF([0]!cod_saida,Estoque!A25834,quantidade_comprada)","v":0}]
[null,null,null,null,null,{"$f":"SUMIF(Codigo_Produto,Estoque!A25844,[0]!quantidade_adquirida)-SUMIF([0]!cod_saida,Estoque!A25844,quantidade_comprada)","v":0}]
[null,null,null,null,null,{"$f":"SUMIF(Codigo_Produto,Estoque!A25860,[0]!quantidade_adquirida)-SUMIF([0]!cod_saida,Estoque!A25860,quantidade_comprada)","v":0}]
[null,null,null,null,null,{"$f":"SUMIF(Codigo_Produto,Estoque!A25867,[0]!quantidade_adquirida)-SUMIF([0]!cod_saida,Estoque!A25867,quantidade_comprada)","v":0}]
[null,null,null,null,null,{"$f":"SUMIF(Codigo_Produto,Estoque!A25887,[0]!quantidade_adquirida)-SUMIF([0]!cod_saida,Estoque!A25887,quantidade_comprada)","v":0}]
[null,null,null,null,null,{"$f":"SUMIF(Codigo_Produto,Estoque!A25890,[0]!quantidade_adquirida)-SUMIF([0]!cod_saida,Estoque!A25890,quantidade_comprada)","v":0}]
[null,null,null,null,null,{"$f":"SUMIF(Codigo_Produto,Estoque!A25910,[0]!quantidade_adquirida)-SUMIF([0]!cod_saida,Estoque!A25910,quantidade_comprada)","v":0}]
[null,null,null,null,null,{"$f":"SUMIF(Codigo_Produto,Estoque!A25926,[0]!quantidade_adquirida)-SUMIF([0]!cod_saida,Estoque!A25926,quantidade_comprada)","v":0}]
[null,null,null,null,null,{"$f":"SUMIF(Codigo_Produto,Estoque!A25937,[0]!quantidade_adquirida)-SUMIF([0]!cod_saida,Estoque!A25937,quantidade_comprada)","v":0}]
[null,null,null,null,null,{"$f":"SUMIF(Codigo_Produto,Estoque!A25952,[0]!quantidade_adquirida)-SUMIF([0]!cod_saida,Estoque!A25952,quantidade_comprada)","v":0}]
[null,null,null,null,null,{"$f":"SUMIF(Codigo_Produto,Estoque!A25955,[0]!quantidade_adquirida)-SUMIF([0]!cod_saida,Estoque!A25955,quantidade_comprada)","v":0}]
[null,null,null,null,null,{"$f":"SUMIF(Codigo_Produto,Estoque!A25975,[0]!quantidade_adquirida)-SUMIF([0]!cod_saida,Estoque!A25975,quantidade_comprada)","v":0}]
[null,null,null,null,null,{"$f":"SUMIF(Codigo_Produto,Estoque!A25982,[0]!quantidade_adquirida)-SUMIF([0]!cod_saida,Estoque!A25982,quantidade_comprada)","v":0}]
[null,null,null,null,null,{"$f":"SUMIF(Codigo_Produto,Estoque!A25998,[0]!quantidade_adquirida)-SUMIF([0]!cod_saida,Estoque!A25998,quantidade_comprada)","v":0}]
[null,null,null,null,null,{"$f":"SUMIF(Codigo_Produto,Estoque!A26005,[0]!quantidade_adquirida)-SUMIF([0]!cod_saida,Estoque!A26005,quantidade_comprada)","v":0}]
[null,null,null,null,null,{"$f":"SUMIF(Codigo_Produto,Estoque!A26018,[0]!quantidade_adquirida)-SUMIF([0]!cod_saida,Estoque!A26018,quantidade_comprada)","v":0}]
[null,null,null,null,null,{"$f":"SUMIF(Codigo_Produto,Estoque!A26040,[0]!quantidade_adquirida)-SUMIF([0]!cod_saida,Estoque!A26040,quantidade_comprada)","v":0}]
[null,null,null,null,null,{"$f":"SUMIF(Codigo_Produto,Estoque!A26047,[0]!quantidade_adquirida)-SUMIF([0]!cod_saida,Estoque!A26047,quantidade_comprada)","v":0}]
[null,null,null,null,null,{"$f":"SUMIF(Codigo_Produto,Estoque!A26063,[0]!quantidade_adquirida)-SUMIF([0]!cod_saida,Estoque!A26063,quantidade_comprada)","v":0}]
[null,null,null,null,null,{"$f":"SUMIF(Codigo_Produto,Estoque!A26070,[0]!quantidade_adquirida)-SUMIF([0]!cod_saida,Estoque!A26070,quantidade_comprada)","v":0}]
[null,null,null,null,null,{"$f":"SUMIF(Codigo_Produto,Estoque!A26086,[0]!quantidade_adquirida)-SUMIF([0]!cod_saida,Estoque!A26086,quantidade_comprada)","v":0}]
[null,null,null,null,null,{"$f":"SUMIF(Codigo_Produto,Estoque!A26106,[0]!quantidade_adquirida)-SUMIF([0]!cod_saida,Estoque!A26106,quantidade_comprada)","v":0}]
[null,null,null,null,null,{"$f":"SUMIF(Codigo_Produto,Estoque!A26113,[0]!quantidade_adquirida)-SUMIF([0]!cod_saida,Estoque!A26113,quantidade_comprada)","v":0}]
[null,null,null,null,null,{"$f":"SUMIF(Codigo_Produto,Estoque!A26121,[0]!quantidade_adquirida)-SUMIF([0]!cod_saida,Estoque!A26121,quantidade_comprada)","v":0}]
[null,null,null,null,null,{"$f":"SUMIF(Codigo_Produto,Estoque!A26135,[0]!quantidade_adquirida)-SUMIF([0]!cod_saida,Estoque!A26135,quantidade_comprada)","v":0}]
[null,null,null,null,null,{"$f":"SUMIF(Codigo_Produto,Estoque!A26155,[0]!quantidade_adquirida)-SUMIF([0]!cod_saida,Estoque!A26155,quantidade_comprada)","v":0}]
[null,null,null,null,null,{"$f":"SUMIF(Codigo_Produto,Estoque!A26171,[0]!quantidade_adquirida)-SUMIF([0]!cod_saida,Estoque!A26171,quantidade_comprada)","v":0}]
[null,null,null,null,null,{"$f":"SUMIF(Codigo_Produto,Estoque!A26178,[0]!quantidade_adquirida)-SUMIF([0]!cod_saida,Estoque!A26178,quantidade_comprada)","v":0}]
[null,null,null,null,null,{"$f":"SUMIF(Codigo_Produto,Estoque!A26194,[0]!quantidade_adquirida)-SUMIF([0]!cod_saida,Estoque!A26194,quantidade_comprada)","v":0}]
[null,null,null,null,null,{"$f":"SUMIF(Codigo_Produto,Estoque!A26201,[0]!quantidade_adquirida)-SUMIF([0]!cod_saida,Estoque!A26201,quantidade_comprada)","v":0}]
[null,null,null,null,null,{"$f":"SUMIF(Codigo_Produto,Estoque!A26222,[0]!quantidade_adquirida)-SUMIF([0]!cod_saida,Estoque!A26222,quantidade_comprada)","v":0}]
[null,null,null,null,null,{"$f":"SUMIF(Codigo_Produto,Estoque!A26223,[0]!quantidade_adquirida)-SUMIF([0]!cod_saida,Estoque!A26223,quantidade_comprada)","v":0}]
[null,null,null,null,null,{"$f":"SUMIF(Codigo_Produto,Estoque!A26243,[0]!quantidade_adquirida)-SUMIF([0]!cod_saida,Estoque!A26243,quantidade_comprada)","v":0}]
[null,null,null,null,null,{"$f":"SUMIF(Codigo_Produto,Estoque!A26259,[0]!quantidade_adquirida)-SUMIF([0]!cod_saida,Estoque!A26259,quantidade_comprada)","v":0}]
[null,null,null,null,null,{"$f":"SUMIF(Codigo_Produto,Estoque!A26266,[0]!quantidade_adquirida)-SUMIF([0]!cod_saida,Estoque!A26266,quantidade_comprada)","v":0}]
[null,null,null,null,null,{"$f":"SUMIF(Codigo_Produto,Estoque!A26286,[0]!quantidade_adquirida)-SUMIF([0]!cod_saida,Estoque!A26286,quantidade_comprada)","v":0}]
[null,null,null,null,null,{"$f":"SUMIF(Codigo_Produto,Estoque!A26289,[0]!quantidade_adquirida)-SUMIF([0]!cod_saida,Estoque!A26289,quantidade_comprada)","v":0}]
[null,null,null,null,null,{"$f":"SUMIF(Codigo_Produto,Estoque!A26303,[0]!quantidade_adquirida)-SUMIF([0]!cod_saida,Estoque!A26303,quantidade_comprada)","v":0}]
[null,null,null,null,null,{"$f":"SUMIF(Codigo_Produto,Estoque!A26315,[0]!quantidade_adquirida)-SUMIF([0]!cod_saida,Estoque!A26315,quantidade_comprada)","v":0}]
[null,null,null,null,null,{"$f":"SUMIF(Codigo_Produto,Estoque!A26331,[0]!quantidade_adquirida)-SUMIF([0]!cod_saida,Estoque!A26331,quantidade_comprada)","v":0}]
[null,null,null,null,null,{"$f":"SUMIF(Codigo_Produto,Estoque!A26351,[0]!quantidade_adquirida)-SUMIF([0]!cod_saida,Estoque!A26351,quantidade_comprada)","v":0}]
[null,null,null,null,null,{"$f":"SUMIF(Codigo_Produto,Estoque!A26354,[0]!quantidade_adquirida)-SUMIF([0]!cod_saida,Estoque!A26354,quantidade_comprada)","v":0}]
[null,null,null,null,null,{"$f":"SUMIF(Codigo_Produto,Estoque!A26374,[0]!quantidade_adquirida)-SUMIF([0]!cod_saida,Estoque!A26374,quantidade_comprada)","v":0}]
[null,null,null,null,null,{"$f":"SUMIF(Codigo_Produto,Estoque!A26381,[0]!quantidade_adquirida)-SUMIF([0]!cod_saida,Estoque!A26381,quantidade_comprada)","v":0}]
[null,null,null,null,null,{"$f":"SUMIF(Codigo_Produto,Estoque!A26397,[0]!quantidade_adquirida)-SUMIF([0]!cod_saida,Estoque!A26397,quantidade_comprada)","v":0}]
[null,null,null,null,null,{"$f":"SUMIF(Codigo_Produto,Estoque!A26406,[0]!quantidade_adquirida)-SUMIF([0]!cod_saida,Estoque!A26406,quantidade_comprada)","v":0}]
[null,null,null,null,null,{"$f":"SUMIF(Codigo_Produto,Estoque!A26423,[0]!quantidade_adquirida)-SUMIF([0]!cod_saida,Estoque!A26423,quantidade_comprada)","v":0}]
[null,null,null,null,null,{"$f":"SUMIF(Codigo_Produto,Estoque!A26439,[0]!quantidade_adquirida)-SUMIF([0]!cod_saida,Estoque!A26439,quantidade_comprada)","v":0}]
[null,null,null,null,null,{"$f":"SUMIF(Codigo_Produto,Estoque!A26446,[0]!quantidade_adquirida)-SUMIF([0]!cod_saida,Estoque!A26446,quantidade_comprada)","v":0}]
[null,null,null,null,null,{"$f":"SUMIF(Codigo_Produto,Estoque!A26462,[0]!quantidade_adquirida)-SUMIF([0]!cod_saida,Estoque!A26462,quantidade_comprada)","v":0}]
[null,null,null,null,null,{"$f":"SUMIF(Codigo_Produto,Estoque!A26469,[0]!quantidade_adquirida)-SUMIF([0]!cod_saida,Estoque!A26469,quantidade_comprada)","v":0}]
[null,null,null,null,null,{"$f":"SUMIF(Codigo_Produto,Estoque!A26489,[0]!quantidade_adquirida)-SUMIF([0]!cod_saida,Estoque!A26489,quantidade_comprada)","v":0}]
[null,null,null,null,null,{"$f":"SUMIF(Codigo_Produto,Estoque!A26499,[0]!quantidade_adquirida)-SUMIF([0]!cod_saida,Estoque!A26499,quantidade_comprada)","v":0}]
[null,null,null,null,null,{"$f":"SUMIF(Codigo_Produto,Estoque!A26511,[0]!quantidade_adquirida)-SUMIF([0]!cod_saida,Estoque!A26511,quantidade_comprada)","v":0}]
[null,null,null,null,null,{"$f":"SUMIF(Codigo_Produto,Estoque!A26527,[0]!quantidade_adquirida)-SUMIF([0]!cod_saida,Estoque!A26527,quantidade_comprada)","v":0}]
[null,null,null,null,null,{"$f":"SUMIF(Codigo_Produto,Estoque!A26534,[0]!quantidade_adquirida)-SUMIF([0]!cod_saida,Estoque!A26534,quantidade_comprada)","v":0}]
[null,null,null,null,null,{"$f":"SUMIF(Codigo_Produto,Estoque!A26554,[0]!quantidade_adquirida)-SUMIF([0]!cod_saida,Estoque!A26554,quantidade_comprada)","v":0}]
[null,null,null,null,null,{"$f":"SUMIF(Codigo_Produto,Estoque!A26570,[0]!quantidade_adquirida)-SUMIF([0]!cod_saida,Estoque!A26570,quantidade_comprada)","v":0}]
[null,null,null,null,null,{"$f":"SUMIF(Codigo_Produto,Estoque!A26577,[0]!quantidade_adquirida)-SUMIF([0]!cod_saida,Estoque!A26577,quantidade_comprada)","v":0}]
[null,null,null,null,null,{"$f":"SUMIF(Codigo_Produto,Estoque!A26588,[0]!quantidade_adquirida)-SUMIF([0]!cod_saida,Estoque!A26588,quantidade_comprada)","v":0}]
[null,null,null,null,null,{"$f":"SUMIF(Codigo_Produto,Estoque!A26599,[0]!quantidade_adquirida)-SUMIF([0]!cod_saida,Estoque!A26599,quantidade_comprada)","v":0}]
[null,null,null,null,null,{"$f":"SUMIF(Codigo_Produto,Estoque!A26619,[0]!quantidade_adquirida)-SUMIF([0]!cod_saida,Estoque!A26619,quantidade_comprada)","v":0}]
[null,null,null,null,null,{"$f":"SUMIF(Codigo_Produto,Estoque!A26622,[0]!quantidade_adquirida)-SUMIF([0]!cod_saida,Estoque!A26622,quantidade_comprada)","v":0}]
[null,null,null,null,null,{"$f":"SUMIF(Codigo_Produto,Estoque!A26642,[0]!quantidade_adquirida)-SUMIF([0]!cod_saida,Estoque!A26642,quantidade_comprada)","v":0}]
[null,null,null,null,null,{"$f":"SUMIF(Codigo_Produto,Estoque!A26649,[0]!quantidade_adquirida)-SUMIF([0]!cod_saida,Estoque!A26649,quantidade_comprada)","v":0}]
[null,null,null,null,null,{"$f":"SUMIF(Codigo_Produto,Estoque!A26665,[0]!quantidade_adquirida)-SUMIF([0]!cod_saida,Estoque!A26665,quantidade_comprada)","v":0}]
[null,null,null,null,null,{"$f":"SUMIF(Codigo_Produto,Estoque!A26685,[0]!quantidade_adquirida)-SUMIF([0]!cod_saida,Estoque!A26685,quantidade_comprada)","v":0}]
[null,null,null,null,null,{"$f":"SUMIF(Codigo_Produto,Estoque!A26691,[0]!quantidade_adquirida)-SUMIF([0]!cod_saida,Estoque!A26691,quantidade_comprada)","v":0}]
[null,null,null,null,null,{"$f":"SUMIF(Codigo_Produto,Estoque!A26707,[0]!quantidade_adquirida)-SUMIF([0]!cod_saida,Estoque!A26707,quantidade_comprada)","v":0}]
[null,null,null,null,null,{"$f":"SUMIF(Codigo_Produto,Estoque!A26714,[0]!quantidade_adquirida)-SUMIF([0]!cod_saida,Estoque!A26714,quantidade_comprada)","v":0}]
[null,null,null,null,null,{"$f":"SUMIF(Codigo_Produto,Estoque!A26730,[0]!quantidade_adquirida)-SUMIF([0]!cod_saida,Estoque!A26730,quantidade_comprada)","v":0}]
[null,null,null,null,null,{"$f":"SUMIF(Codigo_Produto,Estoque!A26750,[0]!quantidade_adquirida)-SUMIF([0]!cod_saida,Estoque!A26750,quantidade_comprada)","v":0}]
[null,null,null,null,null,{"$f":"SUMIF(Codigo_Produto,Estoque!A26757,[0]!quantidade_adquirida)-SUMIF([0]!cod_saida,Estoque!A26757,quantidade_comprada)","v":0}]
[null,null,null,null,null,{"$f":"SUMIF(Codigo_Produto,Estoque!A26773,[0]!quantidade_adquirida)-SUMIF([0]!cod_saida,Estoque!A26773,quantidade_comprada)","v":0}]
[null,null,null,null,null,{"$f":"SUMIF(Codigo_Produto,Estoque!A26784,[0]!quantidade_adquirida)-SUMIF([0]!cod_saida,Estoque!A26784,quantidade_comprada)","v":0}]
[null,null,null,null,null,{"$f":"SUMIF(Codigo_Produto,Estoque!A26795,[0]!quantidade_adquirida)-SUMIF([0]!cod_saida,Estoque!A26795,quantidade_comprada)","v":0}]
[null,null,null,null,null,{"$f":"SUMIF(Codigo_Produto,Estoque!A26802,[0]!quantidade_adquirida)-SUMIF([0]!cod_saida,Estoque!A26802,quantidade_comprada)","v":0}]
[null,null,null,null,null,{"$f":"SUMIF(Codigo_Produto,Estoque!A26822,[0]!quantidade_adquirida)-SUMIF([0]!cod_saida,Estoque!A26822,quantidade_comprada)","v":0}]
[null,null,null,null,null,{"$f":"SUMIF(Codigo_Produto,Estoque!A26838,[0]!quantidade_adquirida)-SUMIF([0]!cod_saida,Estoque!A26838,quantidade_comprada)","v":0}]
[null,null,null,null,null,{"$f":"SUMIF(Codigo_Produto,Estoque!A26845,[0]!quantidade_adquirida)-SUMIF([0]!cod_saida,Estoque!A26845,quantidade_comprada)","v":0}]
[null,null,null,null,null,{"$f":"SUMIF(Codigo_Produto,Estoque!A26865,[0]!quantidade_adquirida)-SUMIF([0]!cod_saida,Estoque!A26865,quantidade_comprada)","v":0}]
[null,null,null,null,null,{"$f":"SUMIF(Codigo_Produto,Estoque!A26877,[0]!quantidade_adquirida)-SUMIF([0]!cod_saida,Estoque!A26877,quantidade_comprada)","v":0}]
[null,null,null,null,null,{"$f":"SUMIF(Codigo_Produto,Estoque!A26887,[0]!quantidade_adquirida)-SUMIF([0]!cod_saida,Estoque!A26887,quantidade_comprada)","v":0}]
[null,null,null,null,null,{"$f":"SUMIF(Codigo_Produto,Estoque!A26903,[0]!quantidade_adquirida)-SUMIF([0]!cod_saida,Estoque!A26903,quantidade_comprada)","v":0}]
[null,null,null,null,null,{"$f":"SUMIF(Codigo_Produto,Estoque!A26910,[0]!quantidade_adquirida)-SUMIF([0]!cod_saida,Estoque!A26910,quantidade_comprada)","v":0}]
[null,null,null,null,null,{"$f":"SUMIF(Codigo_Produto,Estoque!A26930,[0]!quantidade_adquirida)-SUMIF([0]!cod_saida,Estoque!A26930,quantidade_comprada)","v":0}]
[null,null,null,null,null,{"$f":"SUMIF(Codigo_Produto,Estoque!A26933,[0]!quantidade_adquirida)-SUMIF([0]!cod_saida,Estoque!A26933,quantidade_comprada)","v":0}]
[null,null,null,null,null,{"$f":"SUMIF(Codigo_Produto,Estoque!A26953,[0]!quantidade_adquirida)-SUMIF([0]!cod_saida,Estoque!A26953,quantidade_comprada)","v":0}]
[null,null,null,null,null,{"$f":"SUMIF(Codigo_Produto,Estoque!A26969,[0]!quantidade_adquirida)-SUMIF([0]!cod_saida,Estoque!A26969,quantidade_comprada)","v":0}]
[null,null,null,null,null,{"$f":"SUMIF(Codigo_Produto,Estoque!A26980,[0]!quantidade_adquirida)-SUMIF([0]!cod_saida,Estoque!A26980,quantidade_comprada)","v":0}]
[null,null,null,null,null,{"$f":"SUMIF(Codigo_Produto,Estoque!A26982,[0]!quantidade_adquirida)-SUMIF([0]!cod_saida,Estoque!A26982,quantidade_comprada)","v":0}]
[null,null,null,null,null,{"$f":"SUMIF(Codigo_Produto,Estoque!A26998,[0]!quantidade_adquirida)-SUMIF([0]!cod_saida,Estoque!A26998,quantidade_comprada)","v":0}]
[null,null,null,null,null,{"$f":"SUMIF(Codigo_Produto,Estoque!A27018,[0]!quantidade_adquirida)-SUMIF([0]!cod_saida,Estoque!A27018,quantidade_comprada)","v":0}]
[null,null,null,null,null,{"$f":"SUMIF(Codigo_Produto,Estoque!A27025,[0]!quantidade_adquirida)-SUMIF([0]!cod_saida,Estoque!A27025,quantidade_comprada)","v":0}]
[null,null,null,null,null,{"$f":"SUMIF(Codigo_Produto,Estoque!A27041,[0]!quantidade_adquirida)-SUMIF([0]!cod_saida,Estoque!A27041,quantidade_comprada)","v":0}]
[null,null,null,null,null,{"$f":"SUMIF(Codigo_Produto,Estoque!A27048,[0]!quantidade_adquirida)-SUMIF([0]!cod_saida,Estoque!A27048,quantidade_comprada)","v":0}]
[null,null,null,null,null,{"$f":"SUMIF(Codigo_Produto,Estoque!A27061,[0]!quantidade_adquirida)-SUMIF([0]!cod_saida,Estoque!A27061,quantidade_comprada)","v":0}]
[null,null,null,null,null,{"$f":"SUMIF(Codigo_Produto,Estoque!A27083,[0]!quantidade_adquirida)-SUMIF([0]!cod_saida,Estoque!A27083,quantidade_comprada)","v":0}]
[null,null,null,null,null,{"$f":"SUMIF(Codigo_Produto,Estoque!A27090,[0]!quantidade_adquirida)-SUMIF([0]!cod_saida,Estoque!A27090,quantidade_comprada)","v":0}]
[null,null,null,null,null,{"$f":"SUMIF(Codigo_Produto,Estoque!A27106,[0]!quantidade_adquirida)-SUMIF([0]!cod_saida,Estoque!A27106,quantidade_comprada)","v":0}]
[null,null,null,null,null,{"$f":"SUMIF(Codigo_Produto,Estoque!A27113,[0]!quantidade_adquirida)-SUMIF([0]!cod_saida,Estoque!A27113,quantidade_comprada)","v":0}]
[null,null,null,null,null,{"$f":"SUMIF(Codigo_Produto,Estoque!A27133,[0]!quantidade_adquirida)-SUMIF([0]!cod_saida,Estoque!A27133,quantidade_comprada)","v":0}]
[null,null,null,null,null,{"$f":"SUMIF(Codigo_Produto,Estoque!A27149,[0]!quantidade_adquirida)-SUMIF([0]!cod_saida,Estoque!A27149,quantidade_comprada)","v":0}]
[null,null,null,null,null,{"$f":"SUMIF(Codigo_Produto,Estoque!A27150,[0]!quantidade_adquirida)-SUMIF([0]!cod_saida,Estoque!A27150,quantidade_comprada)","v":0}]
[null,null,null,null,null,{"$f":"SUMIF(Codigo_Produto,Estoque!A27171,[0]!quantidade_adquirida)-SUMIF([0]!cod_saida,Estoque!A27171,quantidade_comprada)","v":0}]
[null,null,null,null,null,{"$f":"SUMIF(Codigo_Produto,Estoque!A27178,[0]!quantidade_adquirida)-SUMIF([0]!cod_saida,Estoque!A27178,quantidade_comprada)","v":0}]
[null,null,null,null,null,{"$f":"SUMIF(Codigo_Produto,Estoque!A27198,[0]!quantidade_adquirida)-SUMIF([0]!cod_saida,Estoque!A27198,quantidade_comprada)","v":0}]
[null,null,null,null,null,{"$f":"SUMIF(Codigo_Produto,Estoque!A27201,[0]!quantidade_adquirida)-SUMIF([0]!cod_saida,Estoque!A27201,quantidade_comprada)","v":0}]
[null,null,null,null,null,{"$f":"SUMIF(Codigo_Produto,Estoque!A27221,[0]!quantidade_adquirida)-SUMIF([0]!cod_saida,Estoque!A27221,quantidade_comprada)","v":0}]
[null,null,null,null,null,{"$f":"SUMIF(Codigo_Produto,Estoque!A27237,[0]!quantidade_adquirida)-SUMIF([0]!cod_saida,Estoque!A27237,quantidade_comprada)","v":0}]
[null,null,null,null,null,{"$f":"SUMIF(Codigo_Produto,Estoque!A27244,[0]!quantidade_adquirida)-SUMIF([0]!cod_saida,Estoque!A27244,quantidade_comprada)","v":0}]
[null,null,null,null,null,{"$f":"SUMIF(Codigo_Produto,Estoque!A27253,[0]!quantidade_adquirida)-SUMIF([0]!cod_saida,Estoque!A27253,quantidade_comprada)","v":0}]
[null,null,null,null,null,{"$f":"SUMIF(Codigo_Produto,Estoque!A27266,[0]!quantidade_adquirida)-SUMIF([0]!cod_saida,Estoque!A27266,quantidade_comprada)","v":0}]
[null,null,null,null,null,{"$f":"SUMIF(Codigo_Produto,Estoque!A27286,[0]!quantidade_adquirida)-SUMIF([0]!cod_saida,Estoque!A27286,quantidade_comprada)","v":0}]
[null,null,null,null,null,{"$f":"SUMIF(Codigo_Produto,Estoque!A27293,[0]!quantidade_adquirida)-SUMIF([0]!cod_saida,Estoque!A27293,quantidade_comprada)","v":0}]
[null,null,null,null,null,{"$f":"SUMIF(Codigo_Produto,Estoque!A27309,[0]!quantidade_adquirida)-SUMIF([0]!cod_saida,Estoque!A27309,quantidade_comprada)","v":0}]
[null,null,null,null,null,{"$f":"SUMIF(Codigo_Produto,Estoque!A27329,[0]!quantidade_adquirida)-SUMIF([0]!cod_saida,Estoque!A27329,quantidade_comprada)","v":0}]
[null,null,null,null,null,{"$f":"SUMIF(Codigo_Produto,Estoque!A27332,[0]!quantidade_adquirida)-SUMIF([0]!cod_saida,Estoque!A27332,quantidade_comprada)","v":0}]
[null,null,null,null,null,{"$f":"SUMIF(Codigo_Produto,Estoque!A27346,[0]!quantidade_adquirida)-SUMIF([0]!cod_saida,Estoque!A27346,quantidade_comprada)","v":0}]
[null,null,null,null,null,{"$f":"SUMIF(Codigo_Produto,Estoque!A27358,[0]!quantidade_adquirida)-SUMIF([0]!cod_saida,Estoque!A27358,quantidade_comprada)","v":0}]
[null,null,null,null,null,{"$f":"SUMIF(Codigo_Produto,Estoque!A27374,[0]!quantidade_adquirida)-SUMIF([0]!cod_saida,Estoque!A27374,quantidade_comprada)","v":0}]
[null,null,null,null,null,{"$f":"SUMIF(Codigo_Produto,Estoque!A27381,[0]!quantidade_adquirida)-SUMIF([0]!cod_saida,Estoque!A27381,quantidade_comprada)","v":0}]
[null,null,null,null,null,{"$f":"SUMIF(Codigo_Produto,Estoque!A27397,[0]!quantidade_adquirida)-SUMIF([0]!cod_saida,Estoque!A27397,quantidade_comprada)","v":0}]
[null,null,null,null,null,{"$f":"SUMIF(Codigo_Produto,Estoque!A27417,[0]!quantidade_adquirida)-SUMIF([0]!cod_saida,Estoque!A27417,quantidade_comprada)","v":0}]
[null,null,null,null,null,{"$f":"SUMIF(Codigo_Produto,Estoque!A27424,[0]!quantidade_adquirida)-SUMIF([0]!cod_saida,Estoque!A27424,quantidade_comprada)","v":0}]
[null,null,null,null,null,{"$f":"SUMIF(Codigo_Produto,Estoque!A27439,[0]!quantidade_adquirida)-SUMIF([0]!cod_saida,Estoque!A27439,quantidade_comprada)","v":0}]
[null,null,null,null,null,{"$f":"SUMIF(Codigo_Produto,Estoque!A27446,[0]!quantidade_adquirida)-SUMIF([0]!cod_saida,Estoque!A27446,quantidade_comprada)","v":0}]
[null,null,null,null,null,{"$f":"SUMIF(Codigo_Produto,Estoque!A27466,[0]!quantidade_adquirida)-SUMIF([0]!cod_saida,Estoque!A27466,quantidade_comprada)","v":0}]
[null,null,null,null,null,{"$f":"SUMIF(Codigo_Produto,Estoque!A27482,[0]!quantidade_adquirida)-SUMIF([0]!cod_saida,Estoque!A27482,quantidade_comprada)","v":0}]
[null,null,null,null,null,{"$f":"SUMIF(Codigo_Produto,Estoque!A27489,[0]!quantidade_adquirida)-SUMIF([0]!cod_saida,Estoque!A27489,quantidade_comprada)","v":0}]
[null,null,null,null,null,{"$f":"SUMIF(Codigo_Produto,Estoque!A27505,[0]!quantidade_adquirida)-SUMIF([0]!cod_saida,Estoque!A27505,quantidade_comprada)","v":0}]
[null,null,null,null,null,{"$f":"SUMIF(Codigo_Produto,Estoque!A27512,[0]!quantidade_adquirida)-SUMIF([0]!cod_saida,Estoque!A27512,quantidade_comprada)","v":0}]
[null,null,null,null,null,{"$f":"SUMIF(Codigo_Produto,Estoque!A27532,[0]!quantidade_adquirida)-SUMIF([0]!cod_saida,Estoque!A27532,quantidade_comprada)","v":0}]
[null,null,null,null,null,{"$f":"SUMIF(Codigo_Produto,Estoque!A27542,[0]!quantidade_adquirida)-SUMIF([0]!cod_saida,Estoque!A27542,quantidade_comprada)","v":0}]
[null,null,null,null,null,{"$f":"SUMIF(Codigo_Produto,Estoque!A27554,[0]!quantidade_adquirida)-SUMIF([0]!cod_saida,Estoque!A27554,quantidade_comprada)","v":0}]
[null,null,null,null,null,{"$f":"SUMIF(Codigo_Produto,Estoque!A27561,[0]!quantidade_adquirida)-SUMIF([0]!cod_saida,Estoque!A27561,quantidade_comprada)","v":0}]
[null,null,null,null,null,{"$f":"SUMIF(Codigo_Produto,Estoque!A27577,[0]!quantidade_adquirida)-SUMIF([0]!cod_saida,Estoque!A27577,quantidade_comprada)","v":0}]
[null,null,null,null,null,{"$f":"SUMIF(Codigo_Produto,Estoque!A27597,[0]!quantidade_adquirida)-SUMIF([0]!cod_saida,Estoque!A27597,quantidade_comprada)","v":0}]
[null,null,null,null,null,{"$f":"SUMIF(Codigo_Produto,Estoque!A27600,[0]!quantidade_adquirida)-SUMIF([0]!cod_saida,Estoque!A27600,quantidade_comprada)","v":0}]
[null,null,null,null,null,{"$f":"SUMIF(Codigo_Produto,Estoque!A27620,[0]!quantidade_adquirida)-SUMIF([0]!cod_saida,Estoque!A27620,quantidade_comprada)","v":0}]
[null,null,null,null,null,{"$f":"SUMIF(Codigo_Produto,Estoque!A27631,[0]!quantidade_adquirida)-SUMIF([0]!cod_saida,Estoque!A27631,quantidade_comprada)","v":0}]
[null,null,null,null,null,{"$f":"SUMIF(Codigo_Produto,Estoque!A27642,[0]!quantidade_adquirida)-SUMIF([0]!cod_saida,Estoque!A27642,quantidade_comprada)","v":0}]
[null,null,null,null,null,{"$f":"SUMIF(Codigo_Produto,Estoque!A27662,[0]!quantidade_adquirida)-SUMIF([0]!cod_saida,Estoque!A27662,quantidade_comprada)","v":0}]
[null,null,null,null,null,{"$f":"SUMIF(Codigo_Produto,Estoque!A27665,[0]!quantidade_adquirida)-SUMIF([0]!cod_saida,Estoque!A27665,quantidade_comprada)","v":0}]
[null,null,null,null,null,{"$f":"SUMIF(Codigo_Produto,Estoque!A27685,[0]!quantidade_adquirida)-SUMIF([0]!cod_saida,Estoque!A27685,quantidade_comprada)","v":0}]
[null,null,null,null,null,{"$f":"SUMIF(Codigo_Produto,Estoque!A27692,[0]!quantidade_adquirida)-SUMIF([0]!cod_saida,Estoque!A27692,quantidade_comprada)","v":0}]
[null,null,null,null,null,{"$f":"SUMIF(Codigo_Produto,Estoque!A27708,[0]!quantidade_adquirida)-SUMIF([0]!cod_saida,Estoque!A27708,quantidade_comprada)","v":0}]
[null,null,null,null,null,{"$f":"SUMIF(Codigo_Produto,Estoque!A27728,[0]!quantidade_adquirida)-SUMIF([0]!cod_saida,Estoque!A27728,quantidade_comprada)","v":0}]
[null,null,null,null,null,{"$f":"SUMIF(Codigo_Produto,Estoque!A27729,[0]!quantidade_adquirida)-SUMIF([0]!cod_saida,Estoque!A27729,quantidade_comprada)","v":0}]
[null,null,null,null,null,{"$f":"SUMIF(Codigo_Produto,Estoque!A27730,[0]!quantidade_adquirida)-SUMIF([0]!cod_saida,Estoque!A27730,quantidade_comprada)","v":0}]
[null,null,null,null,null,{"$f":"SUMIF(Codigo_Produto,Estoque!A27731,[0]!quantidade_adquirida)-SUMIF([0]!cod_saida,Estoque!A27731,quantidade_comprada)","v":0}]
[null,null,null,null,null,{"$f":"SUMIF(Codigo_Produto,Estoque!A27732,[0]!quantidade_adquirida)-SUMIF([0]!cod_saida,Estoque!A27732,quantidade_comprada)","v":0}]
[null,null,null,null,null,{"$f":"SUMIF(Codigo_Produto,Estoque!A27733,[0]!quantidade_adquirida)-SUMIF([0]!cod_saida,Estoque!A27733,quantidade_comprada)","v":0}]
[null,null,null,null,null,{"$f":"SUMIF(Codigo_Produto,Estoque!A27734,[0]!quantidade_adquirida)-SUMIF([0]!cod_saida,Estoque!A27734,quantidade_comprada)","v":0}]
[null,null,null,null,null,{"$f":"SUMIF(Codigo_Produto,Estoque!A27735,[0]!quantidade_adquirida)-SUMIF([0]!cod_saida,Estoque!A27735,quantidade_comprada)","v":0}]
[null,null,null,null,null,{"$f":"SUMIF(Codigo_Produto,Estoque!A27736,[0]!quantidade_adquirida)-SUMIF([0]!cod_saida,Estoque!A27736,quantidade_comprada)","v":0}]
[null,null,null,null,null,{"$f":"SUMIF(Codigo_Produto,Estoque!A27737,[0]!quantidade_adquirida)-SUMIF([0]!cod_saida,Estoque!A27737,quantidade_comprada)","v":0}]
[null,null,null,null,null,{"$f":"SUMIF(Codigo_Produto,Estoque!A27738,[0]!quantidade_adquirida)-SUMIF([0]!cod_saida,Estoque!A27738,quantidade_comprada)","v":0}]
[null,null,null,null,null,{"$f":"SUMIF(Codigo_Produto,Estoque!A27739,[0]!quantidade_adquirida)-SUMIF([0]!cod_saida,Estoque!A27739,quantidade_comprada)","v":0}]
[null,null,null,null,null,{"$f":"SUMIF(Codigo_Produto,Estoque!A27740,[0]!quantidade_adquirida)-SUMIF([0]!cod_saida,Estoque!A27740,quantidade_comprada)","v":0}]
[null,null,null,null,null,{"$f":"SUMIF(Codigo_Produto,Estoque!A27741,[0]!quantidade_adquirida)-SUMIF([0]!cod_saida,Estoque!A27741,quantidade_comprada)","v":0}]
[null,null,null,null,null,{"$f":"SUMIF(Codigo_Produto,Estoque!A27742,[0]!quantidade_adquirida)-SUMIF([0]!cod_saida,Estoque!A27742,quantidade_comprada)","v":0}]
[null,null,null,null,null,{"$f":"SUMIF(Codigo_Produto,Estoque!A27743,[0]!quantidade_adquirida)-SUMIF([0]!cod_saida,Estoque!A27743,quantidade_comprada)","v":0}]
[null,null,null,null,null,{"$f":"SUMIF(Codigo_Produto,Estoque!A27744,[0]!quantidade_adquirida)-SUMIF([0]!cod_saida,Estoque!A27744,quantidade_comprada)","v":0}]
[null,null,null,null,null,{"$f":"SUMIF(Codigo_Produto,Estoque!A27745,[0]!quantidade_adquirida)-SUMIF([0]!cod_saida,Estoque!A27745,quantidade_comprada)","v":0}]
[null,null,null,null,null,{"$f":"SUMIF(Codigo_Produto,Estoque!A27746,[0]!quantidade_adquirida)-SUMIF([0]!cod_saida,Estoque!A27746,quantidade_comprada)","v":0}]
[null,null,null,null,null,{"$f":"SUMIF(Codigo_Produto,Estoque!A27747,[0]!quantidade_adquirida)-SUMIF([0]!cod_saida,Estoque!A27747,quantidade_comprada)","v":0}]
[null,null,null,null,null,{"$f":"SUMIF(Codigo_Produto,Estoque!A27748,[0]!quantidade_adquirida)-SUMIF([0]!cod_saida,Estoque!A27748,quantidade_comprada)","v":0}]
[null,null,null,null,null,{"$f":"SUMIF(Codigo_Produto,Estoque!A27749,[0]!quantidade_adquirida)-SUMIF([0]!cod_saida,Estoque!A27749,quantidade_comprada)","v":0}]
[null,null,null,null,null,{"$f":"SUMIF(Codigo_Produto,Estoque!A27750,[0]!quantidade_adquirida)-SUMIF([0]!cod_saida,Estoque!A27750,quantidade_comprada)","v":0}]
[null,null,null,null,null,{"$f":"SUMIF(Codigo_Produto,Estoque!A27751,[0]!quantidade_adquirida)-SUMIF([0]!cod_saida,Estoque!A27751,quantidade_comprada)","v":0}]
[null,null,null,null,null,{"$f":"SUMIF(Codigo_Produto,Estoque!A27752,[0]!quantidade_adquirida)-SUMIF([0]!cod_saida,Estoque!A27752,quantidade_comprada)","v":0}]
[null,null,null,null,null,{"$f":"SUMIF(Codigo_Produto,Estoque!A27753,[0]!quantidade_adquirida)-SUMIF([0]!cod_saida,Estoque!A27753,quantidade_comprada)","v":0}]
[null,null,null,null,null,{"$f":"SUMIF(Codigo_Produto,Estoque!A27754,[0]!quantidade_adquirida)-SUMIF([0]!cod_saida,Estoque!A27754,quantidade_comprada)","v":0}]
[null,null,null,null,null,{"$f":"SUMIF(Codigo_Produto,Estoque!A27755,[0]!quantidade_adquirida)-SUMIF([0]!cod_saida,Estoque!A27755,quantidade_comprada)","v":0}]
[null,null,null,null,null,{"$f":"SUMIF(Codigo_Produto,Estoque!A27756,[0]!quantidade_adquirida)-SUMIF([0]!cod_saida,Estoque!A27756,quantidade_comprada)","v":0}]
[null,null,null,null,null,{"$f":"SUMIF(Codigo_Produto,Estoque!A27757,[0]!quantidade_adquirida)-SUMIF([0]!cod_saida,Estoque!A27757,quantidade_comprada)","v":0}]
[null,null,null,null,null,{"$f":"SUMIF(Codigo_Produto,Estoque!A27758,[0]!quantidade_adquirida)-SUMIF([0]!cod_saida,Estoque!A27758,quantidade_comprada)","v":0}]
[null,null,null,null,null,{"$f":"SUMIF(Codigo_Produto,Estoque!A27759,[0]!quantidade_adquirida)-SUMIF([0]!cod_saida,Estoque!A27759,quantidade_comprada)","v":0}]
[null,null,null,null,null,{"$f":"SUMIF(Codigo_Produto,Estoque!A27760,[0]!quantidade_adquirida)-SUMIF([0]!cod_saida,Estoque!A27760,quantidade_comprada)","v":0}]
[null,null,null,null,null,{"$f":"SUMIF(Codigo_Produto,Estoque!A27761,[0]!quantidade_adquirida)-SUMIF([0]!cod_saida,Estoque!A27761,quantidade_comprada)","v":0}]
[null,null,null,null,null,{"$f":"SUMIF(Codigo_Produto,Estoque!A27762,[0]!quantidade_adquirida)-SUMIF([0]!cod_saida,Estoque!A27762,quantidade_comprada)","v":0}]
[null,null,null,null,null,{"$f":"SUMIF(Codigo_Produto,Estoque!A27763,[0]!quantidade_adquirida)-SUMIF([0]!cod_saida,Estoque!A27763,quantidade_comprada)","v":0}]
[null,null,null,null,null,{"$f":"SUMIF(Codigo_Produto,Estoque!A27764,[0]!quantidade_adquirida)-SUMIF([0]!cod_saida,Estoque!A27764,quantidade_comprada)","v":0}]
[null,null,null,null,null,{"$f":"SUMIF(Codigo_Produto,Estoque!A27765,[0]!quantidade_adquirida)-SUMIF([0]!cod_saida,Estoque!A27765,quantidade_comprada)","v":0}]
[null,null,null,null,null,{"$f":"SUMIF(Codigo_Produto,Estoque!A27766,[0]!quantidade_adquirida)-SUMIF([0]!cod_saida,Estoque!A27766,quantidade_comprada)","v":0}]
[null,null,null,null,null,{"$f":"SUMIF(Codigo_Produto,Estoque!A27767,[0]!quantidade_adquirida)-SUMIF([0]!cod_saida,Estoque!A27767,quantidade_comprada)","v":0}]
[null,null,null,null,null,{"$f":"SUMIF(Codigo_Produto,Estoque!A27768,[0]!quantidade_adquirida)-SUMIF([0]!cod_saida,Estoque!A27768,quantidade_comprada)","v":0}]
[null,null,null,null,null,{"$f":"SUMIF(Codigo_Produto,Estoque!A27769,[0]!quantidade_adquirida)-SUMIF([0]!cod_saida,Estoque!A27769,quantidade_comprada)","v":0}]
[null,null,null,null,null,{"$f":"SUMIF(Codigo_Produto,Estoque!A27770,[0]!quantidade_adquirida)-SUMIF([0]!cod_saida,Estoque!A27770,quantidade_comprada)","v":0}]
[null,null,null,null,null,{"$f":"SUMIF(Codigo_Produto,Estoque!A27771,[0]!quantidade_adquirida)-SUMIF([0]!cod_saida,Estoque!A27771,quantidade_comprada)","v":0}]
[null,null,null,null,null,{"$f":"SUMIF(Codigo_Produto,Estoque!A27772,[0]!quantidade_adquirida)-SUMIF([0]!cod_saida,Estoque!A27772,quantidade_comprada)","v":0}]
[null,null,null,null,null,{"$f":"SUMIF(Codigo_Produto,Estoque!A27773,[0]!quantidade_adquirida)-SUMIF([0]!cod_saida,Estoque!A27773,quantidade_comprada)","v":0}]
[null,null,null,null,null,{"$f":"SUMIF(Codigo_Produto,Estoque!A27774,[0]!quantidade_adquirida)-SUMIF([0]!cod_saida,Estoque!A27774,quantidade_comprada)","v":0}]
[null,null,null,null,null,{"$f":"SUMIF(Codigo_Produto,Estoque!A27775,[0]!quantidade_adquirida)-SUMIF([0]!cod_saida,Estoque!A27775,quantidade_comprada)","v":0}]
[null,null,null,null,null,{"$f":"SUMIF(Codigo_Produto,Estoque!A27776,[0]!quantidade_adquirida)-SUMIF([0]!cod_saida,Estoque!A27776,quantidade_comprada)","v":0}]
[null,null,null,null,null,{"$f":"SUMIF(Codigo_Produto,Estoque!A27777,[0]!quantidade_adquirida)-SUMIF([0]!cod_saida,Estoque!A27777,quantidade_comprada)","v":0}]
[null,null,null,null,null,{"$f":"SUMIF(Codigo_Produto,Estoque!A27778,[0]!quantidade_adquirida)-SUMIF([0]!cod_saida,Estoque!A27778,quantidade_comprada)","v":0}]
[null,null,null,null,null,{"$f":"SUMIF(Codigo_Produto,Estoque!A27779,[0]!quantidade_adquirida)-SUMIF([0]!cod_saida,Estoque!A27779,quantidade_comprada)","v":0}]
[null,null,null,null,null,{"$f":"SUMIF(Codigo_Produto,Estoque!A27780,[0]!quantidade_adquirida)-SUMIF([0]!cod_saida,Estoque!A27780,quantidade_comprada)","v":0}]
[null,null,null,null,null,{"$f":"SUMIF(Codigo_Produto,Estoque!A27781,[0]!quantidade_adquirida)-SUMIF([0]!cod_saida,Estoque!A27781,quantidade_comprada)","v":0}]
[null,null,null,null,null,{"$f":"SUMIF(Codigo_Produto,Estoque!A27782,[0]!quantidade_adquirida)-SUMIF([0]!cod_saida,Estoque!A27782,quantidade_comprada)","v":0}]
[null,null,null,null,null,{"$f":"SUMIF(Codigo_Produto,Estoque!A27783,[0]!quantidade_adquirida)-SUMIF([0]!cod_saida,Estoque!A27783,quantidade_comprada)","v":0}]
[null,null,null,null,null,{"$f":"SUMIF(Codigo_Produto,Estoque!A27784,[0]!quantidade_adquirida)-SUMIF([0]!cod_saida,Estoque!A27784,quantidade_comprada)","v":0}]
[null,null,null,null,null,{"$f":"SUMIF(Codigo_Produto,Estoque!A27785,[0]!quantidade_adquirida)-SUMIF([0]!cod_saida,Estoque!A27785,quantidade_comprada)","v":0}]
[null,null,null,null,null,{"$f":"SUMIF(Codigo_Produto,Estoque!A27786,[0]!quantidade_adquirida)-SUMIF([0]!cod_saida,Estoque!A27786,quantidade_comprada)","v":0}]
[null,null,null,null,null,{"$f":"SUMIF(Codigo_Produto,Estoque!A27787,[0]!quantidade_adquirida)-SUMIF([0]!cod_saida,Estoque!A27787,quantidade_comprada)","v":0}]
[null,null,null,null,null,{"$f":"SUMIF(Codigo_Produto,Estoque!A27788,[0]!quantidade_adquirida)-SUMIF([0]!cod_saida,Estoque!A27788,quantidade_comprada)","v":0}]
[null,null,null,null,null,{"$f":"SUMIF(Codigo_Produto,Estoque!A27789,[0]!quantidade_adquirida)-SUMIF([0]!cod_saida,Estoque!A27789,quantidade_comprada)","v":0}]
[null,null,null,null,null,{"$f":"SUMIF(Codigo_Produto,Estoque!A27790,[0]!quantidade_adquirida)-SUMIF([0]!cod_saida,Estoque!A27790,quantidade_comprada)","v":0}]
[null,null,null,null,null,{"$f":"SUMIF(Codigo_Produto,Estoque!A27791,[0]!quantidade_adquirida)-SUMIF([0]!cod_saida,Estoque!A27791,quantidade_comprada)","v":0}]
[null,null,null,null,null,{"$f":"SUMIF(Codigo_Produto,Estoque!A27792,[0]!quantidade_adquirida)-SUMIF([0]!cod_saida,Estoque!A27792,quantidade_comprada)","v":0}]
[null,null,null,null,null,{"$f":"SUMIF(Codigo_Produto,Estoque!A27793,[0]!quantidade_adquirida)-SUMIF([0]!cod_saida,Estoque!A27793,quantidade_comprada)","v":0}]
[null,null,null,null,null,{"$f":"SUMIF(Codigo_Produto,Estoque!A27794,[0]!quantidade_adquirida)-SUMIF([0]!cod_saida,Estoque!A27794,quantidade_comprada)","v":0}]
[null,null,null,null,null,{"$f":"SUMIF(Codigo_Produto,Estoque!A27795,[0]!quantidade_adquirida)-SUMIF([0]!cod_saida,Estoque!A27795,quantidade_comprada)","v":0}]
[null,null,null,null,null,{"$f":"SUMIF(Codigo_Produto,Estoque!A27796,[0]!quantidade_adquirida)-SUMIF([0]!cod_saida,Estoque!A27796,quantidade_comprada)","v":0}]
[null,null,null,null,null,{"$f":"SUMIF(Codigo_Produto,Estoque!A27797,[0]!quantidade_adquirida)-SUMIF([0]!cod_saida,Estoque!A27797,quantidade_comprada)","v":0}]
[null,null,null,null,null,{"$f":"SUMIF(Codigo_Produto,Estoque!A27798,[0]!quantidade_adquirida)-SUMIF([0]!cod_saida,Estoque!A27798,quantidade_comprada)","v":0}]
[null,null,null,null,null,{"$f":"SUMIF(Codigo_Produto,Estoque!A27799,[0]!quantidade_adquirida)-SUMIF([0]!cod_saida,Estoque!A27799,quantidade_comprada)","v":0}]
[null,null,null,null,null,{"$f":"SUMIF(Codigo_Produto,Estoque!A27800,[0]!quantidade_adquirida)-SUMIF([0]!cod_saida,Estoque!A27800,quantidade_comprada)","v":0}]
[null,null,null,null,null,{"$f":"SUMIF(Codigo_Produto,Estoque!A27801,[0]!quantidade_adquirida)-SUMIF([0]!cod_saida,Estoque!A27801,quantidade_comprada)","v":0}]
[null,null,null,null,null,{"$f":"SUMIF(Codigo_Produto,Estoque!A27802,[0]!quantidade_adquirida)-SUMIF([0]!cod_saida,Estoque!A27802,quantidade_comprada)","v":0}]
[null,null,null,null,null,{"$f":"SUMIF(Codigo_Produto,Estoque!A27803,[0]!quantidade_adquirida)-SUMIF([0]!cod_saida,Estoque!A27803,quantidade_comprada)","v":0}]
[null,null,null,null,null,{"$f":"SUMIF(Codigo_Produto,Estoque!A27804,[0]!quantidade_adquirida)-SUMIF([0]!cod_saida,Estoque!A27804,quantidade_comprada)","v":0}]
[null,null,null,null,null,{"$f":"SUMIF(Codigo_Produto,Estoque!A27805,[0]!quantidade_adquirida)-SUMIF([0]!cod_saida,Estoque!A27805,quantidade_comprada)","v":0}]
[null,null,null,null,null,{"$f":"SUMIF(Codigo_Produto,Estoque!A27806,[0]!quantidade_adquirida)-SUMIF([0]!cod_saida,Estoque!A27806,quantidade_comprada)","v":0}]
[null,null,null,null,null,{"$f":"SUMIF(Codigo_Produto,Estoque!A27807,[0]!quantidade_adquirida)-SUMIF([0]!cod_saida,Estoque!A27807,quantidade_comprada)","v":0}]
[null,null,null,null,null,{"$f":"SUMIF(Codigo_Produto,Estoque!A27808,[0]!quantidade_adquirida)-SUMIF([0]!cod_saida,Estoque!A27808,quantidade_comprada)","v":0}]
[null,null,null,null,null,{"$f":"SUMIF(Codigo_Produto,Estoque!A27809,[0]!quantidade_adquirida)-SUMIF([0]!cod_saida,Estoque!A27809,quantidade_comprada)","v":0}]
[null,null,null,null,null,{"$f":"SUMIF(Codigo_Produto,Estoque!A27810,[0]!quantidade_adquirida)-SUMIF([0]!cod_saida,Estoque!A27810,quantidade_comprada)","v":0}]
[null,null,null,null,null,{"$f":"SUMIF(Codigo_Produto,Estoque!A27811,[0]!quantidade_adquirida)-SUMIF([0]!cod_saida,Estoque!A27811,quantidade_comprada)","v":0}]
[null,null,null,null,null,{"$f":"SUMIF(Codigo_Produto,Estoque!A27812,[0]!quantidade_adquirida)-SUMIF([0]!cod_saida,Estoque!A27812,quantidade_comprada)","v":0}]
[null,null,null,null,null,{"$f":"SUMIF(Codigo_Produto,Estoque!A27813,[0]!quantidade_adquirida)-SUMIF([0]!cod_saida,Estoque!A27813,quantidade_comprada)","v":0}]
[null,null,null,null,null,{"$f":"SUMIF(Codigo_Produto,Estoque!A27814,[0]!quantidade_adquirida)-SUMIF([0]!cod_saida,Estoque!A27814,quantidade_comprada)","v":0}]
[null,null,null,null,null,{"$f":"SUMIF(Codigo_Produto,Estoque!A27815,[0]!quantidade_adquirida)-SUMIF([0]!cod_saida,Estoque!A27815,quantidade_comprada)","v":0}]
[null,null,null,null,null,{"$f":"SUMIF(Codigo_Produto,Estoque!A27816,[0]!quantidade_adquirida)-SUMIF([0]!cod_saida,Estoque!A27816,quantidade_comprada)","v":0}]
[null,null,null,null,null,{"$f":"SUMIF(Codigo_Produto,Estoque!A27817,[0]!quantidade_adquirida)-SUMIF([0]!cod_saida,Estoque!A27817,quantidade_comprada)","v":0}]
[null,null,null,null,null,{"$f":"SUMIF(Codigo_Produto,Estoque!A27818,[0]!quantidade_adquirida)-SUMIF([0]!cod_saida,Estoque!A27818,quantidade_comprada)","v":0}]
[null,null,null,null,null,{"$f":"SUMIF(Codigo_Produto,Estoque!A27819,[0]!quantidade_adquirida)-SUMIF([0]!cod_saida,Estoque!A27819,quantidade_comprada)","v":0}]
[null,null,null,null,null,{"$f":"SUMIF(Codigo_Produto,Estoque!A27820,[0]!quantidade_adquirida)-SUMIF([0]!cod_saida,Estoque!A27820,quantidade_comprada)","v":0}]
[null,null,null,null,null,{"$f":"SUMIF(Codigo_Produto,Estoque!A27821,[0]!quantidade_adquirida)-SUMIF([0]!cod_saida,Estoque!A27821,quantidade_comprada)","v":0}]
[null,null,null,null,null,{"$f":"SUMIF(Codigo_Produto,Estoque!A27822,[0]!quantidade_adquirida)-SUMIF([0]!cod_saida,Estoque!A27822,quantidade_comprada)","v":0}]
[null,null,null,null,null,{"$f":"SUMIF(Codigo_Produto,Estoque!A27823,[0]!quantidade_adquirida)-SUMIF([0]!cod_saida,Estoque!A27823,quantidade_comprada)","v":0}]
[null,null,null,null,null,{"$f":"SUMIF(Codigo_Produto,Estoque!A27824,[0]!quantidade_adquirida)-SUMIF([0]!cod_saida,Estoque!A27824,quantidade_comprada)","v":0}]
[null,null,null,null,null,{"$f":"SUMIF(Codigo_Produto,Estoque!A27825,[0]!quantidade_adquirida)-SUMIF([0]!cod_saida,Estoque!A27825,quantidade_comprada)","v":0}]
[null,null,null,null,null,{"$f":"SUMIF(Codigo_Produto,Estoque!A27826,[0]!quantidade_adquirida)-SUMIF([0]!cod_saida,Estoque!A27826,quantidade_comprada)","v":0}]
[null,null,null,null,null,{"$f":"SUMIF(Codigo_Produto,Estoque!A27827,[0]!quantidade_adquirida)-SUMIF([0]!cod_saida,Estoque!A27827,quantidade_comprada)","v":0}]
[null,null,null,null,null,{"$f":"SUMIF(Codigo_Produto,Estoque!A27828,[0]!quantidade_adquirida)-SUMIF([0]!cod_saida,Estoque!A27828,quantidade_comprada)","v":0}]
[null,null,null,null,null,{"$f":"SUMIF(Codigo_Produto,Estoque!A27829,[0]!quantidade_adquirida)-SUMIF([0]!cod_saida,Estoque!A27829,quantidade_comprada)","v":0}]
[null,null,null,null,null,{"$f":"SUMIF(Codigo_Produto,Estoque!A27830,[0]!quantidade_adquirida)-SUMIF([0]!cod_saida,Estoque!A27830,quantidade_comprada)","v":0}]
[null,null,null,null,null,{"$f":"SUMIF(Codigo_Produto,Estoque!A27831,[0]!quantidade_adquirida)-SUMIF([0]!cod_saida,Estoque!A27831,quantidade_comprada)","v":0}]
[null,null,null,null,null,{"$f":"SUMIF(Codigo_Produto,Estoque!A27832,[0]!quantidade_adquirida)-SUMIF([0]!cod_saida,Estoque!A27832,quantidade_comprada)","v":0}]
[null,null,null,null,null,{"$f":"SUMIF(Codigo_Produto,Estoque!A27833,[0]!quantidade_adquirida)-SUMIF([0]!cod_saida,Estoque!A27833,quantidade_comprada)","v":0}]
[null,null,null,null,null,{"$f":"SUMIF(Codigo_Produto,Estoque!A27834,[0]!quantidade_adquirida)-SUMIF([0]!cod_saida,Estoque!A27834,quantidade_comprada)","v":0}]
[null,null,null,null,null,{"$f":"SUMIF(Codigo_Produto,Estoque!A27835,[0]!quantidade_adquirida)-SUMIF([0]!cod_saida,Estoque!A27835,quantidade_comprada)","v":0}]
[null,null,null,null,null,{"$f":"SUMIF(Codigo_Produto,Estoque!A27836,[0]!quantidade_adquirida)-SUMIF([0]!cod_saida,Estoque!A27836,quantidade_comprada)","v":0}]
[null,null,null,null,null,{"$f":"SUMIF(Codigo_Produto,Estoque!A27837,[0]!quantidade_adquirida)-SUMIF([0]!cod_saida,Estoque!A27837,quantidade_comprada)","v":0}]
[null,null,null,null,null,{"$f":"SUMIF(Codigo_Produto,Estoque!A27838,[0]!quantidade_adquirida)-SUMIF([0]!cod_saida,Estoque!A27838,quantidade_comprada)","v":0}]
[null,null,null,null,null,{"$f":"SUMIF(Codigo_Produto,Estoque!A27839,[0]!quantidade_adquirida)-SUMIF([0]!cod_saida,Estoque!A27839,quantidade_comprada)","v":0}]
[null,null,null,null,null,{"$f":"SUMIF(Codigo_Produto,Estoque!A27840,[0]!quantidade_adquirida)-SUMIF([0]!cod_saida,Estoque!A27840,quantidade_comprada)","v":0}]
[null,null,null,null,null,{"$f":"SUMIF(Codigo_Produto,Estoque!A27841,[0]!quantidade_adquirida)-SUMIF([0]!cod_saida,Estoque!A27841,quantidade_comprada)","v":0}]
[null,null,null,null,null,{"$f":"SUMIF(Codigo_Produto,Estoque!A27842,[0]!quantidade_adquirida)-SUMIF([0]!cod_saida,Estoque!A27842,quantidade_comprada)","v":0}]
[null,null,null,null,null,{"$f":"SUMIF(Codigo_Produto,Estoque!A27843,[0]!quantidade_adquirida)-SUMIF([0]!cod_saida,Estoque!A27843,quantidade_comprada)","v":0}]
[null,null,null,null,null,{"$f":"SUMIF(Codigo_Produto,Estoque!A27844,[0]!quantidade_adquirida)-SUMIF([0]!cod_saida,Estoque!A27844,quantidade_comprada)","v":0}]
[null,null,null,null,null,{"$f":"SUMIF(Codigo_Produto,Estoque!A27845,[0]!quantidade_adquirida)-SUMIF([0]!cod_saida,Estoque!A27845,quantidade_comprada)","v":0}]
[null,null,null,null,null,{"$f":"SUMIF(Codigo_Produto,Estoque!A27846,[0]!quantidade_adquirida)-SUMIF([0]!cod_saida,Estoque!A27846,quantidade_comprada)","v":0}]
[null,null,null,null,null,{"$f":"SUMIF(Codigo_Produto,Estoque!A27847,[0]!quantidade_adquirida)-SUMIF([0]!cod_saida,Estoque!A27847,quantidade_comprada)","v":0}]
[null,null,null,null,null,{"$f":"SUMIF(Codigo_Produto,Estoque!A27848,[0]!quantidade_adquirida)-SUMIF([0]!cod_saida,Estoque!A27848,quantidade_comprada)","v":0}]
[null,null,null,null,null,{"$f":"SUMIF(Codigo_Produto,Estoque!A27849,[0]!quantidade_adquirida)-SUMIF([0]!cod_saida,Estoque!A27849,quantidade_comprada)","v":0}]
[null,null,null,null,null,{"$f":"SUMIF(Codigo_Produto,Estoque!A27850,[0]!quantidade_adquirida)-SUMIF([0]!cod_saida,Estoque!A27850,quantidade_comprada)","v":0}]
[null,null,null,null,null,{"$f":"SUMIF(Codigo_Produto,Estoque!A27851,[0]!quantidade_adquirida)-SUMIF([0]!cod_saida,Estoque!A27851,quantidade_comprada)","v":0}]
[null,null,null,null,null,{"$f":"SUMIF(Codigo_Produto,Estoque!A27852,[0]!quantidade_adquirida)-SUMIF([0]!cod_saida,Estoque!A27852,quantidade_comprada)","v":0}]
[null,null,null,null,null,{"$f":"SUMIF(Codigo_Produto,Estoque!A27853,[0]!quantidade_adquirida)-SUMIF([0]!cod_saida,Estoque!A27853,quantidade_comprada)","v":0}]
[null,null,null,null,null,{"$f":"SUMIF(Codigo_Produto,Estoque!A27854,[0]!quantidade_adquirida)-SUMIF([0]!cod_saida,Estoque!A27854,quantidade_comprada)","v":0}]
[null,null,null,null,null,{"$f":"SUMIF(Codigo_Produto,Estoque!A27855,[0]!quantidade_adquirida)-SUMIF([0]!cod_saida,Estoque!A27855,quantidade_comprada)","v":0}]
[null,null,null,null,null,{"$f":"SUMIF(Codigo_Produto,Estoque!A27856,[0]!quantidade_adquirida)-SUMIF([0]!cod_saida,Estoque!A27856,quantidade_comprada)","v":0}]
[null,null,null,null,null,{"$f":"SUMIF(Codigo_Produto,Estoque!A27857,[0]!quantidade_adquirida)-SUMIF([0]!cod_saida,Estoque!A27857,quantidade_comprada)","v":0}]
[null,null,null,null,null,{"$f":"SUMIF(Codigo_Produto,Estoque!A27858,[0]!quantidade_adquirida)-SUMIF([0]!cod_saida,Estoque!A27858,quantidade_comprada)","v":0}]
[null,null,null,null,null,{"$f":"SUMIF(Codigo_Produto,Estoque!A27859,[0]!quantidade_adquirida)-SUMIF([0]!cod_saida,Estoque!A27859,quantidade_comprada)","v":0}]
[null,null,null,null,null,{"$f":"SUMIF(Codigo_Produto,Estoque!A27860,[0]!quantidade_adquirida)-SUMIF([0]!cod_saida,Estoque!A27860,quantidade_comprada)","v":0}]
[null,null,null,null,null,{"$f":"SUMIF(Codigo_Produto,Estoque!A27861,[0]!quantidade_adquirida)-SUMIF([0]!cod_saida,Estoque!A27861,quantidade_comprada)","v":0}]
[null,null,null,null,null,{"$f":"SUMIF(Codigo_Produto,Estoque!A27862,[0]!quantidade_adquirida)-SUMIF([0]!cod_saida,Estoque!A27862,quantidade_comprada)","v":0}]
[null,null,null,null,null,{"$f":"SUMIF(Codigo_Produto,Estoque!A27863,[0]!quantidade_adquirida)-SUMIF([0]!cod_saida,Estoque!A27863,quantidade_comprada)","v":0}]
[null,null,null,null,null,{"$f":"SUMIF(Codigo_Produto,Estoque!A27864,[0]!quantidade_adquirida)-SUMIF([0]!cod_saida,Estoque!A27864,quantidade_comprada)","v":0}]
[null,null,null,null,null,{"$f":"SUMIF(Codigo_Produto,Estoque!A27865,[0]!quantidade_adquirida)-SUMIF([0]!cod_saida,Estoque!A27865,quantidade_comprada)","v":0}]
[null,null,null,null,null,{"$f":"SUMIF(Codigo_Produto,Estoque!A27866,[0]!quantidade_adquirida)-SUMIF([0]!cod_saida,Estoque!A27866,quantidade_comprada)","v":0}]
[null,null,null,null,null,{"$f":"SUMIF(Codigo_Produto,Estoque!A27867,[0]!quantidade_adquirida)-SUMIF([0]!cod_saida,Estoque!A27867,quantidade_comprada)","v":0}]
[null,null,null,null,null,{"$f":"SUMIF(Codigo_Produto,Estoque!A27868,[0]!quantidade_adquirida)-SUMIF([0]!cod_saida,Estoque!A27868,quantidade_comprada)","v":0}]
[null,null,null,null,null,{"$f":"SUMIF(Codigo_Produto,Estoque!A27869,[0]!quantidade_adquirida)-SUMIF([0]!cod_saida,Estoque!A27869,quantidade_comprada)","v":0}]
[null,null,null,null,null,{"$f":"SUMIF(Codigo_Produto,Estoque!A27870,[0]!quantidade_adquirida)-SUMIF([0]!cod_saida,Estoque!A27870,quantidade_comprada)","v":0}]
[null,null,null,null,null,{"$f":"SUMIF(Codigo_Produto,Estoque!A27871,[0]!quantidade_adquirida)-SUMIF([0]!cod_saida,Estoque!A27871,quantidade_comprada)","v":0}]
[null,null,null,null,null,{"$f":"SUMIF(Codigo_Produto,Estoque!A27872,[0]!quantidade_adquirida)-SUMIF([0]!cod_saida,Estoque!A27872,quantidade_comprada)","v":0}]
[null,null,null,null,null,{"$f":"SUMIF(Codigo_Produto,Estoque!A27873,[0]!quantidade_adquirida)-SUMIF([0]!cod_saida,Estoque!A27873,quantidade_comprada)","v":0}]
[null,null,null,null,null,{"$f":"SUMIF(Codigo_Produto,Estoque!A27874,[0]!quantidade_adquirida)-SUMIF([0]!cod_saida,Estoque!A27874,quantidade_comprada)","v":0}]
[null,null,null,null,null,{"$f":"SUMIF(Codigo_Produto,Estoque!A27875,[0]!quantidade_adquirida)-SUMIF([0]!cod_saida,Estoque!A27875,quantidade_comprada)","v":0}]
[null,null,null,null,null,{"$f":"SUMIF(Codigo_Produto,Estoque!A27876,[0]!quantidade_adquirida)-SUMIF([0]!cod_saida,Estoque!A27876,quantidade_comprada)","v":0}]
[null,null,null,null,null,{"$f":"SUMIF(Codigo_Produto,Estoque!A27877,[0]!quantidade_adquirida)-SUMIF([0]!cod_saida,Estoque!A27877,quantidade_comprada)","v":0}]
[null,null,null,null,null,{"$f":"SUMIF(Codigo_Produto,Estoque!A27878,[0]!quantidade_adquirida)-SUMIF([0]!cod_saida,Estoque!A27878,quantidade_comprada)","v":0}]
[null,null,null,null,null,{"$f":"SUMIF(Codigo_Produto,Estoque!A27879,[0]!quantidade_adquirida)-SUMIF([0]!cod_saida,Estoque!A27879,quantidade_comprada)","v":0}]
[null,null,null,null,null,{"$f":"SUMIF(Codigo_Produto,Estoque!A27880,[0]!quantidade_adquirida)-SUMIF([0]!cod_saida,Estoque!A27880,quantidade_comprada)","v":0}]
[null,null,null,null,null,{"$f":"SUMIF(Codigo_Produto,Estoque!A27881,[0]!quantidade_adquirida)-SUMIF([0]!cod_saida,Estoque!A27881,quantidade_comprada)","v":0}]
[null,null,null,null,null,{"$f":"SUMIF(Codigo_Produto,Estoque!A27882,[0]!quantidade_adquirida)-SUMIF([0]!cod_saida,Estoque!A27882,quantidade_comprada)","v":0}]
[null,null,null,null,null,{"$f":"SUMIF(Codigo_Produto,Estoque!A27883,[0]!quantidade_adquirida)-SUMIF([0]!cod_saida,Estoque!A27883,quantidade_comprada)","v":0}]
[null,null,null,null,null,{"$f":"SUMIF(Codigo_Produto,Estoque!A27884,[0]!quantidade_adquirida)-SUMIF([0]!cod_saida,Estoque!A27884,quantidade_comprada)","v":0}]
[null,null,null,null,null,{"$f":"SUMIF(Codigo_Produto,Estoque!A27885,[0]!quantidade_adquirida)-SUMIF([0]!cod_saida,Estoque!A27885,quantidade_comprada)","v":0}]
[null,null,null,null,null,{"$f":"SUMIF(Codigo_Produto,Estoque!A27886,[0]!quantidade_adquirida)-SUMIF([0]!cod_saida,Estoque!A27886,quantidade_comprada)","v":0}]
[null,null,null,null,null,{"$f":"SUMIF(Codigo_Produto,Estoque!A27887,[0]!quantidade_adquirida)-SUMIF([0]!cod_saida,Estoque!A27887,quantidade_comprada)","v":0}]
[null,null,null,null,null,{"$f":"SUMIF(Codigo_Produto,Estoque!A27888,[0]!quantidade_adquirida)-SUMIF([0]!cod_saida,Estoque!A27888,quantidade_comprada)","v":0}]
[null,null,null,null,null,{"$f":"SUMIF(Codigo_Produto,Estoque!A27889,[0]!quantidade_adquirida)-SUMIF([0]!cod_saida,Estoque!A27889,quantidade_comprada)","v":0}]
[null,null,null,null,null,{"$f":"SUMIF(Codigo_Produto,Estoque!A27890,[0]!quantidade_adquirida)-SUMIF([0]!cod_saida,Estoque!A27890,quantidade_comprada)","v":0}]
[null,null,null,null,null,{"$f":"SUMIF(Codigo_Produto,Estoque!A27891,[0]!quantidade_adquirida)-SUMIF([0]!cod_saida,Estoque!A27891,quantidade_comprada)","v":0}]
[null,null,null,null,null,{"$f":"SUMIF(Codigo_Produto,Estoque!A27892,[0]!quantidade_adquirida)-SUMIF([0]!cod_saida,Estoque!A27892,quantidade_comprada)","v":0}]
[null,null,null,null,null,{"$f":"SUMIF(Codigo_Produto,Estoque!A27893,[0]!quantidade_adquirida)-SUMIF([0]!cod_saida,Estoque!A27893,quantidade_comprada)","v":0}]
[null,null,null,null,null,{"$f":"SUMIF(Codigo_Produto,Estoque!A27894,[0]!quantidade_adquirida)-SUMIF([0]!cod_saida,Estoque!A27894,quantidade_comprada)","v":0}]
[null,null,null,null,null,{"$f":"SUMIF(Codigo_Produto,Estoque!A27895,[0]!quantidade_adquirida)-SUMIF([0]!cod_saida,Estoque!A27895,quantidade_comprada)","v":0}]
[null,null,null,null,null,{"$f":"SUMIF(Codigo_Produto,Estoque!A27896,[0]!quantidade_adquirida)-SUMIF([0]!cod_saida,Estoque!A27896,quantidade_comprada)","v":0}]
[null,null,null,null,null,{"$f":"SUMIF(Codigo_Produto,Estoque!A27897,[0]!quantidade_adquirida)-SUMIF([0]!cod_saida,Estoque!A27897,quantidade_comprada)","v":0}]
[null,null,null,null,null,{"$f":"SUMIF(Codigo_Produto,Estoque!A27898,[0]!quantidade_adquirida)-SUMIF([0]!cod_saida,Estoque!A27898,quantidade_comprada)","v":0}]
[null,null,null,null,null,{"$f":"SUMIF(Codigo_Produto,Estoque!A27899,[0]!quantidade_adquirida)-SUMIF([0]!cod_saida,Estoque!A27899,quantidade_comprada)","v":0}]
[null,null,null,null,null,{"$f":"SUMIF(Codigo_Produto,Estoque!A27900,[0]!quantidade_adquirida)-SUMIF([0]!cod_saida,Estoque!A27900,quantidade_comprada)","v":0}]
[null,null,null,null,null,{"$f":"SUMIF(Codigo_Produto,Estoque!A27901,[0]!quantidade_adquirida)-SUMIF([0]!cod_saida,Estoque!A27901,quantidade_comprada)","v":0}]
[null,null,null,null,null,{"$f":"SUMIF(Codigo_Produto,Estoque!A27902,[0]!quantidade_adquirida)-SUMIF([0]!cod_saida,Estoque!A27902,quantidade_comprada)","v":0}]
[null,null,null,null,null,{"$f":"SUMIF(Codigo_Produto,Estoque!A27903,[0]!quantidade_adquirida)-SUMIF([0]!cod_saida,Estoque!A27903,quantidade_comprada)","v":0}]
[null,null,null,null,null,{"$f":"SUMIF(Codigo_Produto,Estoque!A27904,[0]!quantidade_adquirida)-SUMIF([0]!cod_saida,Estoque!A27904,quantidade_comprada)","v":0}]
[null,null,null,null,null,{"$f":"SUMIF(Codigo_Produto,Estoque!A27905,[0]!quantidade_adquirida)-SUMIF([0]!cod_saida,Estoque!A27905,quantidade_comprada)","v":0}]
[null,null,null,null,null,{"$f":"SUMIF(Codigo_Produto,Estoque!A27906,[0]!quantidade_adquirida)-SUMIF([0]!cod_saida,Estoque!A27906,quantidade_comprada)","v":0}]
[null,null,null,null,null,{"$f":"SUMIF(Codigo_Produto,Estoque!A27907,[0]!quantidade_adquirida)-SUMIF([0]!cod_saida,Estoque!A27907,quantidade_comprada)","v":0}]
[null,null,null,null,null,{"$f":"SUMIF(Codigo_Produto,Estoque!A27908,[0]!quantidade_adquirida)-SUMIF([0]!cod_saida,Estoque!A27908,quantidade_comprada)","v":0}]
[null,null,null,null,null,{"$f":"SUMIF(Codigo_Produto,Estoque!A27909,[0]!quantidade_adquirida)-SUMIF([0]!cod_saida,Estoque!A27909,quantidade_comprada)","v":0}]
[null,null,null,null,null,{"$f":"SUMIF(Codigo_Produto,Estoque!A27910,[0]!quantidade_adquirida)-SUMIF([0]!cod_saida,Estoque!A27910,quantidade_comprada)","v":0}]
[null,null,null,null,null,{"$f":"SUMIF(Codigo_Produto,Estoque!A27911,[0]!quantidade_adquirida)-SUMIF([0]!cod_saida,Estoque!A27911,quantidade_comprada)","v":0}]
[null,null,null,null,null,{"$f":"SUMIF(Codigo_Produto,Estoque!A27912,[0]!quantidade_adquirida)-SUMIF([0]!cod_saida,Estoque!A27912,quantidade_comprada)","v":0}]
[null,null,null,null,null,{"$f":"SUMIF(Codigo_Produto,Estoque!A27913,[0]!quantidade_adquirida)-SUMIF([0]!cod_saida,Estoque!A27913,quantidade_comprada)","v":0}]
[null,null,null,null,null,{"$f":"SUMIF(Codigo_Produto,Estoque!A27914,[0]!quantidade_adquirida)-SUMIF([0]!cod_saida,Estoque!A27914,quantidade_comprada)","v":0}]
[null,null,null,null,null,{"$f":"SUMIF(Codigo_Produto,Estoque!A27915,[0]!quantidade_adquirida)-SUMIF([0]!cod_saida,Estoque!A27915,quantidade_comprada)","v":0}]
[null,null,null,null,null,{"$f":"SUMIF(Codigo_Produto,Estoque!A27916,[0]!quantidade_adquirida)-SUMIF([0]!cod_saida,Estoque!A27916,quantidade_comprada)","v":0}]
[null,null,null,null,null,{"$f":"SUMIF(Codigo_Produto,Estoque!A27917,[0]!quantidade_adquirida)-SUMIF([0]!cod_saida,Estoque!A27917,quantidade_comprada)","v":0}]
[null,null,null,null,null,{"$f":"SUMIF(Codigo_Produto,Estoque!A27918,[0]!quantidade_adquirida)-SUMIF([0]!cod_saida,Estoque!A27918,quantidade_comprada)","v":0}]
[null,null,null,null,null,{"$f":"SUMIF(Codigo_Produto,Estoque!A27919,[0]!quantidade_adquirida)-SUMIF([0]!cod_saida,Estoque!A27919,quantidade_comprada)","v":0}]
[null,null,null,null,null,{"$f":"SUMIF(Codigo_Produto,Estoque!A27920,[0]!quantidade_adquirida)-SUMIF([0]!cod_saida,Estoque!A27920,quantidade_comprada)","v":0}]
[null,null,null,null,null,{"$f":"SUMIF(Codigo_Produto,Estoque!A27921,[0]!quantidade_adquirida)-SUMIF([0]!cod_saida,Estoque!A27921,quantidade_comprada)","v":0}]
[null,null,null,null,null,{"$f":"SUMIF(Codigo_Produto,Estoque!A27922,[0]!quantidade_adquirida)-SUMIF([0]!cod_saida,Estoque!A27922,quantidade_comprada)","v":0}]
[null,null,null,null,null,{"$f":"SUMIF(Codigo_Produto,Estoque!A27923,[0]!quantidade_adquirida)-SUMIF([0]!cod_saida,Estoque!A27923,quantidade_comprada)","v":0}]
[null,null,null,null,null,{"$f":"SUMIF(Codigo_Produto,Estoque!A27924,[0]!quantidade_adquirida)-SUMIF([0]!cod_saida,Estoque!A27924,quantidade_comprada)","v":0}]
[null,null,null,null,null,{"$f":"SUMIF(Codigo_Produto,Estoque!A27925,[0]!quantidade_adquirida)-SUMIF([0]!cod_saida,Estoque!A27925,quantidade_comprada)","v":0}]
[null,null,null,null,null,{"$f":"SUMIF(Codigo_Produto,Estoque!A27926,[0]!quantidade_adquirida)-SUMIF([0]!cod_saida,Estoque!A27926,quantidade_comprada)","v":0}]
[null,null,null,null,null,{"$f":"SUMIF(Codigo_Produto,Estoque!A27927,[0]!quantidade_adquirida)-SUMIF([0]!cod_saida,Estoque!A27927,quantidade_comprada)","v":0}]
[null,null,null,null,null,{"$f":"SUMIF(Codigo_Produto,Estoque!A27928,[0]!quantidade_adquirida)-SUMIF([0]!cod_saida,Estoque!A27928,quantidade_comprada)","v":0}]
[null,null,null,null,null,{"$f":"SUMIF(Codigo_Produto,Estoque!A27929,[0]!quantidade_adquirida)-SUMIF([0]!cod_saida,Estoque!A27929,quantidade_comprada)","v":0}]
[null,null,null,null,null,{"$f":"SUMIF(Codigo_Produto,Estoque!A27930,[0]!quantidade_adquirida)-SUMIF([0]!cod_saida,Estoque!A27930,quantidade_comprada)","v":0}]
[null,null,null,null,null,{"$f":"SUMIF(Codigo_Produto,Estoque!A27931,[0]!quantidade_adquirida)-SUMIF([0]!cod_saida,Estoque!A27931,quantidade_comprada)","v":0}]
[null,null,null,null,null,{"$f":"SUMIF(Codigo_Produto,Estoque!A27932,[0]!quantidade_adquirida)-SUMIF([0]!cod_saida,Estoque!A27932,quantidade_comprada)","v":0}]
[null,null,null,null,null,{"$f":"SUMIF(Codigo_Produto,Estoque!A27933,[0]!quantidade_adquirida)-SUMIF([0]!cod_saida,Estoque!A27933,quantidade_comprada)","v":0}]
[null,null,null,null,null,{"$f":"SUMIF(Codigo_Produto,Estoque!A27934,[0]!quantidade_adquirida)-SUMIF([0]!cod_saida,Estoque!A27934,quantidade_comprada)","v":0}]
[null,null,null,null,null,{"$f":"SUMIF(Codigo_Produto,Estoque!A27935,[0]!quantidade_adquirida)-SUMIF([0]!cod_saida,Estoque!A27935,quantidade_comprada)","v":0}]
[null,null,null,null,null,{"$f":"SUMIF(Codigo_Produto,Estoque!A27936,[0]!quantidade_adquirida)-SUMIF([0]!cod_saida,Estoque!A27936,quantidade_comprada)","v":0}]
[null,null,null,null,null,{"$f":"SUMIF(Codigo_Produto,Estoque!A27937,[0]!quantidade_adquirida)-SUMIF([0]!cod_saida,Estoque!A27937,quantidade_comprada)","v":0}]
[null,null,null,null,null,{"$f":"SUMIF(Codigo_Produto,Estoque!A27938,[0]!quantidade_adquirida)-SUMIF([0]!cod_saida,Estoque!A27938,quantidade_comprada)","v":0}]
[null,null,null,null,null,{"$f":"SUMIF(Codigo_Produto,Estoque!A27939,[0]!quantidade_adquirida)-SUMIF([0]!cod_saida,Estoque!A27939,quantidade_comprada)","v":0}]
[null,null,null,null,null,{"$f":"SUMIF(Codigo_Produto,Estoque!A27940,[0]!quantidade_adquirida)-SUMIF([0]!cod_saida,Estoque!A27940,quantidade_comprada)","v":0}]
[null,null,null,null,null,{"$f":"SUMIF(Codigo_Produto,Estoque!A27941,[0]!quantidade_adquirida)-SUMIF([0]!cod_saida,Estoque!A27941,quantidade_comprada)","v":0}]
[null,null,null,null,null,{"$f":"SUMIF(Codigo_Produto,Estoque!A27942,[0]!quantidade_adquirida)-SUMIF([0]!cod_saida,Estoque!A27942,quantidade_comprada)","v":0}]
[null,null,null,null,null,{"$f":"SUMIF(Codigo_Produto,Estoque!A27943,[0]!quantidade_adquirida)-SUMIF([0]!cod_saida,Estoque!A27943,quantidade_comprada)","v":0}]
[null,null,null,null,null,{"$f":"SUMIF(Codigo_Produto,Estoque!A27944,[0]!quantidade_adquirida)-SUMIF([0]!cod_saida,Estoque!A27944,quantidade_comprada)","v":0}]
[null,null,null,null,null,{"$f":"SUMIF(Codigo_Produto,Estoque!A27945,[0]!quantidade_adquirida)-SUMIF([0]!cod_saida,Estoque!A27945,quantidade_comprada)","v":0}]
[null,null,null,null,null,{"$f":"SUMIF(Codigo_Produto,Estoque!A27946,[0]!quantidade_adquirida)-SUMIF([0]!cod_saida,Estoque!A27946,quantidade_comprada)","v":0}]
[null,null,null,null,null,{"$f":"SUMIF(Codigo_Produto,Estoque!A27947,[0]!quantidade_adquirida)-SUMIF([0]!cod_saida,Estoque!A27947,quantidade_comprada)","v":0}]
[null,null,null,null,null,{"$f":"SUMIF(Codigo_Produto,Estoque!A27948,[0]!quantidade_adquirida)-SUMIF([0]!cod_saida,Estoque!A27948,quantidade_comprada)","v":0}]
[null,null,null,null,null,{"$f":"SUMIF(Codigo_Produto,Estoque!A27949,[0]!quantidade_adquirida)-SUMIF([0]!cod_saida,Estoque!A27949,quantidade_comprada)","v":0}]
[null,null,null,null,null,{"$f":"SUMIF(Codigo_Produto,Estoque!A27950,[0]!quantidade_adquirida)-SUMIF([0]!cod_saida,Estoque!A27950,quantidade_comprada)","v":0}]
[null,null,null,null,null,{"$f":"SUMIF(Codigo_Produto,Estoque!A27951,[0]!quantidade_adquirida)-SUMIF([0]!cod_saida,Estoque!A27951,quantidade_comprada)","v":0}]
[null,null,null,null,null,{"$f":"SUMIF(Codigo_Produto,Estoque!A27952,[0]!quantidade_adquirida)-SUMIF([0]!cod_saida,Estoque!A27952,quantidade_comprada)","v":0}]
[null,null,null,null,null,{"$f":"SUMIF(Codigo_Produto,Estoque!A27953,[0]!quantidade_adquirida)-SUMIF([0]!cod_saida,Estoque!A27953,quantidade_comprada)","v":0}]
[null,null,null,null,null,{"$f":"SUMIF(Codigo_Produto,Estoque!A27954,[0]!quantidade_adquirida)-SUMIF([0]!cod_saida,Estoque!A27954,quantidade_comprada)","v":0}]
[null,null,null,null,null,{"$f":"SUMIF(Codigo_Produto,Estoque!A27955,[0]!quantidade_adquirida)-SUMIF([0]!cod_saida,Estoque!A27955,quantidade_comprada)","v":0}]
[null,null,null,null,null,{"$f":"SUMIF(Codigo_Produto,Estoque!A27956,[0]!quantidade_adquirida)-SUMIF([0]!cod_saida,Estoque!A27956,quantidade_comprada)","v":0}]
[null,null,null,null,null,{"$f":"SUMIF(Codigo_Produto,Estoque!A27957,[0]!quantidade_adquirida)-SUMIF([0]!cod_saida,Estoque!A27957,quantidade_comprada)","v":0}]
[null,null,null,null,null,{"$f":"SUMIF(Codigo_Produto,Estoque!A27958,[0]!quantidade_adquirida)-SUMIF([0]!cod_saida,Estoque!A27958,quantidade_comprada)","v":0}]
[null,null,null,null,null,{"$f":"SUMIF(Codigo_Produto,Estoque!A27959,[0]!quantidade_adquirida)-SUMIF([0]!cod_saida,Estoque!A27959,quantidade_comprada)","v":0}]
[null,null,null,null,null,{"$f":"SUMIF(Codigo_Produto,Estoque!A27960,[0]!quantidade_adquirida)-SUMIF([0]!cod_saida,Estoque!A27960,quantidade_comprada)","v":0}]
[null,null,null,null,null,{"$f":"SUMIF(Codigo_Produto,Estoque!A27961,[0]!quantidade_adquirida)-SUMIF([0]!cod_saida,Estoque!A27961,quantidade_comprada)","v":0}]
[null,null,null,null,null,{"$f":"SUMIF(Codigo_Produto,Estoque!A27962,[0]!quantidade_adquirida)-SUMIF([0]!cod_saida,Estoque!A27962,quantidade_comprada)","v":0}]
[null,null,null,null,null,{"$f":"SUMIF(Codigo_Produto,Estoque!A27963,[0]!quantidade_adquirida)-SUMIF([0]!cod_saida,Estoque!A27963,quantidade_comprada)","v":0}]
[null,null,null,null,null,{"$f":"SUMIF(Codigo_Produto,Estoque!A27964,[0]!quantidade_adquirida)-SUMIF([0]!cod_saida,Estoque!A27964,quantidade_comprada)","v":0}]
[null,null,null,null,null,{"$f":"SUMIF(Codigo_Produto,Estoque!A27965,[0]!quantidade_adquirida)-SUMIF([0]!cod_saida,Estoque!A27965,quantidade_comprada)","v":0}]
[null,null,null,null,null,{"$f":"SUMIF(Codigo_Produto,Estoque!A27966,[0]!quantidade_adquirida)-SUMIF([0]!cod_saida,Estoque!A27966,quantidade_comprada)","v":0}]
[null,null,null,null,null,{"$f":"SUMIF(Codigo_Produto,Estoque!A27967,[0]!quantidade_adquirida)-SUMIF([0]!cod_saida,Estoque!A27967,quantidade_comprada)","v":0}]
[null,null,null,null,null,{"$f":"SUMIF(Codigo_Produto,Estoque!A27968,[0]!quantidade_adquirida)-SUMIF([0]!cod_saida,Estoque!A27968,quantidade_comprada)","v":0}]
[null,null,null,null,null,{"$f":"SUMIF(Codigo_Produto,Estoque!A27969,[0]!quantidade_adquirida)-SUMIF([0]!cod_saida,Estoque!A27969,quantidade_comprada)","v":0}]
[null,null,null,null,null,{"$f":"SUMIF(Codigo_Produto,Estoque!A27970,[0]!quantidade_adquirida)-SUMIF([0]!cod_saida,Estoque!A27970,quantidade_comprada)","v":0}]
[null,null,null,null,null,{"$f":"SUMIF(Codigo_Produto,Estoque!A27971,[0]!quantidade_adquirida)-SUMIF([0]!cod_saida,Estoque!A27971,quantidade_comprada)","v":0}]
[null,null,null,null,null,{"$f":"SUMIF(Codigo_Produto,Estoque!A27972,[0]!quantidade_adquirida)-SUMIF([0]!cod_saida,Estoque!A27972,quantidade_comprada)","v":0}]
[null,null,null,null,null,{"$f":"SUMIF(Codigo_Produto,Estoque!A27973,[0]!quantidade_adquirida)-SUMIF([0]!cod_saida,Estoque!A27973,quantidade_comprada)","v":0}]
[null,null,null,null,null,{"$f":"SUMIF(Codigo_Produto,Estoque!A27974,[0]!quantidade_adquirida)-SUMIF([0]!cod_saida,Estoque!A27974,quantidade_comprada)","v":0}]
[null,null,null,null,null,{"$f":"SUMIF(Codigo_Produto,Estoque!A27975,[0]!quantidade_adquirida)-SUMIF([0]!cod_saida,Estoque!A27975,quantidade_comprada)","v":0}]
[null,null,null,null,null,{"$f":"SUMIF(Codigo_Produto,Estoque!A27976,[0]!quantidade_adquirida)-SUMIF([0]!cod_saida,Estoque!A27976,quantidade_comprada)","v":0}]
[null,null,null,null,null,{"$f":"SUMIF(Codigo_Produto,Estoque!A27977,[0]!quantidade_adquirida)-SUMIF([0]!cod_saida,Estoque!A27977,quantidade_comprada)","v":0}]
[null,null,null,null,null,{"$f":"SUMIF(Codigo_Produto,Estoque!A27978,[0]!quantidade_adquirida)-SUMIF([0]!cod_saida,Estoque!A27978,quantidade_comprada)","v":0}]
[null,null,null,null,null,{"$f":"SUMIF(Codigo_Produto,Estoque!A27979,[0]!quantidade_adquirida)-SUMIF([0]!cod_saida,Estoque!A27979,quantidade_comprada)","v":0}]
[null,null,null,null,null,{"$f":"SUMIF(Codigo_Produto,Estoque!A27980,[0]!quantidade_adquirida)-SUMIF([0]!cod_saida,Estoque!A27980,quantidade_comprada)","v":0}]
[null,null,null,null,null,{"$f":"SUMIF(Codigo_Produto,Estoque!A27981,[0]!quantidade_adquirida)-SUMIF([0]!cod_saida,Estoque!A27981,quantidade_comprada)","v":0}]
[null,null,null,null,null,{"$f":"SUMIF(Codigo_Produto,Estoque!A27982,[0]!quantidade_adquirida)-SUMIF([0]!cod_saida,Estoque!A27982,quantidade_comprada)","v":0}]
[null,null,null,null,null,{"$f":"SUMIF(Codigo_Produto,Estoque!A27983,[0]!quantidade_adquirida)-SUMIF([0]!cod_saida,Estoque!A27983,quantidade_comprada)","v":0}]
[null,null,null,null,null,{"$f":"SUMIF(Codigo_Produto,Estoque!A27984,[0]!quantidade_adquirida)-SUMIF([0]!cod_saida,Estoque!A27984,quantidade_comprada)","v":0}]
[null,null,null,null,null,{"$f":"SUMIF(Codigo_Produto,Estoque!A27985,[0]!quantidade_adquirida)-SUMIF([0]!cod_saida,Estoque!A27985,quantidade_comprada)","v":0}]
[null,null,null,null,null,{"$f":"SUMIF(Codigo_Produto,Estoque!A27986,[0]!quantidade_adquirida)-SUMIF([0]!cod_saida,Estoque!A27986,quantidade_comprada)","v":0}]
[null,null,null,null,null,{"$f":"SUMIF(Codigo_Produto,Estoque!A27987,[0]!quantidade_adquirida)-SUMIF([0]!cod_saida,Estoque!A27987,quantidade_comprada)","v":0}]
[null,null,null,null,null,{"$f":"SUMIF(Codigo_Produto,Estoque!A27988,[0]!quantidade_adquirida)-SUMIF([0]!cod_saida,Estoque!A27988,quantidade_comprada)","v":0}]
[null,null,null,null,null,{"$f":"SUMIF(Codigo_Produto,Estoque!A27989,[0]!quantidade_adquirida)-SUMIF([0]!cod_saida,Estoque!A27989,quantidade_comprada)","v":0}]
[null,null,null,null,null,{"$f":"SUMIF(Codigo_Produto,Estoque!A27990,[0]!quantidade_adquirida)-SUMIF([0]!cod_saida,Estoque!A27990,quantidade_comprada)","v":0}]
[null,null,null,null,null,{"$f":"SUMIF(Codigo_Produto,Estoque!A27991,[0]!quantidade_adquirida)-SUMIF([0]!cod_saida,Estoque!A27991,quantidade_comprada)","v":0}]
[null,null,null,null,null,{"$f":"SUMIF(Codigo_Produto,Estoque!A27992,[0]!quantidade_adquirida)-SUMIF([0]!cod_saida,Estoque!A27992,quantidade_comprada)","v":0}]
[null,null,null,null,null,{"$f":"SUMIF(Codigo_Produto,Estoque!A27993,[0]!quantidade_adquirida)-SUMIF([0]!cod_saida,Estoque!A27993,quantidade_comprada)","v":0}]
[null,null,null,null,null,{"$f":"SUMIF(Codigo_Produto,Estoque!A27994,[0]!quantidade_adquirida)-SUMIF([0]!cod_saida,Estoque!A27994,quantidade_comprada)","v":0}]
[null,null,null,null,null,{"$f":"SUMIF(Codigo_Produto,Estoque!A27995,[0]!quantidade_adquirida)-SUMIF([0]!cod_saida,Estoque!A27995,quantidade_comprada)","v":0}]
[null,null,null,null,null,{"$f":"SUMIF(Codigo_Produto,Estoque!A27996,[0]!quantidade_adquirida)-SUMIF([0]!cod_saida,Estoque!A27996,quantidade_comprada)","v":0}]
[null,null,null,null,null,{"$f":"SUMIF(Codigo_Produto,Estoque!A27997,[0]!quantidade_adquirida)-SUMIF([0]!cod_saida,Estoque!A27997,quantidade_comprada)","v":0}]
[null,null,null,null,null,{"$f":"SUMIF(Codigo_Produto,Estoque!A27998,[0]!quantidade_adquirida)-SUMIF([0]!cod_saida,Estoque!A27998,quantidade_comprada)","v":0}]
[null,null,null,null,null,{"$f":"SUMIF(Codigo_Produto,Estoque!A27999,[0]!quantidade_adquirida)-SUMIF([0]!cod_saida,Estoque!A27999,quantidade_comprada)","v":0}]
[null,null,null,null,null,{"$f":"SUMIF(Codigo_Produto,Estoque!A28000,[0]!quantidade_adquirida)-SUMIF([0]!cod_saida,Estoque!A28000,quantidade_comprada)","v":0}]
[null,null,null,null,null,{"$f":"SUMIF(Codigo_Produto,Estoque!A28001,[0]!quantidade_adquirida)-SUMIF([0]!cod_saida,Estoque!A28001,quantidade_comprada)","v":0}]
[null,null,null,null,null,{"$f":"SUMIF(Codigo_Produto,Estoque!A28002,[0]!quantidade_adquirida)-SUMIF([0]!cod_saida,Estoque!A28002,quantidade_comprada)","v":0}]
[null,null,null,null,null,{"$f":"SUMIF(Codigo_Produto,Estoque!A28003,[0]!quantidade_adquirida)-SUMIF([0]!cod_saida,Estoque!A28003,quantidade_comprada)","v":0}]
[null,null,null,null,null,{"$f":"SUMIF(Codigo_Produto,Estoque!A28004,[0]!quantidade_adquirida)-SUMIF([0]!cod_saida,Estoque!A28004,quantidade_comprada)","v":0}]
[null,null,null,null,null,{"$f":"SUMIF(Codigo_Produto,Estoque!A28005,[0]!quantidade_adquirida)-SUMIF([0]!cod_saida,Estoque!A28005,quantidade_comprada)","v":0}]
[null,null,null,null,null,{"$f":"SUMIF(Codigo_Produto,Estoque!A28006,[0]!quantidade_adquirida)-SUMIF([0]!cod_saida,Estoque!A28006,quantidade_comprada)","v":0}]
[null,null,null,null,null,{"$f":"SUMIF(Codigo_Produto,Estoque!A28007,[0]!quantidade_adquirida)-SUMIF([0]!cod_saida,Estoque!A28007,quantidade_comprada)","v":0}]
[null,null,null,null,null,{"$f":"SUMIF(Codigo_Produto,Estoque!A28008,[0]!quantidade_adquirida)-SUMIF([0]!cod_saida,Estoque!A28008,quantidade_comprada)","v":0}]
[null,null,null,null,null,{"$f":"SUMIF(Codigo_Produto,Estoque!A28009,[0]!quantidade_adquirida)-SUMIF([0]!cod_saida,Estoque!A28009,quantidade_comprada)","v":0}]
[null,null,null,null,null,{"$f":"SUMIF(Codigo_Produto,Estoque!A28010,[0]!quantidade_adquirida)-SUMIF([0]!cod_saida,Estoque!A28010,quantidade_comprada)","v":0}]
[null,null,null,null,null,{"$f":"SUMIF(Codigo_Produto,Estoque!A28011,[0]!quantidade_adquirida)-SUMIF([0]!cod_saida,Estoque!A28011,quantidade_comprada)","v":0}]
[null,null,null,null,null,{"$f":"SUMIF(Codigo_Produto,Estoque!A28012,[0]!quantidade_adquirida)-SUMIF([0]!cod_saida,Estoque!A28012,quantidade_comprada)","v":0}]
[null,null,null,null,null,{"$f":"SUMIF(Codigo_Produto,Estoque!A28013,[0]!quantidade_adquirida)-SUMIF([0]!cod_saida,Estoque!A28013,quantidade_comprada)","v":0}]
[null,null,null,null,null,{"$f":"SUMIF(Codigo_Produto,Estoque!A28014,[0]!quantidade_adquirida)-SUMIF([0]!cod_saida,Estoque!A28014,quantidade_comprada)","v":0}]
[null,null,null,null,null,{"$f":"SUMIF(Codigo_Produto,Estoque!A28015,[0]!quantidade_adquirida)-SUMIF([0]!cod_saida,Estoque!A28015,quantidade_comprada)","v":0}]
[null,null,null,null,null,{"$f":"SUMIF(Codigo_Produto,Estoque!A28016,[0]!quantidade_adquirida)-SUMIF([0]!cod_saida,Estoque!A28016,quantidade_comprada)","v":0}]
[null,null,null,null,null,{"$f":"SUMIF(Codigo_Produto,Estoque!A28017,[0]!quantidade_adquirida)-SUMIF([0]!cod_saida,Estoque!A28017,quantidade_comprada)","v":0}]
[null,null,null,null,null,{"$f":"SUMIF(Codigo_Produto,Estoque!A28018,[0]!quantidade_adquirida)-SUMIF([0]!cod_saida,Estoque!A28018,quantidade_comprada)","v":0}]
[null,null,null,null,null,{"$f":"SUMIF(Codigo_Produto,Estoque!A28019,[0]!quantidade_adquirida)-SUMIF([0]!cod_saida,Estoque!A28019,quantidade_comprada)","v":0}]
[null,null,null,null,null,{"$f":"SUMIF(Codigo_Produto,Estoque!A28020,[0]!quantidade_adquirida)-SUMIF([0]!cod_saida,Estoque!A28020,quantidade_comprada)","v":0}]
[null,null,null,null,null,{"$f":"SUMIF(Codigo_Produto,Estoque!A28021,[0]!quantidade_adquirida)-SUMIF([0]!cod_saida,Estoque!A28021,quantidade_comprada)","v":0}]
[null,null,null,null,null,{"$f":"SUMIF(Codigo_Produto,Estoque!A28022,[0]!quantidade_adquirida)-SUMIF([0]!cod_saida,Estoque!A28022,quantidade_comprada)","v":0}]
[null,null,null,null,null,{"$f":"SUMIF(Codigo_Produto,Estoque!A28023,[0]!quantidade_adquirida)-SUMIF([0]!cod_saida,Estoque!A28023,quantidade_comprada)","v":0}]
[null,null,null,null,null,{"$f":"SUMIF(Codigo_Produto,Estoque!A28024,[0]!quantidade_adquirida)-SUMIF([0]!cod_saida,Estoque!A28024,quantidade_comprada)","v":0}]
[null,null,null,null,null,{"$f":"SUMIF(Codigo_Produto,Estoque!A28025,[0]!quantidade_adquirida)-SUMIF([0]!cod_saida,Estoque!A28025,quantidade_comprada)","v":0}]
[null,null,null,null,null,{"$f":"SUMIF(Codigo_Produto,Estoque!A28026,[0]!quantidade_adquirida)-SUMIF([0]!cod_saida,Estoque!A28026,quantidade_comprada)","v":0}]
[null,null,null,null,null,{"$f":"SUMIF(Codigo_Produto,Estoque!A28027,[0]!quantidade_adquirida)-SUMIF([0]!cod_saida,Estoque!A28027,quantidade_comprada)","v":0}]
[null,null,null,null,null,{"$f":"SUMIF(Codigo_Produto,Estoque!A28028,[0]!quantidade_adquirida)-SUMIF([0]!cod_saida,Estoque!A28028,quantidade_comprada)","v":0}]
[null,null,null,null,null,{"$f":"SUMIF(Codigo_Produto,Estoque!A28029,[0]!quantidade_adquirida)-SUMIF([0]!cod_saida,Estoque!A28029,quantidade_comprada)","v":0}]
[null,null,null,null,null,{"$f":"SUMIF(Codigo_Produto,Estoque!A28030,[0]!quantidade_adquirida)-SUMIF([0]!cod_saida,Estoque!A28030,quantidade_comprada)","v":0}]
[null,null,null,null,null,{"$f":"SUMIF(Codigo_Produto,Estoque!A28031,[0]!quantidade_adquirida)-SUMIF([0]!cod_saida,Estoque!A28031,quantidade_comprada)","v":0}]
[null,null,null,null,null,{"$f":"SUMIF(Codigo_Produto,Estoque!A28032,[0]!quantidade_adquirida)-SUMIF([0]!cod_saida,Estoque!A28032,quantidade_comprada)","v":0}]
[null,null,null,null,null,{"$f":"SUMIF(Codigo_Produto,Estoque!A28033,[0]!quantidade_adquirida)-SUMIF([0]!cod_saida,Estoque!A28033,quantidade_comprada)","v":0}]
[null,null,null,null,null,{"$f":"SUMIF(Codigo_Produto,Estoque!A28034,[0]!quantidade_adquirida)-SUMIF([0]!cod_saida,Estoque!A28034,quantidade_comprada)","v":0}]
[null,null,null,null,null,{"$f":"SUMIF(Codigo_Produto,Estoque!A28035,[0]!quantidade_adquirida)-SUMIF([0]!cod_saida,Estoque!A28035,quantidade_comprada)","v":0}]
[null,null,null,null,null,{"$f":"SUMIF(Codigo_Produto,Estoque!A28036,[0]!quantidade_adquirida)-SUMIF([0]!cod_saida,Estoque!A28036,quantidade_comprada)","v":0}]
[null,null,null,null,null,{"$f":"SUMIF(Codigo_Produto,Estoque!A28037,[0]!quantidade_adquirida)-SUMIF([0]!cod_saida,Estoque!A28037,quantidade_comprada)","v":0}]
[null,null,null,null,null,{"$f":"SUMIF(Codigo_Produto,Estoque!A28038,[0]!quantidade_adquirida)-SUMIF([0]!cod_saida,Estoque!A28038,quantidade_comprada)","v":0}]
[null,null,null,null,null,{"$f":"SUMIF(Codigo_Produto,Estoque!A28039,[0]!quantidade_adquirida)-SUMIF([0]!cod_saida,Estoque!A28039,quantidade_comprada)","v":0}]
[null,null,null,null,null,{"$f":"SUMIF(Codigo_Produto,Estoque!A28040,[0]!quantidade_adquirida)-SUMIF([0]!cod_saida,Estoque!A28040,quantidade_comprada)","v":0}]
[null,null,null,null,null,{"$f":"SUMIF(Codigo_Produto,Estoque!A28041,[0]!quantidade_adquirida)-SUMIF([0]!cod_saida,Estoque!A28041,quantidade_comprada)","v":0}]
[null,null,null,null,null,{"$f":"SUMIF(Codigo_Produto,Estoque!A28042,[0]!quantidade_adquirida)-SUMIF([0]!cod_saida,Estoque!A28042,quantidade_comprada)","v":0}]
[null,null,null,null,null,{"$f":"SUMIF(Codigo_Produto,Estoque!A28043,[0]!quantidade_adquirida)-SUMIF([0]!cod_saida,Estoque!A28043,quantidade_comprada)","v":0}]
[null,null,null,null,null,{"$f":"SUMIF(Codigo_Produto,Estoque!A28044,[0]!quantidade_adquirida)-SUMIF([0]!cod_saida,Estoque!A28044,quantidade_comprada)","v":0}]
[null,null,null,null,null,{"$f":"SUMIF(Codigo_Produto,Estoque!A28045,[0]!quantidade_adquirida)-SUMIF([0]!cod_saida,Estoque!A28045,quantidade_comprada)","v":0}]
[null,null,null,null,null,{"$f":"SUMIF(Codigo_Produto,Estoque!A28046,[0]!quantidade_adquirida)-SUMIF([0]!cod_saida,Estoque!A28046,quantidade_comprada)","v":0}]
[null,null,null,null,null,{"$f":"SUMIF(Codigo_Produto,Estoque!A28047,[0]!quantidade_adquirida)-SUMIF([0]!cod_saida,Estoque!A28047,quantidade_comprada)","v":0}]
[null,null,null,null,null,{"$f":"SUMIF(Codigo_Produto,Estoque!A28048,[0]!quantidade_adquirida)-SUMIF([0]!cod_saida,Estoque!A28048,quantidade_comprada)","v":0}]
[null,null,null,null,null,{"$f":"SUMIF(Codigo_Produto,Estoque!A28049,[0]!quantidade_adquirida)-SUMIF([0]!cod_saida,Estoque!A28049,quantidade_comprada)","v":0}]
[null,null,null,null,null,{"$f":"SUMIF(Codigo_Produto,Estoque!A28050,[0]!quantidade_adquirida)-SUMIF([0]!cod_saida,Estoque!A28050,quantidade_comprada)","v":0}]
[null,null,null,null,null,{"$f":"SUMIF(Codigo_Produto,Estoque!A28051,[0]!quantidade_adquirida)-SUMIF([0]!cod_saida,Estoque!A28051,quantidade_comprada)","v":0}]
[null,null,null,null,null,{"$f":"SUMIF(Codigo_Produto,Estoque!A28052,[0]!quantidade_adquirida)-SUMIF([0]!cod_saida,Estoque!A28052,quantidade_comprada)","v":0}]
[null,null,null,null,null,{"$f":"SUMIF(Codigo_Produto,Estoque!A28053,[0]!quantidade_adquirida)-SUMIF([0]!cod_saida,Estoque!A28053,quantidade_comprada)","v":0}]
[null,null,null,null,null,{"$f":"SUMIF(Codigo_Produto,Estoque!A28054,[0]!quantidade_adquirida)-SUMIF([0]!cod_saida,Estoque!A28054,quantidade_comprada)","v":0}]
[null,null,null,null,null,{"$f":"SUMIF(Codigo_Produto,Estoque!A28055,[0]!quantidade_adquirida)-SUMIF([0]!cod_saida,Estoque!A28055,quantidade_comprada)","v":0}]
[null,null,null,null,null,{"$f":"SUMIF(Codigo_Produto,Estoque!A28056,[0]!quantidade_adquirida)-SUMIF([0]!cod_saida,Estoque!A28056,quantidade_comprada)","v":0}]
[null,null,null,null,null,{"$f":"SUMIF(Codigo_Produto,Estoque!A28057,[0]!quantidade_adquirida)-SUMIF([0]!cod_saida,Estoque!A28057,quantidade_comprada)","v":0}]
[null,null,null,null,null,{"$f":"SUMIF(Codigo_Produto,Estoque!A28058,[0]!quantidade_adquirida)-SUMIF([0]!cod_saida,Estoque!A28058,quantidade_comprada)","v":0}]
[null,null,null,null,null,{"$f":"SUMIF(Codigo_Produto,Estoque!A28059,[0]!quantidade_adquirida)-SUMIF([0]!cod_saida,Estoque!A28059,quantidade_comprada)","v":0}]
[null,null,null,null,null,{"$f":"SUMIF(Codigo_Produto,Estoque!A28060,[0]!quantidade_adquirida)-SUMIF([0]!cod_saida,Estoque!A28060,quantidade_comprada)","v":0}]
[null,null,null,null,null,{"$f":"SUMIF(Codigo_Produto,Estoque!A28061,[0]!quantidade_adquirida)-SUMIF([0]!cod_saida,Estoque!A28061,quantidade_comprada)","v":0}]
[null,null,null,null,null,{"$f":"SUMIF(Codigo_Produto,Estoque!A28062,[0]!quantidade_adquirida)-SUMIF([0]!cod_saida,Estoque!A28062,quantidade_comprada)","v":0}]
[null,null,null,null,null,{"$f":"SUMIF(Codigo_Produto,Estoque!A28063,[0]!quantidade_adquirida)-SUMIF([0]!cod_saida,Estoque!A28063,quantidade_comprada)","v":0}]
[null,null,null,null,null,{"$f":"SUMIF(Codigo_Produto,Estoque!A28064,[0]!quantidade_adquirida)-SUMIF([0]!cod_saida,Estoque!A28064,quantidade_comprada)","v":0}]
[null,null,null,null,null,{"$f":"SUMIF(Codigo_Produto,Estoque!A28065,[0]!quantidade_adquirida)-SUMIF([0]!cod_saida,Estoque!A28065,quantidade_comprada)","v":0}]
[null,null,null,null,null,{"$f":"SUMIF(Codigo_Produto,Estoque!A28066,[0]!quantidade_adquirida)-SUMIF([0]!cod_saida,Estoque!A28066,quantidade_comprada)","v":0}]
[null,null,null,null,null,{"$f":"SUMIF(Codigo_Produto,Estoque!A28067,[0]!quantidade_adquirida)-SUMIF([0]!cod_saida,Estoque!A28067,quantidade_comprada)","v":0}]
[null,null,null,null,null,{"$f":"SUMIF(Codigo_Produto,Estoque!A28068,[0]!quantidade_adquirida)-SUMIF([0]!cod_saida,Estoque!A28068,quantidade_comprada)","v":0}]
[null,null,null,null,null,{"$f":"SUMIF(Codigo_Produto,Estoque!A28069,[0]!quantidade_adquirida)-SUMIF([0]!cod_saida,Estoque!A28069,quantidade_comprada)","v":0}]
[null,null,null,null,null,{"$f":"SUMIF(Codigo_Produto,Estoque!A28070,[0]!quantidade_adquirida)-SUMIF([0]!cod_saida,Estoque!A28070,quantidade_comprada)","v":0}]
[null,null,null,null,null,{"$f":"SUMIF(Codigo_Produto,Estoque!A28071,[0]!quantidade_adquirida)-SUMIF([0]!cod_saida,Estoque!A28071,quantidade_comprada)","v":0}]
[null,null,null,null,null,{"$f":"SUMIF(Codigo_Produto,Estoque!A28072,[0]!quantidade_adquirida)-SUMIF([0]!cod_saida,Estoque!A28072,quantidade_comprada)","v":0}]
[null,null,null,null,null,{"$f":"SUMIF(Codigo_Produto,Estoque!A28073,[0]!quantidade_adquirida)-SUMIF([0]!cod_saida,Estoque!A28073,quantidade_comprada)","v":0}]
[null,null,null,null,null,{"$f":"SUMIF(Codigo_Produto,Estoque!A28074,[0]!quantidade_adquirida)-SUMIF([0]!cod_saida,Estoque!A28074,quantidade_comprada)","v":0}]
[null,null,null,null,null,{"$f":"SUMIF(Codigo_Produto,Estoque!A28075,[0]!quantidade_adquirida)-SUMIF([0]!cod_saida,Estoque!A28075,quantidade_comprada)","v":0}]
[null,null,null,null,null,{"$f":"SUMIF(Codigo_Produto,Estoque!A28076,[0]!quantidade_adquirida)-SUMIF([0]!cod_saida,Estoque!A28076,quantidade_comprada)","v":0}]
[null,null,null,null,null,{"$f":"SUMIF(Codigo_Produto,Estoque!A28077,[0]!quantidade_adquirida)-SUMIF([0]!cod_saida,Estoque!A28077,quantidade_comprada)","v":0}]
[null,null,null,null,null,{"$f":"SUMIF(Codigo_Produto,Estoque!A28078,[0]!quantidade_adquirida)-SUMIF([0]!cod_saida,Estoque!A28078,quantidade_comprada)","v":0}]
[null,null,null,null,null,{"$f":"SUMIF(Codigo_Produto,Estoque!A28079,[0]!quantidade_adquirida)-SUMIF([0]!cod_saida,Estoque!A28079,quantidade_comprada)","v":0}]
[null,null,null,null,null,{"$f":"SUMIF(Codigo_Produto,Estoque!A28080,[0]!quantidade_adquirida)-SUMIF([0]!cod_saida,Estoque!A28080,quantidade_comprada)","v":0}]
[null,null,null,null,null,{"$f":"SUMIF(Codigo_Produto,Estoque!A28081,[0]!quantidade_adquirida)-SUMIF([0]!cod_saida,Estoque!A28081,quantidade_comprada)","v":0}]
[null,null,null,null,null,{"$f":"SUMIF(Codigo_Produto,Estoque!A28082,[0]!quantidade_adquirida)-SUMIF([0]!cod_saida,Estoque!A28082,quantidade_comprada)","v":0}]
[null,null,null,null,null,{"$f":"SUMIF(Codigo_Produto,Estoque!A28083,[0]!quantidade_adquirida)-SUMIF([0]!cod_saida,Estoque!A28083,quantidade_comprada)","v":0}]
[null,null,null,null,null,{"$f":"SUMIF(Codigo_Produto,Estoque!A28084,[0]!quantidade_adquirida)-SUMIF([0]!cod_saida,Estoque!A28084,quantidade_comprada)","v":0}]
[null,null,null,null,null,{"$f":"SUMIF(Codigo_Produto,Estoque!A28085,[0]!quantidade_adquirida)-SUMIF([0]!cod_saida,Estoque!A28085,quantidade_comprada)","v":0}]
[null,null,null,null,null,{"$f":"SUMIF(Codigo_Produto,Estoque!A28086,[0]!quantidade_adquirida)-SUMIF([0]!cod_saida,Estoque!A28086,quantidade_comprada)","v":0}]
[null,null,null,null,null,{"$f":"SUMIF(Codigo_Produto,Estoque!A28087,[0]!quantidade_adquirida)-SUMIF([0]!cod_saida,Estoque!A28087,quantidade_comprada)","v":0}]
[null,null,null,null,null,{"$f":"SUMIF(Codigo_Produto,Estoque!A28088,[0]!quantidade_adquirida)-SUMIF([0]!cod_saida,Estoque!A28088,quantidade_comprada)","v":0}]
[null,null,null,null,null,{"$f":"SUMIF(Codigo_Produto,Estoque!A28089,[0]!quantidade_adquirida)-SUMIF([0]!cod_saida,Estoque!A28089,quantidade_comprada)","v":0}]
[null,null,null,null,null,{"$f":"SUMIF(Codigo_Produto,Estoque!A28090,[0]!quantidade_adquirida)-SUMIF([0]!cod_saida,Estoque!A28090,quantidade_comprada)","v":0}]
[null,null,null,null,null,{"$f":"SUMIF(Codigo_Produto,Estoque!A28091,[0]!quantidade_adquirida)-SUMIF([0]!cod_saida,Estoque!A28091,quantidade_comprada)","v":0}]
[null,null,null,null,null,{"$f":"SUMIF(Codigo_Produto,Estoque!A28092,[0]!quantidade_adquirida)-SUMIF([0]!cod_saida,Estoque!A28092,quantidade_comprada)","v":0}]
[null,null,null,null,null,{"$f":"SUMIF(Codigo_Produto,Estoque!A28093,[0]!quantidade_adquirida)-SUMIF([0]!cod_saida,Estoque!A28093,quantidade_comprada)","v":0}]
[null,null,null,null,null,{"$f":"SUMIF(Codigo_Produto,Estoque!A28094,[0]!quantidade_adquirida)-SUMIF([0]!cod_saida,Estoque!A28094,quantidade_comprada)","v":0}]
[null,null,null,null,null,{"$f":"SUMIF(Codigo_Produto,Estoque!A28095,[0]!quantidade_adquirida)-SUMIF([0]!cod_saida,Estoque!A28095,quantidade_comprada)","v":0}]
[null,null,null,null,null,{"$f":"SUMIF(Codigo_Produto,Estoque!A28096,[0]!quantidade_adquirida)-SUMIF([0]!cod_saida,Estoque!A28096,quantidade_comprada)","v":0}]
[null,null,null,null,null,{"$f":"SUMIF(Codigo_Produto,Estoque!A28097,[0]!quantidade_adquirida)-SUMIF([0]!cod_saida,Estoque!A28097,quantidade_comprada)","v":0}]
[null,null,null,null,null,{"$f":"SUMIF(Codigo_Produto,Estoque!A28098,[0]!quantidade_adquirida)-SUMIF([0]!cod_saida,Estoque!A28098,quantidade_comprada)","v":0}]
[null,null,null,null,null,{"$f":"SUMIF(Codigo_Produto,Estoque!A28099,[0]!quantidade_adquirida)-SUMIF([0]!cod_saida,Estoque!A28099,quantidade_comprada)","v":0}]
[null,null,null,null,null,{"$f":"SUMIF(Codigo_Produto,Estoque!A28100,[0]!quantidade_adquirida)-SUMIF([0]!cod_saida,Estoque!A28100,quantidade_comprada)","v":0}]
[null,null,null,null,null,{"$f":"SUMIF(Codigo_Produto,Estoque!A28101,[0]!quantidade_adquirida)-SUMIF([0]!cod_saida,Estoque!A28101,quantidade_comprada)","v":0}]
[null,null,null,null,null,{"$f":"SUMIF(Codigo_Produto,Estoque!A28102,[0]!quantidade_adquirida)-SUMIF([0]!cod_saida,Estoque!A28102,quantidade_comprada)","v":0}]
[null,null,null,null,null,{"$f":"SUMIF(Codigo_Produto,Estoque!A28103,[0]!quantidade_adquirida)-SUMIF([0]!cod_saida,Estoque!A28103,quantidade_comprada)","v":0}]
[null,null,null,null,null,{"$f":"SUMIF(Codigo_Produto,Estoque!A28104,[0]!quantidade_adquirida)-SUMIF([0]!cod_saida,Estoque!A28104,quantidade_comprada)","v":0}]
[null,null,null,null,null,{"$f":"SUMIF(Codigo_Produto,Estoque!A28105,[0]!quantidade_adquirida)-SUMIF([0]!cod_saida,Estoque!A28105,quantidade_comprada)","v":0}]
[null,null,null,null,null,{"$f":"SUMIF(Codigo_Produto,Estoque!A28106,[0]!quantidade_adquirida)-SUMIF([0]!cod_saida,Estoque!A28106,quantidade_comprada)","v":0}]
[null,null,null,null,null,{"$f":"SUMIF(Codigo_Produto,Estoque!A28107,[0]!quantidade_adquirida)-SUMIF([0]!cod_saida,Estoque!A28107,quantidade_comprada)","v":0}]
[null,null,null,null,null,{"$f":"SUMIF(Codigo_Produto,Estoque!A28108,[0]!quantidade_adquirida)-SUMIF([0]!cod_saida,Estoque!A28108,quantidade_comprada)","v":0}]
[null,null,null,null,null,{"$f":"SUMIF(Codigo_Produto,Estoque!A28109,[0]!quantidade_adquirida)-SUMIF([0]!cod_saida,Estoque!A28109,quantidade_comprada)","v":0}]
[null,null,null,null,null,{"$f":"SUMIF(Codigo_Produto,Estoque!A28110,[0]!quantidade_adquirida)-SUMIF([0]!cod_saida,Estoque!A28110,quantidade_comprada)","v":0}]
[null,null,null,null,null,{"$f":"SUMIF(Codigo_Produto,Estoque!A28111,[0]!quantidade_adquirida)-SUMIF([0]!cod_saida,Estoque!A28111,quantidade_comprada)","v":0}]
[null,null,null,null,null,{"$f":"SUMIF(Codigo_Produto,Estoque!A28112,[0]!quantidade_adquirida)-SUMIF([0]!cod_saida,Estoque!A28112,quantidade_comprada)","v":0}]
[null,null,null,null,null,{"$f":"SUMIF(Codigo_Produto,Estoque!A28113,[0]!quantidade_adquirida)-SUMIF([0]!cod_saida,Estoque!A28113,quantidade_comprada)","v":0}]
[null,null,null,null,null,{"$f":"SUMIF(Codigo_Produto,Estoque!A28114,[0]!quantidade_adquirida)-SUMIF([0]!cod_saida,Estoque!A28114,quantidade_comprada)","v":0}]
[null,null,null,null,null,{"$f":"SUMIF(Codigo_Produto,Estoque!A28115,[0]!quantidade_adquirida)-SUMIF([0]!cod_saida,Estoque!A28115,quantidade_comprada)","v":0}]
[null,null,null,null,null,{"$f":"SUMIF(Codigo_Produto,Estoque!A28116,[0]!quantidade_adquirida)-SUMIF([0]!cod_saida,Estoque!A28116,quantidade_comprada)","v":0}]
[null,null,null,null,null,{"$f":"SUMIF(Codigo_Produto,Estoque!A28117,[0]!quantidade_adquirida)-SUMIF([0]!cod_saida,Estoque!A28117,quantidade_comprada)","v":0}]
[null,null,null,null,null,{"$f":"SUMIF(Codigo_Produto,Estoque!A28118,[0]!quantidade_adquirida)-SUMIF([0]!cod_saida,Estoque!A28118,quantidade_comprada)","v":0}]
[null,null,null,null,null,{"$f":"SUMIF(Codigo_Produto,Estoque!A28119,[0]!quantidade_adquirida)-SUMIF([0]!cod_saida,Estoque!A28119,quantidade_comprada)","v":0}]
[null,null,null,null,null,{"$f":"SUMIF(Codigo_Produto,Estoque!A28120,[0]!quantidade_adquirida)-SUMIF([0]!cod_saida,Estoque!A28120,quantidade_comprada)","v":0}]
[null,null,null,null,null,{"$f":"SUMIF(Codigo_Produto,Estoque!A28121,[0]!quantidade_adquirida)-SUMIF([0]!cod_saida,Estoque!A28121,quantidade_comprada)","v":0}]
[null,null,null,null,null,{"$f":"SUMIF(Codigo_Produto,Estoque!A28122,[0]!quantidade_adquirida)-SUMIF([0]!cod_saida,Estoque!A28122,quantidade_comprada)","v":0}]
[null,null,null,null,null,{"$f":"SUMIF(Codigo_Produto,Estoque!A28123,[0]!quantidade_adquirida)-SUMIF([0]!cod_saida,Estoque!A28123,quantidade_comprada)","v":0}]
[null,null,null,null,null,{"$f":"SUMIF(Codigo_Produto,Estoque!A28124,[0]!quantidade_adquirida)-SUMIF([0]!cod_saida,Estoque!A28124,quantidade_comprada)","v":0}]
[null,null,null,null,null,{"$f":"SUMIF(Codigo_Produto,Estoque!A28125,[0]!quantidade_adquirida)-SUMIF([0]!cod_saida,Estoque!A28125,quantidade_comprada)","v":0}]
[null,null,null,null,null,{"$f":"SUMIF(Codigo_Produto,Estoque!A28126,[0]!quantidade_adquirida)-SUMIF([0]!cod_saida,Estoque!A28126,quantidade_comprada)","v":0}]
[null,null,null,null,null,{"$f":"SUMIF(Codigo_Produto,Estoque!A28127,[0]!quantidade_adquirida)-SUMIF([0]!cod_saida,Estoque!A28127,quantidade_comprada)","v":0}]
[null,null,null,null,null,{"$f":"SUMIF(Codigo_Produto,Estoque!A28128,[0]!quantidade_adquirida)-SUMIF([0]!cod_saida,Estoque!A28128,quantidade_comprada)","v":0}]
[null,null,null,null,null,{"$f":"SUMIF(Codigo_Produto,Estoque!A28129,[0]!quantidade_adquirida)-SUMIF([0]!cod_saida,Estoque!A28129,quantidade_comprada)","v":0}]
[null,null,null,null,null,{"$f":"SUMIF(Codigo_Produto,Estoque!A28130,[0]!quantidade_adquirida)-SUMIF([0]!cod_saida,Estoque!A28130,quantidade_comprada)","v":0}]
[null,null,null,null,null,{"$f":"SUMIF(Codigo_Produto,Estoque!A28131,[0]!quantidade_adquirida)-SUMIF([0]!cod_saida,Estoque!A28131,quantidade_comprada)","v":0}]
[null,null,null,null,null,{"$f":"SUMIF(Codigo_Produto,Estoque!A28132,[0]!quantidade_adquirida)-SUMIF([0]!cod_saida,Estoque!A28132,quantidade_comprada)","v":0}]
[null,null,null,null,null,{"$f":"SUMIF(Codigo_Produto,Estoque!A28133,[0]!quantidade_adquirida)-SUMIF([0]!cod_saida,Estoque!A28133,quantidade_comprada)","v":0}]
[null,null,null,null,null,{"$f":"SUMIF(Codigo_Produto,Estoque!A28134,[0]!quantidade_adquirida)-SUMIF([0]!cod_saida,Estoque!A28134,quantidade_comprada)","v":0}]
[null,null,null,null,null,{"$f":"SUMIF(Codigo_Produto,Estoque!A28135,[0]!quantidade_adquirida)-SUMIF([0]!cod_saida,Estoque!A28135,quantidade_comprada)","v":0}]
[null,null,null,null,null,{"$f":"SUMIF(Codigo_Produto,Estoque!A28136,[0]!quantidade_adquirida)-SUMIF([0]!cod_saida,Estoque!A28136,quantidade_comprada)","v":0}]
[null,null,null,null,null,{"$f":"SUMIF(Codigo_Produto,Estoque!A28137,[0]!quantidade_adquirida)-SUMIF([0]!cod_saida,Estoque!A28137,quantidade_comprada)","v":0}]
[null,null,null,null,null,{"$f":"SUMIF(Codigo_Produto,Estoque!A28138,[0]!quantidade_adquirida)-SUMIF([0]!cod_saida,Estoque!A28138,quantidade_comprada)","v":0}]
[null,null,null,null,null,{"$f":"SUMIF(Codigo_Produto,Estoque!A28139,[0]!quantidade_adquirida)-SUMIF([0]!cod_saida,Estoque!A28139,quantidade_comprada)","v":0}]
[null,null,null,null,null,{"$f":"SUMIF(Codigo_Produto,Estoque!A28140,[0]!quantidade_adquirida)-SUMIF([0]!cod_saida,Estoque!A28140,quantidade_comprada)","v":0}]
[null,null,null,null,null,{"$f":"SUMIF(Codigo_Produto,Estoque!A28141,[0]!quantidade_adquirida)-SUMIF([0]!cod_saida,Estoque!A28141,quantidade_comprada)","v":0}]
[null,null,null,null,null,{"$f":"SUMIF(Codigo_Produto,Estoque!A28142,[0]!quantidade_adquirida)-SUMIF([0]!cod_saida,Estoque!A28142,quantidade_comprada)","v":0}]
[null,null,null,null,null,{"$f":"SUMIF(Codigo_Produto,Estoque!A28143,[0]!quantidade_adquirida)-SUMIF([0]!cod_saida,Estoque!A28143,quantidade_comprada)","v":0}]
[null,null,null,null,null,{"$f":"SUMIF(Codigo_Produto,Estoque!A28144,[0]!quantidade_adquirida)-SUMIF([0]!cod_saida,Estoque!A28144,quantidade_comprada)","v":0}]
[null,null,null,null,null,{"$f":"SUMIF(Codigo_Produto,Estoque!A28145,[0]!quantidade_adquirida)-SUMIF([0]!cod_saida,Estoque!A28145,quantidade_comprada)","v":0}]
[null,null,null,null,null,{"$f":"SUMIF(Codigo_Produto,Estoque!A28146,[0]!quantidade_adquirida)-SUMIF([0]!cod_saida,Estoque!A28146,quantidade_comprada)","v":0}]
[null,null,null,null,null,{"$f":"SUMIF(Codigo_Produto,Estoque!A28147,[0]!quantidade_adquirida)-SUMIF([0]!cod_saida,Estoque!A28147,quantidade_comprada)","v":0}]
[null,null,null,null,null,{"$f":"SUMIF(Codigo_Produto,Estoque!A28148,[0]!quantidade_adquirida)-SUMIF([0]!cod_saida,Estoque!A28148,quantidade_comprada)","v":0}]
[null,null,null,null,null,{"$f":"SUMIF(Codigo_Produto,Estoque!A28149,[0]!quantidade_adquirida)-SUMIF([0]!cod_saida,Estoque!A28149,quantidade_comprada)","v":0}]
[null,null,null,null,null,{"$f":"SUMIF(Codigo_Produto,Estoque!A28150,[0]!quantidade_adquirida)-SUMIF([0]!cod_saida,Estoque!A28150,quantidade_comprada)","v":0}]
[null,null,null,null,null,{"$f":"SUMIF(Codigo_Produto,Estoque!A28151,[0]!quantidade_adquirida)-SUMIF([0]!cod_saida,Estoque!A28151,quantidade_comprada)","v":0}]
[null,null,null,null,null,{"$f":"SUMIF(Codigo_Produto,Estoque!A28152,[0]!quantidade_adquirida)-SUMIF([0]!cod_saida,Estoque!A28152,quantidade_comprada)","v":0}]
[null,null,null,null,null,{"$f":"SUMIF(Codigo_Produto,Estoque!A28153,[0]!quantidade_adquirida)-SUMIF([0]!cod_saida,Estoque!A28153,quantidade_comprada)","v":0}]
[null,null,null,null,null,{"$f":"SUMIF(Codigo_Produto,Estoque!A28154,[0]!quantidade_adquirida)-SUMIF([0]!cod_saida,Estoque!A28154,quantidade_comprada)","v":0}]
[null,null,null,null,null,{"$f":"SUMIF(Codigo_Produto,Estoque!A28155,[0]!quantidade_adquirida)-SUMIF([0]!cod_saida,Estoque!A28155,quantidade_comprada)","v":0}]
[null,null,null,null,null,{"$f":"SUMIF(Codigo_Produto,Estoque!A28156,[0]!quantidade_adquirida)-SUMIF([0]!cod_saida,Estoque!A28156,quantidade_comprada)","v":0}]
[null,null,null,null,null,{"$f":"SUMIF(Codigo_Produto,Estoque!A28157,[0]!quantidade_adquirida)-SUMIF([0]!cod_saida,Estoque!A28157,quantidade_comprada)","v":0}]
[null,null,null,null,null,{"$f":"SUMIF(Codigo_Produto,Estoque!A28158,[0]!quantidade_adquirida)-SUMIF([0]!cod_saida,Estoque!A28158,quantidade_comprada)","v":0}]
[null,null,null,null,null,{"$f":"SUMIF(Codigo_Produto,Estoque!A28159,[0]!quantidade_adquirida)-SUMIF([0]!cod_saida,Estoque!A28159,quantidade_comprada)","v":0}]
[null,null,null,null,null,{"$f":"SUMIF(Codigo_Produto,Estoque!A28160,[0]!quantidade_adquirida)-SUMIF([0]!cod_saida,Estoque!A28160,quantidade_comprada)","v":0}]
[null,null,null,null,null,{"$f":"SUMIF(Codigo_Produto,Estoque!A28161,[0]!quantidade_adquirida)-SUMIF([0]!cod_saida,Estoque!A28161,quantidade_comprada)","v":0}]
[null,null,null,null,null,{"$f":"SUMIF(Codigo_Produto,Estoque!A28162,[0]!quantidade_adquirida)-SUMIF([0]!cod_saida,Estoque!A28162,quantidade_comprada)","v":0}]
[null,null,null,null,null,{"$f":"SUMIF(Codigo_Produto,Estoque!A28163,[0]!quantidade_adquirida)-SUMIF([0]!cod_saida,Estoque!A28163,quantidade_comprada)","v":0}]
[null,null,null,null,null,{"$f":"SUMIF(Codigo_Produto,Estoque!A28164,[0]!quantidade_adquirida)-SUMIF([0]!cod_saida,Estoque!A28164,quantidade_comprada)","v":0}]
[null,null,null,null,null,{"$f":"SUMIF(Codigo_Produto,Estoque!A28165,[0]!quantidade_adquirida)-SUMIF([0]!cod_saida,Estoque!A28165,quantidade_comprada)","v":0}]
[null,null,null,null,null,{"$f":"SUMIF(Codigo_Produto,Estoque!A28166,[0]!quantidade_adquirida)-SUMIF([0]!cod_saida,Estoque!A28166,quantidade_comprada)","v":0}]
[null,null,null,null,null,{"$f":"SUMIF(Codigo_Produto,Estoque!A28167,[0]!quantidade_adquirida)-SUMIF([0]!cod_saida,Estoque!A28167,quantidade_comprada)","v":0}]
[null,null,null,null,null,{"$f":"SUMIF(Codigo_Produto,Estoque!A28168,[0]!quantidade_adquirida)-SUMIF([0]!cod_saida,Estoque!A28168,quantidade_comprada)","v":0}]
[null,null,null,null,null,{"$f":"SUMIF(Codigo_Produto,Estoque!A28169,[0]!quantidade_adquirida)-SUMIF([0]!cod_saida,Estoque!A28169,quantidade_comprada)","v":0}]
[null,null,null,null,null,{"$f":"SUMIF(Codigo_Produto,Estoque!A28170,[0]!quantidade_adquirida)-SUMIF([0]!cod_saida,Estoque!A28170,quantidade_comprada)","v":0}]
[null,null,null,null,null,{"$f":"SUMIF(Codigo_Produto,Estoque!A28171,[0]!quantidade_adquirida)-SUMIF([0]!cod_saida,Estoque!A28171,quantidade_comprada)","v":0}]
[null,null,null,null,null,{"$f":"SUMIF(Codigo_Produto,Estoque!A28172,[0]!quantidade_adquirida)-SUMIF([0]!cod_saida,Estoque!A28172,quantidade_comprada)","v":0}]
[null,null,null,null,null,{"$f":"SUMIF(Codigo_Produto,Estoque!A28173,[0]!quantidade_adquirida)-SUMIF([0]!cod_saida,Estoque!A28173,quantidade_comprada)","v":0}]
[null,null,null,null,null,{"$f":"SUMIF(Codigo_Produto,Estoque!A28174,[0]!quantidade_adquirida)-SUMIF([0]!cod_saida,Estoque!A28174,quantidade_comprada)","v":0}]
[null,null,null,null,null,{"$f":"SUMIF(Codigo_Produto,Estoque!A28175,[0]!quantidade_adquirida)-SUMIF([0]!cod_saida,Estoque!A28175,quantidade_comprada)","v":0}]
[null,null,null,null,null,{"$f":"SUMIF(Codigo_Produto,Estoque!A28176,[0]!quantidade_adquirida)-SUMIF([0]!cod_saida,Estoque!A28176,quantidade_comprada)","v":0}]
[null,null,null,null,null,{"$f":"SUMIF(Codigo_Produto,Estoque!A28177,[0]!quantidade_adquirida)-SUMIF([0]!cod_saida,Estoque!A28177,quantidade_comprada)","v":0}]
[null,null,null,null,null,{"$f":"SUMIF(Codigo_Produto,Estoque!A28178,[0]!quantidade_adquirida)-SUMIF([0]!cod_saida,Estoque!A28178,quantidade_comprada)","v":0}]
[null,null,null,null,null,{"$f":"SUMIF(Codigo_Produto,Estoque!A28179,[0]!quantidade_adquirida)-SUMIF([0]!cod_saida,Estoque!A28179,quantidade_comprada)","v":0}]
[null,null,null,null,null,{"$f":"SUMIF(Codigo_Produto,Estoque!A28180,[0]!quantidade_adquirida)-SUMIF([0]!cod_saida,Estoque!A28180,quantidade_comprada)","v":0}]
[null,null,null,null,null,{"$f":"SUMIF(Codigo_Produto,Estoque!A28181,[0]!quantidade_adquirida)-SUMIF([0]!cod_saida,Estoque!A28181,quantidade_comprada)","v":0}]
[null,null,null,null,null,{"$f":"SUMIF(Codigo_Produto,Estoque!A28182,[0]!quantidade_adquirida)-SUMIF([0]!cod_saida,Estoque!A28182,quantidade_comprada)","v":0}]
[null,null,null,null,null,{"$f":"SUMIF(Codigo_Produto,Estoque!A28183,[0]!quantidade_adquirida)-SUMIF([0]!cod_saida,Estoque!A28183,quantidade_comprada)","v":0}]
[null,null,null,null,null,{"$f":"SUMIF(Codigo_Produto,Estoque!A28184,[0]!quantidade_adquirida)-SUMIF([0]!cod_saida,Estoque!A28184,quantidade_comprada)","v":0}]
[null,null,null,null,null,{"$f":"SUMIF(Codigo_Produto,Estoque!A28185,[0]!quantidade_adquirida)-SUMIF([0]!cod_saida,Estoque!A28185,quantidade_comprada)","v":0}]
[null,null,null,null,null,{"$f":"SUMIF(Codigo_Produto,Estoque!A28186,[0]!quantidade_adquirida)-SUMIF([0]!cod_saida,Estoque!A28186,quantidade_comprada)","v":0}]
[null,null,null,null,null,{"$f":"SUMIF(Codigo_Produto,Estoque!A28187,[0]!quantidade_adquirida)-SUMIF([0]!cod_saida,Estoque!A28187,quantidade_comprada)","v":0}]
[null,null,null,null,null,{"$f":"SUMIF(Codigo_Produto,Estoque!A28188,[0]!quantidade_adquirida)-SUMIF([0]!cod_saida,Estoque!A28188,quantidade_comprada)","v":0}]
[null,null,null,null,null,{"$f":"SUMIF(Codigo_Produto,Estoque!A28189,[0]!quantidade_adquirida)-SUMIF([0]!cod_saida,Estoque!A28189,quantidade_comprada)","v":0}]
[null,null,null,null,null,{"$f":"SUMIF(Codigo_Produto,Estoque!A28190,[0]!quantidade_adquirida)-SUMIF([0]!cod_saida,Estoque!A28190,quantidade_comprada)","v":0}]
[null,null,null,null,null,{"$f":"SUMIF(Codigo_Produto,Estoque!A28191,[0]!quantidade_adquirida)-SUMIF([0]!cod_saida,Estoque!A28191,quantidade_comprada)","v":0}]
[null,null,null,null,null,{"$f":"SUMIF(Codigo_Produto,Estoque!A28192,[0]!quantidade_adquirida)-SUMIF([0]!cod_saida,Estoque!A28192,quantidade_comprada)","v":0}]
[null,null,null,null,null,{"$f":"SUMIF(Codigo_Produto,Estoque!A28193,[0]!quantidade_adquirida)-SUMIF([0]!cod_saida,Estoque!A28193,quantidade_comprada)","v":0}]
[null,null,null,null,null,{"$f":"SUMIF(Codigo_Produto,Estoque!A28194,[0]!quantidade_adquirida)-SUMIF([0]!cod_saida,Estoque!A28194,quantidade_comprada)","v":0}]
[null,null,null,null,null,{"$f":"SUMIF(Codigo_Produto,Estoque!A28195,[0]!quantidade_adquirida)-SUMIF([0]!cod_saida,Estoque!A28195,quantidade_comprada)","v":0}]
[null,null,null,null,null,{"$f":"SUMIF(Codigo_Produto,Estoque!A28196,[0]!quantidade_adquirida)-SUMIF([0]!cod_saida,Estoque!A28196,quantidade_comprada)","v":0}]
[null,null,null,null,null,{"$f":"SUMIF(Codigo_Produto,Estoque!A28197,[0]!quantidade_adquirida)-SUMIF([0]!cod_saida,Estoque!A28197,quantidade_comprada)","v":0}]
[null,null,null,null,null,{"$f":"SUMIF(Codigo_Produto,Estoque!A28198,[0]!quantidade_adquirida)-SUMIF([0]!cod_saida,Estoque!A28198,quantidade_comprada)","v":0}]
[null,null,null,null,null,{"$f":"SUMIF(Codigo_Produto,Estoque!A28199,[0]!quantidade_adquirida)-SUMIF([0]!cod_saida,Estoque!A28199,quantidade_comprada)","v":0}]
[null,null,null,null,null,{"$f":"SUMIF(Codigo_Produto,Estoque!A28200,[0]!quantidade_adquirida)-SUMIF([0]!cod_saida,Estoque!A28200,quantidade_comprada)","v":0}]
[null,null,null,null,null,{"$f":"SUMIF(Codigo_Produto,Estoque!A28201,[0]!quantidade_adquirida)-SUMIF([0]!cod_saida,Estoque!A28201,quantidade_comprada)","v":0}]
[null,null,null,null,null,{"$f":"SUMIF(Codigo_Produto,Estoque!A28202,[0]!quantidade_adquirida)-SUMIF([0]!cod_saida,Estoque!A28202,quantidade_comprada)","v":0}]
[null,null,null,null,null,{"$f":"SUMIF(Codigo_Produto,Estoque!A28203,[0]!quantidade_adquirida)-SUMIF([0]!cod_saida,Estoque!A28203,quantidade_comprada)","v":0}]
[null,null,null,null,null,{"$f":"SUMIF(Codigo_Produto,Estoque!A28204,[0]!quantidade_adquirida)-SUMIF([0]!cod_saida,Estoque!A28204,quantidade_comprada)","v":0}]
[null,null,null,null,null,{"$f":"SUMIF(Codigo_Produto,Estoque!A28205,[0]!quantidade_adquirida)-SUMIF([0]!cod_saida,Estoque!A28205,quantidade_comprada)","v":0}]
[null,null,null,null,null,{"$f":"SUMIF(Codigo_Produto,Estoque!A28206,[0]!quantidade_adquirida)-SUMIF([0]!cod_saida,Estoque!A28206,quantidade_comprada)","v":0}]
[null,null,null,null,null,{"$f":"SUMIF(Codigo_Produto,Estoque!A28207,[0]!quantidade_adquirida)-SUMIF([0]!cod_saida,Estoque!A28207,quantidade_comprada)","v":0}]
[null,null,null,null,null,{"$f":"SUMIF(Codigo_Produto,Estoque!A28208,[0]!quantidade_adquirida)-SUMIF([0]!cod_saida,Estoque!A28208,quantidade_comprada)","v":0}]
[null,null,null,null,null,{"$f":"SUMIF(Codigo_Produto,Estoque!A28209,[0]!quantidade_adquirida)-SUMIF([0]!cod_saida,Estoque!A28209,quantidade_comprada)","v":0}]
[null,null,null,null,null,{"$f":"SUMIF(Codigo_Produto,Estoque!A28210,[0]!quantidade_adquirida)-SUMIF([0]!cod_saida,Estoque!A28210,quantidade_comprada)","v":0}]
[null,null,null,null,null,{"$f":"SUMIF(Codigo_Produto,Estoque!A28211,[0]!quantidade_adquirida)-SUMIF([0]!cod_saida,Estoque!A28211,quantidade_comprada)","v":0}]
[null,null,null,null,null,{"$f":"SUMIF(Codigo_Produto,Estoque!A28212,[0]!quantidade_adquirida)-SUMIF([0]!cod_saida,Estoque!A28212,quantidade_comprada)","v":0}]
[null,null,null,null,null,{"$f":"SUMIF(Codigo_Produto,Estoque!A28213,[0]!quantidade_adquirida)-SUMIF([0]!cod_saida,Estoque!A28213,quantidade_comprada)","v":0}]
[null,null,null,null,null,{"$f":"SUMIF(Codigo_Produto,Estoque!A28214,[0]!quantidade_adquirida)-SUMIF([0]!cod_saida,Estoque!A28214,quantidade_comprada)","v":0}]
[null,null,null,null,null,{"$f":"SUMIF(Codigo_Produto,Estoque!A28215,[0]!quantidade_adquirida)-SUMIF([0]!cod_saida,Estoque!A28215,quantidade_comprada)","v":0}]
[null,null,null,null,null,{"$f":"SUMIF(Codigo_Produto,Estoque!A28216,[0]!quantidade_adquirida)-SUMIF([0]!cod_saida,Estoque!A28216,quantidade_comprada)","v":0}]
[null,null,null,null,null,{"$f":"SUMIF(Codigo_Produto,Estoque!A28217,[0]!quantidade_adquirida)-SUMIF([0]!cod_saida,Estoque!A28217,quantidade_comprada)","v":0}]
[null,null,null,null,null,{"$f":"SUMIF(Codigo_Produto,Estoque!A28218,[0]!quantidade_adquirida)-SUMIF([0]!cod_saida,Estoque!A28218,quantidade_comprada)","v":0}]
[null,null,null,null,null,{"$f":"SUMIF(Codigo_Produto,Estoque!A28219,[0]!quantidade_adquirida)-SUMIF([0]!cod_saida,Estoque!A28219,quantidade_comprada)","v":0}]
[null,null,null,null,null,{"$f":"SUMIF(Codigo_Produto,Estoque!A28220,[0]!quantidade_adquirida)-SUMIF([0]!cod_saida,Estoque!A28220,quantidade_comprada)","v":0}]
[null,null,null,null,null,{"$f":"SUMIF(Codigo_Produto,Estoque!A28221,[0]!quantidade_adquirida)-SUMIF([0]!cod_saida,Estoque!A28221,quantidade_comprada)","v":0}]
[null,null,null,null,null,{"$f":"SUMIF(Codigo_Produto,Estoque!A28222,[0]!quantidade_adquirida)-SUMIF([0]!cod_saida,Estoque!A28222,quantidade_comprada)","v":0}]
[null,null,null,null,null,{"$f":"SUMIF(Codigo_Produto,Estoque!A28223,[0]!quantidade_adquirida)-SUMIF([0]!cod_saida,Estoque!A28223,quantidade_comprada)","v":0}]
[null,null,null,null,null,{"$f":"SUMIF(Codigo_Produto,Estoque!A28224,[0]!quantidade_adquirida)-SUMIF([0]!cod_saida,Estoque!A28224,quantidade_comprada)","v":0}]
[null,null,null,null,null,{"$f":"SUMIF(Codigo_Produto,Estoque!A28225,[0]!quantidade_adquirida)-SUMIF([0]!cod_saida,Estoque!A28225,quantidade_comprada)","v":0}]
[null,null,null,null,null,{"$f":"SUMIF(Codigo_Produto,Estoque!A28226,[0]!quantidade_adquirida)-SUMIF([0]!cod_saida,Estoque!A28226,quantidade_comprada)","v":0}]
[null,null,null,null,null,{"$f":"SUMIF(Codigo_Produto,Estoque!A28227,[0]!quantidade_adquirida)-SUMIF([0]!cod_saida,Estoque!A28227,quantidade_comprada)","v":0}]
[null,null,null,null,null,{"$f":"SUMIF(Codigo_Produto,Estoque!A28228,[0]!quantidade_adquirida)-SUMIF([0]!cod_saida,Estoque!A28228,quantidade_comprada)","v":0}]

{"sheet":"Entradas","index":4,"n_rows":5000,"n_cols":7,"rows_kept":5000,"cut":false,"hidden":false,"merged":[[0,0,0,6]]}
["           Entrada de Produtos em Estoque"]
["Data da Compra","Código do Produto","Descrição do Produto","Quantidade Adquirida","Unidade de Medida","Nota fiscal","Preço de Venda"]
["2014-12-01",111,{"$f":"IF(Codigo_Produto=\"\",\"\",VLOOKUP(Codigo_Produto,Itens,2,FALSE))","v":"Memoria Ram"},100,{"$f":"IF(Codigo_Produto=\"\",\"\",VLOOKUP(Codigo_Produto,Itens,3,FALSE))","v":"PÇ"},111,{"$f":"IF(Codigo_Produto=\"\",\"\",VLOOKUP(Codigo_Produto,Itens,5,FALSE))","v":80}]
["2014-12-02",222,"HD",50,"PÇ",222,65]
["2014-12-03",333,"CD Rom",null,"PC",null,15]
["2014-12-12",111,"Memoria Ram",60,"PÇ",6778,80]
["2014-12-13",555,"Pasta termica",10,"PC",7899,120]
["2014-12-14",111,"Memoria Ram",10,"PÇ",56566,80]
["2014-12-15",777,"Processador",20,"PÇ",45454,400]
[null,null,"",null,"",null,""]
[null,null,"",null,"",null,""]
[null,null,"",null,"",null,""]
[null,null,"",null,"",null,""]
[null,null,"",null,"",null,""]
[null,null,"",null,"",null,""]
[null,null,"",null,"",null,""]
[null,null,"",null,"",null,""]
[null,null,"",null,"",null,""]
[null,null,"",null,"",null,""]
[null,null,"",null,"",null,""]
[null,null,"",null,"",null,""]
[null,null,"",null,"",null,""]
[null,null,"",null,"",null,""]
[null,null,"",null,"",null,""]
[null,null,"",null,"",null,""]
[null,null,"",null,"",null,""]
[null,null,"",null,"",null,""]
[null,null,"",null,"",null,""]
[null,null,"",null,"",null,""]
[null,null,"",null,"",null,""]
[null,null,"",null,"",null,""]
[null,null,"",null,"",null,""]
[null,null,"",null,"",null,""]
[null,null,"",null,"",null,""]
[null,null,"",null,"",null,""]
[null,null,"",null,"",null,""]
[null,null,"",null,"",null,""]
[null,null,"",null,"",null,""]
[null,null,"",null,"",null,""]
[null,null,"",null,"",null,""]
[null,null,"",null,"",null,""]
[null,null,"",null,"",null,""]
[null,null,"",null,"",null,""]
[null,null,"",null,"",null,""]
[null,null,"",null,"",null,""]
[null,null,"",null,"",null,""]
[null,null,"",null,"",null,""]
[null,null,"",null,"",null,""]
[null,null,"",null,"",null,""]
[null,null,"",null,"",null,""]
[null,null,"",null,"",null,""]
[null,null,"",null,"",null,""]
[null,null,"",null,"",null,""]
[null,null,"",null,"",null,""]
[null,null,"",null,"",null,""]
[null,null,"",null,"",null,""]
[null,null,"",null,"",null,""]
[null,null,"",null,"",null,""]
[null,null,"",null,"",null,""]
[null,null,"",null,"",null,""]
[null,null,"",null,"",null,""]
[null,null,"",null,"",null,""]
[null,null,"",null,"",null,""]
[null,null,"",null,"",null,""]
[null,null,"",null,"",null,""]
[null,null,"",null,"",null,""]
[null,null,{"$f":"IF(Codigo_Produto=\"\",\"\",VLOOKUP(Codigo_Produto,Itens,2,FALSE))","v":""},null,{"$f":"IF(Codigo_Produto=\"\",\"\",VLOOKUP(Codigo_Produto,Itens,3,FALSE))","v":""},null,{"$f":"IF(Codigo_Produto=\"\",\"\",VLOOKUP(Codigo_Produto,Itens,5,FALSE))","v":""}]
[null,null,"",null,"",null,""]
[null,null,"",null,"",null,""]
[null,null,"",null,"",null,""]
[null,null,"",null,"",null,""]
[null,null,"",null,"",null,""]
[null,null,"",null,"",null,""]
[null,null,"",null,"",null,""]
[null,null,"",null,"",null,""]
[null,null,"",null,"",null,""]
[null,null,"",null,"",null,""]
[null,null,"",null,"",null,""]
[null,null,"",null,"",null,""]
[null,null,"",null,"",null,""]
[null,null,"",null,"",null,""]
[null,null,"",null,"",null,""]
[null,null,"",null,"",null,""]
[null,null,"",null,"",null,""]
[null,null,"",null,"",null,""]
[null,null,"",null,"",null,""]
[null,null,"",null,"",null,""]
[null,null,"",null,"",null,""]
[null,null,"",null,"",null,""]
[null,null,"",null,"",null,""]
[null,null,"",null,"",null,""]
[null,null,"",null,"",null,""]
[null,null,"",null,"",null,""]
[null,null,"",null,"",null,""]
[null,null,"",null,"",null,""]
[null,null,"",null,"",null,""]
[null,null,"",null,"",null,""]
[null,null,"",null,"",null,""]
[null,null,"",null,"",null,""]
[null,null,"",null,"",null,""]
[null,null,"",null,"",null,""]
[null,null,"",null,"",null,""]
[null,null,"",null,"",null,""]
[null,null,"",null,"",null,""]
[null,null,"",null,"",null,""]
[null,null,"",null,"",null,""]
[null,null,"",null,"",null,""]
[null,null,"",null,"",null,""]
[null,null,"",null,"",null,""]
[null,null,"",null,"",null,""]
[null,null,"",null,"",null,""]
[null,null,"",null,"",null,""]
[null,null,"",null,"",null,""]
[null,null,"",null,"",null,""]
[null,null,"",null,"",null,""]
[null,null,"",null,"",null,""]
[null,null,"",null,"",null,""]
[null,null,"",null,"",null,""]
[null,null,"",null,"",null,""]
[null,null,"",null,"",null,""]
[null,null,"",null,"",null,""]
[null,null,"",null,"",null,""]
[null,null,"",null,"",null,""]
[null,null,"",null,"",null,""]
[null,null,"",null,"",null,""]
[null,null,"",null,"",null,""]
[null,null,"",null,"",null,""]
[null,null,"",null,"",null,""]
[null,null,"",null,"",null,""]
[null,null,"",null,"",null,""]
[null,null,{"$f":"IF(Codigo_Produto=\"\",\"\",VLOOKUP(Codigo_Produto,Itens,2,FALSE))","v":""},null,{"$f":"IF(Codigo_Produto=\"\",\"\",VLOOKUP(Codigo_Produto,Itens,3,FALSE))","v":""},null,{"$f":"IF(Codigo_Produto=\"\",\"\",VLOOKUP(Codigo_Produto,Itens,5,FALSE))","v":""}]
[null,null,"",null,"",null,""]
[null,null,"",null,"",null,""]
[null,null,"",null,"",null,""]
[null,null,"",null,"",null,""]
[null,null,"",null,"",null,""]
[null,null,"",null,"",null,""]
[null,null,"",null,"",null,""]
[null,null,"",null,"",null,""]
[null,null,"",null,"",null,""]
[null,null,"",null,"",null,""]
[null,null,"",null,"",null,""]
[null,null,"",null,"",null,""]
[null,null,"",null,"",null,""]
[null,null,"",null,"",null,""]
[null,null,"",null,"",null,""]
[null,null,"",null,"",null,""]
[null,null,"",null,"",null,""]
[null,null,"",null,"",null,""]
[null,null,"",null,"",null,""]
[null,null,"",null,"",null,""]
[null,null,"",null,"",null,""]
[null,null,"",null,"",null,""]
[null,null,"",null,"",null,""]
[null,null,"",null,"",null,""]
[null,null,"",null,"",null,""]
[null,null,"",null,"",null,""]
[null,null,"",null,"",null,""]
[null,null,"",null,"",null,""]
[null,null,"",null,"",null,""]
[null,null,"",null,"",null,""]
[null,null,"",null,"",null,""]
[null,null,"",null,"",null,""]
[null,null,"",null,"",null,""]
[null,null,"",null,"",null,""]
[null,null,"",null,"",null,""]
[null,null,"",null,"",null,""]
[null,null,"",null,"",null,""]
[null,null,"",null,"",null,""]
[null,null,"",null,"",null,""]
[null,null,"",null,"",null,""]
[null,null,"",null,"",null,""]
[null,null,"",null,"",null,""]
[null,null,"",null,"",null,""]
[null,null,"",null,"",null,""]
[null,null,"",null,"",null,""]
[null,null,"",null,"",null,""]
[null,null,"",null,"",null,""]
[null,null,"",null,"",null,""]
[null,null,"",null,"",null,""]
[null,null,"",null,"",null,""]
[null,null,"",null,"",null,""]
[null,null,"",null,"",null,""]
[null,null,"",null,"",null,""]
[null,null,"",null,"",null,""]
[null,null,"",null,"",null,""]
[null,null,"",null,"",null,""]
[null,null,"",null,"",null,""]
[null,null,"",null,"",null,""]
[null,null,"",null,"",null,""]
[null,null,"",null,"",null,""]
[null,null,"",null,"",null,""]
[null,null,"",null,"",null,""]
[null,null,"",null,"",null,""]
[null,null,{"$f":"IF(Codigo_Produto=\"\",\"\",VLOOKUP(Codigo_Produto,Itens,2,FALSE))","v":""},null,{"$f":"IF(Codigo_Produto=\"\",\"\",VLOOKUP(Codigo_Produto,Itens,3,FALSE))","v":""},null,{"$f":"IF(Codigo_Produto=\"\",\"\",VLOOKUP(Codigo_Produto,Itens,5,FALSE))","v":""}]
[null,null,"",null,"",null,""]
[null,null,"",null,"",null,""]
[null,null,"",null,"",null,""]
[null,null,"",null,"",null,""]
[null,null,"",null,"",null,""]
[null,null,"",null,"",null,""]
[null,null,"",null,"",null,""]
[null,null,"",null,"",null,""]
[null,null,"",null,"",null,""]
[null,null,"",null,"",null,""]
[null,null,"",null,"",null,""]
[null,null,"",null,"",null,""]
[null,null,"",null,"",null,""]
[null,null,"",null,"",null,""]
[null,null,"",null,"",null,""]
[null,null,"",null,"",null,""]
[null,null,"",null,"",null,""]
[null,null,"",null,"",null,""]
[null,null,"",null,"",null,""]
[null,null,"",null,"",null,""]
[null,null,"",null,"",null,""]
[null,null,"",null,"",null,""]
[null,null,"",null,"",null,""]
[null,null,"",null,"",null,""]
[null,null,"",null,"",null,""]
[null,null,"",null,"",null,""]
[null,null,"",null,"",null,""]
[null,null,"",null,"",null,""]
[null,null,"",null,"",null,""]
[null,null,"",null,"",null,""]
[null,null,"",null,"",null,""]
[null,null,"",null,"",null,""]
[null,null,"",null,"",null,""]
[null,null,"",null,"",null,""]
[null,null,"",null,"",null,""]
[null,null,"",null,"",null,""]
[null,null,"",null,"",null,""]
[null,null,"",null,"",null,""]
[null,null,"",null,"",null,""]
[null,null,"",null,"",null,""]
[null,null,"",null,"",null,""]
[null,null,"",null,"",null,""]
[null,null,"",null,"",null,""]
[null,null,"",null,"",null,""]
[null,null,"",null,"",null,""]
[null,null,"",null,"",null,""]
[null,null,"",null,"",null,""]
[null,null,"",null,"",null,""]
[null,null,"",null,"",null,""]
[null,null,"",null,"",null,""]
[null,null,"",null,"",null,""]
[null,null,"",null,"",null,""]
[null,null,"",null,"",null,""]
[null,null,"",null,"",null,""]
[null,null,"",null,"",null,""]
[null,null,"",null,"",null,""]
[null,null,"",null,"",null,""]
[null,null,"",null,"",null,""]
[null,null,"",null,"",null,""]
[null,null,"",null,"",null,""]
[null,null,"",null,"",null,""]
[null,null,"",null,"",null,""]
[null,null,"",null,"",null,""]
[null,null,{"$f":"IF(Codigo_Produto=\"\",\"\",VLOOKUP(Codigo_Produto,Itens,2,FALSE))","v":""},null,{"$f":"IF(Codigo_Produto=\"\",\"\",VLOOKUP(Codigo_Produto,Itens,3,FALSE))","v":""},null,{"$f":"IF(Codigo_Produto=\"\",\"\",VLOOKUP(Codigo_Produto,Itens,5,FALSE))","v":""}]
[null,null,"",null,"",null,""]
[null,null,"",null,"",null,""]
[null,null,"",null,"",null,""]
[null,null,"",null,"",null,""]
[null,null,"",null,"",null,""]
[null,null,"",null,"",null,""]
[null,null,"",null,"",null,""]
[null,null,"",null,"",null,""]
[null,null,"",null,"",null,""]
[null,null,"",null,"",null,""]
[null,null,"",null,"",null,""]
[null,null,"",null,"",null,""]
[null,null,"",null,"",null,""]
[null,null,"",null,"",null,""]
[null,null,"",null,"",null,""]
[null,null,"",null,"",null,""]
[null,null,"",null,"",null,""]
[null,null,"",null,"",null,""]
[null,null,"",null,"",null,""]
[null,null,"",null,"",null,""]
[null,null,"",null,"",null,""]
[null,null,"",null,"",null,""]
[null,null,"",null,"",null,""]
[null,null,"",null,"",null,""]
[null,null,"",null,"",null,""]
[null,null,"",null,"",null,""]
[null,null,"",null,"",null,""]
[null,null,"",null,"",null,""]
[null,null,"",null,"",null,""]
[null,null,"",null,"",null,""]
[null,null,"",null,"",null,""]
[null,null,"",null,"",null,""]
[null,null,"",null,"",null,""]
[null,null,"",null,"",null,""]
[null,null,"",null,"",null,""]
[null,null,"",null,"",null,""]
[null,null,"",null,"",null,""]
[null,null,"",null,"",null,""]
[null,null,"",null,"",null,""]
[null,null,"",null,"",null,""]
[null,null,"",null,"",null,""]
[null,null,"",null,"",null,""]
[null,null,"",null,"",null,""]
[null,null,"",null,"",null,""]
[null,null,"",null,"",null,""]
[null,null,"",null,"",null,""]
[null,null,"",null,"",null,""]
[null,null,"",null,"",null,""]
[null,null,"",null,"",null,""]
[null,null,"",null,"",null,""]
[null,null,"",null,"",null,""]
[null,null,"",null,"",null,""]
[null,null,"",null,"",null,""]
[null,null,"",null,"",null,""]
[null,null,"",null,"",null,""]
[null,null,"",null,"",null,""]
[null,null,"",null,"",null,""]
[null,null,"",null,"",null,""]
[null,null,"",null,"",null,""]
[null,null,"",null,"",null,""]
[null,null,"",null,"",null,""]
[null,null,"",null,"",null,""]
[null,null,"",null,"",null,""]
[null,null,{"$f":"IF(Codigo_Produto=\"\",\"\",VLOOKUP(Codigo_Produto,Itens,2,FALSE))","v":""},null,{"$f":"IF(Codigo_Produto=\"\",\"\",VLOOKUP(Codigo_Produto,Itens,3,FALSE))","v":""},null,{"$f":"IF(Codigo_Produto=\"\",\"\",VLOOKUP(Codigo_Produto,Itens,5,FALSE))","v":""}]
[null,null,"",null,"",null,""]
[null,null,"",null,"",null,""]
[null,null,"",null,"",null,""]
[null,null,"",null,"",null,""]
[null,null,"",null,"",null,""]
[null,null,"",null,"",null,""]
[null,null,"",null,"",null,""]
[null,null,"",null,"",null,""]
[null,null,"",null,"",null,""]
[null,null,"",null,"",null,""]
[null,null,"",null,"",null,""]
[null,null,"",null,"",null,""]
[null,null,"",null,"",null,""]
[null,null,"",null,"",null,""]
[null,null,"",null,"",null,""]
[null,null,"",null,"",null,""]
[null,null,"",null,"",null,""]
[null,null,"",null,"",null,""]
[null,null,"",null,"",null,""]
[null,null,"",null,"",null,""]
[null,null,"",null,"",null,""]
[null,null,"",null,"",null,""]
[null,null,"",null,"",null,""]
[null,null,"",null,"",null,""]
[null,null,"",null,"",null,""]
[null,null,"",null,"",null,""]
[null,null,"",null,"",null,""]
[null,null,"",null,"",null,""]
[null,null,"",null,"",null,""]
[null,null,"",null,"",null,""]
[null,null,"",null,"",null,""]
[null,null,"",null,"",null,""]
[null,null,"",null,"",null,""]
[null,null,"",null,"",null,""]
[null,null,"",null,"",null,""]
[null,null,"",null,"",null,""]
[null,null,"",null,"",null,""]
[null,null,"",null,"",null,""]
[null,null,"",null,"",null,""]
[null,null,"",null,"",null,""]
[null,null,"",null,"",null,""]
[null,null,"",null,"",null,""]
[null,null,"",null,"",null,""]
[null,null,"",null,"",null,""]
[null,null,"",null,"",null,""]
[null,null,"",null,"",null,""]
[null,null,"",null,"",null,""]
[null,null,"",null,"",null,""]
[null,null,"",null,"",null,""]
[null,null,"",null,"",null,""]
[null,null,"",null,"",null,""]
[null,null,"",null,"",null,""]
[null,null,"",null,"",null,""]
[null,null,"",null,"",null,""]
[null,null,"",null,"",null,""]
[null,null,"",null,"",null,""]
[null,null,"",null,"",null,""]
[null,null,"",null,"",null,""]
[null,null,"",null,"",null,""]
[null,null,"",null,"",null,""]
[null,null,"",null,"",null,""]
[null,null,"",null,"",null,""]
[null,null,"",null,"",null,""]
[null,null,{"$f":"IF(Codigo_Produto=\"\",\"\",VLOOKUP(Codigo_Produto,Itens,2,FALSE))","v":""},null,{"$f":"IF(Codigo_Produto=\"\",\"\",VLOOKUP(Codigo_Produto,Itens,3,FALSE))","v":""},null,{"$f":"IF(Codigo_Produto=\"\",\"\",VLOOKUP(Codigo_Produto,Itens,5,FALSE))","v":""}]
[null,null,"",null,"",null,""]
[null,null,"",null,"",null,""]
[null,null,"",null,"",null,""]
[null,null,"",null,"",null,""]
[null,null,"",null,"",null,""]
[null,null,"",null,"",null,""]
[null,null,"",null,"",null,""]
[null,null,"",null,"",null,""]
[null,null,"",null,"",null,""]
[null,null,"",null,"",null,""]
[null,null,"",null,"",null,""]
[null,null,"",null,"",null,""]
[null,null,"",null,"",null,""]
[null,null,"",null,"",null,""]
[null,null,"",null,"",null,""]
[null,null,"",null,"",null,""]
[null,null,"",null,"",null,""]
[null,null,"",null,"",null,""]
[null,null,"",null,"",null,""]
[null,null,"",null,"",null,""]
[null,null,"",null,"",null,""]
[null,null,"",null,"",null,""]
[null,null,"",null,"",null,""]
[null,null,"",null,"",null,""]
[null,null,"",null,"",null,""]
[null,null,"",null,"",null,""]
[null,null,"",null,"",null,""]
[null,null,"",null,"",null,""]
[null,null,"",null,"",null,""]
[null,null,"",null,"",null,""]
[null,null,"",null,"",null,""]
[null,null,"",null,"",null,""]
[null,null,"",null,"",null,""]
[null,null,"",null,"",null,""]
[null,null,"",null,"",null,""]
[null,null,"",null,"",null,""]
[null,null,"",null,"",null,""]
[null,null,"",null,"",null,""]
[null,null,"",null,"",null,""]
[null,null,"",null,"",null,""]
[null,null,"",null,"",null,""]
[null,null,"",null,"",null,""]
[null,null,"",null,"",null,""]
[null,null,"",null,"",null,""]
[null,null,"",null,"",null,""]
[null,null,"",null,"",null,""]
[null,null,"",null,"",null,""]
[null,null,"",null,"",null,""]
[null,null,"",null,"",null,""]
[null,null,"",null,"",null,""]
[null,null,"",null,"",null,""]
[null,null,"",null,"",null,""]
[null,null,"",null,"",null,""]
[null,null,"",null,"",null,""]
[null,null,"",null,"",null,""]
[null,null,"",null,"",null,""]
[null,null,"",null,"",null,""]
[null,null,"",null,"",null,""]
[null,null,"",null,"",null,""]
[null,null,"",null,"",null,""]
[null,null,"",null,"",null,""]
[null,null,"",null,"",null,""]
[null,null,"",null,"",null,""]
[null,null,{"$f":"IF(Codigo_Produto=\"\",\"\",VLOOKUP(Codigo_Produto,Itens,2,FALSE))","v":""},null,{"$f":"IF(Codigo_Produto=\"\",\"\",VLOOKUP(Codigo_Produto,Itens,3,FALSE))","v":""},null,{"$f":"IF(Codigo_Produto=\"\",\"\",VLOOKUP(Codigo_Produto,Itens,5,FALSE))","v":""}]
[null,null,"",null,"",null,""]
[null,null,"",null,"",null,""]
[null,null,"",null,"",null,""]
[null,null,"",null,"",null,""]
[null,null,"",null,"",null,""]
[null,null,"",null,"",null,""]
[null,null,"",null,"",null,""]
[null,null,"",null,"",null,""]
[null,null,"",null,"",null,""]
[null,null,"",null,"",null,""]
[null,null,"",null,"",null,""]
[null,null,"",null,"",null,""]
[null,null,"",null,"",null,""]
[null,null,"",null,"",null,""]
[null,null,"",null,"",null,""]
[null,null,"",null,"",null,""]
[null,null,"",null,"",null,""]
[null,null,"",null,"",null,""]
[null,null,"",null,"",null,""]
[null,null,"",null,"",null,""]
[null,null,"",null,"",null,""]
[null,null,"",null,"",null,""]
[null,null,"",null,"",null,""]
[null,null,"",null,"",null,""]
[null,null,"",null,"",null,""]
[null,null,"",null,"",null,""]
[null,null,"",null,"",null,""]
[null,null,"",null,"",null,""]
[null,null,"",null,"",null,""]
[null,null,"",null,"",null,""]
[null,null,"",null,"",null,""]
[null,null,"",null,"",null,""]
[null,null,"",null,"",null,""]
[null,null,"",null,"",null,""]
[null,null,"",null,"",null,""]
[null,null,"",null,"",null,""]
[null,null,"",null,"",null,""]
[null,null,"",null,"",null,""]
[null,null,"",null,"",null,""]
[null,null,"",null,"",null,""]
[null,null,"",null,"",null,""]
[null,null,"",null,"",null,""]
[null,null,"",null,"",null,""]
[null,null,"",null,"",null,""]
[null,null,"",null,"",null,""]
[null,null,"",null,"",null,""]
[null,null,"",null,"",null,""]
[null,null,"",null,"",null,""]
[null,null,"",null,"",null,""]
[null,null,"",null,"",null,""]
[null,null,"",null,"",null,""]
[null,null,"",null,"",null,""]
[null,null,"",null,"",null,""]
[null,null,"",null,"",null,""]
[null,null,"",null,"",null,""]
[null,null,"",null,"",null,""]
[null,null,"",null,"",null,""]
[null,null,"",null,"",null,""]
[null,null,"",null,"",null,""]
[null,null,"",null,"",null,""]
[null,null,"",null,"",null,""]
[null,null,"",null,"",null,""]
[null,null,"",null,"",null,""]
[null,null,{"$f":"IF(Codigo_Produto=\"\",\"\",VLOOKUP(Codigo_Produto,Itens,2,FALSE))","v":""},null,{"$f":"IF(Codigo_Produto=\"\",\"\",VLOOKUP(Codigo_Produto,Itens,3,FALSE))","v":""},null,{"$f":"IF(Codigo_Produto=\"\",\"\",VLOOKUP(Codigo_Produto,Itens,5,FALSE))","v":""}]
[null,null,"",null,"",null,""]
[null,null,"",null,"",null,""]
[null,null,"",null,"",null,""]
[null,null,"",null,"",null,""]
[null,null,"",null,"",null,""]
[null,null,"",null,"",null,""]
[null,null,"",null,"",null,""]
[null,null,"",null,"",null,""]
[null,null,"",null,"",null,""]
[null,null,"",null,"",null,""]
[null,null,"",null,"",null,""]
[null,null,"",null,"",null,""]
[null,null,"",null,"",null,""]
[null,null,"",null,"",null,""]
[null,null,"",null,"",null,""]
[null,null,"",null,"",null,""]
[null,null,"",null,"",null,""]
[null,null,"",null,"",null,""]
[null,null,"",null,"",null,""]
[null,null,"",null,"",null,""]
[null,null,"",null,"",null,""]
[null,null,"",null,"",null,""]
[null,null,"",null,"",null,""]
[null,null,"",null,"",null,""]
[null,null,"",null,"",null,""]
[null,null,"",null,"",null,""]
[null,null,"",null,"",null,""]
[null,null,"",null,"",null,""]
[null,null,"",null,"",null,""]
[null,null,"",null,"",null,""]
[null,null,"",null,"",null,""]
[null,null,"",null,"",null,""]
[null,null,"",null,"",null,""]
[null,null,"",null,"",null,""]
[null,null,"",null,"",null,""]
[null,null,"",null,"",null,""]
[null,null,"",null,"",null,""]
[null,null,"",null,"",null,""]
[null,null,"",null,"",null,""]
[null,null,"",null,"",null,""]
[null,null,"",null,"",null,""]
[null,null,"",null,"",null,""]
[null,null,"",null,"",null,""]
[null,null,"",null,"",null,""]
[null,null,"",null,"",null,""]
[null,null,"",null,"",null,""]
[null,null,"",null,"",null,""]
[null,null,"",null,"",null,""]
[null,null,"",null,"",null,""]
[null,null,"",null,"",null,""]
[null,null,"",null,"",null,""]
[null,null,"",null,"",null,""]
[null,null,"",null,"",null,""]
[null,null,"",null,"",null,""]
[null,null,"",null,"",null,""]
[null,null,"",null,"",null,""]
[null,null,"",null,"",null,""]
[null,null,"",null,"",null,""]
[null,null,"",null,"",null,""]
[null,null,"",null,"",null,""]
[null,null,"",null,"",null,""]
[null,null,"",null,"",null,""]
[null,null,"",null,"",null,""]
[null,null,{"$f":"IF(Codigo_Produto=\"\",\"\",VLOOKUP(Codigo_Produto,Itens,2,FALSE))","v":""},null,{"$f":"IF(Codigo_Produto=\"\",\"\",VLOOKUP(Codigo_Produto,Itens,3,FALSE))","v":""},null,{"$f":"IF(Codigo_Produto=\"\",\"\",VLOOKUP(Codigo_Produto,Itens,5,FALSE))","v":""}]
[null,null,"",null,"",null,""]
[null,null,"",null,"",null,""]
[null,null,"",null,"",null,""]
[null,null,"",null,"",null,""]
[null,null,"",null,"",null,""]
[null,null,"",null,"",null,""]
[null,null,"",null,"",null,""]
[null,null,"",null,"",null,""]
[null,null,"",null,"",null,""]
[null,null,"",null,"",null,""]
[null,null,"",null,"",null,""]
[null,null,"",null,"",null,""]
[null,null,"",null,"",null,""]
[null,null,"",null,"",null,""]
[null,null,"",null,"",null,""]
[null,null,"",null,"",null,""]
[null,null,"",null,"",null,""]
[null,null,"",null,"",null,""]
[null,null,"",null,"",null,""]
[null,null,"",null,"",null,""]
[null,null,"",null,"",null,""]
[null,null,"",null,"",null,""]
[null,null,"",null,"",null,""]
[null,null,"",null,"",null,""]
[null,null,"",null,"",null,""]
[null,null,"",null,"",null,""]
[null,null,"",null,"",null,""]
[null,null,"",null,"",null,""]
[null,null,"",null,"",null,""]
[null,null,"",null,"",null,""]
[null,null,"",null,"",null,""]
[null,null,"",null,"",null,""]
[null,null,"",null,"",null,""]
[null,null,"",null,"",null,""]
[null,null,"",null,"",null,""]
[null,null,"",null,"",null,""]
[null,null,"",null,"",null,""]
[null,null,"",null,"",null,""]
[null,null,"",null,"",null,""]
[null,null,"",null,"",null,""]
[null,null,"",null,"",null,""]
[null,null,"",null,"",null,""]
[null,null,"",null,"",null,""]
[null,null,"",null,"",null,""]
[null,null,"",null,"",null,""]
[null,null,"",null,"",null,""]
[null,null,"",null,"",null,""]
[null,null,"",null,"",null,""]
[null,null,"",null,"",null,""]
[null,null,"",null,"",null,""]
[null,null,"",null,"",null,""]
[null,null,"",null,"",null,""]
[null,null,"",null,"",null,""]
[null,null,"",null,"",null,""]
[null,null,"",null,"",null,""]
[null,null,"",null,"",null,""]
[null,null,"",null,"",null,""]
[null,null,"",null,"",null,""]
[null,null,"",null,"",null,""]
[null,null,"",null,"",null,""]
[null,null,"",null,"",null,""]
[null,null,"",null,"",null,""]
[null,null,"",null,"",null,""]
[null,null,{"$f":"IF(Codigo_Produto=\"\",\"\",VLOOKUP(Codigo_Produto,Itens,2,FALSE))","v":""},null,{"$f":"IF(Codigo_Produto=\"\",\"\",VLOOKUP(Codigo_Produto,Itens,3,FALSE))","v":""},null,{"$f":"IF(Codigo_Produto=\"\",\"\",VLOOKUP(Codigo_Produto,Itens,5,FALSE))","v":""}]
[null,null,"",null,"",null,""]
[null,null,"",null,"",null,""]
[null,null,"",null,"",null,""]
[null,null,"",null,"",null,""]
[null,null,"",null,"",null,""]
[null,null,"",null,"",null,""]
[null,null,"",null,"",null,""]
[null,null,"",null,"",null,""]
[null,null,"",null,"",null,""]
[null,null,"",null,"",null,""]
[null,null,"",null,"",null,""]
[null,null,"",null,"",null,""]
[null,null,"",null,"",null,""]
[null,null,"",null,"",null,""]
[null,null,"",null,"",null,""]
[null,null,"",null,"",null,""]
[null,null,"",null,"",null,""]
[null,null,"",null,"",null,""]
[null,null,"",null,"",null,""]
[null,null,"",null,"",null,""]
[null,null,"",null,"",null,""]
[null,null,"",null,"",null,""]
[null,null,"",null,"",null,""]
[null,null,"",null,"",null,""]
[null,null,"",null,"",null,""]
[null,null,"",null,"",null,""]
[null,null,"",null,"",null,""]
[null,null,"",null,"",null,""]
[null,null,"",null,"",null,""]
[null,null,"",null,"",null,""]
[null,null,"",null,"",null,""]
[null,null,"",null,"",null,""]
[null,null,"",null,"",null,""]
[null,null,"",null,"",null,""]
[null,null,"",null,"",null,""]
[null,null,"",null,"",null,""]
[null,null,"",null,"",null,""]
[null,null,"",null,"",null,""]
[null,null,"",null,"",null,""]
[null,null,"",null,"",null,""]
[null,null,"",null,"",null,""]
[null,null,"",null,"",null,""]
[null,null,"",null,"",null,""]
[null,null,"",null,"",null,""]
[null,null,"",null,"",null,""]
[null,null,"",null,"",null,""]
[null,null,"",null,"",null,""]
[null,null,"",null,"",null,""]
[null,null,"",null,"",null,""]
[null,null,"",null,"",null,""]
[null,null,"",null,"",null,""]
[null,null,"",null,"",null,""]
[null,null,"",null,"",null,""]
[null,null,"",null,"",null,""]
[null,null,"",null,"",null,""]
[null,null,"",null,"",null,""]
[null,null,"",null,"",null,""]
[null,null,"",null,"",null,""]
[null,null,"",null,"",null,""]
[null,null,"",null,"",null,""]
[null,null,"",null,"",null,""]
[null,null,"",null,"",null,""]
[null,null,"",null,"",null,""]
[null,null,{"$f":"IF(Codigo_Produto=\"\",\"\",VLOOKUP(Codigo_Produto,Itens,2,FALSE))","v":""},null,{"$f":"IF(Codigo_Produto=\"\",\"\",VLOOKUP(Codigo_Produto,Itens,3,FALSE))","v":""},null,{"$f":"IF(Codigo_Produto=\"\",\"\",VLOOKUP(Codigo_Produto,Itens,5,FALSE))","v":""}]
[null,null,"",null,"",null,""]
[null,null,"",null,"",null,""]
[null,null,"",null,"",null,""]
[null,null,"",null,"",null,""]
[null,null,"",null,"",null,""]
[null,null,"",null,"",null,""]
[null,null,"",null,"",null,""]
[null,null,"",null,"",null,""]
[null,null,"",null,"",null,""]
[null,null,"",null,"",null,""]
[null,null,"",null,"",null,""]
[null,null,"",null,"",null,""]
[null,null,"",null,"",null,""]
[null,null,"",null,"",null,""]
[null,null,"",null,"",null,""]
[null,null,"",null,"",null,""]
[null,null,"",null,"",null,""]
[null,null,"",null,"",null,""]
[null,null,"",null,"",null,""]
[null,null,"",null,"",null,""]
[null,null,"",null,"",null,""]
[null,null,"",null,"",null,""]
[null,null,"",null,"",null,""]
[null,null,"",null,"",null,""]
[null,null,"",null,"",null,""]
[null,null,"",null,"",null,""]
[null,null,"",null,"",null,""]
[null,null,"",null,"",null,""]
[null,null,"",null,"",null,""]
[null,null,"",null,"",null,""]
[null,null,"",null,"",null,""]
[null,null,"",null,"",null,""]
[null,null,"",null,"",null,""]
[null,null,"",null,"",null,""]
[null,null,"",null,"",null,""]
[null,null,"",null,"",null,""]
[null,null,"",null,"",null,""]
[null,null,"",null,"",null,""]
[null,null,"",null,"",null,""]
[null,null,"",null,"",null,""]
[null,null,"",null,"",null,""]
[null,null,"",null,"",null,""]
[null,null,"",null,"",null,""]
[null,null,"",null,"",null,""]
[null,null,"",null,"",null,""]
[null,null,"",null,"",null,""]
[null,null,"",null,"",null,""]
[null,null,"",null,"",null,""]
[null,null,"",null,"",null,""]
[null,null,"",null,"",null,""]
[null,null,"",null,"",null,""]
[null,null,"",null,"",null,""]
[null,null,"",null,"",null,""]
[null,null,"",null,"",null,""]
[null,null,"",null,"",null,""]
[null,null,"",null,"",null,""]
[null,null,"",null,"",null,""]
[null,null,"",null,"",null,""]
[null,null,"",null,"",null,""]
[null,null,"",null,"",null,""]
[null,null,"",null,"",null,""]
[null,null,"",null,"",null,""]
[null,null,"",null,"",null,""]
[null,null,{"$f":"IF(Codigo_Produto=\"\",\"\",VLOOKUP(Codigo_Produto,Itens,2,FALSE))","v":""},null,{"$f":"IF(Codigo_Produto=\"\",\"\",VLOOKUP(Codigo_Produto,Itens,3,FALSE))","v":""},null,{"$f":"IF(Codigo_Produto=\"\",\"\",VLOOKUP(Codigo_Produto,Itens,5,FALSE))","v":""}]
[null,null,"",null,"",null,""]
[null,null,"",null,"",null,""]
[null,null,"",null,"",null,""]
[null,null,"",null,"",null,""]
[null,null,"",null,"",null,""]
[null,null,"",null,"",null,""]
[null,null,"",null,"",null,""]
[null,null,"",null,"",null,""]
[null,null,"",null,"",null,""]
[null,null,"",null,"",null,""]
[null,null,"",null,"",null,""]
[null,null,"",null,"",null,""]
[null,null,"",null,"",null,""]
[null,null,"",null,"",null,""]
[null,null,"",null,"",null,""]
[null,null,"",null,"",null,""]
[null,null,"",null,"",null,""]
[null,null,"",null,"",null,""]
[null,null,"",null,"",null,""]
[null,null,"",null,"",null,""]
[null,null,"",null,"",null,""]
[null,null,"",null,"",null,""]
[null,null,"",null,"",null,""]
[null,null,"",null,"",null,""]
[null,null,"",null,"",null,""]
[null,null,"",null,"",null,""]
[null,null,"",null,"",null,""]
[null,null,"",null,"",null,""]
[null,null,"",null,"",null,""]
[null,null,"",null,"",null,""]
[null,null,"",null,"",null,""]
[null,null,"",null,"",null,""]
[null,null,"",null,"",null,""]
[null,null,"",null,"",null,""]
[null,null,"",null,"",null,""]
[null,null,"",null,"",null,""]
[null,null,"",null,"",null,""]
[null,null,"",null,"",null,""]
[null,null,"",null,"",null,""]
[null,null,"",null,"",null,""]
[null,null,"",null,"",null,""]
[null,null,"",null,"",null,""]
[null,null,"",null,"",null,""]
[null,null,"",null,"",null,""]
[null,null,"",null,"",null,""]
[null,null,"",null,"",null,""]
[null,null,"",null,"",null,""]
[null,null,"",null,"",null,""]
[null,null,"",null,"",null,""]
[null,null,"",null,"",null,""]
[null,null,"",null,"",null,""]
[null,null,"",null,"",null,""]
[null,null,"",null,"",null,""]
[null,null,"",null,"",null,""]
[null,null,"",null,"",null,""]
[null,null,"",null,"",null,""]
[null,null,"",null,"",null,""]
[null,null,"",null,"",null,""]
[null,null,"",null,"",null,""]
[null,null,"",null,"",null,""]
[null,null,"",null,"",null,""]
[null,null,"",null,"",null,""]
[null,null,"",null,"",null,""]
[null,null,{"$f":"IF(Codigo_Produto=\"\",\"\",VLOOKUP(Codigo_Produto,Itens,2,FALSE))","v":""},null,{"$f":"IF(Codigo_Produto=\"\",\"\",VLOOKUP(Codigo_Produto,Itens,3,FALSE))","v":""},null,{"$f":"IF(Codigo_Produto=\"\",\"\",VLOOKUP(Codigo_Produto,Itens,5,FALSE))","v":""}]
[null,null,"",null,"",null,""]
[null,null,"",null,"",null,""]
[null,null,"",null,"",null,""]
[null,null,"",null,"",null,""]
[null,null,"",null,"",null,""]
[null,null,"",null,"",null,""]
[null,null,"",null,"",null,""]
[null,null,"",null,"",null,""]
[null,null,"",null,"",null,""]
[null,null,"",null,"",null,""]
[null,null,"",null,"",null,""]
[null,null,"",null,"",null,""]
[null,null,"",null,"",null,""]
[null,null,"",null,"",null,""]
[null,null,"",null,"",null,""]
[null,null,"",null,"",null,""]
[null,null,"",null,"",null,""]
[null,null,"",null,"",null,""]
[null,null,"",null,"",null,""]
[null,null,"",null,"",null,""]
[null,null,"",null,"",null,""]
[null,null,"",null,"",null,""]
[null,null,"",null,"",null,""]
[null,null,"",null,"",null,""]
[null,null,"",null,"",null,""]
[null,null,"",null,"",null,""]
[null,null,"",null,"",null,""]
[null,null,"",null,"",null,""]
[null,null,"",null,"",null,""]
[null,null,"",null,"",null,""]
[null,null,"",null,"",null,""]
[null,null,"",null,"",null,""]
[null,null,"",null,"",null,""]
[null,null,"",null,"",null,""]
[null,null,"",null,"",null,""]
[null,null,"",null,"",null,""]
[null,null,"",null,"",null,""]
[null,null,"",null,"",null,""]
[null,null,"",null,"",null,""]
[null,null,"",null,"",null,""]
[null,null,"",null,"",null,""]
[null,null,"",null,"",null,""]
[null,null,"",null,"",null,""]
[null,null,"",null,"",null,""]
[null,null,"",null,"",null,""]
[null,null,"",null,"",null,""]
[null,null,"",null,"",null,""]
[null,null,"",null,"",null,""]
[null,null,"",null,"",null,""]
[null,null,"",null,"",null,""]
[null,null,"",null,"",null,""]
[null,null,"",null,"",null,""]
[null,null,"",null,"",null,""]
[null,null,"",null,"",null,""]
[null,null,"",null,"",null,""]
[null,null,"",null,"",null,""]
[null,null,"",null,"",null,""]
[null,null,"",null,"",null,""]
[null,null,"",null,"",null,""]
[null,null,"",null,"",null,""]
[null,null,"",null,"",null,""]
[null,null,"",null,"",null,""]
[null,null,"",null,"",null,""]
[null,null,{"$f":"IF(Codigo_Produto=\"\",\"\",VLOOKUP(Codigo_Produto,Itens,2,FALSE))","v":""},null,{"$f":"IF(Codigo_Produto=\"\",\"\",VLOOKUP(Codigo_Produto,Itens,3,FALSE))","v":""},null,{"$f":"IF(Codigo_Produto=\"\",\"\",VLOOKUP(Codigo_Produto,Itens,5,FALSE))","v":""}]
[null,null,"",null,"",null,""]
[null,null,"",null,"",null,""]
[null,null,"",null,"",null,""]
[null,null,"",null,"",null,""]
[null,null,"",null,"",null,""]
[null,null,"",null,"",null,""]
[null,null,"",null,"",null,""]
[null,null,"",null,"",null,""]
[null,null,"",null,"",null,""]
[null,null,"",null,"",null,""]
[null,null,"",null,"",null,""]
[null,null,"",null,"",null,""]
[null,null,"",null,"",null,""]
[null,null,"",null,"",null,""]
[null,null,"",null,"",null,""]
[null,null,"",null,"",null,""]
[null,null,"",null,"",null,""]
[null,null,"",null,"",null,""]
[null,null,"",null,"",null,""]
[null,null,"",null,"",null,""]
[null,null,"",null,"",null,""]
[null,null,"",null,"",null,""]
[null,null,"",null,"",null,""]
[null,null,"",null,"",null,""]
[null,null,"",null,"",null,""]
[null,null,"",null,"",null,""]
[null,null,"",null,"",null,""]
[null,null,"",null,"",null,""]
[null,null,"",null,"",null,""]
[null,null,"",null,"",null,""]
[null,null,"",null,"",null,""]
[null,null,"",null,"",null,""]
[null,null,"",null,"",null,""]
[null,null,"",null,"",null,""]
[null,null,"",null,"",null,""]
[null,null,"",null,"",null,""]
[null,null,"",null,"",null,""]
[null,null,"",null,"",null,""]
[null,null,"",null,"",null,""]
[null,null,"",null,"",null,""]
[null,null,"",null,"",null,""]
[null,null,"",null,"",null,""]
[null,null,"",null,"",null,""]
[null,null,"",null,"",null,""]
[null,null,"",null,"",null,""]
[null,null,"",null,"",null,""]
[null,null,"",null,"",null,""]
[null,null,"",null,"",null,""]
[null,null,"",null,"",null,""]
[null,null,"",null,"",null,""]
[null,null,"",null,"",null,""]
[null,null,"",null,"",null,""]
[null,null,"",null,"",null,""]
[null,null,"",null,"",null,""]
[null,null,"",null,"",null,""]
[null,null,"",null,"",null,""]
[null,null,"",null,"",null,""]
[null,null,"",null,"",null,""]
[null,null,"",null,"",null,""]
[null,null,"",null,"",null,""]
[null,null,"",null,"",null,""]
[null,null,"",null,"",null,""]
[null,null,"",null,"",null,""]
[null,null,{"$f":"IF(Codigo_Produto=\"\",\"\",VLOOKUP(Codigo_Produto,Itens,2,FALSE))","v":""},null,{"$f":"IF(Codigo_Produto=\"\",\"\",VLOOKUP(Codigo_Produto,Itens,3,FALSE))","v":""},null,{"$f":"IF(Codigo_Produto=\"\",\"\",VLOOKUP(Codigo_Produto,Itens,5,FALSE))","v":""}]
[null,null,"",null,"",null,""]
[null,null,"",null,"",null,""]
[null,null,"",null,"",null,""]
[null,null,"",null,"",null,""]
[null,null,"",null,"",null,""]
[null,null,"",null,"",null,""]
[null,null,"",null,"",null,""]
[null,null,"",null,"",null,""]
[null,null,"",null,"",null,""]
[null,null,"",null,"",null,""]
[null,null,"",null,"",null,""]
[null,null,"",null,"",null,""]
[null,null,"",null,"",null,""]
[null,null,"",null,"",null,""]
[null,null,"",null,"",null,""]
[null,null,"",null,"",null,""]
[null,null,"",null,"",null,""]
[null,null,"",null,"",null,""]
[null,null,"",null,"",null,""]
[null,null,"",null,"",null,""]
[null,null,"",null,"",null,""]
[null,null,"",null,"",null,""]
[null,null,"",null,"",null,""]
[null,null,"",null,"",null,""]
[null,null,"",null,"",null,""]
[null,null,"",null,"",null,""]
[null,null,"",null,"",null,""]
[null,null,"",null,"",null,""]
[null,null,"",null,"",null,""]
[null,null,"",null,"",null,""]
[null,null,"",null,"",null,""]
[null,null,"",null,"",null,""]
[null,null,"",null,"",null,""]
[null,null,"",null,"",null,""]
[null,null,"",null,"",null,""]
[null,null,"",null,"",null,""]
[null,null,"",null,"",null,""]
[null,null,"",null,"",null,""]
[null,null,"",null,"",null,""]
[null,null,"",null,"",null,""]
[null,null,"",null,"",null,""]
[null,null,"",null,"",null,""]
[null,null,"",null,"",null,""]
[null,null,"",null,"",null,""]
[null,null,"",null,"",null,""]
[null,null,"",null,"",null,""]
[null,null,"",null,"",null,""]
[null,null,"",null,"",null,""]
[null,null,"",null,"",null,""]
[null,null,"",null,"",null,""]
[null,null,"",null,"",null,""]
[null,null,"",null,"",null,""]
[null,null,"",null,"",null,""]
[null,null,"",null,"",null,""]
[null,null,"",null,"",null,""]
[null,null,"",null,"",null,""]
[null,null,"",null,"",null,""]
[null,null,"",null,"",null,""]
[null,null,"",null,"",null,""]
[null,null,"",null,"",null,""]
[null,null,"",null,"",null,""]
[null,null,"",null,"",null,""]
[null,null,"",null,"",null,""]
[null,null,{"$f":"IF(Codigo_Produto=\"\",\"\",VLOOKUP(Codigo_Produto,Itens,2,FALSE))","v":""},null,{"$f":"IF(Codigo_Produto=\"\",\"\",VLOOKUP(Codigo_Produto,Itens,3,FALSE))","v":""},null,{"$f":"IF(Codigo_Produto=\"\",\"\",VLOOKUP(Codigo_Produto,Itens,5,FALSE))","v":""}]
[null,null,"",null,"",null,""]
[null,null,"",null,"",null,""]
[null,null,"",null,"",null,""]
[null,null,"",null,"",null,""]
[null,null,"",null,"",null,""]
[null,null,"",null,"",null,""]
[null,null,"",null,"",null,""]
[null,null,"",null,"",null,""]
[null,null,"",null,"",null,""]
[null,null,"",null,"",null,""]
[null,null,"",null,"",null,""]
[null,null,"",null,"",null,""]
[null,null,"",null,"",null,""]
[null,null,"",null,"",null,""]
[null,null,"",null,"",null,""]
[null,null,"",null,"",null,""]
[null,null,"",null,"",null,""]
[null,null,"",null,"",null,""]
[null,null,"",null,"",null,""]
[null,null,"",null,"",null,""]
[null,null,"",null,"",null,""]
[null,null,"",null,"",null,""]
[null,null,"",null,"",null,""]
[null,null,"",null,"",null,""]
[null,null,"",null,"",null,""]
[null,null,"",null,"",null,""]
[null,null,"",null,"",null,""]
[null,null,"",null,"",null,""]
[null,null,"",null,"",null,""]
[null,null,"",null,"",null,""]
[null,null,"",null,"",null,""]
[null,null,"",null,"",null,""]
[null,null,"",null,"",null,""]
[null,null,"",null,"",null,""]
[null,null,"",null,"",null,""]
[null,null,"",null,"",null,""]
[null,null,"",null,"",null,""]
[null,null,"",null,"",null,""]
[null,null,"",null,"",null,""]
[null,null,"",null,"",null,""]
[null,null,"",null,"",null,""]
[null,null,"",null,"",null,""]
[null,null,"",null,"",null,""]
[null,null,"",null,"",null,""]
[null,null,"",null,"",null,""]
[null,null,"",null,"",null,""]
[null,null,"",null,"",null,""]
[null,null,"",null,"",null,""]
[null,null,"",null,"",null,""]
[null,null,"",null,"",null,""]
[null,null,"",null,"",null,""]
[null,null,"",null,"",null,""]
[null,null,"",null,"",null,""]
[null,null,"",null,"",null,""]
[null,null,"",null,"",null,""]
[null,null,"",null,"",null,""]
[null,null,"",null,"",null,""]
[null,null,"",null,"",null,""]
[null,null,"",null,"",null,""]
[null,null,"",null,"",null,""]
[null,null,"",null,"",null,""]
[null,null,"",null,"",null,""]
[null,null,"",null,"",null,""]
[null,null,{"$f":"IF(Codigo_Produto=\"\",\"\",VLOOKUP(Codigo_Produto,Itens,2,FALSE))","v":""},null,{"$f":"IF(Codigo_Produto=\"\",\"\",VLOOKUP(Codigo_Produto,Itens,3,FALSE))","v":""},null,{"$f":"IF(Codigo_Produto=\"\",\"\",VLOOKUP(Codigo_Produto,Itens,5,FALSE))","v":""}]
[null,null,"",null,"",null,""]
[null,null,"",null,"",null,""]
[null,null,"",null,"",null,""]
[null,null,"",null,"",null,""]
[null,null,"",null,"",null,""]
[null,null,"",null,"",null,""]
[null,null,"",null,"",null,""]
[null,null,"",null,"",null,""]
[null,null,"",null,"",null,""]
[null,null,"",null,"",null,""]
[null,null,"",null,"",null,""]
[null,null,"",null,"",null,""]
[null,null,"",null,"",null,""]
[null,null,"",null,"",null,""]
[null,null,"",null,"",null,""]
[null,null,"",null,"",null,""]
[null,null,"",null,"",null,""]
[null,null,"",null,"",null,""]
[null,null,"",null,"",null,""]
[null,null,"",null,"",null,""]
[null,null,"",null,"",null,""]
[null,null,"",null,"",null,""]
[null,null,"",null,"",null,""]
[null,null,"",null,"",null,""]
[null,null,"",null,"",null,""]
[null,null,"",null,"",null,""]
[null,null,"",null,"",null,""]
[null,null,"",null,"",null,""]
[null,null,"",null,"",null,""]
[null,null,"",null,"",null,""]
[null,null,"",null,"",null,""]
[null,null,"",null,"",null,""]
[null,null,"",null,"",null,""]
[null,null,"",null,"",null,""]
[null,null,"",null,"",null,""]
[null,null,"",null,"",null,""]
[null,null,"",null,"",null,""]
[null,null,"",null,"",null,""]
[null,null,"",null,"",null,""]
[null,null,"",null,"",null,""]
[null,null,"",null,"",null,""]
[null,null,"",null,"",null,""]
[null,null,"",null,"",null,""]
[null,null,"",null,"",null,""]
[null,null,"",null,"",null,""]
[null,null,"",null,"",null,""]
[null,null,"",null,"",null,""]
[null,null,"",null,"",null,""]
[null,null,"",null,"",null,""]
[null,null,"",null,"",null,""]
[null,null,"",null,"",null,""]
[null,null,"",null,"",null,""]
[null,null,"",null,"",null,""]
[null,null,"",null,"",null,""]
[null,null,"",null,"",null,""]
[null,null,"",null,"",null,""]
[null,null,"",null,"",null,""]
[null,null,"",null,"",null,""]
[null,null,"",null,"",null,""]
[null,null,"",null,"",null,""]
[null,null,"",null,"",null,""]
[null,null,"",null,"",null,""]
[null,null,"",null,"",null,""]
[null,null,{"$f":"IF(Codigo_Produto=\"\",\"\",VLOOKUP(Codigo_Produto,Itens,2,FALSE))","v":""},null,{"$f":"IF(Codigo_Produto=\"\",\"\",VLOOKUP(Codigo_Produto,Itens,3,FALSE))","v":""},null,{"$f":"IF(Codigo_Produto=\"\",\"\",VLOOKUP(Codigo_Produto,Itens,5,FALSE))","v":""}]
[null,null,"",null,"",null,""]
[null,null,"",null,"",null,""]
[null,null,"",null,"",null,""]
[null,null,"",null,"",null,""]
[null,null,"",null,"",null,""]
[null,null,"",null,"",null,""]
[null,null,"",null,"",null,""]
[null,null,"",null,"",null,""]
[null,null,"",null,"",null,""]
[null,null,"",null,"",null,""]
[null,null,"",null,"",null,""]
[null,null,"",null,"",null,""]
[null,null,"",null,"",null,""]
[null,null,"",null,"",null,""]
[null,null,"",null,"",null,""]
[null,null,"",null,"",null,""]
[null,null,"",null,"",null,""]
[null,null,"",null,"",null,""]
[null,null,"",null,"",null,""]
[null,null,"",null,"",null,""]
[null,null,"",null,"",null,""]
[null,null,"",null,"",null,""]
[null,null,"",null,"",null,""]
[null,null,"",null,"",null,""]
[null,null,"",null,"",null,""]
[null,null,"",null,"",null,""]
[null,null,"",null,"",null,""]
[null,null,"",null,"",null,""]
[null,null,"",null,"",null,""]
[null,null,"",null,"",null,""]
[null,null,"",null,"",null,""]
[null,null,"",null,"",null,""]
[null,null,"",null,"",null,""]
[null,null,"",null,"",null,""]
[null,null,"",null,"",null,""]
[null,null,"",null,"",null,""]
[null,null,"",null,"",null,""]
[null,null,"",null,"",null,""]
[null,null,"",null,"",null,""]
[null,null,"",null,"",null,""]
[null,null,"",null,"",null,""]
[null,null,"",null,"",null,""]
[null,null,"",null,"",null,""]
[null,null,"",null,"",null,""]
[null,null,"",null,"",null,""]
[null,null,"",null,"",null,""]
[null,null,"",null,"",null,""]
[null,null,"",null,"",null,""]
[null,null,"",null,"",null,""]
[null,null,"",null,"",null,""]
[null,null,"",null,"",null,""]
[null,null,"",null,"",null,""]
[null,null,"",null,"",null,""]
[null,null,"",null,"",null,""]
[null,null,"",null,"",null,""]
[null,null,"",null,"",null,""]
[null,null,"",null,"",null,""]
[null,null,"",null,"",null,""]
[null,null,"",null,"",null,""]
[null,null,"",null,"",null,""]
[null,null,"",null,"",null,""]
[null,null,"",null,"",null,""]
[null,null,"",null,"",null,""]
[null,null,{"$f":"IF(Codigo_Produto=\"\",\"\",VLOOKUP(Codigo_Produto,Itens,2,FALSE))","v":""},null,{"$f":"IF(Codigo_Produto=\"\",\"\",VLOOKUP(Codigo_Produto,Itens,3,FALSE))","v":""},null,{"$f":"IF(Codigo_Produto=\"\",\"\",VLOOKUP(Codigo_Produto,Itens,5,FALSE))","v":""}]
[null,null,"",null,"",null,""]
[null,null,"",null,"",null,""]
[null,null,"",null,"",null,""]
[null,null,"",null,"",null,""]
[null,null,"",null,"",null,""]
[null,null,"",null,"",null,""]
[null,null,"",null,"",null,""]
[null,null,"",null,"",null,""]
[null,null,"",null,"",null,""]
[null,null,"",null,"",null,""]
[null,null,"",null,"",null,""]
[null,null,"",null,"",null,""]
[null,null,"",null,"",null,""]
[null,null,"",null,"",null,""]
[null,null,"",null,"",null,""]
[null,null,"",null,"",null,""]
[null,null,"",null,"",null,""]
[null,null,"",null,"",null,""]
[null,null,"",null,"",null,""]
[null,null,"",null,"",null,""]
[null,null,"",null,"",null,""]
[null,null,"",null,"",null,""]
[null,null,"",null,"",null,""]
[null,null,"",null,"",null,""]
[null,null,"",null,"",null,""]
[null,null,"",null,"",null,""]
[null,null,"",null,"",null,""]
[null,null,"",null,"",null,""]
[null,null,"",null,"",null,""]
[null,null,"",null,"",null,""]
[null,null,"",null,"",null,""]
[null,null,"",null,"",null,""]
[null,null,"",null,"",null,""]
[null,null,"",null,"",null,""]
[null,null,"",null,"",null,""]
[null,null,"",null,"",null,""]
[null,null,"",null,"",null,""]
[null,null,"",null,"",null,""]
[null,null,"",null,"",null,""]
[null,null,"",null,"",null,""]
[null,null,"",null,"",null,""]
[null,null,"",null,"",null,""]
[null,null,"",null,"",null,""]
[null,null,"",null,"",null,""]
[null,null,"",null,"",null,""]
[null,null,"",null,"",null,""]
[null,null,"",null,"",null,""]
[null,null,"",null,"",null,""]
[null,null,"",null,"",null,""]
[null,null,"",null,"",null,""]
[null,null,"",null,"",null,""]
[null,null,"",null,"",null,""]
[null,null,"",null,"",null,""]
[null,null,"",null,"",null,""]
[null,null,"",null,"",null,""]
[null,null,"",null,"",null,""]
[null,null,"",null,"",null,""]
[null,null,"",null,"",null,""]
[null,null,"",null,"",null,""]
[null,null,"",null,"",null,""]
[null,null,"",null,"",null,""]
[null,null,"",null,"",null,""]
[null,null,"",null,"",null,""]
[null,null,{"$f":"IF(Codigo_Produto=\"\",\"\",VLOOKUP(Codigo_Produto,Itens,2,FALSE))","v":""},null,{"$f":"IF(Codigo_Produto=\"\",\"\",VLOOKUP(Codigo_Produto,Itens,3,FALSE))","v":""},null,{"$f":"IF(Codigo_Produto=\"\",\"\",VLOOKUP(Codigo_Produto,Itens,5,FALSE))","v":""}]
[null,null,"",null,"",null,""]
[null,null,"",null,"",null,""]
[null,null,"",null,"",null,""]
[null,null,"",null,"",null,""]
[null,null,"",null,"",null,""]
[null,null,"",null,"",null,""]
[null,null,"",null,"",null,""]
[null,null,"",null,"",null,""]
[null,null,"",null,"",null,""]
[null,null,"",null,"",null,""]
[null,null,"",null,"",null,""]
[null,null,"",null,"",null,""]
[null,null,"",null,"",null,""]
[null,null,"",null,"",null,""]
[null,null,"",null,"",null,""]
[null,null,"",null,"",null,""]
[null,null,"",null,"",null,""]
[null,null,"",null,"",null,""]
[null,null,"",null,"",null,""]
[null,null,"",null,"",null,""]
[null,null,"",null,"",null,""]
[null,null,"",null,"",null,""]
[null,null,"",null,"",null,""]
[null,null,"",null,"",null,""]
[null,null,"",null,"",null,""]
[null,null,"",null,"",null,""]
[null,null,"",null,"",null,""]
[null,null,"",null,"",null,""]
[null,null,"",null,"",null,""]
[null,null,"",null,"",null,""]
[null,null,"",null,"",null,""]
[null,null,"",null,"",null,""]
[null,null,"",null,"",null,""]
[null,null,"",null,"",null,""]
[null,null,"",null,"",null,""]
[null,null,"",null,"",null,""]
[null,null,"",null,"",null,""]
[null,null,"",null,"",null,""]
[null,null,"",null,"",null,""]
[null,null,"",null,"",null,""]
[null,null,"",null,"",null,""]
[null,null,"",null,"",null,""]
[null,null,"",null,"",null,""]
[null,null,"",null,"",null,""]
[null,null,"",null,"",null,""]
[null,null,"",null,"",null,""]
[null,null,"",null,"",null,""]
[null,null,"",null,"",null,""]
[null,null,"",null,"",null,""]
[null,null,"",null,"",null,""]
[null,null,"",null,"",null,""]
[null,null,"",null,"",null,""]
[null,null,"",null,"",null,""]
[null,null,"",null,"",null,""]
[null,null,"",null,"",null,""]
[null,null,"",null,"",null,""]
[null,null,"",null,"",null,""]
[null,null,"",null,"",null,""]
[null,null,"",null,"",null,""]
[null,null,"",null,"",null,""]
[null,null,"",null,"",null,""]
[null,null,"",null,"",null,""]
[null,null,"",null,"",null,""]
[null,null,{"$f":"IF(Codigo_Produto=\"\",\"\",VLOOKUP(Codigo_Produto,Itens,2,FALSE))","v":""},null,{"$f":"IF(Codigo_Produto=\"\",\"\",VLOOKUP(Codigo_Produto,Itens,3,FALSE))","v":""},null,{"$f":"IF(Codigo_Produto=\"\",\"\",VLOOKUP(Codigo_Produto,Itens,5,FALSE))","v":""}]
[null,null,"",null,"",null,""]
[null,null,"",null,"",null,""]
[null,null,"",null,"",null,""]
[null,null,"",null,"",null,""]
[null,null,"",null,"",null,""]
[null,null,"",null,"",null,""]
[null,null,"",null,"",null,""]
[null,null,"",null,"",null,""]
[null,null,"",null,"",null,""]
[null,null,"",null,"",null,""]
[null,null,"",null,"",null,""]
[null,null,"",null,"",null,""]
[null,null,"",null,"",null,""]
[null,null,"",null,"",null,""]
[null,null,"",null,"",null,""]
[null,null,"",null,"",null,""]
[null,null,"",null,"",null,""]
[null,null,"",null,"",null,""]
[null,null,"",null,"",null,""]
[null,null,"",null,"",null,""]
[null,null,"",null,"",null,""]
[null,null,"",null,"",null,""]
[null,null,"",null,"",null,""]
[null,null,"",null,"",null,""]
[null,null,"",null,"",null,""]
[null,null,"",null,"",null,""]
[null,null,"",null,"",null,""]
[null,null,"",null,"",null,""]
[null,null,"",null,"",null,""]
[null,null,"",null,"",null,""]
[null,null,"",null,"",null,""]
[null,null,"",null,"",null,""]
[null,null,"",null,"",null,""]
[null,null,"",null,"",null,""]
[null,null,"",null,"",null,""]
[null,null,"",null,"",null,""]
[null,null,"",null,"",null,""]
[null,null,"",null,"",null,""]
[null,null,"",null,"",null,""]
[null,null,"",null,"",null,""]
[null,null,"",null,"",null,""]
[null,null,"",null,"",null,""]
[null,null,"",null,"",null,""]
[null,null,"",null,"",null,""]
[null,null,"",null,"",null,""]
[null,null,"",null,"",null,""]
[null,null,"",null,"",null,""]
[null,null,"",null,"",null,""]
[null,null,"",null,"",null,""]
[null,null,"",null,"",null,""]
[null,null,"",null,"",null,""]
[null,null,"",null,"",null,""]
[null,null,"",null,"",null,""]
[null,null,"",null,"",null,""]
[null,null,"",null,"",null,""]
[null,null,"",null,"",null,""]
[null,null,"",null,"",null,""]
[null,null,"",null,"",null,""]
[null,null,"",null,"",null,""]
[null,null,"",null,"",null,""]
[null,null,"",null,"",null,""]
[null,null,"",null,"",null,""]
[null,null,"",null,"",null,""]
[null,null,{"$f":"IF(Codigo_Produto=\"\",\"\",VLOOKUP(Codigo_Produto,Itens,2,FALSE))","v":""},null,{"$f":"IF(Codigo_Produto=\"\",\"\",VLOOKUP(Codigo_Produto,Itens,3,FALSE))","v":""},null,{"$f":"IF(Codigo_Produto=\"\",\"\",VLOOKUP(Codigo_Produto,Itens,5,FALSE))","v":""}]
[null,null,"",null,"",null,""]
[null,null,"",null,"",null,""]
[null,null,"",null,"",null,""]
[null,null,"",null,"",null,""]
[null,null,"",null,"",null,""]
[null,null,"",null,"",null,""]
[null,null,"",null,"",null,""]
[null,null,"",null,"",null,""]
[null,null,"",null,"",null,""]
[null,null,"",null,"",null,""]
[null,null,"",null,"",null,""]
[null,null,"",null,"",null,""]
[null,null,"",null,"",null,""]
[null,null,"",null,"",null,""]
[null,null,"",null,"",null,""]
[null,null,"",null,"",null,""]
[null,null,"",null,"",null,""]
[null,null,"",null,"",null,""]
[null,null,"",null,"",null,""]
[null,null,"",null,"",null,""]
[null,null,"",null,"",null,""]
[null,null,"",null,"",null,""]
[null,null,"",null,"",null,""]
[null,null,"",null,"",null,""]
[null,null,"",null,"",null,""]
[null,null,"",null,"",null,""]
[null,null,"",null,"",null,""]
[null,null,"",null,"",null,""]
[null,null,"",null,"",null,""]
[null,null,"",null,"",null,""]
[null,null,"",null,"",null,""]
[null,null,"",null,"",null,""]
[null,null,"",null,"",null,""]
[null,null,"",null,"",null,""]
[null,null,"",null,"",null,""]
[null,null,"",null,"",null,""]
[null,null,"",null,"",null,""]
[null,null,"",null,"",null,""]
[null,null,"",null,"",null,""]
[null,null,"",null,"",null,""]
[null,null,"",null,"",null,""]
[null,null,"",null,"",null,""]
[null,null,"",null,"",null,""]
[null,null,"",null,"",null,""]
[null,null,"",null,"",null,""]
[null,null,"",null,"",null,""]
[null,null,"",null,"",null,""]
[null,null,"",null,"",null,""]
[null,null,"",null,"",null,""]
[null,null,"",null,"",null,""]
[null,null,"",null,"",null,""]
[null,null,"",null,"",null,""]
[null,null,"",null,"",null,""]
[null,null,"",null,"",null,""]
[null,null,"",null,"",null,""]
[null,null,"",null,"",null,""]
[null,null,"",null,"",null,""]
[null,null,"",null,"",null,""]
[null,null,"",null,"",null,""]
[null,null,"",null,"",null,""]
[null,null,"",null,"",null,""]
[null,null,"",null,"",null,""]
[null,null,"",null,"",null,""]
[null,null,{"$f":"IF(Codigo_Produto=\"\",\"\",VLOOKUP(Codigo_Produto,Itens,2,FALSE))","v":""},null,{"$f":"IF(Codigo_Produto=\"\",\"\",VLOOKUP(Codigo_Produto,Itens,3,FALSE))","v":""},null,{"$f":"IF(Codigo_Produto=\"\",\"\",VLOOKUP(Codigo_Produto,Itens,5,FALSE))","v":""}]
[null,null,"",null,"",null,""]
[null,null,"",null,"",null,""]
[null,null,"",null,"",null,""]
[null,null,"",null,"",null,""]
[null,null,"",null,"",null,""]
[null,null,"",null,"",null,""]
[null,null,"",null,"",null,""]
[null,null,"",null,"",null,""]
[null,null,"",null,"",null,""]
[null,null,"",null,"",null,""]
[null,null,"",null,"",null,""]
[null,null,"",null,"",null,""]
[null,null,"",null,"",null,""]
[null,null,"",null,"",null,""]
[null,null,"",null,"",null,""]
[null,null,"",null,"",null,""]
[null,null,"",null,"",null,""]
[null,null,"",null,"",null,""]
[null,null,"",null,"",null,""]
[null,null,"",null,"",null,""]
[null,null,"",null,"",null,""]
[null,null,"",null,"",null,""]
[null,null,"",null,"",null,""]
[null,null,"",null,"",null,""]
[null,null,"",null,"",null,""]
[null,null,"",null,"",null,""]
[null,null,"",null,"",null,""]
[null,null,"",null,"",null,""]
[null,null,"",null,"",null,""]
[null,null,"",null,"",null,""]
[null,null,"",null,"",null,""]
[null,null,"",null,"",null,""]
[null,null,"",null,"",null,""]
[null,null,"",null,"",null,""]
[null,null,"",null,"",null,""]
[null,null,"",null,"",null,""]
[null,null,"",null,"",null,""]
[null,null,"",null,"",null,""]
[null,null,"",null,"",null,""]
[null,null,"",null,"",null,""]
[null,null,"",null,"",null,""]
[null,null,"",null,"",null,""]
[null,null,"",null,"",null,""]
[null,null,"",null,"",null,""]
[null,null,"",null,"",null,""]
[null,null,"",null,"",null,""]
[null,null,"",null,"",null,""]
[null,null,"",null,"",null,""]
[null,null,"",null,"",null,""]
[null,null,"",null,"",null,""]
[null,null,"",null,"",null,""]
[null,null,"",null,"",null,""]
[null,null,"",null,"",null,""]
[null,null,"",null,"",null,""]
[null,null,"",null,"",null,""]
[null,null,"",null,"",null,""]
[null,null,"",null,"",null,""]
[null,null,"",null,"",null,""]
[null,null,"",null,"",null,""]
[null,null,"",null,"",null,""]
[null,null,"",null,"",null,""]
[null,null,"",null,"",null,""]
[null,null,"",null,"",null,""]
[null,null,{"$f":"IF(Codigo_Produto=\"\",\"\",VLOOKUP(Codigo_Produto,Itens,2,FALSE))","v":""},null,{"$f":"IF(Codigo_Produto=\"\",\"\",VLOOKUP(Codigo_Produto,Itens,3,FALSE))","v":""},null,{"$f":"IF(Codigo_Produto=\"\",\"\",VLOOKUP(Codigo_Produto,Itens,5,FALSE))","v":""}]
[null,null,"",null,"",null,""]
[null,null,"",null,"",null,""]
[null,null,"",null,"",null,""]
[null,null,"",null,"",null,""]
[null,null,"",null,"",null,""]
[null,null,"",null,"",null,""]
[null,null,"",null,"",null,""]
[null,null,"",null,"",null,""]
[null,null,"",null,"",null,""]
[null,null,"",null,"",null,""]
[null,null,"",null,"",null,""]
[null,null,"",null,"",null,""]
[null,null,"",null,"",null,""]
[null,null,"",null,"",null,""]
[null,null,"",null,"",null,""]
[null,null,"",null,"",null,""]
[null,null,"",null,"",null,""]
[null,null,"",null,"",null,""]
[null,null,"",null,"",null,""]
[null,null,"",null,"",null,""]
[null,null,"",null,"",null,""]
[null,null,"",null,"",null,""]
[null,null,"",null,"",null,""]
[null,null,"",null,"",null,""]
[null,null,"",null,"",null,""]
[null,null,"",null,"",null,""]
[null,null,"",null,"",null,""]
[null,null,"",null,"",null,""]
[null,null,"",null,"",null,""]
[null,null,"",null,"",null,""]
[null,null,"",null,"",null,""]
[null,null,"",null,"",null,""]
[null,null,"",null,"",null,""]
[null,null,"",null,"",null,""]
[null,null,"",null,"",null,""]
[null,null,"",null,"",null,""]
[null,null,"",null,"",null,""]
[null,null,"",null,"",null,""]
[null,null,"",null,"",null,""]
[null,null,"",null,"",null,""]
[null,null,"",null,"",null,""]
[null,null,"",null,"",null,""]
[null,null,"",null,"",null,""]
[null,null,"",null,"",null,""]
[null,null,"",null,"",null,""]
[null,null,"",null,"",null,""]
[null,null,"",null,"",null,""]
[null,null,"",null,"",null,""]
[null,null,"",null,"",null,""]
[null,null,"",null,"",null,""]
[null,null,"",null,"",null,""]
[null,null,"",null,"",null,""]
[null,null,"",null,"",null,""]
[null,null,"",null,"",null,""]
[null,null,"",null,"",null,""]
[null,null,"",null,"",null,""]
[null,null,"",null,"",null,""]
[null,null,"",null,"",null,""]
[null,null,"",null,"",null,""]
[null,null,"",null,"",null,""]
[null,null,"",null,"",null,""]
[null,null,"",null,"",null,""]
[null,null,"",null,"",null,""]
[null,null,{"$f":"IF(Codigo_Produto=\"\",\"\",VLOOKUP(Codigo_Produto,Itens,2,FALSE))","v":""},null,{"$f":"IF(Codigo_Produto=\"\",\"\",VLOOKUP(Codigo_Produto,Itens,3,FALSE))","v":""},null,{"$f":"IF(Codigo_Produto=\"\",\"\",VLOOKUP(Codigo_Produto,Itens,5,FALSE))","v":""}]
[null,null,"",null,"",null,""]
[null,null,"",null,"",null,""]
[null,null,"",null,"",null,""]
[null,null,"",null,"",null,""]
[null,null,"",null,"",null,""]
[null,null,"",null,"",null,""]
[null,null,"",null,"",null,""]
[null,null,"",null,"",null,""]
[null,null,"",null,"",null,""]
[null,null,"",null,"",null,""]
[null,null,"",null,"",null,""]
[null,null,"",null,"",null,""]
[null,null,"",null,"",null,""]
[null,null,"",null,"",null,""]
[null,null,"",null,"",null,""]
[null,null,"",null,"",null,""]
[null,null,"",null,"",null,""]
[null,null,"",null,"",null,""]
[null,null,"",null,"",null,""]
[null,null,"",null,"",null,""]
[null,null,"",null,"",null,""]
[null,null,"",null,"",null,""]
[null,null,"",null,"",null,""]
[null,null,"",null,"",null,""]
[null,null,"",null,"",null,""]
[null,null,"",null,"",null,""]
[null,null,"",null,"",null,""]
[null,null,"",null,"",null,""]
[null,null,"",null,"",null,""]
[null,null,"",null,"",null,""]
[null,null,"",null,"",null,""]
[null,null,"",null,"",null,""]
[null,null,"",null,"",null,""]
[null,null,"",null,"",null,""]
[null,null,"",null,"",null,""]
[null,null,"",null,"",null,""]
[null,null,"",null,"",null,""]
[null,null,"",null,"",null,""]
[null,null,"",null,"",null,""]
[null,null,"",null,"",null,""]
[null,null,"",null,"",null,""]
[null,null,"",null,"",null,""]
[null,null,"",null,"",null,""]
[null,null,"",null,"",null,""]
[null,null,"",null,"",null,""]
[null,null,"",null,"",null,""]
[null,null,"",null,"",null,""]
[null,null,"",null,"",null,""]
[null,null,"",null,"",null,""]
[null,null,"",null,"",null,""]
[null,null,"",null,"",null,""]
[null,null,"",null,"",null,""]
[null,null,"",null,"",null,""]
[null,null,"",null,"",null,""]
[null,null,"",null,"",null,""]
[null,null,"",null,"",null,""]
[null,null,"",null,"",null,""]
[null,null,"",null,"",null,""]
[null,null,"",null,"",null,""]
[null,null,"",null,"",null,""]
[null,null,"",null,"",null,""]
[null,null,"",null,"",null,""]
[null,null,"",null,"",null,""]
[null,null,{"$f":"IF(Codigo_Produto=\"\",\"\",VLOOKUP(Codigo_Produto,Itens,2,FALSE))","v":""},null,{"$f":"IF(Codigo_Produto=\"\",\"\",VLOOKUP(Codigo_Produto,Itens,3,FALSE))","v":""},null,{"$f":"IF(Codigo_Produto=\"\",\"\",VLOOKUP(Codigo_Produto,Itens,5,FALSE))","v":""}]
[null,null,"",null,"",null,""]
[null,null,"",null,"",null,""]
[null,null,"",null,"",null,""]
[null,null,"",null,"",null,""]
[null,null,"",null,"",null,""]
[null,null,"",null,"",null,""]
[null,null,"",null,"",null,""]
[null,null,"",null,"",null,""]
[null,null,"",null,"",null,""]
[null,null,"",null,"",null,""]
[null,null,"",null,"",null,""]
[null,null,"",null,"",null,""]
[null,null,"",null,"",null,""]
[null,null,"",null,"",null,""]
[null,null,"",null,"",null,""]
[null,null,"",null,"",null,""]
[null,null,"",null,"",null,""]
[null,null,"",null,"",null,""]
[null,null,"",null,"",null,""]
[null,null,"",null,"",null,""]
[null,null,"",null,"",null,""]
[null,null,"",null,"",null,""]
[null,null,"",null,"",null,""]
[null,null,"",null,"",null,""]
[null,null,"",null,"",null,""]
[null,null,"",null,"",null,""]
[null,null,"",null,"",null,""]
[null,null,"",null,"",null,""]
[null,null,"",null,"",null,""]
[null,null,"",null,"",null,""]
[null,null,"",null,"",null,""]
[null,null,"",null,"",null,""]
[null,null,"",null,"",null,""]
[null,null,"",null,"",null,""]
[null,null,"",null,"",null,""]
[null,null,"",null,"",null,""]
[null,null,"",null,"",null,""]
[null,null,"",null,"",null,""]
[null,null,"",null,"",null,""]
[null,null,"",null,"",null,""]
[null,null,"",null,"",null,""]
[null,null,"",null,"",null,""]
[null,null,"",null,"",null,""]
[null,null,"",null,"",null,""]
[null,null,"",null,"",null,""]
[null,null,"",null,"",null,""]
[null,null,"",null,"",null,""]
[null,null,"",null,"",null,""]
[null,null,"",null,"",null,""]
[null,null,"",null,"",null,""]
[null,null,"",null,"",null,""]
[null,null,"",null,"",null,""]
[null,null,"",null,"",null,""]
[null,null,"",null,"",null,""]
[null,null,"",null,"",null,""]
[null,null,"",null,"",null,""]
[null,null,"",null,"",null,""]
[null,null,"",null,"",null,""]
[null,null,"",null,"",null,""]
[null,null,"",null,"",null,""]
[null,null,"",null,"",null,""]
[null,null,"",null,"",null,""]
[null,null,"",null,"",null,""]
[null,null,{"$f":"IF(Codigo_Produto=\"\",\"\",VLOOKUP(Codigo_Produto,Itens,2,FALSE))","v":""},null,{"$f":"IF(Codigo_Produto=\"\",\"\",VLOOKUP(Codigo_Produto,Itens,3,FALSE))","v":""},null,{"$f":"IF(Codigo_Produto=\"\",\"\",VLOOKUP(Codigo_Produto,Itens,5,FALSE))","v":""}]
[null,null,"",null,"",null,""]
[null,null,"",null,"",null,""]
[null,null,"",null,"",null,""]
[null,null,"",null,"",null,""]
[null,null,"",null,"",null,""]
[null,null,"",null,"",null,""]
[null,null,"",null,"",null,""]
[null,null,"",null,"",null,""]
[null,null,"",null,"",null,""]
[null,null,"",null,"",null,""]
[null,null,"",null,"",null,""]
[null,null,"",null,"",null,""]
[null,null,"",null,"",null,""]
[null,null,"",null,"",null,""]
[null,null,"",null,"",null,""]
[null,null,"",null,"",null,""]
[null,null,"",null,"",null,""]
[null,null,"",null,"",null,""]
[null,null,"",null,"",null,""]
[null,null,"",null,"",null,""]
[null,null,"",null,"",null,""]
[null,null,"",null,"",null,""]
[null,null,"",null,"",null,""]
[null,null,"",null,"",null,""]
[null,null,"",null,"",null,""]
[null,null,"",null,"",null,""]
[null,null,"",null,"",null,""]
[null,null,"",null,"",null,""]
[null,null,"",null,"",null,""]
[null,null,"",null,"",null,""]
[null,null,"",null,"",null,""]
[null,null,"",null,"",null,""]
[null,null,"",null,"",null,""]
[null,null,"",null,"",null,""]
[null,null,"",null,"",null,""]
[null,null,"",null,"",null,""]
[null,null,"",null,"",null,""]
[null,null,"",null,"",null,""]
[null,null,"",null,"",null,""]
[null,null,"",null,"",null,""]
[null,null,"",null,"",null,""]
[null,null,"",null,"",null,""]
[null,null,"",null,"",null,""]
[null,null,"",null,"",null,""]
[null,null,"",null,"",null,""]
[null,null,"",null,"",null,""]
[null,null,"",null,"",null,""]
[null,null,"",null,"",null,""]
[null,null,"",null,"",null,""]
[null,null,"",null,"",null,""]
[null,null,"",null,"",null,""]
[null,null,"",null,"",null,""]
[null,null,"",null,"",null,""]
[null,null,"",null,"",null,""]
[null,null,"",null,"",null,""]
[null,null,"",null,"",null,""]
[null,null,"",null,"",null,""]
[null,null,"",null,"",null,""]
[null,null,"",null,"",null,""]
[null,null,"",null,"",null,""]
[null,null,"",null,"",null,""]
[null,null,"",null,"",null,""]
[null,null,"",null,"",null,""]
[null,null,{"$f":"IF(Codigo_Produto=\"\",\"\",VLOOKUP(Codigo_Produto,Itens,2,FALSE))","v":""},null,{"$f":"IF(Codigo_Produto=\"\",\"\",VLOOKUP(Codigo_Produto,Itens,3,FALSE))","v":""},null,{"$f":"IF(Codigo_Produto=\"\",\"\",VLOOKUP(Codigo_Produto,Itens,5,FALSE))","v":""}]
[null,null,"",null,"",null,""]
[null,null,"",null,"",null,""]
[null,null,"",null,"",null,""]
[null,null,"",null,"",null,""]
[null,null,"",null,"",null,""]
[null,null,"",null,"",null,""]
[null,null,"",null,"",null,""]
[null,null,"",null,"",null,""]
[null,null,"",null,"",null,""]
[null,null,"",null,"",null,""]
[null,null,"",null,"",null,""]
[null,null,"",null,"",null,""]
[null,null,"",null,"",null,""]
[null,null,"",null,"",null,""]
[null,null,"",null,"",null,""]
[null,null,"",null,"",null,""]
[null,null,"",null,"",null,""]
[null,null,"",null,"",null,""]
[null,null,"",null,"",null,""]
[null,null,"",null,"",null,""]
[null,null,"",null,"",null,""]
[null,null,"",null,"",null,""]
[null,null,"",null,"",null,""]
[null,null,"",null,"",null,""]
[null,null,"",null,"",null,""]
[null,null,"",null,"",null,""]
[null,null,"",null,"",null,""]
[null,null,"",null,"",null,""]
[null,null,"",null,"",null,""]
[null,null,"",null,"",null,""]
[null,null,"",null,"",null,""]
[null,null,"",null,"",null,""]
[null,null,"",null,"",null,""]
[null,null,"",null,"",null,""]
[null,null,"",null,"",null,""]
[null,null,"",null,"",null,""]
[null,null,"",null,"",null,""]
[null,null,"",null,"",null,""]
[null,null,"",null,"",null,""]
[null,null,"",null,"",null,""]
[null,null,"",null,"",null,""]
[null,null,"",null,"",null,""]
[null,null,"",null,"",null,""]
[null,null,"",null,"",null,""]
[null,null,"",null,"",null,""]
[null,null,"",null,"",null,""]
[null,null,"",null,"",null,""]
[null,null,"",null,"",null,""]
[null,null,"",null,"",null,""]
[null,null,"",null,"",null,""]
[null,null,"",null,"",null,""]
[null,null,"",null,"",null,""]
[null,null,"",null,"",null,""]
[null,null,"",null,"",null,""]
[null,null,"",null,"",null,""]
[null,null,"",null,"",null,""]
[null,null,"",null,"",null,""]
[null,null,"",null,"",null,""]
[null,null,"",null,"",null,""]
[null,null,"",null,"",null,""]
[null,null,"",null,"",null,""]
[null,null,"",null,"",null,""]
[null,null,"",null,"",null,""]
[null,null,{"$f":"IF(Codigo_Produto=\"\",\"\",VLOOKUP(Codigo_Produto,Itens,2,FALSE))","v":""},null,{"$f":"IF(Codigo_Produto=\"\",\"\",VLOOKUP(Codigo_Produto,Itens,3,FALSE))","v":""},null,{"$f":"IF(Codigo_Produto=\"\",\"\",VLOOKUP(Codigo_Produto,Itens,5,FALSE))","v":""}]
[null,null,"",null,"",null,""]
[null,null,"",null,"",null,""]
[null,null,"",null,"",null,""]
[null,null,"",null,"",null,""]
[null,null,"",null,"",null,""]
[null,null,"",null,"",null,""]
[null,null,"",null,"",null,""]
[null,null,"",null,"",null,""]
[null,null,"",null,"",null,""]
[null,null,"",null,"",null,""]
[null,null,"",null,"",null,""]
[null,null,"",null,"",null,""]
[null,null,"",null,"",null,""]
[null,null,"",null,"",null,""]
[null,null,"",null,"",null,""]
[null,null,"",null,"",null,""]
[null,null,"",null,"",null,""]
[null,null,"",null,"",null,""]
[null,null,"",null,"",null,""]
[null,null,"",null,"",null,""]
[null,null,"",null,"",null,""]
[null,null,"",null,"",null,""]
[null,null,"",null,"",null,""]
[null,null,"",null,"",null,""]
[null,null,"",null,"",null,""]
[null,null,"",null,"",null,""]
[null,null,"",null,"",null,""]
[null,null,"",null,"",null,""]
[null,null,"",null,"",null,""]
[null,null,"",null,"",null,""]
[null,null,"",null,"",null,""]
[null,null,"",null,"",null,""]
[null,null,"",null,"",null,""]
[null,null,"",null,"",null,""]
[null,null,"",null,"",null,""]
[null,null,"",null,"",null,""]
[null,null,"",null,"",null,""]
[null,null,"",null,"",null,""]
[null,null,"",null,"",null,""]
[null,null,"",null,"",null,""]
[null,null,"",null,"",null,""]
[null,null,"",null,"",null,""]
[null,null,"",null,"",null,""]
[null,null,"",null,"",null,""]
[null,null,"",null,"",null,""]
[null,null,"",null,"",null,""]
[null,null,"",null,"",null,""]
[null,null,"",null,"",null,""]
[null,null,"",null,"",null,""]
[null,null,"",null,"",null,""]
[null,null,"",null,"",null,""]
[null,null,"",null,"",null,""]
[null,null,"",null,"",null,""]
[null,null,"",null,"",null,""]
[null,null,"",null,"",null,""]
[null,null,"",null,"",null,""]
[null,null,"",null,"",null,""]
[null,null,"",null,"",null,""]
[null,null,"",null,"",null,""]
[null,null,"",null,"",null,""]
[null,null,"",null,"",null,""]
[null,null,"",null,"",null,""]
[null,null,"",null,"",null,""]
[null,null,{"$f":"IF(Codigo_Produto=\"\",\"\",VLOOKUP(Codigo_Produto,Itens,2,FALSE))","v":""},null,{"$f":"IF(Codigo_Produto=\"\",\"\",VLOOKUP(Codigo_Produto,Itens,3,FALSE))","v":""},null,{"$f":"IF(Codigo_Produto=\"\",\"\",VLOOKUP(Codigo_Produto,Itens,5,FALSE))","v":""}]
[null,null,"",null,"",null,""]
[null,null,"",null,"",null,""]
[null,null,"",null,"",null,""]
[null,null,"",null,"",null,""]
[null,null,"",null,"",null,""]
[null,null,"",null,"",null,""]
[null,null,"",null,"",null,""]
[null,null,"",null,"",null,""]
[null,null,"",null,"",null,""]
[null,null,"",null,"",null,""]
[null,null,"",null,"",null,""]
[null,null,"",null,"",null,""]
[null,null,"",null,"",null,""]
[null,null,"",null,"",null,""]
[null,null,"",null,"",null,""]
[null,null,"",null,"",null,""]
[null,null,"",null,"",null,""]
[null,null,"",null,"",null,""]
[null,null,"",null,"",null,""]
[null,null,"",null,"",null,""]
[null,null,"",null,"",null,""]
[null,null,"",null,"",null,""]
[null,null,"",null,"",null,""]
[null,null,"",null,"",null,""]
[null,null,"",null,"",null,""]
[null,null,"",null,"",null,""]
[null,null,"",null,"",null,""]
[null,null,"",null,"",null,""]
[null,null,"",null,"",null,""]
[null,null,"",null,"",null,""]
[null,null,"",null,"",null,""]
[null,null,"",null,"",null,""]
[null,null,"",null,"",null,""]
[null,null,"",null,"",null,""]
[null,null,"",null,"",null,""]
[null,null,"",null,"",null,""]
[null,null,"",null,"",null,""]
[null,null,"",null,"",null,""]
[null,null,"",null,"",null,""]
[null,null,"",null,"",null,""]
[null,null,"",null,"",null,""]
[null,null,"",null,"",null,""]
[null,null,"",null,"",null,""]
[null,null,"",null,"",null,""]
[null,null,"",null,"",null,""]
[null,null,"",null,"",null,""]
[null,null,"",null,"",null,""]
[null,null,"",null,"",null,""]
[null,null,"",null,"",null,""]
[null,null,"",null,"",null,""]
[null,null,"",null,"",null,""]
[null,null,"",null,"",null,""]
[null,null,"",null,"",null,""]
[null,null,"",null,"",null,""]
[null,null,"",null,"",null,""]
[null,null,"",null,"",null,""]
[null,null,"",null,"",null,""]
[null,null,"",null,"",null,""]
[null,null,"",null,"",null,""]
[null,null,"",null,"",null,""]
[null,null,"",null,"",null,""]
[null,null,"",null,"",null,""]
[null,null,"",null,"",null,""]
[null,null,{"$f":"IF(Codigo_Produto=\"\",\"\",VLOOKUP(Codigo_Produto,Itens,2,FALSE))","v":""},null,{"$f":"IF(Codigo_Produto=\"\",\"\",VLOOKUP(Codigo_Produto,Itens,3,FALSE))","v":""},null,{"$f":"IF(Codigo_Produto=\"\",\"\",VLOOKUP(Codigo_Produto,Itens,5,FALSE))","v":""}]
[null,null,"",null,"",null,""]
[null,null,"",null,"",null,""]
[null,null,"",null,"",null,""]
[null,null,"",null,"",null,""]
[null,null,"",null,"",null,""]
[null,null,"",null,"",null,""]
[null,null,"",null,"",null,""]
[null,null,"",null,"",null,""]
[null,null,"",null,"",null,""]
[null,null,"",null,"",null,""]
[null,null,"",null,"",null,""]
[null,null,"",null,"",null,""]
[null,null,"",null,"",null,""]
[null,null,"",null,"",null,""]
[null,null,"",null,"",null,""]
[null,null,"",null,"",null,""]
[null,null,"",null,"",null,""]
[null,null,"",null,"",null,""]
[null,null,"",null,"",null,""]
[null,null,"",null,"",null,""]
[null,null,"",null,"",null,""]
[null,null,"",null,"",null,""]
[null,null,"",null,"",null,""]
[null,null,"",null,"",null,""]
[null,null,"",null,"",null,""]
[null,null,"",null,"",null,""]
[null,null,"",null,"",null,""]
[null,null,"",null,"",null,""]
[null,null,"",null,"",null,""]
[null,null,"",null,"",null,""]
[null,null,"",null,"",null,""]
[null,null,"",null,"",null,""]
[null,null,"",null,"",null,""]
[null,null,"",null,"",null,""]
[null,null,"",null,"",null,""]
[null,null,"",null,"",null,""]
[null,null,"",null,"",null,""]
[null,null,"",null,"",null,""]
[null,null,"",null,"",null,""]
[null,null,"",null,"",null,""]
[null,null,"",null,"",null,""]
[null,null,"",null,"",null,""]
[null,null,"",null,"",null,""]
[null,null,"",null,"",null,""]
[null,null,"",null,"",null,""]
[null,null,"",null,"",null,""]
[null,null,"",null,"",null,""]
[null,null,"",null,"",null,""]
[null,null,"",null,"",null,""]
[null,null,"",null,"",null,""]
[null,null,"",null,"",null,""]
[null,null,"",null,"",null,""]
[null,null,"",null,"",null,""]
[null,null,"",null,"",null,""]
[null,null,"",null,"",null,""]
[null,null,"",null,"",null,""]
[null,null,"",null,"",null,""]
[null,null,"",null,"",null,""]
[null,null,"",null,"",null,""]
[null,null,"",null,"",null,""]
[null,null,"",null,"",null,""]
[null,null,"",null,"",null,""]
[null,null,"",null,"",null,""]
[null,null,{"$f":"IF(Codigo_Produto=\"\",\"\",VLOOKUP(Codigo_Produto,Itens,2,FALSE))","v":""},null,{"$f":"IF(Codigo_Produto=\"\",\"\",VLOOKUP(Codigo_Produto,Itens,3,FALSE))","v":""},null,{"$f":"IF(Codigo_Produto=\"\",\"\",VLOOKUP(Codigo_Produto,Itens,5,FALSE))","v":""}]
[null,null,"",null,"",null,""]
[null,null,"",null,"",null,""]
[null,null,"",null,"",null,""]
[null,null,"",null,"",null,""]
[null,null,"",null,"",null,""]
[null,null,"",null,"",null,""]
[null,null,"",null,"",null,""]
[null,null,"",null,"",null,""]
[null,null,"",null,"",null,""]
[null,null,"",null,"",null,""]
[null,null,"",null,"",null,""]
[null,null,"",null,"",null,""]
[null,null,"",null,"",null,""]
[null,null,"",null,"",null,""]
[null,null,"",null,"",null,""]
[null,null,"",null,"",null,""]
[null,null,"",null,"",null,""]
[null,null,"",null,"",null,""]
[null,null,"",null,"",null,""]
[null,null,"",null,"",null,""]
[null,null,"",null,"",null,""]
[null,null,"",null,"",null,""]
[null,null,"",null,"",null,""]
[null,null,"",null,"",null,""]
[null,null,"",null,"",null,""]
[null,null,"",null,"",null,""]
[null,null,"",null,"",null,""]
[null,null,"",null,"",null,""]
[null,null,"",null,"",null,""]
[null,null,"",null,"",null,""]
[null,null,"",null,"",null,""]
[null,null,"",null,"",null,""]
[null,null,"",null,"",null,""]
[null,null,"",null,"",null,""]
[null,null,"",null,"",null,""]
[null,null,"",null,"",null,""]
[null,null,"",null,"",null,""]
[null,null,"",null,"",null,""]
[null,null,"",null,"",null,""]
[null,null,"",null,"",null,""]
[null,null,"",null,"",null,""]
[null,null,"",null,"",null,""]
[null,null,"",null,"",null,""]
[null,null,"",null,"",null,""]
[null,null,"",null,"",null,""]
[null,null,"",null,"",null,""]
[null,null,"",null,"",null,""]
[null,null,"",null,"",null,""]
[null,null,"",null,"",null,""]
[null,null,"",null,"",null,""]
[null,null,"",null,"",null,""]
[null,null,"",null,"",null,""]
[null,null,"",null,"",null,""]
[null,null,"",null,"",null,""]
[null,null,"",null,"",null,""]
[null,null,"",null,"",null,""]
[null,null,"",null,"",null,""]
[null,null,"",null,"",null,""]
[null,null,"",null,"",null,""]
[null,null,"",null,"",null,""]
[null,null,"",null,"",null,""]
[null,null,"",null,"",null,""]
[null,null,"",null,"",null,""]
[null,null,{"$f":"IF(Codigo_Produto=\"\",\"\",VLOOKUP(Codigo_Produto,Itens,2,FALSE))","v":""},null,{"$f":"IF(Codigo_Produto=\"\",\"\",VLOOKUP(Codigo_Produto,Itens,3,FALSE))","v":""},null,{"$f":"IF(Codigo_Produto=\"\",\"\",VLOOKUP(Codigo_Produto,Itens,5,FALSE))","v":""}]
[null,null,"",null,"",null,""]
[null,null,"",null,"",null,""]
[null,null,"",null,"",null,""]
[null,null,"",null,"",null,""]
[null,null,"",null,"",null,""]
[null,null,"",null,"",null,""]
[null,null,"",null,"",null,""]
[null,null,"",null,"",null,""]
[null,null,"",null,"",null,""]
[null,null,"",null,"",null,""]
[null,null,"",null,"",null,""]
[null,null,"",null,"",null,""]
[null,null,"",null,"",null,""]
[null,null,"",null,"",null,""]
[null,null,"",null,"",null,""]
[null,null,"",null,"",null,""]
[null,null,"",null,"",null,""]
[null,null,"",null,"",null,""]
[null,null,"",null,"",null,""]
[null,null,"",null,"",null,""]
[null,null,"",null,"",null,""]
[null,null,"",null,"",null,""]
[null,null,"",null,"",null,""]
[null,null,"",null,"",null,""]
[null,null,"",null,"",null,""]
[null,null,"",null,"",null,""]
[null,null,"",null,"",null,""]
[null,null,"",null,"",null,""]
[null,null,"",null,"",null,""]
[null,null,"",null,"",null,""]
[null,null,"",null,"",null,""]
[null,null,"",null,"",null,""]
[null,null,"",null,"",null,""]
[null,null,"",null,"",null,""]
[null,null,"",null,"",null,""]
[null,null,"",null,"",null,""]
[null,null,"",null,"",null,""]
[null,null,"",null,"",null,""]
[null,null,"",null,"",null,""]
[null,null,"",null,"",null,""]
[null,null,"",null,"",null,""]
[null,null,"",null,"",null,""]
[null,null,"",null,"",null,""]
[null,null,"",null,"",null,""]
[null,null,"",null,"",null,""]
[null,null,"",null,"",null,""]
[null,null,"",null,"",null,""]
[null,null,"",null,"",null,""]
[null,null,"",null,"",null,""]
[null,null,"",null,"",null,""]
[null,null,"",null,"",null,""]
[null,null,"",null,"",null,""]
[null,null,"",null,"",null,""]
[null,null,"",null,"",null,""]
[null,null,"",null,"",null,""]
[null,null,"",null,"",null,""]
[null,null,"",null,"",null,""]
[null,null,"",null,"",null,""]
[null,null,"",null,"",null,""]
[null,null,"",null,"",null,""]
[null,null,"",null,"",null,""]
[null,null,"",null,"",null,""]
[null,null,"",null,"",null,""]
[null,null,{"$f":"IF(Codigo_Produto=\"\",\"\",VLOOKUP(Codigo_Produto,Itens,2,FALSE))","v":""},null,{"$f":"IF(Codigo_Produto=\"\",\"\",VLOOKUP(Codigo_Produto,Itens,3,FALSE))","v":""},null,{"$f":"IF(Codigo_Produto=\"\",\"\",VLOOKUP(Codigo_Produto,Itens,5,FALSE))","v":""}]
[null,null,"",null,"",null,""]
[null,null,"",null,"",null,""]
[null,null,"",null,"",null,""]
[null,null,"",null,"",null,""]
[null,null,"",null,"",null,""]
[null,null,"",null,"",null,""]
[null,null,"",null,"",null,""]
[null,null,"",null,"",null,""]
[null,null,"",null,"",null,""]
[null,null,"",null,"",null,""]
[null,null,"",null,"",null,""]
[null,null,"",null,"",null,""]
[null,null,"",null,"",null,""]
[null,null,"",null,"",null,""]
[null,null,"",null,"",null,""]
[null,null,"",null,"",null,""]
[null,null,"",null,"",null,""]
[null,null,"",null,"",null,""]
[null,null,"",null,"",null,""]
[null,null,"",null,"",null,""]
[null,null,"",null,"",null,""]
[null,null,"",null,"",null,""]
[null,null,"",null,"",null,""]
[null,null,"",null,"",null,""]
[null,null,"",null,"",null,""]
[null,null,"",null,"",null,""]
[null,null,"",null,"",null,""]
[null,null,"",null,"",null,""]
[null,null,"",null,"",null,""]
[null,null,"",null,"",null,""]
[null,null,"",null,"",null,""]
[null,null,"",null,"",null,""]
[null,null,"",null,"",null,""]
[null,null,"",null,"",null,""]
[null,null,"",null,"",null,""]
[null,null,"",null,"",null,""]
[null,null,"",null,"",null,""]
[null,null,"",null,"",null,""]
[null,null,"",null,"",null,""]
[null,null,"",null,"",null,""]
[null,null,"",null,"",null,""]
[null,null,"",null,"",null,""]
[null,null,"",null,"",null,""]
[null,null,"",null,"",null,""]
[null,null,"",null,"",null,""]
[null,null,"",null,"",null,""]
[null,null,"",null,"",null,""]
[null,null,"",null,"",null,""]
[null,null,"",null,"",null,""]
[null,null,"",null,"",null,""]
[null,null,"",null,"",null,""]
[null,null,"",null,"",null,""]
[null,null,"",null,"",null,""]
[null,null,"",null,"",null,""]
[null,null,"",null,"",null,""]
[null,null,"",null,"",null,""]
[null,null,"",null,"",null,""]
[null,null,"",null,"",null,""]
[null,null,"",null,"",null,""]
[null,null,"",null,"",null,""]
[null,null,"",null,"",null,""]
[null,null,"",null,"",null,""]
[null,null,"",null,"",null,""]
[null,null,{"$f":"IF(Codigo_Produto=\"\",\"\",VLOOKUP(Codigo_Produto,Itens,2,FALSE))","v":""},null,{"$f":"IF(Codigo_Produto=\"\",\"\",VLOOKUP(Codigo_Produto,Itens,3,FALSE))","v":""},null,{"$f":"IF(Codigo_Produto=\"\",\"\",VLOOKUP(Codigo_Produto,Itens,5,FALSE))","v":""}]
[null,null,"",null,"",null,""]
[null,null,"",null,"",null,""]
[null,null,"",null,"",null,""]
[null,null,"",null,"",null,""]
[null,null,"",null,"",null,""]
[null,null,"",null,"",null,""]
[null,null,"",null,"",null,""]
[null,null,"",null,"",null,""]
[null,null,"",null,"",null,""]
[null,null,"",null,"",null,""]
[null,null,"",null,"",null,""]
[null,null,"",null,"",null,""]
[null,null,"",null,"",null,""]
[null,null,"",null,"",null,""]
[null,null,"",null,"",null,""]
[null,null,"",null,"",null,""]
[null,null,"",null,"",null,""]
[null,null,"",null,"",null,""]
[null,null,"",null,"",null,""]
[null,null,"",null,"",null,""]
[null,null,"",null,"",null,""]
[null,null,"",null,"",null,""]
[null,null,"",null,"",null,""]
[null,null,"",null,"",null,""]
[null,null,"",null,"",null,""]
[null,null,"",null,"",null,""]
[null,null,"",null,"",null,""]
[null,null,"",null,"",null,""]
[null,null,"",null,"",null,""]
[null,null,"",null,"",null,""]
[null,null,"",null,"",null,""]
[null,null,"",null,"",null,""]
[null,null,"",null,"",null,""]
[null,null,"",null,"",null,""]
[null,null,"",null,"",null,""]
[null,null,"",null,"",null,""]
[null,null,"",null,"",null,""]
[null,null,"",null,"",null,""]
[null,null,"",null,"",null,""]
[null,null,"",null,"",null,""]
[null,null,"",null,"",null,""]
[null,null,"",null,"",null,""]
[null,null,"",null,"",null,""]
[null,null,"",null,"",null,""]
[null,null,"",null,"",null,""]
[null,null,"",null,"",null,""]
[null,null,"",null,"",null,""]
[null,null,"",null,"",null,""]
[null,null,"",null,"",null,""]
[null,null,"",null,"",null,""]
[null,null,"",null,"",null,""]
[null,null,"",null,"",null,""]
[null,null,"",null,"",null,""]
[null,null,"",null,"",null,""]
[null,null,"",null,"",null,""]
[null,null,"",null,"",null,""]
[null,null,"",null,"",null,""]
[null,null,"",null,"",null,""]
[null,null,"",null,"",null,""]
[null,null,"",null,"",null,""]
[null,null,"",null,"",null,""]
[null,null,"",null,"",null,""]
[null,null,"",null,"",null,""]
[null,null,{"$f":"IF(Codigo_Produto=\"\",\"\",VLOOKUP(Codigo_Produto,Itens,2,FALSE))","v":""},null,{"$f":"IF(Codigo_Produto=\"\",\"\",VLOOKUP(Codigo_Produto,Itens,3,FALSE))","v":""},null,{"$f":"IF(Codigo_Produto=\"\",\"\",VLOOKUP(Codigo_Produto,Itens,5,FALSE))","v":""}]
[null,null,"",null,"",null,""]
[null,null,"",null,"",null,""]
[null,null,"",null,"",null,""]
[null,null,"",null,"",null,""]
[null,null,"",null,"",null,""]
[null,null,"",null,"",null,""]
[null,null,"",null,"",null,""]
[null,null,"",null,"",null,""]
[null,null,"",null,"",null,""]
[null,null,"",null,"",null,""]
[null,null,"",null,"",null,""]
[null,null,"",null,"",null,""]
[null,null,"",null,"",null,""]
[null,null,"",null,"",null,""]
[null,null,"",null,"",null,""]
[null,null,"",null,"",null,""]
[null,null,"",null,"",null,""]
[null,null,"",null,"",null,""]
[null,null,"",null,"",null,""]
[null,null,"",null,"",null,""]
[null,null,"",null,"",null,""]
[null,null,"",null,"",null,""]
[null,null,"",null,"",null,""]
[null,null,"",null,"",null,""]
[null,null,"",null,"",null,""]
[null,null,"",null,"",null,""]
[null,null,"",null,"",null,""]
[null,null,"",null,"",null,""]
[null,null,"",null,"",null,""]
[null,null,"",null,"",null,""]
[null,null,"",null,"",null,""]
[null,null,"",null,"",null,""]
[null,null,"",null,"",null,""]
[null,null,"",null,"",null,""]
[null,null,"",null,"",null,""]
[null,null,"",null,"",null,""]
[null,null,"",null,"",null,""]
[null,null,"",null,"",null,""]
[null,null,"",null,"",null,""]
[null,null,"",null,"",null,""]
[null,null,"",null,"",null,""]
[null,null,"",null,"",null,""]
[null,null,"",null,"",null,""]
[null,null,"",null,"",null,""]
[null,null,"",null,"",null,""]
[null,null,"",null,"",null,""]
[null,null,"",null,"",null,""]
[null,null,"",null,"",null,""]
[null,null,"",null,"",null,""]
[null,null,"",null,"",null,""]
[null,null,"",null,"",null,""]
[null,null,"",null,"",null,""]
[null,null,"",null,"",null,""]
[null,null,"",null,"",null,""]
[null,null,"",null,"",null,""]
[null,null,"",null,"",null,""]
[null,null,"",null,"",null,""]
[null,null,"",null,"",null,""]
[null,null,"",null,"",null,""]
[null,null,"",null,"",null,""]
[null,null,"",null,"",null,""]
[null,null,"",null,"",null,""]
[null,null,"",null,"",null,""]
[null,null,{"$f":"IF(Codigo_Produto=\"\",\"\",VLOOKUP(Codigo_Produto,Itens,2,FALSE))","v":""},null,{"$f":"IF(Codigo_Produto=\"\",\"\",VLOOKUP(Codigo_Produto,Itens,3,FALSE))","v":""},null,{"$f":"IF(Codigo_Produto=\"\",\"\",VLOOKUP(Codigo_Produto,Itens,5,FALSE))","v":""}]
[null,null,"",null,"",null,""]
[null,null,"",null,"",null,""]
[null,null,"",null,"",null,""]
[null,null,"",null,"",null,""]
[null,null,"",null,"",null,""]
[null,null,"",null,"",null,""]
[null,null,"",null,"",null,""]
[null,null,"",null,"",null,""]
[null,null,"",null,"",null,""]
[null,null,"",null,"",null,""]
[null,null,"",null,"",null,""]
[null,null,"",null,"",null,""]
[null,null,"",null,"",null,""]
[null,null,"",null,"",null,""]
[null,null,"",null,"",null,""]
[null,null,"",null,"",null,""]
[null,null,"",null,"",null,""]
[null,null,"",null,"",null,""]
[null,null,"",null,"",null,""]
[null,null,"",null,"",null,""]
[null,null,"",null,"",null,""]
[null,null,"",null,"",null,""]
[null,null,"",null,"",null,""]
[null,null,"",null,"",null,""]
[null,null,"",null,"",null,""]
[null,null,"",null,"",null,""]
[null,null,"",null,"",null,""]
[null,null,"",null,"",null,""]
[null,null,"",null,"",null,""]
[null,null,"",null,"",null,""]
[null,null,"",null,"",null,""]
[null,null,"",null,"",null,""]
[null,null,"",null,"",null,""]
[null,null,"",null,"",null,""]
[null,null,"",null,"",null,""]
[null,null,"",null,"",null,""]
[null,null,"",null,"",null,""]
[null,null,"",null,"",null,""]
[null,null,"",null,"",null,""]
[null,null,"",null,"",null,""]
[null,null,"",null,"",null,""]
[null,null,"",null,"",null,""]
[null,null,"",null,"",null,""]
[null,null,"",null,"",null,""]
[null,null,"",null,"",null,""]
[null,null,"",null,"",null,""]
[null,null,"",null,"",null,""]
[null,null,"",null,"",null,""]
[null,null,"",null,"",null,""]
[null,null,"",null,"",null,""]
[null,null,"",null,"",null,""]
[null,null,"",null,"",null,""]
[null,null,"",null,"",null,""]
[null,null,"",null,"",null,""]
[null,null,"",null,"",null,""]
[null,null,"",null,"",null,""]
[null,null,"",null,"",null,""]
[null,null,"",null,"",null,""]
[null,null,"",null,"",null,""]
[null,null,"",null,"",null,""]
[null,null,"",null,"",null,""]
[null,null,"",null,"",null,""]
[null,null,"",null,"",null,""]
[null,null,{"$f":"IF(Codigo_Produto=\"\",\"\",VLOOKUP(Codigo_Produto,Itens,2,FALSE))","v":""},null,{"$f":"IF(Codigo_Produto=\"\",\"\",VLOOKUP(Codigo_Produto,Itens,3,FALSE))","v":""},null,{"$f":"IF(Codigo_Produto=\"\",\"\",VLOOKUP(Codigo_Produto,Itens,5,FALSE))","v":""}]
[null,null,"",null,"",null,""]
[null,null,"",null,"",null,""]
[null,null,"",null,"",null,""]
[null,null,"",null,"",null,""]
[null,null,"",null,"",null,""]
[null,null,"",null,"",null,""]
[null,null,"",null,"",null,""]
[null,null,"",null,"",null,""]
[null,null,"",null,"",null,""]
[null,null,"",null,"",null,""]
[null,null,"",null,"",null,""]
[null,null,"",null,"",null,""]
[null,null,"",null,"",null,""]
[null,null,"",null,"",null,""]
[null,null,"",null,"",null,""]
[null,null,"",null,"",null,""]
[null,null,"",null,"",null,""]
[null,null,"",null,"",null,""]
[null,null,"",null,"",null,""]
[null,null,"",null,"",null,""]
[null,null,"",null,"",null,""]
[null,null,"",null,"",null,""]
[null,null,"",null,"",null,""]
[null,null,"",null,"",null,""]
[null,null,"",null,"",null,""]
[null,null,"",null,"",null,""]
[null,null,"",null,"",null,""]
[null,null,"",null,"",null,""]
[null,null,"",null,"",null,""]
[null,null,"",null,"",null,""]
[null,null,"",null,"",null,""]
[null,null,"",null,"",null,""]
[null,null,"",null,"",null,""]
[null,null,"",null,"",null,""]
[null,null,"",null,"",null,""]
[null,null,"",null,"",null,""]
[null,null,"",null,"",null,""]
[null,null,"",null,"",null,""]
[null,null,"",null,"",null,""]
[null,null,"",null,"",null,""]
[null,null,"",null,"",null,""]
[null,null,"",null,"",null,""]
[null,null,"",null,"",null,""]
[null,null,"",null,"",null,""]
[null,null,"",null,"",null,""]
[null,null,"",null,"",null,""]
[null,null,"",null,"",null,""]
[null,null,"",null,"",null,""]
[null,null,"",null,"",null,""]
[null,null,"",null,"",null,""]
[null,null,"",null,"",null,""]
[null,null,"",null,"",null,""]
[null,null,"",null,"",null,""]
[null,null,"",null,"",null,""]
[null,null,"",null,"",null,""]
[null,null,"",null,"",null,""]
[null,null,"",null,"",null,""]
[null,null,"",null,"",null,""]
[null,null,"",null,"",null,""]
[null,null,"",null,"",null,""]
[null,null,"",null,"",null,""]
[null,null,"",null,"",null,""]
[null,null,"",null,"",null,""]
[null,null,{"$f":"IF(Codigo_Produto=\"\",\"\",VLOOKUP(Codigo_Produto,Itens,2,FALSE))","v":""},null,{"$f":"IF(Codigo_Produto=\"\",\"\",VLOOKUP(Codigo_Produto,Itens,3,FALSE))","v":""},null,{"$f":"IF(Codigo_Produto=\"\",\"\",VLOOKUP(Codigo_Produto,Itens,5,FALSE))","v":""}]
[null,null,"",null,"",null,""]
[null,null,"",null,"",null,""]
[null,null,"",null,"",null,""]
[null,null,"",null,"",null,""]
[null,null,"",null,"",null,""]
[null,null,"",null,"",null,""]
[null,null,"",null,"",null,""]
[null,null,"",null,"",null,""]
[null,null,"",null,"",null,""]
[null,null,"",null,"",null,""]
[null,null,"",null,"",null,""]
[null,null,"",null,"",null,""]
[null,null,"",null,"",null,""]
[null,null,"",null,"",null,""]
[null,null,"",null,"",null,""]
[null,null,"",null,"",null,""]
[null,null,"",null,"",null,""]
[null,null,"",null,"",null,""]
[null,null,"",null,"",null,""]
[null,null,"",null,"",null,""]
[null,null,"",null,"",null,""]
[null,null,"",null,"",null,""]
[null,null,"",null,"",null,""]
[null,null,"",null,"",null,""]
[null,null,"",null,"",null,""]
[null,null,"",null,"",null,""]
[null,null,"",null,"",null,""]
[null,null,"",null,"",null,""]
[null,null,"",null,"",null,""]
[null,null,"",null,"",null,""]
[null,null,"",null,"",null,""]
[null,null,"",null,"",null,""]
[null,null,"",null,"",null,""]
[null,null,"",null,"",null,""]
[null,null,"",null,"",null,""]
[null,null,"",null,"",null,""]
[null,null,"",null,"",null,""]
[null,null,"",null,"",null,""]
[null,null,"",null,"",null,""]
[null,null,"",null,"",null,""]
[null,null,"",null,"",null,""]
[null,null,"",null,"",null,""]
[null,null,"",null,"",null,""]
[null,null,"",null,"",null,""]
[null,null,"",null,"",null,""]
[null,null,"",null,"",null,""]
[null,null,"",null,"",null,""]
[null,null,"",null,"",null,""]
[null,null,"",null,"",null,""]
[null,null,"",null,"",null,""]
[null,null,"",null,"",null,""]
[null,null,"",null,"",null,""]
[null,null,"",null,"",null,""]
[null,null,"",null,"",null,""]
[null,null,"",null,"",null,""]
[null,null,"",null,"",null,""]
[null,null,"",null,"",null,""]
[null,null,"",null,"",null,""]
[null,null,"",null,"",null,""]
[null,null,"",null,"",null,""]
[null,null,"",null,"",null,""]
[null,null,"",null,"",null,""]
[null,null,"",null,"",null,""]
[null,null,{"$f":"IF(Codigo_Produto=\"\",\"\",VLOOKUP(Codigo_Produto,Itens,2,FALSE))","v":""},null,{"$f":"IF(Codigo_Produto=\"\",\"\",VLOOKUP(Codigo_Produto,Itens,3,FALSE))","v":""},null,{"$f":"IF(Codigo_Produto=\"\",\"\",VLOOKUP(Codigo_Produto,Itens,5,FALSE))","v":""}]
[null,null,"",null,"",null,""]
[null,null,"",null,"",null,""]
[null,null,"",null,"",null,""]
[null,null,"",null,"",null,""]
[null,null,"",null,"",null,""]
[null,null,"",null,"",null,""]
[null,null,"",null,"",null,""]
[null,null,"",null,"",null,""]
[null,null,"",null,"",null,""]
[null,null,"",null,"",null,""]
[null,null,"",null,"",null,""]
[null,null,"",null,"",null,""]
[null,null,"",null,"",null,""]
[null,null,"",null,"",null,""]
[null,null,"",null,"",null,""]
[null,null,"",null,"",null,""]
[null,null,"",null,"",null,""]
[null,null,"",null,"",null,""]
[null,null,"",null,"",null,""]
[null,null,"",null,"",null,""]
[null,null,"",null,"",null,""]
[null,null,"",null,"",null,""]
[null,null,"",null,"",null,""]
[null,null,"",null,"",null,""]
[null,null,"",null,"",null,""]
[null,null,"",null,"",null,""]
[null,null,"",null,"",null,""]
[null,null,"",null,"",null,""]
[null,null,"",null,"",null,""]
[null,null,"",null,"",null,""]
[null,null,"",null,"",null,""]
[null,null,"",null,"",null,""]
[null,null,"",null,"",null,""]
[null,null,"",null,"",null,""]
[null,null,"",null,"",null,""]
[null,null,"",null,"",null,""]
[null,null,"",null,"",null,""]
[null,null,"",null,"",null,""]
[null,null,"",null,"",null,""]
[null,null,"",null,"",null,""]
[null,null,"",null,"",null,""]
[null,null,"",null,"",null,""]
[null,null,"",null,"",null,""]
[null,null,"",null,"",null,""]
[null,null,"",null,"",null,""]
[null,null,"",null,"",null,""]
[null,null,"",null,"",null,""]
[null,null,"",null,"",null,""]
[null,null,"",null,"",null,""]
[null,null,"",null,"",null,""]
[null,null,"",null,"",null,""]
[null,null,"",null,"",null,""]
[null,null,"",null,"",null,""]
[null,null,"",null,"",null,""]
[null,null,"",null,"",null,""]
[null,null,"",null,"",null,""]
[null,null,"",null,"",null,""]
[null,null,"",null,"",null,""]
[null,null,"",null,"",null,""]
[null,null,"",null,"",null,""]
[null,null,"",null,"",null,""]
[null,null,"",null,"",null,""]
[null,null,"",null,"",null,""]
[null,null,{"$f":"IF(Codigo_Produto=\"\",\"\",VLOOKUP(Codigo_Produto,Itens,2,FALSE))","v":""},null,{"$f":"IF(Codigo_Produto=\"\",\"\",VLOOKUP(Codigo_Produto,Itens,3,FALSE))","v":""},null,{"$f":"IF(Codigo_Produto=\"\",\"\",VLOOKUP(Codigo_Produto,Itens,5,FALSE))","v":""}]
[null,null,"",null,"",null,""]
[null,null,"",null,"",null,""]
[null,null,"",null,"",null,""]
[null,null,"",null,"",null,""]
[null,null,"",null,"",null,""]
[null,null,"",null,"",null,""]
[null,null,"",null,"",null,""]
[null,null,"",null,"",null,""]
[null,null,"",null,"",null,""]
[null,null,"",null,"",null,""]
[null,null,"",null,"",null,""]
[null,null,"",null,"",null,""]
[null,null,"",null,"",null,""]
[null,null,"",null,"",null,""]
[null,null,"",null,"",null,""]
[null,null,"",null,"",null,""]
[null,null,"",null,"",null,""]
[null,null,"",null,"",null,""]
[null,null,"",null,"",null,""]
[null,null,"",null,"",null,""]
[null,null,"",null,"",null,""]
[null,null,"",null,"",null,""]
[null,null,"",null,"",null,""]
[null,null,"",null,"",null,""]
[null,null,"",null,"",null,""]
[null,null,"",null,"",null,""]
[null,null,"",null,"",null,""]
[null,null,"",null,"",null,""]
[null,null,"",null,"",null,""]
[null,null,"",null,"",null,""]
[null,null,"",null,"",null,""]
[null,null,"",null,"",null,""]
[null,null,"",null,"",null,""]
[null,null,"",null,"",null,""]
[null,null,"",null,"",null,""]
[null,null,"",null,"",null,""]
[null,null,"",null,"",null,""]
[null,null,"",null,"",null,""]
[null,null,"",null,"",null,""]
[null,null,"",null,"",null,""]
[null,null,"",null,"",null,""]
[null,null,"",null,"",null,""]
[null,null,"",null,"",null,""]
[null,null,"",null,"",null,""]
[null,null,"",null,"",null,""]
[null,null,"",null,"",null,""]
[null,null,"",null,"",null,""]
[null,null,"",null,"",null,""]
[null,null,"",null,"",null,""]
[null,null,"",null,"",null,""]
[null,null,"",null,"",null,""]
[null,null,"",null,"",null,""]
[null,null,"",null,"",null,""]
[null,null,"",null,"",null,""]
[null,null,"",null,"",null,""]
[null,null,"",null,"",null,""]
[null,null,"",null,"",null,""]
[null,null,"",null,"",null,""]
[null,null,"",null,"",null,""]
[null,null,"",null,"",null,""]
[null,null,"",null,"",null,""]
[null,null,"",null,"",null,""]
[null,null,"",null,"",null,""]
[null,null,{"$f":"IF(Codigo_Produto=\"\",\"\",VLOOKUP(Codigo_Produto,Itens,2,FALSE))","v":""},null,{"$f":"IF(Codigo_Produto=\"\",\"\",VLOOKUP(Codigo_Produto,Itens,3,FALSE))","v":""},null,{"$f":"IF(Codigo_Produto=\"\",\"\",VLOOKUP(Codigo_Produto,Itens,5,FALSE))","v":""}]
[null,null,"",null,"",null,""]
[null,null,"",null,"",null,""]
[null,null,"",null,"",null,""]
[null,null,"",null,"",null,""]
[null,null,"",null,"",null,""]
[null,null,"",null,"",null,""]
[null,null,"",null,"",null,""]
[null,null,"",null,"",null,""]
[null,null,"",null,"",null,""]
[null,null,"",null,"",null,""]
[null,null,"",null,"",null,""]
[null,null,"",null,"",null,""]
[null,null,"",null,"",null,""]
[null,null,"",null,"",null,""]
[null,null,"",null,"",null,""]
[null,null,"",null,"",null,""]
[null,null,"",null,"",null,""]
[null,null,"",null,"",null,""]
[null,null,"",null,"",null,""]
[null,null,"",null,"",null,""]
[null,null,"",null,"",null,""]
[null,null,"",null,"",null,""]
[null,null,"",null,"",null,""]
[null,null,"",null,"",null,""]
[null,null,"",null,"",null,""]
[null,null,"",null,"",null,""]
[null,null,"",null,"",null,""]
[null,null,"",null,"",null,""]
[null,null,"",null,"",null,""]
[null,null,"",null,"",null,""]
[null,null,"",null,"",null,""]
[null,null,"",null,"",null,""]
[null,null,"",null,"",null,""]
[null,null,"",null,"",null,""]
[null,null,"",null,"",null,""]
[null,null,"",null,"",null,""]
[null,null,"",null,"",null,""]
[null,null,"",null,"",null,""]
[null,null,"",null,"",null,""]
[null,null,"",null,"",null,""]
[null,null,"",null,"",null,""]
[null,null,"",null,"",null,""]
[null,null,"",null,"",null,""]
[null,null,"",null,"",null,""]
[null,null,"",null,"",null,""]
[null,null,"",null,"",null,""]
[null,null,"",null,"",null,""]
[null,null,"",null,"",null,""]
[null,null,"",null,"",null,""]
[null,null,"",null,"",null,""]
[null,null,"",null,"",null,""]
[null,null,"",null,"",null,""]
[null,null,"",null,"",null,""]
[null,null,"",null,"",null,""]
[null,null,"",null,"",null,""]
[null,null,"",null,"",null,""]
[null,null,"",null,"",null,""]
[null,null,"",null,"",null,""]
[null,null,"",null,"",null,""]
[null,null,"",null,"",null,""]
[null,null,"",null,"",null,""]
[null,null,"",null,"",null,""]
[null,null,"",null,"",null,""]
[null,null,{"$f":"IF(Codigo_Produto=\"\",\"\",VLOOKUP(Codigo_Produto,Itens,2,FALSE))","v":""},null,{"$f":"IF(Codigo_Produto=\"\",\"\",VLOOKUP(Codigo_Produto,Itens,3,FALSE))","v":""},null,{"$f":"IF(Codigo_Produto=\"\",\"\",VLOOKUP(Codigo_Produto,Itens,5,FALSE))","v":""}]
[null,null,"",null,"",null,""]
[null,null,"",null,"",null,""]
[null,null,"",null,"",null,""]
[null,null,"",null,"",null,""]
[null,null,"",null,"",null,""]
[null,null,"",null,"",null,""]
[null,null,"",null,"",null,""]
[null,null,"",null,"",null,""]
[null,null,"",null,"",null,""]
[null,null,"",null,"",null,""]
[null,null,"",null,"",null,""]
[null,null,"",null,"",null,""]
[null,null,"",null,"",null,""]
[null,null,"",null,"",null,""]
[null,null,"",null,"",null,""]
[null,null,"",null,"",null,""]
[null,null,"",null,"",null,""]
[null,null,"",null,"",null,""]
[null,null,"",null,"",null,""]
[null,null,"",null,"",null,""]
[null,null,"",null,"",null,""]
[null,null,"",null,"",null,""]
[null,null,"",null,"",null,""]
[null,null,"",null,"",null,""]
[null,null,"",null,"",null,""]
[null,null,"",null,"",null,""]
[null,null,"",null,"",null,""]
[null,null,"",null,"",null,""]
[null,null,"",null,"",null,""]
[null,null,"",null,"",null,""]
[null,null,"",null,"",null,""]
[null,null,"",null,"",null,""]
[null,null,"",null,"",null,""]
[null,null,"",null,"",null,""]
[null,null,"",null,"",null,""]
[null,null,"",null,"",null,""]
[null,null,"",null,"",null,""]
[null,null,"",null,"",null,""]
[null,null,"",null,"",null,""]
[null,null,"",null,"",null,""]
[null,null,"",null,"",null,""]
[null,null,"",null,"",null,""]
[null,null,"",null,"",null,""]
[null,null,"",null,"",null,""]
[null,null,"",null,"",null,""]
[null,null,"",null,"",null,""]
[null,null,"",null,"",null,""]
[null,null,"",null,"",null,""]
[null,null,"",null,"",null,""]
[null,null,"",null,"",null,""]
[null,null,"",null,"",null,""]
[null,null,"",null,"",null,""]
[null,null,"",null,"",null,""]
[null,null,"",null,"",null,""]
[null,null,"",null,"",null,""]
[null,null,"",null,"",null,""]
[null,null,"",null,"",null,""]
[null,null,"",null,"",null,""]
[null,null,"",null,"",null,""]
[null,null,"",null,"",null,""]
[null,null,"",null,"",null,""]
[null,null,"",null,"",null,""]
[null,null,"",null,"",null,""]
[null,null,{"$f":"IF(Codigo_Produto=\"\",\"\",VLOOKUP(Codigo_Produto,Itens,2,FALSE))","v":""},null,{"$f":"IF(Codigo_Produto=\"\",\"\",VLOOKUP(Codigo_Produto,Itens,3,FALSE))","v":""},null,{"$f":"IF(Codigo_Produto=\"\",\"\",VLOOKUP(Codigo_Produto,Itens,5,FALSE))","v":""}]
[null,null,"",null,"",null,""]
[null,null,"",null,"",null,""]
[null,null,"",null,"",null,""]
[null,null,"",null,"",null,""]
[null,null,"",null,"",null,""]
[null,null,"",null,"",null,""]
[null,null,"",null,"",null,""]
[null,null,"",null,"",null,""]
[null,null,"",null,"",null,""]
[null,null,"",null,"",null,""]
[null,null,"",null,"",null,""]
[null,null,"",null,"",null,""]
[null,null,"",null,"",null,""]
[null,null,"",null,"",null,""]
[null,null,"",null,"",null,""]
[null,null,"",null,"",null,""]
[null,null,"",null,"",null,""]
[null,null,"",null,"",null,""]
[null,null,"",null,"",null,""]
[null,null,"",null,"",null,""]
[null,null,"",null,"",null,""]
[null,null,"",null,"",null,""]
[null,null,"",null,"",null,""]
[null,null,"",null,"",null,""]
[null,null,"",null,"",null,""]
[null,null,"",null,"",null,""]
[null,null,"",null,"",null,""]
[null,null,"",null,"",null,""]
[null,null,"",null,"",null,""]
[null,null,"",null,"",null,""]
[null,null,"",null,"",null,""]
[null,null,"",null,"",null,""]
[null,null,"",null,"",null,""]
[null,null,"",null,"",null,""]
[null,null,"",null,"",null,""]
[null,null,"",null,"",null,""]
[null,null,"",null,"",null,""]
[null,null,"",null,"",null,""]
[null,null,"",null,"",null,""]
[null,null,"",null,"",null,""]
[null,null,"",null,"",null,""]
[null,null,"",null,"",null,""]
[null,null,"",null,"",null,""]
[null,null,"",null,"",null,""]
[null,null,"",null,"",null,""]
[null,null,"",null,"",null,""]
[null,null,"",null,"",null,""]
[null,null,"",null,"",null,""]
[null,null,"",null,"",null,""]
[null,null,"",null,"",null,""]
[null,null,"",null,"",null,""]
[null,null,"",null,"",null,""]
[null,null,"",null,"",null,""]
[null,null,"",null,"",null,""]
[null,null,"",null,"",null,""]
[null,null,"",null,"",null,""]
[null,null,"",null,"",null,""]
[null,null,"",null,"",null,""]
[null,null,"",null,"",null,""]
[null,null,"",null,"",null,""]
[null,null,"",null,"",null,""]
[null,null,"",null,"",null,""]
[null,null,"",null,"",null,""]
[null,null,{"$f":"IF(Codigo_Produto=\"\",\"\",VLOOKUP(Codigo_Produto,Itens,2,FALSE))","v":""},null,{"$f":"IF(Codigo_Produto=\"\",\"\",VLOOKUP(Codigo_Produto,Itens,3,FALSE))","v":""},null,{"$f":"IF(Codigo_Produto=\"\",\"\",VLOOKUP(Codigo_Produto,Itens,5,FALSE))","v":""}]
[null,null,"",null,"",null,""]
[null,null,"",null,"",null,""]
[null,null,"",null,"",null,""]
[null,null,"",null,"",null,""]
[null,null,"",null,"",null,""]
[null,null,"",null,"",null,""]
[null,null,"",null,"",null,""]
[null,null,"",null,"",null,""]
[null,null,"",null,"",null,""]
[null,null,"",null,"",null,""]
[null,null,"",null,"",null,""]
[null,null,"",null,"",null,""]
[null,null,"",null,"",null,""]
[null,null,"",null,"",null,""]
[null,null,"",null,"",null,""]
[null,null,"",null,"",null,""]
[null,null,"",null,"",null,""]
[null,null,"",null,"",null,""]
[null,null,"",null,"",null,""]
[null,null,"",null,"",null,""]
[null,null,"",null,"",null,""]
[null,null,"",null,"",null,""]
[null,null,"",null,"",null,""]
[null,null,"",null,"",null,""]
[null,null,"",null,"",null,""]
[null,null,"",null,"",null,""]
[null,null,"",null,"",null,""]
[null,null,"",null,"",null,""]
[null,null,"",null,"",null,""]
[null,null,"",null,"",null,""]
[null,null,"",null,"",null,""]
[null,null,"",null,"",null,""]
[null,null,"",null,"",null,""]
[null,null,"",null,"",null,""]
[null,null,"",null,"",null,""]
[null,null,"",null,"",null,""]
[null,null,"",null,"",null,""]
[null,null,"",null,"",null,""]
[null,null,"",null,"",null,""]
[null,null,"",null,"",null,""]
[null,null,"",null,"",null,""]
[null,null,"",null,"",null,""]
[null,null,"",null,"",null,""]
[null,null,"",null,"",null,""]
[null,null,"",null,"",null,""]
[null,null,"",null,"",null,""]
[null,null,"",null,"",null,""]
[null,null,"",null,"",null,""]
[null,null,"",null,"",null,""]
[null,null,"",null,"",null,""]
[null,null,"",null,"",null,""]
[null,null,"",null,"",null,""]
[null,null,"",null,"",null,""]
[null,null,"",null,"",null,""]
[null,null,"",null,"",null,""]
[null,null,"",null,"",null,""]
[null,null,"",null,"",null,""]
[null,null,"",null,"",null,""]
[null,null,"",null,"",null,""]
[null,null,"",null,"",null,""]
[null,null,"",null,"",null,""]
[null,null,"",null,"",null,""]
[null,null,"",null,"",null,""]
[null,null,{"$f":"IF(Codigo_Produto=\"\",\"\",VLOOKUP(Codigo_Produto,Itens,2,FALSE))","v":""},null,{"$f":"IF(Codigo_Produto=\"\",\"\",VLOOKUP(Codigo_Produto,Itens,3,FALSE))","v":""},null,{"$f":"IF(Codigo_Produto=\"\",\"\",VLOOKUP(Codigo_Produto,Itens,5,FALSE))","v":""}]
[null,null,"",null,"",null,""]
[null,null,"",null,"",null,""]
[null,null,"",null,"",null,""]
[null,null,"",null,"",null,""]
[null,null,"",null,"",null,""]
[null,null,"",null,"",null,""]
[null,null,"",null,"",null,""]
[null,null,"",null,"",null,""]
[null,null,"",null,"",null,""]
[null,null,"",null,"",null,""]
[null,null,"",null,"",null,""]
[null,null,"",null,"",null,""]
[null,null,"",null,"",null,""]
[null,null,"",null,"",null,""]
[null,null,"",null,"",null,""]
[null,null,"",null,"",null,""]
[null,null,"",null,"",null,""]
[null,null,"",null,"",null,""]
[null,null,"",null,"",null,""]
[null,null,"",null,"",null,""]
[null,null,"",null,"",null,""]
[null,null,"",null,"",null,""]
[null,null,"",null,"",null,""]
[null,null,"",null,"",null,""]
[null,null,"",null,"",null,""]
[null,null,"",null,"",null,""]
[null,null,"",null,"",null,""]
[null,null,"",null,"",null,""]
[null,null,"",null,"",null,""]
[null,null,"",null,"",null,""]
[null,null,"",null,"",null,""]
[null,null,"",null,"",null,""]
[null,null,"",null,"",null,""]
[null,null,"",null,"",null,""]
[null,null,"",null,"",null,""]
[null,null,"",null,"",null,""]
[null,null,"",null,"",null,""]
[null,null,"",null,"",null,""]
[null,null,"",null,"",null,""]
[null,null,"",null,"",null,""]
[null,null,"",null,"",null,""]
[null,null,"",null,"",null,""]
[null,null,"",null,"",null,""]
[null,null,"",null,"",null,""]
[null,null,"",null,"",null,""]
[null,null,"",null,"",null,""]
[null,null,"",null,"",null,""]
[null,null,"",null,"",null,""]
[null,null,"",null,"",null,""]
[null,null,"",null,"",null,""]
[null,null,"",null,"",null,""]
[null,null,"",null,"",null,""]
[null,null,"",null,"",null,""]
[null,null,"",null,"",null,""]
[null,null,"",null,"",null,""]
[null,null,"",null,"",null,""]
[null,null,"",null,"",null,""]
[null,null,"",null,"",null,""]
[null,null,"",null,"",null,""]
[null,null,"",null,"",null,""]
[null,null,"",null,"",null,""]
[null,null,"",null,"",null,""]
[null,null,"",null,"",null,""]
[null,null,{"$f":"IF(Codigo_Produto=\"\",\"\",VLOOKUP(Codigo_Produto,Itens,2,FALSE))","v":""},null,{"$f":"IF(Codigo_Produto=\"\",\"\",VLOOKUP(Codigo_Produto,Itens,3,FALSE))","v":""},null,{"$f":"IF(Codigo_Produto=\"\",\"\",VLOOKUP(Codigo_Produto,Itens,5,FALSE))","v":""}]
[null,null,"",null,"",null,""]
[null,null,"",null,"",null,""]
[null,null,"",null,"",null,""]
[null,null,"",null,"",null,""]
[null,null,"",null,"",null,""]
[null,null,"",null,"",null,""]
[null,null,"",null,"",null,""]
[null,null,"",null,"",null,""]
[null,null,"",null,"",null,""]
[null,null,"",null,"",null,""]
[null,null,"",null,"",null,""]
[null,null,"",null,"",null,""]
[null,null,"",null,"",null,""]
[null,null,"",null,"",null,""]
[null,null,"",null,"",null,""]
[null,null,"",null,"",null,""]
[null,null,"",null,"",null,""]
[null,null,"",null,"",null,""]
[null,null,"",null,"",null,""]
[null,null,"",null,"",null,""]
[null,null,"",null,"",null,""]
[null,null,"",null,"",null,""]
[null,null,"",null,"",null,""]
[null,null,"",null,"",null,""]
[null,null,"",null,"",null,""]
[null,null,"",null,"",null,""]
[null,null,"",null,"",null,""]
[null,null,"",null,"",null,""]
[null,null,"",null,"",null,""]
[null,null,"",null,"",null,""]
[null,null,"",null,"",null,""]
[null,null,"",null,"",null,""]
[null,null,"",null,"",null,""]
[null,null,"",null,"",null,""]
[null,null,"",null,"",null,""]
[null,null,"",null,"",null,""]
[null,null,"",null,"",null,""]
[null,null,"",null,"",null,""]
[null,null,"",null,"",null,""]
[null,null,"",null,"",null,""]
[null,null,"",null,"",null,""]
[null,null,"",null,"",null,""]
[null,null,"",null,"",null,""]
[null,null,"",null,"",null,""]
[null,null,"",null,"",null,""]
[null,null,"",null,"",null,""]
[null,null,"",null,"",null,""]
[null,null,"",null,"",null,""]
[null,null,"",null,"",null,""]
[null,null,"",null,"",null,""]
[null,null,"",null,"",null,""]
[null,null,"",null,"",null,""]
[null,null,"",null,"",null,""]
[null,null,"",null,"",null,""]
[null,null,"",null,"",null,""]
[null,null,"",null,"",null,""]
[null,null,"",null,"",null,""]
[null,null,"",null,"",null,""]
[null,null,"",null,"",null,""]
[null,null,"",null,"",null,""]
[null,null,"",null,"",null,""]
[null,null,"",null,"",null,""]
[null,null,"",null,"",null,""]
[null,null,{"$f":"IF(Codigo_Produto=\"\",\"\",VLOOKUP(Codigo_Produto,Itens,2,FALSE))","v":""},null,{"$f":"IF(Codigo_Produto=\"\",\"\",VLOOKUP(Codigo_Produto,Itens,3,FALSE))","v":""},null,{"$f":"IF(Codigo_Produto=\"\",\"\",VLOOKUP(Codigo_Produto,Itens,5,FALSE))","v":""}]
[null,null,"",null,"",null,""]
[null,null,"",null,"",null,""]
[null,null,"",null,"",null,""]
[null,null,"",null,"",null,""]
[null,null,"",null,"",null,""]
[null,null,"",null,"",null,""]
[null,null,"",null,"",null,""]
[null,null,"",null,"",null,""]
[null,null,"",null,"",null,""]
[null,null,"",null,"",null,""]
[null,null,"",null,"",null,""]
[null,null,"",null,"",null,""]
[null,null,"",null,"",null,""]
[null,null,"",null,"",null,""]
[null,null,"",null,"",null,""]
[null,null,"",null,"",null,""]
[null,null,"",null,"",null,""]
[null,null,"",null,"",null,""]
[null,null,"",null,"",null,""]
[null,null,"",null,"",null,""]
[null,null,"",null,"",null,""]
[null,null,"",null,"",null,""]
[null,null,"",null,"",null,""]
[null,null,"",null,"",null,""]
[null,null,"",null,"",null,""]
[null,null,"",null,"",null,""]
[null,null,"",null,"",null,""]
[null,null,"",null,"",null,""]
[null,null,"",null,"",null,""]
[null,null,"",null,"",null,""]
[null,null,"",null,"",null,""]
[null,null,"",null,"",null,""]
[null,null,"",null,"",null,""]
[null,null,"",null,"",null,""]
[null,null,"",null,"",null,""]
[null,null,"",null,"",null,""]
[null,null,"",null,"",null,""]
[null,null,"",null,"",null,""]
[null,null,"",null,"",null,""]
[null,null,"",null,"",null,""]
[null,null,"",null,"",null,""]
[null,null,"",null,"",null,""]
[null,null,"",null,"",null,""]
[null,null,"",null,"",null,""]
[null,null,"",null,"",null,""]
[null,null,"",null,"",null,""]
[null,null,"",null,"",null,""]
[null,null,"",null,"",null,""]
[null,null,"",null,"",null,""]
[null,null,"",null,"",null,""]
[null,null,"",null,"",null,""]
[null,null,"",null,"",null,""]
[null,null,"",null,"",null,""]
[null,null,"",null,"",null,""]
[null,null,"",null,"",null,""]
[null,null,"",null,"",null,""]
[null,null,"",null,"",null,""]
[null,null,"",null,"",null,""]
[null,null,"",null,"",null,""]
[null,null,"",null,"",null,""]
[null,null,"",null,"",null,""]
[null,null,"",null,"",null,""]
[null,null,"",null,"",null,""]
[null,null,{"$f":"IF(Codigo_Produto=\"\",\"\",VLOOKUP(Codigo_Produto,Itens,2,FALSE))","v":""},null,{"$f":"IF(Codigo_Produto=\"\",\"\",VLOOKUP(Codigo_Produto,Itens,3,FALSE))","v":""},null,{"$f":"IF(Codigo_Produto=\"\",\"\",VLOOKUP(Codigo_Produto,Itens,5,FALSE))","v":""}]
[null,null,"",null,"",null,""]
[null,null,"",null,"",null,""]
[null,null,"",null,"",null,""]
[null,null,"",null,"",null,""]
[null,null,"",null,"",null,""]
[null,null,"",null,"",null,""]
[null,null,"",null,"",null,""]
[null,null,"",null,"",null,""]
[null,null,"",null,"",null,""]
[null,null,"",null,"",null,""]
[null,null,"",null,"",null,""]
[null,null,"",null,"",null,""]
[null,null,"",null,"",null,""]
[null,null,"",null,"",null,""]
[null,null,"",null,"",null,""]
[null,null,"",null,"",null,""]
[null,null,"",null,"",null,""]
[null,null,"",null,"",null,""]
[null,null,"",null,"",null,""]
[null,null,"",null,"",null,""]
[null,null,"",null,"",null,""]
[null,null,"",null,"",null,""]
[null,null,"",null,"",null,""]
[null,null,"",null,"",null,""]
[null,null,"",null,"",null,""]
[null,null,"",null,"",null,""]
[null,null,"",null,"",null,""]
[null,null,"",null,"",null,""]
[null,null,"",null,"",null,""]
[null,null,"",null,"",null,""]
[null,null,"",null,"",null,""]
[null,null,"",null,"",null,""]
[null,null,"",null,"",null,""]
[null,null,"",null,"",null,""]
[null,null,"",null,"",null,""]
[null,null,"",null,"",null,""]
[null,null,"",null,"",null,""]
[null,null,"",null,"",null,""]
[null,null,"",null,"",null,""]
[null,null,"",null,"",null,""]
[null,null,"",null,"",null,""]
[null,null,"",null,"",null,""]
[null,null,"",null,"",null,""]
[null,null,"",null,"",null,""]
[null,null,"",null,"",null,""]
[null,null,"",null,"",null,""]
[null,null,"",null,"",null,""]
[null,null,"",null,"",null,""]
[null,null,"",null,"",null,""]
[null,null,"",null,"",null,""]
[null,null,"",null,"",null,""]
[null,null,"",null,"",null,""]
[null,null,"",null,"",null,""]
[null,null,"",null,"",null,""]
[null,null,"",null,"",null,""]
[null,null,"",null,"",null,""]
[null,null,"",null,"",null,""]
[null,null,"",null,"",null,""]
[null,null,"",null,"",null,""]
[null,null,"",null,"",null,""]
[null,null,"",null,"",null,""]
[null,null,"",null,"",null,""]
[null,null,"",null,"",null,""]
[null,null,{"$f":"IF(Codigo_Produto=\"\",\"\",VLOOKUP(Codigo_Produto,Itens,2,FALSE))","v":""},null,{"$f":"IF(Codigo_Produto=\"\",\"\",VLOOKUP(Codigo_Produto,Itens,3,FALSE))","v":""},null,{"$f":"IF(Codigo_Produto=\"\",\"\",VLOOKUP(Codigo_Produto,Itens,5,FALSE))","v":""}]
[null,null,"",null,"",null,""]
[null,null,"",null,"",null,""]
[null,null,"",null,"",null,""]
[null,null,"",null,"",null,""]
[null,null,"",null,"",null,""]
[null,null,"",null,"",null,""]
[null,null,"",null,"",null,""]
[null,null,"",null,"",null,""]
[null,null,"",null,"",null,""]
[null,null,"",null,"",null,""]
[null,null,"",null,"",null,""]
[null,null,"",null,"",null,""]
[null,null,"",null,"",null,""]
[null,null,"",null,"",null,""]
[null,null,"",null,"",null,""]
[null,null,"",null,"",null,""]
[null,null,"",null,"",null,""]
[null,null,"",null,"",null,""]
[null,null,"",null,"",null,""]
[null,null,"",null,"",null,""]
[null,null,"",null,"",null,""]
[null,null,"",null,"",null,""]
[null,null,"",null,"",null,""]
[null,null,"",null,"",null,""]
[null,null,"",null,"",null,""]
[null,null,"",null,"",null,""]
[null,null,"",null,"",null,""]
[null,null,"",null,"",null,""]
[null,null,"",null,"",null,""]
[null,null,"",null,"",null,""]
[null,null,"",null,"",null,""]
[null,null,"",null,"",null,""]
[null,null,"",null,"",null,""]
[null,null,"",null,"",null,""]
[null,null,"",null,"",null,""]
[null,null,"",null,"",null,""]
[null,null,"",null,"",null,""]
[null,null,"",null,"",null,""]
[null,null,"",null,"",null,""]
[null,null,"",null,"",null,""]
[null,null,"",null,"",null,""]
[null,null,"",null,"",null,""]
[null,null,"",null,"",null,""]
[null,null,"",null,"",null,""]
[null,null,"",null,"",null,""]
[null,null,"",null,"",null,""]
[null,null,"",null,"",null,""]
[null,null,"",null,"",null,""]
[null,null,"",null,"",null,""]
[null,null,"",null,"",null,""]
[null,null,"",null,"",null,""]
[null,null,"",null,"",null,""]
[null,null,"",null,"",null,""]
[null,null,"",null,"",null,""]
[null,null,"",null,"",null,""]
[null,null,"",null,"",null,""]
[null,null,"",null,"",null,""]
[null,null,"",null,"",null,""]
[null,null,"",null,"",null,""]
[null,null,"",null,"",null,""]
[null,null,"",null,"",null,""]
[null,null,"",null,"",null,""]
[null,null,"",null,"",null,""]
[null,null,{"$f":"IF(Codigo_Produto=\"\",\"\",VLOOKUP(Codigo_Produto,Itens,2,FALSE))","v":""},null,{"$f":"IF(Codigo_Produto=\"\",\"\",VLOOKUP(Codigo_Produto,Itens,3,FALSE))","v":""},null,{"$f":"IF(Codigo_Produto=\"\",\"\",VLOOKUP(Codigo_Produto,Itens,5,FALSE))","v":""}]
[null,null,"",null,"",null,""]
[null,null,"",null,"",null,""]
[null,null,"",null,"",null,""]
[null,null,"",null,"",null,""]
[null,null,"",null,"",null,""]
[null,null,"",null,"",null,""]
[null,null,"",null,"",null,""]
[null,null,"",null,"",null,""]
[null,null,"",null,"",null,""]
[null,null,"",null,"",null,""]
[null,null,"",null,"",null,""]
[null,null,"",null,"",null,""]
[null,null,"",null,"",null,""]
[null,null,"",null,"",null,""]
[null,null,"",null,"",null,""]
[null,null,"",null,"",null,""]
[null,null,"",null,"",null,""]
[null,null,"",null,"",null,""]
[null,null,"",null,"",null,""]
[null,null,"",null,"",null,""]
[null,null,"",null,"",null,""]
[null,null,"",null,"",null,""]
[null,null,"",null,"",null,""]
[null,null,"",null,"",null,""]
[null,null,"",null,"",null,""]
[null,null,"",null,"",null,""]
[null,null,"",null,"",null,""]
[null,null,"",null,"",null,""]
[null,null,"",null,"",null,""]
[null,null,"",null,"",null,""]
[null,null,"",null,"",null,""]
[null,null,"",null,"",null,""]
[null,null,"",null,"",null,""]
[null,null,"",null,"",null,""]
[null,null,"",null,"",null,""]
[null,null,"",null,"",null,""]
[null,null,"",null,"",null,""]
[null,null,"",null,"",null,""]
[null,null,"",null,"",null,""]
[null,null,"",null,"",null,""]
[null,null,"",null,"",null,""]
[null,null,"",null,"",null,""]
[null,null,"",null,"",null,""]
[null,null,"",null,"",null,""]
[null,null,"",null,"",null,""]
[null,null,"",null,"",null,""]
[null,null,"",null,"",null,""]
[null,null,"",null,"",null,""]
[null,null,"",null,"",null,""]
[null,null,"",null,"",null,""]
[null,null,"",null,"",null,""]
[null,null,"",null,"",null,""]
[null,null,"",null,"",null,""]
[null,null,"",null,"",null,""]
[null,null,"",null,"",null,""]
[null,null,"",null,"",null,""]
[null,null,"",null,"",null,""]
[null,null,"",null,"",null,""]
[null,null,"",null,"",null,""]
[null,null,"",null,"",null,""]
[null,null,"",null,"",null,""]
[null,null,"",null,"",null,""]
[null,null,"",null,"",null,""]
[null,null,{"$f":"IF(Codigo_Produto=\"\",\"\",VLOOKUP(Codigo_Produto,Itens,2,FALSE))","v":""},null,{"$f":"IF(Codigo_Produto=\"\",\"\",VLOOKUP(Codigo_Produto,Itens,3,FALSE))","v":""},null,{"$f":"IF(Codigo_Produto=\"\",\"\",VLOOKUP(Codigo_Produto,Itens,5,FALSE))","v":""}]
[null,null,"",null,"",null,""]
[null,null,"",null,"",null,""]
[null,null,"",null,"",null,""]
[null,null,"",null,"",null,""]
[null,null,"",null,"",null,""]
[null,null,"",null,"",null,""]
[null,null,"",null,"",null,""]
[null,null,"",null,"",null,""]
[null,null,"",null,"",null,""]
[null,null,"",null,"",null,""]
[null,null,"",null,"",null,""]
[null,null,"",null,"",null,""]
[null,null,"",null,"",null,""]
[null,null,"",null,"",null,""]
[null,null,"",null,"",null,""]
[null,null,"",null,"",null,""]
[null,null,"",null,"",null,""]
[null,null,"",null,"",null,""]
[null,null,"",null,"",null,""]
[null,null,"",null,"",null,""]
[null,null,"",null,"",null,""]
[null,null,"",null,"",null,""]
[null,null,"",null,"",null,""]
[null,null,"",null,"",null,""]
[null,null,"",null,"",null,""]
[null,null,"",null,"",null,""]
[null,null,"",null,"",null,""]
[null,null,"",null,"",null,""]
[null,null,"",null,"",null,""]
[null,null,"",null,"",null,""]
[null,null,"",null,"",null,""]
[null,null,"",null,"",null,""]
[null,null,"",null,"",null,""]
[null,null,"",null,"",null,""]
[null,null,"",null,"",null,""]
[null,null,"",null,"",null,""]
[null,null,"",null,"",null,""]
[null,null,"",null,"",null,""]
[null,null,"",null,"",null,""]
[null,null,"",null,"",null,""]
[null,null,"",null,"",null,""]
[null,null,"",null,"",null,""]
[null,null,"",null,"",null,""]
[null,null,"",null,"",null,""]
[null,null,"",null,"",null,""]
[null,null,"",null,"",null,""]
[null,null,"",null,"",null,""]
[null,null,"",null,"",null,""]
[null,null,"",null,"",null,""]
[null,null,"",null,"",null,""]
[null,null,"",null,"",null,""]
[null,null,"",null,"",null,""]
[null,null,"",null,"",null,""]
[null,null,"",null,"",null,""]
[null,null,"",null,"",null,""]
[null,null,"",null,"",null,""]
[null,null,"",null,"",null,""]
[null,null,"",null,"",null,""]
[null,null,"",null,"",null,""]
[null,null,"",null,"",null,""]
[null,null,"",null,"",null,""]
[null,null,"",null,"",null,""]
[null,null,"",null,"",null,""]
[null,null,{"$f":"IF(Codigo_Produto=\"\",\"\",VLOOKUP(Codigo_Produto,Itens,2,FALSE))","v":""},null,{"$f":"IF(Codigo_Produto=\"\",\"\",VLOOKUP(Codigo_Produto,Itens,3,FALSE))","v":""},null,{"$f":"IF(Codigo_Produto=\"\",\"\",VLOOKUP(Codigo_Produto,Itens,5,FALSE))","v":""}]
[null,null,"",null,"",null,""]
[null,null,"",null,"",null,""]
[null,null,"",null,"",null,""]
[null,null,"",null,"",null,""]
[null,null,"",null,"",null,""]
[null,null,"",null,"",null,""]
[null,null,"",null,"",null,""]
[null,null,"",null,"",null,""]
[null,null,"",null,"",null,""]
[null,null,"",null,"",null,""]
[null,null,"",null,"",null,""]
[null,null,"",null,"",null,""]
[null,null,"",null,"",null,""]
[null,null,"",null,"",null,""]
[null,null,"",null,"",null,""]
[null,null,"",null,"",null,""]
[null,null,"",null,"",null,""]
[null,null,"",null,"",null,""]
[null,null,"",null,"",null,""]
[null,null,"",null,"",null,""]
[null,null,"",null,"",null,""]
[null,null,"",null,"",null,""]
[null,null,"",null,"",null,""]
[null,null,"",null,"",null,""]
[null,null,"",null,"",null,""]
[null,null,"",null,"",null,""]
[null,null,"",null,"",null,""]
[null,null,"",null,"",null,""]
[null,null,"",null,"",null,""]
[null,null,"",null,"",null,""]
[null,null,"",null,"",null,""]
[null,null,"",null,"",null,""]
[null,null,"",null,"",null,""]
[null,null,"",null,"",null,""]
[null,null,"",null,"",null,""]
[null,null,"",null,"",null,""]
[null,null,"",null,"",null,""]
[null,null,"",null,"",null,""]
[null,null,"",null,"",null,""]
[null,null,"",null,"",null,""]
[null,null,"",null,"",null,""]
[null,null,"",null,"",null,""]
[null,null,"",null,"",null,""]
[null,null,"",null,"",null,""]
[null,null,"",null,"",null,""]
[null,null,"",null,"",null,""]
[null,null,"",null,"",null,""]
[null,null,"",null,"",null,""]
[null,null,"",null,"",null,""]
[null,null,"",null,"",null,""]
[null,null,"",null,"",null,""]
[null,null,"",null,"",null,""]
[null,null,"",null,"",null,""]
[null,null,"",null,"",null,""]
[null,null,"",null,"",null,""]
[null,null,"",null,"",null,""]
[null,null,"",null,"",null,""]
[null,null,"",null,"",null,""]
[null,null,"",null,"",null,""]
[null,null,"",null,"",null,""]
[null,null,"",null,"",null,""]
[null,null,"",null,"",null,""]
[null,null,"",null,"",null,""]
[null,null,{"$f":"IF(Codigo_Produto=\"\",\"\",VLOOKUP(Codigo_Produto,Itens,2,FALSE))","v":""},null,{"$f":"IF(Codigo_Produto=\"\",\"\",VLOOKUP(Codigo_Produto,Itens,3,FALSE))","v":""},null,{"$f":"IF(Codigo_Produto=\"\",\"\",VLOOKUP(Codigo_Produto,Itens,5,FALSE))","v":""}]
[null,null,"",null,"",null,""]
[null,null,"",null,"",null,""]
[null,null,"",null,"",null,""]
[null,null,"",null,"",null,""]
[null,null,"",null,"",null,""]
[null,null,"",null,"",null,""]
[null,null,"",null,"",null,""]
[null,null,"",null,"",null,""]
[null,null,"",null,"",null,""]
[null,null,"",null,"",null,""]
[null,null,"",null,"",null,""]
[null,null,"",null,"",null,""]
[null,null,"",null,"",null,""]
[null,null,"",null,"",null,""]
[null,null,"",null,"",null,""]
[null,null,"",null,"",null,""]
[null,null,"",null,"",null,""]
[null,null,"",null,"",null,""]
[null,null,"",null,"",null,""]
[null,null,"",null,"",null,""]
[null,null,"",null,"",null,""]
[null,null,"",null,"",null,""]
[null,null,"",null,"",null,""]
[null,null,"",null,"",null,""]
[null,null,"",null,"",null,""]
[null,null,"",null,"",null,""]
[null,null,"",null,"",null,""]
[null,null,"",null,"",null,""]
[null,null,"",null,"",null,""]
[null,null,"",null,"",null,""]
[null,null,"",null,"",null,""]
[null,null,"",null,"",null,""]
[null,null,"",null,"",null,""]
[null,null,"",null,"",null,""]
[null,null,"",null,"",null,""]
[null,null,"",null,"",null,""]
[null,null,"",null,"",null,""]
[null,null,"",null,"",null,""]
[null,null,"",null,"",null,""]
[null,null,"",null,"",null,""]
[null,null,"",null,"",null,""]
[null,null,"",null,"",null,""]
[null,null,"",null,"",null,""]
[null,null,"",null,"",null,""]
[null,null,"",null,"",null,""]
[null,null,"",null,"",null,""]
[null,null,"",null,"",null,""]
[null,null,"",null,"",null,""]
[null,null,"",null,"",null,""]
[null,null,"",null,"",null,""]
[null,null,"",null,"",null,""]
[null,null,"",null,"",null,""]
[null,null,"",null,"",null,""]
[null,null,"",null,"",null,""]
[null,null,"",null,"",null,""]
[null,null,"",null,"",null,""]
[null,null,"",null,"",null,""]
[null,null,"",null,"",null,""]
[null,null,"",null,"",null,""]
[null,null,"",null,"",null,""]
[null,null,"",null,"",null,""]
[null,null,"",null,"",null,""]
[null,null,"",null,"",null,""]
[null,null,{"$f":"IF(Codigo_Produto=\"\",\"\",VLOOKUP(Codigo_Produto,Itens,2,FALSE))","v":""},null,{"$f":"IF(Codigo_Produto=\"\",\"\",VLOOKUP(Codigo_Produto,Itens,3,FALSE))","v":""},null,{"$f":"IF(Codigo_Produto=\"\",\"\",VLOOKUP(Codigo_Produto,Itens,5,FALSE))","v":""}]
[null,null,"",null,"",null,""]
[null,null,"",null,"",null,""]
[null,null,"",null,"",null,""]
[null,null,"",null,"",null,""]
[null,null,"",null,"",null,""]
[null,null,"",null,"",null,""]
[null,null,"",null,"",null,""]
[null,null,"",null,"",null,""]
[null,null,"",null,"",null,""]
[null,null,"",null,"",null,""]
[null,null,"",null,"",null,""]
[null,null,"",null,"",null,""]
[null,null,"",null,"",null,""]
[null,null,"",null,"",null,""]
[null,null,"",null,"",null,""]
[null,null,"",null,"",null,""]
[null,null,"",null,"",null,""]
[null,null,"",null,"",null,""]
[null,null,"",null,"",null,""]
[null,null,"",null,"",null,""]
[null,null,"",null,"",null,""]
[null,null,"",null,"",null,""]
[null,null,"",null,"",null,""]
[null,null,"",null,"",null,""]
[null,null,"",null,"",null,""]
[null,null,"",null,"",null,""]
[null,null,"",null,"",null,""]
[null,null,"",null,"",null,""]
[null,null,"",null,"",null,""]
[null,null,"",null,"",null,""]
[null,null,"",null,"",null,""]
[null,null,"",null,"",null,""]
[null,null,"",null,"",null,""]
[null,null,"",null,"",null,""]
[null,null,"",null,"",null,""]
[null,null,"",null,"",null,""]
[null,null,"",null,"",null,""]
[null,null,"",null,"",null,""]
[null,null,"",null,"",null,""]
[null,null,"",null,"",null,""]
[null,null,"",null,"",null,""]
[null,null,"",null,"",null,""]
[null,null,"",null,"",null,""]
[null,null,"",null,"",null,""]
[null,null,"",null,"",null,""]
[null,null,"",null,"",null,""]
[null,null,"",null,"",null,""]
[null,null,"",null,"",null,""]
[null,null,"",null,"",null,""]
[null,null,"",null,"",null,""]
[null,null,"",null,"",null,""]
[null,null,"",null,"",null,""]
[null,null,"",null,"",null,""]
[null,null,"",null,"",null,""]
[null,null,"",null,"",null,""]
[null,null,"",null,"",null,""]
[null,null,"",null,"",null,""]
[null,null,"",null,"",null,""]
[null,null,"",null,"",null,""]
[null,null,"",null,"",null,""]
[null,null,"",null,"",null,""]
[null,null,"",null,"",null,""]
[null,null,"",null,"",null,""]
[null,null,{"$f":"IF(Codigo_Produto=\"\",\"\",VLOOKUP(Codigo_Produto,Itens,2,FALSE))","v":""},null,{"$f":"IF(Codigo_Produto=\"\",\"\",VLOOKUP(Codigo_Produto,Itens,3,FALSE))","v":""},null,{"$f":"IF(Codigo_Produto=\"\",\"\",VLOOKUP(Codigo_Produto,Itens,5,FALSE))","v":""}]
[null,null,"",null,"",null,""]
[null,null,"",null,"",null,""]
[null,null,"",null,"",null,""]
[null,null,"",null,"",null,""]
[null,null,"",null,"",null,""]
[null,null,"",null,"",null,""]
[null,null,"",null,"",null,""]
[null,null,"",null,"",null,""]
[null,null,"",null,"",null,""]
[null,null,"",null,"",null,""]
[null,null,"",null,"",null,""]
[null,null,"",null,"",null,""]
[null,null,"",null,"",null,""]
[null,null,"",null,"",null,""]
[null,null,"",null,"",null,""]
[null,null,"",null,"",null,""]
[null,null,"",null,"",null,""]
[null,null,"",null,"",null,""]
[null,null,"",null,"",null,""]
[null,null,"",null,"",null,""]
[null,null,"",null,"",null,""]
[null,null,"",null,"",null,""]
[null,null,"",null,"",null,""]
[null,null,"",null,"",null,""]
[null,null,"",null,"",null,""]
[null,null,"",null,"",null,""]
[null,null,"",null,"",null,""]
[null,null,"",null,"",null,""]
[null,null,"",null,"",null,""]
[null,null,"",null,"",null,""]
[null,null,"",null,"",null,""]
[null,null,"",null,"",null,""]
[null,null,"",null,"",null,""]
[null,null,"",null,"",null,""]
[null,null,"",null,"",null,""]
[null,null,"",null,"",null,""]
[null,null,"",null,"",null,""]
[null,null,"",null,"",null,""]
[null,null,"",null,"",null,""]
[null,null,"",null,"",null,""]
[null,null,"",null,"",null,""]
[null,null,"",null,"",null,""]
[null,null,"",null,"",null,""]
[null,null,"",null,"",null,""]
[null,null,"",null,"",null,""]
[null,null,"",null,"",null,""]
[null,null,"",null,"",null,""]
[null,null,"",null,"",null,""]
[null,null,"",null,"",null,""]
[null,null,"",null,"",null,""]
[null,null,"",null,"",null,""]
[null,null,"",null,"",null,""]
[null,null,"",null,"",null,""]
[null,null,"",null,"",null,""]
[null,null,"",null,"",null,""]
[null,null,"",null,"",null,""]
[null,null,"",null,"",null,""]
[null,null,"",null,"",null,""]
[null,null,"",null,"",null,""]
[null,null,"",null,"",null,""]
[null,null,"",null,"",null,""]
[null,null,"",null,"",null,""]
[null,null,"",null,"",null,""]
[null,null,{"$f":"IF(Codigo_Produto=\"\",\"\",VLOOKUP(Codigo_Produto,Itens,2,FALSE))","v":""},null,{"$f":"IF(Codigo_Produto=\"\",\"\",VLOOKUP(Codigo_Produto,Itens,3,FALSE))","v":""},null,{"$f":"IF(Codigo_Produto=\"\",\"\",VLOOKUP(Codigo_Produto,Itens,5,FALSE))","v":""}]
[null,null,"",null,"",null,""]
[null,null,"",null,"",null,""]
[null,null,"",null,"",null,""]
[null,null,"",null,"",null,""]
[null,null,"",null,"",null,""]
[null,null,"",null,"",null,""]
[null,null,"",null,"",null,""]
[null,null,"",null,"",null,""]
[null,null,"",null,"",null,""]
[null,null,"",null,"",null,""]
[null,null,"",null,"",null,""]
[null,null,"",null,"",null,""]
[null,null,"",null,"",null,""]
[null,null,"",null,"",null,""]
[null,null,"",null,"",null,""]
[null,null,"",null,"",null,""]
[null,null,"",null,"",null,""]
[null,null,"",null,"",null,""]
[null,null,"",null,"",null,""]
[null,null,"",null,"",null,""]
[null,null,"",null,"",null,""]
[null,null,"",null,"",null,""]
[null,null,"",null,"",null,""]
[null,null,"",null,"",null,""]
[null,null,"",null,"",null,""]
[null,null,"",null,"",null,""]
[null,null,"",null,"",null,""]
[null,null,"",null,"",null,""]
[null,null,"",null,"",null,""]
[null,null,"",null,"",null,""]
[null,null,"",null,"",null,""]
[null,null,"",null,"",null,""]
[null,null,"",null,"",null,""]
[null,null,"",null,"",null,""]
[null,null,"",null,"",null,""]
[null,null,"",null,"",null,""]
[null,null,"",null,"",null,""]
[null,null,"",null,"",null,""]
[null,null,"",null,"",null,""]
[null,null,"",null,"",null,""]
[null,null,"",null,"",null,""]
[null,null,"",null,"",null,""]
[null,null,"",null,"",null,""]
[null,null,"",null,"",null,""]
[null,null,"",null,"",null,""]
[null,null,"",null,"",null,""]
[null,null,"",null,"",null,""]
[null,null,"",null,"",null,""]
[null,null,"",null,"",null,""]
[null,null,"",null,"",null,""]
[null,null,"",null,"",null,""]
[null,null,"",null,"",null,""]
[null,null,"",null,"",null,""]
[null,null,"",null,"",null,""]
[null,null,"",null,"",null,""]
[null,null,"",null,"",null,""]
[null,null,"",null,"",null,""]
[null,null,"",null,"",null,""]
[null,null,"",null,"",null,""]
[null,null,"",null,"",null,""]
[null,null,"",null,"",null,""]
[null,null,"",null,"",null,""]
[null,null,"",null,"",null,""]
[null,null,{"$f":"IF(Codigo_Produto=\"\",\"\",VLOOKUP(Codigo_Produto,Itens,2,FALSE))","v":""},null,{"$f":"IF(Codigo_Produto=\"\",\"\",VLOOKUP(Codigo_Produto,Itens,3,FALSE))","v":""},null,{"$f":"IF(Codigo_Produto=\"\",\"\",VLOOKUP(Codigo_Produto,Itens,5,FALSE))","v":""}]
[null,null,"",null,"",null,""]
[null,null,"",null,"",null,""]
[null,null,"",null,"",null,""]
[null,null,"",null,"",null,""]
[null,null,"",null,"",null,""]
[null,null,"",null,"",null,""]
[null,null,"",null,"",null,""]
[null,null,"",null,"",null,""]
[null,null,"",null,"",null,""]
[null,null,"",null,"",null,""]
[null,null,"",null,"",null,""]
[null,null,"",null,"",null,""]
[null,null,"",null,"",null,""]
[null,null,"",null,"",null,""]
[null,null,"",null,"",null,""]
[null,null,"",null,"",null,""]
[null,null,"",null,"",null,""]
[null,null,"",null,"",null,""]
[null,null,"",null,"",null,""]
[null,null,"",null,"",null,""]
[null,null,"",null,"",null,""]
[null,null,"",null,"",null,""]
[null,null,"",null,"",null,""]
[null,null,"",null,"",null,""]
[null,null,"",null,"",null,""]
[null,null,"",null,"",null,""]
[null,null,"",null,"",null,""]
[null,null,"",null,"",null,""]
[null,null,"",null,"",null,""]
[null,null,"",null,"",null,""]
[null,null,"",null,"",null,""]
[null,null,"",null,"",null,""]
[null,null,"",null,"",null,""]
[null,null,"",null,"",null,""]
[null,null,"",null,"",null,""]
[null,null,"",null,"",null,""]
[null,null,"",null,"",null,""]
[null,null,"",null,"",null,""]
[null,null,"",null,"",null,""]
[null,null,"",null,"",null,""]
[null,null,"",null,"",null,""]
[null,null,"",null,"",null,""]
[null,null,"",null,"",null,""]
[null,null,"",null,"",null,""]
[null,null,"",null,"",null,""]
[null,null,"",null,"",null,""]
[null,null,"",null,"",null,""]
[null,null,"",null,"",null,""]
[null,null,"",null,"",null,""]
[null,null,"",null,"",null,""]
[null,null,"",null,"",null,""]
[null,null,"",null,"",null,""]
[null,null,"",null,"",null,""]
[null,null,"",null,"",null,""]
[null,null,"",null,"",null,""]
[null,null,"",null,"",null,""]
[null,null,"",null,"",null,""]
[null,null,"",null,"",null,""]
[null,null,"",null,"",null,""]
[null,null,"",null,"",null,""]
[null,null,"",null,"",null,""]
[null,null,"",null,"",null,""]
[null,null,"",null,"",null,""]
[null,null,{"$f":"IF(Codigo_Produto=\"\",\"\",VLOOKUP(Codigo_Produto,Itens,2,FALSE))","v":""},null,{"$f":"IF(Codigo_Produto=\"\",\"\",VLOOKUP(Codigo_Produto,Itens,3,FALSE))","v":""},null,{"$f":"IF(Codigo_Produto=\"\",\"\",VLOOKUP(Codigo_Produto,Itens,5,FALSE))","v":""}]
[null,null,"",null,"",null,""]
[null,null,"",null,"",null,""]
[null,null,"",null,"",null,""]
[null,null,"",null,"",null,""]
[null,null,"",null,"",null,""]
[null,null,"",null,"",null,""]
[null,null,"",null,"",null,""]
[null,null,"",null,"",null,""]
[null,null,"",null,"",null,""]
[null,null,"",null,"",null,""]
[null,null,"",null,"",null,""]
[null,null,"",null,"",null,""]
[null,null,"",null,"",null,""]
[null,null,"",null,"",null,""]
[null,null,"",null,"",null,""]
[null,null,"",null,"",null,""]
[null,null,"",null,"",null,""]
[null,null,"",null,"",null,""]
[null,null,"",null,"",null,""]
[null,null,"",null,"",null,""]
[null,null,"",null,"",null,""]
[null,null,"",null,"",null,""]
[null,null,"",null,"",null,""]
[null,null,"",null,"",null,""]
[null,null,"",null,"",null,""]
[null,null,"",null,"",null,""]
[null,null,"",null,"",null,""]
[null,null,"",null,"",null,""]
[null,null,"",null,"",null,""]
[null,null,"",null,"",null,""]
[null,null,"",null,"",null,""]
[null,null,"",null,"",null,""]
[null,null,"",null,"",null,""]
[null,null,"",null,"",null,""]
[null,null,"",null,"",null,""]
[null,null,"",null,"",null,""]
[null,null,"",null,"",null,""]
[null,null,"",null,"",null,""]
[null,null,"",null,"",null,""]
[null,null,"",null,"",null,""]
[null,null,"",null,"",null,""]
[null,null,"",null,"",null,""]
[null,null,"",null,"",null,""]
[null,null,"",null,"",null,""]
[null,null,"",null,"",null,""]
[null,null,"",null,"",null,""]
[null,null,"",null,"",null,""]
[null,null,"",null,"",null,""]
[null,null,"",null,"",null,""]
[null,null,"",null,"",null,""]
[null,null,"",null,"",null,""]
[null,null,"",null,"",null,""]
[null,null,"",null,"",null,""]
[null,null,"",null,"",null,""]
[null,null,"",null,"",null,""]
[null,null,"",null,"",null,""]
[null,null,"",null,"",null,""]
[null,null,"",null,"",null,""]
[null,null,"",null,"",null,""]
[null,null,"",null,"",null,""]
[null,null,"",null,"",null,""]
[null,null,"",null,"",null,""]
[null,null,"",null,"",null,""]
[null,null,{"$f":"IF(Codigo_Produto=\"\",\"\",VLOOKUP(Codigo_Produto,Itens,2,FALSE))","v":""},null,{"$f":"IF(Codigo_Produto=\"\",\"\",VLOOKUP(Codigo_Produto,Itens,3,FALSE))","v":""},null,{"$f":"IF(Codigo_Produto=\"\",\"\",VLOOKUP(Codigo_Produto,Itens,5,FALSE))","v":""}]
[null,null,"",null,"",null,""]
[null,null,"",null,"",null,""]
[null,null,"",null,"",null,""]
[null,null,"",null,"",null,""]
[null,null,"",null,"",null,""]
[null,null,"",null,"",null,""]
[null,null,"",null,"",null,""]
[null,null,"",null,"",null,""]
[null,null,"",null,"",null,""]
[null,null,"",null,"",null,""]
[null,null,"",null,"",null,""]
[null,null,"",null,"",null,""]
[null,null,"",null,"",null,""]
[null,null,"",null,"",null,""]
[null,null,"",null,"",null,""]
[null,null,"",null,"",null,""]
[null,null,"",null,"",null,""]
[null,null,"",null,"",null,""]
[null,null,"",null,"",null,""]
[null,null,"",null,"",null,""]
[null,null,"",null,"",null,""]
[null,null,"",null,"",null,""]
[null,null,"",null,"",null,""]
[null,null,"",null,"",null,""]
[null,null,"",null,"",null,""]
[null,null,"",null,"",null,""]
[null,null,"",null,"",null,""]
[null,null,"",null,"",null,""]
[null,null,"",null,"",null,""]
[null,null,"",null,"",null,""]
[null,null,"",null,"",null,""]
[null,null,"",null,"",null,""]
[null,null,"",null,"",null,""]
[null,null,"",null,"",null,""]
[null,null,"",null,"",null,""]
[null,null,"",null,"",null,""]
[null,null,"",null,"",null,""]
[null,null,"",null,"",null,""]
[null,null,"",null,"",null,""]
[null,null,"",null,"",null,""]
[null,null,"",null,"",null,""]
[null,null,"",null,"",null,""]
[null,null,"",null,"",null,""]
[null,null,"",null,"",null,""]
[null,null,"",null,"",null,""]
[null,null,"",null,"",null,""]
[null,null,"",null,"",null,""]
[null,null,"",null,"",null,""]
[null,null,"",null,"",null,""]
[null,null,"",null,"",null,""]
[null,null,"",null,"",null,""]
[null,null,"",null,"",null,""]
[null,null,"",null,"",null,""]
[null,null,"",null,"",null,""]
[null,null,"",null,"",null,""]
[null,null,"",null,"",null,""]
[null,null,"",null,"",null,""]
[null,null,"",null,"",null,""]
[null,null,"",null,"",null,""]
[null,null,"",null,"",null,""]
[null,null,"",null,"",null,""]
[null,null,"",null,"",null,""]
[null,null,"",null,"",null,""]
[null,null,{"$f":"IF(Codigo_Produto=\"\",\"\",VLOOKUP(Codigo_Produto,Itens,2,FALSE))","v":""},null,{"$f":"IF(Codigo_Produto=\"\",\"\",VLOOKUP(Codigo_Produto,Itens,3,FALSE))","v":""},null,{"$f":"IF(Codigo_Produto=\"\",\"\",VLOOKUP(Codigo_Produto,Itens,5,FALSE))","v":""}]
[null,null,"",null,"",null,""]
[null,null,"",null,"",null,""]
[null,null,"",null,"",null,""]
[null,null,"",null,"",null,""]
[null,null,"",null,"",null,""]
[null,null,"",null,"",null,""]
[null,null,"",null,"",null,""]
[null,null,"",null,"",null,""]
[null,null,"",null,"",null,""]
[null,null,"",null,"",null,""]
[null,null,"",null,"",null,""]
[null,null,"",null,"",null,""]
[null,null,"",null,"",null,""]
[null,null,"",null,"",null,""]
[null,null,"",null,"",null,""]
[null,null,"",null,"",null,""]
[null,null,"",null,"",null,""]
[null,null,"",null,"",null,""]
[null,null,"",null,"",null,""]
[null,null,"",null,"",null,""]
[null,null,"",null,"",null,""]
[null,null,"",null,"",null,""]
[null,null,"",null,"",null,""]
[null,null,"",null,"",null,""]
[null,null,"",null,"",null,""]
[null,null,"",null,"",null,""]
[null,null,"",null,"",null,""]
[null,null,"",null,"",null,""]
[null,null,"",null,"",null,""]
[null,null,"",null,"",null,""]
[null,null,"",null,"",null,""]
[null,null,"",null,"",null,""]
[null,null,"",null,"",null,""]
[null,null,"",null,"",null,""]
[null,null,"",null,"",null,""]
[null,null,"",null,"",null,""]
[null,null,"",null,"",null,""]
[null,null,"",null,"",null,""]
[null,null,"",null,"",null,""]
[null,null,"",null,"",null,""]
[null,null,"",null,"",null,""]
[null,null,"",null,"",null,""]
[null,null,"",null,"",null,""]
[null,null,"",null,"",null,""]
[null,null,"",null,"",null,""]
[null,null,"",null,"",null,""]
[null,null,"",null,"",null,""]
[null,null,"",null,"",null,""]
[null,null,"",null,"",null,""]
[null,null,"",null,"",null,""]
[null,null,"",null,"",null,""]
[null,null,"",null,"",null,""]
[null,null,"",null,"",null,""]
[null,null,"",null,"",null,""]
[null,null,"",null,"",null,""]
[null,null,"",null,"",null,""]
[null,null,"",null,"",null,""]
[null,null,"",null,"",null,""]
[null,null,"",null,"",null,""]
[null,null,"",null,"",null,""]
[null,null,"",null,"",null,""]
[null,null,"",null,"",null,""]
[null,null,"",null,"",null,""]
[null,null,{"$f":"IF(Codigo_Produto=\"\",\"\",VLOOKUP(Codigo_Produto,Itens,2,FALSE))","v":""},null,{"$f":"IF(Codigo_Produto=\"\",\"\",VLOOKUP(Codigo_Produto,Itens,3,FALSE))","v":""},null,{"$f":"IF(Codigo_Produto=\"\",\"\",VLOOKUP(Codigo_Produto,Itens,5,FALSE))","v":""}]
[null,null,"",null,"",null,""]
[null,null,"",null,"",null,""]
[null,null,"",null,"",null,""]
[null,null,"",null,"",null,""]
[null,null,"",null,"",null,""]
[null,null,"",null,"",null,""]
[null,null,"",null,"",null,""]
[null,null,"",null,"",null,""]
[null,null,"",null,"",null,""]
[null,null,"",null,"",null,""]
[null,null,"",null,"",null,""]
[null,null,"",null,"",null,""]
[null,null,"",null,"",null,""]
[null,null,"",null,"",null,""]
[null,null,"",null,"",null,""]
[null,null,"",null,"",null,""]
[null,null,"",null,"",null,""]
[null,null,"",null,"",null,""]
[null,null,"",null,"",null,""]
[null,null,"",null,"",null,""]
[null,null,"",null,"",null,""]
[null,null,"",null,"",null,""]
[null,null,"",null,"",null,""]
[null,null,"",null,"",null,""]
[null,null,"",null,"",null,""]
[null,null,"",null,"",null,""]
[null,null,"",null,"",null,""]
[null,null,"",null,"",null,""]
[null,null,"",null,"",null,""]
[null,null,"",null,"",null,""]
[null,null,"",null,"",null,""]
[null,null,"",null,"",null,""]
[null,null,"",null,"",null,""]
[null,null,"",null,"",null,""]
[null,null,"",null,"",null,""]
[null,null,"",null,"",null,""]
[null,null,"",null,"",null,""]
[null,null,"",null,"",null,""]
[null,null,"",null,"",null,""]
[null,null,"",null,"",null,""]
[null,null,"",null,"",null,""]
[null,null,"",null,"",null,""]
[null,null,"",null,"",null,""]
[null,null,"",null,"",null,""]
[null,null,"",null,"",null,""]
[null,null,"",null,"",null,""]
[null,null,"",null,"",null,""]
[null,null,"",null,"",null,""]
[null,null,"",null,"",null,""]
[null,null,"",null,"",null,""]
[null,null,"",null,"",null,""]
[null,null,"",null,"",null,""]
[null,null,"",null,"",null,""]
[null,null,"",null,"",null,""]
[null,null,"",null,"",null,""]
[null,null,"",null,"",null,""]
[null,null,"",null,"",null,""]
[null,null,"",null,"",null,""]
[null,null,"",null,"",null,""]
[null,null,"",null,"",null,""]
[null,null,"",null,"",null,""]
[null,null,"",null,"",null,""]
[null,null,"",null,"",null,""]
[null,null,{"$f":"IF(Codigo_Produto=\"\",\"\",VLOOKUP(Codigo_Produto,Itens,2,FALSE))","v":""},null,{"$f":"IF(Codigo_Produto=\"\",\"\",VLOOKUP(Codigo_Produto,Itens,3,FALSE))","v":""},null,{"$f":"IF(Codigo_Produto=\"\",\"\",VLOOKUP(Codigo_Produto,Itens,5,FALSE))","v":""}]
[null,null,"",null,"",null,""]
[null,null,"",null,"",null,""]
[null,null,"",null,"",null,""]
[null,null,"",null,"",null,""]
[null,null,"",null,"",null,""]
[null,null,"",null,"",null,""]
[null,null,"",null,"",null,""]
[null,null,"",null,"",null,""]
[null,null,"",null,"",null,""]
[null,null,"",null,"",null,""]
[null,null,"",null,"",null,""]
[null,null,"",null,"",null,""]
[null,null,"",null,"",null,""]
[null,null,"",null,"",null,""]
[null,null,"",null,"",null,""]
[null,null,"",null,"",null,""]
[null,null,"",null,"",null,""]
[null,null,"",null,"",null,""]
[null,null,"",null,"",null,""]
[null,null,"",null,"",null,""]
[null,null,"",null,"",null,""]
[null,null,"",null,"",null,""]
[null,null,"",null,"",null,""]
[null,null,"",null,"",null,""]
[null,null,"",null,"",null,""]
[null,null,"",null,"",null,""]
[null,null,"",null,"",null,""]
[null,null,"",null,"",null,""]
[null,null,"",null,"",null,""]
[null,null,"",null,"",null,""]
[null,null,"",null,"",null,""]
[null,null,"",null,"",null,""]
[null,null,"",null,"",null,""]
[null,null,"",null,"",null,""]
[null,null,"",null,"",null,""]
[null,null,"",null,"",null,""]
[null,null,"",null,"",null,""]
[null,null,"",null,"",null,""]
[null,null,"",null,"",null,""]
[null,null,"",null,"",null,""]
[null,null,"",null,"",null,""]
[null,null,"",null,"",null,""]
[null,null,"",null,"",null,""]
[null,null,"",null,"",null,""]
[null,null,"",null,"",null,""]
[null,null,"",null,"",null,""]
[null,null,"",null,"",null,""]
[null,null,"",null,"",null,""]
[null,null,"",null,"",null,""]
[null,null,"",null,"",null,""]
[null,null,"",null,"",null,""]
[null,null,"",null,"",null,""]
[null,null,"",null,"",null,""]
[null,null,"",null,"",null,""]
[null,null,"",null,"",null,""]
[null,null,"",null,"",null,""]
[null,null,"",null,"",null,""]
[null,null,"",null,"",null,""]
[null,null,"",null,"",null,""]
[null,null,"",null,"",null,""]
[null,null,"",null,"",null,""]
[null,null,"",null,"",null,""]
[null,null,"",null,"",null,""]
[null,null,{"$f":"IF(Codigo_Produto=\"\",\"\",VLOOKUP(Codigo_Produto,Itens,2,FALSE))","v":""},null,{"$f":"IF(Codigo_Produto=\"\",\"\",VLOOKUP(Codigo_Produto,Itens,3,FALSE))","v":""},null,{"$f":"IF(Codigo_Produto=\"\",\"\",VLOOKUP(Codigo_Produto,Itens,5,FALSE))","v":""}]
[null,null,"",null,"",null,""]
[null,null,"",null,"",null,""]
[null,null,"",null,"",null,""]
[null,null,"",null,"",null,""]
[null,null,"",null,"",null,""]
[null,null,"",null,"",null,""]
[null,null,"",null,"",null,""]
[null,null,"",null,"",null,""]
[null,null,"",null,"",null,""]
[null,null,"",null,"",null,""]
[null,null,"",null,"",null,""]
[null,null,"",null,"",null,""]
[null,null,"",null,"",null,""]
[null,null,"",null,"",null,""]
[null,null,"",null,"",null,""]
[null,null,"",null,"",null,""]
[null,null,"",null,"",null,""]
[null,null,"",null,"",null,""]
[null,null,"",null,"",null,""]
[null,null,"",null,"",null,""]
[null,null,"",null,"",null,""]
[null,null,"",null,"",null,""]
[null,null,"",null,"",null,""]
[null,null,"",null,"",null,""]
[null,null,"",null,"",null,""]
[null,null,"",null,"",null,""]
[null,null,"",null,"",null,""]
[null,null,"",null,"",null,""]
[null,null,"",null,"",null,""]
[null,null,"",null,"",null,""]
[null,null,"",null,"",null,""]
[null,null,"",null,"",null,""]
[null,null,"",null,"",null,""]
[null,null,"",null,"",null,""]
[null,null,"",null,"",null,""]
[null,null,"",null,"",null,""]
[null,null,"",null,"",null,""]
[null,null,"",null,"",null,""]
[null,null,"",null,"",null,""]
[null,null,"",null,"",null,""]
[null,null,"",null,"",null,""]
[null,null,"",null,"",null,""]
[null,null,"",null,"",null,""]
[null,null,"",null,"",null,""]
[null,null,"",null,"",null,""]
[null,null,"",null,"",null,""]
[null,null,"",null,"",null,""]
[null,null,"",null,"",null,""]
[null,null,"",null,"",null,""]
[null,null,"",null,"",null,""]
[null,null,"",null,"",null,""]
[null,null,"",null,"",null,""]
[null,null,"",null,"",null,""]
[null,null,"",null,"",null,""]
[null,null,"",null,"",null,""]
[null,null,"",null,"",null,""]
[null,null,"",null,"",null,""]
[null,null,"",null,"",null,""]
[null,null,"",null,"",null,""]
[null,null,"",null,"",null,""]
[null,null,"",null,"",null,""]
[null,null,"",null,"",null,""]
[null,null,"",null,"",null,""]
[null,null,{"$f":"IF(Codigo_Produto=\"\",\"\",VLOOKUP(Codigo_Produto,Itens,2,FALSE))","v":""},null,{"$f":"IF(Codigo_Produto=\"\",\"\",VLOOKUP(Codigo_Produto,Itens,3,FALSE))","v":""},null,{"$f":"IF(Codigo_Produto=\"\",\"\",VLOOKUP(Codigo_Produto,Itens,5,FALSE))","v":""}]
[null,null,"",null,"",null,""]
[null,null,"",null,"",null,""]
[null,null,"",null,"",null,""]
[null,null,"",null,"",null,""]
[null,null,"",null,"",null,""]
[null,null,"",null,"",null,""]
[null,null,"",null,"",null,""]
[null,null,"",null,"",null,""]
[null,null,"",null,"",null,""]
[null,null,"",null,"",null,""]
[null,null,"",null,"",null,""]
[null,null,"",null,"",null,""]
[null,null,"",null,"",null,""]
[null,null,"",null,"",null,""]
[null,null,"",null,"",null,""]
[null,null,"",null,"",null,""]
[null,null,"",null,"",null,""]
[null,null,"",null,"",null,""]
[null,null,"",null,"",null,""]
[null,null,"",null,"",null,""]
[null,null,"",null,"",null,""]
[null,null,"",null,"",null,""]
[null,null,"",null,"",null,""]
[null,null,"",null,"",null,""]
[null,null,"",null,"",null,""]
[null,null,"",null,"",null,""]
[null,null,"",null,"",null,""]
[null,null,"",null,"",null,""]
[null,null,"",null,"",null,""]
[null,null,"",null,"",null,""]
[null,null,"",null,"",null,""]
[null,null,"",null,"",null,""]
[null,null,"",null,"",null,""]
[null,null,"",null,"",null,""]
[null,null,"",null,"",null,""]
[null,null,"",null,"",null,""]
[null,null,"",null,"",null,""]
[null,null,"",null,"",null,""]
[null,null,"",null,"",null,""]
[null,null,"",null,"",null,""]
[null,null,"",null,"",null,""]
[null,null,"",null,"",null,""]
[null,null,"",null,"",null,""]
[null,null,"",null,"",null,""]
[null,null,"",null,"",null,""]
[null,null,"",null,"",null,""]
[null,null,"",null,"",null,""]
[null,null,"",null,"",null,""]
[null,null,"",null,"",null,""]
[null,null,"",null,"",null,""]
[null,null,"",null,"",null,""]
[null,null,"",null,"",null,""]
[null,null,"",null,"",null,""]
[null,null,"",null,"",null,""]
[null,null,"",null,"",null,""]
[null,null,"",null,"",null,""]
[null,null,"",null,"",null,""]
[null,null,"",null,"",null,""]
[null,null,"",null,"",null,""]
[null,null,"",null,"",null,""]
[null,null,"",null,"",null,""]
[null,null,"",null,"",null,""]
[null,null,"",null,"",null,""]
[null,null,{"$f":"IF(Codigo_Produto=\"\",\"\",VLOOKUP(Codigo_Produto,Itens,2,FALSE))","v":""},null,{"$f":"IF(Codigo_Produto=\"\",\"\",VLOOKUP(Codigo_Produto,Itens,3,FALSE))","v":""},null,{"$f":"IF(Codigo_Produto=\"\",\"\",VLOOKUP(Codigo_Produto,Itens,5,FALSE))","v":""}]
[null,null,"",null,"",null,""]
[null,null,"",null,"",null,""]
[null,null,"",null,"",null,""]
[null,null,"",null,"",null,""]
[null,null,"",null,"",null,""]
[null,null,"",null,"",null,""]
[null,null,"",null,"",null,""]
[null,null,"",null,"",null,""]
[null,null,"",null,"",null,""]
[null,null,"",null,"",null,""]
[null,null,"",null,"",null,""]
[null,null,"",null,"",null,""]
[null,null,"",null,"",null,""]
[null,null,"",null,"",null,""]
[null,null,"",null,"",null,""]
[null,null,"",null,"",null,""]
[null,null,"",null,"",null,""]
[null,null,"",null,"",null,""]
[null,null,"",null,"",null,""]
[null,null,"",null,"",null,""]
[null,null,"",null,"",null,""]
[null,null,"",null,"",null,""]
[null,null,"",null,"",null,""]
[null,null,"",null,"",null,""]
[null,null,"",null,"",null,""]
[null,null,"",null,"",null,""]
[null,null,"",null,"",null,""]
[null,null,"",null,"",null,""]
[null,null,"",null,"",null,""]
[null,null,"",null,"",null,""]
[null,null,"",null,"",null,""]
[null,null,"",null,"",null,""]
[null,null,"",null,"",null,""]
[null,null,"",null,"",null,""]
[null,null,"",null,"",null,""]
[null,null,"",null,"",null,""]
[null,null,"",null,"",null,""]
[null,null,"",null,"",null,""]
[null,null,"",null,"",null,""]
[null,null,"",null,"",null,""]
[null,null,"",null,"",null,""]
[null,null,"",null,"",null,""]
[null,null,"",null,"",null,""]
[null,null,"",null,"",null,""]
[null,null,"",null,"",null,""]
[null,null,"",null,"",null,""]
[null,null,"",null,"",null,""]
[null,null,"",null,"",null,""]
[null,null,"",null,"",null,""]
[null,null,"",null,"",null,""]
[null,null,"",null,"",null,""]
[null,null,"",null,"",null,""]
[null,null,"",null,"",null,""]
[null,null,"",null,"",null,""]
[null,null,"",null,"",null,""]
[null,null,"",null,"",null,""]
[null,null,"",null,"",null,""]
[null,null,"",null,"",null,""]
[null,null,"",null,"",null,""]
[null,null,"",null,"",null,""]
[null,null,"",null,"",null,""]
[null,null,"",null,"",null,""]
[null,null,"",null,"",null,""]
[null,null,{"$f":"IF(Codigo_Produto=\"\",\"\",VLOOKUP(Codigo_Produto,Itens,2,FALSE))","v":""},null,{"$f":"IF(Codigo_Produto=\"\",\"\",VLOOKUP(Codigo_Produto,Itens,3,FALSE))","v":""},null,{"$f":"IF(Codigo_Produto=\"\",\"\",VLOOKUP(Codigo_Produto,Itens,5,FALSE))","v":""}]
[null,null,"",null,"",null,""]
[null,null,"",null,"",null,""]
[null,null,"",null,"",null,""]
[null,null,"",null,"",null,""]
[null,null,"",null,"",null,""]
[null,null,"",null,"",null,""]
[null,null,"",null,"",null,""]
[null,null,"",null,"",null,""]
[null,null,"",null,"",null,""]
[null,null,"",null,"",null,""]
[null,null,"",null,"",null,""]
[null,null,"",null,"",null,""]
[null,null,"",null,"",null,""]
[null,null,"",null,"",null,""]
[null,null,"",null,"",null,""]
[null,null,"",null,"",null,""]
[null,null,"",null,"",null,""]
[null,null,"",null,"",null,""]
[null,null,"",null,"",null,""]
[null,null,"",null,"",null,""]
[null,null,"",null,"",null,""]
[null,null,"",null,"",null,""]
[null,null,"",null,"",null,""]
[null,null,"",null,"",null,""]
[null,null,"",null,"",null,""]
[null,null,"",null,"",null,""]
[null,null,"",null,"",null,""]
[null,null,"",null,"",null,""]
[null,null,"",null,"",null,""]
[null,null,"",null,"",null,""]
[null,null,"",null,"",null,""]
[null,null,"",null,"",null,""]
[null,null,"",null,"",null,""]
[null,null,"",null,"",null,""]
[null,null,"",null,"",null,""]
[null,null,"",null,"",null,""]
[null,null,"",null,"",null,""]
[null,null,"",null,"",null,""]
[null,null,"",null,"",null,""]
[null,null,"",null,"",null,""]
[null,null,"",null,"",null,""]
[null,null,"",null,"",null,""]
[null,null,"",null,"",null,""]
[null,null,"",null,"",null,""]
[null,null,"",null,"",null,""]
[null,null,"",null,"",null,""]
[null,null,"",null,"",null,""]
[null,null,"",null,"",null,""]
[null,null,"",null,"",null,""]
[null,null,"",null,"",null,""]
[null,null,"",null,"",null,""]
[null,null,"",null,"",null,""]
[null,null,"",null,"",null,""]
[null,null,"",null,"",null,""]
[null,null,"",null,"",null,""]
[null,null,"",null,"",null,""]
[null,null,"",null,"",null,""]
[null,null,"",null,"",null,""]
[null,null,"",null,"",null,""]
[null,null,"",null,"",null,""]
[null,null,"",null,"",null,""]
[null,null,"",null,"",null,""]
[null,null,"",null,"",null,""]
[null,null,{"$f":"IF(Codigo_Produto=\"\",\"\",VLOOKUP(Codigo_Produto,Itens,2,FALSE))","v":""},null,{"$f":"IF(Codigo_Produto=\"\",\"\",VLOOKUP(Codigo_Produto,Itens,3,FALSE))","v":""},null,{"$f":"IF(Codigo_Produto=\"\",\"\",VLOOKUP(Codigo_Produto,Itens,5,FALSE))","v":""}]
[null,null,"",null,"",null,""]
[null,null,"",null,"",null,""]
[null,null,"",null,"",null,""]
[null,null,"",null,"",null,""]
[null,null,"",null,"",null,""]
[null,null,"",null,"",null,""]
[null,null,"",null,"",null,""]
[null,null,"",null,"",null,""]
[null,null,"",null,"",null,""]
[null,null,"",null,"",null,""]
[null,null,"",null,"",null,""]
[null,null,"",null,"",null,""]
[null,null,"",null,"",null,""]
[null,null,"",null,"",null,""]
[null,null,"",null,"",null,""]
[null,null,"",null,"",null,""]
[null,null,"",null,"",null,""]
[null,null,"",null,"",null,""]
[null,null,"",null,"",null,""]
[null,null,"",null,"",null,""]
[null,null,"",null,"",null,""]
[null,null,"",null,"",null,""]
[null,null,"",null,"",null,""]
[null,null,"",null,"",null,""]
[null,null,"",null,"",null,""]
[null,null,"",null,"",null,""]
[null,null,"",null,"",null,""]
[null,null,"",null,"",null,""]
[null,null,"",null,"",null,""]
[null,null,"",null,"",null,""]
[null,null,"",null,"",null,""]
[null,null,"",null,"",null,""]
[null,null,"",null,"",null,""]
[null,null,"",null,"",null,""]
[null,null,"",null,"",null,""]
[null,null,"",null,"",null,""]
[null,null,"",null,"",null,""]
[null,null,"",null,"",null,""]
[null,null,"",null,"",null,""]
[null,null,"",null,"",null,""]
[null,null,"",null,"",null,""]
[null,null,"",null,"",null,""]
[null,null,"",null,"",null,""]
[null,null,"",null,"",null,""]
[null,null,"",null,"",null,""]
[null,null,"",null,"",null,""]
[null,null,"",null,"",null,""]
[null,null,"",null,"",null,""]
[null,null,"",null,"",null,""]
[null,null,"",null,"",null,""]
[null,null,"",null,"",null,""]
[null,null,"",null,"",null,""]
[null,null,"",null,"",null,""]
[null,null,"",null,"",null,""]
[null,null,"",null,"",null,""]
[null,null,"",null,"",null,""]
[null,null,"",null,"",null,""]
[null,null,"",null,"",null,""]
[null,null,"",null,"",null,""]
[null,null,"",null,"",null,""]
[null,null,"",null,"",null,""]
[null,null,"",null,"",null,""]
[null,null,"",null,"",null,""]
[null,null,{"$f":"IF(Codigo_Produto=\"\",\"\",VLOOKUP(Codigo_Produto,Itens,2,FALSE))","v":""},null,{"$f":"IF(Codigo_Produto=\"\",\"\",VLOOKUP(Codigo_Produto,Itens,3,FALSE))","v":""},null,{"$f":"IF(Codigo_Produto=\"\",\"\",VLOOKUP(Codigo_Produto,Itens,5,FALSE))","v":""}]
[null,null,"",null,"",null,""]
[null,null,"",null,"",null,""]
[null,null,"",null,"",null,""]
[null,null,"",null,"",null,""]
[null,null,"",null,"",null,""]
[null,null,"",null,"",null,""]
[null,null,"",null,"",null,""]
[null,null,"",null,"",null,""]
[null,null,"",null,"",null,""]
[null,null,"",null,"",null,""]
[null,null,"",null,"",null,""]
[null,null,"",null,"",null,""]
[null,null,"",null,"",null,""]
[null,null,"",null,"",null,""]
[null,null,"",null,"",null,""]
[null,null,"",null,"",null,""]
[null,null,"",null,"",null,""]
[null,null,"",null,"",null,""]
[null,null,"",null,"",null,""]
[null,null,"",null,"",null,""]
[null,null,"",null,"",null,""]
[null,null,"",null,"",null,""]
[null,null,"",null,"",null,""]
[null,null,"",null,"",null,""]
[null,null,"",null,"",null,""]
[null,null,"",null,"",null,""]
[null,null,"",null,"",null,""]
[null,null,"",null,"",null,""]
[null,null,"",null,"",null,""]
[null,null,"",null,"",null,""]
[null,null,"",null,"",null,""]
[null,null,"",null,"",null,""]
[null,null,"",null,"",null,""]
[null,null,"",null,"",null,""]
[null,null,"",null,"",null,""]
[null,null,"",null,"",null,""]
[null,null,"",null,"",null,""]
[null,null,"",null,"",null,""]
[null,null,"",null,"",null,""]
[null,null,"",null,"",null,""]
[null,null,"",null,"",null,""]
[null,null,"",null,"",null,""]
[null,null,"",null,"",null,""]
[null,null,"",null,"",null,""]
[null,null,"",null,"",null,""]
[null,null,"",null,"",null,""]
[null,null,"",null,"",null,""]
[null,null,"",null,"",null,""]
[null,null,"",null,"",null,""]
[null,null,"",null,"",null,""]
[null,null,"",null,"",null,""]
[null,null,"",null,"",null,""]
[null,null,"",null,"",null,""]
[null,null,"",null,"",null,""]
[null,null,"",null,"",null,""]
[null,null,"",null,"",null,""]
[null,null,"",null,"",null,""]
[null,null,"",null,"",null,""]
[null,null,"",null,"",null,""]
[null,null,"",null,"",null,""]
[null,null,"",null,"",null,""]
[null,null,"",null,"",null,""]
[null,null,"",null,"",null,""]
[null,null,{"$f":"IF(Codigo_Produto=\"\",\"\",VLOOKUP(Codigo_Produto,Itens,2,FALSE))","v":""},null,{"$f":"IF(Codigo_Produto=\"\",\"\",VLOOKUP(Codigo_Produto,Itens,3,FALSE))","v":""},null,{"$f":"IF(Codigo_Produto=\"\",\"\",VLOOKUP(Codigo_Produto,Itens,5,FALSE))","v":""}]
[null,null,"",null,"",null,""]
[null,null,"",null,"",null,""]
[null,null,"",null,"",null,""]
[null,null,"",null,"",null,""]
[null,null,"",null,"",null,""]
[null,null,"",null,"",null,""]
[null,null,"",null,"",null,""]
[null,null,"",null,"",null,""]
[null,null,"",null,"",null,""]
[null,null,"",null,"",null,""]
[null,null,"",null,"",null,""]
[null,null,"",null,"",null,""]
[null,null,"",null,"",null,""]
[null,null,"",null,"",null,""]
[null,null,"",null,"",null,""]
[null,null,"",null,"",null,""]
[null,null,"",null,"",null,""]
[null,null,"",null,"",null,""]
[null,null,"",null,"",null,""]
[null,null,"",null,"",null,""]
[null,null,"",null,"",null,""]
[null,null,"",null,"",null,""]
[null,null,"",null,"",null,""]
[null,null,"",null,"",null,""]
[null,null,"",null,"",null,""]
[null,null,"",null,"",null,""]
[null,null,"",null,"",null,""]
[null,null,"",null,"",null,""]
[null,null,"",null,"",null,""]
[null,null,"",null,"",null,""]
[null,null,"",null,"",null,""]
[null,null,"",null,"",null,""]
[null,null,"",null,"",null,""]
[null,null,"",null,"",null,""]
[null,null,"",null,"",null,""]
[null,null,"",null,"",null,""]
[null,null,"",null,"",null,""]
[null,null,"",null,"",null,""]
[null,null,"",null,"",null,""]
[null,null,"",null,"",null,""]
[null,null,"",null,"",null,""]
[null,null,"",null,"",null,""]
[null,null,"",null,"",null,""]
[null,null,"",null,"",null,""]
[null,null,"",null,"",null,""]
[null,null,"",null,"",null,""]
[null,null,"",null,"",null,""]
[null,null,"",null,"",null,""]
[null,null,"",null,"",null,""]
[null,null,"",null,"",null,""]
[null,null,"",null,"",null,""]
[null,null,"",null,"",null,""]
[null,null,"",null,"",null,""]
[null,null,"",null,"",null,""]
[null,null,"",null,"",null,""]
[null,null,"",null,"",null,""]
[null,null,"",null,"",null,""]
[null,null,"",null,"",null,""]
[null,null,"",null,"",null,""]
[null,null,"",null,"",null,""]
[null,null,"",null,"",null,""]
[null,null,"",null,"",null,""]
[null,null,"",null,"",null,""]
[null,null,{"$f":"IF(Codigo_Produto=\"\",\"\",VLOOKUP(Codigo_Produto,Itens,2,FALSE))","v":""},null,{"$f":"IF(Codigo_Produto=\"\",\"\",VLOOKUP(Codigo_Produto,Itens,3,FALSE))","v":""},null,{"$f":"IF(Codigo_Produto=\"\",\"\",VLOOKUP(Codigo_Produto,Itens,5,FALSE))","v":""}]
[null,null,"",null,"",null,""]
[null,null,"",null,"",null,""]
[null,null,"",null,"",null,""]
[null,null,"",null,"",null,""]
[null,null,"",null,"",null,""]
[null,null,"",null,"",null,""]
[null,null,"",null,"",null,""]
[null,null,"",null,"",null,""]
[null,null,"",null,"",null,""]
[null,null,"",null,"",null,""]
[null,null,"",null,"",null,""]
[null,null,"",null,"",null,""]
[null,null,"",null,"",null,""]
[null,null,"",null,"",null,""]
[null,null,"",null,"",null,""]
[null,null,"",null,"",null,""]
[null,null,"",null,"",null,""]
[null,null,"",null,"",null,""]
[null,null,"",null,"",null,""]
[null,null,"",null,"",null,""]
[null,null,"",null,"",null,""]
[null,null,"",null,"",null,""]
[null,null,"",null,"",null,""]
[null,null,"",null,"",null,""]
[null,null,"",null,"",null,""]
[null,null,"",null,"",null,""]
[null,null,"",null,"",null,""]
[null,null,"",null,"",null,""]
[null,null,"",null,"",null,""]
[null,null,"",null,"",null,""]
[null,null,"",null,"",null,""]
[null,null,"",null,"",null,""]
[null,null,"",null,"",null,""]
[null,null,"",null,"",null,""]
[null,null,"",null,"",null,""]
[null,null,"",null,"",null,""]
[null,null,"",null,"",null,""]
[null,null,"",null,"",null,""]
[null,null,"",null,"",null,""]
[null,null,"",null,"",null,""]
[null,null,"",null,"",null,""]
[null,null,"",null,"",null,""]
[null,null,"",null,"",null,""]
[null,null,"",null,"",null,""]
[null,null,"",null,"",null,""]
[null,null,"",null,"",null,""]
[null,null,"",null,"",null,""]
[null,null,"",null,"",null,""]
[null,null,"",null,"",null,""]
[null,null,"",null,"",null,""]
[null,null,"",null,"",null,""]
[null,null,"",null,"",null,""]
[null,null,"",null,"",null,""]
[null,null,"",null,"",null,""]
[null,null,"",null,"",null,""]
[null,null,"",null,"",null,""]
[null,null,"",null,"",null,""]
[null,null,"",null,"",null,""]
[null,null,"",null,"",null,""]
[null,null,"",null,"",null,""]
[null,null,"",null,"",null,""]
[null,null,"",null,"",null,""]
[null,null,"",null,"",null,""]
[null,null,{"$f":"IF(Codigo_Produto=\"\",\"\",VLOOKUP(Codigo_Produto,Itens,2,FALSE))","v":""},null,{"$f":"IF(Codigo_Produto=\"\",\"\",VLOOKUP(Codigo_Produto,Itens,3,FALSE))","v":""},null,{"$f":"IF(Codigo_Produto=\"\",\"\",VLOOKUP(Codigo_Produto,Itens,5,FALSE))","v":""}]
[null,null,"",null,"",null,""]
[null,null,"",null,"",null,""]
[null,null,"",null,"",null,""]
[null,null,"",null,"",null,""]
[null,null,"",null,"",null,""]
[null,null,"",null,"",null,""]
[null,null,"",null,"",null,""]
[null,null,"",null,"",null,""]
[null,null,"",null,"",null,""]
[null,null,"",null,"",null,""]
[null,null,"",null,"",null,""]
[null,null,"",null,"",null,""]
[null,null,"",null,"",null,""]
[null,null,"",null,"",null,""]
[null,null,"",null,"",null,""]
[null,null,"",null,"",null,""]
[null,null,"",null,"",null,""]
[null,null,"",null,"",null,""]
[null,null,"",null,"",null,""]
[null,null,"",null,"",null,""]
[null,null,"",null,"",null,""]
[null,null,"",null,"",null,""]
[null,null,"",null,"",null,""]
[null,null,"",null,"",null,""]
[null,null,"",null,"",null,""]
[null,null,"",null,"",null,""]
[null,null,"",null,"",null,""]
[null,null,"",null,"",null,""]
[null,null,"",null,"",null,""]
[null,null,"",null,"",null,""]
[null,null,"",null,"",null,""]
[null,null,"",null,"",null,""]
[null,null,"",null,"",null,""]
[null,null,"",null,"",null,""]
[null,null,"",null,"",null,""]
[null,null,"",null,"",null,""]
[null,null,"",null,"",null,""]
[null,null,"",null,"",null,""]
[null,null,"",null,"",null,""]
[null,null,"",null,"",null,""]
[null,null,"",null,"",null,""]
[null,null,"",null,"",null,""]
[null,null,"",null,"",null,""]
[null,null,"",null,"",null,""]
[null,null,"",null,"",null,""]
[null,null,"",null,"",null,""]
[null,null,"",null,"",null,""]
[null,null,"",null,"",null,""]
[null,null,"",null,"",null,""]
[null,null,"",null,"",null,""]
[null,null,"",null,"",null,""]
[null,null,"",null,"",null,""]
[null,null,"",null,"",null,""]
[null,null,"",null,"",null,""]
[null,null,"",null,"",null,""]
[null,null,"",null,"",null,""]
[null,null,"",null,"",null,""]
[null,null,"",null,"",null,""]
[null,null,"",null,"",null,""]
[null,null,"",null,"",null,""]
[null,null,"",null,"",null,""]
[null,null,"",null,"",null,""]
[null,null,"",null,"",null,""]
[null,null,{"$f":"IF(Codigo_Produto=\"\",\"\",VLOOKUP(Codigo_Produto,Itens,2,FALSE))","v":""},null,{"$f":"IF(Codigo_Produto=\"\",\"\",VLOOKUP(Codigo_Produto,Itens,3,FALSE))","v":""},null,{"$f":"IF(Codigo_Produto=\"\",\"\",VLOOKUP(Codigo_Produto,Itens,5,FALSE))","v":""}]
[null,null,"",null,"",null,""]
[null,null,"",null,"",null,""]
[null,null,"",null,"",null,""]
[null,null,"",null,"",null,""]
[null,null,"",null,"",null,""]
[null,null,"",null,"",null,""]
[null,null,"",null,"",null,""]
[null,null,"",null,"",null,""]
[null,null,"",null,"",null,""]
[null,null,"",null,"",null,""]
[null,null,"",null,"",null,""]
[null,null,"",null,"",null,""]
[null,null,"",null,"",null,""]
[null,null,"",null,"",null,""]
[null,null,"",null,"",null,""]
[null,null,"",null,"",null,""]
[null,null,"",null,"",null,""]
[null,null,"",null,"",null,""]
[null,null,"",null,"",null,""]
[null,null,"",null,"",null,""]
[null,null,"",null,"",null,""]
[null,null,"",null,"",null,""]
[null,null,"",null,"",null,""]
[null,null,"",null,"",null,""]
[null,null,"",null,"",null,""]
[null,null,"",null,"",null,""]
[null,null,"",null,"",null,""]
[null,null,"",null,"",null,""]
[null,null,"",null,"",null,""]
[null,null,"",null,"",null,""]
[null,null,"",null,"",null,""]
[null,null,"",null,"",null,""]
[null,null,"",null,"",null,""]
[null,null,"",null,"",null,""]
[null,null,"",null,"",null,""]
[null,null,"",null,"",null,""]
[null,null,"",null,"",null,""]
[null,null,"",null,"",null,""]
[null,null,"",null,"",null,""]
[null,null,"",null,"",null,""]
[null,null,"",null,"",null,""]
[null,null,"",null,"",null,""]
[null,null,"",null,"",null,""]
[null,null,"",null,"",null,""]
[null,null,"",null,"",null,""]
[null,null,"",null,"",null,""]
[null,null,"",null,"",null,""]
[null,null,"",null,"",null,""]
[null,null,"",null,"",null,""]
[null,null,"",null,"",null,""]
[null,null,"",null,"",null,""]
[null,null,"",null,"",null,""]
[null,null,"",null,"",null,""]
[null,null,"",null,"",null,""]
[null,null,"",null,"",null,""]
[null,null,"",null,"",null,""]
[null,null,"",null,"",null,""]
[null,null,"",null,"",null,""]
[null,null,"",null,"",null,""]
[null,null,"",null,"",null,""]
[null,null,"",null,"",null,""]
[null,null,"",null,"",null,""]
[null,null,"",null,"",null,""]
[null,null,{"$f":"IF(Codigo_Produto=\"\",\"\",VLOOKUP(Codigo_Produto,Itens,2,FALSE))","v":""},null,{"$f":"IF(Codigo_Produto=\"\",\"\",VLOOKUP(Codigo_Produto,Itens,3,FALSE))","v":""},null,{"$f":"IF(Codigo_Produto=\"\",\"\",VLOOKUP(Codigo_Produto,Itens,5,FALSE))","v":""}]
[null,null,"",null,"",null,""]
[null,null,"",null,"",null,""]
[null,null,"",null,"",null,""]
[null,null,"",null,"",null,""]
[null,null,"",null,"",null,""]
[null,null,"",null,"",null,""]
[null,null,"",null,"",null,""]
[null,null,"",null,"",null,""]
[null,null,"",null,"",null,""]
[null,null,"",null,"",null,""]
[null,null,"",null,"",null,""]
[null,null,"",null,"",null,""]
[null,null,"",null,"",null,""]
[null,null,"",null,"",null,""]
[null,null,"",null,"",null,""]
[null,null,"",null,"",null,""]
[null,null,"",null,"",null,""]
[null,null,"",null,"",null,""]
[null,null,"",null,"",null,""]
[null,null,"",null,"",null,""]
[null,null,"",null,"",null,""]
[null,null,"",null,"",null,""]
[null,null,"",null,"",null,""]
[null,null,"",null,"",null,""]
[null,null,"",null,"",null,""]
[null,null,"",null,"",null,""]
[null,null,"",null,"",null,""]
[null,null,"",null,"",null,""]
[null,null,"",null,"",null,""]
[null,null,"",null,"",null,""]
[null,null,"",null,"",null,""]
[null,null,"",null,"",null,""]
[null,null,"",null,"",null,""]
[null,null,"",null,"",null,""]
[null,null,"",null,"",null,""]
[null,null,"",null,"",null,""]
[null,null,"",null,"",null,""]
[null,null,"",null,"",null,""]
[null,null,"",null,"",null,""]
[null,null,"",null,"",null,""]
[null,null,"",null,"",null,""]
[null,null,"",null,"",null,""]
[null,null,"",null,"",null,""]
[null,null,"",null,"",null,""]
[null,null,"",null,"",null,""]
[null,null,"",null,"",null,""]
[null,null,"",null,"",null,""]
[null,null,"",null,"",null,""]
[null,null,"",null,"",null,""]
[null,null,"",null,"",null,""]
[null,null,"",null,"",null,""]
[null,null,"",null,"",null,""]
[null,null,"",null,"",null,""]
[null,null,"",null,"",null,""]
[null,null,"",null,"",null,""]
[null,null,"",null,"",null,""]
[null,null,"",null,"",null,""]
[null,null,"",null,"",null,""]
[null,null,"",null,"",null,""]
[null,null,"",null,"",null,""]
[null,null,"",null,"",null,""]
[null,null,"",null,"",null,""]
[null,null,"",null,"",null,""]
[null,null,{"$f":"IF(Codigo_Produto=\"\",\"\",VLOOKUP(Codigo_Produto,Itens,2,FALSE))","v":""},null,{"$f":"IF(Codigo_Produto=\"\",\"\",VLOOKUP(Codigo_Produto,Itens,3,FALSE))","v":""},null,{"$f":"IF(Codigo_Produto=\"\",\"\",VLOOKUP(Codigo_Produto,Itens,5,FALSE))","v":""}]
[null,null,"",null,"",null,""]
[null,null,"",null,"",null,""]
[null,null,"",null,"",null,""]
[null,null,"",null,"",null,""]
[null,null,"",null,"",null,""]
[null,null,"",null,"",null,""]
[null,null,"",null,"",null,""]
[null,null,"",null,"",null,""]
[null,null,"",null,"",null,""]
[null,null,"",null,"",null,""]
[null,null,"",null,"",null,""]
[null,null,"",null,"",null,""]
[null,null,"",null,"",null,""]
[null,null,"",null,"",null,""]
[null,null,"",null,"",null,""]
[null,null,"",null,"",null,""]
[null,null,"",null,"",null,""]
[null,null,"",null,"",null,""]
[null,null,"",null,"",null,""]
[null,null,"",null,"",null,""]
[null,null,"",null,"",null,""]
[null,null,"",null,"",null,""]
[null,null,"",null,"",null,""]
[null,null,"",null,"",null,""]
[null,null,"",null,"",null,""]
[null,null,"",null,"",null,""]
[null,null,"",null,"",null,""]
[null,null,"",null,"",null,""]
[null,null,"",null,"",null,""]
[null,null,"",null,"",null,""]
[null,null,"",null,"",null,""]
[null,null,"",null,"",null,""]
[null,null,"",null,"",null,""]
[null,null,"",null,"",null,""]
[null,null,"",null,"",null,""]
[null,null,"",null,"",null,""]
[null,null,"",null,"",null,""]
[null,null,"",null,"",null,""]
[null,null,"",null,"",null,""]
[null,null,"",null,"",null,""]
[null,null,"",null,"",null,""]
[null,null,"",null,"",null,""]
[null,null,"",null,"",null,""]
[null,null,"",null,"",null,""]
[null,null,"",null,"",null,""]
[null,null,"",null,"",null,""]
[null,null,"",null,"",null,""]
[null,null,"",null,"",null,""]
[null,null,"",null,"",null,""]
[null,null,"",null,"",null,""]
[null,null,"",null,"",null,""]
[null,null,"",null,"",null,""]
[null,null,"",null,"",null,""]
[null,null,"",null,"",null,""]
[null,null,"",null,"",null,""]
[null,null,"",null,"",null,""]
[null,null,"",null,"",null,""]
[null,null,"",null,"",null,""]
[null,null,"",null,"",null,""]
[null,null,"",null,"",null,""]
[null,null,"",null,"",null,""]
[null,null,"",null,"",null,""]
[null,null,"",null,"",null,""]
[null,null,{"$f":"IF(Codigo_Produto=\"\",\"\",VLOOKUP(Codigo_Produto,Itens,2,FALSE))","v":""},null,{"$f":"IF(Codigo_Produto=\"\",\"\",VLOOKUP(Codigo_Produto,Itens,3,FALSE))","v":""},null,{"$f":"IF(Codigo_Produto=\"\",\"\",VLOOKUP(Codigo_Produto,Itens,5,FALSE))","v":""}]
[null,null,"",null,"",null,""]
[null,null,"",null,"",null,""]
[null,null,"",null,"",null,""]
[null,null,"",null,"",null,""]
[null,null,"",null,"",null,""]
[null,null,"",null,"",null,""]
[null,null,"",null,"",null,""]
[null,null,"",null,"",null,""]
[null,null,"",null,"",null,""]
[null,null,"",null,"",null,""]
[null,null,"",null,"",null,""]
[null,null,"",null,"",null,""]
[null,null,"",null,"",null,""]
[null,null,"",null,"",null,""]
[null,null,"",null,"",null,""]
[null,null,"",null,"",null,""]
[null,null,"",null,"",null,""]
[null,null,"",null,"",null,""]
[null,null,"",null,"",null,""]
[null,null,"",null,"",null,""]
[null,null,"",null,"",null,""]
[null,null,"",null,"",null,""]
[null,null,"",null,"",null,""]
[null,null,"",null,"",null,""]
[null,null,"",null,"",null,""]
[null,null,"",null,"",null,""]
[null,null,"",null,"",null,""]
[null,null,"",null,"",null,""]
[null,null,"",null,"",null,""]
[null,null,"",null,"",null,""]
[null,null,"",null,"",null,""]
[null,null,"",null,"",null,""]
[null,null,"",null,"",null,""]
[null,null,"",null,"",null,""]
[null,null,"",null,"",null,""]
[null,null,"",null,"",null,""]
[null,null,"",null,"",null,""]
[null,null,"",null,"",null,""]
[null,null,"",null,"",null,""]
[null,null,"",null,"",null,""]
[null,null,"",null,"",null,""]
[null,null,"",null,"",null,""]
[null,null,"",null,"",null,""]
[null,null,"",null,"",null,""]
[null,null,"",null,"",null,""]
[null,null,"",null,"",null,""]
[null,null,"",null,"",null,""]
[null,null,"",null,"",null,""]
[null,null,"",null,"",null,""]
[null,null,"",null,"",null,""]
[null,null,"",null,"",null,""]
[null,null,"",null,"",null,""]
[null,null,"",null,"",null,""]
[null,null,"",null,"",null,""]
[null,null,"",null,"",null,""]
[null,null,"",null,"",null,""]
[null,null,"",null,"",null,""]
[null,null,"",null,"",null,""]
[null,null,"",null,"",null,""]
[null,null,"",null,"",null,""]
[null,null,"",null,"",null,""]
[null,null,"",null,"",null,""]
[null,null,"",null,"",null,""]
[null,null,{"$f":"IF(Codigo_Produto=\"\",\"\",VLOOKUP(Codigo_Produto,Itens,2,FALSE))","v":""},null,{"$f":"IF(Codigo_Produto=\"\",\"\",VLOOKUP(Codigo_Produto,Itens,3,FALSE))","v":""},null,{"$f":"IF(Codigo_Produto=\"\",\"\",VLOOKUP(Codigo_Produto,Itens,5,FALSE))","v":""}]
[null,null,"",null,"",null,""]
[null,null,"",null,"",null,""]
[null,null,"",null,"",null,""]
[null,null,"",null,"",null,""]
[null,null,"",null,"",null,""]
[null,null,"",null,"",null,""]
[null,null,"",null,"",null,""]
[null,null,"",null,"",null,""]
[null,null,"",null,"",null,""]
[null,null,"",null,"",null,""]
[null,null,"",null,"",null,""]
[null,null,"",null,"",null,""]
[null,null,"",null,"",null,""]
[null,null,"",null,"",null,""]
[null,null,"",null,"",null,""]
[null,null,"",null,"",null,""]
[null,null,"",null,"",null,""]
[null,null,"",null,"",null,""]
[null,null,"",null,"",null,""]
[null,null,"",null,"",null,""]
[null,null,"",null,"",null,""]
[null,null,"",null,"",null,""]
[null,null,"",null,"",null,""]
[null,null,"",null,"",null,""]
[null,null,"",null,"",null,""]
[null,null,"",null,"",null,""]
[null,null,"",null,"",null,""]
[null,null,"",null,"",null,""]
[null,null,"",null,"",null,""]
[null,null,"",null,"",null,""]
[null,null,"",null,"",null,""]
[null,null,"",null,"",null,""]
[null,null,"",null,"",null,""]
[null,null,"",null,"",null,""]
[null,null,"",null,"",null,""]
[null,null,"",null,"",null,""]
[null,null,"",null,"",null,""]
[null,null,"",null,"",null,""]
[null,null,"",null,"",null,""]
[null,null,"",null,"",null,""]
[null,null,"",null,"",null,""]
[null,null,"",null,"",null,""]
[null,null,"",null,"",null,""]
[null,null,"",null,"",null,""]
[null,null,"",null,"",null,""]
[null,null,"",null,"",null,""]
[null,null,"",null,"",null,""]
[null,null,"",null,"",null,""]
[null,null,"",null,"",null,""]
[null,null,"",null,"",null,""]
[null,null,"",null,"",null,""]
[null,null,"",null,"",null,""]
[null,null,"",null,"",null,""]
[null,null,"",null,"",null,""]
[null,null,"",null,"",null,""]
[null,null,"",null,"",null,""]
[null,null,"",null,"",null,""]
[null,null,"",null,"",null,""]
[null,null,"",null,"",null,""]
[null,null,"",null,"",null,""]
[null,null,"",null,"",null,""]
[null,null,"",null,"",null,""]
[null,null,"",null,"",null,""]
[null,null,{"$f":"IF(Codigo_Produto=\"\",\"\",VLOOKUP(Codigo_Produto,Itens,2,FALSE))","v":""},null,{"$f":"IF(Codigo_Produto=\"\",\"\",VLOOKUP(Codigo_Produto,Itens,3,FALSE))","v":""},null,{"$f":"IF(Codigo_Produto=\"\",\"\",VLOOKUP(Codigo_Produto,Itens,5,FALSE))","v":""}]
[null,null,"",null,"",null,""]
[null,null,"",null,"",null,""]
[null,null,"",null,"",null,""]
[null,null,"",null,"",null,""]
[null,null,"",null,"",null,""]

{"sheet":"Vendas","index":5,"n_rows":4999,"n_cols":16,"rows_kept":4999,"cut":false,"hidden":false,"merged":[[12,15,12,24],[0,0,0,12]]}
["Vendas realizadas"]
["Código de Cliente","Nome do Cliente","Produto Comprado","Descrição","Unidade","Quantidade Comprada","Preço","Total da compra","Status","Rastreamento","Rastreie aqui","Data da Venda","Mês"]
["abc",{"$f":"IF(codigo_cliente=\"\",\"\",VLOOKUP(codigo_cliente,Clientes,2,FALSE))","v":"Maria Madalena"},333,{"$f":"IF(C3=\"\",\"\",VLOOKUP(C3,Itens,2,FALSE))","v":"CD Rom"},{"$f":"IF(C3=\"\",\"\",VLOOKUP(C3,Itens,3,FALSE))","v":"PC"},10,{"$f":"IF(C3=\"\",\"\",VLOOKUP(C3,Itens,5,FALSE))","v":15},{"$f":"IFERROR(F3*G3,\"\")","v":150},"Entregue","OA579032108BR",{"$f":"IF(J3=\"\",\"\",HYPERLINK($P$13&J3,\"Rastreie aqui\"))","v":"Rastreie aqui"},"2014-01-02","Janeiro"]
["abc","Maria Madalena",111,"Memoria Ram","PÇ",4,80,{"$f":"IFERROR(F4*G4,\"\")","v":320},"Entregue","OA579032108BR",{"$f":"IF(J4=\"\",\"\",HYPERLINK($P$13&J4,\"Rastreie aqui\"))","v":"Rastreie aqui"},"2014-02-03","Janeiro"]
["bcd","João da Silva",222,"HD","PÇ",4,65,260,"Entregue",null,"","2014-02-05","Agosto"]
["vbf","Julio Cesar",222,"HD","PÇ",1,65,65,"Entregue",null,"","2014-02-12","Dezembro"]
["bcd","João da Silva",111,"Memoria Ram","PÇ",2,80,160,"Despachado",null,"","2014-01-31","Dezembro"]
["bcd","João da Silva",111,"Memoria Ram","PÇ",6,80,480,"Entregue",null,"","2014-06-07","Julho"]
["abc","Maria Madalena",111,"Memoria Ram","PÇ",3,80,240,"Despachado",null,"","2014-07-08","Julho"]
["afg","Jose Ricardo",222,"HD","PÇ",2,65,130,"Despachado",null,"","2014-12-15","Dezembro"]
["abc","Maria Madalena",222,"HD","PÇ",8,65,520,"Despachado","OA579032108BR","Rastreie aqui","2014-09-10"]
[null,"",null,"","",null,"","",null,null,"","2014-10-11"]
[null,"",null,"","",null,"","",null,null,"","2014-11-12",null,null,null,"https://rastreamentocorreios.info/consulta/"]
[null,"",null,"","",null,"","",null,null,"","2014-12-13"]
[null,"",null,"","",null,"","",null,null,"","2014-10-11"]
[null,"",null,"","",null,"","",null,null,"","2014-01-01"]
[null,"",null,"","",null,"","",null,null,""]
[null,"",null,"","",null,"","",null,null,""]
[null,"",null,"","",null,"","",null,null,""]
[null,"",null,"","",null,"","",null,null,""]
[null,"",null,"","",null,"","",null,null,""]
[null,"",null,"","",null,"","",null,null,""]
[null,"",null,"","",null,"","",null,null,""]
[null,"",null,"","",null,"","",null,null,""]
[null,"",null,"","",null,"","",null,null,""]
[null,"",null,"","",null,"","",null,null,""]
[null,"",null,"","",null,"","",null,null,""]
[null,"",null,"","",null,"","",null,null,""]
[null,"",null,"","",null,"","",null,null,""]
[null,"",null,"","",null,"","",null,null,""]
[null,"",null,"","",null,"","",null,null,""]
[null,"",null,"","",null,"","",null,null,""]
[null,"",null,"","",null,"","",null,null,""]
[null,"",null,"","",null,"","",null,null,""]
[null,"",null,"","",null,"","",null,null,""]
[null,"",null,"","",null,"","",null,null,""]
[null,"",null,"","",null,"","",null,null,""]
[null,"",null,"","",null,"","",null,null,""]
[null,"",null,"","",null,"","",null,null,""]
[null,"",null,"","",null,"","",null,null,""]
[null,"",null,"","",null,"","",null,null,""]
[null,"",null,"","",null,"","",null,null,""]
[null,"",null,"","",null,"","",null,null,""]
[null,"",null,"","",null,"","",null,null,""]
[null,"",null,"","",null,"","",null,null,""]
[null,"",null,"","",null,"","",null,null,""]
[null,"",null,"","",null,"","",null,null,""]
[null,"",null,"","",null,"","",null,null,""]
[null,"",null,"","",null,"","",null,null,""]
[null,"",null,"","",null,"","",null,null,""]
[null,"",null,"","",null,"","",null,null,""]
[null,"",null,"","",null,"","",null,null,""]
[null,"",null,"","",null,"","",null,null,""]
[null,"",null,"","",null,"","",null,null,""]
[null,"",null,"","",null,"","",null,null,""]
[null,"",null,"","",null,"","",null,null,""]
[null,"",null,"","",null,"","",null,null,""]
[null,"",null,"","",null,"","",null,null,""]
[null,"",null,"","",null,"","",null,null,""]
[null,"",null,"","",null,"","",null,null,""]
[null,"",null,"","",null,"","",null,null,""]
[null,"",null,"","",null,"","",null,null,""]
[null,"",null,"","",null,"","",null,null,""]
[null,"",null,"","",null,"","",null,null,""]
[null,"",null,"","",null,"","",null,null,""]
[null,"",null,"","",null,"","",null,null,""]
[null,{"$f":"IF(codigo_cliente=\"\",\"\",VLOOKUP(codigo_cliente,Clientes,2,FALSE))","v":""},null,{"$f":"IF(C67=\"\",\"\",VLOOKUP(C67,Itens,2,FALSE))","v":""},{"$f":"IF(C67=\"\",\"\",VLOOKUP(C67,Itens,3,FALSE))","v":""},null,{"$f":"IF(C67=\"\",\"\",VLOOKUP(C67,Itens,5,FALSE))","v":""},"",null,null,""]
[null,"",null,"","",null,"",{"$f":"IFERROR(F68*G68,\"\")","v":""},null,null,{"$f":"IF(J68=\"\",\"\",HYPERLINK($P$13&J68,\"Rastreie aqui\"))","v":""}]
[null,"",null,"","",null,"","",null,null,""]
[null,"",null,"","",null,"","",null,null,""]
[null,"",null,"","",null,"","",null,null,""]
[null,"",null,"","",null,"","",null,null,""]
[null,"",null,"","",null,"","",null,null,""]
[null,"",null,"","",null,"","",null,null,""]
[null,"",null,"","",null,"","",null,null,""]
[null,"",null,"","",null,"","",null,null,""]
[null,"",null,"","",null,"","",null,null,""]
[null,"",null,"","",null,"","",null,null,""]
[null,"",null,"","",null,"","",null,null,""]
[null,"",null,"","",null,"","",null,null,""]
[null,"",null,"","",null,"","",null,null,""]
[null,"",null,"","",null,"","",null,null,""]
[null,"",null,"","",null,"","",null,null,""]
[null,"",null,"","",null,"","",null,null,""]
[null,"",null,"","",null,"","",null,null,""]
[null,"",null,"","",null,"","",null,null,""]
[null,"",null,"","",null,"","",null,null,""]
[null,"",null,"","",null,"","",null,null,""]
[null,"",null,"","",null,"","",null,null,""]
[null,"",null,"","",null,"","",null,null,""]
[null,"",null,"","",null,"","",null,null,""]
[null,"",null,"","",null,"","",null,null,""]
[null,"",null,"","",null,"","",null,null,""]
[null,"",null,"","",null,"","",null,null,""]
[null,"",null,"","",null,"","",null,null,""]
[null,"",null,"","",null,"","",null,null,""]
[null,"",null,"","",null,"","",null,null,""]
[null,"",null,"","",null,"","",null,null,""]
[null,"",null,"","",null,"","",null,null,""]
[null,"",null,"","",null,"","",null,null,""]
[null,"",null,"","",null,"","",null,null,""]
[null,"",null,"","",null,"","",null,null,""]
[null,"",null,"","",null,"","",null,null,""]
[null,"",null,"","",null,"","",null,null,""]
[null,"",null,"","",null,"","",null,null,""]
[null,"",null,"","",null,"","",null,null,""]
[null,"",null,"","",null,"","",null,null,""]
[null,"",null,"","",null,"","",null,null,""]
[null,"",null,"","",null,"","",null,null,""]
[null,"",null,"","",null,"","",null,null,""]
[null,"",null,"","",null,"","",null,null,""]
[null,"",null,"","",null,"","",null,null,""]
[null,"",null,"","",null,"","",null,null,""]
[null,"",null,"","",null,"","",null,null,""]
[null,"",null,"","",null,"","",null,null,""]
[null,"",null,"","",null,"","",null,null,""]
[null,"",null,"","",null,"","",null,null,""]
[null,"",null,"","",null,"","",null,null,""]
[null,"",null,"","",null,"","",null,null,""]
[null,"",null,"","",null,"","",null,null,""]
[null,"",null,"","",null,"","",null,null,""]
[null,"",null,"","",null,"","",null,null,""]
[null,"",null,"","",null,"","",null,null,""]
[null,"",null,"","",null,"","",null,null,""]
[null,"",null,"","",null,"","",null,null,""]
[null,"",null,"","",null,"","",null,null,""]
[null,"",null,"","",null,"","",null,null,""]
[null,"",null,"","",null,"","",null,null,""]
[null,"",null,"","",null,"","",null,null,""]
[null,"",null,"","",null,"","",null,null,""]
[null,{"$f":"IF(codigo_cliente=\"\",\"\",VLOOKUP(codigo_cliente,Clientes,2,FALSE))","v":""},null,{"$f":"IF(C131=\"\",\"\",VLOOKUP(C131,Itens,2,FALSE))","v":""},{"$f":"IF(C131=\"\",\"\",VLOOKUP(C131,Itens,3,FALSE))","v":""},null,{"$f":"IF(C131=\"\",\"\",VLOOKUP(C131,Itens,5,FALSE))","v":""},"",null,null,""]
[null,"",null,"","",null,"",{"$f":"IFERROR(F132*G132,\"\")","v":""},null,null,{"$f":"IF(J132=\"\",\"\",HYPERLINK($P$13&J132,\"Rastreie aqui\"))","v":""}]
[null,"",null,"","",null,"","",null,null,""]
[null,"",null,"","",null,"","",null,null,""]
[null,"",null,"","",null,"","",null,null,""]
[null,"",null,"","",null,"","",null,null,""]
[null,"",null,"","",null,"","",null,null,""]
[null,"",null,"","",null,"","",null,null,""]
[null,"",null,"","",null,"","",null,null,""]
[null,"",null,"","",null,"","",null,null,""]
[null,"",null,"","",null,"","",null,null,""]
[null,"",null,"","",null,"","",null,null,""]
[null,"",null,"","",null,"","",null,null,""]
[null,"",null,"","",null,"","",null,null,""]
[null,"",null,"","",null,"","",null,null,""]
[null,"",null,"","",null,"","",null,null,""]
[null,"",null,"","",null,"","",null,null,""]
[null,"",null,"","",null,"","",null,null,""]
[null,"",null,"","",null,"","",null,null,""]
[null,"",null,"","",null,"","",null,null,""]
[null,"",null,"","",null,"","",null,null,""]
[null,"",null,"","",null,"","",null,null,""]
[null,"",null,"","",null,"","",null,null,""]
[null,"",null,"","",null,"","",null,null,""]
[null,"",null,"","",null,"","",null,null,""]
[null,"",null,"","",null,"","",null,null,""]
[null,"",null,"","",null,"","",null,null,""]
[null,"",null,"","",null,"","",null,null,""]
[null,"",null,"","",null,"","",null,null,""]
[null,"",null,"","",null,"","",null,null,""]
[null,"",null,"","",null,"","",null,null,""]
[null,"",null,"","",null,"","",null,null,""]
[null,"",null,"","",null,"","",null,null,""]
[null,"",null,"","",null,"","",null,null,""]
[null,"",null,"","",null,"","",null,null,""]
[null,"",null,"","",null,"","",null,null,""]
[null,"",null,"","",null,"","",null,null,""]
[null,"",null,"","",null,"","",null,null,""]
[null,"",null,"","",null,"","",null,null,""]
[null,"",null,"","",null,"","",null,null,""]
[null,"",null,"","",null,"","",null,null,""]
[null,"",null,"","",null,"","",null,null,""]
[null,"",null,"","",null,"","",null,null,""]
[null,"",null,"","",null,"","",null,null,""]
[null,"",null,"","",null,"","",null,null,""]
[null,"",null,"","",null,"","",null,null,""]
[null,"",null,"","",null,"","",null,null,""]
[null,"",null,"","",null,"","",null,null,""]
[null,"",null,"","",null,"","",null,null,""]
[null,"",null,"","",null,"","",null,null,""]
[null,"",null,"","",null,"","",null,null,""]
[null,"",null,"","",null,"","",null,null,""]
[null,"",null,"","",null,"","",null,null,""]
[null,"",null,"","",null,"","",null,null,""]
[null,"",null,"","",null,"","",null,null,""]
[null,"",null,"","",null,"","",null,null,""]
[null,"",null,"","",null,"","",null,null,""]
[null,"",null,"","",null,"","",null,null,""]
[null,"",null,"","",null,"","",null,null,""]
[null,"",null,"","",null,"","",null,null,""]
[null,"",null,"","",null,"","",null,null,""]
[null,"",null,"","",null,"","",null,null,""]
[null,"",null,"","",null,"","",null,null,""]
[null,"",null,"","",null,"","",null,null,""]
[null,{"$f":"IF(codigo_cliente=\"\",\"\",VLOOKUP(codigo_cliente,Clientes,2,FALSE))","v":""},null,{"$f":"IF(C195=\"\",\"\",VLOOKUP(C195,Itens,2,FALSE))","v":""},{"$f":"IF(C195=\"\",\"\",VLOOKUP(C195,Itens,3,FALSE))","v":""},null,{"$f":"IF(C195=\"\",\"\",VLOOKUP(C195,Itens,5,FALSE))","v":""},"",null,null,""]
[null,"",null,"","",null,"",{"$f":"IFERROR(F196*G196,\"\")","v":""},null,null,{"$f":"IF(J196=\"\",\"\",HYPERLINK($P$13&J196,\"Rastreie aqui\"))","v":""}]
[null,"",null,"","",null,"","",null,null,""]
[null,"",null,"","",null,"","",null,null,""]
[null,"",null,"","",null,"","",null,null,""]
[null,"",null,"","",null,"","",null,null,""]
[null,"",null,"","",null,"","",null,null,""]
[null,"",null,"","",null,"","",null,null,""]
[null,"",null,"","",null,"","",null,null,""]
[null,"",null,"","",null,"","",null,null,""]
[null,"",null,"","",null,"","",null,null,""]
[null,"",null,"","",null,"","",null,null,""]
[null,"",null,"","",null,"","",null,null,""]
[null,"",null,"","",null,"","",null,null,""]
[null,"",null,"","",null,"","",null,null,""]
[null,"",null,"","",null,"","",null,null,""]
[null,"",null,"","",null,"","",null,null,""]
[null,"",null,"","",null,"","",null,null,""]
[null,"",null,"","",null,"","",null,null,""]
[null,"",null,"","",null,"","",null,null,""]
[null,"",null,"","",null,"","",null,null,""]
[null,"",null,"","",null,"","",null,null,""]
[null,"",null,"","",null,"","",null,null,""]
[null,"",null,"","",null,"","",null,null,""]
[null,"",null,"","",null,"","",null,null,""]
[null,"",null,"","",null,"","",null,null,""]
[null,"",null,"","",null,"","",null,null,""]
[null,"",null,"","",null,"","",null,null,""]
[null,"",null,"","",null,"","",null,null,""]
[null,"",null,"","",null,"","",null,null,""]
[null,"",null,"","",null,"","",null,null,""]
[null,"",null,"","",null,"","",null,null,""]
[null,"",null,"","",null,"","",null,null,""]
[null,"",null,"","",null,"","",null,null,""]
[null,"",null,"","",null,"","",null,null,""]
[null,"",null,"","",null,"","",null,null,""]
[null,"",null,"","",null,"","",null,null,""]
[null,"",null,"","",null,"","",null,null,""]
[null,"",null,"","",null,"","",null,null,""]
[null,"",null,"","",null,"","",null,null,""]
[null,"",null,"","",null,"","",null,null,""]
[null,"",null,"","",null,"","",null,null,""]
[null,"",null,"","",null,"","",null,null,""]
[null,"",null,"","",null,"","",null,null,""]
[null,"",null,"","",null,"","",null,null,""]
[null,"",null,"","",null,"","",null,null,""]
[null,"",null,"","",null,"","",null,null,""]
[null,"",null,"","",null,"","",null,null,""]
[null,"",null,"","",null,"","",null,null,""]
[null,"",null,"","",null,"","",null,null,""]
[null,"",null,"","",null,"","",null,null,""]
[null,"",null,"","",null,"","",null,null,""]
[null,"",null,"","",null,"","",null,null,""]
[null,"",null,"","",null,"","",null,null,""]
[null,"",null,"","",null,"","",null,null,""]
[null,"",null,"","",null,"","",null,null,""]
[null,"",null,"","",null,"","",null,null,""]
[null,"",null,"","",null,"","",null,null,""]
[null,"",null,"","",null,"","",null,null,""]
[null,"",null,"","",null,"","",null,null,""]
[null,"",null,"","",null,"","",null,null,""]
[null,"",null,"","",null,"","",null,null,""]
[null,"",null,"","",null,"","",null,null,""]
[null,"",null,"","",null,"","",null,null,""]
[null,{"$f":"IF(codigo_cliente=\"\",\"\",VLOOKUP(codigo_cliente,Clientes,2,FALSE))","v":""},null,{"$f":"IF(C259=\"\",\"\",VLOOKUP(C259,Itens,2,FALSE))","v":""},{"$f":"IF(C259=\"\",\"\",VLOOKUP(C259,Itens,3,FALSE))","v":""},null,{"$f":"IF(C259=\"\",\"\",VLOOKUP(C259,Itens,5,FALSE))","v":""},"",null,null,""]
[null,"",null,"","",null,"",{"$f":"IFERROR(F260*G260,\"\")","v":""},null,null,{"$f":"IF(J260=\"\",\"\",HYPERLINK($P$13&J260,\"Rastreie aqui\"))","v":""}]
[null,"",null,"","",null,"","",null,null,""]
[null,"",null,"","",null,"","",null,null,""]
[null,"",null,"","",null,"","",null,null,""]
[null,"",null,"","",null,"","",null,null,""]
[null,"",null,"","",null,"","",null,null,""]
[null,"",null,"","",null,"","",null,null,""]
[null,"",null,"","",null,"","",null,null,""]
[null,"",null,"","",null,"","",null,null,""]
[null,"",null,"","",null,"","",null,null,""]
[null,"",null,"","",null,"","",null,null,""]
[null,"",null,"","",null,"","",null,null,""]
[null,"",null,"","",null,"","",null,null,""]
[null,"",null,"","",null,"","",null,null,""]
[null,"",null,"","",null,"","",null,null,""]
[null,"",null,"","",null,"","",null,null,""]
[null,"",null,"","",null,"","",null,null,""]
[null,"",null,"","",null,"","",null,null,""]
[null,"",null,"","",null,"","",null,null,""]
[null,"",null,"","",null,"","",null,null,""]
[null,"",null,"","",null,"","",null,null,""]
[null,"",null,"","",null,"","",null,null,""]
[null,"",null,"","",null,"","",null,null,""]
[null,"",null,"","",null,"","",null,null,""]
[null,"",null,"","",null,"","",null,null,""]
[null,"",null,"","",null,"","",null,null,""]
[null,"",null,"","",null,"","",null,null,""]
[null,"",null,"","",null,"","",null,null,""]
[null,"",null,"","",null,"","",null,null,""]
[null,"",null,"","",null,"","",null,null,""]
[null,"",null,"","",null,"","",null,null,""]
[null,"",null,"","",null,"","",null,null,""]
[null,"",null,"","",null,"","",null,null,""]
[null,"",null,"","",null,"","",null,null,""]
[null,"",null,"","",null,"","",null,null,""]
[null,"",null,"","",null,"","",null,null,""]
[null,"",null,"","",null,"","",null,null,""]
[null,"",null,"","",null,"","",null,null,""]
[null,"",null,"","",null,"","",null,null,""]
[null,"",null,"","",null,"","",null,null,""]
[null,"",null,"","",null,"","",null,null,""]
[null,"",null,"","",null,"","",null,null,""]
[null,"",null,"","",null,"","",null,null,""]
[null,"",null,"","",null,"","",null,null,""]
[null,"",null,"","",null,"","",null,null,""]
[null,"",null,"","",null,"","",null,null,""]
[null,"",null,"","",null,"","",null,null,""]
[null,"",null,"","",null,"","",null,null,""]
[null,"",null,"","",null,"","",null,null,""]
[null,"",null,"","",null,"","",null,null,""]
[null,"",null,"","",null,"","",null,null,""]
[null,"",null,"","",null,"","",null,null,""]
[null,"",null,"","",null,"","",null,null,""]
[null,"",null,"","",null,"","",null,null,""]
[null,"",null,"","",null,"","",null,null,""]
[null,"",null,"","",null,"","",null,null,""]
[null,"",null,"","",null,"","",null,null,""]
[null,"",null,"","",null,"","",null,null,""]
[null,"",null,"","",null,"","",null,null,""]
[null,"",null,"","",null,"","",null,null,""]
[null,"",null,"","",null,"","",null,null,""]
[null,"",null,"","",null,"","",null,null,""]
[null,"",null,"","",null,"","",null,null,""]
[null,{"$f":"IF(codigo_cliente=\"\",\"\",VLOOKUP(codigo_cliente,Clientes,2,FALSE))","v":""},null,{"$f":"IF(C323=\"\",\"\",VLOOKUP(C323,Itens,2,FALSE))","v":""},{"$f":"IF(C323=\"\",\"\",VLOOKUP(C323,Itens,3,FALSE))","v":""},null,{"$f":"IF(C323=\"\",\"\",VLOOKUP(C323,Itens,5,FALSE))","v":""},"",null,null,""]
[null,"",null,"","",null,"",{"$f":"IFERROR(F324*G324,\"\")","v":""},null,null,{"$f":"IF(J324=\"\",\"\",HYPERLINK($P$13&J324,\"Rastreie aqui\"))","v":""}]
[null,"",null,"","",null,"","",null,null,""]
[null,"",null,"","",null,"","",null,null,""]
[null,"",null,"","",null,"","",null,null,""]
[null,"",null,"","",null,"","",null,null,""]
[null,"",null,"","",null,"","",null,null,""]
[null,"",null,"","",null,"","",null,null,""]
[null,"",null,"","",null,"","",null,null,""]
[null,"",null,"","",null,"","",null,null,""]
[null,"",null,"","",null,"","",null,null,""]
[null,"",null,"","",null,"","",null,null,""]
[null,"",null,"","",null,"","",null,null,""]
[null,"",null,"","",null,"","",null,null,""]
[null,"",null,"","",null,"","",null,null,""]
[null,"",null,"","",null,"","",null,null,""]
[null,"",null,"","",null,"","",null,null,""]
[null,"",null,"","",null,"","",null,null,""]
[null,"",null,"","",null,"","",null,null,""]
[null,"",null,"","",null,"","",null,null,""]
[null,"",null,"","",null,"","",null,null,""]
[null,"",null,"","",null,"","",null,null,""]
[null,"",null,"","",null,"","",null,null,""]
[null,"",null,"","",null,"","",null,null,""]
[null,"",null,"","",null,"","",null,null,""]
[null,"",null,"","",null,"","",null,null,""]
[null,"",null,"","",null,"","",null,null,""]
[null,"",null,"","",null,"","",null,null,""]
[null,"",null,"","",null,"","",null,null,""]
[null,"",null,"","",null,"","",null,null,""]
[null,"",null,"","",null,"","",null,null,""]
[null,"",null,"","",null,"","",null,null,""]
[null,"",null,"","",null,"","",null,null,""]
[null,"",null,"","",null,"","",null,null,""]
[null,"",null,"","",null,"","",null,null,""]
[null,"",null,"","",null,"","",null,null,""]
[null,"",null,"","",null,"","",null,null,""]
[null,"",null,"","",null,"","",null,null,""]
[null,"",null,"","",null,"","",null,null,""]
[null,"",null,"","",null,"","",null,null,""]
[null,"",null,"","",null,"","",null,null,""]
[null,"",null,"","",null,"","",null,null,""]
[null,"",null,"","",null,"","",null,null,""]
[null,"",null,"","",null,"","",null,null,""]
[null,"",null,"","",null,"","",null,null,""]
[null,"",null,"","",null,"","",null,null,""]
[null,"",null,"","",null,"","",null,null,""]
[null,"",null,"","",null,"","",null,null,""]
[null,"",null,"","",null,"","",null,null,""]
[null,"",null,"","",null,"","",null,null,""]
[null,"",null,"","",null,"","",null,null,""]
[null,"",null,"","",null,"","",null,null,""]
[null,"",null,"","",null,"","",null,null,""]
[null,"",null,"","",null,"","",null,null,""]
[null,"",null,"","",null,"","",null,null,""]
[null,"",null,"","",null,"","",null,null,""]
[null,"",null,"","",null,"","",null,null,""]
[null,"",null,"","",null,"","",null,null,""]
[null,"",null,"","",null,"","",null,null,""]
[null,"",null,"","",null,"","",null,null,""]
[null,"",null,"","",null,"","",null,null,""]
[null,"",null,"","",null,"","",null,null,""]
[null,"",null,"","",null,"","",null,null,""]
[null,"",null,"","",null,"","",null,null,""]
[null,{"$f":"IF(codigo_cliente=\"\",\"\",VLOOKUP(codigo_cliente,Clientes,2,FALSE))","v":""},null,{"$f":"IF(C387=\"\",\"\",VLOOKUP(C387,Itens,2,FALSE))","v":""},{"$f":"IF(C387=\"\",\"\",VLOOKUP(C387,Itens,3,FALSE))","v":""},null,{"$f":"IF(C387=\"\",\"\",VLOOKUP(C387,Itens,5,FALSE))","v":""},"",null,null,""]
[null,"",null,"","",null,"",{"$f":"IFERROR(F388*G388,\"\")","v":""},null,null,{"$f":"IF(J388=\"\",\"\",HYPERLINK($P$13&J388,\"Rastreie aqui\"))","v":""}]
[null,"",null,"","",null,"","",null,null,""]
[null,"",null,"","",null,"","",null,null,""]
[null,"",null,"","",null,"","",null,null,""]
[null,"",null,"","",null,"","",null,null,""]
[null,"",null,"","",null,"","",null,null,""]
[null,"",null,"","",null,"","",null,null,""]
[null,"",null,"","",null,"","",null,null,""]
[null,"",null,"","",null,"","",null,null,""]
[null,"",null,"","",null,"","",null,null,""]
[null,"",null,"","",null,"","",null,null,""]
[null,"",null,"","",null,"","",null,null,""]
[null,"",null,"","",null,"","",null,null,""]
[null,"",null,"","",null,"","",null,null,""]
[null,"",null,"","",null,"","",null,null,""]
[null,"",null,"","",null,"","",null,null,""]
[null,"",null,"","",null,"","",null,null,""]
[null,"",null,"","",null,"","",null,null,""]
[null,"",null,"","",null,"","",null,null,""]
[null,"",null,"","",null,"","",null,null,""]
[null,"",null,"","",null,"","",null,null,""]
[null,"",null,"","",null,"","",null,null,""]
[null,"",null,"","",null,"","",null,null,""]
[null,"",null,"","",null,"","",null,null,""]
[null,"",null,"","",null,"","",null,null,""]
[null,"",null,"","",null,"","",null,null,""]
[null,"",null,"","",null,"","",null,null,""]
[null,"",null,"","",null,"","",null,null,""]
[null,"",null,"","",null,"","",null,null,""]
[null,"",null,"","",null,"","",null,null,""]
[null,"",null,"","",null,"","",null,null,""]
[null,"",null,"","",null,"","",null,null,""]
[null,"",null,"","",null,"","",null,null,""]
[null,"",null,"","",null,"","",null,null,""]
[null,"",null,"","",null,"","",null,null,""]
[null,"",null,"","",null,"","",null,null,""]
[null,"",null,"","",null,"","",null,null,""]
[null,"",null,"","",null,"","",null,null,""]
[null,"",null,"","",null,"","",null,null,""]
[null,"",null,"","",null,"","",null,null,""]
[null,"",null,"","",null,"","",null,null,""]
[null,"",null,"","",null,"","",null,null,""]
[null,"",null,"","",null,"","",null,null,""]
[null,"",null,"","",null,"","",null,null,""]
[null,"",null,"","",null,"","",null,null,""]
[null,"",null,"","",null,"","",null,null,""]
[null,"",null,"","",null,"","",null,null,""]
[null,"",null,"","",null,"","",null,null,""]
[null,"",null,"","",null,"","",null,null,""]
[null,"",null,"","",null,"","",null,null,""]
[null,"",null,"","",null,"","",null,null,""]
[null,"",null,"","",null,"","",null,null,""]
[null,"",null,"","",null,"","",null,null,""]
[null,"",null,"","",null,"","",null,null,""]
[null,"",null,"","",null,"","",null,null,""]
[null,"",null,"","",null,"","",null,null,""]
[null,"",null,"","",null,"","",null,null,""]
[null,"",null,"","",null,"","",null,null,""]
[null,"",null,"","",null,"","",null,null,""]
[null,"",null,"","",null,"","",null,null,""]
[null,"",null,"","",null,"","",null,null,""]
[null,"",null,"","",null,"","",null,null,""]
[null,"",null,"","",null,"","",null,null,""]
[null,{"$f":"IF(codigo_cliente=\"\",\"\",VLOOKUP(codigo_cliente,Clientes,2,FALSE))","v":""},null,{"$f":"IF(C451=\"\",\"\",VLOOKUP(C451,Itens,2,FALSE))","v":""},{"$f":"IF(C451=\"\",\"\",VLOOKUP(C451,Itens,3,FALSE))","v":""},null,{"$f":"IF(C451=\"\",\"\",VLOOKUP(C451,Itens,5,FALSE))","v":""},"",null,null,""]
[null,"",null,"","",null,"",{"$f":"IFERROR(F452*G452,\"\")","v":""},null,null,{"$f":"IF(J452=\"\",\"\",HYPERLINK($P$13&J452,\"Rastreie aqui\"))","v":""}]
[null,"",null,"","",null,"","",null,null,""]
[null,"",null,"","",null,"","",null,null,""]
[null,"",null,"","",null,"","",null,null,""]
[null,"",null,"","",null,"","",null,null,""]
[null,"",null,"","",null,"","",null,null,""]
[null,"",null,"","",null,"","",null,null,""]
[null,"",null,"","",null,"","",null,null,""]
[null,"",null,"","",null,"","",null,null,""]
[null,"",null,"","",null,"","",null,null,""]
[null,"",null,"","",null,"","",null,null,""]
[null,"",null,"","",null,"","",null,null,""]
[null,"",null,"","",null,"","",null,null,""]
[null,"",null,"","",null,"","",null,null,""]
[null,"",null,"","",null,"","",null,null,""]
[null,"",null,"","",null,"","",null,null,""]
[null,"",null,"","",null,"","",null,null,""]
[null,"",null,"","",null,"","",null,null,""]
[null,"",null,"","",null,"","",null,null,""]
[null,"",null,"","",null,"","",null,null,""]
[null,"",null,"","",null,"","",null,null,""]
[null,"",null,"","",null,"","",null,null,""]
[null,"",null,"","",null,"","",null,null,""]
[null,"",null,"","",null,"","",null,null,""]
[null,"",null,"","",null,"","",null,null,""]
[null,"",null,"","",null,"","",null,null,""]
[null,"",null,"","",null,"","",null,null,""]
[null,"",null,"","",null,"","",null,null,""]
[null,"",null,"","",null,"","",null,null,""]
[null,"",null,"","",null,"","",null,null,""]
[null,"",null,"","",null,"","",null,null,""]
[null,"",null,"","",null,"","",null,null,""]
[null,"",null,"","",null,"","",null,null,""]
[null,"",null,"","",null,"","",null,null,""]
[null,"",null,"","",null,"","",null,null,""]
[null,"",null,"","",null,"","",null,null,""]
[null,"",null,"","",null,"","",null,null,""]
[null,"",null,"","",null,"","",null,null,""]
[null,"",null,"","",null,"","",null,null,""]
[null,"",null,"","",null,"","",null,null,""]
[null,"",null,"","",null,"","",null,null,""]
[null,"",null,"","",null,"","",null,null,""]
[null,"",null,"","",null,"","",null,null,""]
[null,"",null,"","",null,"","",null,null,""]
[null,"",null,"","",null,"","",null,null,""]
[null,"",null,"","",null,"","",null,null,""]
[null,"",null,"","",null,"","",null,null,""]
[null,"",null,"","",null,"","",null,null,""]
[null,"",null,"","",null,"","",null,null,""]
[null,"",null,"","",null,"","",null,null,""]
[null,"",null,"","",null,"","",null,null,""]
[null,"",null,"","",null,"","",null,null,""]
[null,"",null,"","",null,"","",null,null,""]
[null,"",null,"","",null,"","",null,null,""]
[null,"",null,"","",null,"","",null,null,""]
[null,"",null,"","",null,"","",null,null,""]
[null,"",null,"","",null,"","",null,null,""]
[null,"",null,"","",null,"","",null,null,""]
[null,"",null,"","",null,"","",null,null,""]
[null,"",null,"","",null,"","",null,null,""]
[null,"",null,"","",null,"","",null,null,""]
[null,"",null,"","",null,"","",null,null,""]
[null,"",null,"","",null,"","",null,null,""]
[null,{"$f":"IF(codigo_cliente=\"\",\"\",VLOOKUP(codigo_cliente,Clientes,2,FALSE))","v":""},null,{"$f":"IF(C515=\"\",\"\",VLOOKUP(C515,Itens,2,FALSE))","v":""},{"$f":"IF(C515=\"\",\"\",VLOOKUP(C515,Itens,3,FALSE))","v":""},null,{"$f":"IF(C515=\"\",\"\",VLOOKUP(C515,Itens,5,FALSE))","v":""},"",null,null,""]
[null,"",null,"","",null,"",{"$f":"IFERROR(F516*G516,\"\")","v":""},null,null,{"$f":"IF(J516=\"\",\"\",HYPERLINK($P$13&J516,\"Rastreie aqui\"))","v":""}]
[null,"",null,"","",null,"","",null,null,""]
[null,"",null,"","",null,"","",null,null,""]
[null,"",null,"","",null,"","",null,null,""]
[null,"",null,"","",null,"","",null,null,""]
[null,"",null,"","",null,"","",null,null,""]
[null,"",null,"","",null,"","",null,null,""]
[null,"",null,"","",null,"","",null,null,""]
[null,"",null,"","",null,"","",null,null,""]
[null,"",null,"","",null,"","",null,null,""]
[null,"",null,"","",null,"","",null,null,""]
[null,"",null,"","",null,"","",null,null,""]
[null,"",null,"","",null,"","",null,null,""]
[null,"",null,"","",null,"","",null,null,""]
[null,"",null,"","",null,"","",null,null,""]
[null,"",null,"","",null,"","",null,null,""]
[null,"",null,"","",null,"","",null,null,""]
[null,"",null,"","",null,"","",null,null,""]
[null,"",null,"","",null,"","",null,null,""]
[null,"",null,"","",null,"","",null,null,""]
[null,"",null,"","",null,"","",null,null,""]
[null,"",null,"","",null,"","",null,null,""]
[null,"",null,"","",null,"","",null,null,""]
[null,"",null,"","",null,"","",null,null,""]
[null,"",null,"","",null,"","",null,null,""]
[null,"",null,"","",null,"","",null,null,""]
[null,"",null,"","",null,"","",null,null,""]
[null,"",null,"","",null,"","",null,null,""]
[null,"",null,"","",null,"","",null,null,""]
[null,"",null,"","",null,"","",null,null,""]
[null,"",null,"","",null,"","",null,null,""]
[null,"",null,"","",null,"","",null,null,""]
[null,"",null,"","",null,"","",null,null,""]
[null,"",null,"","",null,"","",null,null,""]
[null,"",null,"","",null,"","",null,null,""]
[null,"",null,"","",null,"","",null,null,""]
[null,"",null,"","",null,"","",null,null,""]
[null,"",null,"","",null,"","",null,null,""]
[null,"",null,"","",null,"","",null,null,""]
[null,"",null,"","",null,"","",null,null,""]
[null,"",null,"","",null,"","",null,null,""]
[null,"",null,"","",null,"","",null,null,""]
[null,"",null,"","",null,"","",null,null,""]
[null,"",null,"","",null,"","",null,null,""]
[null,"",null,"","",null,"","",null,null,""]
[null,"",null,"","",null,"","",null,null,""]
[null,"",null,"","",null,"","",null,null,""]
[null,"",null,"","",null,"","",null,null,""]
[null,"",null,"","",null,"","",null,null,""]
[null,"",null,"","",null,"","",null,null,""]
[null,"",null,"","",null,"","",null,null,""]
[null,"",null,"","",null,"","",null,null,""]
[null,"",null,"","",null,"","",null,null,""]
[null,"",null,"","",null,"","",null,null,""]
[null,"",null,"","",null,"","",null,null,""]
[null,"",null,"","",null,"","",null,null,""]
[null,"",null,"","",null,"","",null,null,""]
[null,"",null,"","",null,"","",null,null,""]
[null,"",null,"","",null,"","",null,null,""]
[null,"",null,"","",null,"","",null,null,""]
[null,"",null,"","",null,"","",null,null,""]
[null,"",null,"","",null,"","",null,null,""]
[null,"",null,"","",null,"","",null,null,""]
[null,{"$f":"IF(codigo_cliente=\"\",\"\",VLOOKUP(codigo_cliente,Clientes,2,FALSE))","v":""},null,{"$f":"IF(C579=\"\",\"\",VLOOKUP(C579,Itens,2,FALSE))","v":""},{"$f":"IF(C579=\"\",\"\",VLOOKUP(C579,Itens,3,FALSE))","v":""},null,{"$f":"IF(C579=\"\",\"\",VLOOKUP(C579,Itens,5,FALSE))","v":""},"",null,null,""]
[null,"",null,"","",null,"",{"$f":"IFERROR(F580*G580,\"\")","v":""},null,null,{"$f":"IF(J580=\"\",\"\",HYPERLINK($P$13&J580,\"Rastreie aqui\"))","v":""}]
[null,"",null,"","",null,"","",null,null,""]
[null,"",null,"","",null,"","",null,null,""]
[null,"",null,"","",null,"","",null,null,""]
[null,"",null,"","",null,"","",null,null,""]
[null,"",null,"","",null,"","",null,null,""]
[null,"",null,"","",null,"","",null,null,""]
[null,"",null,"","",null,"","",null,null,""]
[null,"",null,"","",null,"","",null,null,""]
[null,"",null,"","",null,"","",null,null,""]
[null,"",null,"","",null,"","",null,null,""]
[null,"",null,"","",null,"","",null,null,""]
[null,"",null,"","",null,"","",null,null,""]
[null,"",null,"","",null,"","",null,null,""]
[null,"",null,"","",null,"","",null,null,""]
[null,"",null,"","",null,"","",null,null,""]
[null,"",null,"","",null,"","",null,null,""]
[null,"",null,"","",null,"","",null,null,""]
[null,"",null,"","",null,"","",null,null,""]
[null,"",null,"","",null,"","",null,null,""]
[null,"",null,"","",null,"","",null,null,""]
[null,"",null,"","",null,"","",null,null,""]
[null,"",null,"","",null,"","",null,null,""]
[null,"",null,"","",null,"","",null,null,""]
[null,"",null,"","",null,"","",null,null,""]
[null,"",null,"","",null,"","",null,null,""]
[null,"",null,"","",null,"","",null,null,""]
[null,"",null,"","",null,"","",null,null,""]
[null,"",null,"","",null,"","",null,null,""]
[null,"",null,"","",null,"","",null,null,""]
[null,"",null,"","",null,"","",null,null,""]
[null,"",null,"","",null,"","",null,null,""]
[null,"",null,"","",null,"","",null,null,""]
[null,"",null,"","",null,"","",null,null,""]
[null,"",null,"","",null,"","",null,null,""]
[null,"",null,"","",null,"","",null,null,""]
[null,"",null,"","",null,"","",null,null,""]
[null,"",null,"","",null,"","",null,null,""]
[null,"",null,"","",null,"","",null,null,""]
[null,"",null,"","",null,"","",null,null,""]
[null,"",null,"","",null,"","",null,null,""]
[null,"",null,"","",null,"","",null,null,""]
[null,"",null,"","",null,"","",null,null,""]
[null,"",null,"","",null,"","",null,null,""]
[null,"",null,"","",null,"","",null,null,""]
[null,"",null,"","",null,"","",null,null,""]
[null,"",null,"","",null,"","",null,null,""]
[null,"",null,"","",null,"","",null,null,""]
[null,"",null,"","",null,"","",null,null,""]
[null,"",null,"","",null,"","",null,null,""]
[null,"",null,"","",null,"","",null,null,""]
[null,"",null,"","",null,"","",null,null,""]
[null,"",null,"","",null,"","",null,null,""]
[null,"",null,"","",null,"","",null,null,""]
[null,"",null,"","",null,"","",null,null,""]
[null,"",null,"","",null,"","",null,null,""]
[null,"",null,"","",null,"","",null,null,""]
[null,"",null,"","",null,"","",null,null,""]
[null,"",null,"","",null,"","",null,null,""]
[null,"",null,"","",null,"","",null,null,""]
[null,"",null,"","",null,"","",null,null,""]
[null,"",null,"","",null,"","",null,null,""]
[null,"",null,"","",null,"","",null,null,""]
[null,{"$f":"IF(codigo_cliente=\"\",\"\",VLOOKUP(codigo_cliente,Clientes,2,FALSE))","v":""},null,{"$f":"IF(C643=\"\",\"\",VLOOKUP(C643,Itens,2,FALSE))","v":""},{"$f":"IF(C643=\"\",\"\",VLOOKUP(C643,Itens,3,FALSE))","v":""},null,{"$f":"IF(C643=\"\",\"\",VLOOKUP(C643,Itens,5,FALSE))","v":""},"",null,null,""]
[null,"",null,"","",null,"",{"$f":"IFERROR(F644*G644,\"\")","v":""},null,null,{"$f":"IF(J644=\"\",\"\",HYPERLINK($P$13&J644,\"Rastreie aqui\"))","v":""}]
[null,"",null,"","",null,"","",null,null,""]
[null,"",null,"","",null,"","",null,null,""]
[null,"",null,"","",null,"","",null,null,""]
[null,"",null,"","",null,"","",null,null,""]
[null,"",null,"","",null,"","",null,null,""]
[null,"",null,"","",null,"","",null,null,""]
[null,"",null,"","",null,"","",null,null,""]
[null,"",null,"","",null,"","",null,null,""]
[null,"",null,"","",null,"","",null,null,""]
[null,"",null,"","",null,"","",null,null,""]
[null,"",null,"","",null,"","",null,null,""]
[null,"",null,"","",null,"","",null,null,""]
[null,"",null,"","",null,"","",null,null,""]
[null,"",null,"","",null,"","",null,null,""]
[null,"",null,"","",null,"","",null,null,""]
[null,"",null,"","",null,"","",null,null,""]
[null,"",null,"","",null,"","",null,null,""]
[null,"",null,"","",null,"","",null,null,""]
[null,"",null,"","",null,"","",null,null,""]
[null,"",null,"","",null,"","",null,null,""]
[null,"",null,"","",null,"","",null,null,""]
[null,"",null,"","",null,"","",null,null,""]
[null,"",null,"","",null,"","",null,null,""]
[null,"",null,"","",null,"","",null,null,""]
[null,"",null,"","",null,"","",null,null,""]
[null,"",null,"","",null,"","",null,null,""]
[null,"",null,"","",null,"","",null,null,""]
[null,"",null,"","",null,"","",null,null,""]
[null,"",null,"","",null,"","",null,null,""]
[null,"",null,"","",null,"","",null,null,""]
[null,"",null,"","",null,"","",null,null,""]
[null,"",null,"","",null,"","",null,null,""]
[null,"",null,"","",null,"","",null,null,""]
[null,"",null,"","",null,"","",null,null,""]
[null,"",null,"","",null,"","",null,null,""]
[null,"",null,"","",null,"","",null,null,""]
[null,"",null,"","",null,"","",null,null,""]
[null,"",null,"","",null,"","",null,null,""]
[null,"",null,"","",null,"","",null,null,""]
[null,"",null,"","",null,"","",null,null,""]
[null,"",null,"","",null,"","",null,null,""]
[null,"",null,"","",null,"","",null,null,""]
[null,"",null,"","",null,"","",null,null,""]
[null,"",null,"","",null,"","",null,null,""]
[null,"",null,"","",null,"","",null,null,""]
[null,"",null,"","",null,"","",null,null,""]
[null,"",null,"","",null,"","",null,null,""]
[null,"",null,"","",null,"","",null,null,""]
[null,"",null,"","",null,"","",null,null,""]
[null,"",null,"","",null,"","",null,null,""]
[null,"",null,"","",null,"","",null,null,""]
[null,"",null,"","",null,"","",null,null,""]
[null,"",null,"","",null,"","",null,null,""]
[null,"",null,"","",null,"","",null,null,""]
[null,"",null,"","",null,"","",null,null,""]
[null,"",null,"","",null,"","",null,null,""]
[null,"",null,"","",null,"","",null,null,""]
[null,"",null,"","",null,"","",null,null,""]
[null,"",null,"","",null,"","",null,null,""]
[null,"",null,"","",null,"","",null,null,""]
[null,"",null,"","",null,"","",null,null,""]
[null,"",null,"","",null,"","",null,null,""]
[null,{"$f":"IF(codigo_cliente=\"\",\"\",VLOOKUP(codigo_cliente,Clientes,2,FALSE))","v":""},null,{"$f":"IF(C707=\"\",\"\",VLOOKUP(C707,Itens,2,FALSE))","v":""},{"$f":"IF(C707=\"\",\"\",VLOOKUP(C707,Itens,3,FALSE))","v":""},null,{"$f":"IF(C707=\"\",\"\",VLOOKUP(C707,Itens,5,FALSE))","v":""},"",null,null,""]
[null,"",null,"","",null,"",{"$f":"IFERROR(F708*G708,\"\")","v":""},null,null,{"$f":"IF(J708=\"\",\"\",HYPERLINK($P$13&J708,\"Rastreie aqui\"))","v":""}]
[null,"",null,"","",null,"","",null,null,""]
[null,"",null,"","",null,"","",null,null,""]
[null,"",null,"","",null,"","",null,null,""]
[null,"",null,"","",null,"","",null,null,""]
[null,"",null,"","",null,"","",null,null,""]
[null,"",null,"","",null,"","",null,null,""]
[null,"",null,"","",null,"","",null,null,""]
[null,"",null,"","",null,"","",null,null,""]
[null,"",null,"","",null,"","",null,null,""]
[null,"",null,"","",null,"","",null,null,""]
[null,"",null,"","",null,"","",null,null,""]
[null,"",null,"","",null,"","",null,null,""]
[null,"",null,"","",null,"","",null,null,""]
[null,"",null,"","",null,"","",null,null,""]
[null,"",null,"","",null,"","",null,null,""]
[null,"",null,"","",null,"","",null,null,""]
[null,"",null,"","",null,"","",null,null,""]
[null,"",null,"","",null,"","",null,null,""]
[null,"",null,"","",null,"","",null,null,""]
[null,"",null,"","",null,"","",null,null,""]
[null,"",null,"","",null,"","",null,null,""]
[null,"",null,"","",null,"","",null,null,""]
[null,"",null,"","",null,"","",null,null,""]
[null,"",null,"","",null,"","",null,null,""]
[null,"",null,"","",null,"","",null,null,""]
[null,"",null,"","",null,"","",null,null,""]
[null,"",null,"","",null,"","",null,null,""]
[null,"",null,"","",null,"","",null,null,""]
[null,"",null,"","",null,"","",null,null,""]
[null,"",null,"","",null,"","",null,null,""]
[null,"",null,"","",null,"","",null,null,""]
[null,"",null,"","",null,"","",null,null,""]
[null,"",null,"","",null,"","",null,null,""]
[null,"",null,"","",null,"","",null,null,""]
[null,"",null,"","",null,"","",null,null,""]
[null,"",null,"","",null,"","",null,null,""]
[null,"",null,"","",null,"","",null,null,""]
[null,"",null,"","",null,"","",null,null,""]
[null,"",null,"","",null,"","",null,null,""]
[null,"",null,"","",null,"","",null,null,""]
[null,"",null,"","",null,"","",null,null,""]
[null,"",null,"","",null,"","",null,null,""]
[null,"",null,"","",null,"","",null,null,""]
[null,"",null,"","",null,"","",null,null,""]
[null,"",null,"","",null,"","",null,null,""]
[null,"",null,"","",null,"","",null,null,""]
[null,"",null,"","",null,"","",null,null,""]
[null,"",null,"","",null,"","",null,null,""]
[null,"",null,"","",null,"","",null,null,""]
[null,"",null,"","",null,"","",null,null,""]
[null,"",null,"","",null,"","",null,null,""]
[null,"",null,"","",null,"","",null,null,""]
[null,"",null,"","",null,"","",null,null,""]
[null,"",null,"","",null,"","",null,null,""]
[null,"",null,"","",null,"","",null,null,""]
[null,"",null,"","",null,"","",null,null,""]
[null,"",null,"","",null,"","",null,null,""]
[null,"",null,"","",null,"","",null,null,""]
[null,"",null,"","",null,"","",null,null,""]
[null,"",null,"","",null,"","",null,null,""]
[null,"",null,"","",null,"","",null,null,""]
[null,"",null,"","",null,"","",null,null,""]
[null,{"$f":"IF(codigo_cliente=\"\",\"\",VLOOKUP(codigo_cliente,Clientes,2,FALSE))","v":""},null,{"$f":"IF(C771=\"\",\"\",VLOOKUP(C771,Itens,2,FALSE))","v":""},{"$f":"IF(C771=\"\",\"\",VLOOKUP(C771,Itens,3,FALSE))","v":""},null,{"$f":"IF(C771=\"\",\"\",VLOOKUP(C771,Itens,5,FALSE))","v":""},"",null,null,""]
[null,"",null,"","",null,"",{"$f":"IFERROR(F772*G772,\"\")","v":""},null,null,{"$f":"IF(J772=\"\",\"\",HYPERLINK($P$13&J772,\"Rastreie aqui\"))","v":""}]
[null,"",null,"","",null,"","",null,null,""]
[null,"",null,"","",null,"","",null,null,""]
[null,"",null,"","",null,"","",null,null,""]
[null,"",null,"","",null,"","",null,null,""]
[null,"",null,"","",null,"","",null,null,""]
[null,"",null,"","",null,"","",null,null,""]
[null,"",null,"","",null,"","",null,null,""]
[null,"",null,"","",null,"","",null,null,""]
[null,"",null,"","",null,"","",null,null,""]
[null,"",null,"","",null,"","",null,null,""]
[null,"",null,"","",null,"","",null,null,""]
[null,"",null,"","",null,"","",null,null,""]
[null,"",null,"","",null,"","",null,null,""]
[null,"",null,"","",null,"","",null,null,""]
[null,"",null,"","",null,"","",null,null,""]
[null,"",null,"","",null,"","",null,null,""]
[null,"",null,"","",null,"","",null,null,""]
[null,"",null,"","",null,"","",null,null,""]
[null,"",null,"","",null,"","",null,null,""]
[null,"",null,"","",null,"","",null,null,""]
[null,"",null,"","",null,"","",null,null,""]
[null,"",null,"","",null,"","",null,null,""]
[null,"",null,"","",null,"","",null,null,""]
[null,"",null,"","",null,"","",null,null,""]
[null,"",null,"","",null,"","",null,null,""]
[null,"",null,"","",null,"","",null,null,""]
[null,"",null,"","",null,"","",null,null,""]
[null,"",null,"","",null,"","",null,null,""]
[null,"",null,"","",null,"","",null,null,""]
[null,"",null,"","",null,"","",null,null,""]
[null,"",null,"","",null,"","",null,null,""]
[null,"",null,"","",null,"","",null,null,""]
[null,"",null,"","",null,"","",null,null,""]
[null,"",null,"","",null,"","",null,null,""]
[null,"",null,"","",null,"","",null,null,""]
[null,"",null,"","",null,"","",null,null,""]
[null,"",null,"","",null,"","",null,null,""]
[null,"",null,"","",null,"","",null,null,""]
[null,"",null,"","",null,"","",null,null,""]
[null,"",null,"","",null,"","",null,null,""]
[null,"",null,"","",null,"","",null,null,""]
[null,"",null,"","",null,"","",null,null,""]
[null,"",null,"","",null,"","",null,null,""]
[null,"",null,"","",null,"","",null,null,""]
[null,"",null,"","",null,"","",null,null,""]
[null,"",null,"","",null,"","",null,null,""]
[null,"",null,"","",null,"","",null,null,""]
[null,"",null,"","",null,"","",null,null,""]
[null,"",null,"","",null,"","",null,null,""]
[null,"",null,"","",null,"","",null,null,""]
[null,"",null,"","",null,"","",null,null,""]
[null,"",null,"","",null,"","",null,null,""]
[null,"",null,"","",null,"","",null,null,""]
[null,"",null,"","",null,"","",null,null,""]
[null,"",null,"","",null,"","",null,null,""]
[null,"",null,"","",null,"","",null,null,""]
[null,"",null,"","",null,"","",null,null,""]
[null,"",null,"","",null,"","",null,null,""]
[null,"",null,"","",null,"","",null,null,""]
[null,"",null,"","",null,"","",null,null,""]
[null,"",null,"","",null,"","",null,null,""]
[null,"",null,"","",null,"","",null,null,""]
[null,{"$f":"IF(codigo_cliente=\"\",\"\",VLOOKUP(codigo_cliente,Clientes,2,FALSE))","v":""},null,{"$f":"IF(C835=\"\",\"\",VLOOKUP(C835,Itens,2,FALSE))","v":""},{"$f":"IF(C835=\"\",\"\",VLOOKUP(C835,Itens,3,FALSE))","v":""},null,{"$f":"IF(C835=\"\",\"\",VLOOKUP(C835,Itens,5,FALSE))","v":""},"",null,null,""]
[null,"",null,"","",null,"",{"$f":"IFERROR(F836*G836,\"\")","v":""},null,null,{"$f":"IF(J836=\"\",\"\",HYPERLINK($P$13&J836,\"Rastreie aqui\"))","v":""}]
[null,"",null,"","",null,"","",null,null,""]
[null,"",null,"","",null,"","",null,null,""]
[null,"",null,"","",null,"","",null,null,""]
[null,"",null,"","",null,"","",null,null,""]
[null,"",null,"","",null,"","",null,null,""]
[null,"",null,"","",null,"","",null,null,""]
[null,"",null,"","",null,"","",null,null,""]
[null,"",null,"","",null,"","",null,null,""]
[null,"",null,"","",null,"","",null,null,""]
[null,"",null,"","",null,"","",null,null,""]
[null,"",null,"","",null,"","",null,null,""]
[null,"",null,"","",null,"","",null,null,""]
[null,"",null,"","",null,"","",null,null,""]
[null,"",null,"","",null,"","",null,null,""]
[null,"",null,"","",null,"","",null,null,""]
[null,"",null,"","",null,"","",null,null,""]
[null,"",null,"","",null,"","",null,null,""]
[null,"",null,"","",null,"","",null,null,""]
[null,"",null,"","",null,"","",null,null,""]
[null,"",null,"","",null,"","",null,null,""]
[null,"",null,"","",null,"","",null,null,""]
[null,"",null,"","",null,"","",null,null,""]
[null,"",null,"","",null,"","",null,null,""]
[null,"",null,"","",null,"","",null,null,""]
[null,"",null,"","",null,"","",null,null,""]
[null,"",null,"","",null,"","",null,null,""]
[null,"",null,"","",null,"","",null,null,""]
[null,"",null,"","",null,"","",null,null,""]
[null,"",null,"","",null,"","",null,null,""]
[null,"",null,"","",null,"","",null,null,""]
[null,"",null,"","",null,"","",null,null,""]
[null,"",null,"","",null,"","",null,null,""]
[null,"",null,"","",null,"","",null,null,""]
[null,"",null,"","",null,"","",null,null,""]
[null,"",null,"","",null,"","",null,null,""]
[null,"",null,"","",null,"","",null,null,""]
[null,"",null,"","",null,"","",null,null,""]
[null,"",null,"","",null,"","",null,null,""]
[null,"",null,"","",null,"","",null,null,""]
[null,"",null,"","",null,"","",null,null,""]
[null,"",null,"","",null,"","",null,null,""]
[null,"",null,"","",null,"","",null,null,""]
[null,"",null,"","",null,"","",null,null,""]
[null,"",null,"","",null,"","",null,null,""]
[null,"",null,"","",null,"","",null,null,""]
[null,"",null,"","",null,"","",null,null,""]
[null,"",null,"","",null,"","",null,null,""]
[null,"",null,"","",null,"","",null,null,""]
[null,"",null,"","",null,"","",null,null,""]
[null,"",null,"","",null,"","",null,null,""]
[null,"",null,"","",null,"","",null,null,""]
[null,"",null,"","",null,"","",null,null,""]
[null,"",null,"","",null,"","",null,null,""]
[null,"",null,"","",null,"","",null,null,""]
[null,"",null,"","",null,"","",null,null,""]
[null,"",null,"","",null,"","",null,null,""]
[null,"",null,"","",null,"","",null,null,""]
[null,"",null,"","",null,"","",null,null,""]
[null,"",null,"","",null,"","",null,null,""]
[null,"",null,"","",null,"","",null,null,""]
[null,"",null,"","",null,"","",null,null,""]
[null,"",null,"","",null,"","",null,null,""]
[null,{"$f":"IF(codigo_cliente=\"\",\"\",VLOOKUP(codigo_cliente,Clientes,2,FALSE))","v":""},null,{"$f":"IF(C899=\"\",\"\",VLOOKUP(C899,Itens,2,FALSE))","v":""},{"$f":"IF(C899=\"\",\"\",VLOOKUP(C899,Itens,3,FALSE))","v":""},null,{"$f":"IF(C899=\"\",\"\",VLOOKUP(C899,Itens,5,FALSE))","v":""},"",null,null,""]
[null,"",null,"","",null,"",{"$f":"IFERROR(F900*G900,\"\")","v":""},null,null,{"$f":"IF(J900=\"\",\"\",HYPERLINK($P$13&J900,\"Rastreie aqui\"))","v":""}]
[null,"",null,"","",null,"","",null,null,""]
[null,"",null,"","",null,"","",null,null,""]
[null,"",null,"","",null,"","",null,null,""]
[null,"",null,"","",null,"","",null,null,""]
[null,"",null,"","",null,"","",null,null,""]
[null,"",null,"","",null,"","",null,null,""]
[null,"",null,"","",null,"","",null,null,""]
[null,"",null,"","",null,"","",null,null,""]
[null,"",null,"","",null,"","",null,null,""]
[null,"",null,"","",null,"","",null,null,""]
[null,"",null,"","",null,"","",null,null,""]
[null,"",null,"","",null,"","",null,null,""]
[null,"",null,"","",null,"","",null,null,""]
[null,"",null,"","",null,"","",null,null,""]
[null,"",null,"","",null,"","",null,null,""]
[null,"",null,"","",null,"","",null,null,""]
[null,"",null,"","",null,"","",null,null,""]
[null,"",null,"","",null,"","",null,null,""]
[null,"",null,"","",null,"","",null,null,""]
[null,"",null,"","",null,"","",null,null,""]
[null,"",null,"","",null,"","",null,null,""]
[null,"",null,"","",null,"","",null,null,""]
[null,"",null,"","",null,"","",null,null,""]
[null,"",null,"","",null,"","",null,null,""]
[null,"",null,"","",null,"","",null,null,""]
[null,"",null,"","",null,"","",null,null,""]
[null,"",null,"","",null,"","",null,null,""]
[null,"",null,"","",null,"","",null,null,""]
[null,"",null,"","",null,"","",null,null,""]
[null,"",null,"","",null,"","",null,null,""]
[null,"",null,"","",null,"","",null,null,""]
[null,"",null,"","",null,"","",null,null,""]
[null,"",null,"","",null,"","",null,null,""]
[null,"",null,"","",null,"","",null,null,""]
[null,"",null,"","",null,"","",null,null,""]
[null,"",null,"","",null,"","",null,null,""]
[null,"",null,"","",null,"","",null,null,""]
[null,"",null,"","",null,"","",null,null,""]
[null,"",null,"","",null,"","",null,null,""]
[null,"",null,"","",null,"","",null,null,""]
[null,"",null,"","",null,"","",null,null,""]
[null,"",null,"","",null,"","",null,null,""]
[null,"",null,"","",null,"","",null,null,""]
[null,"",null,"","",null,"","",null,null,""]
[null,"",null,"","",null,"","",null,null,""]
[null,"",null,"","",null,"","",null,null,""]
[null,"",null,"","",null,"","",null,null,""]
[null,"",null,"","",null,"","",null,null,""]
[null,"",null,"","",null,"","",null,null,""]
[null,"",null,"","",null,"","",null,null,""]
[null,"",null,"","",null,"","",null,null,""]
[null,"",null,"","",null,"","",null,null,""]
[null,"",null,"","",null,"","",null,null,""]
[null,"",null,"","",null,"","",null,null,""]
[null,"",null,"","",null,"","",null,null,""]
[null,"",null,"","",null,"","",null,null,""]
[null,"",null,"","",null,"","",null,null,""]
[null,"",null,"","",null,"","",null,null,""]
[null,"",null,"","",null,"","",null,null,""]
[null,"",null,"","",null,"","",null,null,""]
[null,"",null,"","",null,"","",null,null,""]
[null,"",null,"","",null,"","",null,null,""]
[null,{"$f":"IF(codigo_cliente=\"\",\"\",VLOOKUP(codigo_cliente,Clientes,2,FALSE))","v":""},null,{"$f":"IF(C963=\"\",\"\",VLOOKUP(C963,Itens,2,FALSE))","v":""},{"$f":"IF(C963=\"\",\"\",VLOOKUP(C963,Itens,3,FALSE))","v":""},null,{"$f":"IF(C963=\"\",\"\",VLOOKUP(C963,Itens,5,FALSE))","v":""},"",null,null,""]
[null,"",null,"","",null,"",{"$f":"IFERROR(F964*G964,\"\")","v":""},null,null,{"$f":"IF(J964=\"\",\"\",HYPERLINK($P$13&J964,\"Rastreie aqui\"))","v":""}]
[null,"",null,"","",null,"","",null,null,""]
[null,"",null,"","",null,"","",null,null,""]
[null,"",null,"","",null,"","",null,null,""]
[null,"",null,"","",null,"","",null,null,""]
[null,"",null,"","",null,"","",null,null,""]
[null,"",null,"","",null,"","",null,null,""]
[null,"",null,"","",null,"","",null,null,""]
[null,"",null,"","",null,"","",null,null,""]
[null,"",null,"","",null,"","",null,null,""]
[null,"",null,"","",null,"","",null,null,""]
[null,"",null,"","",null,"","",null,null,""]
[null,"",null,"","",null,"","",null,null,""]
[null,"",null,"","",null,"","",null,null,""]
[null,"",null,"","",null,"","",null,null,""]
[null,"",null,"","",null,"","",null,null,""]
[null,"",null,"","",null,"","",null,null,""]
[null,"",null,"","",null,"","",null,null,""]
[null,"",null,"","",null,"","",null,null,""]
[null,"",null,"","",null,"","",null,null,""]
[null,"",null,"","",null,"","",null,null,""]
[null,"",null,"","",null,"","",null,null,""]
[null,"",null,"","",null,"","",null,null,""]
[null,"",null,"","",null,"","",null,null,""]
[null,"",null,"","",null,"","",null,null,""]
[null,"",null,"","",null,"","",null,null,""]
[null,"",null,"","",null,"","",null,null,""]
[null,"",null,"","",null,"","",null,null,""]
[null,"",null,"","",null,"","",null,null,""]
[null,"",null,"","",null,"","",null,null,""]
[null,"",null,"","",null,"","",null,null,""]
[null,"",null,"","",null,"","",null,null,""]
[null,"",null,"","",null,"","",null,null,""]
[null,"",null,"","",null,"","",null,null,""]
[null,"",null,"","",null,"","",null,null,""]
[null,"",null,"","",null,"","",null,null,""]
[null,"",null,"","",null,"","",null,null,""]
[null,"",null,"","",null,"","",null,null,""]
[null,"",null,"","",null,"","",null,null,""]
[null,"",null,"","",null,"","",null,null,""]
[null,"",null,"","",null,"","",null,null,""]
[null,"",null,"","",null,"","",null,null,""]
[null,"",null,"","",null,"","",null,null,""]
[null,"",null,"","",null,"","",null,null,""]
[null,"",null,"","",null,"","",null,null,""]
[null,"",null,"","",null,"","",null,null,""]
[null,"",null,"","",null,"","",null,null,""]
[null,"",null,"","",null,"","",null,null,""]
[null,"",null,"","",null,"","",null,null,""]
[null,"",null,"","",null,"","",null,null,""]
[null,"",null,"","",null,"","",null,null,""]
[null,"",null,"","",null,"","",null,null,""]
[null,"",null,"","",null,"","",null,null,""]
[null,"",null,"","",null,"","",null,null,""]
[null,"",null,"","",null,"","",null,null,""]
[null,"",null,"","",null,"","",null,null,""]
[null,"",null,"","",null,"","",null,null,""]
[null,"",null,"","",null,"","",null,null,""]
[null,"",null,"","",null,"","",null,null,""]
[null,"",null,"","",null,"","",null,null,""]
[null,"",null,"","",null,"","",null,null,""]
[null,"",null,"","",null,"","",null,null,""]
[null,"",null,"","",null,"","",null,null,""]
[null,{"$f":"IF(codigo_cliente=\"\",\"\",VLOOKUP(codigo_cliente,Clientes,2,FALSE))","v":""},null,{"$f":"IF(C1027=\"\",\"\",VLOOKUP(C1027,Itens,2,FALSE))","v":""},{"$f":"IF(C1027=\"\",\"\",VLOOKUP(C1027,Itens,3,FALSE))","v":""},null,{"$f":"IF(C1027=\"\",\"\",VLOOKUP(C1027,Itens,5,FALSE))","v":""},"",null,null,""]
[null,"",null,"","",null,"",{"$f":"IFERROR(F1028*G1028,\"\")","v":""},null,null,{"$f":"IF(J1028=\"\",\"\",HYPERLINK($P$13&J1028,\"Rastreie aqui\"))","v":""}]
[null,"",null,"","",null,"","",null,null,""]
[null,"",null,"","",null,"","",null,null,""]
[null,"",null,"","",null,"","",null,null,""]
[null,"",null,"","",null,"","",null,null,""]
[null,"",null,"","",null,"","",null,null,""]
[null,"",null,"","",null,"","",null,null,""]
[null,"",null,"","",null,"","",null,null,""]
[null,"",null,"","",null,"","",null,null,""]
[null,"",null,"","",null,"","",null,null,""]
[null,"",null,"","",null,"","",null,null,""]
[null,"",null,"","",null,"","",null,null,""]
[null,"",null,"","",null,"","",null,null,""]
[null,"",null,"","",null,"","",null,null,""]
[null,"",null,"","",null,"","",null,null,""]
[null,"",null,"","",null,"","",null,null,""]
[null,"",null,"","",null,"","",null,null,""]
[null,"",null,"","",null,"","",null,null,""]
[null,"",null,"","",null,"","",null,null,""]
[null,"",null,"","",null,"","",null,null,""]
[null,"",null,"","",null,"","",null,null,""]
[null,"",null,"","",null,"","",null,null,""]
[null,"",null,"","",null,"","",null,null,""]
[null,"",null,"","",null,"","",null,null,""]
[null,"",null,"","",null,"","",null,null,""]
[null,"",null,"","",null,"","",null,null,""]
[null,"",null,"","",null,"","",null,null,""]
[null,"",null,"","",null,"","",null,null,""]
[null,"",null,"","",null,"","",null,null,""]
[null,"",null,"","",null,"","",null,null,""]
[null,"",null,"","",null,"","",null,null,""]
[null,"",null,"","",null,"","",null,null,""]
[null,"",null,"","",null,"","",null,null,""]
[null,"",null,"","",null,"","",null,null,""]
[null,"",null,"","",null,"","",null,null,""]
[null,"",null,"","",null,"","",null,null,""]
[null,"",null,"","",null,"","",null,null,""]
[null,"",null,"","",null,"","",null,null,""]
[null,"",null,"","",null,"","",null,null,""]
[null,"",null,"","",null,"","",null,null,""]
[null,"",null,"","",null,"","",null,null,""]
[null,"",null,"","",null,"","",null,null,""]
[null,"",null,"","",null,"","",null,null,""]
[null,"",null,"","",null,"","",null,null,""]
[null,"",null,"","",null,"","",null,null,""]
[null,"",null,"","",null,"","",null,null,""]
[null,"",null,"","",null,"","",null,null,""]
[null,"",null,"","",null,"","",null,null,""]
[null,"",null,"","",null,"","",null,null,""]
[null,"",null,"","",null,"","",null,null,""]
[null,"",null,"","",null,"","",null,null,""]
[null,"",null,"","",null,"","",null,null,""]
[null,"",null,"","",null,"","",null,null,""]
[null,"",null,"","",null,"","",null,null,""]
[null,"",null,"","",null,"","",null,null,""]
[null,"",null,"","",null,"","",null,null,""]
[null,"",null,"","",null,"","",null,null,""]
[null,"",null,"","",null,"","",null,null,""]
[null,"",null,"","",null,"","",null,null,""]
[null,"",null,"","",null,"","",null,null,""]
[null,"",null,"","",null,"","",null,null,""]
[null,"",null,"","",null,"","",null,null,""]
[null,"",null,"","",null,"","",null,null,""]
[null,{"$f":"IF(codigo_cliente=\"\",\"\",VLOOKUP(codigo_cliente,Clientes,2,FALSE))","v":""},null,{"$f":"IF(C1091=\"\",\"\",VLOOKUP(C1091,Itens,2,FALSE))","v":""},{"$f":"IF(C1091=\"\",\"\",VLOOKUP(C1091,Itens,3,FALSE))","v":""},null,{"$f":"IF(C1091=\"\",\"\",VLOOKUP(C1091,Itens,5,FALSE))","v":""},"",null,null,""]
[null,"",null,"","",null,"",{"$f":"IFERROR(F1092*G1092,\"\")","v":""},null,null,{"$f":"IF(J1092=\"\",\"\",HYPERLINK($P$13&J1092,\"Rastreie aqui\"))","v":""}]
[null,"",null,"","",null,"","",null,null,""]
[null,"",null,"","",null,"","",null,null,""]
[null,"",null,"","",null,"","",null,null,""]
[null,"",null,"","",null,"","",null,null,""]
[null,"",null,"","",null,"","",null,null,""]
[null,"",null,"","",null,"","",null,null,""]
[null,"",null,"","",null,"","",null,null,""]
[null,"",null,"","",null,"","",null,null,""]
[null,"",null,"","",null,"","",null,null,""]
[null,"",null,"","",null,"","",null,null,""]
[null,"",null,"","",null,"","",null,null,""]
[null,"",null,"","",null,"","",null,null,""]
[null,"",null,"","",null,"","",null,null,""]
[null,"",null,"","",null,"","",null,null,""]
[null,"",null,"","",null,"","",null,null,""]
[null,"",null,"","",null,"","",null,null,""]
[null,"",null,"","",null,"","",null,null,""]
[null,"",null,"","",null,"","",null,null,""]
[null,"",null,"","",null,"","",null,null,""]
[null,"",null,"","",null,"","",null,null,""]
[null,"",null,"","",null,"","",null,null,""]
[null,"",null,"","",null,"","",null,null,""]
[null,"",null,"","",null,"","",null,null,""]
[null,"",null,"","",null,"","",null,null,""]
[null,"",null,"","",null,"","",null,null,""]
[null,"",null,"","",null,"","",null,null,""]
[null,"",null,"","",null,"","",null,null,""]
[null,"",null,"","",null,"","",null,null,""]
[null,"",null,"","",null,"","",null,null,""]
[null,"",null,"","",null,"","",null,null,""]
[null,"",null,"","",null,"","",null,null,""]
[null,"",null,"","",null,"","",null,null,""]
[null,"",null,"","",null,"","",null,null,""]
[null,"",null,"","",null,"","",null,null,""]
[null,"",null,"","",null,"","",null,null,""]
[null,"",null,"","",null,"","",null,null,""]
[null,"",null,"","",null,"","",null,null,""]
[null,"",null,"","",null,"","",null,null,""]
[null,"",null,"","",null,"","",null,null,""]
[null,"",null,"","",null,"","",null,null,""]
[null,"",null,"","",null,"","",null,null,""]
[null,"",null,"","",null,"","",null,null,""]
[null,"",null,"","",null,"","",null,null,""]
[null,"",null,"","",null,"","",null,null,""]
[null,"",null,"","",null,"","",null,null,""]
[null,"",null,"","",null,"","",null,null,""]
[null,"",null,"","",null,"","",null,null,""]
[null,"",null,"","",null,"","",null,null,""]
[null,"",null,"","",null,"","",null,null,""]
[null,"",null,"","",null,"","",null,null,""]
[null,"",null,"","",null,"","",null,null,""]
[null,"",null,"","",null,"","",null,null,""]
[null,"",null,"","",null,"","",null,null,""]
[null,"",null,"","",null,"","",null,null,""]
[null,"",null,"","",null,"","",null,null,""]
[null,"",null,"","",null,"","",null,null,""]
[null,"",null,"","",null,"","",null,null,""]
[null,"",null,"","",null,"","",null,null,""]
[null,"",null,"","",null,"","",null,null,""]
[null,"",null,"","",null,"","",null,null,""]
[null,"",null,"","",null,"","",null,null,""]
[null,"",null,"","",null,"","",null,null,""]
[null,{"$f":"IF(codigo_cliente=\"\",\"\",VLOOKUP(codigo_cliente,Clientes,2,FALSE))","v":""},null,{"$f":"IF(C1155=\"\",\"\",VLOOKUP(C1155,Itens,2,FALSE))","v":""},{"$f":"IF(C1155=\"\",\"\",VLOOKUP(C1155,Itens,3,FALSE))","v":""},null,{"$f":"IF(C1155=\"\",\"\",VLOOKUP(C1155,Itens,5,FALSE))","v":""},"",null,null,""]
[null,"",null,"","",null,"",{"$f":"IFERROR(F1156*G1156,\"\")","v":""},null,null,{"$f":"IF(J1156=\"\",\"\",HYPERLINK($P$13&J1156,\"Rastreie aqui\"))","v":""}]
[null,"",null,"","",null,"","",null,null,""]
[null,"",null,"","",null,"","",null,null,""]
[null,"",null,"","",null,"","",null,null,""]
[null,"",null,"","",null,"","",null,null,""]
[null,"",null,"","",null,"","",null,null,""]
[null,"",null,"","",null,"","",null,null,""]
[null,"",null,"","",null,"","",null,null,""]
[null,"",null,"","",null,"","",null,null,""]
[null,"",null,"","",null,"","",null,null,""]
[null,"",null,"","",null,"","",null,null,""]
[null,"",null,"","",null,"","",null,null,""]
[null,"",null,"","",null,"","",null,null,""]
[null,"",null,"","",null,"","",null,null,""]
[null,"",null,"","",null,"","",null,null,""]
[null,"",null,"","",null,"","",null,null,""]
[null,"",null,"","",null,"","",null,null,""]
[null,"",null,"","",null,"","",null,null,""]
[null,"",null,"","",null,"","",null,null,""]
[null,"",null,"","",null,"","",null,null,""]
[null,"",null,"","",null,"","",null,null,""]
[null,"",null,"","",null,"","",null,null,""]
[null,"",null,"","",null,"","",null,null,""]
[null,"",null,"","",null,"","",null,null,""]
[null,"",null,"","",null,"","",null,null,""]
[null,"",null,"","",null,"","",null,null,""]
[null,"",null,"","",null,"","",null,null,""]
[null,"",null,"","",null,"","",null,null,""]
[null,"",null,"","",null,"","",null,null,""]
[null,"",null,"","",null,"","",null,null,""]
[null,"",null,"","",null,"","",null,null,""]
[null,"",null,"","",null,"","",null,null,""]
[null,"",null,"","",null,"","",null,null,""]
[null,"",null,"","",null,"","",null,null,""]
[null,"",null,"","",null,"","",null,null,""]
[null,"",null,"","",null,"","",null,null,""]
[null,"",null,"","",null,"","",null,null,""]
[null,"",null,"","",null,"","",null,null,""]
[null,"",null,"","",null,"","",null,null,""]
[null,"",null,"","",null,"","",null,null,""]
[null,"",null,"","",null,"","",null,null,""]
[null,"",null,"","",null,"","",null,null,""]
[null,"",null,"","",null,"","",null,null,""]
[null,"",null,"","",null,"","",null,null,""]
[null,"",null,"","",null,"","",null,null,""]
[null,"",null,"","",null,"","",null,null,""]
[null,"",null,"","",null,"","",null,null,""]
[null,"",null,"","",null,"","",null,null,""]
[null,"",null,"","",null,"","",null,null,""]
[null,"",null,"","",null,"","",null,null,""]
[null,"",null,"","",null,"","",null,null,""]
[null,"",null,"","",null,"","",null,null,""]
[null,"",null,"","",null,"","",null,null,""]
[null,"",null,"","",null,"","",null,null,""]
[null,"",null,"","",null,"","",null,null,""]
[null,"",null,"","",null,"","",null,null,""]
[null,"",null,"","",null,"","",null,null,""]
[null,"",null,"","",null,"","",null,null,""]
[null,"",null,"","",null,"","",null,null,""]
[null,"",null,"","",null,"","",null,null,""]
[null,"",null,"","",null,"","",null,null,""]
[null,"",null,"","",null,"","",null,null,""]
[null,"",null,"","",null,"","",null,null,""]
[null,{"$f":"IF(codigo_cliente=\"\",\"\",VLOOKUP(codigo_cliente,Clientes,2,FALSE))","v":""},null,{"$f":"IF(C1219=\"\",\"\",VLOOKUP(C1219,Itens,2,FALSE))","v":""},{"$f":"IF(C1219=\"\",\"\",VLOOKUP(C1219,Itens,3,FALSE))","v":""},null,{"$f":"IF(C1219=\"\",\"\",VLOOKUP(C1219,Itens,5,FALSE))","v":""},"",null,null,""]
[null,"",null,"","",null,"",{"$f":"IFERROR(F1220*G1220,\"\")","v":""},null,null,{"$f":"IF(J1220=\"\",\"\",HYPERLINK($P$13&J1220,\"Rastreie aqui\"))","v":""}]
[null,"",null,"","",null,"","",null,null,""]
[null,"",null,"","",null,"","",null,null,""]
[null,"",null,"","",null,"","",null,null,""]
[null,"",null,"","",null,"","",null,null,""]
[null,"",null,"","",null,"","",null,null,""]
[null,"",null,"","",null,"","",null,null,""]
[null,"",null,"","",null,"","",null,null,""]
[null,"",null,"","",null,"","",null,null,""]
[null,"",null,"","",null,"","",null,null,""]
[null,"",null,"","",null,"","",null,null,""]
[null,"",null,"","",null,"","",null,null,""]
[null,"",null,"","",null,"","",null,null,""]
[null,"",null,"","",null,"","",null,null,""]
[null,"",null,"","",null,"","",null,null,""]
[null,"",null,"","",null,"","",null,null,""]
[null,"",null,"","",null,"","",null,null,""]
[null,"",null,"","",null,"","",null,null,""]
[null,"",null,"","",null,"","",null,null,""]
[null,"",null,"","",null,"","",null,null,""]
[null,"",null,"","",null,"","",null,null,""]
[null,"",null,"","",null,"","",null,null,""]
[null,"",null,"","",null,"","",null,null,""]
[null,"",null,"","",null,"","",null,null,""]
[null,"",null,"","",null,"","",null,null,""]
[null,"",null,"","",null,"","",null,null,""]
[null,"",null,"","",null,"","",null,null,""]
[null,"",null,"","",null,"","",null,null,""]
[null,"",null,"","",null,"","",null,null,""]
[null,"",null,"","",null,"","",null,null,""]
[null,"",null,"","",null,"","",null,null,""]
[null,"",null,"","",null,"","",null,null,""]
[null,"",null,"","",null,"","",null,null,""]
[null,"",null,"","",null,"","",null,null,""]
[null,"",null,"","",null,"","",null,null,""]
[null,"",null,"","",null,"","",null,null,""]
[null,"",null,"","",null,"","",null,null,""]
[null,"",null,"","",null,"","",null,null,""]
[null,"",null,"","",null,"","",null,null,""]
[null,"",null,"","",null,"","",null,null,""]
[null,"",null,"","",null,"","",null,null,""]
[null,"",null,"","",null,"","",null,null,""]
[null,"",null,"","",null,"","",null,null,""]
[null,"",null,"","",null,"","",null,null,""]
[null,"",null,"","",null,"","",null,null,""]
[null,"",null,"","",null,"","",null,null,""]
[null,"",null,"","",null,"","",null,null,""]
[null,"",null,"","",null,"","",null,null,""]
[null,"",null,"","",null,"","",null,null,""]
[null,"",null,"","",null,"","",null,null,""]
[null,"",null,"","",null,"","",null,null,""]
[null,"",null,"","",null,"","",null,null,""]
[null,"",null,"","",null,"","",null,null,""]
[null,"",null,"","",null,"","",null,null,""]
[null,"",null,"","",null,"","",null,null,""]
[null,"",null,"","",null,"","",null,null,""]
[null,"",null,"","",null,"","",null,null,""]
[null,"",null,"","",null,"","",null,null,""]
[null,"",null,"","",null,"","",null,null,""]
[null,"",null,"","",null,"","",null,null,""]
[null,"",null,"","",null,"","",null,null,""]
[null,"",null,"","",null,"","",null,null,""]
[null,"",null,"","",null,"","",null,null,""]
[null,{"$f":"IF(codigo_cliente=\"\",\"\",VLOOKUP(codigo_cliente,Clientes,2,FALSE))","v":""},null,{"$f":"IF(C1283=\"\",\"\",VLOOKUP(C1283,Itens,2,FALSE))","v":""},{"$f":"IF(C1283=\"\",\"\",VLOOKUP(C1283,Itens,3,FALSE))","v":""},null,{"$f":"IF(C1283=\"\",\"\",VLOOKUP(C1283,Itens,5,FALSE))","v":""},"",null,null,""]
[null,"",null,"","",null,"",{"$f":"IFERROR(F1284*G1284,\"\")","v":""},null,null,{"$f":"IF(J1284=\"\",\"\",HYPERLINK($P$13&J1284,\"Rastreie aqui\"))","v":""}]
[null,"",null,"","",null,"","",null,null,""]
[null,"",null,"","",null,"","",null,null,""]
[null,"",null,"","",null,"","",null,null,""]
[null,"",null,"","",null,"","",null,null,""]
[null,"",null,"","",null,"","",null,null,""]
[null,"",null,"","",null,"","",null,null,""]
[null,"",null,"","",null,"","",null,null,""]
[null,"",null,"","",null,"","",null,null,""]
[null,"",null,"","",null,"","",null,null,""]
[null,"",null,"","",null,"","",null,null,""]
[null,"",null,"","",null,"","",null,null,""]
[null,"",null,"","",null,"","",null,null,""]
[null,"",null,"","",null,"","",null,null,""]
[null,"",null,"","",null,"","",null,null,""]
[null,"",null,"","",null,"","",null,null,""]
[null,"",null,"","",null,"","",null,null,""]
[null,"",null,"","",null,"","",null,null,""]
[null,"",null,"","",null,"","",null,null,""]
[null,"",null,"","",null,"","",null,null,""]
[null,"",null,"","",null,"","",null,null,""]
[null,"",null,"","",null,"","",null,null,""]
[null,"",null,"","",null,"","",null,null,""]
[null,"",null,"","",null,"","",null,null,""]
[null,"",null,"","",null,"","",null,null,""]
[null,"",null,"","",null,"","",null,null,""]
[null,"",null,"","",null,"","",null,null,""]
[null,"",null,"","",null,"","",null,null,""]
[null,"",null,"","",null,"","",null,null,""]
[null,"",null,"","",null,"","",null,null,""]
[null,"",null,"","",null,"","",null,null,""]
[null,"",null,"","",null,"","",null,null,""]
[null,"",null,"","",null,"","",null,null,""]
[null,"",null,"","",null,"","",null,null,""]
[null,"",null,"","",null,"","",null,null,""]
[null,"",null,"","",null,"","",null,null,""]
[null,"",null,"","",null,"","",null,null,""]
[null,"",null,"","",null,"","",null,null,""]
[null,"",null,"","",null,"","",null,null,""]
[null,"",null,"","",null,"","",null,null,""]
[null,"",null,"","",null,"","",null,null,""]
[null,"",null,"","",null,"","",null,null,""]
[null,"",null,"","",null,"","",null,null,""]
[null,"",null,"","",null,"","",null,null,""]
[null,"",null,"","",null,"","",null,null,""]
[null,"",null,"","",null,"","",null,null,""]
[null,"",null,"","",null,"","",null,null,""]
[null,"",null,"","",null,"","",null,null,""]
[null,"",null,"","",null,"","",null,null,""]
[null,"",null,"","",null,"","",null,null,""]
[null,"",null,"","",null,"","",null,null,""]
[null,"",null,"","",null,"","",null,null,""]
[null,"",null,"","",null,"","",null,null,""]
[null,"",null,"","",null,"","",null,null,""]
[null,"",null,"","",null,"","",null,null,""]
[null,"",null,"","",null,"","",null,null,""]
[null,"",null,"","",null,"","",null,null,""]
[null,"",null,"","",null,"","",null,null,""]
[null,"",null,"","",null,"","",null,null,""]
[null,"",null,"","",null,"","",null,null,""]
[null,"",null,"","",null,"","",null,null,""]
[null,"",null,"","",null,"","",null,null,""]
[null,"",null,"","",null,"","",null,null,""]
[null,{"$f":"IF(codigo_cliente=\"\",\"\",VLOOKUP(codigo_cliente,Clientes,2,FALSE))","v":""},null,{"$f":"IF(C1347=\"\",\"\",VLOOKUP(C1347,Itens,2,FALSE))","v":""},{"$f":"IF(C1347=\"\",\"\",VLOOKUP(C1347,Itens,3,FALSE))","v":""},null,{"$f":"IF(C1347=\"\",\"\",VLOOKUP(C1347,Itens,5,FALSE))","v":""},"",null,null,""]
[null,"",null,"","",null,"",{"$f":"IFERROR(F1348*G1348,\"\")","v":""},null,null,{"$f":"IF(J1348=\"\",\"\",HYPERLINK($P$13&J1348,\"Rastreie aqui\"))","v":""}]
[null,"",null,"","",null,"","",null,null,""]
[null,"",null,"","",null,"","",null,null,""]
[null,"",null,"","",null,"","",null,null,""]
[null,"",null,"","",null,"","",null,null,""]
[null,"",null,"","",null,"","",null,null,""]
[null,"",null,"","",null,"","",null,null,""]
[null,"",null,"","",null,"","",null,null,""]
[null,"",null,"","",null,"","",null,null,""]
[null,"",null,"","",null,"","",null,null,""]
[null,"",null,"","",null,"","",null,null,""]
[null,"",null,"","",null,"","",null,null,""]
[null,"",null,"","",null,"","",null,null,""]
[null,"",null,"","",null,"","",null,null,""]
[null,"",null,"","",null,"","",null,null,""]
[null,"",null,"","",null,"","",null,null,""]
[null,"",null,"","",null,"","",null,null,""]
[null,"",null,"","",null,"","",null,null,""]
[null,"",null,"","",null,"","",null,null,""]
[null,"",null,"","",null,"","",null,null,""]
[null,"",null,"","",null,"","",null,null,""]
[null,"",null,"","",null,"","",null,null,""]
[null,"",null,"","",null,"","",null,null,""]
[null,"",null,"","",null,"","",null,null,""]
[null,"",null,"","",null,"","",null,null,""]
[null,"",null,"","",null,"","",null,null,""]
[null,"",null,"","",null,"","",null,null,""]
[null,"",null,"","",null,"","",null,null,""]
[null,"",null,"","",null,"","",null,null,""]
[null,"",null,"","",null,"","",null,null,""]
[null,"",null,"","",null,"","",null,null,""]
[null,"",null,"","",null,"","",null,null,""]
[null,"",null,"","",null,"","",null,null,""]
[null,"",null,"","",null,"","",null,null,""]
[null,"",null,"","",null,"","",null,null,""]
[null,"",null,"","",null,"","",null,null,""]
[null,"",null,"","",null,"","",null,null,""]
[null,"",null,"","",null,"","",null,null,""]
[null,"",null,"","",null,"","",null,null,""]
[null,"",null,"","",null,"","",null,null,""]
[null,"",null,"","",null,"","",null,null,""]
[null,"",null,"","",null,"","",null,null,""]
[null,"",null,"","",null,"","",null,null,""]
[null,"",null,"","",null,"","",null,null,""]
[null,"",null,"","",null,"","",null,null,""]
[null,"",null,"","",null,"","",null,null,""]
[null,"",null,"","",null,"","",null,null,""]
[null,"",null,"","",null,"","",null,null,""]
[null,"",null,"","",null,"","",null,null,""]
[null,"",null,"","",null,"","",null,null,""]
[null,"",null,"","",null,"","",null,null,""]
[null,"",null,"","",null,"","",null,null,""]
[null,"",null,"","",null,"","",null,null,""]
[null,"",null,"","",null,"","",null,null,""]
[null,"",null,"","",null,"","",null,null,""]
[null,"",null,"","",null,"","",null,null,""]
[null,"",null,"","",null,"","",null,null,""]
[null,"",null,"","",null,"","",null,null,""]
[null,"",null,"","",null,"","",null,null,""]
[null,"",null,"","",null,"","",null,null,""]
[null,"",null,"","",null,"","",null,null,""]
[null,"",null,"","",null,"","",null,null,""]
[null,"",null,"","",null,"","",null,null,""]
[null,{"$f":"IF(codigo_cliente=\"\",\"\",VLOOKUP(codigo_cliente,Clientes,2,FALSE))","v":""},null,{"$f":"IF(C1411=\"\",\"\",VLOOKUP(C1411,Itens,2,FALSE))","v":""},{"$f":"IF(C1411=\"\",\"\",VLOOKUP(C1411,Itens,3,FALSE))","v":""},null,{"$f":"IF(C1411=\"\",\"\",VLOOKUP(C1411,Itens,5,FALSE))","v":""},"",null,null,""]
[null,"",null,"","",null,"",{"$f":"IFERROR(F1412*G1412,\"\")","v":""},null,null,{"$f":"IF(J1412=\"\",\"\",HYPERLINK($P$13&J1412,\"Rastreie aqui\"))","v":""}]
[null,"",null,"","",null,"","",null,null,""]
[null,"",null,"","",null,"","",null,null,""]
[null,"",null,"","",null,"","",null,null,""]
[null,"",null,"","",null,"","",null,null,""]
[null,"",null,"","",null,"","",null,null,""]
[null,"",null,"","",null,"","",null,null,""]
[null,"",null,"","",null,"","",null,null,""]
[null,"",null,"","",null,"","",null,null,""]
[null,"",null,"","",null,"","",null,null,""]
[null,"",null,"","",null,"","",null,null,""]
[null,"",null,"","",null,"","",null,null,""]
[null,"",null,"","",null,"","",null,null,""]
[null,"",null,"","",null,"","",null,null,""]
[null,"",null,"","",null,"","",null,null,""]
[null,"",null,"","",null,"","",null,null,""]
[null,"",null,"","",null,"","",null,null,""]
[null,"",null,"","",null,"","",null,null,""]
[null,"",null,"","",null,"","",null,null,""]
[null,"",null,"","",null,"","",null,null,""]
[null,"",null,"","",null,"","",null,null,""]
[null,"",null,"","",null,"","",null,null,""]
[null,"",null,"","",null,"","",null,null,""]
[null,"",null,"","",null,"","",null,null,""]
[null,"",null,"","",null,"","",null,null,""]
[null,"",null,"","",null,"","",null,null,""]
[null,"",null,"","",null,"","",null,null,""]
[null,"",null,"","",null,"","",null,null,""]
[null,"",null,"","",null,"","",null,null,""]
[null,"",null,"","",null,"","",null,null,""]
[null,"",null,"","",null,"","",null,null,""]
[null,"",null,"","",null,"","",null,null,""]
[null,"",null,"","",null,"","",null,null,""]
[null,"",null,"","",null,"","",null,null,""]
[null,"",null,"","",null,"","",null,null,""]
[null,"",null,"","",null,"","",null,null,""]
[null,"",null,"","",null,"","",null,null,""]
[null,"",null,"","",null,"","",null,null,""]
[null,"",null,"","",null,"","",null,null,""]
[null,"",null,"","",null,"","",null,null,""]
[null,"",null,"","",null,"","",null,null,""]
[null,"",null,"","",null,"","",null,null,""]
[null,"",null,"","",null,"","",null,null,""]
[null,"",null,"","",null,"","",null,null,""]
[null,"",null,"","",null,"","",null,null,""]
[null,"",null,"","",null,"","",null,null,""]
[null,"",null,"","",null,"","",null,null,""]
[null,"",null,"","",null,"","",null,null,""]
[null,"",null,"","",null,"","",null,null,""]
[null,"",null,"","",null,"","",null,null,""]
[null,"",null,"","",null,"","",null,null,""]
[null,"",null,"","",null,"","",null,null,""]
[null,"",null,"","",null,"","",null,null,""]
[null,"",null,"","",null,"","",null,null,""]
[null,"",null,"","",null,"","",null,null,""]
[null,"",null,"","",null,"","",null,null,""]
[null,"",null,"","",null,"","",null,null,""]
[null,"",null,"","",null,"","",null,null,""]
[null,"",null,"","",null,"","",null,null,""]
[null,"",null,"","",null,"","",null,null,""]
[null,"",null,"","",null,"","",null,null,""]
[null,"",null,"","",null,"","",null,null,""]
[null,"",null,"","",null,"","",null,null,""]
[null,{"$f":"IF(codigo_cliente=\"\",\"\",VLOOKUP(codigo_cliente,Clientes,2,FALSE))","v":""},null,{"$f":"IF(C1475=\"\",\"\",VLOOKUP(C1475,Itens,2,FALSE))","v":""},{"$f":"IF(C1475=\"\",\"\",VLOOKUP(C1475,Itens,3,FALSE))","v":""},null,{"$f":"IF(C1475=\"\",\"\",VLOOKUP(C1475,Itens,5,FALSE))","v":""},"",null,null,""]
[null,"",null,"","",null,"",{"$f":"IFERROR(F1476*G1476,\"\")","v":""},null,null,{"$f":"IF(J1476=\"\",\"\",HYPERLINK($P$13&J1476,\"Rastreie aqui\"))","v":""}]
[null,"",null,"","",null,"","",null,null,""]
[null,"",null,"","",null,"","",null,null,""]
[null,"",null,"","",null,"","",null,null,""]
[null,"",null,"","",null,"","",null,null,""]
[null,"",null,"","",null,"","",null,null,""]
[null,"",null,"","",null,"","",null,null,""]
[null,"",null,"","",null,"","",null,null,""]
[null,"",null,"","",null,"","",null,null,""]
[null,"",null,"","",null,"","",null,null,""]
[null,"",null,"","",null,"","",null,null,""]
[null,"",null,"","",null,"","",null,null,""]
[null,"",null,"","",null,"","",null,null,""]
[null,"",null,"","",null,"","",null,null,""]
[null,"",null,"","",null,"","",null,null,""]
[null,"",null,"","",null,"","",null,null,""]
[null,"",null,"","",null,"","",null,null,""]
[null,"",null,"","",null,"","",null,null,""]
[null,"",null,"","",null,"","",null,null,""]
[null,"",null,"","",null,"","",null,null,""]
[null,"",null,"","",null,"","",null,null,""]
[null,"",null,"","",null,"","",null,null,""]
[null,"",null,"","",null,"","",null,null,""]
[null,"",null,"","",null,"","",null,null,""]
[null,"",null,"","",null,"","",null,null,""]
[null,"",null,"","",null,"","",null,null,""]
[null,"",null,"","",null,"","",null,null,""]
[null,"",null,"","",null,"","",null,null,""]
[null,"",null,"","",null,"","",null,null,""]
[null,"",null,"","",null,"","",null,null,""]
[null,"",null,"","",null,"","",null,null,""]
[null,"",null,"","",null,"","",null,null,""]
[null,"",null,"","",null,"","",null,null,""]
[null,"",null,"","",null,"","",null,null,""]
[null,"",null,"","",null,"","",null,null,""]
[null,"",null,"","",null,"","",null,null,""]
[null,"",null,"","",null,"","",null,null,""]
[null,"",null,"","",null,"","",null,null,""]
[null,"",null,"","",null,"","",null,null,""]
[null,"",null,"","",null,"","",null,null,""]
[null,"",null,"","",null,"","",null,null,""]
[null,"",null,"","",null,"","",null,null,""]
[null,"",null,"","",null,"","",null,null,""]
[null,"",null,"","",null,"","",null,null,""]
[null,"",null,"","",null,"","",null,null,""]
[null,"",null,"","",null,"","",null,null,""]
[null,"",null,"","",null,"","",null,null,""]
[null,"",null,"","",null,"","",null,null,""]
[null,"",null,"","",null,"","",null,null,""]
[null,"",null,"","",null,"","",null,null,""]
[null,"",null,"","",null,"","",null,null,""]
[null,"",null,"","",null,"","",null,null,""]
[null,"",null,"","",null,"","",null,null,""]
[null,"",null,"","",null,"","",null,null,""]
[null,"",null,"","",null,"","",null,null,""]
[null,"",null,"","",null,"","",null,null,""]
[null,"",null,"","",null,"","",null,null,""]
[null,"",null,"","",null,"","",null,null,""]
[null,"",null,"","",null,"","",null,null,""]
[null,"",null,"","",null,"","",null,null,""]
[null,"",null,"","",null,"","",null,null,""]
[null,"",null,"","",null,"","",null,null,""]
[null,"",null,"","",null,"","",null,null,""]
[null,{"$f":"IF(codigo_cliente=\"\",\"\",VLOOKUP(codigo_cliente,Clientes,2,FALSE))","v":""},null,{"$f":"IF(C1539=\"\",\"\",VLOOKUP(C1539,Itens,2,FALSE))","v":""},{"$f":"IF(C1539=\"\",\"\",VLOOKUP(C1539,Itens,3,FALSE))","v":""},null,{"$f":"IF(C1539=\"\",\"\",VLOOKUP(C1539,Itens,5,FALSE))","v":""},"",null,null,""]
[null,"",null,"","",null,"",{"$f":"IFERROR(F1540*G1540,\"\")","v":""},null,null,{"$f":"IF(J1540=\"\",\"\",HYPERLINK($P$13&J1540,\"Rastreie aqui\"))","v":""}]
[null,"",null,"","",null,"","",null,null,""]
[null,"",null,"","",null,"","",null,null,""]
[null,"",null,"","",null,"","",null,null,""]
[null,"",null,"","",null,"","",null,null,""]
[null,"",null,"","",null,"","",null,null,""]
[null,"",null,"","",null,"","",null,null,""]
[null,"",null,"","",null,"","",null,null,""]
[null,"",null,"","",null,"","",null,null,""]
[null,"",null,"","",null,"","",null,null,""]
[null,"",null,"","",null,"","",null,null,""]
[null,"",null,"","",null,"","",null,null,""]
[null,"",null,"","",null,"","",null,null,""]
[null,"",null,"","",null,"","",null,null,""]
[null,"",null,"","",null,"","",null,null,""]
[null,"",null,"","",null,"","",null,null,""]
[null,"",null,"","",null,"","",null,null,""]
[null,"",null,"","",null,"","",null,null,""]
[null,"",null,"","",null,"","",null,null,""]
[null,"",null,"","",null,"","",null,null,""]
[null,"",null,"","",null,"","",null,null,""]
[null,"",null,"","",null,"","",null,null,""]
[null,"",null,"","",null,"","",null,null,""]
[null,"",null,"","",null,"","",null,null,""]
[null,"",null,"","",null,"","",null,null,""]
[null,"",null,"","",null,"","",null,null,""]
[null,"",null,"","",null,"","",null,null,""]
[null,"",null,"","",null,"","",null,null,""]
[null,"",null,"","",null,"","",null,null,""]
[null,"",null,"","",null,"","",null,null,""]
[null,"",null,"","",null,"","",null,null,""]
[null,"",null,"","",null,"","",null,null,""]
[null,"",null,"","",null,"","",null,null,""]
[null,"",null,"","",null,"","",null,null,""]
[null,"",null,"","",null,"","",null,null,""]
[null,"",null,"","",null,"","",null,null,""]
[null,"",null,"","",null,"","",null,null,""]
[null,"",null,"","",null,"","",null,null,""]
[null,"",null,"","",null,"","",null,null,""]
[null,"",null,"","",null,"","",null,null,""]
[null,"",null,"","",null,"","",null,null,""]
[null,"",null,"","",null,"","",null,null,""]
[null,"",null,"","",null,"","",null,null,""]
[null,"",null,"","",null,"","",null,null,""]
[null,"",null,"","",null,"","",null,null,""]
[null,"",null,"","",null,"","",null,null,""]
[null,"",null,"","",null,"","",null,null,""]
[null,"",null,"","",null,"","",null,null,""]
[null,"",null,"","",null,"","",null,null,""]
[null,"",null,"","",null,"","",null,null,""]
[null,"",null,"","",null,"","",null,null,""]
[null,"",null,"","",null,"","",null,null,""]
[null,"",null,"","",null,"","",null,null,""]
[null,"",null,"","",null,"","",null,null,""]
[null,"",null,"","",null,"","",null,null,""]
[null,"",null,"","",null,"","",null,null,""]
[null,"",null,"","",null,"","",null,null,""]
[null,"",null,"","",null,"","",null,null,""]
[null,"",null,"","",null,"","",null,null,""]
[null,"",null,"","",null,"","",null,null,""]
[null,"",null,"","",null,"","",null,null,""]
[null,"",null,"","",null,"","",null,null,""]
[null,"",null,"","",null,"","",null,null,""]
[null,{"$f":"IF(codigo_cliente=\"\",\"\",VLOOKUP(codigo_cliente,Clientes,2,FALSE))","v":""},null,{"$f":"IF(C1603=\"\",\"\",VLOOKUP(C1603,Itens,2,FALSE))","v":""},{"$f":"IF(C1603=\"\",\"\",VLOOKUP(C1603,Itens,3,FALSE))","v":""},null,{"$f":"IF(C1603=\"\",\"\",VLOOKUP(C1603,Itens,5,FALSE))","v":""},"",null,null,""]
[null,"",null,"","",null,"",{"$f":"IFERROR(F1604*G1604,\"\")","v":""},null,null,{"$f":"IF(J1604=\"\",\"\",HYPERLINK($P$13&J1604,\"Rastreie aqui\"))","v":""}]
[null,"",null,"","",null,"","",null,null,""]
[null,"",null,"","",null,"","",null,null,""]
[null,"",null,"","",null,"","",null,null,""]
[null,"",null,"","",null,"","",null,null,""]
[null,"",null,"","",null,"","",null,null,""]
[null,"",null,"","",null,"","",null,null,""]
[null,"",null,"","",null,"","",null,null,""]
[null,"",null,"","",null,"","",null,null,""]
[null,"",null,"","",null,"","",null,null,""]
[null,"",null,"","",null,"","",null,null,""]
[null,"",null,"","",null,"","",null,null,""]
[null,"",null,"","",null,"","",null,null,""]
[null,"",null,"","",null,"","",null,null,""]
[null,"",null,"","",null,"","",null,null,""]
[null,"",null,"","",null,"","",null,null,""]
[null,"",null,"","",null,"","",null,null,""]
[null,"",null,"","",null,"","",null,null,""]
[null,"",null,"","",null,"","",null,null,""]
[null,"",null,"","",null,"","",null,null,""]
[null,"",null,"","",null,"","",null,null,""]
[null,"",null,"","",null,"","",null,null,""]
[null,"",null,"","",null,"","",null,null,""]
[null,"",null,"","",null,"","",null,null,""]
[null,"",null,"","",null,"","",null,null,""]
[null,"",null,"","",null,"","",null,null,""]
[null,"",null,"","",null,"","",null,null,""]
[null,"",null,"","",null,"","",null,null,""]
[null,"",null,"","",null,"","",null,null,""]
[null,"",null,"","",null,"","",null,null,""]
[null,"",null,"","",null,"","",null,null,""]
[null,"",null,"","",null,"","",null,null,""]
[null,"",null,"","",null,"","",null,null,""]
[null,"",null,"","",null,"","",null,null,""]
[null,"",null,"","",null,"","",null,null,""]
[null,"",null,"","",null,"","",null,null,""]
[null,"",null,"","",null,"","",null,null,""]
[null,"",null,"","",null,"","",null,null,""]
[null,"",null,"","",null,"","",null,null,""]
[null,"",null,"","",null,"","",null,null,""]
[null,"",null,"","",null,"","",null,null,""]
[null,"",null,"","",null,"","",null,null,""]
[null,"",null,"","",null,"","",null,null,""]
[null,"",null,"","",null,"","",null,null,""]
[null,"",null,"","",null,"","",null,null,""]
[null,"",null,"","",null,"","",null,null,""]
[null,"",null,"","",null,"","",null,null,""]
[null,"",null,"","",null,"","",null,null,""]
[null,"",null,"","",null,"","",null,null,""]
[null,"",null,"","",null,"","",null,null,""]
[null,"",null,"","",null,"","",null,null,""]
[null,"",null,"","",null,"","",null,null,""]
[null,"",null,"","",null,"","",null,null,""]
[null,"",null,"","",null,"","",null,null,""]
[null,"",null,"","",null,"","",null,null,""]
[null,"",null,"","",null,"","",null,null,""]
[null,"",null,"","",null,"","",null,null,""]
[null,"",null,"","",null,"","",null,null,""]
[null,"",null,"","",null,"","",null,null,""]
[null,"",null,"","",null,"","",null,null,""]
[null,"",null,"","",null,"","",null,null,""]
[null,"",null,"","",null,"","",null,null,""]
[null,"",null,"","",null,"","",null,null,""]
[null,{"$f":"IF(codigo_cliente=\"\",\"\",VLOOKUP(codigo_cliente,Clientes,2,FALSE))","v":""},null,{"$f":"IF(C1667=\"\",\"\",VLOOKUP(C1667,Itens,2,FALSE))","v":""},{"$f":"IF(C1667=\"\",\"\",VLOOKUP(C1667,Itens,3,FALSE))","v":""},null,{"$f":"IF(C1667=\"\",\"\",VLOOKUP(C1667,Itens,5,FALSE))","v":""},"",null,null,""]
[null,"",null,"","",null,"",{"$f":"IFERROR(F1668*G1668,\"\")","v":""},null,null,{"$f":"IF(J1668=\"\",\"\",HYPERLINK($P$13&J1668,\"Rastreie aqui\"))","v":""}]
[null,"",null,"","",null,"","",null,null,""]
[null,"",null,"","",null,"","",null,null,""]
[null,"",null,"","",null,"","",null,null,""]
[null,"",null,"","",null,"","",null,null,""]
[null,"",null,"","",null,"","",null,null,""]
[null,"",null,"","",null,"","",null,null,""]
[null,"",null,"","",null,"","",null,null,""]
[null,"",null,"","",null,"","",null,null,""]
[null,"",null,"","",null,"","",null,null,""]
[null,"",null,"","",null,"","",null,null,""]
[null,"",null,"","",null,"","",null,null,""]
[null,"",null,"","",null,"","",null,null,""]
[null,"",null,"","",null,"","",null,null,""]
[null,"",null,"","",null,"","",null,null,""]
[null,"",null,"","",null,"","",null,null,""]
[null,"",null,"","",null,"","",null,null,""]
[null,"",null,"","",null,"","",null,null,""]
[null,"",null,"","",null,"","",null,null,""]
[null,"",null,"","",null,"","",null,null,""]
[null,"",null,"","",null,"","",null,null,""]
[null,"",null,"","",null,"","",null,null,""]
[null,"",null,"","",null,"","",null,null,""]
[null,"",null,"","",null,"","",null,null,""]
[null,"",null,"","",null,"","",null,null,""]
[null,"",null,"","",null,"","",null,null,""]
[null,"",null,"","",null,"","",null,null,""]
[null,"",null,"","",null,"","",null,null,""]
[null,"",null,"","",null,"","",null,null,""]
[null,"",null,"","",null,"","",null,null,""]
[null,"",null,"","",null,"","",null,null,""]
[null,"",null,"","",null,"","",null,null,""]
[null,"",null,"","",null,"","",null,null,""]
[null,"",null,"","",null,"","",null,null,""]
[null,"",null,"","",null,"","",null,null,""]
[null,"",null,"","",null,"","",null,null,""]
[null,"",null,"","",null,"","",null,null,""]
[null,"",null,"","",null,"","",null,null,""]
[null,"",null,"","",null,"","",null,null,""]
[null,"",null,"","",null,"","",null,null,""]
[null,"",null,"","",null,"","",null,null,""]
[null,"",null,"","",null,"","",null,null,""]
[null,"",null,"","",null,"","",null,null,""]
[null,"",null,"","",null,"","",null,null,""]
[null,"",null,"","",null,"","",null,null,""]
[null,"",null,"","",null,"","",null,null,""]
[null,"",null,"","",null,"","",null,null,""]
[null,"",null,"","",null,"","",null,null,""]
[null,"",null,"","",null,"","",null,null,""]
[null,"",null,"","",null,"","",null,null,""]
[null,"",null,"","",null,"","",null,null,""]
[null,"",null,"","",null,"","",null,null,""]
[null,"",null,"","",null,"","",null,null,""]
[null,"",null,"","",null,"","",null,null,""]
[null,"",null,"","",null,"","",null,null,""]
[null,"",null,"","",null,"","",null,null,""]
[null,"",null,"","",null,"","",null,null,""]
[null,"",null,"","",null,"","",null,null,""]
[null,"",null,"","",null,"","",null,null,""]
[null,"",null,"","",null,"","",null,null,""]
[null,"",null,"","",null,"","",null,null,""]
[null,"",null,"","",null,"","",null,null,""]
[null,"",null,"","",null,"","",null,null,""]
[null,{"$f":"IF(codigo_cliente=\"\",\"\",VLOOKUP(codigo_cliente,Clientes,2,FALSE))","v":""},null,{"$f":"IF(C1731=\"\",\"\",VLOOKUP(C1731,Itens,2,FALSE))","v":""},{"$f":"IF(C1731=\"\",\"\",VLOOKUP(C1731,Itens,3,FALSE))","v":""},null,{"$f":"IF(C1731=\"\",\"\",VLOOKUP(C1731,Itens,5,FALSE))","v":""},"",null,null,""]
[null,"",null,"","",null,"",{"$f":"IFERROR(F1732*G1732,\"\")","v":""},null,null,{"$f":"IF(J1732=\"\",\"\",HYPERLINK($P$13&J1732,\"Rastreie aqui\"))","v":""}]
[null,"",null,"","",null,"","",null,null,""]
[null,"",null,"","",null,"","",null,null,""]
[null,"",null,"","",null,"","",null,null,""]
[null,"",null,"","",null,"","",null,null,""]
[null,"",null,"","",null,"","",null,null,""]
[null,"",null,"","",null,"","",null,null,""]
[null,"",null,"","",null,"","",null,null,""]
[null,"",null,"","",null,"","",null,null,""]
[null,"",null,"","",null,"","",null,null,""]
[null,"",null,"","",null,"","",null,null,""]
[null,"",null,"","",null,"","",null,null,""]
[null,"",null,"","",null,"","",null,null,""]
[null,"",null,"","",null,"","",null,null,""]
[null,"",null,"","",null,"","",null,null,""]
[null,"",null,"","",null,"","",null,null,""]
[null,"",null,"","",null,"","",null,null,""]
[null,"",null,"","",null,"","",null,null,""]
[null,"",null,"","",null,"","",null,null,""]
[null,"",null,"","",null,"","",null,null,""]
[null,"",null,"","",null,"","",null,null,""]
[null,"",null,"","",null,"","",null,null,""]
[null,"",null,"","",null,"","",null,null,""]
[null,"",null,"","",null,"","",null,null,""]
[null,"",null,"","",null,"","",null,null,""]
[null,"",null,"","",null,"","",null,null,""]
[null,"",null,"","",null,"","",null,null,""]
[null,"",null,"","",null,"","",null,null,""]
[null,"",null,"","",null,"","",null,null,""]
[null,"",null,"","",null,"","",null,null,""]
[null,"",null,"","",null,"","",null,null,""]
[null,"",null,"","",null,"","",null,null,""]
[null,"",null,"","",null,"","",null,null,""]
[null,"",null,"","",null,"","",null,null,""]
[null,"",null,"","",null,"","",null,null,""]
[null,"",null,"","",null,"","",null,null,""]
[null,"",null,"","",null,"","",null,null,""]
[null,"",null,"","",null,"","",null,null,""]
[null,"",null,"","",null,"","",null,null,""]
[null,"",null,"","",null,"","",null,null,""]
[null,"",null,"","",null,"","",null,null,""]
[null,"",null,"","",null,"","",null,null,""]
[null,"",null,"","",null,"","",null,null,""]
[null,"",null,"","",null,"","",null,null,""]
[null,"",null,"","",null,"","",null,null,""]
[null,"",null,"","",null,"","",null,null,""]
[null,"",null,"","",null,"","",null,null,""]
[null,"",null,"","",null,"","",null,null,""]
[null,"",null,"","",null,"","",null,null,""]
[null,"",null,"","",null,"","",null,null,""]
[null,"",null,"","",null,"","",null,null,""]
[null,"",null,"","",null,"","",null,null,""]
[null,"",null,"","",null,"","",null,null,""]
[null,"",null,"","",null,"","",null,null,""]
[null,"",null,"","",null,"","",null,null,""]
[null,"",null,"","",null,"","",null,null,""]
[null,"",null,"","",null,"","",null,null,""]
[null,"",null,"","",null,"","",null,null,""]
[null,"",null,"","",null,"","",null,null,""]
[null,"",null,"","",null,"","",null,null,""]
[null,"",null,"","",null,"","",null,null,""]
[null,"",null,"","",null,"","",null,null,""]
[null,"",null,"","",null,"","",null,null,""]
[null,{"$f":"IF(codigo_cliente=\"\",\"\",VLOOKUP(codigo_cliente,Clientes,2,FALSE))","v":""},null,{"$f":"IF(C1795=\"\",\"\",VLOOKUP(C1795,Itens,2,FALSE))","v":""},{"$f":"IF(C1795=\"\",\"\",VLOOKUP(C1795,Itens,3,FALSE))","v":""},null,{"$f":"IF(C1795=\"\",\"\",VLOOKUP(C1795,Itens,5,FALSE))","v":""},"",null,null,""]
[null,"",null,"","",null,"",{"$f":"IFERROR(F1796*G1796,\"\")","v":""},null,null,{"$f":"IF(J1796=\"\",\"\",HYPERLINK($P$13&J1796,\"Rastreie aqui\"))","v":""}]
[null,"",null,"","",null,"","",null,null,""]
[null,"",null,"","",null,"","",null,null,""]
[null,"",null,"","",null,"","",null,null,""]
[null,"",null,"","",null,"","",null,null,""]
[null,"",null,"","",null,"","",null,null,""]
[null,"",null,"","",null,"","",null,null,""]
[null,"",null,"","",null,"","",null,null,""]
[null,"",null,"","",null,"","",null,null,""]
[null,"",null,"","",null,"","",null,null,""]
[null,"",null,"","",null,"","",null,null,""]
[null,"",null,"","",null,"","",null,null,""]
[null,"",null,"","",null,"","",null,null,""]
[null,"",null,"","",null,"","",null,null,""]
[null,"",null,"","",null,"","",null,null,""]
[null,"",null,"","",null,"","",null,null,""]
[null,"",null,"","",null,"","",null,null,""]
[null,"",null,"","",null,"","",null,null,""]
[null,"",null,"","",null,"","",null,null,""]
[null,"",null,"","",null,"","",null,null,""]
[null,"",null,"","",null,"","",null,null,""]
[null,"",null,"","",null,"","",null,null,""]
[null,"",null,"","",null,"","",null,null,""]
[null,"",null,"","",null,"","",null,null,""]
[null,"",null,"","",null,"","",null,null,""]
[null,"",null,"","",null,"","",null,null,""]
[null,"",null,"","",null,"","",null,null,""]
[null,"",null,"","",null,"","",null,null,""]
[null,"",null,"","",null,"","",null,null,""]
[null,"",null,"","",null,"","",null,null,""]
[null,"",null,"","",null,"","",null,null,""]
[null,"",null,"","",null,"","",null,null,""]
[null,"",null,"","",null,"","",null,null,""]
[null,"",null,"","",null,"","",null,null,""]
[null,"",null,"","",null,"","",null,null,""]
[null,"",null,"","",null,"","",null,null,""]
[null,"",null,"","",null,"","",null,null,""]
[null,"",null,"","",null,"","",null,null,""]
[null,"",null,"","",null,"","",null,null,""]
[null,"",null,"","",null,"","",null,null,""]
[null,"",null,"","",null,"","",null,null,""]
[null,"",null,"","",null,"","",null,null,""]
[null,"",null,"","",null,"","",null,null,""]
[null,"",null,"","",null,"","",null,null,""]
[null,"",null,"","",null,"","",null,null,""]
[null,"",null,"","",null,"","",null,null,""]
[null,"",null,"","",null,"","",null,null,""]
[null,"",null,"","",null,"","",null,null,""]
[null,"",null,"","",null,"","",null,null,""]
[null,"",null,"","",null,"","",null,null,""]
[null,"",null,"","",null,"","",null,null,""]
[null,"",null,"","",null,"","",null,null,""]
[null,"",null,"","",null,"","",null,null,""]
[null,"",null,"","",null,"","",null,null,""]
[null,"",null,"","",null,"","",null,null,""]
[null,"",null,"","",null,"","",null,null,""]
[null,"",null,"","",null,"","",null,null,""]
[null,"",null,"","",null,"","",null,null,""]
[null,"",null,"","",null,"","",null,null,""]
[null,"",null,"","",null,"","",null,null,""]
[null,"",null,"","",null,"","",null,null,""]
[null,"",null,"","",null,"","",null,null,""]
[null,"",null,"","",null,"","",null,null,""]
[null,{"$f":"IF(codigo_cliente=\"\",\"\",VLOOKUP(codigo_cliente,Clientes,2,FALSE))","v":""},null,{"$f":"IF(C1859=\"\",\"\",VLOOKUP(C1859,Itens,2,FALSE))","v":""},{"$f":"IF(C1859=\"\",\"\",VLOOKUP(C1859,Itens,3,FALSE))","v":""},null,{"$f":"IF(C1859=\"\",\"\",VLOOKUP(C1859,Itens,5,FALSE))","v":""},"",null,null,""]
[null,"",null,"","",null,"",{"$f":"IFERROR(F1860*G1860,\"\")","v":""},null,null,{"$f":"IF(J1860=\"\",\"\",HYPERLINK($P$13&J1860,\"Rastreie aqui\"))","v":""}]
[null,"",null,"","",null,"","",null,null,""]
[null,"",null,"","",null,"","",null,null,""]
[null,"",null,"","",null,"","",null,null,""]
[null,"",null,"","",null,"","",null,null,""]
[null,"",null,"","",null,"","",null,null,""]
[null,"",null,"","",null,"","",null,null,""]
[null,"",null,"","",null,"","",null,null,""]
[null,"",null,"","",null,"","",null,null,""]
[null,"",null,"","",null,"","",null,null,""]
[null,"",null,"","",null,"","",null,null,""]
[null,"",null,"","",null,"","",null,null,""]
[null,"",null,"","",null,"","",null,null,""]
[null,"",null,"","",null,"","",null,null,""]
[null,"",null,"","",null,"","",null,null,""]
[null,"",null,"","",null,"","",null,null,""]
[null,"",null,"","",null,"","",null,null,""]
[null,"",null,"","",null,"","",null,null,""]
[null,"",null,"","",null,"","",null,null,""]
[null,"",null,"","",null,"","",null,null,""]
[null,"",null,"","",null,"","",null,null,""]
[null,"",null,"","",null,"","",null,null,""]
[null,"",null,"","",null,"","",null,null,""]
[null,"",null,"","",null,"","",null,null,""]
[null,"",null,"","",null,"","",null,null,""]
[null,"",null,"","",null,"","",null,null,""]
[null,"",null,"","",null,"","",null,null,""]
[null,"",null,"","",null,"","",null,null,""]
[null,"",null,"","",null,"","",null,null,""]
[null,"",null,"","",null,"","",null,null,""]
[null,"",null,"","",null,"","",null,null,""]
[null,"",null,"","",null,"","",null,null,""]
[null,"",null,"","",null,"","",null,null,""]
[null,"",null,"","",null,"","",null,null,""]
[null,"",null,"","",null,"","",null,null,""]
[null,"",null,"","",null,"","",null,null,""]
[null,"",null,"","",null,"","",null,null,""]
[null,"",null,"","",null,"","",null,null,""]
[null,"",null,"","",null,"","",null,null,""]
[null,"",null,"","",null,"","",null,null,""]
[null,"",null,"","",null,"","",null,null,""]
[null,"",null,"","",null,"","",null,null,""]
[null,"",null,"","",null,"","",null,null,""]
[null,"",null,"","",null,"","",null,null,""]
[null,"",null,"","",null,"","",null,null,""]
[null,"",null,"","",null,"","",null,null,""]
[null,"",null,"","",null,"","",null,null,""]
[null,"",null,"","",null,"","",null,null,""]
[null,"",null,"","",null,"","",null,null,""]
[null,"",null,"","",null,"","",null,null,""]
[null,"",null,"","",null,"","",null,null,""]
[null,"",null,"","",null,"","",null,null,""]
[null,"",null,"","",null,"","",null,null,""]
[null,"",null,"","",null,"","",null,null,""]
[null,"",null,"","",null,"","",null,null,""]
[null,"",null,"","",null,"","",null,null,""]
[null,"",null,"","",null,"","",null,null,""]
[null,"",null,"","",null,"","",null,null,""]
[null,"",null,"","",null,"","",null,null,""]
[null,"",null,"","",null,"","",null,null,""]
[null,"",null,"","",null,"","",null,null,""]
[null,"",null,"","",null,"","",null,null,""]
[null,"",null,"","",null,"","",null,null,""]
[null,{"$f":"IF(codigo_cliente=\"\",\"\",VLOOKUP(codigo_cliente,Clientes,2,FALSE))","v":""},null,{"$f":"IF(C1923=\"\",\"\",VLOOKUP(C1923,Itens,2,FALSE))","v":""},{"$f":"IF(C1923=\"\",\"\",VLOOKUP(C1923,Itens,3,FALSE))","v":""},null,{"$f":"IF(C1923=\"\",\"\",VLOOKUP(C1923,Itens,5,FALSE))","v":""},"",null,null,""]
[null,"",null,"","",null,"",{"$f":"IFERROR(F1924*G1924,\"\")","v":""},null,null,{"$f":"IF(J1924=\"\",\"\",HYPERLINK($P$13&J1924,\"Rastreie aqui\"))","v":""}]
[null,"",null,"","",null,"","",null,null,""]
[null,"",null,"","",null,"","",null,null,""]
[null,"",null,"","",null,"","",null,null,""]
[null,"",null,"","",null,"","",null,null,""]
[null,"",null,"","",null,"","",null,null,""]
[null,"",null,"","",null,"","",null,null,""]
[null,"",null,"","",null,"","",null,null,""]
[null,"",null,"","",null,"","",null,null,""]
[null,"",null,"","",null,"","",null,null,""]
[null,"",null,"","",null,"","",null,null,""]
[null,"",null,"","",null,"","",null,null,""]
[null,"",null,"","",null,"","",null,null,""]
[null,"",null,"","",null,"","",null,null,""]
[null,"",null,"","",null,"","",null,null,""]
[null,"",null,"","",null,"","",null,null,""]
[null,"",null,"","",null,"","",null,null,""]
[null,"",null,"","",null,"","",null,null,""]
[null,"",null,"","",null,"","",null,null,""]
[null,"",null,"","",null,"","",null,null,""]
[null,"",null,"","",null,"","",null,null,""]
[null,"",null,"","",null,"","",null,null,""]
[null,"",null,"","",null,"","",null,null,""]
[null,"",null,"","",null,"","",null,null,""]
[null,"",null,"","",null,"","",null,null,""]
[null,"",null,"","",null,"","",null,null,""]
[null,"",null,"","",null,"","",null,null,""]
[null,"",null,"","",null,"","",null,null,""]
[null,"",null,"","",null,"","",null,null,""]
[null,"",null,"","",null,"","",null,null,""]
[null,"",null,"","",null,"","",null,null,""]
[null,"",null,"","",null,"","",null,null,""]
[null,"",null,"","",null,"","",null,null,""]
[null,"",null,"","",null,"","",null,null,""]
[null,"",null,"","",null,"","",null,null,""]
[null,"",null,"","",null,"","",null,null,""]
[null,"",null,"","",null,"","",null,null,""]
[null,"",null,"","",null,"","",null,null,""]
[null,"",null,"","",null,"","",null,null,""]
[null,"",null,"","",null,"","",null,null,""]
[null,"",null,"","",null,"","",null,null,""]
[null,"",null,"","",null,"","",null,null,""]
[null,"",null,"","",null,"","",null,null,""]
[null,"",null,"","",null,"","",null,null,""]
[null,"",null,"","",null,"","",null,null,""]
[null,"",null,"","",null,"","",null,null,""]
[null,"",null,"","",null,"","",null,null,""]
[null,"",null,"","",null,"","",null,null,""]
[null,"",null,"","",null,"","",null,null,""]
[null,"",null,"","",null,"","",null,null,""]
[null,"",null,"","",null,"","",null,null,""]
[null,"",null,"","",null,"","",null,null,""]
[null,"",null,"","",null,"","",null,null,""]
[null,"",null,"","",null,"","",null,null,""]
[null,"",null,"","",null,"","",null,null,""]
[null,"",null,"","",null,"","",null,null,""]
[null,"",null,"","",null,"","",null,null,""]
[null,"",null,"","",null,"","",null,null,""]
[null,"",null,"","",null,"","",null,null,""]
[null,"",null,"","",null,"","",null,null,""]
[null,"",null,"","",null,"","",null,null,""]
[null,"",null,"","",null,"","",null,null,""]
[null,"",null,"","",null,"","",null,null,""]
[null,{"$f":"IF(codigo_cliente=\"\",\"\",VLOOKUP(codigo_cliente,Clientes,2,FALSE))","v":""},null,{"$f":"IF(C1987=\"\",\"\",VLOOKUP(C1987,Itens,2,FALSE))","v":""},{"$f":"IF(C1987=\"\",\"\",VLOOKUP(C1987,Itens,3,FALSE))","v":""},null,{"$f":"IF(C1987=\"\",\"\",VLOOKUP(C1987,Itens,5,FALSE))","v":""},"",null,null,""]
[null,"",null,"","",null,"",{"$f":"IFERROR(F1988*G1988,\"\")","v":""},null,null,{"$f":"IF(J1988=\"\",\"\",HYPERLINK($P$13&J1988,\"Rastreie aqui\"))","v":""}]
[null,"",null,"","",null,"","",null,null,""]
[null,"",null,"","",null,"","",null,null,""]
[null,"",null,"","",null,"","",null,null,""]
[null,"",null,"","",null,"","",null,null,""]
[null,"",null,"","",null,"","",null,null,""]
[null,"",null,"","",null,"","",null,null,""]
[null,"",null,"","",null,"","",null,null,""]
[null,"",null,"","",null,"","",null,null,""]
[null,"",null,"","",null,"","",null,null,""]
[null,"",null,"","",null,"","",null,null,""]
[null,"",null,"","",null,"","",null,null,""]
[null,"",null,"","",null,"","",null,null,""]
[null,"",null,"","",null,"","",null,null,""]
[null,"",null,"","",null,"","",null,null,""]
[null,"",null,"","",null,"","",null,null,""]
[null,"",null,"","",null,"","",null,null,""]
[null,"",null,"","",null,"","",null,null,""]
[null,"",null,"","",null,"","",null,null,""]
[null,"",null,"","",null,"","",null,null,""]
[null,"",null,"","",null,"","",null,null,""]
[null,"",null,"","",null,"","",null,null,""]
[null,"",null,"","",null,"","",null,null,""]
[null,"",null,"","",null,"","",null,null,""]
[null,"",null,"","",null,"","",null,null,""]
[null,"",null,"","",null,"","",null,null,""]
[null,"",null,"","",null,"","",null,null,""]
[null,"",null,"","",null,"","",null,null,""]
[null,"",null,"","",null,"","",null,null,""]
[null,"",null,"","",null,"","",null,null,""]
[null,"",null,"","",null,"","",null,null,""]
[null,"",null,"","",null,"","",null,null,""]
[null,"",null,"","",null,"","",null,null,""]
[null,"",null,"","",null,"","",null,null,""]
[null,"",null,"","",null,"","",null,null,""]
[null,"",null,"","",null,"","",null,null,""]
[null,"",null,"","",null,"","",null,null,""]
[null,"",null,"","",null,"","",null,null,""]
[null,"",null,"","",null,"","",null,null,""]
[null,"",null,"","",null,"","",null,null,""]
[null,"",null,"","",null,"","",null,null,""]
[null,"",null,"","",null,"","",null,null,""]
[null,"",null,"","",null,"","",null,null,""]
[null,"",null,"","",null,"","",null,null,""]
[null,"",null,"","",null,"","",null,null,""]
[null,"",null,"","",null,"","",null,null,""]
[null,"",null,"","",null,"","",null,null,""]
[null,"",null,"","",null,"","",null,null,""]
[null,"",null,"","",null,"","",null,null,""]
[null,"",null,"","",null,"","",null,null,""]
[null,"",null,"","",null,"","",null,null,""]
[null,"",null,"","",null,"","",null,null,""]
[null,"",null,"","",null,"","",null,null,""]
[null,"",null,"","",null,"","",null,null,""]
[null,"",null,"","",null,"","",null,null,""]
[null,"",null,"","",null,"","",null,null,""]
[null,"",null,"","",null,"","",null,null,""]
[null,"",null,"","",null,"","",null,null,""]
[null,"",null,"","",null,"","",null,null,""]
[null,"",null,"","",null,"","",null,null,""]
[null,"",null,"","",null,"","",null,null,""]
[null,"",null,"","",null,"","",null,null,""]
[null,"",null,"","",null,"","",null,null,""]
[null,{"$f":"IF(codigo_cliente=\"\",\"\",VLOOKUP(codigo_cliente,Clientes,2,FALSE))","v":""},null,{"$f":"IF(C2051=\"\",\"\",VLOOKUP(C2051,Itens,2,FALSE))","v":""},{"$f":"IF(C2051=\"\",\"\",VLOOKUP(C2051,Itens,3,FALSE))","v":""},null,{"$f":"IF(C2051=\"\",\"\",VLOOKUP(C2051,Itens,5,FALSE))","v":""},"",null,null,""]
[null,"",null,"","",null,"",{"$f":"IFERROR(F2052*G2052,\"\")","v":""},null,null,{"$f":"IF(J2052=\"\",\"\",HYPERLINK($P$13&J2052,\"Rastreie aqui\"))","v":""}]
[null,"",null,"","",null,"","",null,null,""]
[null,"",null,"","",null,"","",null,null,""]
[null,"",null,"","",null,"","",null,null,""]
[null,"",null,"","",null,"","",null,null,""]
[null,"",null,"","",null,"","",null,null,""]
[null,"",null,"","",null,"","",null,null,""]
[null,"",null,"","",null,"","",null,null,""]
[null,"",null,"","",null,"","",null,null,""]
[null,"",null,"","",null,"","",null,null,""]
[null,"",null,"","",null,"","",null,null,""]
[null,"",null,"","",null,"","",null,null,""]
[null,"",null,"","",null,"","",null,null,""]
[null,"",null,"","",null,"","",null,null,""]
[null,"",null,"","",null,"","",null,null,""]
[null,"",null,"","",null,"","",null,null,""]
[null,"",null,"","",null,"","",null,null,""]
[null,"",null,"","",null,"","",null,null,""]
[null,"",null,"","",null,"","",null,null,""]
[null,"",null,"","",null,"","",null,null,""]
[null,"",null,"","",null,"","",null,null,""]
[null,"",null,"","",null,"","",null,null,""]
[null,"",null,"","",null,"","",null,null,""]
[null,"",null,"","",null,"","",null,null,""]
[null,"",null,"","",null,"","",null,null,""]
[null,"",null,"","",null,"","",null,null,""]
[null,"",null,"","",null,"","",null,null,""]
[null,"",null,"","",null,"","",null,null,""]
[null,"",null,"","",null,"","",null,null,""]
[null,"",null,"","",null,"","",null,null,""]
[null,"",null,"","",null,"","",null,null,""]
[null,"",null,"","",null,"","",null,null,""]
[null,"",null,"","",null,"","",null,null,""]
[null,"",null,"","",null,"","",null,null,""]
[null,"",null,"","",null,"","",null,null,""]
[null,"",null,"","",null,"","",null,null,""]
[null,"",null,"","",null,"","",null,null,""]
[null,"",null,"","",null,"","",null,null,""]
[null,"",null,"","",null,"","",null,null,""]
[null,"",null,"","",null,"","",null,null,""]
[null,"",null,"","",null,"","",null,null,""]
[null,"",null,"","",null,"","",null,null,""]
[null,"",null,"","",null,"","",null,null,""]
[null,"",null,"","",null,"","",null,null,""]
[null,"",null,"","",null,"","",null,null,""]
[null,"",null,"","",null,"","",null,null,""]
[null,"",null,"","",null,"","",null,null,""]
[null,"",null,"","",null,"","",null,null,""]
[null,"",null,"","",null,"","",null,null,""]
[null,"",null,"","",null,"","",null,null,""]
[null,"",null,"","",null,"","",null,null,""]
[null,"",null,"","",null,"","",null,null,""]
[null,"",null,"","",null,"","",null,null,""]
[null,"",null,"","",null,"","",null,null,""]
[null,"",null,"","",null,"","",null,null,""]
[null,"",null,"","",null,"","",null,null,""]
[null,"",null,"","",null,"","",null,null,""]
[null,"",null,"","",null,"","",null,null,""]
[null,"",null,"","",null,"","",null,null,""]
[null,"",null,"","",null,"","",null,null,""]
[null,"",null,"","",null,"","",null,null,""]
[null,"",null,"","",null,"","",null,null,""]
[null,"",null,"","",null,"","",null,null,""]
[null,{"$f":"IF(codigo_cliente=\"\",\"\",VLOOKUP(codigo_cliente,Clientes,2,FALSE))","v":""},null,{"$f":"IF(C2115=\"\",\"\",VLOOKUP(C2115,Itens,2,FALSE))","v":""},{"$f":"IF(C2115=\"\",\"\",VLOOKUP(C2115,Itens,3,FALSE))","v":""},null,{"$f":"IF(C2115=\"\",\"\",VLOOKUP(C2115,Itens,5,FALSE))","v":""},"",null,null,""]
[null,"",null,"","",null,"",{"$f":"IFERROR(F2116*G2116,\"\")","v":""},null,null,{"$f":"IF(J2116=\"\",\"\",HYPERLINK($P$13&J2116,\"Rastreie aqui\"))","v":""}]
[null,"",null,"","",null,"","",null,null,""]
[null,"",null,"","",null,"","",null,null,""]
[null,"",null,"","",null,"","",null,null,""]
[null,"",null,"","",null,"","",null,null,""]
[null,"",null,"","",null,"","",null,null,""]
[null,"",null,"","",null,"","",null,null,""]
[null,"",null,"","",null,"","",null,null,""]
[null,"",null,"","",null,"","",null,null,""]
[null,"",null,"","",null,"","",null,null,""]
[null,"",null,"","",null,"","",null,null,""]
[null,"",null,"","",null,"","",null,null,""]
[null,"",null,"","",null,"","",null,null,""]
[null,"",null,"","",null,"","",null,null,""]
[null,"",null,"","",null,"","",null,null,""]
[null,"",null,"","",null,"","",null,null,""]
[null,"",null,"","",null,"","",null,null,""]
[null,"",null,"","",null,"","",null,null,""]
[null,"",null,"","",null,"","",null,null,""]
[null,"",null,"","",null,"","",null,null,""]
[null,"",null,"","",null,"","",null,null,""]
[null,"",null,"","",null,"","",null,null,""]
[null,"",null,"","",null,"","",null,null,""]
[null,"",null,"","",null,"","",null,null,""]
[null,"",null,"","",null,"","",null,null,""]
[null,"",null,"","",null,"","",null,null,""]
[null,"",null,"","",null,"","",null,null,""]
[null,"",null,"","",null,"","",null,null,""]
[null,"",null,"","",null,"","",null,null,""]
[null,"",null,"","",null,"","",null,null,""]
[null,"",null,"","",null,"","",null,null,""]
[null,"",null,"","",null,"","",null,null,""]
[null,"",null,"","",null,"","",null,null,""]
[null,"",null,"","",null,"","",null,null,""]
[null,"",null,"","",null,"","",null,null,""]
[null,"",null,"","",null,"","",null,null,""]
[null,"",null,"","",null,"","",null,null,""]
[null,"",null,"","",null,"","",null,null,""]
[null,"",null,"","",null,"","",null,null,""]
[null,"",null,"","",null,"","",null,null,""]
[null,"",null,"","",null,"","",null,null,""]
[null,"",null,"","",null,"","",null,null,""]
[null,"",null,"","",null,"","",null,null,""]
[null,"",null,"","",null,"","",null,null,""]
[null,"",null,"","",null,"","",null,null,""]
[null,"",null,"","",null,"","",null,null,""]
[null,"",null,"","",null,"","",null,null,""]
[null,"",null,"","",null,"","",null,null,""]
[null,"",null,"","",null,"","",null,null,""]
[null,"",null,"","",null,"","",null,null,""]
[null,"",null,"","",null,"","",null,null,""]
[null,"",null,"","",null,"","",null,null,""]
[null,"",null,"","",null,"","",null,null,""]
[null,"",null,"","",null,"","",null,null,""]
[null,"",null,"","",null,"","",null,null,""]
[null,"",null,"","",null,"","",null,null,""]
[null,"",null,"","",null,"","",null,null,""]
[null,"",null,"","",null,"","",null,null,""]
[null,"",null,"","",null,"","",null,null,""]
[null,"",null,"","",null,"","",null,null,""]
[null,"",null,"","",null,"","",null,null,""]
[null,"",null,"","",null,"","",null,null,""]
[null,"",null,"","",null,"","",null,null,""]
[null,{"$f":"IF(codigo_cliente=\"\",\"\",VLOOKUP(codigo_cliente,Clientes,2,FALSE))","v":""},null,{"$f":"IF(C2179=\"\",\"\",VLOOKUP(C2179,Itens,2,FALSE))","v":""},{"$f":"IF(C2179=\"\",\"\",VLOOKUP(C2179,Itens,3,FALSE))","v":""},null,{"$f":"IF(C2179=\"\",\"\",VLOOKUP(C2179,Itens,5,FALSE))","v":""},"",null,null,""]
[null,"",null,"","",null,"",{"$f":"IFERROR(F2180*G2180,\"\")","v":""},null,null,{"$f":"IF(J2180=\"\",\"\",HYPERLINK($P$13&J2180,\"Rastreie aqui\"))","v":""}]
[null,"",null,"","",null,"","",null,null,""]
[null,"",null,"","",null,"","",null,null,""]
[null,"",null,"","",null,"","",null,null,""]
[null,"",null,"","",null,"","",null,null,""]
[null,"",null,"","",null,"","",null,null,""]
[null,"",null,"","",null,"","",null,null,""]
[null,"",null,"","",null,"","",null,null,""]
[null,"",null,"","",null,"","",null,null,""]
[null,"",null,"","",null,"","",null,null,""]
[null,"",null,"","",null,"","",null,null,""]
[null,"",null,"","",null,"","",null,null,""]
[null,"",null,"","",null,"","",null,null,""]
[null,"",null,"","",null,"","",null,null,""]
[null,"",null,"","",null,"","",null,null,""]
[null,"",null,"","",null,"","",null,null,""]
[null,"",null,"","",null,"","",null,null,""]
[null,"",null,"","",null,"","",null,null,""]
[null,"",null,"","",null,"","",null,null,""]
[null,"",null,"","",null,"","",null,null,""]
[null,"",null,"","",null,"","",null,null,""]
[null,"",null,"","",null,"","",null,null,""]
[null,"",null,"","",null,"","",null,null,""]
[null,"",null,"","",null,"","",null,null,""]
[null,"",null,"","",null,"","",null,null,""]
[null,"",null,"","",null,"","",null,null,""]
[null,"",null,"","",null,"","",null,null,""]
[null,"",null,"","",null,"","",null,null,""]
[null,"",null,"","",null,"","",null,null,""]
[null,"",null,"","",null,"","",null,null,""]
[null,"",null,"","",null,"","",null,null,""]
[null,"",null,"","",null,"","",null,null,""]
[null,"",null,"","",null,"","",null,null,""]
[null,"",null,"","",null,"","",null,null,""]
[null,"",null,"","",null,"","",null,null,""]
[null,"",null,"","",null,"","",null,null,""]
[null,"",null,"","",null,"","",null,null,""]
[null,"",null,"","",null,"","",null,null,""]
[null,"",null,"","",null,"","",null,null,""]
[null,"",null,"","",null,"","",null,null,""]
[null,"",null,"","",null,"","",null,null,""]
[null,"",null,"","",null,"","",null,null,""]
[null,"",null,"","",null,"","",null,null,""]
[null,"",null,"","",null,"","",null,null,""]
[null,"",null,"","",null,"","",null,null,""]
[null,"",null,"","",null,"","",null,null,""]
[null,"",null,"","",null,"","",null,null,""]
[null,"",null,"","",null,"","",null,null,""]
[null,"",null,"","",null,"","",null,null,""]
[null,"",null,"","",null,"","",null,null,""]
[null,"",null,"","",null,"","",null,null,""]
[null,"",null,"","",null,"","",null,null,""]
[null,"",null,"","",null,"","",null,null,""]
[null,"",null,"","",null,"","",null,null,""]
[null,"",null,"","",null,"","",null,null,""]
[null,"",null,"","",null,"","",null,null,""]
[null,"",null,"","",null,"","",null,null,""]
[null,"",null,"","",null,"","",null,null,""]
[null,"",null,"","",null,"","",null,null,""]
[null,"",null,"","",null,"","",null,null,""]
[null,"",null,"","",null,"","",null,null,""]
[null,"",null,"","",null,"","",null,null,""]
[null,"",null,"","",null,"","",null,null,""]
[null,{"$f":"IF(codigo_cliente=\"\",\"\",VLOOKUP(codigo_cliente,Clientes,2,FALSE))","v":""},null,{"$f":"IF(C2243=\"\",\"\",VLOOKUP(C2243,Itens,2,FALSE))","v":""},{"$f":"IF(C2243=\"\",\"\",VLOOKUP(C2243,Itens,3,FALSE))","v":""},null,{"$f":"IF(C2243=\"\",\"\",VLOOKUP(C2243,Itens,5,FALSE))","v":""},"",null,null,""]
[null,"",null,"","",null,"",{"$f":"IFERROR(F2244*G2244,\"\")","v":""},null,null,{"$f":"IF(J2244=\"\",\"\",HYPERLINK($P$13&J2244,\"Rastreie aqui\"))","v":""}]
[null,"",null,"","",null,"","",null,null,""]
[null,"",null,"","",null,"","",null,null,""]
[null,"",null,"","",null,"","",null,null,""]
[null,"",null,"","",null,"","",null,null,""]
[null,"",null,"","",null,"","",null,null,""]
[null,"",null,"","",null,"","",null,null,""]
[null,"",null,"","",null,"","",null,null,""]
[null,"",null,"","",null,"","",null,null,""]
[null,"",null,"","",null,"","",null,null,""]
[null,"",null,"","",null,"","",null,null,""]
[null,"",null,"","",null,"","",null,null,""]
[null,"",null,"","",null,"","",null,null,""]
[null,"",null,"","",null,"","",null,null,""]
[null,"",null,"","",null,"","",null,null,""]
[null,"",null,"","",null,"","",null,null,""]
[null,"",null,"","",null,"","",null,null,""]
[null,"",null,"","",null,"","",null,null,""]
[null,"",null,"","",null,"","",null,null,""]
[null,"",null,"","",null,"","",null,null,""]
[null,"",null,"","",null,"","",null,null,""]
[null,"",null,"","",null,"","",null,null,""]
[null,"",null,"","",null,"","",null,null,""]
[null,"",null,"","",null,"","",null,null,""]
[null,"",null,"","",null,"","",null,null,""]
[null,"",null,"","",null,"","",null,null,""]
[null,"",null,"","",null,"","",null,null,""]
[null,"",null,"","",null,"","",null,null,""]
[null,"",null,"","",null,"","",null,null,""]
[null,"",null,"","",null,"","",null,null,""]
[null,"",null,"","",null,"","",null,null,""]
[null,"",null,"","",null,"","",null,null,""]
[null,"",null,"","",null,"","",null,null,""]
[null,"",null,"","",null,"","",null,null,""]
[null,"",null,"","",null,"","",null,null,""]
[null,"",null,"","",null,"","",null,null,""]
[null,"",null,"","",null,"","",null,null,""]
[null,"",null,"","",null,"","",null,null,""]
[null,"",null,"","",null,"","",null,null,""]
[null,"",null,"","",null,"","",null,null,""]
[null,"",null,"","",null,"","",null,null,""]
[null,"",null,"","",null,"","",null,null,""]
[null,"",null,"","",null,"","",null,null,""]
[null,"",null,"","",null,"","",null,null,""]
[null,"",null,"","",null,"","",null,null,""]
[null,"",null,"","",null,"","",null,null,""]
[null,"",null,"","",null,"","",null,null,""]
[null,"",null,"","",null,"","",null,null,""]
[null,"",null,"","",null,"","",null,null,""]
[null,"",null,"","",null,"","",null,null,""]
[null,"",null,"","",null,"","",null,null,""]
[null,"",null,"","",null,"","",null,null,""]
[null,"",null,"","",null,"","",null,null,""]
[null,"",null,"","",null,"","",null,null,""]
[null,"",null,"","",null,"","",null,null,""]
[null,"",null,"","",null,"","",null,null,""]
[null,"",null,"","",null,"","",null,null,""]
[null,"",null,"","",null,"","",null,null,""]
[null,"",null,"","",null,"","",null,null,""]
[null,"",null,"","",null,"","",null,null,""]
[null,"",null,"","",null,"","",null,null,""]
[null,"",null,"","",null,"","",null,null,""]
[null,"",null,"","",null,"","",null,null,""]
[null,{"$f":"IF(codigo_cliente=\"\",\"\",VLOOKUP(codigo_cliente,Clientes,2,FALSE))","v":""},null,{"$f":"IF(C2307=\"\",\"\",VLOOKUP(C2307,Itens,2,FALSE))","v":""},{"$f":"IF(C2307=\"\",\"\",VLOOKUP(C2307,Itens,3,FALSE))","v":""},null,{"$f":"IF(C2307=\"\",\"\",VLOOKUP(C2307,Itens,5,FALSE))","v":""},"",null,null,""]
[null,"",null,"","",null,"",{"$f":"IFERROR(F2308*G2308,\"\")","v":""},null,null,{"$f":"IF(J2308=\"\",\"\",HYPERLINK($P$13&J2308,\"Rastreie aqui\"))","v":""}]
[null,"",null,"","",null,"","",null,null,""]
[null,"",null,"","",null,"","",null,null,""]
[null,"",null,"","",null,"","",null,null,""]
[null,"",null,"","",null,"","",null,null,""]
[null,"",null,"","",null,"","",null,null,""]
[null,"",null,"","",null,"","",null,null,""]
[null,"",null,"","",null,"","",null,null,""]
[null,"",null,"","",null,"","",null,null,""]
[null,"",null,"","",null,"","",null,null,""]
[null,"",null,"","",null,"","",null,null,""]
[null,"",null,"","",null,"","",null,null,""]
[null,"",null,"","",null,"","",null,null,""]
[null,"",null,"","",null,"","",null,null,""]
[null,"",null,"","",null,"","",null,null,""]
[null,"",null,"","",null,"","",null,null,""]
[null,"",null,"","",null,"","",null,null,""]
[null,"",null,"","",null,"","",null,null,""]
[null,"",null,"","",null,"","",null,null,""]
[null,"",null,"","",null,"","",null,null,""]
[null,"",null,"","",null,"","",null,null,""]
[null,"",null,"","",null,"","",null,null,""]
[null,"",null,"","",null,"","",null,null,""]
[null,"",null,"","",null,"","",null,null,""]
[null,"",null,"","",null,"","",null,null,""]
[null,"",null,"","",null,"","",null,null,""]
[null,"",null,"","",null,"","",null,null,""]
[null,"",null,"","",null,"","",null,null,""]
[null,"",null,"","",null,"","",null,null,""]
[null,"",null,"","",null,"","",null,null,""]
[null,"",null,"","",null,"","",null,null,""]
[null,"",null,"","",null,"","",null,null,""]
[null,"",null,"","",null,"","",null,null,""]
[null,"",null,"","",null,"","",null,null,""]
[null,"",null,"","",null,"","",null,null,""]
[null,"",null,"","",null,"","",null,null,""]
[null,"",null,"","",null,"","",null,null,""]
[null,"",null,"","",null,"","",null,null,""]
[null,"",null,"","",null,"","",null,null,""]
[null,"",null,"","",null,"","",null,null,""]
[null,"",null,"","",null,"","",null,null,""]
[null,"",null,"","",null,"","",null,null,""]
[null,"",null,"","",null,"","",null,null,""]
[null,"",null,"","",null,"","",null,null,""]
[null,"",null,"","",null,"","",null,null,""]
[null,"",null,"","",null,"","",null,null,""]
[null,"",null,"","",null,"","",null,null,""]
[null,"",null,"","",null,"","",null,null,""]
[null,"",null,"","",null,"","",null,null,""]
[null,"",null,"","",null,"","",null,null,""]
[null,"",null,"","",null,"","",null,null,""]
[null,"",null,"","",null,"","",null,null,""]
[null,"",null,"","",null,"","",null,null,""]
[null,"",null,"","",null,"","",null,null,""]
[null,"",null,"","",null,"","",null,null,""]
[null,"",null,"","",null,"","",null,null,""]
[null,"",null,"","",null,"","",null,null,""]
[null,"",null,"","",null,"","",null,null,""]
[null,"",null,"","",null,"","",null,null,""]
[null,"",null,"","",null,"","",null,null,""]
[null,"",null,"","",null,"","",null,null,""]
[null,"",null,"","",null,"","",null,null,""]
[null,"",null,"","",null,"","",null,null,""]
[null,{"$f":"IF(codigo_cliente=\"\",\"\",VLOOKUP(codigo_cliente,Clientes,2,FALSE))","v":""},null,{"$f":"IF(C2371=\"\",\"\",VLOOKUP(C2371,Itens,2,FALSE))","v":""},{"$f":"IF(C2371=\"\",\"\",VLOOKUP(C2371,Itens,3,FALSE))","v":""},null,{"$f":"IF(C2371=\"\",\"\",VLOOKUP(C2371,Itens,5,FALSE))","v":""},"",null,null,""]
[null,"",null,"","",null,"",{"$f":"IFERROR(F2372*G2372,\"\")","v":""},null,null,{"$f":"IF(J2372=\"\",\"\",HYPERLINK($P$13&J2372,\"Rastreie aqui\"))","v":""}]
[null,"",null,"","",null,"","",null,null,""]
[null,"",null,"","",null,"","",null,null,""]
[null,"",null,"","",null,"","",null,null,""]
[null,"",null,"","",null,"","",null,null,""]
[null,"",null,"","",null,"","",null,null,""]
[null,"",null,"","",null,"","",null,null,""]
[null,"",null,"","",null,"","",null,null,""]
[null,"",null,"","",null,"","",null,null,""]
[null,"",null,"","",null,"","",null,null,""]
[null,"",null,"","",null,"","",null,null,""]
[null,"",null,"","",null,"","",null,null,""]
[null,"",null,"","",null,"","",null,null,""]
[null,"",null,"","",null,"","",null,null,""]
[null,"",null,"","",null,"","",null,null,""]
[null,"",null,"","",null,"","",null,null,""]
[null,"",null,"","",null,"","",null,null,""]
[null,"",null,"","",null,"","",null,null,""]
[null,"",null,"","",null,"","",null,null,""]
[null,"",null,"","",null,"","",null,null,""]
[null,"",null,"","",null,"","",null,null,""]
[null,"",null,"","",null,"","",null,null,""]
[null,"",null,"","",null,"","",null,null,""]
[null,"",null,"","",null,"","",null,null,""]
[null,"",null,"","",null,"","",null,null,""]
[null,"",null,"","",null,"","",null,null,""]
[null,"",null,"","",null,"","",null,null,""]
[null,"",null,"","",null,"","",null,null,""]
[null,"",null,"","",null,"","",null,null,""]
[null,"",null,"","",null,"","",null,null,""]
[null,"",null,"","",null,"","",null,null,""]
[null,"",null,"","",null,"","",null,null,""]
[null,"",null,"","",null,"","",null,null,""]
[null,"",null,"","",null,"","",null,null,""]
[null,"",null,"","",null,"","",null,null,""]
[null,"",null,"","",null,"","",null,null,""]
[null,"",null,"","",null,"","",null,null,""]
[null,"",null,"","",null,"","",null,null,""]
[null,"",null,"","",null,"","",null,null,""]
[null,"",null,"","",null,"","",null,null,""]
[null,"",null,"","",null,"","",null,null,""]
[null,"",null,"","",null,"","",null,null,""]
[null,"",null,"","",null,"","",null,null,""]
[null,"",null,"","",null,"","",null,null,""]
[null,"",null,"","",null,"","",null,null,""]
[null,"",null,"","",null,"","",null,null,""]
[null,"",null,"","",null,"","",null,null,""]
[null,"",null,"","",null,"","",null,null,""]
[null,"",null,"","",null,"","",null,null,""]
[null,"",null,"","",null,"","",null,null,""]
[null,"",null,"","",null,"","",null,null,""]
[null,"",null,"","",null,"","",null,null,""]
[null,"",null,"","",null,"","",null,null,""]
[null,"",null,"","",null,"","",null,null,""]
[null,"",null,"","",null,"","",null,null,""]
[null,"",null,"","",null,"","",null,null,""]
[null,"",null,"","",null,"","",null,null,""]
[null,"",null,"","",null,"","",null,null,""]
[null,"",null,"","",null,"","",null,null,""]
[null,"",null,"","",null,"","",null,null,""]
[null,"",null,"","",null,"","",null,null,""]
[null,"",null,"","",null,"","",null,null,""]
[null,"",null,"","",null,"","",null,null,""]
[null,{"$f":"IF(codigo_cliente=\"\",\"\",VLOOKUP(codigo_cliente,Clientes,2,FALSE))","v":""},null,{"$f":"IF(C2435=\"\",\"\",VLOOKUP(C2435,Itens,2,FALSE))","v":""},{"$f":"IF(C2435=\"\",\"\",VLOOKUP(C2435,Itens,3,FALSE))","v":""},null,{"$f":"IF(C2435=\"\",\"\",VLOOKUP(C2435,Itens,5,FALSE))","v":""},"",null,null,""]
[null,"",null,"","",null,"",{"$f":"IFERROR(F2436*G2436,\"\")","v":""},null,null,{"$f":"IF(J2436=\"\",\"\",HYPERLINK($P$13&J2436,\"Rastreie aqui\"))","v":""}]
[null,"",null,"","",null,"","",null,null,""]
[null,"",null,"","",null,"","",null,null,""]
[null,"",null,"","",null,"","",null,null,""]
[null,"",null,"","",null,"","",null,null,""]
[null,"",null,"","",null,"","",null,null,""]
[null,"",null,"","",null,"","",null,null,""]
[null,"",null,"","",null,"","",null,null,""]
[null,"",null,"","",null,"","",null,null,""]
[null,"",null,"","",null,"","",null,null,""]
[null,"",null,"","",null,"","",null,null,""]
[null,"",null,"","",null,"","",null,null,""]
[null,"",null,"","",null,"","",null,null,""]
[null,"",null,"","",null,"","",null,null,""]
[null,"",null,"","",null,"","",null,null,""]
[null,"",null,"","",null,"","",null,null,""]
[null,"",null,"","",null,"","",null,null,""]
[null,"",null,"","",null,"","",null,null,""]
[null,"",null,"","",null,"","",null,null,""]
[null,"",null,"","",null,"","",null,null,""]
[null,"",null,"","",null,"","",null,null,""]
[null,"",null,"","",null,"","",null,null,""]
[null,"",null,"","",null,"","",null,null,""]
[null,"",null,"","",null,"","",null,null,""]
[null,"",null,"","",null,"","",null,null,""]
[null,"",null,"","",null,"","",null,null,""]
[null,"",null,"","",null,"","",null,null,""]
[null,"",null,"","",null,"","",null,null,""]
[null,"",null,"","",null,"","",null,null,""]
[null,"",null,"","",null,"","",null,null,""]
[null,"",null,"","",null,"","",null,null,""]
[null,"",null,"","",null,"","",null,null,""]
[null,"",null,"","",null,"","",null,null,""]
[null,"",null,"","",null,"","",null,null,""]
[null,"",null,"","",null,"","",null,null,""]
[null,"",null,"","",null,"","",null,null,""]
[null,"",null,"","",null,"","",null,null,""]
[null,"",null,"","",null,"","",null,null,""]
[null,"",null,"","",null,"","",null,null,""]
[null,"",null,"","",null,"","",null,null,""]
[null,"",null,"","",null,"","",null,null,""]
[null,"",null,"","",null,"","",null,null,""]
[null,"",null,"","",null,"","",null,null,""]
[null,"",null,"","",null,"","",null,null,""]
[null,"",null,"","",null,"","",null,null,""]
[null,"",null,"","",null,"","",null,null,""]
[null,"",null,"","",null,"","",null,null,""]
[null,"",null,"","",null,"","",null,null,""]
[null,"",null,"","",null,"","",null,null,""]
[null,"",null,"","",null,"","",null,null,""]
[null,"",null,"","",null,"","",null,null,""]
[null,"",null,"","",null,"","",null,null,""]
[null,"",null,"","",null,"","",null,null,""]
[null,"",null,"","",null,"","",null,null,""]
[null,"",null,"","",null,"","",null,null,""]
[null,"",null,"","",null,"","",null,null,""]
[null,"",null,"","",null,"","",null,null,""]
[null,"",null,"","",null,"","",null,null,""]
[null,"",null,"","",null,"","",null,null,""]
[null,"",null,"","",null,"","",null,null,""]
[null,"",null,"","",null,"","",null,null,""]
[null,"",null,"","",null,"","",null,null,""]
[null,"",null,"","",null,"","",null,null,""]
[null,{"$f":"IF(codigo_cliente=\"\",\"\",VLOOKUP(codigo_cliente,Clientes,2,FALSE))","v":""},null,{"$f":"IF(C2499=\"\",\"\",VLOOKUP(C2499,Itens,2,FALSE))","v":""},{"$f":"IF(C2499=\"\",\"\",VLOOKUP(C2499,Itens,3,FALSE))","v":""},null,{"$f":"IF(C2499=\"\",\"\",VLOOKUP(C2499,Itens,5,FALSE))","v":""},"",null,null,""]
[null,"",null,"","",null,"",{"$f":"IFERROR(F2500*G2500,\"\")","v":""},null,null,{"$f":"IF(J2500=\"\",\"\",HYPERLINK($P$13&J2500,\"Rastreie aqui\"))","v":""}]
[null,"",null,"","",null,"","",null,null,""]
[null,"",null,"","",null,"","",null,null,""]
[null,"",null,"","",null,"","",null,null,""]
[null,"",null,"","",null,"","",null,null,""]
[null,"",null,"","",null,"","",null,null,""]
[null,"",null,"","",null,"","",null,null,""]
[null,"",null,"","",null,"","",null,null,""]
[null,"",null,"","",null,"","",null,null,""]
[null,"",null,"","",null,"","",null,null,""]
[null,"",null,"","",null,"","",null,null,""]
[null,"",null,"","",null,"","",null,null,""]
[null,"",null,"","",null,"","",null,null,""]
[null,"",null,"","",null,"","",null,null,""]
[null,"",null,"","",null,"","",null,null,""]
[null,"",null,"","",null,"","",null,null,""]
[null,"",null,"","",null,"","",null,null,""]
[null,"",null,"","",null,"","",null,null,""]
[null,"",null,"","",null,"","",null,null,""]
[null,"",null,"","",null,"","",null,null,""]
[null,"",null,"","",null,"","",null,null,""]
[null,"",null,"","",null,"","",null,null,""]
[null,"",null,"","",null,"","",null,null,""]
[null,"",null,"","",null,"","",null,null,""]
[null,"",null,"","",null,"","",null,null,""]
[null,"",null,"","",null,"","",null,null,""]
[null,"",null,"","",null,"","",null,null,""]
[null,"",null,"","",null,"","",null,null,""]
[null,"",null,"","",null,"","",null,null,""]
[null,"",null,"","",null,"","",null,null,""]
[null,"",null,"","",null,"","",null,null,""]
[null,"",null,"","",null,"","",null,null,""]
[null,"",null,"","",null,"","",null,null,""]
[null,"",null,"","",null,"","",null,null,""]
[null,"",null,"","",null,"","",null,null,""]
[null,"",null,"","",null,"","",null,null,""]
[null,"",null,"","",null,"","",null,null,""]
[null,"",null,"","",null,"","",null,null,""]
[null,"",null,"","",null,"","",null,null,""]
[null,"",null,"","",null,"","",null,null,""]
[null,"",null,"","",null,"","",null,null,""]
[null,"",null,"","",null,"","",null,null,""]
[null,"",null,"","",null,"","",null,null,""]
[null,"",null,"","",null,"","",null,null,""]
[null,"",null,"","",null,"","",null,null,""]
[null,"",null,"","",null,"","",null,null,""]
[null,"",null,"","",null,"","",null,null,""]
[null,"",null,"","",null,"","",null,null,""]
[null,"",null,"","",null,"","",null,null,""]
[null,"",null,"","",null,"","",null,null,""]
[null,"",null,"","",null,"","",null,null,""]
[null,"",null,"","",null,"","",null,null,""]
[null,"",null,"","",null,"","",null,null,""]
[null,"",null,"","",null,"","",null,null,""]
[null,"",null,"","",null,"","",null,null,""]
[null,"",null,"","",null,"","",null,null,""]
[null,"",null,"","",null,"","",null,null,""]
[null,"",null,"","",null,"","",null,null,""]
[null,"",null,"","",null,"","",null,null,""]
[null,"",null,"","",null,"","",null,null,""]
[null,"",null,"","",null,"","",null,null,""]
[null,"",null,"","",null,"","",null,null,""]
[null,"",null,"","",null,"","",null,null,""]
[null,{"$f":"IF(codigo_cliente=\"\",\"\",VLOOKUP(codigo_cliente,Clientes,2,FALSE))","v":""},null,{"$f":"IF(C2563=\"\",\"\",VLOOKUP(C2563,Itens,2,FALSE))","v":""},{"$f":"IF(C2563=\"\",\"\",VLOOKUP(C2563,Itens,3,FALSE))","v":""},null,{"$f":"IF(C2563=\"\",\"\",VLOOKUP(C2563,Itens,5,FALSE))","v":""},"",null,null,""]
[null,"",null,"","",null,"",{"$f":"IFERROR(F2564*G2564,\"\")","v":""},null,null,{"$f":"IF(J2564=\"\",\"\",HYPERLINK($P$13&J2564,\"Rastreie aqui\"))","v":""}]
[null,"",null,"","",null,"","",null,null,""]
[null,"",null,"","",null,"","",null,null,""]
[null,"",null,"","",null,"","",null,null,""]
[null,"",null,"","",null,"","",null,null,""]
[null,"",null,"","",null,"","",null,null,""]
[null,"",null,"","",null,"","",null,null,""]
[null,"",null,"","",null,"","",null,null,""]
[null,"",null,"","",null,"","",null,null,""]
[null,"",null,"","",null,"","",null,null,""]
[null,"",null,"","",null,"","",null,null,""]
[null,"",null,"","",null,"","",null,null,""]
[null,"",null,"","",null,"","",null,null,""]
[null,"",null,"","",null,"","",null,null,""]
[null,"",null,"","",null,"","",null,null,""]
[null,"",null,"","",null,"","",null,null,""]
[null,"",null,"","",null,"","",null,null,""]
[null,"",null,"","",null,"","",null,null,""]
[null,"",null,"","",null,"","",null,null,""]
[null,"",null,"","",null,"","",null,null,""]
[null,"",null,"","",null,"","",null,null,""]
[null,"",null,"","",null,"","",null,null,""]
[null,"",null,"","",null,"","",null,null,""]
[null,"",null,"","",null,"","",null,null,""]
[null,"",null,"","",null,"","",null,null,""]
[null,"",null,"","",null,"","",null,null,""]
[null,"",null,"","",null,"","",null,null,""]
[null,"",null,"","",null,"","",null,null,""]
[null,"",null,"","",null,"","",null,null,""]
[null,"",null,"","",null,"","",null,null,""]
[null,"",null,"","",null,"","",null,null,""]
[null,"",null,"","",null,"","",null,null,""]
[null,"",null,"","",null,"","",null,null,""]
[null,"",null,"","",null,"","",null,null,""]
[null,"",null,"","",null,"","",null,null,""]
[null,"",null,"","",null,"","",null,null,""]
[null,"",null,"","",null,"","",null,null,""]
[null,"",null,"","",null,"","",null,null,""]
[null,"",null,"","",null,"","",null,null,""]
[null,"",null,"","",null,"","",null,null,""]
[null,"",null,"","",null,"","",null,null,""]
[null,"",null,"","",null,"","",null,null,""]
[null,"",null,"","",null,"","",null,null,""]
[null,"",null,"","",null,"","",null,null,""]
[null,"",null,"","",null,"","",null,null,""]
[null,"",null,"","",null,"","",null,null,""]
[null,"",null,"","",null,"","",null,null,""]
[null,"",null,"","",null,"","",null,null,""]
[null,"",null,"","",null,"","",null,null,""]
[null,"",null,"","",null,"","",null,null,""]
[null,"",null,"","",null,"","",null,null,""]
[null,"",null,"","",null,"","",null,null,""]
[null,"",null,"","",null,"","",null,null,""]
[null,"",null,"","",null,"","",null,null,""]
[null,"",null,"","",null,"","",null,null,""]
[null,"",null,"","",null,"","",null,null,""]
[null,"",null,"","",null,"","",null,null,""]
[null,"",null,"","",null,"","",null,null,""]
[null,"",null,"","",null,"","",null,null,""]
[null,"",null,"","",null,"","",null,null,""]
[null,"",null,"","",null,"","",null,null,""]
[null,"",null,"","",null,"","",null,null,""]
[null,"",null,"","",null,"","",null,null,""]
[null,{"$f":"IF(codigo_cliente=\"\",\"\",VLOOKUP(codigo_cliente,Clientes,2,FALSE))","v":""},null,{"$f":"IF(C2627=\"\",\"\",VLOOKUP(C2627,Itens,2,FALSE))","v":""},{"$f":"IF(C2627=\"\",\"\",VLOOKUP(C2627,Itens,3,FALSE))","v":""},null,{"$f":"IF(C2627=\"\",\"\",VLOOKUP(C2627,Itens,5,FALSE))","v":""},"",null,null,""]
[null,"",null,"","",null,"",{"$f":"IFERROR(F2628*G2628,\"\")","v":""},null,null,{"$f":"IF(J2628=\"\",\"\",HYPERLINK($P$13&J2628,\"Rastreie aqui\"))","v":""}]
[null,"",null,"","",null,"","",null,null,""]
[null,"",null,"","",null,"","",null,null,""]
[null,"",null,"","",null,"","",null,null,""]
[null,"",null,"","",null,"","",null,null,""]
[null,"",null,"","",null,"","",null,null,""]
[null,"",null,"","",null,"","",null,null,""]
[null,"",null,"","",null,"","",null,null,""]
[null,"",null,"","",null,"","",null,null,""]
[null,"",null,"","",null,"","",null,null,""]
[null,"",null,"","",null,"","",null,null,""]
[null,"",null,"","",null,"","",null,null,""]
[null,"",null,"","",null,"","",null,null,""]
[null,"",null,"","",null,"","",null,null,""]
[null,"",null,"","",null,"","",null,null,""]
[null,"",null,"","",null,"","",null,null,""]
[null,"",null,"","",null,"","",null,null,""]
[null,"",null,"","",null,"","",null,null,""]
[null,"",null,"","",null,"","",null,null,""]
[null,"",null,"","",null,"","",null,null,""]
[null,"",null,"","",null,"","",null,null,""]
[null,"",null,"","",null,"","",null,null,""]
[null,"",null,"","",null,"","",null,null,""]
[null,"",null,"","",null,"","",null,null,""]
[null,"",null,"","",null,"","",null,null,""]
[null,"",null,"","",null,"","",null,null,""]
[null,"",null,"","",null,"","",null,null,""]
[null,"",null,"","",null,"","",null,null,""]
[null,"",null,"","",null,"","",null,null,""]
[null,"",null,"","",null,"","",null,null,""]
[null,"",null,"","",null,"","",null,null,""]
[null,"",null,"","",null,"","",null,null,""]
[null,"",null,"","",null,"","",null,null,""]
[null,"",null,"","",null,"","",null,null,""]
[null,"",null,"","",null,"","",null,null,""]
[null,"",null,"","",null,"","",null,null,""]
[null,"",null,"","",null,"","",null,null,""]
[null,"",null,"","",null,"","",null,null,""]
[null,"",null,"","",null,"","",null,null,""]
[null,"",null,"","",null,"","",null,null,""]
[null,"",null,"","",null,"","",null,null,""]
[null,"",null,"","",null,"","",null,null,""]
[null,"",null,"","",null,"","",null,null,""]
[null,"",null,"","",null,"","",null,null,""]
[null,"",null,"","",null,"","",null,null,""]
[null,"",null,"","",null,"","",null,null,""]
[null,"",null,"","",null,"","",null,null,""]
[null,"",null,"","",null,"","",null,null,""]
[null,"",null,"","",null,"","",null,null,""]
[null,"",null,"","",null,"","",null,null,""]
[null,"",null,"","",null,"","",null,null,""]
[null,"",null,"","",null,"","",null,null,""]
[null,"",null,"","",null,"","",null,null,""]
[null,"",null,"","",null,"","",null,null,""]
[null,"",null,"","",null,"","",null,null,""]
[null,"",null,"","",null,"","",null,null,""]
[null,"",null,"","",null,"","",null,null,""]
[null,"",null,"","",null,"","",null,null,""]
[null,"",null,"","",null,"","",null,null,""]
[null,"",null,"","",null,"","",null,null,""]
[null,"",null,"","",null,"","",null,null,""]
[null,"",null,"","",null,"","",null,null,""]
[null,"",null,"","",null,"","",null,null,""]
[null,{"$f":"IF(codigo_cliente=\"\",\"\",VLOOKUP(codigo_cliente,Clientes,2,FALSE))","v":""},null,{"$f":"IF(C2691=\"\",\"\",VLOOKUP(C2691,Itens,2,FALSE))","v":""},{"$f":"IF(C2691=\"\",\"\",VLOOKUP(C2691,Itens,3,FALSE))","v":""},null,{"$f":"IF(C2691=\"\",\"\",VLOOKUP(C2691,Itens,5,FALSE))","v":""},"",null,null,""]
[null,"",null,"","",null,"",{"$f":"IFERROR(F2692*G2692,\"\")","v":""},null,null,{"$f":"IF(J2692=\"\",\"\",HYPERLINK($P$13&J2692,\"Rastreie aqui\"))","v":""}]
[null,"",null,"","",null,"","",null,null,""]
[null,"",null,"","",null,"","",null,null,""]
[null,"",null,"","",null,"","",null,null,""]
[null,"",null,"","",null,"","",null,null,""]
[null,"",null,"","",null,"","",null,null,""]
[null,"",null,"","",null,"","",null,null,""]
[null,"",null,"","",null,"","",null,null,""]
[null,"",null,"","",null,"","",null,null,""]
[null,"",null,"","",null,"","",null,null,""]
[null,"",null,"","",null,"","",null,null,""]
[null,"",null,"","",null,"","",null,null,""]
[null,"",null,"","",null,"","",null,null,""]
[null,"",null,"","",null,"","",null,null,""]
[null,"",null,"","",null,"","",null,null,""]
[null,"",null,"","",null,"","",null,null,""]
[null,"",null,"","",null,"","",null,null,""]
[null,"",null,"","",null,"","",null,null,""]
[null,"",null,"","",null,"","",null,null,""]
[null,"",null,"","",null,"","",null,null,""]
[null,"",null,"","",null,"","",null,null,""]
[null,"",null,"","",null,"","",null,null,""]
[null,"",null,"","",null,"","",null,null,""]
[null,"",null,"","",null,"","",null,null,""]
[null,"",null,"","",null,"","",null,null,""]
[null,"",null,"","",null,"","",null,null,""]
[null,"",null,"","",null,"","",null,null,""]
[null,"",null,"","",null,"","",null,null,""]
[null,"",null,"","",null,"","",null,null,""]
[null,"",null,"","",null,"","",null,null,""]
[null,"",null,"","",null,"","",null,null,""]
[null,"",null,"","",null,"","",null,null,""]
[null,"",null,"","",null,"","",null,null,""]
[null,"",null,"","",null,"","",null,null,""]
[null,"",null,"","",null,"","",null,null,""]
[null,"",null,"","",null,"","",null,null,""]
[null,"",null,"","",null,"","",null,null,""]
[null,"",null,"","",null,"","",null,null,""]
[null,"",null,"","",null,"","",null,null,""]
[null,"",null,"","",null,"","",null,null,""]
[null,"",null,"","",null,"","",null,null,""]
[null,"",null,"","",null,"","",null,null,""]
[null,"",null,"","",null,"","",null,null,""]
[null,"",null,"","",null,"","",null,null,""]
[null,"",null,"","",null,"","",null,null,""]
[null,"",null,"","",null,"","",null,null,""]
[null,"",null,"","",null,"","",null,null,""]
[null,"",null,"","",null,"","",null,null,""]
[null,"",null,"","",null,"","",null,null,""]
[null,"",null,"","",null,"","",null,null,""]
[null,"",null,"","",null,"","",null,null,""]
[null,"",null,"","",null,"","",null,null,""]
[null,"",null,"","",null,"","",null,null,""]
[null,"",null,"","",null,"","",null,null,""]
[null,"",null,"","",null,"","",null,null,""]
[null,"",null,"","",null,"","",null,null,""]
[null,"",null,"","",null,"","",null,null,""]
[null,"",null,"","",null,"","",null,null,""]
[null,"",null,"","",null,"","",null,null,""]
[null,"",null,"","",null,"","",null,null,""]
[null,"",null,"","",null,"","",null,null,""]
[null,"",null,"","",null,"","",null,null,""]
[null,"",null,"","",null,"","",null,null,""]
[null,{"$f":"IF(codigo_cliente=\"\",\"\",VLOOKUP(codigo_cliente,Clientes,2,FALSE))","v":""},null,{"$f":"IF(C2755=\"\",\"\",VLOOKUP(C2755,Itens,2,FALSE))","v":""},{"$f":"IF(C2755=\"\",\"\",VLOOKUP(C2755,Itens,3,FALSE))","v":""},null,{"$f":"IF(C2755=\"\",\"\",VLOOKUP(C2755,Itens,5,FALSE))","v":""},"",null,null,""]
[null,"",null,"","",null,"",{"$f":"IFERROR(F2756*G2756,\"\")","v":""},null,null,{"$f":"IF(J2756=\"\",\"\",HYPERLINK($P$13&J2756,\"Rastreie aqui\"))","v":""}]
[null,"",null,"","",null,"","",null,null,""]
[null,"",null,"","",null,"","",null,null,""]
[null,"",null,"","",null,"","",null,null,""]
[null,"",null,"","",null,"","",null,null,""]
[null,"",null,"","",null,"","",null,null,""]
[null,"",null,"","",null,"","",null,null,""]
[null,"",null,"","",null,"","",null,null,""]
[null,"",null,"","",null,"","",null,null,""]
[null,"",null,"","",null,"","",null,null,""]
[null,"",null,"","",null,"","",null,null,""]
[null,"",null,"","",null,"","",null,null,""]
[null,"",null,"","",null,"","",null,null,""]
[null,"",null,"","",null,"","",null,null,""]
[null,"",null,"","",null,"","",null,null,""]
[null,"",null,"","",null,"","",null,null,""]
[null,"",null,"","",null,"","",null,null,""]
[null,"",null,"","",null,"","",null,null,""]
[null,"",null,"","",null,"","",null,null,""]
[null,"",null,"","",null,"","",null,null,""]
[null,"",null,"","",null,"","",null,null,""]
[null,"",null,"","",null,"","",null,null,""]
[null,"",null,"","",null,"","",null,null,""]
[null,"",null,"","",null,"","",null,null,""]
[null,"",null,"","",null,"","",null,null,""]
[null,"",null,"","",null,"","",null,null,""]
[null,"",null,"","",null,"","",null,null,""]
[null,"",null,"","",null,"","",null,null,""]
[null,"",null,"","",null,"","",null,null,""]
[null,"",null,"","",null,"","",null,null,""]
[null,"",null,"","",null,"","",null,null,""]
[null,"",null,"","",null,"","",null,null,""]
[null,"",null,"","",null,"","",null,null,""]
[null,"",null,"","",null,"","",null,null,""]
[null,"",null,"","",null,"","",null,null,""]
[null,"",null,"","",null,"","",null,null,""]
[null,"",null,"","",null,"","",null,null,""]
[null,"",null,"","",null,"","",null,null,""]
[null,"",null,"","",null,"","",null,null,""]
[null,"",null,"","",null,"","",null,null,""]
[null,"",null,"","",null,"","",null,null,""]
[null,"",null,"","",null,"","",null,null,""]
[null,"",null,"","",null,"","",null,null,""]
[null,"",null,"","",null,"","",null,null,""]
[null,"",null,"","",null,"","",null,null,""]
[null,"",null,"","",null,"","",null,null,""]
[null,"",null,"","",null,"","",null,null,""]
[null,"",null,"","",null,"","",null,null,""]
[null,"",null,"","",null,"","",null,null,""]
[null,"",null,"","",null,"","",null,null,""]
[null,"",null,"","",null,"","",null,null,""]
[null,"",null,"","",null,"","",null,null,""]
[null,"",null,"","",null,"","",null,null,""]
[null,"",null,"","",null,"","",null,null,""]
[null,"",null,"","",null,"","",null,null,""]
[null,"",null,"","",null,"","",null,null,""]
[null,"",null,"","",null,"","",null,null,""]
[null,"",null,"","",null,"","",null,null,""]
[null,"",null,"","",null,"","",null,null,""]
[null,"",null,"","",null,"","",null,null,""]
[null,"",null,"","",null,"","",null,null,""]
[null,"",null,"","",null,"","",null,null,""]
[null,"",null,"","",null,"","",null,null,""]
[null,{"$f":"IF(codigo_cliente=\"\",\"\",VLOOKUP(codigo_cliente,Clientes,2,FALSE))","v":""},null,{"$f":"IF(C2819=\"\",\"\",VLOOKUP(C2819,Itens,2,FALSE))","v":""},{"$f":"IF(C2819=\"\",\"\",VLOOKUP(C2819,Itens,3,FALSE))","v":""},null,{"$f":"IF(C2819=\"\",\"\",VLOOKUP(C2819,Itens,5,FALSE))","v":""},"",null,null,""]
[null,"",null,"","",null,"",{"$f":"IFERROR(F2820*G2820,\"\")","v":""},null,null,{"$f":"IF(J2820=\"\",\"\",HYPERLINK($P$13&J2820,\"Rastreie aqui\"))","v":""}]
[null,"",null,"","",null,"","",null,null,""]
[null,"",null,"","",null,"","",null,null,""]
[null,"",null,"","",null,"","",null,null,""]
[null,"",null,"","",null,"","",null,null,""]
[null,"",null,"","",null,"","",null,null,""]
[null,"",null,"","",null,"","",null,null,""]
[null,"",null,"","",null,"","",null,null,""]
[null,"",null,"","",null,"","",null,null,""]
[null,"",null,"","",null,"","",null,null,""]
[null,"",null,"","",null,"","",null,null,""]
[null,"",null,"","",null,"","",null,null,""]
[null,"",null,"","",null,"","",null,null,""]
[null,"",null,"","",null,"","",null,null,""]
[null,"",null,"","",null,"","",null,null,""]
[null,"",null,"","",null,"","",null,null,""]
[null,"",null,"","",null,"","",null,null,""]
[null,"",null,"","",null,"","",null,null,""]
[null,"",null,"","",null,"","",null,null,""]
[null,"",null,"","",null,"","",null,null,""]
[null,"",null,"","",null,"","",null,null,""]
[null,"",null,"","",null,"","",null,null,""]
[null,"",null,"","",null,"","",null,null,""]
[null,"",null,"","",null,"","",null,null,""]
[null,"",null,"","",null,"","",null,null,""]
[null,"",null,"","",null,"","",null,null,""]
[null,"",null,"","",null,"","",null,null,""]
[null,"",null,"","",null,"","",null,null,""]
[null,"",null,"","",null,"","",null,null,""]
[null,"",null,"","",null,"","",null,null,""]
[null,"",null,"","",null,"","",null,null,""]
[null,"",null,"","",null,"","",null,null,""]
[null,"",null,"","",null,"","",null,null,""]
[null,"",null,"","",null,"","",null,null,""]
[null,"",null,"","",null,"","",null,null,""]
[null,"",null,"","",null,"","",null,null,""]
[null,"",null,"","",null,"","",null,null,""]
[null,"",null,"","",null,"","",null,null,""]
[null,"",null,"","",null,"","",null,null,""]
[null,"",null,"","",null,"","",null,null,""]
[null,"",null,"","",null,"","",null,null,""]
[null,"",null,"","",null,"","",null,null,""]
[null,"",null,"","",null,"","",null,null,""]
[null,"",null,"","",null,"","",null,null,""]
[null,"",null,"","",null,"","",null,null,""]
[null,"",null,"","",null,"","",null,null,""]
[null,"",null,"","",null,"","",null,null,""]
[null,"",null,"","",null,"","",null,null,""]
[null,"",null,"","",null,"","",null,null,""]
[null,"",null,"","",null,"","",null,null,""]
[null,"",null,"","",null,"","",null,null,""]
[null,"",null,"","",null,"","",null,null,""]
[null,"",null,"","",null,"","",null,null,""]
[null,"",null,"","",null,"","",null,null,""]
[null,"",null,"","",null,"","",null,null,""]
[null,"",null,"","",null,"","",null,null,""]
[null,"",null,"","",null,"","",null,null,""]
[null,"",null,"","",null,"","",null,null,""]
[null,"",null,"","",null,"","",null,null,""]
[null,"",null,"","",null,"","",null,null,""]
[null,"",null,"","",null,"","",null,null,""]
[null,"",null,"","",null,"","",null,null,""]
[null,"",null,"","",null,"","",null,null,""]
[null,{"$f":"IF(codigo_cliente=\"\",\"\",VLOOKUP(codigo_cliente,Clientes,2,FALSE))","v":""},null,{"$f":"IF(C2883=\"\",\"\",VLOOKUP(C2883,Itens,2,FALSE))","v":""},{"$f":"IF(C2883=\"\",\"\",VLOOKUP(C2883,Itens,3,FALSE))","v":""},null,{"$f":"IF(C2883=\"\",\"\",VLOOKUP(C2883,Itens,5,FALSE))","v":""},"",null,null,""]
[null,"",null,"","",null,"",{"$f":"IFERROR(F2884*G2884,\"\")","v":""},null,null,{"$f":"IF(J2884=\"\",\"\",HYPERLINK($P$13&J2884,\"Rastreie aqui\"))","v":""}]
[null,"",null,"","",null,"","",null,null,""]
[null,"",null,"","",null,"","",null,null,""]
[null,"",null,"","",null,"","",null,null,""]
[null,"",null,"","",null,"","",null,null,""]
[null,"",null,"","",null,"","",null,null,""]
[null,"",null,"","",null,"","",null,null,""]
[null,"",null,"","",null,"","",null,null,""]
[null,"",null,"","",null,"","",null,null,""]
[null,"",null,"","",null,"","",null,null,""]
[null,"",null,"","",null,"","",null,null,""]
[null,"",null,"","",null,"","",null,null,""]
[null,"",null,"","",null,"","",null,null,""]
[null,"",null,"","",null,"","",null,null,""]
[null,"",null,"","",null,"","",null,null,""]
[null,"",null,"","",null,"","",null,null,""]
[null,"",null,"","",null,"","",null,null,""]
[null,"",null,"","",null,"","",null,null,""]
[null,"",null,"","",null,"","",null,null,""]
[null,"",null,"","",null,"","",null,null,""]
[null,"",null,"","",null,"","",null,null,""]
[null,"",null,"","",null,"","",null,null,""]
[null,"",null,"","",null,"","",null,null,""]
[null,"",null,"","",null,"","",null,null,""]
[null,"",null,"","",null,"","",null,null,""]
[null,"",null,"","",null,"","",null,null,""]
[null,"",null,"","",null,"","",null,null,""]
[null,"",null,"","",null,"","",null,null,""]
[null,"",null,"","",null,"","",null,null,""]
[null,"",null,"","",null,"","",null,null,""]
[null,"",null,"","",null,"","",null,null,""]
[null,"",null,"","",null,"","",null,null,""]
[null,"",null,"","",null,"","",null,null,""]
[null,"",null,"","",null,"","",null,null,""]
[null,"",null,"","",null,"","",null,null,""]
[null,"",null,"","",null,"","",null,null,""]
[null,"",null,"","",null,"","",null,null,""]
[null,"",null,"","",null,"","",null,null,""]
[null,"",null,"","",null,"","",null,null,""]
[null,"",null,"","",null,"","",null,null,""]
[null,"",null,"","",null,"","",null,null,""]
[null,"",null,"","",null,"","",null,null,""]
[null,"",null,"","",null,"","",null,null,""]
[null,"",null,"","",null,"","",null,null,""]
[null,"",null,"","",null,"","",null,null,""]
[null,"",null,"","",null,"","",null,null,""]
[null,"",null,"","",null,"","",null,null,""]
[null,"",null,"","",null,"","",null,null,""]
[null,"",null,"","",null,"","",null,null,""]
[null,"",null,"","",null,"","",null,null,""]
[null,"",null,"","",null,"","",null,null,""]
[null,"",null,"","",null,"","",null,null,""]
[null,"",null,"","",null,"","",null,null,""]
[null,"",null,"","",null,"","",null,null,""]
[null,"",null,"","",null,"","",null,null,""]
[null,"",null,"","",null,"","",null,null,""]
[null,"",null,"","",null,"","",null,null,""]
[null,"",null,"","",null,"","",null,null,""]
[null,"",null,"","",null,"","",null,null,""]
[null,"",null,"","",null,"","",null,null,""]
[null,"",null,"","",null,"","",null,null,""]
[null,"",null,"","",null,"","",null,null,""]
[null,"",null,"","",null,"","",null,null,""]
[null,{"$f":"IF(codigo_cliente=\"\",\"\",VLOOKUP(codigo_cliente,Clientes,2,FALSE))","v":""},null,{"$f":"IF(C2947=\"\",\"\",VLOOKUP(C2947,Itens,2,FALSE))","v":""},{"$f":"IF(C2947=\"\",\"\",VLOOKUP(C2947,Itens,3,FALSE))","v":""},null,{"$f":"IF(C2947=\"\",\"\",VLOOKUP(C2947,Itens,5,FALSE))","v":""},"",null,null,""]
[null,"",null,"","",null,"",{"$f":"IFERROR(F2948*G2948,\"\")","v":""},null,null,{"$f":"IF(J2948=\"\",\"\",HYPERLINK($P$13&J2948,\"Rastreie aqui\"))","v":""}]
[null,"",null,"","",null,"","",null,null,""]
[null,"",null,"","",null,"","",null,null,""]
[null,"",null,"","",null,"","",null,null,""]
[null,"",null,"","",null,"","",null,null,""]
[null,"",null,"","",null,"","",null,null,""]
[null,"",null,"","",null,"","",null,null,""]
[null,"",null,"","",null,"","",null,null,""]
[null,"",null,"","",null,"","",null,null,""]
[null,"",null,"","",null,"","",null,null,""]
[null,"",null,"","",null,"","",null,null,""]
[null,"",null,"","",null,"","",null,null,""]
[null,"",null,"","",null,"","",null,null,""]
[null,"",null,"","",null,"","",null,null,""]
[null,"",null,"","",null,"","",null,null,""]
[null,"",null,"","",null,"","",null,null,""]
[null,"",null,"","",null,"","",null,null,""]
[null,"",null,"","",null,"","",null,null,""]
[null,"",null,"","",null,"","",null,null,""]
[null,"",null,"","",null,"","",null,null,""]
[null,"",null,"","",null,"","",null,null,""]
[null,"",null,"","",null,"","",null,null,""]
[null,"",null,"","",null,"","",null,null,""]
[null,"",null,"","",null,"","",null,null,""]
[null,"",null,"","",null,"","",null,null,""]
[null,"",null,"","",null,"","",null,null,""]
[null,"",null,"","",null,"","",null,null,""]
[null,"",null,"","",null,"","",null,null,""]
[null,"",null,"","",null,"","",null,null,""]
[null,"",null,"","",null,"","",null,null,""]
[null,"",null,"","",null,"","",null,null,""]
[null,"",null,"","",null,"","",null,null,""]
[null,"",null,"","",null,"","",null,null,""]
[null,"",null,"","",null,"","",null,null,""]
[null,"",null,"","",null,"","",null,null,""]
[null,"",null,"","",null,"","",null,null,""]
[null,"",null,"","",null,"","",null,null,""]
[null,"",null,"","",null,"","",null,null,""]
[null,"",null,"","",null,"","",null,null,""]
[null,"",null,"","",null,"","",null,null,""]
[null,"",null,"","",null,"","",null,null,""]
[null,"",null,"","",null,"","",null,null,""]
[null,"",null,"","",null,"","",null,null,""]
[null,"",null,"","",null,"","",null,null,""]
[null,"",null,"","",null,"","",null,null,""]
[null,"",null,"","",null,"","",null,null,""]
[null,"",null,"","",null,"","",null,null,""]
[null,"",null,"","",null,"","",null,null,""]
[null,"",null,"","",null,"","",null,null,""]
[null,"",null,"","",null,"","",null,null,""]
[null,"",null,"","",null,"","",null,null,""]
[null,"",null,"","",null,"","",null,null,""]
[null,"",null,"","",null,"","",null,null,""]
[null,"",null,"","",null,"","",null,null,""]
[null,"",null,"","",null,"","",null,null,""]
[null,"",null,"","",null,"","",null,null,""]
[null,"",null,"","",null,"","",null,null,""]
[null,"",null,"","",null,"","",null,null,""]
[null,"",null,"","",null,"","",null,null,""]
[null,"",null,"","",null,"","",null,null,""]
[null,"",null,"","",null,"","",null,null,""]
[null,"",null,"","",null,"","",null,null,""]
[null,"",null,"","",null,"","",null,null,""]
[null,{"$f":"IF(codigo_cliente=\"\",\"\",VLOOKUP(codigo_cliente,Clientes,2,FALSE))","v":""},null,{"$f":"IF(C3011=\"\",\"\",VLOOKUP(C3011,Itens,2,FALSE))","v":""},{"$f":"IF(C3011=\"\",\"\",VLOOKUP(C3011,Itens,3,FALSE))","v":""},null,{"$f":"IF(C3011=\"\",\"\",VLOOKUP(C3011,Itens,5,FALSE))","v":""},"",null,null,""]
[null,"",null,"","",null,"",{"$f":"IFERROR(F3012*G3012,\"\")","v":""},null,null,{"$f":"IF(J3012=\"\",\"\",HYPERLINK($P$13&J3012,\"Rastreie aqui\"))","v":""}]
[null,"",null,"","",null,"","",null,null,""]
[null,"",null,"","",null,"","",null,null,""]
[null,"",null,"","",null,"","",null,null,""]
[null,"",null,"","",null,"","",null,null,""]
[null,"",null,"","",null,"","",null,null,""]
[null,"",null,"","",null,"","",null,null,""]
[null,"",null,"","",null,"","",null,null,""]
[null,"",null,"","",null,"","",null,null,""]
[null,"",null,"","",null,"","",null,null,""]
[null,"",null,"","",null,"","",null,null,""]
[null,"",null,"","",null,"","",null,null,""]
[null,"",null,"","",null,"","",null,null,""]
[null,"",null,"","",null,"","",null,null,""]
[null,"",null,"","",null,"","",null,null,""]
[null,"",null,"","",null,"","",null,null,""]
[null,"",null,"","",null,"","",null,null,""]
[null,"",null,"","",null,"","",null,null,""]
[null,"",null,"","",null,"","",null,null,""]
[null,"",null,"","",null,"","",null,null,""]
[null,"",null,"","",null,"","",null,null,""]
[null,"",null,"","",null,"","",null,null,""]
[null,"",null,"","",null,"","",null,null,""]
[null,"",null,"","",null,"","",null,null,""]
[null,"",null,"","",null,"","",null,null,""]
[null,"",null,"","",null,"","",null,null,""]
[null,"",null,"","",null,"","",null,null,""]
[null,"",null,"","",null,"","",null,null,""]
[null,"",null,"","",null,"","",null,null,""]
[null,"",null,"","",null,"","",null,null,""]
[null,"",null,"","",null,"","",null,null,""]
[null,"",null,"","",null,"","",null,null,""]
[null,"",null,"","",null,"","",null,null,""]
[null,"",null,"","",null,"","",null,null,""]
[null,"",null,"","",null,"","",null,null,""]
[null,"",null,"","",null,"","",null,null,""]
[null,"",null,"","",null,"","",null,null,""]
[null,"",null,"","",null,"","",null,null,""]
[null,"",null,"","",null,"","",null,null,""]
[null,"",null,"","",null,"","",null,null,""]
[null,"",null,"","",null,"","",null,null,""]
[null,"",null,"","",null,"","",null,null,""]
[null,"",null,"","",null,"","",null,null,""]
[null,"",null,"","",null,"","",null,null,""]
[null,"",null,"","",null,"","",null,null,""]
[null,"",null,"","",null,"","",null,null,""]
[null,"",null,"","",null,"","",null,null,""]
[null,"",null,"","",null,"","",null,null,""]
[null,"",null,"","",null,"","",null,null,""]
[null,"",null,"","",null,"","",null,null,""]
[null,"",null,"","",null,"","",null,null,""]
[null,"",null,"","",null,"","",null,null,""]
[null,"",null,"","",null,"","",null,null,""]
[null,"",null,"","",null,"","",null,null,""]
[null,"",null,"","",null,"","",null,null,""]
[null,"",null,"","",null,"","",null,null,""]
[null,"",null,"","",null,"","",null,null,""]
[null,"",null,"","",null,"","",null,null,""]
[null,"",null,"","",null,"","",null,null,""]
[null,"",null,"","",null,"","",null,null,""]
[null,"",null,"","",null,"","",null,null,""]
[null,"",null,"","",null,"","",null,null,""]
[null,"",null,"","",null,"","",null,null,""]
[null,{"$f":"IF(codigo_cliente=\"\",\"\",VLOOKUP(codigo_cliente,Clientes,2,FALSE))","v":""},null,{"$f":"IF(C3075=\"\",\"\",VLOOKUP(C3075,Itens,2,FALSE))","v":""},{"$f":"IF(C3075=\"\",\"\",VLOOKUP(C3075,Itens,3,FALSE))","v":""},null,{"$f":"IF(C3075=\"\",\"\",VLOOKUP(C3075,Itens,5,FALSE))","v":""},"",null,null,""]
[null,"",null,"","",null,"",{"$f":"IFERROR(F3076*G3076,\"\")","v":""},null,null,{"$f":"IF(J3076=\"\",\"\",HYPERLINK($P$13&J3076,\"Rastreie aqui\"))","v":""}]
[null,"",null,"","",null,"","",null,null,""]
[null,"",null,"","",null,"","",null,null,""]
[null,"",null,"","",null,"","",null,null,""]
[null,"",null,"","",null,"","",null,null,""]
[null,"",null,"","",null,"","",null,null,""]
[null,"",null,"","",null,"","",null,null,""]
[null,"",null,"","",null,"","",null,null,""]
[null,"",null,"","",null,"","",null,null,""]
[null,"",null,"","",null,"","",null,null,""]
[null,"",null,"","",null,"","",null,null,""]
[null,"",null,"","",null,"","",null,null,""]
[null,"",null,"","",null,"","",null,null,""]
[null,"",null,"","",null,"","",null,null,""]
[null,"",null,"","",null,"","",null,null,""]
[null,"",null,"","",null,"","",null,null,""]
[null,"",null,"","",null,"","",null,null,""]
[null,"",null,"","",null,"","",null,null,""]
[null,"",null,"","",null,"","",null,null,""]
[null,"",null,"","",null,"","",null,null,""]
[null,"",null,"","",null,"","",null,null,""]
[null,"",null,"","",null,"","",null,null,""]
[null,"",null,"","",null,"","",null,null,""]
[null,"",null,"","",null,"","",null,null,""]
[null,"",null,"","",null,"","",null,null,""]
[null,"",null,"","",null,"","",null,null,""]
[null,"",null,"","",null,"","",null,null,""]
[null,"",null,"","",null,"","",null,null,""]
[null,"",null,"","",null,"","",null,null,""]
[null,"",null,"","",null,"","",null,null,""]
[null,"",null,"","",null,"","",null,null,""]
[null,"",null,"","",null,"","",null,null,""]
[null,"",null,"","",null,"","",null,null,""]
[null,"",null,"","",null,"","",null,null,""]
[null,"",null,"","",null,"","",null,null,""]
[null,"",null,"","",null,"","",null,null,""]
[null,"",null,"","",null,"","",null,null,""]
[null,"",null,"","",null,"","",null,null,""]
[null,"",null,"","",null,"","",null,null,""]
[null,"",null,"","",null,"","",null,null,""]
[null,"",null,"","",null,"","",null,null,""]
[null,"",null,"","",null,"","",null,null,""]
[null,"",null,"","",null,"","",null,null,""]
[null,"",null,"","",null,"","",null,null,""]
[null,"",null,"","",null,"","",null,null,""]
[null,"",null,"","",null,"","",null,null,""]
[null,"",null,"","",null,"","",null,null,""]
[null,"",null,"","",null,"","",null,null,""]
[null,"",null,"","",null,"","",null,null,""]
[null,"",null,"","",null,"","",null,null,""]
[null,"",null,"","",null,"","",null,null,""]
[null,"",null,"","",null,"","",null,null,""]
[null,"",null,"","",null,"","",null,null,""]
[null,"",null,"","",null,"","",null,null,""]
[null,"",null,"","",null,"","",null,null,""]
[null,"",null,"","",null,"","",null,null,""]
[null,"",null,"","",null,"","",null,null,""]
[null,"",null,"","",null,"","",null,null,""]
[null,"",null,"","",null,"","",null,null,""]
[null,"",null,"","",null,"","",null,null,""]
[null,"",null,"","",null,"","",null,null,""]
[null,"",null,"","",null,"","",null,null,""]
[null,"",null,"","",null,"","",null,null,""]
[null,{"$f":"IF(codigo_cliente=\"\",\"\",VLOOKUP(codigo_cliente,Clientes,2,FALSE))","v":""},null,{"$f":"IF(C3139=\"\",\"\",VLOOKUP(C3139,Itens,2,FALSE))","v":""},{"$f":"IF(C3139=\"\",\"\",VLOOKUP(C3139,Itens,3,FALSE))","v":""},null,{"$f":"IF(C3139=\"\",\"\",VLOOKUP(C3139,Itens,5,FALSE))","v":""},"",null,null,""]
[null,"",null,"","",null,"",{"$f":"IFERROR(F3140*G3140,\"\")","v":""},null,null,{"$f":"IF(J3140=\"\",\"\",HYPERLINK($P$13&J3140,\"Rastreie aqui\"))","v":""}]
[null,"",null,"","",null,"","",null,null,""]
[null,"",null,"","",null,"","",null,null,""]
[null,"",null,"","",null,"","",null,null,""]
[null,"",null,"","",null,"","",null,null,""]
[null,"",null,"","",null,"","",null,null,""]
[null,"",null,"","",null,"","",null,null,""]
[null,"",null,"","",null,"","",null,null,""]
[null,"",null,"","",null,"","",null,null,""]
[null,"",null,"","",null,"","",null,null,""]
[null,"",null,"","",null,"","",null,null,""]
[null,"",null,"","",null,"","",null,null,""]
[null,"",null,"","",null,"","",null,null,""]
[null,"",null,"","",null,"","",null,null,""]
[null,"",null,"","",null,"","",null,null,""]
[null,"",null,"","",null,"","",null,null,""]
[null,"",null,"","",null,"","",null,null,""]
[null,"",null,"","",null,"","",null,null,""]
[null,"",null,"","",null,"","",null,null,""]
[null,"",null,"","",null,"","",null,null,""]
[null,"",null,"","",null,"","",null,null,""]
[null,"",null,"","",null,"","",null,null,""]
[null,"",null,"","",null,"","",null,null,""]
[null,"",null,"","",null,"","",null,null,""]
[null,"",null,"","",null,"","",null,null,""]
[null,"",null,"","",null,"","",null,null,""]
[null,"",null,"","",null,"","",null,null,""]
[null,"",null,"","",null,"","",null,null,""]
[null,"",null,"","",null,"","",null,null,""]
[null,"",null,"","",null,"","",null,null,""]
[null,"",null,"","",null,"","",null,null,""]
[null,"",null,"","",null,"","",null,null,""]
[null,"",null,"","",null,"","",null,null,""]
[null,"",null,"","",null,"","",null,null,""]
[null,"",null,"","",null,"","",null,null,""]
[null,"",null,"","",null,"","",null,null,""]
[null,"",null,"","",null,"","",null,null,""]
[null,"",null,"","",null,"","",null,null,""]
[null,"",null,"","",null,"","",null,null,""]
[null,"",null,"","",null,"","",null,null,""]
[null,"",null,"","",null,"","",null,null,""]
[null,"",null,"","",null,"","",null,null,""]
[null,"",null,"","",null,"","",null,null,""]
[null,"",null,"","",null,"","",null,null,""]
[null,"",null,"","",null,"","",null,null,""]
[null,"",null,"","",null,"","",null,null,""]
[null,"",null,"","",null,"","",null,null,""]
[null,"",null,"","",null,"","",null,null,""]
[null,"",null,"","",null,"","",null,null,""]
[null,"",null,"","",null,"","",null,null,""]
[null,"",null,"","",null,"","",null,null,""]
[null,"",null,"","",null,"","",null,null,""]
[null,"",null,"","",null,"","",null,null,""]
[null,"",null,"","",null,"","",null,null,""]
[null,"",null,"","",null,"","",null,null,""]
[null,"",null,"","",null,"","",null,null,""]
[null,"",null,"","",null,"","",null,null,""]
[null,"",null,"","",null,"","",null,null,""]
[null,"",null,"","",null,"","",null,null,""]
[null,"",null,"","",null,"","",null,null,""]
[null,"",null,"","",null,"","",null,null,""]
[null,"",null,"","",null,"","",null,null,""]
[null,"",null,"","",null,"","",null,null,""]
[null,{"$f":"IF(codigo_cliente=\"\",\"\",VLOOKUP(codigo_cliente,Clientes,2,FALSE))","v":""},null,{"$f":"IF(C3203=\"\",\"\",VLOOKUP(C3203,Itens,2,FALSE))","v":""},{"$f":"IF(C3203=\"\",\"\",VLOOKUP(C3203,Itens,3,FALSE))","v":""},null,{"$f":"IF(C3203=\"\",\"\",VLOOKUP(C3203,Itens,5,FALSE))","v":""},"",null,null,""]
[null,"",null,"","",null,"",{"$f":"IFERROR(F3204*G3204,\"\")","v":""},null,null,{"$f":"IF(J3204=\"\",\"\",HYPERLINK($P$13&J3204,\"Rastreie aqui\"))","v":""}]
[null,"",null,"","",null,"","",null,null,""]
[null,"",null,"","",null,"","",null,null,""]
[null,"",null,"","",null,"","",null,null,""]
[null,"",null,"","",null,"","",null,null,""]
[null,"",null,"","",null,"","",null,null,""]
[null,"",null,"","",null,"","",null,null,""]
[null,"",null,"","",null,"","",null,null,""]
[null,"",null,"","",null,"","",null,null,""]
[null,"",null,"","",null,"","",null,null,""]
[null,"",null,"","",null,"","",null,null,""]
[null,"",null,"","",null,"","",null,null,""]
[null,"",null,"","",null,"","",null,null,""]
[null,"",null,"","",null,"","",null,null,""]
[null,"",null,"","",null,"","",null,null,""]
[null,"",null,"","",null,"","",null,null,""]
[null,"",null,"","",null,"","",null,null,""]
[null,"",null,"","",null,"","",null,null,""]
[null,"",null,"","",null,"","",null,null,""]
[null,"",null,"","",null,"","",null,null,""]
[null,"",null,"","",null,"","",null,null,""]
[null,"",null,"","",null,"","",null,null,""]
[null,"",null,"","",null,"","",null,null,""]
[null,"",null,"","",null,"","",null,null,""]
[null,"",null,"","",null,"","",null,null,""]
[null,"",null,"","",null,"","",null,null,""]
[null,"",null,"","",null,"","",null,null,""]
[null,"",null,"","",null,"","",null,null,""]
[null,"",null,"","",null,"","",null,null,""]
[null,"",null,"","",null,"","",null,null,""]
[null,"",null,"","",null,"","",null,null,""]
[null,"",null,"","",null,"","",null,null,""]
[null,"",null,"","",null,"","",null,null,""]
[null,"",null,"","",null,"","",null,null,""]
[null,"",null,"","",null,"","",null,null,""]
[null,"",null,"","",null,"","",null,null,""]
[null,"",null,"","",null,"","",null,null,""]
[null,"",null,"","",null,"","",null,null,""]
[null,"",null,"","",null,"","",null,null,""]
[null,"",null,"","",null,"","",null,null,""]
[null,"",null,"","",null,"","",null,null,""]
[null,"",null,"","",null,"","",null,null,""]
[null,"",null,"","",null,"","",null,null,""]
[null,"",null,"","",null,"","",null,null,""]
[null,"",null,"","",null,"","",null,null,""]
[null,"",null,"","",null,"","",null,null,""]
[null,"",null,"","",null,"","",null,null,""]
[null,"",null,"","",null,"","",null,null,""]
[null,"",null,"","",null,"","",null,null,""]
[null,"",null,"","",null,"","",null,null,""]
[null,"",null,"","",null,"","",null,null,""]
[null,"",null,"","",null,"","",null,null,""]
[null,"",null,"","",null,"","",null,null,""]
[null,"",null,"","",null,"","",null,null,""]
[null,"",null,"","",null,"","",null,null,""]
[null,"",null,"","",null,"","",null,null,""]
[null,"",null,"","",null,"","",null,null,""]
[null,"",null,"","",null,"","",null,null,""]
[null,"",null,"","",null,"","",null,null,""]
[null,"",null,"","",null,"","",null,null,""]
[null,"",null,"","",null,"","",null,null,""]
[null,"",null,"","",null,"","",null,null,""]
[null,"",null,"","",null,"","",null,null,""]
[null,{"$f":"IF(codigo_cliente=\"\",\"\",VLOOKUP(codigo_cliente,Clientes,2,FALSE))","v":""},null,{"$f":"IF(C3267=\"\",\"\",VLOOKUP(C3267,Itens,2,FALSE))","v":""},{"$f":"IF(C3267=\"\",\"\",VLOOKUP(C3267,Itens,3,FALSE))","v":""},null,{"$f":"IF(C3267=\"\",\"\",VLOOKUP(C3267,Itens,5,FALSE))","v":""},"",null,null,""]
[null,"",null,"","",null,"",{"$f":"IFERROR(F3268*G3268,\"\")","v":""},null,null,{"$f":"IF(J3268=\"\",\"\",HYPERLINK($P$13&J3268,\"Rastreie aqui\"))","v":""}]
[null,"",null,"","",null,"","",null,null,""]
[null,"",null,"","",null,"","",null,null,""]
[null,"",null,"","",null,"","",null,null,""]
[null,"",null,"","",null,"","",null,null,""]
[null,"",null,"","",null,"","",null,null,""]
[null,"",null,"","",null,"","",null,null,""]
[null,"",null,"","",null,"","",null,null,""]
[null,"",null,"","",null,"","",null,null,""]
[null,"",null,"","",null,"","",null,null,""]
[null,"",null,"","",null,"","",null,null,""]
[null,"",null,"","",null,"","",null,null,""]
[null,"",null,"","",null,"","",null,null,""]
[null,"",null,"","",null,"","",null,null,""]
[null,"",null,"","",null,"","",null,null,""]
[null,"",null,"","",null,"","",null,null,""]
[null,"",null,"","",null,"","",null,null,""]
[null,"",null,"","",null,"","",null,null,""]
[null,"",null,"","",null,"","",null,null,""]
[null,"",null,"","",null,"","",null,null,""]
[null,"",null,"","",null,"","",null,null,""]
[null,"",null,"","",null,"","",null,null,""]
[null,"",null,"","",null,"","",null,null,""]
[null,"",null,"","",null,"","",null,null,""]
[null,"",null,"","",null,"","",null,null,""]
[null,"",null,"","",null,"","",null,null,""]
[null,"",null,"","",null,"","",null,null,""]
[null,"",null,"","",null,"","",null,null,""]
[null,"",null,"","",null,"","",null,null,""]
[null,"",null,"","",null,"","",null,null,""]
[null,"",null,"","",null,"","",null,null,""]
[null,"",null,"","",null,"","",null,null,""]
[null,"",null,"","",null,"","",null,null,""]
[null,"",null,"","",null,"","",null,null,""]
[null,"",null,"","",null,"","",null,null,""]
[null,"",null,"","",null,"","",null,null,""]
[null,"",null,"","",null,"","",null,null,""]
[null,"",null,"","",null,"","",null,null,""]
[null,"",null,"","",null,"","",null,null,""]
[null,"",null,"","",null,"","",null,null,""]
[null,"",null,"","",null,"","",null,null,""]
[null,"",null,"","",null,"","",null,null,""]
[null,"",null,"","",null,"","",null,null,""]
[null,"",null,"","",null,"","",null,null,""]
[null,"",null,"","",null,"","",null,null,""]
[null,"",null,"","",null,"","",null,null,""]
[null,"",null,"","",null,"","",null,null,""]
[null,"",null,"","",null,"","",null,null,""]
[null,"",null,"","",null,"","",null,null,""]
[null,"",null,"","",null,"","",null,null,""]
[null,"",null,"","",null,"","",null,null,""]
[null,"",null,"","",null,"","",null,null,""]
[null,"",null,"","",null,"","",null,null,""]
[null,"",null,"","",null,"","",null,null,""]
[null,"",null,"","",null,"","",null,null,""]
[null,"",null,"","",null,"","",null,null,""]
[null,"",null,"","",null,"","",null,null,""]
[null,"",null,"","",null,"","",null,null,""]
[null,"",null,"","",null,"","",null,null,""]
[null,"",null,"","",null,"","",null,null,""]
[null,"",null,"","",null,"","",null,null,""]
[null,"",null,"","",null,"","",null,null,""]
[null,"",null,"","",null,"","",null,null,""]
[null,{"$f":"IF(codigo_cliente=\"\",\"\",VLOOKUP(codigo_cliente,Clientes,2,FALSE))","v":""},null,{"$f":"IF(C3331=\"\",\"\",VLOOKUP(C3331,Itens,2,FALSE))","v":""},{"$f":"IF(C3331=\"\",\"\",VLOOKUP(C3331,Itens,3,FALSE))","v":""},null,{"$f":"IF(C3331=\"\",\"\",VLOOKUP(C3331,Itens,5,FALSE))","v":""},"",null,null,""]
[null,"",null,"","",null,"",{"$f":"IFERROR(F3332*G3332,\"\")","v":""},null,null,{"$f":"IF(J3332=\"\",\"\",HYPERLINK($P$13&J3332,\"Rastreie aqui\"))","v":""}]
[null,"",null,"","",null,"","",null,null,""]
[null,"",null,"","",null,"","",null,null,""]
[null,"",null,"","",null,"","",null,null,""]
[null,"",null,"","",null,"","",null,null,""]
[null,"",null,"","",null,"","",null,null,""]
[null,"",null,"","",null,"","",null,null,""]
[null,"",null,"","",null,"","",null,null,""]
[null,"",null,"","",null,"","",null,null,""]
[null,"",null,"","",null,"","",null,null,""]
[null,"",null,"","",null,"","",null,null,""]
[null,"",null,"","",null,"","",null,null,""]
[null,"",null,"","",null,"","",null,null,""]
[null,"",null,"","",null,"","",null,null,""]
[null,"",null,"","",null,"","",null,null,""]
[null,"",null,"","",null,"","",null,null,""]
[null,"",null,"","",null,"","",null,null,""]
[null,"",null,"","",null,"","",null,null,""]
[null,"",null,"","",null,"","",null,null,""]
[null,"",null,"","",null,"","",null,null,""]
[null,"",null,"","",null,"","",null,null,""]
[null,"",null,"","",null,"","",null,null,""]
[null,"",null,"","",null,"","",null,null,""]
[null,"",null,"","",null,"","",null,null,""]
[null,"",null,"","",null,"","",null,null,""]
[null,"",null,"","",null,"","",null,null,""]
[null,"",null,"","",null,"","",null,null,""]
[null,"",null,"","",null,"","",null,null,""]
[null,"",null,"","",null,"","",null,null,""]
[null,"",null,"","",null,"","",null,null,""]
[null,"",null,"","",null,"","",null,null,""]
[null,"",null,"","",null,"","",null,null,""]
[null,"",null,"","",null,"","",null,null,""]
[null,"",null,"","",null,"","",null,null,""]
[null,"",null,"","",null,"","",null,null,""]
[null,"",null,"","",null,"","",null,null,""]
[null,"",null,"","",null,"","",null,null,""]
[null,"",null,"","",null,"","",null,null,""]
[null,"",null,"","",null,"","",null,null,""]
[null,"",null,"","",null,"","",null,null,""]
[null,"",null,"","",null,"","",null,null,""]
[null,"",null,"","",null,"","",null,null,""]
[null,"",null,"","",null,"","",null,null,""]
[null,"",null,"","",null,"","",null,null,""]
[null,"",null,"","",null,"","",null,null,""]
[null,"",null,"","",null,"","",null,null,""]
[null,"",null,"","",null,"","",null,null,""]
[null,"",null,"","",null,"","",null,null,""]
[null,"",null,"","",null,"","",null,null,""]
[null,"",null,"","",null,"","",null,null,""]
[null,"",null,"","",null,"","",null,null,""]
[null,"",null,"","",null,"","",null,null,""]
[null,"",null,"","",null,"","",null,null,""]
[null,"",null,"","",null,"","",null,null,""]
[null,"",null,"","",null,"","",null,null,""]
[null,"",null,"","",null,"","",null,null,""]
[null,"",null,"","",null,"","",null,null,""]
[null,"",null,"","",null,"","",null,null,""]
[null,"",null,"","",null,"","",null,null,""]
[null,"",null,"","",null,"","",null,null,""]
[null,"",null,"","",null,"","",null,null,""]
[null,"",null,"","",null,"","",null,null,""]
[null,"",null,"","",null,"","",null,null,""]
[null,{"$f":"IF(codigo_cliente=\"\",\"\",VLOOKUP(codigo_cliente,Clientes,2,FALSE))","v":""},null,{"$f":"IF(C3395=\"\",\"\",VLOOKUP(C3395,Itens,2,FALSE))","v":""},{"$f":"IF(C3395=\"\",\"\",VLOOKUP(C3395,Itens,3,FALSE))","v":""},null,{"$f":"IF(C3395=\"\",\"\",VLOOKUP(C3395,Itens,5,FALSE))","v":""},"",null,null,""]
[null,"",null,"","",null,"",{"$f":"IFERROR(F3396*G3396,\"\")","v":""},null,null,{"$f":"IF(J3396=\"\",\"\",HYPERLINK($P$13&J3396,\"Rastreie aqui\"))","v":""}]
[null,"",null,"","",null,"","",null,null,""]
[null,"",null,"","",null,"","",null,null,""]
[null,"",null,"","",null,"","",null,null,""]
[null,"",null,"","",null,"","",null,null,""]
[null,"",null,"","",null,"","",null,null,""]
[null,"",null,"","",null,"","",null,null,""]
[null,"",null,"","",null,"","",null,null,""]
[null,"",null,"","",null,"","",null,null,""]
[null,"",null,"","",null,"","",null,null,""]
[null,"",null,"","",null,"","",null,null,""]
[null,"",null,"","",null,"","",null,null,""]
[null,"",null,"","",null,"","",null,null,""]
[null,"",null,"","",null,"","",null,null,""]
[null,"",null,"","",null,"","",null,null,""]
[null,"",null,"","",null,"","",null,null,""]
[null,"",null,"","",null,"","",null,null,""]
[null,"",null,"","",null,"","",null,null,""]
[null,"",null,"","",null,"","",null,null,""]
[null,"",null,"","",null,"","",null,null,""]
[null,"",null,"","",null,"","",null,null,""]
[null,"",null,"","",null,"","",null,null,""]
[null,"",null,"","",null,"","",null,null,""]
[null,"",null,"","",null,"","",null,null,""]
[null,"",null,"","",null,"","",null,null,""]
[null,"",null,"","",null,"","",null,null,""]
[null,"",null,"","",null,"","",null,null,""]
[null,"",null,"","",null,"","",null,null,""]
[null,"",null,"","",null,"","",null,null,""]
[null,"",null,"","",null,"","",null,null,""]
[null,"",null,"","",null,"","",null,null,""]
[null,"",null,"","",null,"","",null,null,""]
[null,"",null,"","",null,"","",null,null,""]
[null,"",null,"","",null,"","",null,null,""]
[null,"",null,"","",null,"","",null,null,""]
[null,"",null,"","",null,"","",null,null,""]
[null,"",null,"","",null,"","",null,null,""]
[null,"",null,"","",null,"","",null,null,""]
[null,"",null,"","",null,"","",null,null,""]
[null,"",null,"","",null,"","",null,null,""]
[null,"",null,"","",null,"","",null,null,""]
[null,"",null,"","",null,"","",null,null,""]
[null,"",null,"","",null,"","",null,null,""]
[null,"",null,"","",null,"","",null,null,""]
[null,"",null,"","",null,"","",null,null,""]
[null,"",null,"","",null,"","",null,null,""]
[null,"",null,"","",null,"","",null,null,""]
[null,"",null,"","",null,"","",null,null,""]
[null,"",null,"","",null,"","",null,null,""]
[null,"",null,"","",null,"","",null,null,""]
[null,"",null,"","",null,"","",null,null,""]
[null,"",null,"","",null,"","",null,null,""]
[null,"",null,"","",null,"","",null,null,""]
[null,"",null,"","",null,"","",null,null,""]
[null,"",null,"","",null,"","",null,null,""]
[null,"",null,"","",null,"","",null,null,""]
[null,"",null,"","",null,"","",null,null,""]
[null,"",null,"","",null,"","",null,null,""]
[null,"",null,"","",null,"","",null,null,""]
[null,"",null,"","",null,"","",null,null,""]
[null,"",null,"","",null,"","",null,null,""]
[null,"",null,"","",null,"","",null,null,""]
[null,"",null,"","",null,"","",null,null,""]
[null,{"$f":"IF(codigo_cliente=\"\",\"\",VLOOKUP(codigo_cliente,Clientes,2,FALSE))","v":""},null,{"$f":"IF(C3459=\"\",\"\",VLOOKUP(C3459,Itens,2,FALSE))","v":""},{"$f":"IF(C3459=\"\",\"\",VLOOKUP(C3459,Itens,3,FALSE))","v":""},null,{"$f":"IF(C3459=\"\",\"\",VLOOKUP(C3459,Itens,5,FALSE))","v":""},"",null,null,""]
[null,"",null,"","",null,"",{"$f":"IFERROR(F3460*G3460,\"\")","v":""},null,null,{"$f":"IF(J3460=\"\",\"\",HYPERLINK($P$13&J3460,\"Rastreie aqui\"))","v":""}]
[null,"",null,"","",null,"","",null,null,""]
[null,"",null,"","",null,"","",null,null,""]
[null,"",null,"","",null,"","",null,null,""]
[null,"",null,"","",null,"","",null,null,""]
[null,"",null,"","",null,"","",null,null,""]
[null,"",null,"","",null,"","",null,null,""]
[null,"",null,"","",null,"","",null,null,""]
[null,"",null,"","",null,"","",null,null,""]
[null,"",null,"","",null,"","",null,null,""]
[null,"",null,"","",null,"","",null,null,""]
[null,"",null,"","",null,"","",null,null,""]
[null,"",null,"","",null,"","",null,null,""]
[null,"",null,"","",null,"","",null,null,""]
[null,"",null,"","",null,"","",null,null,""]
[null,"",null,"","",null,"","",null,null,""]
[null,"",null,"","",null,"","",null,null,""]
[null,"",null,"","",null,"","",null,null,""]
[null,"",null,"","",null,"","",null,null,""]
[null,"",null,"","",null,"","",null,null,""]
[null,"",null,"","",null,"","",null,null,""]
[null,"",null,"","",null,"","",null,null,""]
[null,"",null,"","",null,"","",null,null,""]
[null,"",null,"","",null,"","",null,null,""]
[null,"",null,"","",null,"","",null,null,""]
[null,"",null,"","",null,"","",null,null,""]
[null,"",null,"","",null,"","",null,null,""]
[null,"",null,"","",null,"","",null,null,""]
[null,"",null,"","",null,"","",null,null,""]
[null,"",null,"","",null,"","",null,null,""]
[null,"",null,"","",null,"","",null,null,""]
[null,"",null,"","",null,"","",null,null,""]
[null,"",null,"","",null,"","",null,null,""]
[null,"",null,"","",null,"","",null,null,""]
[null,"",null,"","",null,"","",null,null,""]
[null,"",null,"","",null,"","",null,null,""]
[null,"",null,"","",null,"","",null,null,""]
[null,"",null,"","",null,"","",null,null,""]
[null,"",null,"","",null,"","",null,null,""]
[null,"",null,"","",null,"","",null,null,""]
[null,"",null,"","",null,"","",null,null,""]
[null,"",null,"","",null,"","",null,null,""]
[null,"",null,"","",null,"","",null,null,""]
[null,"",null,"","",null,"","",null,null,""]
[null,"",null,"","",null,"","",null,null,""]
[null,"",null,"","",null,"","",null,null,""]
[null,"",null,"","",null,"","",null,null,""]
[null,"",null,"","",null,"","",null,null,""]
[null,"",null,"","",null,"","",null,null,""]
[null,"",null,"","",null,"","",null,null,""]
[null,"",null,"","",null,"","",null,null,""]
[null,"",null,"","",null,"","",null,null,""]
[null,"",null,"","",null,"","",null,null,""]
[null,"",null,"","",null,"","",null,null,""]
[null,"",null,"","",null,"","",null,null,""]
[null,"",null,"","",null,"","",null,null,""]
[null,"",null,"","",null,"","",null,null,""]
[null,"",null,"","",null,"","",null,null,""]
[null,"",null,"","",null,"","",null,null,""]
[null,"",null,"","",null,"","",null,null,""]
[null,"",null,"","",null,"","",null,null,""]
[null,"",null,"","",null,"","",null,null,""]
[null,"",null,"","",null,"","",null,null,""]
[null,{"$f":"IF(codigo_cliente=\"\",\"\",VLOOKUP(codigo_cliente,Clientes,2,FALSE))","v":""},null,{"$f":"IF(C3523=\"\",\"\",VLOOKUP(C3523,Itens,2,FALSE))","v":""},{"$f":"IF(C3523=\"\",\"\",VLOOKUP(C3523,Itens,3,FALSE))","v":""},null,{"$f":"IF(C3523=\"\",\"\",VLOOKUP(C3523,Itens,5,FALSE))","v":""},"",null,null,""]
[null,"",null,"","",null,"",{"$f":"IFERROR(F3524*G3524,\"\")","v":""},null,null,{"$f":"IF(J3524=\"\",\"\",HYPERLINK($P$13&J3524,\"Rastreie aqui\"))","v":""}]
[null,"",null,"","",null,"","",null,null,""]
[null,"",null,"","",null,"","",null,null,""]
[null,"",null,"","",null,"","",null,null,""]
[null,"",null,"","",null,"","",null,null,""]
[null,"",null,"","",null,"","",null,null,""]
[null,"",null,"","",null,"","",null,null,""]
[null,"",null,"","",null,"","",null,null,""]
[null,"",null,"","",null,"","",null,null,""]
[null,"",null,"","",null,"","",null,null,""]
[null,"",null,"","",null,"","",null,null,""]
[null,"",null,"","",null,"","",null,null,""]
[null,"",null,"","",null,"","",null,null,""]
[null,"",null,"","",null,"","",null,null,""]
[null,"",null,"","",null,"","",null,null,""]
[null,"",null,"","",null,"","",null,null,""]
[null,"",null,"","",null,"","",null,null,""]
[null,"",null,"","",null,"","",null,null,""]
[null,"",null,"","",null,"","",null,null,""]
[null,"",null,"","",null,"","",null,null,""]
[null,"",null,"","",null,"","",null,null,""]
[null,"",null,"","",null,"","",null,null,""]
[null,"",null,"","",null,"","",null,null,""]
[null,"",null,"","",null,"","",null,null,""]
[null,"",null,"","",null,"","",null,null,""]
[null,"",null,"","",null,"","",null,null,""]
[null,"",null,"","",null,"","",null,null,""]
[null,"",null,"","",null,"","",null,null,""]
[null,"",null,"","",null,"","",null,null,""]
[null,"",null,"","",null,"","",null,null,""]
[null,"",null,"","",null,"","",null,null,""]
[null,"",null,"","",null,"","",null,null,""]
[null,"",null,"","",null,"","",null,null,""]
[null,"",null,"","",null,"","",null,null,""]
[null,"",null,"","",null,"","",null,null,""]
[null,"",null,"","",null,"","",null,null,""]
[null,"",null,"","",null,"","",null,null,""]
[null,"",null,"","",null,"","",null,null,""]
[null,"",null,"","",null,"","",null,null,""]
[null,"",null,"","",null,"","",null,null,""]
[null,"",null,"","",null,"","",null,null,""]
[null,"",null,"","",null,"","",null,null,""]
[null,"",null,"","",null,"","",null,null,""]
[null,"",null,"","",null,"","",null,null,""]
[null,"",null,"","",null,"","",null,null,""]
[null,"",null,"","",null,"","",null,null,""]
[null,"",null,"","",null,"","",null,null,""]
[null,"",null,"","",null,"","",null,null,""]
[null,"",null,"","",null,"","",null,null,""]
[null,"",null,"","",null,"","",null,null,""]
[null,"",null,"","",null,"","",null,null,""]
[null,"",null,"","",null,"","",null,null,""]
[null,"",null,"","",null,"","",null,null,""]
[null,"",null,"","",null,"","",null,null,""]
[null,"",null,"","",null,"","",null,null,""]
[null,"",null,"","",null,"","",null,null,""]
[null,"",null,"","",null,"","",null,null,""]
[null,"",null,"","",null,"","",null,null,""]
[null,"",null,"","",null,"","",null,null,""]
[null,"",null,"","",null,"","",null,null,""]
[null,"",null,"","",null,"","",null,null,""]
[null,"",null,"","",null,"","",null,null,""]
[null,"",null,"","",null,"","",null,null,""]
[null,{"$f":"IF(codigo_cliente=\"\",\"\",VLOOKUP(codigo_cliente,Clientes,2,FALSE))","v":""},null,{"$f":"IF(C3587=\"\",\"\",VLOOKUP(C3587,Itens,2,FALSE))","v":""},{"$f":"IF(C3587=\"\",\"\",VLOOKUP(C3587,Itens,3,FALSE))","v":""},null,{"$f":"IF(C3587=\"\",\"\",VLOOKUP(C3587,Itens,5,FALSE))","v":""},"",null,null,""]
[null,"",null,"","",null,"",{"$f":"IFERROR(F3588*G3588,\"\")","v":""},null,null,{"$f":"IF(J3588=\"\",\"\",HYPERLINK($P$13&J3588,\"Rastreie aqui\"))","v":""}]
[null,"",null,"","",null,"","",null,null,""]
[null,"",null,"","",null,"","",null,null,""]
[null,"",null,"","",null,"","",null,null,""]
[null,"",null,"","",null,"","",null,null,""]
[null,"",null,"","",null,"","",null,null,""]
[null,"",null,"","",null,"","",null,null,""]
[null,"",null,"","",null,"","",null,null,""]
[null,"",null,"","",null,"","",null,null,""]
[null,"",null,"","",null,"","",null,null,""]
[null,"",null,"","",null,"","",null,null,""]
[null,"",null,"","",null,"","",null,null,""]
[null,"",null,"","",null,"","",null,null,""]
[null,"",null,"","",null,"","",null,null,""]
[null,"",null,"","",null,"","",null,null,""]
[null,"",null,"","",null,"","",null,null,""]
[null,"",null,"","",null,"","",null,null,""]
[null,"",null,"","",null,"","",null,null,""]
[null,"",null,"","",null,"","",null,null,""]
[null,"",null,"","",null,"","",null,null,""]
[null,"",null,"","",null,"","",null,null,""]
[null,"",null,"","",null,"","",null,null,""]
[null,"",null,"","",null,"","",null,null,""]
[null,"",null,"","",null,"","",null,null,""]
[null,"",null,"","",null,"","",null,null,""]
[null,"",null,"","",null,"","",null,null,""]
[null,"",null,"","",null,"","",null,null,""]
[null,"",null,"","",null,"","",null,null,""]
[null,"",null,"","",null,"","",null,null,""]
[null,"",null,"","",null,"","",null,null,""]
[null,"",null,"","",null,"","",null,null,""]
[null,"",null,"","",null,"","",null,null,""]
[null,"",null,"","",null,"","",null,null,""]
[null,"",null,"","",null,"","",null,null,""]
[null,"",null,"","",null,"","",null,null,""]
[null,"",null,"","",null,"","",null,null,""]
[null,"",null,"","",null,"","",null,null,""]
[null,"",null,"","",null,"","",null,null,""]
[null,"",null,"","",null,"","",null,null,""]
[null,"",null,"","",null,"","",null,null,""]
[null,"",null,"","",null,"","",null,null,""]
[null,"",null,"","",null,"","",null,null,""]
[null,"",null,"","",null,"","",null,null,""]
[null,"",null,"","",null,"","",null,null,""]
[null,"",null,"","",null,"","",null,null,""]
[null,"",null,"","",null,"","",null,null,""]
[null,"",null,"","",null,"","",null,null,""]
[null,"",null,"","",null,"","",null,null,""]
[null,"",null,"","",null,"","",null,null,""]
[null,"",null,"","",null,"","",null,null,""]
[null,"",null,"","",null,"","",null,null,""]
[null,"",null,"","",null,"","",null,null,""]
[null,"",null,"","",null,"","",null,null,""]
[null,"",null,"","",null,"","",null,null,""]
[null,"",null,"","",null,"","",null,null,""]
[null,"",null,"","",null,"","",null,null,""]
[null,"",null,"","",null,"","",null,null,""]
[null,"",null,"","",null,"","",null,null,""]
[null,"",null,"","",null,"","",null,null,""]
[null,"",null,"","",null,"","",null,null,""]
[null,"",null,"","",null,"","",null,null,""]
[null,"",null,"","",null,"","",null,null,""]
[null,"",null,"","",null,"","",null,null,""]
[null,{"$f":"IF(codigo_cliente=\"\",\"\",VLOOKUP(codigo_cliente,Clientes,2,FALSE))","v":""},null,{"$f":"IF(C3651=\"\",\"\",VLOOKUP(C3651,Itens,2,FALSE))","v":""},{"$f":"IF(C3651=\"\",\"\",VLOOKUP(C3651,Itens,3,FALSE))","v":""},null,{"$f":"IF(C3651=\"\",\"\",VLOOKUP(C3651,Itens,5,FALSE))","v":""},"",null,null,""]
[null,"",null,"","",null,"",{"$f":"IFERROR(F3652*G3652,\"\")","v":""},null,null,{"$f":"IF(J3652=\"\",\"\",HYPERLINK($P$13&J3652,\"Rastreie aqui\"))","v":""}]
[null,"",null,"","",null,"","",null,null,""]
[null,"",null,"","",null,"","",null,null,""]
[null,"",null,"","",null,"","",null,null,""]
[null,"",null,"","",null,"","",null,null,""]
[null,"",null,"","",null,"","",null,null,""]
[null,"",null,"","",null,"","",null,null,""]
[null,"",null,"","",null,"","",null,null,""]
[null,"",null,"","",null,"","",null,null,""]
[null,"",null,"","",null,"","",null,null,""]
[null,"",null,"","",null,"","",null,null,""]
[null,"",null,"","",null,"","",null,null,""]
[null,"",null,"","",null,"","",null,null,""]
[null,"",null,"","",null,"","",null,null,""]
[null,"",null,"","",null,"","",null,null,""]
[null,"",null,"","",null,"","",null,null,""]
[null,"",null,"","",null,"","",null,null,""]
[null,"",null,"","",null,"","",null,null,""]
[null,"",null,"","",null,"","",null,null,""]
[null,"",null,"","",null,"","",null,null,""]
[null,"",null,"","",null,"","",null,null,""]
[null,"",null,"","",null,"","",null,null,""]
[null,"",null,"","",null,"","",null,null,""]
[null,"",null,"","",null,"","",null,null,""]
[null,"",null,"","",null,"","",null,null,""]
[null,"",null,"","",null,"","",null,null,""]
[null,"",null,"","",null,"","",null,null,""]
[null,"",null,"","",null,"","",null,null,""]
[null,"",null,"","",null,"","",null,null,""]
[null,"",null,"","",null,"","",null,null,""]
[null,"",null,"","",null,"","",null,null,""]
[null,"",null,"","",null,"","",null,null,""]
[null,"",null,"","",null,"","",null,null,""]
[null,"",null,"","",null,"","",null,null,""]
[null,"",null,"","",null,"","",null,null,""]
[null,"",null,"","",null,"","",null,null,""]
[null,"",null,"","",null,"","",null,null,""]
[null,"",null,"","",null,"","",null,null,""]
[null,"",null,"","",null,"","",null,null,""]
[null,"",null,"","",null,"","",null,null,""]
[null,"",null,"","",null,"","",null,null,""]
[null,"",null,"","",null,"","",null,null,""]
[null,"",null,"","",null,"","",null,null,""]
[null,"",null,"","",null,"","",null,null,""]
[null,"",null,"","",null,"","",null,null,""]
[null,"",null,"","",null,"","",null,null,""]
[null,"",null,"","",null,"","",null,null,""]
[null,"",null,"","",null,"","",null,null,""]
[null,"",null,"","",null,"","",null,null,""]
[null,"",null,"","",null,"","",null,null,""]
[null,"",null,"","",null,"","",null,null,""]
[null,"",null,"","",null,"","",null,null,""]
[null,"",null,"","",null,"","",null,null,""]
[null,"",null,"","",null,"","",null,null,""]
[null,"",null,"","",null,"","",null,null,""]
[null,"",null,"","",null,"","",null,null,""]
[null,"",null,"","",null,"","",null,null,""]
[null,"",null,"","",null,"","",null,null,""]
[null,"",null,"","",null,"","",null,null,""]
[null,"",null,"","",null,"","",null,null,""]
[null,"",null,"","",null,"","",null,null,""]
[null,"",null,"","",null,"","",null,null,""]
[null,"",null,"","",null,"","",null,null,""]
[null,{"$f":"IF(codigo_cliente=\"\",\"\",VLOOKUP(codigo_cliente,Clientes,2,FALSE))","v":""},null,{"$f":"IF(C3715=\"\",\"\",VLOOKUP(C3715,Itens,2,FALSE))","v":""},{"$f":"IF(C3715=\"\",\"\",VLOOKUP(C3715,Itens,3,FALSE))","v":""},null,{"$f":"IF(C3715=\"\",\"\",VLOOKUP(C3715,Itens,5,FALSE))","v":""},"",null,null,""]
[null,"",null,"","",null,"",{"$f":"IFERROR(F3716*G3716,\"\")","v":""},null,null,{"$f":"IF(J3716=\"\",\"\",HYPERLINK($P$13&J3716,\"Rastreie aqui\"))","v":""}]
[null,"",null,"","",null,"","",null,null,""]
[null,"",null,"","",null,"","",null,null,""]
[null,"",null,"","",null,"","",null,null,""]
[null,"",null,"","",null,"","",null,null,""]
[null,"",null,"","",null,"","",null,null,""]
[null,"",null,"","",null,"","",null,null,""]
[null,"",null,"","",null,"","",null,null,""]
[null,"",null,"","",null,"","",null,null,""]
[null,"",null,"","",null,"","",null,null,""]
[null,"",null,"","",null,"","",null,null,""]
[null,"",null,"","",null,"","",null,null,""]
[null,"",null,"","",null,"","",null,null,""]
[null,"",null,"","",null,"","",null,null,""]
[null,"",null,"","",null,"","",null,null,""]
[null,"",null,"","",null,"","",null,null,""]
[null,"",null,"","",null,"","",null,null,""]
[null,"",null,"","",null,"","",null,null,""]
[null,"",null,"","",null,"","",null,null,""]
[null,"",null,"","",null,"","",null,null,""]
[null,"",null,"","",null,"","",null,null,""]
[null,"",null,"","",null,"","",null,null,""]
[null,"",null,"","",null,"","",null,null,""]
[null,"",null,"","",null,"","",null,null,""]
[null,"",null,"","",null,"","",null,null,""]
[null,"",null,"","",null,"","",null,null,""]
[null,"",null,"","",null,"","",null,null,""]
[null,"",null,"","",null,"","",null,null,""]
[null,"",null,"","",null,"","",null,null,""]
[null,"",null,"","",null,"","",null,null,""]
[null,"",null,"","",null,"","",null,null,""]
[null,"",null,"","",null,"","",null,null,""]
[null,"",null,"","",null,"","",null,null,""]
[null,"",null,"","",null,"","",null,null,""]
[null,"",null,"","",null,"","",null,null,""]
[null,"",null,"","",null,"","",null,null,""]
[null,"",null,"","",null,"","",null,null,""]
[null,"",null,"","",null,"","",null,null,""]
[null,"",null,"","",null,"","",null,null,""]
[null,"",null,"","",null,"","",null,null,""]
[null,"",null,"","",null,"","",null,null,""]
[null,"",null,"","",null,"","",null,null,""]
[null,"",null,"","",null,"","",null,null,""]
[null,"",null,"","",null,"","",null,null,""]
[null,"",null,"","",null,"","",null,null,""]
[null,"",null,"","",null,"","",null,null,""]
[null,"",null,"","",null,"","",null,null,""]
[null,"",null,"","",null,"","",null,null,""]
[null,"",null,"","",null,"","",null,null,""]
[null,"",null,"","",null,"","",null,null,""]
[null,"",null,"","",null,"","",null,null,""]
[null,"",null,"","",null,"","",null,null,""]
[null,"",null,"","",null,"","",null,null,""]
[null,"",null,"","",null,"","",null,null,""]
[null,"",null,"","",null,"","",null,null,""]
[null,"",null,"","",null,"","",null,null,""]
[null,"",null,"","",null,"","",null,null,""]
[null,"",null,"","",null,"","",null,null,""]
[null,"",null,"","",null,"","",null,null,""]
[null,"",null,"","",null,"","",null,null,""]
[null,"",null,"","",null,"","",null,null,""]
[null,"",null,"","",null,"","",null,null,""]
[null,"",null,"","",null,"","",null,null,""]
[null,{"$f":"IF(codigo_cliente=\"\",\"\",VLOOKUP(codigo_cliente,Clientes,2,FALSE))","v":""},null,{"$f":"IF(C3779=\"\",\"\",VLOOKUP(C3779,Itens,2,FALSE))","v":""},{"$f":"IF(C3779=\"\",\"\",VLOOKUP(C3779,Itens,3,FALSE))","v":""},null,{"$f":"IF(C3779=\"\",\"\",VLOOKUP(C3779,Itens,5,FALSE))","v":""},"",null,null,""]
[null,"",null,"","",null,"",{"$f":"IFERROR(F3780*G3780,\"\")","v":""},null,null,{"$f":"IF(J3780=\"\",\"\",HYPERLINK($P$13&J3780,\"Rastreie aqui\"))","v":""}]
[null,"",null,"","",null,"","",null,null,""]
[null,"",null,"","",null,"","",null,null,""]
[null,"",null,"","",null,"","",null,null,""]
[null,"",null,"","",null,"","",null,null,""]
[null,"",null,"","",null,"","",null,null,""]
[null,"",null,"","",null,"","",null,null,""]
[null,"",null,"","",null,"","",null,null,""]
[null,"",null,"","",null,"","",null,null,""]
[null,"",null,"","",null,"","",null,null,""]
[null,"",null,"","",null,"","",null,null,""]
[null,"",null,"","",null,"","",null,null,""]
[null,"",null,"","",null,"","",null,null,""]
[null,"",null,"","",null,"","",null,null,""]
[null,"",null,"","",null,"","",null,null,""]
[null,"",null,"","",null,"","",null,null,""]
[null,"",null,"","",null,"","",null,null,""]
[null,"",null,"","",null,"","",null,null,""]
[null,"",null,"","",null,"","",null,null,""]
[null,"",null,"","",null,"","",null,null,""]
[null,"",null,"","",null,"","",null,null,""]
[null,"",null,"","",null,"","",null,null,""]
[null,"",null,"","",null,"","",null,null,""]
[null,"",null,"","",null,"","",null,null,""]
[null,"",null,"","",null,"","",null,null,""]
[null,"",null,"","",null,"","",null,null,""]
[null,"",null,"","",null,"","",null,null,""]
[null,"",null,"","",null,"","",null,null,""]
[null,"",null,"","",null,"","",null,null,""]
[null,"",null,"","",null,"","",null,null,""]
[null,"",null,"","",null,"","",null,null,""]
[null,"",null,"","",null,"","",null,null,""]
[null,"",null,"","",null,"","",null,null,""]
[null,"",null,"","",null,"","",null,null,""]
[null,"",null,"","",null,"","",null,null,""]
[null,"",null,"","",null,"","",null,null,""]
[null,"",null,"","",null,"","",null,null,""]
[null,"",null,"","",null,"","",null,null,""]
[null,"",null,"","",null,"","",null,null,""]
[null,"",null,"","",null,"","",null,null,""]
[null,"",null,"","",null,"","",null,null,""]
[null,"",null,"","",null,"","",null,null,""]
[null,"",null,"","",null,"","",null,null,""]
[null,"",null,"","",null,"","",null,null,""]
[null,"",null,"","",null,"","",null,null,""]
[null,"",null,"","",null,"","",null,null,""]
[null,"",null,"","",null,"","",null,null,""]
[null,"",null,"","",null,"","",null,null,""]
[null,"",null,"","",null,"","",null,null,""]
[null,"",null,"","",null,"","",null,null,""]
[null,"",null,"","",null,"","",null,null,""]
[null,"",null,"","",null,"","",null,null,""]
[null,"",null,"","",null,"","",null,null,""]
[null,"",null,"","",null,"","",null,null,""]
[null,"",null,"","",null,"","",null,null,""]
[null,"",null,"","",null,"","",null,null,""]
[null,"",null,"","",null,"","",null,null,""]
[null,"",null,"","",null,"","",null,null,""]
[null,"",null,"","",null,"","",null,null,""]
[null,"",null,"","",null,"","",null,null,""]
[null,"",null,"","",null,"","",null,null,""]
[null,"",null,"","",null,"","",null,null,""]
[null,"",null,"","",null,"","",null,null,""]
[null,{"$f":"IF(codigo_cliente=\"\",\"\",VLOOKUP(codigo_cliente,Clientes,2,FALSE))","v":""},null,{"$f":"IF(C3843=\"\",\"\",VLOOKUP(C3843,Itens,2,FALSE))","v":""},{"$f":"IF(C3843=\"\",\"\",VLOOKUP(C3843,Itens,3,FALSE))","v":""},null,{"$f":"IF(C3843=\"\",\"\",VLOOKUP(C3843,Itens,5,FALSE))","v":""},"",null,null,""]
[null,"",null,"","",null,"",{"$f":"IFERROR(F3844*G3844,\"\")","v":""},null,null,{"$f":"IF(J3844=\"\",\"\",HYPERLINK($P$13&J3844,\"Rastreie aqui\"))","v":""}]
[null,"",null,"","",null,"","",null,null,""]
[null,"",null,"","",null,"","",null,null,""]
[null,"",null,"","",null,"","",null,null,""]
[null,"",null,"","",null,"","",null,null,""]
[null,"",null,"","",null,"","",null,null,""]
[null,"",null,"","",null,"","",null,null,""]
[null,"",null,"","",null,"","",null,null,""]
[null,"",null,"","",null,"","",null,null,""]
[null,"",null,"","",null,"","",null,null,""]
[null,"",null,"","",null,"","",null,null,""]
[null,"",null,"","",null,"","",null,null,""]
[null,"",null,"","",null,"","",null,null,""]
[null,"",null,"","",null,"","",null,null,""]
[null,"",null,"","",null,"","",null,null,""]
[null,"",null,"","",null,"","",null,null,""]
[null,"",null,"","",null,"","",null,null,""]
[null,"",null,"","",null,"","",null,null,""]
[null,"",null,"","",null,"","",null,null,""]
[null,"",null,"","",null,"","",null,null,""]
[null,"",null,"","",null,"","",null,null,""]
[null,"",null,"","",null,"","",null,null,""]
[null,"",null,"","",null,"","",null,null,""]
[null,"",null,"","",null,"","",null,null,""]
[null,"",null,"","",null,"","",null,null,""]
[null,"",null,"","",null,"","",null,null,""]
[null,"",null,"","",null,"","",null,null,""]
[null,"",null,"","",null,"","",null,null,""]
[null,"",null,"","",null,"","",null,null,""]
[null,"",null,"","",null,"","",null,null,""]
[null,"",null,"","",null,"","",null,null,""]
[null,"",null,"","",null,"","",null,null,""]
[null,"",null,"","",null,"","",null,null,""]
[null,"",null,"","",null,"","",null,null,""]
[null,"",null,"","",null,"","",null,null,""]
[null,"",null,"","",null,"","",null,null,""]
[null,"",null,"","",null,"","",null,null,""]
[null,"",null,"","",null,"","",null,null,""]
[null,"",null,"","",null,"","",null,null,""]
[null,"",null,"","",null,"","",null,null,""]
[null,"",null,"","",null,"","",null,null,""]
[null,"",null,"","",null,"","",null,null,""]
[null,"",null,"","",null,"","",null,null,""]
[null,"",null,"","",null,"","",null,null,""]
[null,"",null,"","",null,"","",null,null,""]
[null,"",null,"","",null,"","",null,null,""]
[null,"",null,"","",null,"","",null,null,""]
[null,"",null,"","",null,"","",null,null,""]
[null,"",null,"","",null,"","",null,null,""]
[null,"",null,"","",null,"","",null,null,""]
[null,"",null,"","",null,"","",null,null,""]
[null,"",null,"","",null,"","",null,null,""]
[null,"",null,"","",null,"","",null,null,""]
[null,"",null,"","",null,"","",null,null,""]
[null,"",null,"","",null,"","",null,null,""]
[null,"",null,"","",null,"","",null,null,""]
[null,"",null,"","",null,"","",null,null,""]
[null,"",null,"","",null,"","",null,null,""]
[null,"",null,"","",null,"","",null,null,""]
[null,"",null,"","",null,"","",null,null,""]
[null,"",null,"","",null,"","",null,null,""]
[null,"",null,"","",null,"","",null,null,""]
[null,"",null,"","",null,"","",null,null,""]
[null,{"$f":"IF(codigo_cliente=\"\",\"\",VLOOKUP(codigo_cliente,Clientes,2,FALSE))","v":""},null,{"$f":"IF(C3907=\"\",\"\",VLOOKUP(C3907,Itens,2,FALSE))","v":""},{"$f":"IF(C3907=\"\",\"\",VLOOKUP(C3907,Itens,3,FALSE))","v":""},null,{"$f":"IF(C3907=\"\",\"\",VLOOKUP(C3907,Itens,5,FALSE))","v":""},"",null,null,""]
[null,"",null,"","",null,"",{"$f":"IFERROR(F3908*G3908,\"\")","v":""},null,null,{"$f":"IF(J3908=\"\",\"\",HYPERLINK($P$13&J3908,\"Rastreie aqui\"))","v":""}]
[null,"",null,"","",null,"","",null,null,""]
[null,"",null,"","",null,"","",null,null,""]
[null,"",null,"","",null,"","",null,null,""]
[null,"",null,"","",null,"","",null,null,""]
[null,"",null,"","",null,"","",null,null,""]
[null,"",null,"","",null,"","",null,null,""]
[null,"",null,"","",null,"","",null,null,""]
[null,"",null,"","",null,"","",null,null,""]
[null,"",null,"","",null,"","",null,null,""]
[null,"",null,"","",null,"","",null,null,""]
[null,"",null,"","",null,"","",null,null,""]
[null,"",null,"","",null,"","",null,null,""]
[null,"",null,"","",null,"","",null,null,""]
[null,"",null,"","",null,"","",null,null,""]
[null,"",null,"","",null,"","",null,null,""]
[null,"",null,"","",null,"","",null,null,""]
[null,"",null,"","",null,"","",null,null,""]
[null,"",null,"","",null,"","",null,null,""]
[null,"",null,"","",null,"","",null,null,""]
[null,"",null,"","",null,"","",null,null,""]
[null,"",null,"","",null,"","",null,null,""]
[null,"",null,"","",null,"","",null,null,""]
[null,"",null,"","",null,"","",null,null,""]
[null,"",null,"","",null,"","",null,null,""]
[null,"",null,"","",null,"","",null,null,""]
[null,"",null,"","",null,"","",null,null,""]
[null,"",null,"","",null,"","",null,null,""]
[null,"",null,"","",null,"","",null,null,""]
[null,"",null,"","",null,"","",null,null,""]
[null,"",null,"","",null,"","",null,null,""]
[null,"",null,"","",null,"","",null,null,""]
[null,"",null,"","",null,"","",null,null,""]
[null,"",null,"","",null,"","",null,null,""]
[null,"",null,"","",null,"","",null,null,""]
[null,"",null,"","",null,"","",null,null,""]
[null,"",null,"","",null,"","",null,null,""]
[null,"",null,"","",null,"","",null,null,""]
[null,"",null,"","",null,"","",null,null,""]
[null,"",null,"","",null,"","",null,null,""]
[null,"",null,"","",null,"","",null,null,""]
[null,"",null,"","",null,"","",null,null,""]
[null,"",null,"","",null,"","",null,null,""]
[null,"",null,"","",null,"","",null,null,""]
[null,"",null,"","",null,"","",null,null,""]
[null,"",null,"","",null,"","",null,null,""]
[null,"",null,"","",null,"","",null,null,""]
[null,"",null,"","",null,"","",null,null,""]
[null,"",null,"","",null,"","",null,null,""]
[null,"",null,"","",null,"","",null,null,""]
[null,"",null,"","",null,"","",null,null,""]
[null,"",null,"","",null,"","",null,null,""]
[null,"",null,"","",null,"","",null,null,""]
[null,"",null,"","",null,"","",null,null,""]
[null,"",null,"","",null,"","",null,null,""]
[null,"",null,"","",null,"","",null,null,""]
[null,"",null,"","",null,"","",null,null,""]
[null,"",null,"","",null,"","",null,null,""]
[null,"",null,"","",null,"","",null,null,""]
[null,"",null,"","",null,"","",null,null,""]
[null,"",null,"","",null,"","",null,null,""]
[null,"",null,"","",null,"","",null,null,""]
[null,"",null,"","",null,"","",null,null,""]
[null,{"$f":"IF(codigo_cliente=\"\",\"\",VLOOKUP(codigo_cliente,Clientes,2,FALSE))","v":""},null,{"$f":"IF(C3971=\"\",\"\",VLOOKUP(C3971,Itens,2,FALSE))","v":""},{"$f":"IF(C3971=\"\",\"\",VLOOKUP(C3971,Itens,3,FALSE))","v":""},null,{"$f":"IF(C3971=\"\",\"\",VLOOKUP(C3971,Itens,5,FALSE))","v":""},"",null,null,""]
[null,"",null,"","",null,"",{"$f":"IFERROR(F3972*G3972,\"\")","v":""},null,null,{"$f":"IF(J3972=\"\",\"\",HYPERLINK($P$13&J3972,\"Rastreie aqui\"))","v":""}]
[null,"",null,"","",null,"","",null,null,""]
[null,"",null,"","",null,"","",null,null,""]
[null,"",null,"","",null,"","",null,null,""]
[null,"",null,"","",null,"","",null,null,""]
[null,"",null,"","",null,"","",null,null,""]
[null,"",null,"","",null,"","",null,null,""]
[null,"",null,"","",null,"","",null,null,""]
[null,"",null,"","",null,"","",null,null,""]
[null,"",null,"","",null,"","",null,null,""]
[null,"",null,"","",null,"","",null,null,""]
[null,"",null,"","",null,"","",null,null,""]
[null,"",null,"","",null,"","",null,null,""]
[null,"",null,"","",null,"","",null,null,""]
[null,"",null,"","",null,"","",null,null,""]
[null,"",null,"","",null,"","",null,null,""]
[null,"",null,"","",null,"","",null,null,""]
[null,"",null,"","",null,"","",null,null,""]
[null,"",null,"","",null,"","",null,null,""]
[null,"",null,"","",null,"","",null,null,""]
[null,"",null,"","",null,"","",null,null,""]
[null,"",null,"","",null,"","",null,null,""]
[null,"",null,"","",null,"","",null,null,""]
[null,"",null,"","",null,"","",null,null,""]
[null,"",null,"","",null,"","",null,null,""]
[null,"",null,"","",null,"","",null,null,""]
[null,"",null,"","",null,"","",null,null,""]
[null,"",null,"","",null,"","",null,null,""]
[null,"",null,"","",null,"","",null,null,""]
[null,"",null,"","",null,"","",null,null,""]
[null,"",null,"","",null,"","",null,null,""]
[null,"",null,"","",null,"","",null,null,""]
[null,"",null,"","",null,"","",null,null,""]
[null,"",null,"","",null,"","",null,null,""]
[null,"",null,"","",null,"","",null,null,""]
[null,"",null,"","",null,"","",null,null,""]
[null,"",null,"","",null,"","",null,null,""]
[null,"",null,"","",null,"","",null,null,""]
[null,"",null,"","",null,"","",null,null,""]
[null,"",null,"","",null,"","",null,null,""]
[null,"",null,"","",null,"","",null,null,""]
[null,"",null,"","",null,"","",null,null,""]
[null,"",null,"","",null,"","",null,null,""]
[null,"",null,"","",null,"","",null,null,""]
[null,"",null,"","",null,"","",null,null,""]
[null,"",null,"","",null,"","",null,null,""]
[null,"",null,"","",null,"","",null,null,""]
[null,"",null,"","",null,"","",null,null,""]
[null,"",null,"","",null,"","",null,null,""]
[null,"",null,"","",null,"","",null,null,""]
[null,"",null,"","",null,"","",null,null,""]
[null,"",null,"","",null,"","",null,null,""]
[null,"",null,"","",null,"","",null,null,""]
[null,"",null,"","",null,"","",null,null,""]
[null,"",null,"","",null,"","",null,null,""]
[null,"",null,"","",null,"","",null,null,""]
[null,"",null,"","",null,"","",null,null,""]
[null,"",null,"","",null,"","",null,null,""]
[null,"",null,"","",null,"","",null,null,""]
[null,"",null,"","",null,"","",null,null,""]
[null,"",null,"","",null,"","",null,null,""]
[null,"",null,"","",null,"","",null,null,""]
[null,"",null,"","",null,"","",null,null,""]
[null,{"$f":"IF(codigo_cliente=\"\",\"\",VLOOKUP(codigo_cliente,Clientes,2,FALSE))","v":""},null,{"$f":"IF(C4035=\"\",\"\",VLOOKUP(C4035,Itens,2,FALSE))","v":""},{"$f":"IF(C4035=\"\",\"\",VLOOKUP(C4035,Itens,3,FALSE))","v":""},null,{"$f":"IF(C4035=\"\",\"\",VLOOKUP(C4035,Itens,5,FALSE))","v":""},"",null,null,""]
[null,"",null,"","",null,"",{"$f":"IFERROR(F4036*G4036,\"\")","v":""},null,null,{"$f":"IF(J4036=\"\",\"\",HYPERLINK($P$13&J4036,\"Rastreie aqui\"))","v":""}]
[null,"",null,"","",null,"","",null,null,""]
[null,"",null,"","",null,"","",null,null,""]
[null,"",null,"","",null,"","",null,null,""]
[null,"",null,"","",null,"","",null,null,""]
[null,"",null,"","",null,"","",null,null,""]
[null,"",null,"","",null,"","",null,null,""]
[null,"",null,"","",null,"","",null,null,""]
[null,"",null,"","",null,"","",null,null,""]
[null,"",null,"","",null,"","",null,null,""]
[null,"",null,"","",null,"","",null,null,""]
[null,"",null,"","",null,"","",null,null,""]
[null,"",null,"","",null,"","",null,null,""]
[null,"",null,"","",null,"","",null,null,""]
[null,"",null,"","",null,"","",null,null,""]
[null,"",null,"","",null,"","",null,null,""]
[null,"",null,"","",null,"","",null,null,""]
[null,"",null,"","",null,"","",null,null,""]
[null,"",null,"","",null,"","",null,null,""]
[null,"",null,"","",null,"","",null,null,""]
[null,"",null,"","",null,"","",null,null,""]
[null,"",null,"","",null,"","",null,null,""]
[null,"",null,"","",null,"","",null,null,""]
[null,"",null,"","",null,"","",null,null,""]
[null,"",null,"","",null,"","",null,null,""]
[null,"",null,"","",null,"","",null,null,""]
[null,"",null,"","",null,"","",null,null,""]
[null,"",null,"","",null,"","",null,null,""]
[null,"",null,"","",null,"","",null,null,""]
[null,"",null,"","",null,"","",null,null,""]
[null,"",null,"","",null,"","",null,null,""]
[null,"",null,"","",null,"","",null,null,""]
[null,"",null,"","",null,"","",null,null,""]
[null,"",null,"","",null,"","",null,null,""]
[null,"",null,"","",null,"","",null,null,""]
[null,"",null,"","",null,"","",null,null,""]
[null,"",null,"","",null,"","",null,null,""]
[null,"",null,"","",null,"","",null,null,""]
[null,"",null,"","",null,"","",null,null,""]
[null,"",null,"","",null,"","",null,null,""]
[null,"",null,"","",null,"","",null,null,""]
[null,"",null,"","",null,"","",null,null,""]
[null,"",null,"","",null,"","",null,null,""]
[null,"",null,"","",null,"","",null,null,""]
[null,"",null,"","",null,"","",null,null,""]
[null,"",null,"","",null,"","",null,null,""]
[null,"",null,"","",null,"","",null,null,""]
[null,"",null,"","",null,"","",null,null,""]
[null,"",null,"","",null,"","",null,null,""]
[null,"",null,"","",null,"","",null,null,""]
[null,"",null,"","",null,"","",null,null,""]
[null,"",null,"","",null,"","",null,null,""]
[null,"",null,"","",null,"","",null,null,""]
[null,"",null,"","",null,"","",null,null,""]
[null,"",null,"","",null,"","",null,null,""]
[null,"",null,"","",null,"","",null,null,""]
[null,"",null,"","",null,"","",null,null,""]
[null,"",null,"","",null,"","",null,null,""]
[null,"",null,"","",null,"","",null,null,""]
[null,"",null,"","",null,"","",null,null,""]
[null,"",null,"","",null,"","",null,null,""]
[null,"",null,"","",null,"","",null,null,""]
[null,"",null,"","",null,"","",null,null,""]
[null,{"$f":"IF(codigo_cliente=\"\",\"\",VLOOKUP(codigo_cliente,Clientes,2,FALSE))","v":""},null,{"$f":"IF(C4099=\"\",\"\",VLOOKUP(C4099,Itens,2,FALSE))","v":""},{"$f":"IF(C4099=\"\",\"\",VLOOKUP(C4099,Itens,3,FALSE))","v":""},null,{"$f":"IF(C4099=\"\",\"\",VLOOKUP(C4099,Itens,5,FALSE))","v":""},"",null,null,""]
[null,"",null,"","",null,"",{"$f":"IFERROR(F4100*G4100,\"\")","v":""},null,null,{"$f":"IF(J4100=\"\",\"\",HYPERLINK($P$13&J4100,\"Rastreie aqui\"))","v":""}]
[null,"",null,"","",null,"","",null,null,""]
[null,"",null,"","",null,"","",null,null,""]
[null,"",null,"","",null,"","",null,null,""]
[null,"",null,"","",null,"","",null,null,""]
[null,"",null,"","",null,"","",null,null,""]
[null,"",null,"","",null,"","",null,null,""]
[null,"",null,"","",null,"","",null,null,""]
[null,"",null,"","",null,"","",null,null,""]
[null,"",null,"","",null,"","",null,null,""]
[null,"",null,"","",null,"","",null,null,""]
[null,"",null,"","",null,"","",null,null,""]
[null,"",null,"","",null,"","",null,null,""]
[null,"",null,"","",null,"","",null,null,""]
[null,"",null,"","",null,"","",null,null,""]
[null,"",null,"","",null,"","",null,null,""]
[null,"",null,"","",null,"","",null,null,""]
[null,"",null,"","",null,"","",null,null,""]
[null,"",null,"","",null,"","",null,null,""]
[null,"",null,"","",null,"","",null,null,""]
[null,"",null,"","",null,"","",null,null,""]
[null,"",null,"","",null,"","",null,null,""]
[null,"",null,"","",null,"","",null,null,""]
[null,"",null,"","",null,"","",null,null,""]
[null,"",null,"","",null,"","",null,null,""]
[null,"",null,"","",null,"","",null,null,""]
[null,"",null,"","",null,"","",null,null,""]
[null,"",null,"","",null,"","",null,null,""]
[null,"",null,"","",null,"","",null,null,""]
[null,"",null,"","",null,"","",null,null,""]
[null,"",null,"","",null,"","",null,null,""]
[null,"",null,"","",null,"","",null,null,""]
[null,"",null,"","",null,"","",null,null,""]
[null,"",null,"","",null,"","",null,null,""]
[null,"",null,"","",null,"","",null,null,""]
[null,"",null,"","",null,"","",null,null,""]
[null,"",null,"","",null,"","",null,null,""]
[null,"",null,"","",null,"","",null,null,""]
[null,"",null,"","",null,"","",null,null,""]
[null,"",null,"","",null,"","",null,null,""]
[null,"",null,"","",null,"","",null,null,""]
[null,"",null,"","",null,"","",null,null,""]
[null,"",null,"","",null,"","",null,null,""]
[null,"",null,"","",null,"","",null,null,""]
[null,"",null,"","",null,"","",null,null,""]
[null,"",null,"","",null,"","",null,null,""]
[null,"",null,"","",null,"","",null,null,""]
[null,"",null,"","",null,"","",null,null,""]
[null,"",null,"","",null,"","",null,null,""]
[null,"",null,"","",null,"","",null,null,""]
[null,"",null,"","",null,"","",null,null,""]
[null,"",null,"","",null,"","",null,null,""]
[null,"",null,"","",null,"","",null,null,""]
[null,"",null,"","",null,"","",null,null,""]
[null,"",null,"","",null,"","",null,null,""]
[null,"",null,"","",null,"","",null,null,""]
[null,"",null,"","",null,"","",null,null,""]
[null,"",null,"","",null,"","",null,null,""]
[null,"",null,"","",null,"","",null,null,""]
[null,"",null,"","",null,"","",null,null,""]
[null,"",null,"","",null,"","",null,null,""]
[null,"",null,"","",null,"","",null,null,""]
[null,"",null,"","",null,"","",null,null,""]
[null,{"$f":"IF(codigo_cliente=\"\",\"\",VLOOKUP(codigo_cliente,Clientes,2,FALSE))","v":""},null,{"$f":"IF(C4163=\"\",\"\",VLOOKUP(C4163,Itens,2,FALSE))","v":""},{"$f":"IF(C4163=\"\",\"\",VLOOKUP(C4163,Itens,3,FALSE))","v":""},null,{"$f":"IF(C4163=\"\",\"\",VLOOKUP(C4163,Itens,5,FALSE))","v":""},"",null,null,""]
[null,"",null,"","",null,"",{"$f":"IFERROR(F4164*G4164,\"\")","v":""},null,null,{"$f":"IF(J4164=\"\",\"\",HYPERLINK($P$13&J4164,\"Rastreie aqui\"))","v":""}]
[null,"",null,"","",null,"","",null,null,""]
[null,"",null,"","",null,"","",null,null,""]
[null,"",null,"","",null,"","",null,null,""]
[null,"",null,"","",null,"","",null,null,""]
[null,"",null,"","",null,"","",null,null,""]
[null,"",null,"","",null,"","",null,null,""]
[null,"",null,"","",null,"","",null,null,""]
[null,"",null,"","",null,"","",null,null,""]
[null,"",null,"","",null,"","",null,null,""]
[null,"",null,"","",null,"","",null,null,""]
[null,"",null,"","",null,"","",null,null,""]
[null,"",null,"","",null,"","",null,null,""]
[null,"",null,"","",null,"","",null,null,""]
[null,"",null,"","",null,"","",null,null,""]
[null,"",null,"","",null,"","",null,null,""]
[null,"",null,"","",null,"","",null,null,""]
[null,"",null,"","",null,"","",null,null,""]
[null,"",null,"","",null,"","",null,null,""]
[null,"",null,"","",null,"","",null,null,""]
[null,"",null,"","",null,"","",null,null,""]
[null,"",null,"","",null,"","",null,null,""]
[null,"",null,"","",null,"","",null,null,""]
[null,"",null,"","",null,"","",null,null,""]
[null,"",null,"","",null,"","",null,null,""]
[null,"",null,"","",null,"","",null,null,""]
[null,"",null,"","",null,"","",null,null,""]
[null,"",null,"","",null,"","",null,null,""]
[null,"",null,"","",null,"","",null,null,""]
[null,"",null,"","",null,"","",null,null,""]
[null,"",null,"","",null,"","",null,null,""]
[null,"",null,"","",null,"","",null,null,""]
[null,"",null,"","",null,"","",null,null,""]
[null,"",null,"","",null,"","",null,null,""]
[null,"",null,"","",null,"","",null,null,""]
[null,"",null,"","",null,"","",null,null,""]
[null,"",null,"","",null,"","",null,null,""]
[null,"",null,"","",null,"","",null,null,""]
[null,"",null,"","",null,"","",null,null,""]
[null,"",null,"","",null,"","",null,null,""]
[null,"",null,"","",null,"","",null,null,""]
[null,"",null,"","",null,"","",null,null,""]
[null,"",null,"","",null,"","",null,null,""]
[null,"",null,"","",null,"","",null,null,""]
[null,"",null,"","",null,"","",null,null,""]
[null,"",null,"","",null,"","",null,null,""]
[null,"",null,"","",null,"","",null,null,""]
[null,"",null,"","",null,"","",null,null,""]
[null,"",null,"","",null,"","",null,null,""]
[null,"",null,"","",null,"","",null,null,""]
[null,"",null,"","",null,"","",null,null,""]
[null,"",null,"","",null,"","",null,null,""]
[null,"",null,"","",null,"","",null,null,""]
[null,"",null,"","",null,"","",null,null,""]
[null,"",null,"","",null,"","",null,null,""]
[null,"",null,"","",null,"","",null,null,""]
[null,"",null,"","",null,"","",null,null,""]
[null,"",null,"","",null,"","",null,null,""]
[null,"",null,"","",null,"","",null,null,""]
[null,"",null,"","",null,"","",null,null,""]
[null,"",null,"","",null,"","",null,null,""]
[null,"",null,"","",null,"","",null,null,""]
[null,"",null,"","",null,"","",null,null,""]
[null,{"$f":"IF(codigo_cliente=\"\",\"\",VLOOKUP(codigo_cliente,Clientes,2,FALSE))","v":""},null,{"$f":"IF(C4227=\"\",\"\",VLOOKUP(C4227,Itens,2,FALSE))","v":""},{"$f":"IF(C4227=\"\",\"\",VLOOKUP(C4227,Itens,3,FALSE))","v":""},null,{"$f":"IF(C4227=\"\",\"\",VLOOKUP(C4227,Itens,5,FALSE))","v":""},"",null,null,""]
[null,"",null,"","",null,"",{"$f":"IFERROR(F4228*G4228,\"\")","v":""},null,null,{"$f":"IF(J4228=\"\",\"\",HYPERLINK($P$13&J4228,\"Rastreie aqui\"))","v":""}]
[null,"",null,"","",null,"","",null,null,""]
[null,"",null,"","",null,"","",null,null,""]
[null,"",null,"","",null,"","",null,null,""]
[null,"",null,"","",null,"","",null,null,""]
[null,"",null,"","",null,"","",null,null,""]
[null,"",null,"","",null,"","",null,null,""]
[null,"",null,"","",null,"","",null,null,""]
[null,"",null,"","",null,"","",null,null,""]
[null,"",null,"","",null,"","",null,null,""]
[null,"",null,"","",null,"","",null,null,""]
[null,"",null,"","",null,"","",null,null,""]
[null,"",null,"","",null,"","",null,null,""]
[null,"",null,"","",null,"","",null,null,""]
[null,"",null,"","",null,"","",null,null,""]
[null,"",null,"","",null,"","",null,null,""]
[null,"",null,"","",null,"","",null,null,""]
[null,"",null,"","",null,"","",null,null,""]
[null,"",null,"","",null,"","",null,null,""]
[null,"",null,"","",null,"","",null,null,""]
[null,"",null,"","",null,"","",null,null,""]
[null,"",null,"","",null,"","",null,null,""]
[null,"",null,"","",null,"","",null,null,""]
[null,"",null,"","",null,"","",null,null,""]
[null,"",null,"","",null,"","",null,null,""]
[null,"",null,"","",null,"","",null,null,""]
[null,"",null,"","",null,"","",null,null,""]
[null,"",null,"","",null,"","",null,null,""]
[null,"",null,"","",null,"","",null,null,""]
[null,"",null,"","",null,"","",null,null,""]
[null,"",null,"","",null,"","",null,null,""]
[null,"",null,"","",null,"","",null,null,""]
[null,"",null,"","",null,"","",null,null,""]
[null,"",null,"","",null,"","",null,null,""]
[null,"",null,"","",null,"","",null,null,""]
[null,"",null,"","",null,"","",null,null,""]
[null,"",null,"","",null,"","",null,null,""]
[null,"",null,"","",null,"","",null,null,""]
[null,"",null,"","",null,"","",null,null,""]
[null,"",null,"","",null,"","",null,null,""]
[null,"",null,"","",null,"","",null,null,""]
[null,"",null,"","",null,"","",null,null,""]
[null,"",null,"","",null,"","",null,null,""]
[null,"",null,"","",null,"","",null,null,""]
[null,"",null,"","",null,"","",null,null,""]
[null,"",null,"","",null,"","",null,null,""]
[null,"",null,"","",null,"","",null,null,""]
[null,"",null,"","",null,"","",null,null,""]
[null,"",null,"","",null,"","",null,null,""]
[null,"",null,"","",null,"","",null,null,""]
[null,"",null,"","",null,"","",null,null,""]
[null,"",null,"","",null,"","",null,null,""]
[null,"",null,"","",null,"","",null,null,""]
[null,"",null,"","",null,"","",null,null,""]
[null,"",null,"","",null,"","",null,null,""]
[null,"",null,"","",null,"","",null,null,""]
[null,"",null,"","",null,"","",null,null,""]
[null,"",null,"","",null,"","",null,null,""]
[null,"",null,"","",null,"","",null,null,""]
[null,"",null,"","",null,"","",null,null,""]
[null,"",null,"","",null,"","",null,null,""]
[null,"",null,"","",null,"","",null,null,""]
[null,"",null,"","",null,"","",null,null,""]
[null,{"$f":"IF(codigo_cliente=\"\",\"\",VLOOKUP(codigo_cliente,Clientes,2,FALSE))","v":""},null,{"$f":"IF(C4291=\"\",\"\",VLOOKUP(C4291,Itens,2,FALSE))","v":""},{"$f":"IF(C4291=\"\",\"\",VLOOKUP(C4291,Itens,3,FALSE))","v":""},null,{"$f":"IF(C4291=\"\",\"\",VLOOKUP(C4291,Itens,5,FALSE))","v":""},"",null,null,""]
[null,"",null,"","",null,"",{"$f":"IFERROR(F4292*G4292,\"\")","v":""},null,null,{"$f":"IF(J4292=\"\",\"\",HYPERLINK($P$13&J4292,\"Rastreie aqui\"))","v":""}]
[null,"",null,"","",null,"","",null,null,""]
[null,"",null,"","",null,"","",null,null,""]
[null,"",null,"","",null,"","",null,null,""]
[null,"",null,"","",null,"","",null,null,""]
[null,"",null,"","",null,"","",null,null,""]
[null,"",null,"","",null,"","",null,null,""]
[null,"",null,"","",null,"","",null,null,""]
[null,"",null,"","",null,"","",null,null,""]
[null,"",null,"","",null,"","",null,null,""]
[null,"",null,"","",null,"","",null,null,""]
[null,"",null,"","",null,"","",null,null,""]
[null,"",null,"","",null,"","",null,null,""]
[null,"",null,"","",null,"","",null,null,""]
[null,"",null,"","",null,"","",null,null,""]
[null,"",null,"","",null,"","",null,null,""]
[null,"",null,"","",null,"","",null,null,""]
[null,"",null,"","",null,"","",null,null,""]
[null,"",null,"","",null,"","",null,null,""]
[null,"",null,"","",null,"","",null,null,""]
[null,"",null,"","",null,"","",null,null,""]
[null,"",null,"","",null,"","",null,null,""]
[null,"",null,"","",null,"","",null,null,""]
[null,"",null,"","",null,"","",null,null,""]
[null,"",null,"","",null,"","",null,null,""]
[null,"",null,"","",null,"","",null,null,""]
[null,"",null,"","",null,"","",null,null,""]
[null,"",null,"","",null,"","",null,null,""]
[null,"",null,"","",null,"","",null,null,""]
[null,"",null,"","",null,"","",null,null,""]
[null,"",null,"","",null,"","",null,null,""]
[null,"",null,"","",null,"","",null,null,""]
[null,"",null,"","",null,"","",null,null,""]
[null,"",null,"","",null,"","",null,null,""]
[null,"",null,"","",null,"","",null,null,""]
[null,"",null,"","",null,"","",null,null,""]
[null,"",null,"","",null,"","",null,null,""]
[null,"",null,"","",null,"","",null,null,""]
[null,"",null,"","",null,"","",null,null,""]
[null,"",null,"","",null,"","",null,null,""]
[null,"",null,"","",null,"","",null,null,""]
[null,"",null,"","",null,"","",null,null,""]
[null,"",null,"","",null,"","",null,null,""]
[null,"",null,"","",null,"","",null,null,""]
[null,"",null,"","",null,"","",null,null,""]
[null,"",null,"","",null,"","",null,null,""]
[null,"",null,"","",null,"","",null,null,""]
[null,"",null,"","",null,"","",null,null,""]
[null,"",null,"","",null,"","",null,null,""]
[null,"",null,"","",null,"","",null,null,""]
[null,"",null,"","",null,"","",null,null,""]
[null,"",null,"","",null,"","",null,null,""]
[null,"",null,"","",null,"","",null,null,""]
[null,"",null,"","",null,"","",null,null,""]
[null,"",null,"","",null,"","",null,null,""]
[null,"",null,"","",null,"","",null,null,""]
[null,"",null,"","",null,"","",null,null,""]
[null,"",null,"","",null,"","",null,null,""]
[null,"",null,"","",null,"","",null,null,""]
[null,"",null,"","",null,"","",null,null,""]
[null,"",null,"","",null,"","",null,null,""]
[null,"",null,"","",null,"","",null,null,""]
[null,"",null,"","",null,"","",null,null,""]
[null,{"$f":"IF(codigo_cliente=\"\",\"\",VLOOKUP(codigo_cliente,Clientes,2,FALSE))","v":""},null,{"$f":"IF(C4355=\"\",\"\",VLOOKUP(C4355,Itens,2,FALSE))","v":""},{"$f":"IF(C4355=\"\",\"\",VLOOKUP(C4355,Itens,3,FALSE))","v":""},null,{"$f":"IF(C4355=\"\",\"\",VLOOKUP(C4355,Itens,5,FALSE))","v":""},"",null,null,""]
[null,"",null,"","",null,"",{"$f":"IFERROR(F4356*G4356,\"\")","v":""},null,null,{"$f":"IF(J4356=\"\",\"\",HYPERLINK($P$13&J4356,\"Rastreie aqui\"))","v":""}]
[null,"",null,"","",null,"","",null,null,""]
[null,"",null,"","",null,"","",null,null,""]
[null,"",null,"","",null,"","",null,null,""]
[null,"",null,"","",null,"","",null,null,""]
[null,"",null,"","",null,"","",null,null,""]
[null,"",null,"","",null,"","",null,null,""]
[null,"",null,"","",null,"","",null,null,""]
[null,"",null,"","",null,"","",null,null,""]
[null,"",null,"","",null,"","",null,null,""]
[null,"",null,"","",null,"","",null,null,""]
[null,"",null,"","",null,"","",null,null,""]
[null,"",null,"","",null,"","",null,null,""]
[null,"",null,"","",null,"","",null,null,""]
[null,"",null,"","",null,"","",null,null,""]
[null,"",null,"","",null,"","",null,null,""]
[null,"",null,"","",null,"","",null,null,""]
[null,"",null,"","",null,"","",null,null,""]
[null,"",null,"","",null,"","",null,null,""]
[null,"",null,"","",null,"","",null,null,""]
[null,"",null,"","",null,"","",null,null,""]
[null,"",null,"","",null,"","",null,null,""]
[null,"",null,"","",null,"","",null,null,""]
[null,"",null,"","",null,"","",null,null,""]
[null,"",null,"","",null,"","",null,null,""]
[null,"",null,"","",null,"","",null,null,""]
[null,"",null,"","",null,"","",null,null,""]
[null,"",null,"","",null,"","",null,null,""]
[null,"",null,"","",null,"","",null,null,""]
[null,"",null,"","",null,"","",null,null,""]
[null,"",null,"","",null,"","",null,null,""]
[null,"",null,"","",null,"","",null,null,""]
[null,"",null,"","",null,"","",null,null,""]
[null,"",null,"","",null,"","",null,null,""]
[null,"",null,"","",null,"","",null,null,""]
[null,"",null,"","",null,"","",null,null,""]
[null,"",null,"","",null,"","",null,null,""]
[null,"",null,"","",null,"","",null,null,""]
[null,"",null,"","",null,"","",null,null,""]
[null,"",null,"","",null,"","",null,null,""]
[null,"",null,"","",null,"","",null,null,""]
[null,"",null,"","",null,"","",null,null,""]
[null,"",null,"","",null,"","",null,null,""]
[null,"",null,"","",null,"","",null,null,""]
[null,"",null,"","",null,"","",null,null,""]
[null,"",null,"","",null,"","",null,null,""]
[null,"",null,"","",null,"","",null,null,""]
[null,"",null,"","",null,"","",null,null,""]
[null,"",null,"","",null,"","",null,null,""]
[null,"",null,"","",null,"","",null,null,""]
[null,"",null,"","",null,"","",null,null,""]
[null,"",null,"","",null,"","",null,null,""]
[null,"",null,"","",null,"","",null,null,""]
[null,"",null,"","",null,"","",null,null,""]
[null,"",null,"","",null,"","",null,null,""]
[null,"",null,"","",null,"","",null,null,""]
[null,"",null,"","",null,"","",null,null,""]
[null,"",null,"","",null,"","",null,null,""]
[null,"",null,"","",null,"","",null,null,""]
[null,"",null,"","",null,"","",null,null,""]
[null,"",null,"","",null,"","",null,null,""]
[null,"",null,"","",null,"","",null,null,""]
[null,"",null,"","",null,"","",null,null,""]
[null,{"$f":"IF(codigo_cliente=\"\",\"\",VLOOKUP(codigo_cliente,Clientes,2,FALSE))","v":""},null,{"$f":"IF(C4419=\"\",\"\",VLOOKUP(C4419,Itens,2,FALSE))","v":""},{"$f":"IF(C4419=\"\",\"\",VLOOKUP(C4419,Itens,3,FALSE))","v":""},null,{"$f":"IF(C4419=\"\",\"\",VLOOKUP(C4419,Itens,5,FALSE))","v":""},"",null,null,""]
[null,"",null,"","",null,"",{"$f":"IFERROR(F4420*G4420,\"\")","v":""},null,null,{"$f":"IF(J4420=\"\",\"\",HYPERLINK($P$13&J4420,\"Rastreie aqui\"))","v":""}]
[null,"",null,"","",null,"","",null,null,""]
[null,"",null,"","",null,"","",null,null,""]
[null,"",null,"","",null,"","",null,null,""]
[null,"",null,"","",null,"","",null,null,""]
[null,"",null,"","",null,"","",null,null,""]
[null,"",null,"","",null,"","",null,null,""]
[null,"",null,"","",null,"","",null,null,""]
[null,"",null,"","",null,"","",null,null,""]
[null,"",null,"","",null,"","",null,null,""]
[null,"",null,"","",null,"","",null,null,""]
[null,"",null,"","",null,"","",null,null,""]
[null,"",null,"","",null,"","",null,null,""]
[null,"",null,"","",null,"","",null,null,""]
[null,"",null,"","",null,"","",null,null,""]
[null,"",null,"","",null,"","",null,null,""]
[null,"",null,"","",null,"","",null,null,""]
[null,"",null,"","",null,"","",null,null,""]
[null,"",null,"","",null,"","",null,null,""]
[null,"",null,"","",null,"","",null,null,""]
[null,"",null,"","",null,"","",null,null,""]
[null,"",null,"","",null,"","",null,null,""]
[null,"",null,"","",null,"","",null,null,""]
[null,"",null,"","",null,"","",null,null,""]
[null,"",null,"","",null,"","",null,null,""]
[null,"",null,"","",null,"","",null,null,""]
[null,"",null,"","",null,"","",null,null,""]
[null,"",null,"","",null,"","",null,null,""]
[null,"",null,"","",null,"","",null,null,""]
[null,"",null,"","",null,"","",null,null,""]
[null,"",null,"","",null,"","",null,null,""]
[null,"",null,"","",null,"","",null,null,""]
[null,"",null,"","",null,"","",null,null,""]
[null,"",null,"","",null,"","",null,null,""]
[null,"",null,"","",null,"","",null,null,""]
[null,"",null,"","",null,"","",null,null,""]
[null,"",null,"","",null,"","",null,null,""]
[null,"",null,"","",null,"","",null,null,""]
[null,"",null,"","",null,"","",null,null,""]
[null,"",null,"","",null,"","",null,null,""]
[null,"",null,"","",null,"","",null,null,""]
[null,"",null,"","",null,"","",null,null,""]
[null,"",null,"","",null,"","",null,null,""]
[null,"",null,"","",null,"","",null,null,""]
[null,"",null,"","",null,"","",null,null,""]
[null,"",null,"","",null,"","",null,null,""]
[null,"",null,"","",null,"","",null,null,""]
[null,"",null,"","",null,"","",null,null,""]
[null,"",null,"","",null,"","",null,null,""]
[null,"",null,"","",null,"","",null,null,""]
[null,"",null,"","",null,"","",null,null,""]
[null,"",null,"","",null,"","",null,null,""]
[null,"",null,"","",null,"","",null,null,""]
[null,"",null,"","",null,"","",null,null,""]
[null,"",null,"","",null,"","",null,null,""]
[null,"",null,"","",null,"","",null,null,""]
[null,"",null,"","",null,"","",null,null,""]
[null,"",null,"","",null,"","",null,null,""]
[null,"",null,"","",null,"","",null,null,""]
[null,"",null,"","",null,"","",null,null,""]
[null,"",null,"","",null,"","",null,null,""]
[null,"",null,"","",null,"","",null,null,""]
[null,"",null,"","",null,"","",null,null,""]
[null,{"$f":"IF(codigo_cliente=\"\",\"\",VLOOKUP(codigo_cliente,Clientes,2,FALSE))","v":""},null,{"$f":"IF(C4483=\"\",\"\",VLOOKUP(C4483,Itens,2,FALSE))","v":""},{"$f":"IF(C4483=\"\",\"\",VLOOKUP(C4483,Itens,3,FALSE))","v":""},null,{"$f":"IF(C4483=\"\",\"\",VLOOKUP(C4483,Itens,5,FALSE))","v":""},"",null,null,""]
[null,"",null,"","",null,"",{"$f":"IFERROR(F4484*G4484,\"\")","v":""},null,null,{"$f":"IF(J4484=\"\",\"\",HYPERLINK($P$13&J4484,\"Rastreie aqui\"))","v":""}]
[null,"",null,"","",null,"","",null,null,""]
[null,"",null,"","",null,"","",null,null,""]
[null,"",null,"","",null,"","",null,null,""]
[null,"",null,"","",null,"","",null,null,""]
[null,"",null,"","",null,"","",null,null,""]
[null,"",null,"","",null,"","",null,null,""]
[null,"",null,"","",null,"","",null,null,""]
[null,"",null,"","",null,"","",null,null,""]
[null,"",null,"","",null,"","",null,null,""]
[null,"",null,"","",null,"","",null,null,""]
[null,"",null,"","",null,"","",null,null,""]
[null,"",null,"","",null,"","",null,null,""]
[null,"",null,"","",null,"","",null,null,""]
[null,"",null,"","",null,"","",null,null,""]
[null,"",null,"","",null,"","",null,null,""]
[null,"",null,"","",null,"","",null,null,""]
[null,"",null,"","",null,"","",null,null,""]
[null,"",null,"","",null,"","",null,null,""]
[null,"",null,"","",null,"","",null,null,""]
[null,"",null,"","",null,"","",null,null,""]
[null,"",null,"","",null,"","",null,null,""]
[null,"",null,"","",null,"","",null,null,""]
[null,"",null,"","",null,"","",null,null,""]
[null,"",null,"","",null,"","",null,null,""]
[null,"",null,"","",null,"","",null,null,""]
[null,"",null,"","",null,"","",null,null,""]
[null,"",null,"","",null,"","",null,null,""]
[null,"",null,"","",null,"","",null,null,""]
[null,"",null,"","",null,"","",null,null,""]
[null,"",null,"","",null,"","",null,null,""]
[null,"",null,"","",null,"","",null,null,""]
[null,"",null,"","",null,"","",null,null,""]
[null,"",null,"","",null,"","",null,null,""]
[null,"",null,"","",null,"","",null,null,""]
[null,"",null,"","",null,"","",null,null,""]
[null,"",null,"","",null,"","",null,null,""]
[null,"",null,"","",null,"","",null,null,""]
[null,"",null,"","",null,"","",null,null,""]
[null,"",null,"","",null,"","",null,null,""]
[null,"",null,"","",null,"","",null,null,""]
[null,"",null,"","",null,"","",null,null,""]
[null,"",null,"","",null,"","",null,null,""]
[null,"",null,"","",null,"","",null,null,""]
[null,"",null,"","",null,"","",null,null,""]
[null,"",null,"","",null,"","",null,null,""]
[null,"",null,"","",null,"","",null,null,""]
[null,"",null,"","",null,"","",null,null,""]
[null,"",null,"","",null,"","",null,null,""]
[null,"",null,"","",null,"","",null,null,""]
[null,"",null,"","",null,"","",null,null,""]
[null,"",null,"","",null,"","",null,null,""]
[null,"",null,"","",null,"","",null,null,""]
[null,"",null,"","",null,"","",null,null,""]
[null,"",null,"","",null,"","",null,null,""]
[null,"",null,"","",null,"","",null,null,""]
[null,"",null,"","",null,"","",null,null,""]
[null,"",null,"","",null,"","",null,null,""]
[null,"",null,"","",null,"","",null,null,""]
[null,"",null,"","",null,"","",null,null,""]
[null,"",null,"","",null,"","",null,null,""]
[null,"",null,"","",null,"","",null,null,""]
[null,"",null,"","",null,"","",null,null,""]
[null,{"$f":"IF(codigo_cliente=\"\",\"\",VLOOKUP(codigo_cliente,Clientes,2,FALSE))","v":""},null,{"$f":"IF(C4547=\"\",\"\",VLOOKUP(C4547,Itens,2,FALSE))","v":""},{"$f":"IF(C4547=\"\",\"\",VLOOKUP(C4547,Itens,3,FALSE))","v":""},null,{"$f":"IF(C4547=\"\",\"\",VLOOKUP(C4547,Itens,5,FALSE))","v":""},"",null,null,""]
[null,"",null,"","",null,"",{"$f":"IFERROR(F4548*G4548,\"\")","v":""},null,null,{"$f":"IF(J4548=\"\",\"\",HYPERLINK($P$13&J4548,\"Rastreie aqui\"))","v":""}]
[null,"",null,"","",null,"","",null,null,""]
[null,"",null,"","",null,"","",null,null,""]
[null,"",null,"","",null,"","",null,null,""]
[null,"",null,"","",null,"","",null,null,""]
[null,"",null,"","",null,"","",null,null,""]
[null,"",null,"","",null,"","",null,null,""]
[null,"",null,"","",null,"","",null,null,""]
[null,"",null,"","",null,"","",null,null,""]
[null,"",null,"","",null,"","",null,null,""]
[null,"",null,"","",null,"","",null,null,""]
[null,"",null,"","",null,"","",null,null,""]
[null,"",null,"","",null,"","",null,null,""]
[null,"",null,"","",null,"","",null,null,""]
[null,"",null,"","",null,"","",null,null,""]
[null,"",null,"","",null,"","",null,null,""]
[null,"",null,"","",null,"","",null,null,""]
[null,"",null,"","",null,"","",null,null,""]
[null,"",null,"","",null,"","",null,null,""]
[null,"",null,"","",null,"","",null,null,""]
[null,"",null,"","",null,"","",null,null,""]
[null,"",null,"","",null,"","",null,null,""]
[null,"",null,"","",null,"","",null,null,""]
[null,"",null,"","",null,"","",null,null,""]
[null,"",null,"","",null,"","",null,null,""]
[null,"",null,"","",null,"","",null,null,""]
[null,"",null,"","",null,"","",null,null,""]
[null,"",null,"","",null,"","",null,null,""]
[null,"",null,"","",null,"","",null,null,""]
[null,"",null,"","",null,"","",null,null,""]
[null,"",null,"","",null,"","",null,null,""]
[null,"",null,"","",null,"","",null,null,""]
[null,"",null,"","",null,"","",null,null,""]
[null,"",null,"","",null,"","",null,null,""]
[null,"",null,"","",null,"","",null,null,""]
[null,"",null,"","",null,"","",null,null,""]
[null,"",null,"","",null,"","",null,null,""]
[null,"",null,"","",null,"","",null,null,""]
[null,"",null,"","",null,"","",null,null,""]
[null,"",null,"","",null,"","",null,null,""]
[null,"",null,"","",null,"","",null,null,""]
[null,"",null,"","",null,"","",null,null,""]
[null,"",null,"","",null,"","",null,null,""]
[null,"",null,"","",null,"","",null,null,""]
[null,"",null,"","",null,"","",null,null,""]
[null,"",null,"","",null,"","",null,null,""]
[null,"",null,"","",null,"","",null,null,""]
[null,"",null,"","",null,"","",null,null,""]
[null,"",null,"","",null,"","",null,null,""]
[null,"",null,"","",null,"","",null,null,""]
[null,"",null,"","",null,"","",null,null,""]
[null,"",null,"","",null,"","",null,null,""]
[null,"",null,"","",null,"","",null,null,""]
[null,"",null,"","",null,"","",null,null,""]
[null,"",null,"","",null,"","",null,null,""]
[null,"",null,"","",null,"","",null,null,""]
[null,"",null,"","",null,"","",null,null,""]
[null,"",null,"","",null,"","",null,null,""]
[null,"",null,"","",null,"","",null,null,""]
[null,"",null,"","",null,"","",null,null,""]
[null,"",null,"","",null,"","",null,null,""]
[null,"",null,"","",null,"","",null,null,""]
[null,"",null,"","",null,"","",null,null,""]
[null,{"$f":"IF(codigo_cliente=\"\",\"\",VLOOKUP(codigo_cliente,Clientes,2,FALSE))","v":""},null,{"$f":"IF(C4611=\"\",\"\",VLOOKUP(C4611,Itens,2,FALSE))","v":""},{"$f":"IF(C4611=\"\",\"\",VLOOKUP(C4611,Itens,3,FALSE))","v":""},null,{"$f":"IF(C4611=\"\",\"\",VLOOKUP(C4611,Itens,5,FALSE))","v":""},"",null,null,""]
[null,"",null,"","",null,"",{"$f":"IFERROR(F4612*G4612,\"\")","v":""},null,null,{"$f":"IF(J4612=\"\",\"\",HYPERLINK($P$13&J4612,\"Rastreie aqui\"))","v":""}]
[null,"",null,"","",null,"","",null,null,""]
[null,"",null,"","",null,"","",null,null,""]
[null,"",null,"","",null,"","",null,null,""]
[null,"",null,"","",null,"","",null,null,""]
[null,"",null,"","",null,"","",null,null,""]
[null,"",null,"","",null,"","",null,null,""]
[null,"",null,"","",null,"","",null,null,""]
[null,"",null,"","",null,"","",null,null,""]
[null,"",null,"","",null,"","",null,null,""]
[null,"",null,"","",null,"","",null,null,""]
[null,"",null,"","",null,"","",null,null,""]
[null,"",null,"","",null,"","",null,null,""]
[null,"",null,"","",null,"","",null,null,""]
[null,"",null,"","",null,"","",null,null,""]
[null,"",null,"","",null,"","",null,null,""]
[null,"",null,"","",null,"","",null,null,""]
[null,"",null,"","",null,"","",null,null,""]
[null,"",null,"","",null,"","",null,null,""]
[null,"",null,"","",null,"","",null,null,""]
[null,"",null,"","",null,"","",null,null,""]
[null,"",null,"","",null,"","",null,null,""]
[null,"",null,"","",null,"","",null,null,""]
[null,"",null,"","",null,"","",null,null,""]
[null,"",null,"","",null,"","",null,null,""]
[null,"",null,"","",null,"","",null,null,""]
[null,"",null,"","",null,"","",null,null,""]
[null,"",null,"","",null,"","",null,null,""]
[null,"",null,"","",null,"","",null,null,""]
[null,"",null,"","",null,"","",null,null,""]
[null,"",null,"","",null,"","",null,null,""]
[null,"",null,"","",null,"","",null,null,""]
[null,"",null,"","",null,"","",null,null,""]
[null,"",null,"","",null,"","",null,null,""]
[null,"",null,"","",null,"","",null,null,""]
[null,"",null,"","",null,"","",null,null,""]
[null,"",null,"","",null,"","",null,null,""]
[null,"",null,"","",null,"","",null,null,""]
[null,"",null,"","",null,"","",null,null,""]
[null,"",null,"","",null,"","",null,null,""]
[null,"",null,"","",null,"","",null,null,""]
[null,"",null,"","",null,"","",null,null,""]
[null,"",null,"","",null,"","",null,null,""]
[null,"",null,"","",null,"","",null,null,""]
[null,"",null,"","",null,"","",null,null,""]
[null,"",null,"","",null,"","",null,null,""]
[null,"",null,"","",null,"","",null,null,""]
[null,"",null,"","",null,"","",null,null,""]
[null,"",null,"","",null,"","",null,null,""]
[null,"",null,"","",null,"","",null,null,""]
[null,"",null,"","",null,"","",null,null,""]
[null,"",null,"","",null,"","",null,null,""]
[null,"",null,"","",null,"","",null,null,""]
[null,"",null,"","",null,"","",null,null,""]
[null,"",null,"","",null,"","",null,null,""]
[null,"",null,"","",null,"","",null,null,""]
[null,"",null,"","",null,"","",null,null,""]
[null,"",null,"","",null,"","",null,null,""]
[null,"",null,"","",null,"","",null,null,""]
[null,"",null,"","",null,"","",null,null,""]
[null,"",null,"","",null,"","",null,null,""]
[null,"",null,"","",null,"","",null,null,""]
[null,"",null,"","",null,"","",null,null,""]
[null,{"$f":"IF(codigo_cliente=\"\",\"\",VLOOKUP(codigo_cliente,Clientes,2,FALSE))","v":""},null,{"$f":"IF(C4675=\"\",\"\",VLOOKUP(C4675,Itens,2,FALSE))","v":""},{"$f":"IF(C4675=\"\",\"\",VLOOKUP(C4675,Itens,3,FALSE))","v":""},null,{"$f":"IF(C4675=\"\",\"\",VLOOKUP(C4675,Itens,5,FALSE))","v":""},"",null,null,""]
[null,"",null,"","",null,"",{"$f":"IFERROR(F4676*G4676,\"\")","v":""},null,null,{"$f":"IF(J4676=\"\",\"\",HYPERLINK($P$13&J4676,\"Rastreie aqui\"))","v":""}]
[null,"",null,"","",null,"","",null,null,""]
[null,"",null,"","",null,"","",null,null,""]
[null,"",null,"","",null,"","",null,null,""]
[null,"",null,"","",null,"","",null,null,""]
[null,"",null,"","",null,"","",null,null,""]
[null,"",null,"","",null,"","",null,null,""]
[null,"",null,"","",null,"","",null,null,""]
[null,"",null,"","",null,"","",null,null,""]
[null,"",null,"","",null,"","",null,null,""]
[null,"",null,"","",null,"","",null,null,""]
[null,"",null,"","",null,"","",null,null,""]
[null,"",null,"","",null,"","",null,null,""]
[null,"",null,"","",null,"","",null,null,""]
[null,"",null,"","",null,"","",null,null,""]
[null,"",null,"","",null,"","",null,null,""]
[null,"",null,"","",null,"","",null,null,""]
[null,"",null,"","",null,"","",null,null,""]
[null,"",null,"","",null,"","",null,null,""]
[null,"",null,"","",null,"","",null,null,""]
[null,"",null,"","",null,"","",null,null,""]
[null,"",null,"","",null,"","",null,null,""]
[null,"",null,"","",null,"","",null,null,""]
[null,"",null,"","",null,"","",null,null,""]
[null,"",null,"","",null,"","",null,null,""]
[null,"",null,"","",null,"","",null,null,""]
[null,"",null,"","",null,"","",null,null,""]
[null,"",null,"","",null,"","",null,null,""]
[null,"",null,"","",null,"","",null,null,""]
[null,"",null,"","",null,"","",null,null,""]
[null,"",null,"","",null,"","",null,null,""]
[null,"",null,"","",null,"","",null,null,""]
[null,"",null,"","",null,"","",null,null,""]
[null,"",null,"","",null,"","",null,null,""]
[null,"",null,"","",null,"","",null,null,""]
[null,"",null,"","",null,"","",null,null,""]
[null,"",null,"","",null,"","",null,null,""]
[null,"",null,"","",null,"","",null,null,""]
[null,"",null,"","",null,"","",null,null,""]
[null,"",null,"","",null,"","",null,null,""]
[null,"",null,"","",null,"","",null,null,""]
[null,"",null,"","",null,"","",null,null,""]
[null,"",null,"","",null,"","",null,null,""]
[null,"",null,"","",null,"","",null,null,""]
[null,"",null,"","",null,"","",null,null,""]
[null,"",null,"","",null,"","",null,null,""]
[null,"",null,"","",null,"","",null,null,""]
[null,"",null,"","",null,"","",null,null,""]
[null,"",null,"","",null,"","",null,null,""]
[null,"",null,"","",null,"","",null,null,""]
[null,"",null,"","",null,"","",null,null,""]
[null,"",null,"","",null,"","",null,null,""]
[null,"",null,"","",null,"","",null,null,""]
[null,"",null,"","",null,"","",null,null,""]
[null,"",null,"","",null,"","",null,null,""]
[null,"",null,"","",null,"","",null,null,""]
[null,"",null,"","",null,"","",null,null,""]
[null,"",null,"","",null,"","",null,null,""]
[null,"",null,"","",null,"","",null,null,""]
[null,"",null,"","",null,"","",null,null,""]
[null,"",null,"","",null,"","",null,null,""]
[null,"",null,"","",null,"","",null,null,""]
[null,"",null,"","",null,"","",null,null,""]
[null,{"$f":"IF(codigo_cliente=\"\",\"\",VLOOKUP(codigo_cliente,Clientes,2,FALSE))","v":""},null,{"$f":"IF(C4739=\"\",\"\",VLOOKUP(C4739,Itens,2,FALSE))","v":""},{"$f":"IF(C4739=\"\",\"\",VLOOKUP(C4739,Itens,3,FALSE))","v":""},null,{"$f":"IF(C4739=\"\",\"\",VLOOKUP(C4739,Itens,5,FALSE))","v":""},"",null,null,""]
[null,"",null,"","",null,"",{"$f":"IFERROR(F4740*G4740,\"\")","v":""},null,null,{"$f":"IF(J4740=\"\",\"\",HYPERLINK($P$13&J4740,\"Rastreie aqui\"))","v":""}]
[null,"",null,"","",null,"","",null,null,""]
[null,"",null,"","",null,"","",null,null,""]
[null,"",null,"","",null,"","",null,null,""]
[null,"",null,"","",null,"","",null,null,""]
[null,"",null,"","",null,"","",null,null,""]
[null,"",null,"","",null,"","",null,null,""]
[null,"",null,"","",null,"","",null,null,""]
[null,"",null,"","",null,"","",null,null,""]
[null,"",null,"","",null,"","",null,null,""]
[null,"",null,"","",null,"","",null,null,""]
[null,"",null,"","",null,"","",null,null,""]
[null,"",null,"","",null,"","",null,null,""]
[null,"",null,"","",null,"","",null,null,""]
[null,"",null,"","",null,"","",null,null,""]
[null,"",null,"","",null,"","",null,null,""]
[null,"",null,"","",null,"","",null,null,""]
[null,"",null,"","",null,"","",null,null,""]
[null,"",null,"","",null,"","",null,null,""]
[null,"",null,"","",null,"","",null,null,""]
[null,"",null,"","",null,"","",null,null,""]
[null,"",null,"","",null,"","",null,null,""]
[null,"",null,"","",null,"","",null,null,""]
[null,"",null,"","",null,"","",null,null,""]
[null,"",null,"","",null,"","",null,null,""]
[null,"",null,"","",null,"","",null,null,""]
[null,"",null,"","",null,"","",null,null,""]
[null,"",null,"","",null,"","",null,null,""]
[null,"",null,"","",null,"","",null,null,""]
[null,"",null,"","",null,"","",null,null,""]
[null,"",null,"","",null,"","",null,null,""]
[null,"",null,"","",null,"","",null,null,""]
[null,"",null,"","",null,"","",null,null,""]
[null,"",null,"","",null,"","",null,null,""]
[null,"",null,"","",null,"","",null,null,""]
[null,"",null,"","",null,"","",null,null,""]
[null,"",null,"","",null,"","",null,null,""]
[null,"",null,"","",null,"","",null,null,""]
[null,"",null,"","",null,"","",null,null,""]
[null,"",null,"","",null,"","",null,null,""]
[null,"",null,"","",null,"","",null,null,""]
[null,"",null,"","",null,"","",null,null,""]
[null,"",null,"","",null,"","",null,null,""]
[null,"",null,"","",null,"","",null,null,""]
[null,"",null,"","",null,"","",null,null,""]
[null,"",null,"","",null,"","",null,null,""]
[null,"",null,"","",null,"","",null,null,""]
[null,"",null,"","",null,"","",null,null,""]
[null,"",null,"","",null,"","",null,null,""]
[null,"",null,"","",null,"","",null,null,""]
[null,"",null,"","",null,"","",null,null,""]
[null,"",null,"","",null,"","",null,null,""]
[null,"",null,"","",null,"","",null,null,""]
[null,"",null,"","",null,"","",null,null,""]
[null,"",null,"","",null,"","",null,null,""]
[null,"",null,"","",null,"","",null,null,""]
[null,"",null,"","",null,"","",null,null,""]
[null,"",null,"","",null,"","",null,null,""]
[null,"",null,"","",null,"","",null,null,""]
[null,"",null,"","",null,"","",null,null,""]
[null,"",null,"","",null,"","",null,null,""]
[null,"",null,"","",null,"","",null,null,""]
[null,"",null,"","",null,"","",null,null,""]
[null,{"$f":"IF(codigo_cliente=\"\",\"\",VLOOKUP(codigo_cliente,Clientes,2,FALSE))","v":""},null,{"$f":"IF(C4803=\"\",\"\",VLOOKUP(C4803,Itens,2,FALSE))","v":""},{"$f":"IF(C4803=\"\",\"\",VLOOKUP(C4803,Itens,3,FALSE))","v":""},null,{"$f":"IF(C4803=\"\",\"\",VLOOKUP(C4803,Itens,5,FALSE))","v":""},"",null,null,""]
[null,"",null,"","",null,"",{"$f":"IFERROR(F4804*G4804,\"\")","v":""},null,null,{"$f":"IF(J4804=\"\",\"\",HYPERLINK($P$13&J4804,\"Rastreie aqui\"))","v":""}]
[null,"",null,"","",null,"","",null,null,""]
[null,"",null,"","",null,"","",null,null,""]
[null,"",null,"","",null,"","",null,null,""]
[null,"",null,"","",null,"","",null,null,""]
[null,"",null,"","",null,"","",null,null,""]
[null,"",null,"","",null,"","",null,null,""]
[null,"",null,"","",null,"","",null,null,""]
[null,"",null,"","",null,"","",null,null,""]
[null,"",null,"","",null,"","",null,null,""]
[null,"",null,"","",null,"","",null,null,""]
[null,"",null,"","",null,"","",null,null,""]
[null,"",null,"","",null,"","",null,null,""]
[null,"",null,"","",null,"","",null,null,""]
[null,"",null,"","",null,"","",null,null,""]
[null,"",null,"","",null,"","",null,null,""]
[null,"",null,"","",null,"","",null,null,""]
[null,"",null,"","",null,"","",null,null,""]
[null,"",null,"","",null,"","",null,null,""]
[null,"",null,"","",null,"","",null,null,""]
[null,"",null,"","",null,"","",null,null,""]
[null,"",null,"","",null,"","",null,null,""]
[null,"",null,"","",null,"","",null,null,""]
[null,"",null,"","",null,"","",null,null,""]
[null,"",null,"","",null,"","",null,null,""]
[null,"",null,"","",null,"","",null,null,""]
[null,"",null,"","",null,"","",null,null,""]
[null,"",null,"","",null,"","",null,null,""]
[null,"",null,"","",null,"","",null,null,""]
[null,"",null,"","",null,"","",null,null,""]
[null,"",null,"","",null,"","",null,null,""]
[null,"",null,"","",null,"","",null,null,""]
[null,"",null,"","",null,"","",null,null,""]
[null,"",null,"","",null,"","",null,null,""]
[null,"",null,"","",null,"","",null,null,""]
[null,"",null,"","",null,"","",null,null,""]
[null,"",null,"","",null,"","",null,null,""]
[null,"",null,"","",null,"","",null,null,""]
[null,"",null,"","",null,"","",null,null,""]
[null,"",null,"","",null,"","",null,null,""]
[null,"",null,"","",null,"","",null,null,""]
[null,"",null,"","",null,"","",null,null,""]
[null,"",null,"","",null,"","",null,null,""]
[null,"",null,"","",null,"","",null,null,""]
[null,"",null,"","",null,"","",null,null,""]
[null,"",null,"","",null,"","",null,null,""]
[null,"",null,"","",null,"","",null,null,""]
[null,"",null,"","",null,"","",null,null,""]
[null,"",null,"","",null,"","",null,null,""]
[null,"",null,"","",null,"","",null,null,""]
[null,"",null,"","",null,"","",null,null,""]
[null,"",null,"","",null,"","",null,null,""]
[null,"",null,"","",null,"","",null,null,""]
[null,"",null,"","",null,"","",null,null,""]
[null,"",null,"","",null,"","",null,null,""]
[null,"",null,"","",null,"","",null,null,""]
[null,"",null,"","",null,"","",null,null,""]
[null,"",null,"","",null,"","",null,null,""]
[null,"",null,"","",null,"","",null,null,""]
[null,"",null,"","",null,"","",null,null,""]
[null,"",null,"","",null,"","",null,null,""]
[null,"",null,"","",null,"","",null,null,""]
[null,"",null,"","",null,"","",null,null,""]
[null,{"$f":"IF(codigo_cliente=\"\",\"\",VLOOKUP(codigo_cliente,Clientes,2,FALSE))","v":""},null,{"$f":"IF(C4867=\"\",\"\",VLOOKUP(C4867,Itens,2,FALSE))","v":""},{"$f":"IF(C4867=\"\",\"\",VLOOKUP(C4867,Itens,3,FALSE))","v":""},null,{"$f":"IF(C4867=\"\",\"\",VLOOKUP(C4867,Itens,5,FALSE))","v":""},"",null,null,""]
[null,"",null,"","",null,"",{"$f":"IFERROR(F4868*G4868,\"\")","v":""},null,null,{"$f":"IF(J4868=\"\",\"\",HYPERLINK($P$13&J4868,\"Rastreie aqui\"))","v":""}]
[null,"",null,"","",null,"","",null,null,""]
[null,"",null,"","",null,"","",null,null,""]
[null,"",null,"","",null,"","",null,null,""]
[null,"",null,"","",null,"","",null,null,""]
[null,"",null,"","",null,"","",null,null,""]
[null,"",null,"","",null,"","",null,null,""]
[null,"",null,"","",null,"","",null,null,""]
[null,"",null,"","",null,"","",null,null,""]
[null,"",null,"","",null,"","",null,null,""]
[null,"",null,"","",null,"","",null,null,""]
[null,"",null,"","",null,"","",null,null,""]
[null,"",null,"","",null,"","",null,null,""]
[null,"",null,"","",null,"","",null,null,""]
[null,"",null,"","",null,"","",null,null,""]
[null,"",null,"","",null,"","",null,null,""]
[null,"",null,"","",null,"","",null,null,""]
[null,"",null,"","",null,"","",null,null,""]
[null,"",null,"","",null,"","",null,null,""]
[null,"",null,"","",null,"","",null,null,""]
[null,"",null,"","",null,"","",null,null,""]
[null,"",null,"","",null,"","",null,null,""]
[null,"",null,"","",null,"","",null,null,""]
[null,"",null,"","",null,"","",null,null,""]
[null,"",null,"","",null,"","",null,null,""]
[null,"",null,"","",null,"","",null,null,""]
[null,"",null,"","",null,"","",null,null,""]
[null,"",null,"","",null,"","",null,null,""]
[null,"",null,"","",null,"","",null,null,""]
[null,"",null,"","",null,"","",null,null,""]
[null,"",null,"","",null,"","",null,null,""]
[null,"",null,"","",null,"","",null,null,""]
[null,"",null,"","",null,"","",null,null,""]
[null,"",null,"","",null,"","",null,null,""]
[null,"",null,"","",null,"","",null,null,""]
[null,"",null,"","",null,"","",null,null,""]
[null,"",null,"","",null,"","",null,null,""]
[null,"",null,"","",null,"","",null,null,""]
[null,"",null,"","",null,"","",null,null,""]
[null,"",null,"","",null,"","",null,null,""]
[null,"",null,"","",null,"","",null,null,""]
[null,"",null,"","",null,"","",null,null,""]
[null,"",null,"","",null,"","",null,null,""]
[null,"",null,"","",null,"","",null,null,""]
[null,"",null,"","",null,"","",null,null,""]
[null,"",null,"","",null,"","",null,null,""]
[null,"",null,"","",null,"","",null,null,""]
[null,"",null,"","",null,"","",null,null,""]
[null,"",null,"","",null,"","",null,null,""]
[null,"",null,"","",null,"","",null,null,""]
[null,"",null,"","",null,"","",null,null,""]
[null,"",null,"","",null,"","",null,null,""]
[null,"",null,"","",null,"","",null,null,""]
[null,"",null,"","",null,"","",null,null,""]
[null,"",null,"","",null,"","",null,null,""]
[null,"",null,"","",null,"","",null,null,""]
[null,"",null,"","",null,"","",null,null,""]
[null,"",null,"","",null,"","",null,null,""]
[null,"",null,"","",null,"","",null,null,""]
[null,"",null,"","",null,"","",null,null,""]
[null,"",null,"","",null,"","",null,null,""]
[null,"",null,"","",null,"","",null,null,""]
[null,"",null,"","",null,"","",null,null,""]
[null,{"$f":"IF(codigo_cliente=\"\",\"\",VLOOKUP(codigo_cliente,Clientes,2,FALSE))","v":""},null,{"$f":"IF(C4931=\"\",\"\",VLOOKUP(C4931,Itens,2,FALSE))","v":""},{"$f":"IF(C4931=\"\",\"\",VLOOKUP(C4931,Itens,3,FALSE))","v":""},null,{"$f":"IF(C4931=\"\",\"\",VLOOKUP(C4931,Itens,5,FALSE))","v":""},"",null,null,""]
[null,"",null,"","",null,"",{"$f":"IFERROR(F4932*G4932,\"\")","v":""},null,null,{"$f":"IF(J4932=\"\",\"\",HYPERLINK($P$13&J4932,\"Rastreie aqui\"))","v":""}]
[null,"",null,"","",null,"","",null,null,""]
[null,"",null,"","",null,"","",null,null,""]
[null,"",null,"","",null,"","",null,null,""]
[null,"",null,"","",null,"","",null,null,""]
[null,"",null,"","",null,"","",null,null,""]
[null,"",null,"","",null,"","",null,null,""]
[null,"",null,"","",null,"","",null,null,""]
[null,"",null,"","",null,"","",null,null,""]
[null,"",null,"","",null,"","",null,null,""]
[null,"",null,"","",null,"","",null,null,""]
[null,"",null,"","",null,"","",null,null,""]
[null,"",null,"","",null,"","",null,null,""]
[null,"",null,"","",null,"","",null,null,""]
[null,"",null,"","",null,"","",null,null,""]
[null,"",null,"","",null,"","",null,null,""]
[null,"",null,"","",null,"","",null,null,""]
[null,"",null,"","",null,"","",null,null,""]
[null,"",null,"","",null,"","",null,null,""]
[null,"",null,"","",null,"","",null,null,""]
[null,"",null,"","",null,"","",null,null,""]
[null,"",null,"","",null,"","",null,null,""]
[null,"",null,"","",null,"","",null,null,""]
[null,"",null,"","",null,"","",null,null,""]
[null,"",null,"","",null,"","",null,null,""]
[null,"",null,"","",null,"","",null,null,""]
[null,"",null,"","",null,"","",null,null,""]
[null,"",null,"","",null,"","",null,null,""]
[null,"",null,"","",null,"","",null,null,""]
[null,"",null,"","",null,"","",null,null,""]
[null,"",null,"","",null,"","",null,null,""]
[null,"",null,"","",null,"","",null,null,""]
[null,"",null,"","",null,"","",null,null,""]
[null,"",null,"","",null,"","",null,null,""]
[null,"",null,"","",null,"","",null,null,""]
[null,"",null,"","",null,"","",null,null,""]
[null,"",null,"","",null,"","",null,null,""]
[null,"",null,"","",null,"","",null,null,""]
[null,"",null,"","",null,"","",null,null,""]
[null,"",null,"","",null,"","",null,null,""]
[null,"",null,"","",null,"","",null,null,""]
[null,"",null,"","",null,"","",null,null,""]
[null,"",null,"","",null,"","",null,null,""]
[null,"",null,"","",null,"","",null,null,""]
[null,"",null,"","",null,"","",null,null,""]
[null,"",null,"","",null,"","",null,null,""]
[null,"",null,"","",null,"","",null,null,""]
[null,"",null,"","",null,"","",null,null,""]
[null,"",null,"","",null,"","",null,null,""]
[null,"",null,"","",null,"","",null,null,""]
[null,"",null,"","",null,"","",null,null,""]
[null,"",null,"","",null,"","",null,null,""]
[null,"",null,"","",null,"","",null,null,""]
[null,"",null,"","",null,"","",null,null,""]
[null,"",null,"","",null,"","",null,null,""]
[null,"",null,"","",null,"","",null,null,""]
[null,"",null,"","",null,"","",null,null,""]
[null,"",null,"","",null,"","",null,null,""]
[null,"",null,"","",null,"","",null,null,""]
[null,"",null,"","",null,"","",null,null,""]
[null,"",null,"","",null,"","",null,null,""]
[null,"",null,"","",null,"","",null,null,""]
[null,"",null,"","",null,"","",null,null,""]
[null,"",null,{"$f":"IF(C4995=\"\",\"\",VLOOKUP(C4995,Itens,2,FALSE))","v":""},"",null,"","",null,null,""]
[null,"",null,"","",null,"",{"$f":"IFERROR(F4996*G4996,\"\")","v":""},null,null,{"$f":"IF(J4996=\"\",\"\",HYPERLINK($P$13&J4996,\"Rastreie aqui\"))","v":""}]
[null,"",null,"","",null,"","",null,null,""]
[null,"",null,"","",null,"","",null,null,""]
[null,"",null,"","",null,"","",null,null,""]

{"sheet":"Relatorio","index":6,"n_rows":6,"n_cols":13,"rows_kept":6,"cut":false,"hidden":false,"merged":[]}
["Mês"]
["Dezembro"]
["Código de Cliente","Nome do Cliente","Produto Comprado","Descrição","Unidade","Quantidade Comprada","Preço","Total da compra","Status","Rastreamento","Rastreie aqui","Data da Venda","Mês"]
["vbf","Julio Cesar",222,"HD","PÇ",1,65,65,"Entregue","PG852401173BR ","Rastreie aqui","2014-02-12","Dezembro"]
["bcd","João da Silva",111,"Memoria Ram","PÇ",2,80,160,"Despachado","PG852401173BR ","Rastreie aqui","2014-01-31","Dezembro"]
["afg","Jose Ricardo",222,"HD","PÇ",2,65,130,"Despachado","PG852401173BR ","Rastreie aqui","2014-12-15","Dezembro"]

{"sheet":"Quem Somos","index":7,"n_rows":3,"n_cols":6,"rows_kept":3,"cut":false,"hidden":false,"merged":[[2,5,12,14]]}
[]
[]
[null,null,null,null,null,"O Excel Easy nasceu em 2014 com o objetivo de unificar todo o material relacionado ao software Excel. Somos um ponto de apoio para aqueles que desejam aprender e revisar quaisquer assuntos relacionados ao Microsoft Excel. Além disso, também contamos com uma loja de planilhas personalizadas para facilitar o dia a dia dos usuários com soluções prontas para uso."]