{"text_format":"1","workbook":"xlsx","n_sheets":6,"sheets":["Início","Cadastrar","Banco de Funcionários","Controle de Horas","Folha de Ponto","Plan1"],"not_rendered":{"charts":0,"images":9,"macros":1,"external_links":0,"defined_names":4,"comments":0,"pivot_tables":0},"unopened":[],"bounds":{"document_bytes":16777216,"sheet_cells":100000,"rows_first":2000,"rows_last":500,"rows_between":2000,"halvings":0,"cell_chars":16384,"cell_head_chars":4096},"cells_cut":0,"cells_raw":0,"read":"whole","date_system":"1900"}

{"sheet":"Início","index":0,"n_rows":3,"n_cols":2,"rows_kept":3,"cut":false,"hidden":false,"merged":[[1,1,1,3],[2,1,2,3]]}
[]
[null,"CONTROLE"]
[null,"Horas / Folha de Ponto"]

{"sheet":"Cadastrar","index":1,"n_rows":9,"n_cols":5,"rows_kept":9,"cut":false,"hidden":false,"merged":[]}
[]
[]
[]
[null,null,null,null,"Cadastrar Funcionários"]
[]
[null,null,null,"Matrícula"]
[null,null,null,"Nome"]
[null,null,null,"Função"]
[null,null,null,"Data de admissão"]

{"sheet":"Banco de Funcionários","index":2,"n_rows":6,"n_cols":4,"rows_kept":6,"cut":false,"hidden":false,"merged":[]}
["Matrícula","Nome","Função","Data de Admissão"]
[{"$f":"Cadastrar!E6","v":0},{"$f":"Cadastrar!E7","v":0},{"$f":"Cadastrar!E8","v":0},{"$f":"Cadastrar!E9","v":"00:00:00"}]
["000156","João da Silva","Mecânico","2015-07-05"]
["00123","Pedro da Silva","Gestor de Qualidade","2014-06-03"]
["0034","Claudia","ADM","2007-08-09"]
["0021","João da Silva","Mecânico","2013-02-09"]

{"sheet":"Controle de Horas","index":3,"n_rows":12411,"n_cols":11,"rows_kept":4500,"cut":true,"hidden":false,"merged":[],"bounds":{"rows_first":2000,"rows_last":500,"rows_between":2000,"halvings":0}}
["Matrícula","Nome","Mês","Data","Entrada","Saída","Intervalo","Horas trabalhadas","Carga Horária / Diaria","Hora Extra","Total de horas"]
["000156",{"$f":"IFERROR(VLOOKUP(A2,'Banco de Funcionários'!$A$2:$D$1048576,2,0),0)","v":"João da Silva"},"Julho",5,"08:00:00","17:00:00","01:00:00",{"$f":"(F2-E2)-G2","v":"08:00:00"},"08:00:00",{"$f":"IFERROR(H2-I2,\"\")","v":"00:00:00"},{"$f":"IFERROR(H2+J2,0)","v":"08:00:00"}]
["000156",{"$f":"IFERROR(VLOOKUP(A3,'Banco de Funcionários'!$A$2:$D$1048576,2,0),0)","v":"João da Silva"},"Julho",6,"08:00:00","17:30:00","00:00:00",{"$f":"(F3-E3)-G3","v":"09:30:00"},"08:00:00",{"$f":"IFERROR(H3-I3,\"\")","v":"01:30:00"},{"$f":"IFERROR(H3+J3,0)","v":"11:00:00"}]
["000156",{"$f":"IFERROR(VLOOKUP(A4,'Banco de Funcionários'!$A$2:$D$1048576,2,0),0)","v":"João da Silva"},"Julho",7,"08:00:00","18:00:00","03:00:00","07:00:00","08:00:00",-4.166666666666663E-2,"06:00:00"]
[null,{"$f":"IFERROR(VLOOKUP(A5,'Banco de Funcionários'!$A$2:$D$1048576,2,0),0)","v":0},null,null,null,null,null,"00:00:00",null,"00:00:00","00:00:00"]
[null,{"$f":"IFERROR(VLOOKUP(A6,'Banco de Funcionários'!$A$2:$D$1048576,2,0),0)","v":0},null,null,null,null,null,"00:00:00",null,"00:00:00","00:00:00"]
[null,{"$f":"IFERROR(VLOOKUP(A7,'Banco de Funcionários'!$A$2:$D$1048576,2,0),0)","v":0},null,null,null,null,null,"00:00:00",null,"00:00:00","00:00:00"]
[null,{"$f":"IFERROR(VLOOKUP(A8,'Banco de Funcionários'!$A$2:$D$1048576,2,0),0)","v":0},null,null,null,null,null,"00:00:00",null,"00:00:00","00:00:00"]
[null,{"$f":"IFERROR(VLOOKUP(A9,'Banco de Funcionários'!$A$2:$D$1048576,2,0),0)","v":0},null,null,null,null,null,"00:00:00",null,"00:00:00","00:00:00"]
[null,{"$f":"IFERROR(VLOOKUP(A10,'Banco de Funcionários'!$A$2:$D$1048576,2,0),0)","v":0},null,null,null,null,null,"00:00:00",null,"00:00:00","00:00:00"]
[null,{"$f":"IFERROR(VLOOKUP(A11,'Banco de Funcionários'!$A$2:$D$1048576,2,0),0)","v":0},null,null,null,null,null,"00:00:00",null,"00:00:00","00:00:00"]
[null,{"$f":"IFERROR(VLOOKUP(A12,'Banco de Funcionários'!$A$2:$D$1048576,2,0),0)","v":0},null,null,null,null,null,"00:00:00",null,"00:00:00","00:00:00"]
[null,{"$f":"IFERROR(VLOOKUP(A13,'Banco de Funcionários'!$A$2:$D$1048576,2,0),0)","v":0},null,null,null,null,null,"00:00:00",null,"00:00:00","00:00:00"]
[null,{"$f":"IFERROR(VLOOKUP(A14,'Banco de Funcionários'!$A$2:$D$1048576,2,0),0)","v":0},null,null,null,null,null,"00:00:00",null,"00:00:00","00:00:00"]
[null,{"$f":"IFERROR(VLOOKUP(A15,'Banco de Funcionários'!$A$2:$D$1048576,2,0),0)","v":0},null,null,null,null,null,"00:00:00",null,"00:00:00","00:00:00"]
[null,{"$f":"IFERROR(VLOOKUP(A16,'Banco de Funcionários'!$A$2:$D$1048576,2,0),0)","v":0},null,null,null,null,null,"00:00:00",null,"00:00:00","00:00:00"]
[null,{"$f":"IFERROR(VLOOKUP(A17,'Banco de Funcionários'!$A$2:$D$1048576,2,0),0)","v":0},null,null,null,null,null,"00:00:00",null,"00:00:00","00:00:00"]
[null,{"$f":"IFERROR(VLOOKUP(A18,'Banco de Funcionários'!$A$2:$D$1048576,2,0),0)","v":0},null,null,null,null,null,"00:00:00",null,"00:00:00","00:00:00"]
[null,{"$f":"IFERROR(VLOOKUP(A19,'Banco de Funcionários'!$A$2:$D$1048576,2,0),0)","v":0},null,null,null,null,null,"00:00:00",null,"00:00:00","00:00:00"]
[null,{"$f":"IFERROR(VLOOKUP(A20,'Banco de Funcionários'!$A$2:$D$1048576,2,0),0)","v":0},null,null,null,null,null,"00:00:00",null,"00:00:00","00:00:00"]
[null,{"$f":"IFERROR(VLOOKUP(A21,'Banco de Funcionários'!$A$2:$D$1048576,2,0),0)","v":0},null,null,null,null,null,"00:00:00",null,"00:00:00","00:00:00"]
[null,{"$f":"IFERROR(VLOOKUP(A22,'Banco de Funcionários'!$A$2:$D$1048576,2,0),0)","v":0},null,null,null,null,null,"00:00:00",null,"00:00:00","00:00:00"]
[null,{"$f":"IFERROR(VLOOKUP(A23,'Banco de Funcionários'!$A$2:$D$1048576,2,0),0)","v":0},null,null,null,null,null,"00:00:00",null,"00:00:00","00:00:00"]
[null,{"$f":"IFERROR(VLOOKUP(A24,'Banco de Funcionários'!$A$2:$D$1048576,2,0),0)","v":0},null,null,null,null,null,"00:00:00",null,"00:00:00","00:00:00"]
[null,{"$f":"IFERROR(VLOOKUP(A25,'Banco de Funcionários'!$A$2:$D$1048576,2,0),0)","v":0},null,null,null,null,null,"00:00:00",null,"00:00:00","00:00:00"]
[null,{"$f":"IFERROR(VLOOKUP(A26,'Banco de Funcionários'!$A$2:$D$1048576,2,0),0)","v":0},null,null,null,null,null,"00:00:00",null,"00:00:00","00:00:00"]
[null,{"$f":"IFERROR(VLOOKUP(A27,'Banco de Funcionários'!$A$2:$D$1048576,2,0),0)","v":0},null,null,null,null,null,"00:00:00",null,"00:00:00","00:00:00"]
[null,{"$f":"IFERROR(VLOOKUP(A28,'Banco de Funcionários'!$A$2:$D$1048576,2,0),0)","v":0},null,null,null,null,null,"00:00:00",null,"00:00:00","00:00:00"]
[null,{"$f":"IFERROR(VLOOKUP(A29,'Banco de Funcionários'!$A$2:$D$1048576,2,0),0)","v":0},null,null,null,null,null,"00:00:00",null,"00:00:00","00:00:00"]
[null,{"$f":"IFERROR(VLOOKUP(A30,'Banco de Funcionários'!$A$2:$D$1048576,2,0),0)","v":0},null,null,null,null,null,"00:00:00",null,"00:00:00","00:00:00"]
[null,{"$f":"IFERROR(VLOOKUP(A31,'Banco de Funcionários'!$A$2:$D$1048576,2,0),0)","v":0},null,null,null,null,null,"00:00:00",null,"00:00:00","00:00:00"]
[null,{"$f":"IFERROR(VLOOKUP(A32,'Banco de Funcionários'!$A$2:$D$1048576,2,0),0)","v":0},null,null,null,null,null,"00:00:00",null,"00:00:00","00:00:00"]
[null,{"$f":"IFERROR(VLOOKUP(A33,'Banco de Funcionários'!$A$2:$D$1048576,2,0),0)","v":0},null,null,null,null,null,"00:00:00",null,"00:00:00","00:00:00"]
[null,{"$f":"IFERROR(VLOOKUP(A34,'Banco de Funcionários'!$A$2:$D$1048576,2,0),0)","v":0},null,null,null,null,null,"00:00:00",null,"00:00:00","00:00:00"]
[null,{"$f":"IFERROR(VLOOKUP(A35,'Banco de Funcionários'!$A$2:$D$1048576,2,0),0)","v":0},null,null,null,null,null,"00:00:00",null,"00:00:00","00:00:00"]
[null,{"$f":"IFERROR(VLOOKUP(A36,'Banco de Funcionários'!$A$2:$D$1048576,2,0),0)","v":0},null,null,null,null,null,"00:00:00",null,"00:00:00","00:00:00"]
[null,{"$f":"IFERROR(VLOOKUP(A37,'Banco de Funcionários'!$A$2:$D$1048576,2,0),0)","v":0},null,null,null,null,null,"00:00:00",null,"00:00:00","00:00:00"]
[null,{"$f":"IFERROR(VLOOKUP(A38,'Banco de Funcionários'!$A$2:$D$1048576,2,0),0)","v":0},null,null,null,null,null,"00:00:00",null,"00:00:00","00:00:00"]
[null,{"$f":"IFERROR(VLOOKUP(A39,'Banco de Funcionários'!$A$2:$D$1048576,2,0),0)","v":0},null,null,null,null,null,"00:00:00",null,"00:00:00","00:00:00"]
[null,{"$f":"IFERROR(VLOOKUP(A40,'Banco de Funcionários'!$A$2:$D$1048576,2,0),0)","v":0},null,null,null,null,null,"00:00:00",null,"00:00:00","00:00:00"]
[null,{"$f":"IFERROR(VLOOKUP(A41,'Banco de Funcionários'!$A$2:$D$1048576,2,0),0)","v":0},null,null,null,null,null,"00:00:00",null,"00:00:00","00:00:00"]
[null,{"$f":"IFERROR(VLOOKUP(A42,'Banco de Funcionários'!$A$2:$D$1048576,2,0),0)","v":0},null,null,null,null,null,"00:00:00",null,"00:00:00","00:00:00"]
[null,{"$f":"IFERROR(VLOOKUP(A43,'Banco de Funcionários'!$A$2:$D$1048576,2,0),0)","v":0},null,null,null,null,null,"00:00:00",null,"00:00:00","00:00:00"]
[null,{"$f":"IFERROR(VLOOKUP(A44,'Banco de Funcionários'!$A$2:$D$1048576,2,0),0)","v":0},null,null,null,null,null,"00:00:00",null,"00:00:00","00:00:00"]
[null,{"$f":"IFERROR(VLOOKUP(A45,'Banco de Funcionários'!$A$2:$D$1048576,2,0),0)","v":0},null,null,null,null,null,"00:00:00",null,"00:00:00","00:00:00"]
[null,{"$f":"IFERROR(VLOOKUP(A46,'Banco de Funcionários'!$A$2:$D$1048576,2,0),0)","v":0},null,null,null,null,null,"00:00:00",null,"00:00:00","00:00:00"]
[null,{"$f":"IFERROR(VLOOKUP(A47,'Banco de Funcionários'!$A$2:$D$1048576,2,0),0)","v":0},null,null,null,null,null,"00:00:00",null,"00:00:00","00:00:00"]
[null,{"$f":"IFERROR(VLOOKUP(A48,'Banco de Funcionários'!$A$2:$D$1048576,2,0),0)","v":0},null,null,null,null,null,"00:00:00",null,"00:00:00","00:00:00"]
[null,{"$f":"IFERROR(VLOOKUP(A49,'Banco de Funcionários'!$A$2:$D$1048576,2,0),0)","v":0},null,null,null,null,null,"00:00:00",null,"00:00:00","00:00:00"]
[null,{"$f":"IFERROR(VLOOKUP(A50,'Banco de Funcionários'!$A$2:$D$1048576,2,0),0)","v":0},null,null,null,null,null,"00:00:00",null,"00:00:00","00:00:00"]
[null,{"$f":"IFERROR(VLOOKUP(A51,'Banco de Funcionários'!$A$2:$D$1048576,2,0),0)","v":0},null,null,null,null,null,"00:00:00",null,"00:00:00","00:00:00"]
[null,{"$f":"IFERROR(VLOOKUP(A52,'Banco de Funcionários'!$A$2:$D$1048576,2,0),0)","v":0},null,null,null,null,null,"00:00:00",null,"00:00:00","00:00:00"]
[null,{"$f":"IFERROR(VLOOKUP(A53,'Banco de Funcionários'!$A$2:$D$1048576,2,0),0)","v":0},null,null,null,null,null,"00:00:00",null,"00:00:00","00:00:00"]
[null,{"$f":"IFERROR(VLOOKUP(A54,'Banco de Funcionários'!$A$2:$D$1048576,2,0),0)","v":0},null,null,null,null,null,"00:00:00",null,"00:00:00","00:00:00"]
[null,{"$f":"IFERROR(VLOOKUP(A55,'Banco de Funcionários'!$A$2:$D$1048576,2,0),0)","v":0},null,null,null,null,null,"00:00:00",null,"00:00:00","00:00:00"]
[null,{"$f":"IFERROR(VLOOKUP(A56,'Banco de Funcionários'!$A$2:$D$1048576,2,0),0)","v":0},null,null,null,null,null,"00:00:00",null,"00:00:00","00:00:00"]
[null,{"$f":"IFERROR(VLOOKUP(A57,'Banco de Funcionários'!$A$2:$D$1048576,2,0),0)","v":0},null,null,null,null,null,"00:00:00",null,"00:00:00","00:00:00"]
[null,{"$f":"IFERROR(VLOOKUP(A58,'Banco de Funcionários'!$A$2:$D$1048576,2,0),0)","v":0},null,null,null,null,null,"00:00:00",null,"00:00:00","00:00:00"]
[null,{"$f":"IFERROR(VLOOKUP(A59,'Banco de Funcionários'!$A$2:$D$1048576,2,0),0)","v":0},null,null,null,null,null,"00:00:00",null,"00:00:00","00:00:00"]
[null,{"$f":"IFERROR(VLOOKUP(A60,'Banco de Funcionários'!$A$2:$D$1048576,2,0),0)","v":0},null,null,null,null,null,"00:00:00",null,"00:00:00","00:00:00"]
[null,{"$f":"IFERROR(VLOOKUP(A61,'Banco de Funcionários'!$A$2:$D$1048576,2,0),0)","v":0},null,null,null,null,null,"00:00:00",null,"00:00:00","00:00:00"]
[null,{"$f":"IFERROR(VLOOKUP(A62,'Banco de Funcionários'!$A$2:$D$1048576,2,0),0)","v":0},null,null,null,null,null,"00:00:00",null,"00:00:00","00:00:00"]
[null,{"$f":"IFERROR(VLOOKUP(A63,'Banco de Funcionários'!$A$2:$D$1048576,2,0),0)","v":0},null,null,null,null,null,"00:00:00",null,"00:00:00","00:00:00"]
[null,{"$f":"IFERROR(VLOOKUP(A64,'Banco de Funcionários'!$A$2:$D$1048576,2,0),0)","v":0},null,null,null,null,null,"00:00:00",null,"00:00:00","00:00:00"]
[null,{"$f":"IFERROR(VLOOKUP(A65,'Banco de Funcionários'!$A$2:$D$1048576,2,0),0)","v":0},null,null,null,null,null,"00:00:00",null,"00:00:00","00:00:00"]
[null,{"$f":"IFERROR(VLOOKUP(A66,'Banco de Funcionários'!$A$2:$D$1048576,2,0),0)","v":0},null,null,null,null,null,"00:00:00",null,"00:00:00","00:00:00"]
[null,{"$f":"IFERROR(VLOOKUP(A67,'Banco de Funcionários'!$A$2:$D$1048576,2,0),0)","v":0},null,null,null,null,null,{"$f":"(F67-E67)-G67","v":"00:00:00"},null,{"$f":"IFERROR(H67-I67,\"\")","v":"00:00:00"},{"$f":"IFERROR(H67+J67,0)","v":"00:00:00"}]
[null,{"$f":"IFERROR(VLOOKUP(A68,'Banco de Funcionários'!$A$2:$D$1048576,2,0),0)","v":0},null,null,null,null,null,"00:00:00",null,"00:00:00","00:00:00"]
[null,{"$f":"IFERROR(VLOOKUP(A69,'Banco de Funcionários'!$A$2:$D$1048576,2,0),0)","v":0},null,null,null,null,null,"00:00:00",null,"00:00:00","00:00:00"]
[null,{"$f":"IFERROR(VLOOKUP(A70,'Banco de Funcionários'!$A$2:$D$1048576,2,0),0)","v":0},null,null,null,null,null,"00:00:00",null,"00:00:00","00:00:00"]
[null,{"$f":"IFERROR(VLOOKUP(A71,'Banco de Funcionários'!$A$2:$D$1048576,2,0),0)","v":0},null,null,null,null,null,"00:00:00",null,"00:00:00","00:00:00"]
[null,{"$f":"IFERROR(VLOOKUP(A72,'Banco de Funcionários'!$A$2:$D$1048576,2,0),0)","v":0},null,null,null,null,null,"00:00:00",null,"00:00:00","00:00:00"]
[null,{"$f":"IFERROR(VLOOKUP(A73,'Banco de Funcionários'!$A$2:$D$1048576,2,0),0)","v":0},null,null,null,null,null,"00:00:00",null,"00:00:00","00:00:00"]
[null,{"$f":"IFERROR(VLOOKUP(A74,'Banco de Funcionários'!$A$2:$D$1048576,2,0),0)","v":0},null,null,null,null,null,"00:00:00",null,"00:00:00","00:00:00"]
[null,{"$f":"IFERROR(VLOOKUP(A75,'Banco de Funcionários'!$A$2:$D$1048576,2,0),0)","v":0},null,null,null,null,null,"00:00:00",null,"00:00:00","00:00:00"]
[null,{"$f":"IFERROR(VLOOKUP(A76,'Banco de Funcionários'!$A$2:$D$1048576,2,0),0)","v":0},null,null,null,null,null,"00:00:00",null,"00:00:00","00:00:00"]
[null,{"$f":"IFERROR(VLOOKUP(A77,'Banco de Funcionários'!$A$2:$D$1048576,2,0),0)","v":0},null,null,null,null,null,"00:00:00",null,"00:00:00","00:00:00"]
[null,{"$f":"IFERROR(VLOOKUP(A78,'Banco de Funcionários'!$A$2:$D$1048576,2,0),0)","v":0},null,null,null,null,null,"00:00:00",null,"00:00:00","00:00:00"]
[null,{"$f":"IFERROR(VLOOKUP(A79,'Banco de Funcionários'!$A$2:$D$1048576,2,0),0)","v":0},null,null,null,null,null,"00:00:00",null,"00:00:00","00:00:00"]
[null,{"$f":"IFERROR(VLOOKUP(A80,'Banco de Funcionários'!$A$2:$D$1048576,2,0),0)","v":0},null,null,null,null,null,"00:00:00",null,"00:00:00","00:00:00"]
[null,{"$f":"IFERROR(VLOOKUP(A81,'Banco de Funcionários'!$A$2:$D$1048576,2,0),0)","v":0},null,null,null,null,null,"00:00:00",null,"00:00:00","00:00:00"]
[null,{"$f":"IFERROR(VLOOKUP(A82,'Banco de Funcionários'!$A$2:$D$1048576,2,0),0)","v":0},null,null,null,null,null,"00:00:00",null,"00:00:00","00:00:00"]
[null,{"$f":"IFERROR(VLOOKUP(A83,'Banco de Funcionários'!$A$2:$D$1048576,2,0),0)","v":0},null,null,null,null,null,"00:00:00",null,"00:00:00","00:00:00"]
[null,{"$f":"IFERROR(VLOOKUP(A84,'Banco de Funcionários'!$A$2:$D$1048576,2,0),0)","v":0},null,null,null,null,null,"00:00:00",null,"00:00:00","00:00:00"]
[null,{"$f":"IFERROR(VLOOKUP(A85,'Banco de Funcionários'!$A$2:$D$1048576,2,0),0)","v":0},null,null,null,null,null,"00:00:00",null,"00:00:00","00:00:00"]
[null,{"$f":"IFERROR(VLOOKUP(A86,'Banco de Funcionários'!$A$2:$D$1048576,2,0),0)","v":0},null,null,null,null,null,"00:00:00",null,"00:00:00","00:00:00"]
[null,{"$f":"IFERROR(VLOOKUP(A87,'Banco de Funcionários'!$A$2:$D$1048576,2,0),0)","v":0},null,null,null,null,null,"00:00:00",null,"00:00:00","00:00:00"]
[null,{"$f":"IFERROR(VLOOKUP(A88,'Banco de Funcionários'!$A$2:$D$1048576,2,0),0)","v":0},null,null,null,null,null,"00:00:00",null,"00:00:00","00:00:00"]
[null,{"$f":"IFERROR(VLOOKUP(A89,'Banco de Funcionários'!$A$2:$D$1048576,2,0),0)","v":0},null,null,null,null,null,"00:00:00",null,"00:00:00","00:00:00"]
[null,{"$f":"IFERROR(VLOOKUP(A90,'Banco de Funcionários'!$A$2:$D$1048576,2,0),0)","v":0},null,null,null,null,null,"00:00:00",null,"00:00:00","00:00:00"]
[null,{"$f":"IFERROR(VLOOKUP(A91,'Banco de Funcionários'!$A$2:$D$1048576,2,0),0)","v":0},null,null,null,null,null,"00:00:00",null,"00:00:00","00:00:00"]
[null,{"$f":"IFERROR(VLOOKUP(A92,'Banco de Funcionários'!$A$2:$D$1048576,2,0),0)","v":0},null,null,null,null,null,"00:00:00",null,"00:00:00","00:00:00"]
[null,{"$f":"IFERROR(VLOOKUP(A93,'Banco de Funcionários'!$A$2:$D$1048576,2,0),0)","v":0},null,null,null,null,null,"00:00:00",null,"00:00:00","00:00:00"]
[null,{"$f":"IFERROR(VLOOKUP(A94,'Banco de Funcionários'!$A$2:$D$1048576,2,0),0)","v":0},null,null,null,null,null,"00:00:00",null,"00:00:00","00:00:00"]
[null,{"$f":"IFERROR(VLOOKUP(A95,'Banco de Funcionários'!$A$2:$D$1048576,2,0),0)","v":0},null,null,null,null,null,"00:00:00",null,"00:00:00","00:00:00"]
[null,{"$f":"IFERROR(VLOOKUP(A96,'Banco de Funcionários'!$A$2:$D$1048576,2,0),0)","v":0},null,null,null,null,null,"00:00:00",null,"00:00:00","00:00:00"]
[null,{"$f":"IFERROR(VLOOKUP(A97,'Banco de Funcionários'!$A$2:$D$1048576,2,0),0)","v":0},null,null,null,null,null,"00:00:00",null,"00:00:00","00:00:00"]
[null,{"$f":"IFERROR(VLOOKUP(A98,'Banco de Funcionários'!$A$2:$D$1048576,2,0),0)","v":0},null,null,null,null,null,"00:00:00",null,"00:00:00","00:00:00"]
[null,{"$f":"IFERROR(VLOOKUP(A99,'Banco de Funcionários'!$A$2:$D$1048576,2,0),0)","v":0},null,null,null,null,null,"00:00:00",null,"00:00:00","00:00:00"]
[null,{"$f":"IFERROR(VLOOKUP(A100,'Banco de Funcionários'!$A$2:$D$1048576,2,0),0)","v":0},null,null,null,null,null,"00:00:00",null,"00:00:00","00:00:00"]
[null,{"$f":"IFERROR(VLOOKUP(A101,'Banco de Funcionários'!$A$2:$D$1048576,2,0),0)","v":0},null,null,null,null,null,"00:00:00",null,"00:00:00","00:00:00"]
[null,{"$f":"IFERROR(VLOOKUP(A102,'Banco de Funcionários'!$A$2:$D$1048576,2,0),0)","v":0},null,null,null,null,null,"00:00:00",null,"00:00:00","00:00:00"]
[null,{"$f":"IFERROR(VLOOKUP(A103,'Banco de Funcionários'!$A$2:$D$1048576,2,0),0)","v":0},null,null,null,null,null,"00:00:00",null,"00:00:00","00:00:00"]
[null,{"$f":"IFERROR(VLOOKUP(A104,'Banco de Funcionários'!$A$2:$D$1048576,2,0),0)","v":0},null,null,null,null,null,"00:00:00",null,"00:00:00","00:00:00"]
[null,{"$f":"IFERROR(VLOOKUP(A105,'Banco de Funcionários'!$A$2:$D$1048576,2,0),0)","v":0},null,null,null,null,null,"00:00:00",null,"00:00:00","00:00:00"]
[null,{"$f":"IFERROR(VLOOKUP(A106,'Banco de Funcionários'!$A$2:$D$1048576,2,0),0)","v":0},null,null,null,null,null,"00:00:00",null,"00:00:00","00:00:00"]
[null,{"$f":"IFERROR(VLOOKUP(A107,'Banco de Funcionários'!$A$2:$D$1048576,2,0),0)","v":0},null,null,null,null,null,"00:00:00",null,"00:00:00","00:00:00"]
[null,{"$f":"IFERROR(VLOOKUP(A108,'Banco de Funcionários'!$A$2:$D$1048576,2,0),0)","v":0},null,null,null,null,null,"00:00:00",null,"00:00:00","00:00:00"]
[null,{"$f":"IFERROR(VLOOKUP(A109,'Banco de Funcionários'!$A$2:$D$1048576,2,0),0)","v":0},null,null,null,null,null,"00:00:00",null,"00:00:00","00:00:00"]
[null,{"$f":"IFERROR(VLOOKUP(A110,'Banco de Funcionários'!$A$2:$D$1048576,2,0),0)","v":0},null,null,null,null,null,"00:00:00",null,"00:00:00","00:00:00"]
[null,{"$f":"IFERROR(VLOOKUP(A111,'Banco de Funcionários'!$A$2:$D$1048576,2,0),0)","v":0},null,null,null,null,null,"00:00:00",null,"00:00:00","00:00:00"]
[null,{"$f":"IFERROR(VLOOKUP(A112,'Banco de Funcionários'!$A$2:$D$1048576,2,0),0)","v":0},null,null,null,null,null,"00:00:00",null,"00:00:00","00:00:00"]
[null,{"$f":"IFERROR(VLOOKUP(A113,'Banco de Funcionários'!$A$2:$D$1048576,2,0),0)","v":0},null,null,null,null,null,"00:00:00",null,"00:00:00","00:00:00"]
[null,{"$f":"IFERROR(VLOOKUP(A114,'Banco de Funcionários'!$A$2:$D$1048576,2,0),0)","v":0},null,null,null,null,null,"00:00:00",null,"00:00:00","00:00:00"]
[null,{"$f":"IFERROR(VLOOKUP(A115,'Banco de Funcionários'!$A$2:$D$1048576,2,0),0)","v":0},null,null,null,null,null,"00:00:00",null,"00:00:00","00:00:00"]
[null,{"$f":"IFERROR(VLOOKUP(A116,'Banco de Funcionários'!$A$2:$D$1048576,2,0),0)","v":0},null,null,null,null,null,"00:00:00",null,"00:00:00","00:00:00"]
[null,{"$f":"IFERROR(VLOOKUP(A117,'Banco de Funcionários'!$A$2:$D$1048576,2,0),0)","v":0},null,null,null,null,null,"00:00:00",null,"00:00:00","00:00:00"]
[null,{"$f":"IFERROR(VLOOKUP(A118,'Banco de Funcionários'!$A$2:$D$1048576,2,0),0)","v":0},null,null,null,null,null,"00:00:00",null,"00:00:00","00:00:00"]
[null,{"$f":"IFERROR(VLOOKUP(A119,'Banco de Funcionários'!$A$2:$D$1048576,2,0),0)","v":0},null,null,null,null,null,"00:00:00",null,"00:00:00","00:00:00"]
[null,{"$f":"IFERROR(VLOOKUP(A120,'Banco de Funcionários'!$A$2:$D$1048576,2,0),0)","v":0},null,null,null,null,null,"00:00:00",null,"00:00:00","00:00:00"]
[null,{"$f":"IFERROR(VLOOKUP(A121,'Banco de Funcionários'!$A$2:$D$1048576,2,0),0)","v":0},null,null,null,null,null,"00:00:00",null,"00:00:00","00:00:00"]
[null,{"$f":"IFERROR(VLOOKUP(A122,'Banco de Funcionários'!$A$2:$D$1048576,2,0),0)","v":0},null,null,null,null,null,"00:00:00",null,"00:00:00","00:00:00"]
[null,{"$f":"IFERROR(VLOOKUP(A123,'Banco de Funcionários'!$A$2:$D$1048576,2,0),0)","v":0},null,null,null,null,null,"00:00:00",null,"00:00:00","00:00:00"]
[null,{"$f":"IFERROR(VLOOKUP(A124,'Banco de Funcionários'!$A$2:$D$1048576,2,0),0)","v":0},null,null,null,null,null,"00:00:00",null,"00:00:00","00:00:00"]
[null,{"$f":"IFERROR(VLOOKUP(A125,'Banco de Funcionários'!$A$2:$D$1048576,2,0),0)","v":0},null,null,null,null,null,"00:00:00",null,"00:00:00","00:00:00"]
[null,{"$f":"IFERROR(VLOOKUP(A126,'Banco de Funcionários'!$A$2:$D$1048576,2,0),0)","v":0},null,null,null,null,null,"00:00:00",null,"00:00:00","00:00:00"]
[null,{"$f":"IFERROR(VLOOKUP(A127,'Banco de Funcionários'!$A$2:$D$1048576,2,0),0)","v":0},null,null,null,null,null,"00:00:00",null,"00:00:00","00:00:00"]
[null,{"$f":"IFERROR(VLOOKUP(A128,'Banco de Funcionários'!$A$2:$D$1048576,2,0),0)","v":0},null,null,null,null,null,"00:00:00",null,"00:00:00","00:00:00"]
[null,{"$f":"IFERROR(VLOOKUP(A129,'Banco de Funcionários'!$A$2:$D$1048576,2,0),0)","v":0},null,null,null,null,null,"00:00:00",null,"00:00:00","00:00:00"]
[null,{"$f":"IFERROR(VLOOKUP(A130,'Banco de Funcionários'!$A$2:$D$1048576,2,0),0)","v":0},null,null,null,null,null,"00:00:00",null,"00:00:00","00:00:00"]
[null,{"$f":"IFERROR(VLOOKUP(A131,'Banco de Funcionários'!$A$2:$D$1048576,2,0),0)","v":0},null,null,null,null,null,{"$f":"(F131-E131)-G131","v":"00:00:00"},null,{"$f":"IFERROR(H131-I131,\"\")","v":"00:00:00"},{"$f":"IFERROR(H131+J131,0)","v":"00:00:00"}]
[null,{"$f":"IFERROR(VLOOKUP(A132,'Banco de Funcionários'!$A$2:$D$1048576,2,0),0)","v":0},null,null,null,null,null,"00:00:00",null,"00:00:00","00:00:00"]
[null,{"$f":"IFERROR(VLOOKUP(A133,'Banco de Funcionários'!$A$2:$D$1048576,2,0),0)","v":0},null,null,null,null,null,"00:00:00",null,"00:00:00","00:00:00"]
[null,{"$f":"IFERROR(VLOOKUP(A134,'Banco de Funcionários'!$A$2:$D$1048576,2,0),0)","v":0},null,null,null,null,null,"00:00:00",null,"00:00:00","00:00:00"]
[null,{"$f":"IFERROR(VLOOKUP(A135,'Banco de Funcionários'!$A$2:$D$1048576,2,0),0)","v":0},null,null,null,null,null,"00:00:00",null,"00:00:00","00:00:00"]
[null,{"$f":"IFERROR(VLOOKUP(A136,'Banco de Funcionários'!$A$2:$D$1048576,2,0),0)","v":0},null,null,null,null,null,"00:00:00",null,"00:00:00","00:00:00"]
[null,{"$f":"IFERROR(VLOOKUP(A137,'Banco de Funcionários'!$A$2:$D$1048576,2,0),0)","v":0},null,null,null,null,null,"00:00:00",null,"00:00:00","00:00:00"]
[null,{"$f":"IFERROR(VLOOKUP(A138,'Banco de Funcionários'!$A$2:$D$1048576,2,0),0)","v":0},null,null,null,null,null,"00:00:00",null,"00:00:00","00:00:00"]
[null,{"$f":"IFERROR(VLOOKUP(A139,'Banco de Funcionários'!$A$2:$D$1048576,2,0),0)","v":0},null,null,null,null,null,"00:00:00",null,"00:00:00","00:00:00"]
[null,{"$f":"IFERROR(VLOOKUP(A140,'Banco de Funcionários'!$A$2:$D$1048576,2,0),0)","v":0},null,null,null,null,null,"00:00:00",null,"00:00:00","00:00:00"]
[null,{"$f":"IFERROR(VLOOKUP(A141,'Banco de Funcionários'!$A$2:$D$1048576,2,0),0)","v":0},null,null,null,null,null,"00:00:00",null,"00:00:00","00:00:00"]
[null,{"$f":"IFERROR(VLOOKUP(A142,'Banco de Funcionários'!$A$2:$D$1048576,2,0),0)","v":0},null,null,null,null,null,"00:00:00",null,"00:00:00","00:00:00"]
[null,{"$f":"IFERROR(VLOOKUP(A143,'Banco de Funcionários'!$A$2:$D$1048576,2,0),0)","v":0},null,null,null,null,null,"00:00:00",null,"00:00:00","00:00:00"]
[null,{"$f":"IFERROR(VLOOKUP(A144,'Banco de Funcionários'!$A$2:$D$1048576,2,0),0)","v":0},null,null,null,null,null,"00:00:00",null,"00:00:00","00:00:00"]
[null,{"$f":"IFERROR(VLOOKUP(A145,'Banco de Funcionários'!$A$2:$D$1048576,2,0),0)","v":0},null,null,null,null,null,"00:00:00",null,"00:00:00","00:00:00"]
[null,{"$f":"IFERROR(VLOOKUP(A146,'Banco de Funcionários'!$A$2:$D$1048576,2,0),0)","v":0},null,null,null,null,null,"00:00:00",null,"00:00:00","00:00:00"]
[null,{"$f":"IFERROR(VLOOKUP(A147,'Banco de Funcionários'!$A$2:$D$1048576,2,0),0)","v":0},null,null,null,null,null,"00:00:00",null,"00:00:00","00:00:00"]
[null,{"$f":"IFERROR(VLOOKUP(A148,'Banco de Funcionários'!$A$2:$D$1048576,2,0),0)","v":0},null,null,null,null,null,"00:00:00",null,"00:00:00","00:00:00"]
[null,{"$f":"IFERROR(VLOOKUP(A149,'Banco de Funcionários'!$A$2:$D$1048576,2,0),0)","v":0},null,null,null,null,null,"00:00:00",null,"00:00:00","00:00:00"]
[null,{"$f":"IFERROR(VLOOKUP(A150,'Banco de Funcionários'!$A$2:$D$1048576,2,0),0)","v":0},null,null,null,null,null,"00:00:00",null,"00:00:00","00:00:00"]
[null,{"$f":"IFERROR(VLOOKUP(A151,'Banco de Funcionários'!$A$2:$D$1048576,2,0),0)","v":0},null,null,null,null,null,"00:00:00",null,"00:00:00","00:00:00"]
[null,{"$f":"IFERROR(VLOOKUP(A152,'Banco de Funcionários'!$A$2:$D$1048576,2,0),0)","v":0},null,null,null,null,null,"00:00:00",null,"00:00:00","00:00:00"]
[null,{"$f":"IFERROR(VLOOKUP(A153,'Banco de Funcionários'!$A$2:$D$1048576,2,0),0)","v":0},null,null,null,null,null,"00:00:00",null,"00:00:00","00:00:00"]
[null,{"$f":"IFERROR(VLOOKUP(A154,'Banco de Funcionários'!$A$2:$D$1048576,2,0),0)","v":0},null,null,null,null,null,"00:00:00",null,"00:00:00","00:00:00"]
[null,{"$f":"IFERROR(VLOOKUP(A155,'Banco de Funcionários'!$A$2:$D$1048576,2,0),0)","v":0},null,null,null,null,null,"00:00:00",null,"00:00:00","00:00:00"]
[null,{"$f":"IFERROR(VLOOKUP(A156,'Banco de Funcionários'!$A$2:$D$1048576,2,0),0)","v":0},null,null,null,null,null,"00:00:00",null,"00:00:00","00:00:00"]
[null,{"$f":"IFERROR(VLOOKUP(A157,'Banco de Funcionários'!$A$2:$D$1048576,2,0),0)","v":0},null,null,null,null,null,"00:00:00",null,"00:00:00","00:00:00"]
[null,{"$f":"IFERROR(VLOOKUP(A158,'Banco de Funcionários'!$A$2:$D$1048576,2,0),0)","v":0},null,null,null,null,null,"00:00:00",null,"00:00:00","00:00:00"]
[null,{"$f":"IFERROR(VLOOKUP(A159,'Banco de Funcionários'!$A$2:$D$1048576,2,0),0)","v":0},null,null,null,null,null,"00:00:00",null,"00:00:00","00:00:00"]
[null,{"$f":"IFERROR(VLOOKUP(A160,'Banco de Funcionários'!$A$2:$D$1048576,2,0),0)","v":0},null,null,null,null,null,"00:00:00",null,"00:00:00","00:00:00"]
[null,{"$f":"IFERROR(VLOOKUP(A161,'Banco de Funcionários'!$A$2:$D$1048576,2,0),0)","v":0},null,null,null,null,null,"00:00:00",null,"00:00:00","00:00:00"]
[null,{"$f":"IFERROR(VLOOKUP(A162,'Banco de Funcionários'!$A$2:$D$1048576,2,0),0)","v":0},null,null,null,null,null,"00:00:00",null,"00:00:00","00:00:00"]
[null,{"$f":"IFERROR(VLOOKUP(A163,'Banco de Funcionários'!$A$2:$D$1048576,2,0),0)","v":0},null,null,null,null,null,"00:00:00",null,"00:00:00","00:00:00"]
[null,{"$f":"IFERROR(VLOOKUP(A164,'Banco de Funcionários'!$A$2:$D$1048576,2,0),0)","v":0},null,null,null,null,null,"00:00:00",null,"00:00:00","00:00:00"]
[null,{"$f":"IFERROR(VLOOKUP(A165,'Banco de Funcionários'!$A$2:$D$1048576,2,0),0)","v":0},null,null,null,null,null,"00:00:00",null,"00:00:00","00:00:00"]
[null,{"$f":"IFERROR(VLOOKUP(A166,'Banco de Funcionários'!$A$2:$D$1048576,2,0),0)","v":0},null,null,null,null,null,"00:00:00",null,"00:00:00","00:00:00"]
[null,{"$f":"IFERROR(VLOOKUP(A167,'Banco de Funcionários'!$A$2:$D$1048576,2,0),0)","v":0},null,null,null,null,null,"00:00:00",null,"00:00:00","00:00:00"]
[null,{"$f":"IFERROR(VLOOKUP(A168,'Banco de Funcionários'!$A$2:$D$1048576,2,0),0)","v":0},null,null,null,null,null,"00:00:00",null,"00:00:00","00:00:00"]
[null,{"$f":"IFERROR(VLOOKUP(A169,'Banco de Funcionários'!$A$2:$D$1048576,2,0),0)","v":0},null,null,null,null,null,"00:00:00",null,"00:00:00","00:00:00"]
[null,{"$f":"IFERROR(VLOOKUP(A170,'Banco de Funcionários'!$A$2:$D$1048576,2,0),0)","v":0},null,null,null,null,null,"00:00:00",null,"00:00:00","00:00:00"]
[null,{"$f":"IFERROR(VLOOKUP(A171,'Banco de Funcionários'!$A$2:$D$1048576,2,0),0)","v":0},null,null,null,null,null,"00:00:00",null,"00:00:00","00:00:00"]
[null,{"$f":"IFERROR(VLOOKUP(A172,'Banco de Funcionários'!$A$2:$D$1048576,2,0),0)","v":0},null,null,null,null,null,"00:00:00",null,"00:00:00","00:00:00"]
[null,{"$f":"IFERROR(VLOOKUP(A173,'Banco de Funcionários'!$A$2:$D$1048576,2,0),0)","v":0},null,null,null,null,null,"00:00:00",null,"00:00:00","00:00:00"]
[null,{"$f":"IFERROR(VLOOKUP(A174,'Banco de Funcionários'!$A$2:$D$1048576,2,0),0)","v":0},null,null,null,null,null,"00:00:00",null,"00:00:00","00:00:00"]
[null,{"$f":"IFERROR(VLOOKUP(A175,'Banco de Funcionários'!$A$2:$D$1048576,2,0),0)","v":0},null,null,null,null,null,"00:00:00",null,"00:00:00","00:00:00"]
[null,{"$f":"IFERROR(VLOOKUP(A176,'Banco de Funcionários'!$A$2:$D$1048576,2,0),0)","v":0},null,null,null,null,null,"00:00:00",null,"00:00:00","00:00:00"]
[null,{"$f":"IFERROR(VLOOKUP(A177,'Banco de Funcionários'!$A$2:$D$1048576,2,0),0)","v":0},null,null,null,null,null,"00:00:00",null,"00:00:00","00:00:00"]
[null,{"$f":"IFERROR(VLOOKUP(A178,'Banco de Funcionários'!$A$2:$D$1048576,2,0),0)","v":0},null,null,null,null,null,"00:00:00",null,"00:00:00","00:00:00"]
[null,{"$f":"IFERROR(VLOOKUP(A179,'Banco de Funcionários'!$A$2:$D$1048576,2,0),0)","v":0},null,null,null,null,null,"00:00:00",null,"00:00:00","00:00:00"]
[null,{"$f":"IFERROR(VLOOKUP(A180,'Banco de Funcionários'!$A$2:$D$1048576,2,0),0)","v":0},null,null,null,null,null,"00:00:00",null,"00:00:00","00:00:00"]
[null,{"$f":"IFERROR(VLOOKUP(A181,'Banco de Funcionários'!$A$2:$D$1048576,2,0),0)","v":0},null,null,null,null,null,"00:00:00",null,"00:00:00","00:00:00"]
[null,{"$f":"IFERROR(VLOOKUP(A182,'Banco de Funcionários'!$A$2:$D$1048576,2,0),0)","v":0},null,null,null,null,null,"00:00:00",null,"00:00:00","00:00:00"]
[null,{"$f":"IFERROR(VLOOKUP(A183,'Banco de Funcionários'!$A$2:$D$1048576,2,0),0)","v":0},null,null,null,null,null,"00:00:00",null,"00:00:00","00:00:00"]
[null,{"$f":"IFERROR(VLOOKUP(A184,'Banco de Funcionários'!$A$2:$D$1048576,2,0),0)","v":0},null,null,null,null,null,"00:00:00",null,"00:00:00","00:00:00"]
[null,{"$f":"IFERROR(VLOOKUP(A185,'Banco de Funcionários'!$A$2:$D$1048576,2,0),0)","v":0},null,null,null,null,null,"00:00:00",null,"00:00:00","00:00:00"]
[null,{"$f":"IFERROR(VLOOKUP(A186,'Banco de Funcionários'!$A$2:$D$1048576,2,0),0)","v":0},null,null,null,null,null,"00:00:00",null,"00:00:00","00:00:00"]
[null,{"$f":"IFERROR(VLOOKUP(A187,'Banco de Funcionários'!$A$2:$D$1048576,2,0),0)","v":0},null,null,null,null,null,"00:00:00",null,"00:00:00","00:00:00"]
[null,{"$f":"IFERROR(VLOOKUP(A188,'Banco de Funcionários'!$A$2:$D$1048576,2,0),0)","v":0},null,null,null,null,null,"00:00:00",null,"00:00:00","00:00:00"]
[null,{"$f":"IFERROR(VLOOKUP(A189,'Banco de Funcionários'!$A$2:$D$1048576,2,0),0)","v":0},null,null,null,null,null,"00:00:00",null,"00:00:00","00:00:00"]
[null,{"$f":"IFERROR(VLOOKUP(A190,'Banco de Funcionários'!$A$2:$D$1048576,2,0),0)","v":0},null,null,null,null,null,"00:00:00",null,"00:00:00","00:00:00"]
[null,{"$f":"IFERROR(VLOOKUP(A191,'Banco de Funcionários'!$A$2:$D$1048576,2,0),0)","v":0},null,null,null,null,null,"00:00:00",null,"00:00:00","00:00:00"]
[null,{"$f":"IFERROR(VLOOKUP(A192,'Banco de Funcionários'!$A$2:$D$1048576,2,0),0)","v":0},null,null,null,null,null,"00:00:00",null,"00:00:00","00:00:00"]
[null,{"$f":"IFERROR(VLOOKUP(A193,'Banco de Funcionários'!$A$2:$D$1048576,2,0),0)","v":0},null,null,null,null,null,"00:00:00",null,"00:00:00","00:00:00"]
[null,{"$f":"IFERROR(VLOOKUP(A194,'Banco de Funcionários'!$A$2:$D$1048576,2,0),0)","v":0},null,null,null,null,null,"00:00:00",null,"00:00:00","00:00:00"]
[null,{"$f":"IFERROR(VLOOKUP(A195,'Banco de Funcionários'!$A$2:$D$1048576,2,0),0)","v":0},null,null,null,null,null,{"$f":"(F195-E195)-G195","v":"00:00:00"},null,{"$f":"IFERROR(H195-I195,\"\")","v":"00:00:00"},{"$f":"IFERROR(H195+J195,0)","v":"00:00:00"}]
[null,{"$f":"IFERROR(VLOOKUP(A196,'Banco de Funcionários'!$A$2:$D$1048576,2,0),0)","v":0},null,null,null,null,null,"00:00:00",null,"00:00:00","00:00:00"]
[null,{"$f":"IFERROR(VLOOKUP(A197,'Banco de Funcionários'!$A$2:$D$1048576,2,0),0)","v":0},null,null,null,null,null,"00:00:00",null,"00:00:00","00:00:00"]
[null,{"$f":"IFERROR(VLOOKUP(A198,'Banco de Funcionários'!$A$2:$D$1048576,2,0),0)","v":0},null,null,null,null,null,"00:00:00",null,"00:00:00","00:00:00"]
[null,{"$f":"IFERROR(VLOOKUP(A199,'Banco de Funcionários'!$A$2:$D$1048576,2,0),0)","v":0},null,null,null,null,null,"00:00:00",null,"00:00:00","00:00:00"]
[null,{"$f":"IFERROR(VLOOKUP(A200,'Banco de Funcionários'!$A$2:$D$1048576,2,0),0)","v":0},null,null,null,null,null,"00:00:00",null,"00:00:00","00:00:00"]
[null,{"$f":"IFERROR(VLOOKUP(A201,'Banco de Funcionários'!$A$2:$D$1048576,2,0),0)","v":0},null,null,null,null,null,"00:00:00",null,"00:00:00","00:00:00"]
[null,{"$f":"IFERROR(VLOOKUP(A202,'Banco de Funcionários'!$A$2:$D$1048576,2,0),0)","v":0},null,null,null,null,null,"00:00:00",null,"00:00:00","00:00:00"]
[null,{"$f":"IFERROR(VLOOKUP(A203,'Banco de Funcionários'!$A$2:$D$1048576,2,0),0)","v":0},null,null,null,null,null,"00:00:00",null,"00:00:00","00:00:00"]
[null,{"$f":"IFERROR(VLOOKUP(A204,'Banco de Funcionários'!$A$2:$D$1048576,2,0),0)","v":0},null,null,null,null,null,"00:00:00",null,"00:00:00","00:00:00"]
[null,{"$f":"IFERROR(VLOOKUP(A205,'Banco de Funcionários'!$A$2:$D$1048576,2,0),0)","v":0},null,null,null,null,null,"00:00:00",null,"00:00:00","00:00:00"]
[null,{"$f":"IFERROR(VLOOKUP(A206,'Banco de Funcionários'!$A$2:$D$1048576,2,0),0)","v":0},null,null,null,null,null,"00:00:00",null,"00:00:00","00:00:00"]
[null,{"$f":"IFERROR(VLOOKUP(A207,'Banco de Funcionários'!$A$2:$D$1048576,2,0),0)","v":0},null,null,null,null,null,"00:00:00",null,"00:00:00","00:00:00"]
[null,{"$f":"IFERROR(VLOOKUP(A208,'Banco de Funcionários'!$A$2:$D$1048576,2,0),0)","v":0},null,null,null,null,null,"00:00:00",null,"00:00:00","00:00:00"]
[null,{"$f":"IFERROR(VLOOKUP(A209,'Banco de Funcionários'!$A$2:$D$1048576,2,0),0)","v":0},null,null,null,null,null,"00:00:00",null,"00:00:00","00:00:00"]
[null,{"$f":"IFERROR(VLOOKUP(A210,'Banco de Funcionários'!$A$2:$D$1048576,2,0),0)","v":0},null,null,null,null,null,"00:00:00",null,"00:00:00","00:00:00"]
[null,{"$f":"IFERROR(VLOOKUP(A211,'Banco de Funcionários'!$A$2:$D$1048576,2,0),0)","v":0},null,null,null,null,null,"00:00:00",null,"00:00:00","00:00:00"]
[null,{"$f":"IFERROR(VLOOKUP(A212,'Banco de Funcionários'!$A$2:$D$1048576,2,0),0)","v":0},null,null,null,null,null,"00:00:00",null,"00:00:00","00:00:00"]
[null,{"$f":"IFERROR(VLOOKUP(A213,'Banco de Funcionários'!$A$2:$D$1048576,2,0),0)","v":0},null,null,null,null,null,"00:00:00",null,"00:00:00","00:00:00"]
[null,{"$f":"IFERROR(VLOOKUP(A214,'Banco de Funcionários'!$A$2:$D$1048576,2,0),0)","v":0},null,null,null,null,null,"00:00:00",null,"00:00:00","00:00:00"]
[null,{"$f":"IFERROR(VLOOKUP(A215,'Banco de Funcionários'!$A$2:$D$1048576,2,0),0)","v":0},null,null,null,null,null,"00:00:00",null,"00:00:00","00:00:00"]
[null,{"$f":"IFERROR(VLOOKUP(A216,'Banco de Funcionários'!$A$2:$D$1048576,2,0),0)","v":0},null,null,null,null,null,"00:00:00",null,"00:00:00","00:00:00"]
[null,{"$f":"IFERROR(VLOOKUP(A217,'Banco de Funcionários'!$A$2:$D$1048576,2,0),0)","v":0},null,null,null,null,null,"00:00:00",null,"00:00:00","00:00:00"]
[null,{"$f":"IFERROR(VLOOKUP(A218,'Banco de Funcionários'!$A$2:$D$1048576,2,0),0)","v":0},null,null,null,null,null,"00:00:00",null,"00:00:00","00:00:00"]
[null,{"$f":"IFERROR(VLOOKUP(A219,'Banco de Funcionários'!$A$2:$D$1048576,2,0),0)","v":0},null,null,null,null,null,"00:00:00",null,"00:00:00","00:00:00"]
[null,{"$f":"IFERROR(VLOOKUP(A220,'Banco de Funcionários'!$A$2:$D$1048576,2,0),0)","v":0},null,null,null,null,null,"00:00:00",null,"00:00:00","00:00:00"]
[null,{"$f":"IFERROR(VLOOKUP(A221,'Banco de Funcionários'!$A$2:$D$1048576,2,0),0)","v":0},null,null,null,null,null,"00:00:00",null,"00:00:00","00:00:00"]
[null,{"$f":"IFERROR(VLOOKUP(A222,'Banco de Funcionários'!$A$2:$D$1048576,2,0),0)","v":0},null,null,null,null,null,"00:00:00",null,"00:00:00","00:00:00"]
[null,{"$f":"IFERROR(VLOOKUP(A223,'Banco de Funcionários'!$A$2:$D$1048576,2,0),0)","v":0},null,null,null,null,null,"00:00:00",null,"00:00:00","00:00:00"]
[null,{"$f":"IFERROR(VLOOKUP(A224,'Banco de Funcionários'!$A$2:$D$1048576,2,0),0)","v":0},null,null,null,null,null,"00:00:00",null,"00:00:00","00:00:00"]
[null,{"$f":"IFERROR(VLOOKUP(A225,'Banco de Funcionários'!$A$2:$D$1048576,2,0),0)","v":0},null,null,null,null,null,"00:00:00",null,"00:00:00","00:00:00"]
[null,{"$f":"IFERROR(VLOOKUP(A226,'Banco de Funcionários'!$A$2:$D$1048576,2,0),0)","v":0},null,null,null,null,null,"00:00:00",null,"00:00:00","00:00:00"]
[null,{"$f":"IFERROR(VLOOKUP(A227,'Banco de Funcionários'!$A$2:$D$1048576,2,0),0)","v":0},null,null,null,null,null,"00:00:00",null,"00:00:00","00:00:00"]
[null,{"$f":"IFERROR(VLOOKUP(A228,'Banco de Funcionários'!$A$2:$D$1048576,2,0),0)","v":0},null,null,null,null,null,"00:00:00",null,"00:00:00","00:00:00"]
[null,{"$f":"IFERROR(VLOOKUP(A229,'Banco de Funcionários'!$A$2:$D$1048576,2,0),0)","v":0},null,null,null,null,null,"00:00:00",null,"00:00:00","00:00:00"]
[null,{"$f":"IFERROR(VLOOKUP(A230,'Banco de Funcionários'!$A$2:$D$1048576,2,0),0)","v":0},null,null,null,null,null,"00:00:00",null,"00:00:00","00:00:00"]
[null,{"$f":"IFERROR(VLOOKUP(A231,'Banco de Funcionários'!$A$2:$D$1048576,2,0),0)","v":0},null,null,null,null,null,"00:00:00",null,"00:00:00","00:00:00"]
[null,{"$f":"IFERROR(VLOOKUP(A232,'Banco de Funcionários'!$A$2:$D$1048576,2,0),0)","v":0},null,null,null,null,null,"00:00:00",null,"00:00:00","00:00:00"]
[null,{"$f":"IFERROR(VLOOKUP(A233,'Banco de Funcionários'!$A$2:$D$1048576,2,0),0)","v":0},null,null,null,null,null,"00:00:00",null,"00:00:00","00:00:00"]
[null,{"$f":"IFERROR(VLOOKUP(A234,'Banco de Funcionários'!$A$2:$D$1048576,2,0),0)","v":0},null,null,null,null,null,"00:00:00",null,"00:00:00","00:00:00"]
[null,{"$f":"IFERROR(VLOOKUP(A235,'Banco de Funcionários'!$A$2:$D$1048576,2,0),0)","v":0},null,null,null,null,null,"00:00:00",null,"00:00:00","00:00:00"]
[null,{"$f":"IFERROR(VLOOKUP(A236,'Banco de Funcionários'!$A$2:$D$1048576,2,0),0)","v":0},null,null,null,null,null,"00:00:00",null,"00:00:00","00:00:00"]
[null,{"$f":"IFERROR(VLOOKUP(A237,'Banco de Funcionários'!$A$2:$D$1048576,2,0),0)","v":0},null,null,null,null,null,"00:00:00",null,"00:00:00","00:00:00"]
[null,{"$f":"IFERROR(VLOOKUP(A238,'Banco de Funcionários'!$A$2:$D$1048576,2,0),0)","v":0},null,null,null,null,null,"00:00:00",null,"00:00:00","00:00:00"]
[null,{"$f":"IFERROR(VLOOKUP(A239,'Banco de Funcionários'!$A$2:$D$1048576,2,0),0)","v":0},null,null,null,null,null,"00:00:00",null,"00:00:00","00:00:00"]
[null,{"$f":"IFERROR(VLOOKUP(A240,'Banco de Funcionários'!$A$2:$D$1048576,2,0),0)","v":0},null,null,null,null,null,"00:00:00",null,"00:00:00","00:00:00"]
[null,{"$f":"IFERROR(VLOOKUP(A241,'Banco de Funcionários'!$A$2:$D$1048576,2,0),0)","v":0},null,null,null,null,null,"00:00:00",null,"00:00:00","00:00:00"]
[null,{"$f":"IFERROR(VLOOKUP(A242,'Banco de Funcionários'!$A$2:$D$1048576,2,0),0)","v":0},null,null,null,null,null,"00:00:00",null,"00:00:00","00:00:00"]
[null,{"$f":"IFERROR(VLOOKUP(A243,'Banco de Funcionários'!$A$2:$D$1048576,2,0),0)","v":0},null,null,null,null,null,"00:00:00",null,"00:00:00","00:00:00"]
[null,{"$f":"IFERROR(VLOOKUP(A244,'Banco de Funcionários'!$A$2:$D$1048576,2,0),0)","v":0},null,null,null,null,null,"00:00:00",null,"00:00:00","00:00:00"]
[null,{"$f":"IFERROR(VLOOKUP(A245,'Banco de Funcionários'!$A$2:$D$1048576,2,0),0)","v":0},null,null,null,null,null,"00:00:00",null,"00:00:00","00:00:00"]
[null,{"$f":"IFERROR(VLOOKUP(A246,'Banco de Funcionários'!$A$2:$D$1048576,2,0),0)","v":0},null,null,null,null,null,"00:00:00",null,"00:00:00","00:00:00"]
[null,{"$f":"IFERROR(VLOOKUP(A247,'Banco de Funcionários'!$A$2:$D$1048576,2,0),0)","v":0},null,null,null,null,null,"00:00:00",null,"00:00:00","00:00:00"]
[null,{"$f":"IFERROR(VLOOKUP(A248,'Banco de Funcionários'!$A$2:$D$1048576,2,0),0)","v":0},null,null,null,null,null,"00:00:00",null,"00:00:00","00:00:00"]
[null,{"$f":"IFERROR(VLOOKUP(A249,'Banco de Funcionários'!$A$2:$D$1048576,2,0),0)","v":0},null,null,null,null,null,"00:00:00",null,"00:00:00","00:00:00"]
[null,{"$f":"IFERROR(VLOOKUP(A250,'Banco de Funcionários'!$A$2:$D$1048576,2,0),0)","v":0},null,null,null,null,null,"00:00:00",null,"00:00:00","00:00:00"]
[null,{"$f":"IFERROR(VLOOKUP(A251,'Banco de Funcionários'!$A$2:$D$1048576,2,0),0)","v":0},null,null,null,null,null,"00:00:00",null,"00:00:00","00:00:00"]
[null,{"$f":"IFERROR(VLOOKUP(A252,'Banco de Funcionários'!$A$2:$D$1048576,2,0),0)","v":0},null,null,null,null,null,"00:00:00",null,"00:00:00","00:00:00"]
[null,{"$f":"IFERROR(VLOOKUP(A253,'Banco de Funcionários'!$A$2:$D$1048576,2,0),0)","v":0},null,null,null,null,null,"00:00:00",null,"00:00:00","00:00:00"]
[null,{"$f":"IFERROR(VLOOKUP(A254,'Banco de Funcionários'!$A$2:$D$1048576,2,0),0)","v":0},null,null,null,null,null,"00:00:00",null,"00:00:00","00:00:00"]
[null,{"$f":"IFERROR(VLOOKUP(A255,'Banco de Funcionários'!$A$2:$D$1048576,2,0),0)","v":0},null,null,null,null,null,"00:00:00",null,"00:00:00","00:00:00"]
[null,{"$f":"IFERROR(VLOOKUP(A256,'Banco de Funcionários'!$A$2:$D$1048576,2,0),0)","v":0},null,null,null,null,null,"00:00:00",null,"00:00:00","00:00:00"]
[null,{"$f":"IFERROR(VLOOKUP(A257,'Banco de Funcionários'!$A$2:$D$1048576,2,0),0)","v":0},null,null,null,null,null,"00:00:00",null,"00:00:00","00:00:00"]
[null,{"$f":"IFERROR(VLOOKUP(A258,'Banco de Funcionários'!$A$2:$D$1048576,2,0),0)","v":0},null,null,null,null,null,"00:00:00",null,"00:00:00","00:00:00"]
[null,{"$f":"IFERROR(VLOOKUP(A259,'Banco de Funcionários'!$A$2:$D$1048576,2,0),0)","v":0},null,null,null,null,null,{"$f":"(F259-E259)-G259","v":"00:00:00"},null,{"$f":"IFERROR(H259-I259,\"\")","v":"00:00:00"},{"$f":"IFERROR(H259+J259,0)","v":"00:00:00"}]
[null,{"$f":"IFERROR(VLOOKUP(A260,'Banco de Funcionários'!$A$2:$D$1048576,2,0),0)","v":0},null,null,null,null,null,"00:00:00",null,"00:00:00","00:00:00"]
[null,{"$f":"IFERROR(VLOOKUP(A261,'Banco de Funcionários'!$A$2:$D$1048576,2,0),0)","v":0},null,null,null,null,null,"00:00:00",null,"00:00:00","00:00:00"]
[null,{"$f":"IFERROR(VLOOKUP(A262,'Banco de Funcionários'!$A$2:$D$1048576,2,0),0)","v":0},null,null,null,null,null,"00:00:00",null,"00:00:00","00:00:00"]
[null,{"$f":"IFERROR(VLOOKUP(A263,'Banco de Funcionários'!$A$2:$D$1048576,2,0),0)","v":0},null,null,null,null,null,"00:00:00",null,"00:00:00","00:00:00"]
[null,{"$f":"IFERROR(VLOOKUP(A264,'Banco de Funcionários'!$A$2:$D$1048576,2,0),0)","v":0},null,null,null,null,null,"00:00:00",null,"00:00:00","00:00:00"]
[null,{"$f":"IFERROR(VLOOKUP(A265,'Banco de Funcionários'!$A$2:$D$1048576,2,0),0)","v":0},null,null,null,null,null,"00:00:00",null,"00:00:00","00:00:00"]
[null,{"$f":"IFERROR(VLOOKUP(A266,'Banco de Funcionários'!$A$2:$D$1048576,2,0),0)","v":0},null,null,null,null,null,"00:00:00",null,"00:00:00","00:00:00"]
[null,{"$f":"IFERROR(VLOOKUP(A267,'Banco de Funcionários'!$A$2:$D$1048576,2,0),0)","v":0},null,null,null,null,null,"00:00:00",null,"00:00:00","00:00:00"]
[null,{"$f":"IFERROR(VLOOKUP(A268,'Banco de Funcionários'!$A$2:$D$1048576,2,0),0)","v":0},null,null,null,null,null,"00:00:00",null,"00:00:00","00:00:00"]
[null,{"$f":"IFERROR(VLOOKUP(A269,'Banco de Funcionários'!$A$2:$D$1048576,2,0),0)","v":0},null,null,null,null,null,"00:00:00",null,"00:00:00","00:00:00"]
[null,{"$f":"IFERROR(VLOOKUP(A270,'Banco de Funcionários'!$A$2:$D$1048576,2,0),0)","v":0},null,null,null,null,null,"00:00:00",null,"00:00:00","00:00:00"]
[null,{"$f":"IFERROR(VLOOKUP(A271,'Banco de Funcionários'!$A$2:$D$1048576,2,0),0)","v":0},null,null,null,null,null,"00:00:00",null,"00:00:00","00:00:00"]
[null,{"$f":"IFERROR(VLOOKUP(A272,'Banco de Funcionários'!$A$2:$D$1048576,2,0),0)","v":0},null,null,null,null,null,"00:00:00",null,"00:00:00","00:00:00"]
[null,{"$f":"IFERROR(VLOOKUP(A273,'Banco de Funcionários'!$A$2:$D$1048576,2,0),0)","v":0},null,null,null,null,null,"00:00:00",null,"00:00:00","00:00:00"]
[null,{"$f":"IFERROR(VLOOKUP(A274,'Banco de Funcionários'!$A$2:$D$1048576,2,0),0)","v":0},null,null,null,null,null,"00:00:00",null,"00:00:00","00:00:00"]
[null,{"$f":"IFERROR(VLOOKUP(A275,'Banco de Funcionários'!$A$2:$D$1048576,2,0),0)","v":0},null,null,null,null,null,"00:00:00",null,"00:00:00","00:00:00"]
[null,{"$f":"IFERROR(VLOOKUP(A276,'Banco de Funcionários'!$A$2:$D$1048576,2,0),0)","v":0},null,null,null,null,null,"00:00:00",null,"00:00:00","00:00:00"]
[null,{"$f":"IFERROR(VLOOKUP(A277,'Banco de Funcionários'!$A$2:$D$1048576,2,0),0)","v":0},null,null,null,null,null,"00:00:00",null,"00:00:00","00:00:00"]
[null,{"$f":"IFERROR(VLOOKUP(A278,'Banco de Funcionários'!$A$2:$D$1048576,2,0),0)","v":0},null,null,null,null,null,"00:00:00",null,"00:00:00","00:00:00"]
[null,{"$f":"IFERROR(VLOOKUP(A279,'Banco de Funcionários'!$A$2:$D$1048576,2,0),0)","v":0},null,null,null,null,null,"00:00:00",null,"00:00:00","00:00:00"]
[null,{"$f":"IFERROR(VLOOKUP(A280,'Banco de Funcionários'!$A$2:$D$1048576,2,0),0)","v":0},null,null,null,null,null,"00:00:00",null,"00:00:00","00:00:00"]
[null,{"$f":"IFERROR(VLOOKUP(A281,'Banco de Funcionários'!$A$2:$D$1048576,2,0),0)","v":0},null,null,null,null,null,"00:00:00",null,"00:00:00","00:00:00"]
[null,{"$f":"IFERROR(VLOOKUP(A282,'Banco de Funcionários'!$A$2:$D$1048576,2,0),0)","v":0},null,null,null,null,null,"00:00:00",null,"00:00:00","00:00:00"]
[null,{"$f":"IFERROR(VLOOKUP(A283,'Banco de Funcionários'!$A$2:$D$1048576,2,0),0)","v":0},null,null,null,null,null,"00:00:00",null,"00:00:00","00:00:00"]
[null,{"$f":"IFERROR(VLOOKUP(A284,'Banco de Funcionários'!$A$2:$D$1048576,2,0),0)","v":0},null,null,null,null,null,"00:00:00",null,"00:00:00","00:00:00"]
[null,{"$f":"IFERROR(VLOOKUP(A285,'Banco de Funcionários'!$A$2:$D$1048576,2,0),0)","v":0},null,null,null,null,null,"00:00:00",null,"00:00:00","00:00:00"]
[null,{"$f":"IFERROR(VLOOKUP(A286,'Banco de Funcionários'!$A$2:$D$1048576,2,0),0)","v":0},null,null,null,null,null,"00:00:00",null,"00:00:00","00:00:00"]
[null,{"$f":"IFERROR(VLOOKUP(A287,'Banco de Funcionários'!$A$2:$D$1048576,2,0),0)","v":0},null,null,null,null,null,"00:00:00",null,"00:00:00","00:00:00"]
[null,{"$f":"IFERROR(VLOOKUP(A288,'Banco de Funcionários'!$A$2:$D$1048576,2,0),0)","v":0},null,null,null,null,null,"00:00:00",null,"00:00:00","00:00:00"]
[null,{"$f":"IFERROR(VLOOKUP(A289,'Banco de Funcionários'!$A$2:$D$1048576,2,0),0)","v":0},null,null,null,null,null,"00:00:00",null,"00:00:00","00:00:00"]
[null,{"$f":"IFERROR(VLOOKUP(A290,'Banco de Funcionários'!$A$2:$D$1048576,2,0),0)","v":0},null,null,null,null,null,"00:00:00",null,"00:00:00","00:00:00"]
[null,{"$f":"IFERROR(VLOOKUP(A291,'Banco de Funcionários'!$A$2:$D$1048576,2,0),0)","v":0},null,null,null,null,null,"00:00:00",null,"00:00:00","00:00:00"]
[null,{"$f":"IFERROR(VLOOKUP(A292,'Banco de Funcionários'!$A$2:$D$1048576,2,0),0)","v":0},null,null,null,null,null,"00:00:00",null,"00:00:00","00:00:00"]
[null,{"$f":"IFERROR(VLOOKUP(A293,'Banco de Funcionários'!$A$2:$D$1048576,2,0),0)","v":0},null,null,null,null,null,"00:00:00",null,"00:00:00","00:00:00"]
[null,{"$f":"IFERROR(VLOOKUP(A294,'Banco de Funcionários'!$A$2:$D$1048576,2,0),0)","v":0},null,null,null,null,null,"00:00:00",null,"00:00:00","00:00:00"]
[null,{"$f":"IFERROR(VLOOKUP(A295,'Banco de Funcionários'!$A$2:$D$1048576,2,0),0)","v":0},null,null,null,null,null,"00:00:00",null,"00:00:00","00:00:00"]
[null,{"$f":"IFERROR(VLOOKUP(A296,'Banco de Funcionários'!$A$2:$D$1048576,2,0),0)","v":0},null,null,null,null,null,"00:00:00",null,"00:00:00","00:00:00"]
[null,{"$f":"IFERROR(VLOOKUP(A297,'Banco de Funcionários'!$A$2:$D$1048576,2,0),0)","v":0},null,null,null,null,null,"00:00:00",null,"00:00:00","00:00:00"]
[null,{"$f":"IFERROR(VLOOKUP(A298,'Banco de Funcionários'!$A$2:$D$1048576,2,0),0)","v":0},null,null,null,null,null,"00:00:00",null,"00:00:00","00:00:00"]
[null,{"$f":"IFERROR(VLOOKUP(A299,'Banco de Funcionários'!$A$2:$D$1048576,2,0),0)","v":0},null,null,null,null,null,"00:00:00",null,"00:00:00","00:00:00"]
[null,{"$f":"IFERROR(VLOOKUP(A300,'Banco de Funcionários'!$A$2:$D$1048576,2,0),0)","v":0},null,null,null,null,null,"00:00:00",null,"00:00:00","00:00:00"]
[null,{"$f":"IFERROR(VLOOKUP(A301,'Banco de Funcionários'!$A$2:$D$1048576,2,0),0)","v":0},null,null,null,null,null,"00:00:00",null,"00:00:00","00:00:00"]
[null,{"$f":"IFERROR(VLOOKUP(A302,'Banco de Funcionários'!$A$2:$D$1048576,2,0),0)","v":0},null,null,null,null,null,"00:00:00",null,"00:00:00","00:00:00"]
[null,{"$f":"IFERROR(VLOOKUP(A303,'Banco de Funcionários'!$A$2:$D$1048576,2,0),0)","v":0},null,null,null,null,null,"00:00:00",null,"00:00:00","00:00:00"]
[null,{"$f":"IFERROR(VLOOKUP(A304,'Banco de Funcionários'!$A$2:$D$1048576,2,0),0)","v":0},null,null,null,null,null,"00:00:00",null,"00:00:00","00:00:00"]
[null,{"$f":"IFERROR(VLOOKUP(A305,'Banco de Funcionários'!$A$2:$D$1048576,2,0),0)","v":0},null,null,null,null,null,"00:00:00",null,"00:00:00","00:00:00"]
[null,{"$f":"IFERROR(VLOOKUP(A306,'Banco de Funcionários'!$A$2:$D$1048576,2,0),0)","v":0},null,null,null,null,null,"00:00:00",null,"00:00:00","00:00:00"]
[null,{"$f":"IFERROR(VLOOKUP(A307,'Banco de Funcionários'!$A$2:$D$1048576,2,0),0)","v":0},null,null,null,null,null,"00:00:00",null,"00:00:00","00:00:00"]
[null,{"$f":"IFERROR(VLOOKUP(A308,'Banco de Funcionários'!$A$2:$D$1048576,2,0),0)","v":0},null,null,null,null,null,"00:00:00",null,"00:00:00","00:00:00"]
[null,{"$f":"IFERROR(VLOOKUP(A309,'Banco de Funcionários'!$A$2:$D$1048576,2,0),0)","v":0},null,null,null,null,null,"00:00:00",null,"00:00:00","00:00:00"]
[null,{"$f":"IFERROR(VLOOKUP(A310,'Banco de Funcionários'!$A$2:$D$1048576,2,0),0)","v":0},null,null,null,null,null,"00:00:00",null,"00:00:00","00:00:00"]
[null,{"$f":"IFERROR(VLOOKUP(A311,'Banco de Funcionários'!$A$2:$D$1048576,2,0),0)","v":0},null,null,null,null,null,"00:00:00",null,"00:00:00","00:00:00"]
[null,{"$f":"IFERROR(VLOOKUP(A312,'Banco de Funcionários'!$A$2:$D$1048576,2,0),0)","v":0},null,null,null,null,null,"00:00:00",null,"00:00:00","00:00:00"]
[null,{"$f":"IFERROR(VLOOKUP(A313,'Banco de Funcionários'!$A$2:$D$1048576,2,0),0)","v":0},null,null,null,null,null,"00:00:00",null,"00:00:00","00:00:00"]
[null,{"$f":"IFERROR(VLOOKUP(A314,'Banco de Funcionários'!$A$2:$D$1048576,2,0),0)","v":0},null,null,null,null,null,"00:00:00",null,"00:00:00","00:00:00"]
[null,{"$f":"IFERROR(VLOOKUP(A315,'Banco de Funcionários'!$A$2:$D$1048576,2,0),0)","v":0},null,null,null,null,null,"00:00:00",null,"00:00:00","00:00:00"]
[null,{"$f":"IFERROR(VLOOKUP(A316,'Banco de Funcionários'!$A$2:$D$1048576,2,0),0)","v":0},null,null,null,null,null,"00:00:00",null,"00:00:00","00:00:00"]
[null,{"$f":"IFERROR(VLOOKUP(A317,'Banco de Funcionários'!$A$2:$D$1048576,2,0),0)","v":0},null,null,null,null,null,"00:00:00",null,"00:00:00","00:00:00"]
[null,{"$f":"IFERROR(VLOOKUP(A318,'Banco de Funcionários'!$A$2:$D$1048576,2,0),0)","v":0},null,null,null,null,null,"00:00:00",null,"00:00:00","00:00:00"]
[null,{"$f":"IFERROR(VLOOKUP(A319,'Banco de Funcionários'!$A$2:$D$1048576,2,0),0)","v":0},null,null,null,null,null,"00:00:00",null,"00:00:00","00:00:00"]
[null,{"$f":"IFERROR(VLOOKUP(A320,'Banco de Funcionários'!$A$2:$D$1048576,2,0),0)","v":0},null,null,null,null,null,"00:00:00",null,"00:00:00","00:00:00"]
[null,{"$f":"IFERROR(VLOOKUP(A321,'Banco de Funcionários'!$A$2:$D$1048576,2,0),0)","v":0},null,null,null,null,null,"00:00:00",null,"00:00:00","00:00:00"]
[null,{"$f":"IFERROR(VLOOKUP(A322,'Banco de Funcionários'!$A$2:$D$1048576,2,0),0)","v":0},null,null,null,null,null,"00:00:00",null,"00:00:00","00:00:00"]
[null,{"$f":"IFERROR(VLOOKUP(A323,'Banco de Funcionários'!$A$2:$D$1048576,2,0),0)","v":0},null,null,null,null,null,{"$f":"(F323-E323)-G323","v":"00:00:00"},null,{"$f":"IFERROR(H323-I323,\"\")","v":"00:00:00"},{"$f":"IFERROR(H323+J323,0)","v":"00:00:00"}]
[null,{"$f":"IFERROR(VLOOKUP(A324,'Banco de Funcionários'!$A$2:$D$1048576,2,0),0)","v":0},null,null,null,null,null,"00:00:00",null,"00:00:00","00:00:00"]
[null,{"$f":"IFERROR(VLOOKUP(A325,'Banco de Funcionários'!$A$2:$D$1048576,2,0),0)","v":0},null,null,null,null,null,"00:00:00",null,"00:00:00","00:00:00"]
[null,{"$f":"IFERROR(VLOOKUP(A326,'Banco de Funcionários'!$A$2:$D$1048576,2,0),0)","v":0},null,null,null,null,null,"00:00:00",null,"00:00:00","00:00:00"]
[null,{"$f":"IFERROR(VLOOKUP(A327,'Banco de Funcionários'!$A$2:$D$1048576,2,0),0)","v":0},null,null,null,null,null,"00:00:00",null,"00:00:00","00:00:00"]
[null,{"$f":"IFERROR(VLOOKUP(A328,'Banco de Funcionários'!$A$2:$D$1048576,2,0),0)","v":0},null,null,null,null,null,"00:00:00",null,"00:00:00","00:00:00"]
[null,{"$f":"IFERROR(VLOOKUP(A329,'Banco de Funcionários'!$A$2:$D$1048576,2,0),0)","v":0},null,null,null,null,null,"00:00:00",null,"00:00:00","00:00:00"]
[null,{"$f":"IFERROR(VLOOKUP(A330,'Banco de Funcionários'!$A$2:$D$1048576,2,0),0)","v":0},null,null,null,null,null,"00:00:00",null,"00:00:00","00:00:00"]
[null,{"$f":"IFERROR(VLOOKUP(A331,'Banco de Funcionários'!$A$2:$D$1048576,2,0),0)","v":0},null,null,null,null,null,"00:00:00",null,"00:00:00","00:00:00"]
[null,{"$f":"IFERROR(VLOOKUP(A332,'Banco de Funcionários'!$A$2:$D$1048576,2,0),0)","v":0},null,null,null,null,null,"00:00:00",null,"00:00:00","00:00:00"]
[null,{"$f":"IFERROR(VLOOKUP(A333,'Banco de Funcionários'!$A$2:$D$1048576,2,0),0)","v":0},null,null,null,null,null,"00:00:00",null,"00:00:00","00:00:00"]
[null,{"$f":"IFERROR(VLOOKUP(A334,'Banco de Funcionários'!$A$2:$D$1048576,2,0),0)","v":0},null,null,null,null,null,"00:00:00",null,"00:00:00","00:00:00"]
[null,{"$f":"IFERROR(VLOOKUP(A335,'Banco de Funcionários'!$A$2:$D$1048576,2,0),0)","v":0},null,null,null,null,null,"00:00:00",null,"00:00:00","00:00:00"]
[null,{"$f":"IFERROR(VLOOKUP(A336,'Banco de Funcionários'!$A$2:$D$1048576,2,0),0)","v":0},null,null,null,null,null,"00:00:00",null,"00:00:00","00:00:00"]
[null,{"$f":"IFERROR(VLOOKUP(A337,'Banco de Funcionários'!$A$2:$D$1048576,2,0),0)","v":0},null,null,null,null,null,"00:00:00",null,"00:00:00","00:00:00"]
[null,{"$f":"IFERROR(VLOOKUP(A338,'Banco de Funcionários'!$A$2:$D$1048576,2,0),0)","v":0},null,null,null,null,null,"00:00:00",null,"00:00:00","00:00:00"]
[null,{"$f":"IFERROR(VLOOKUP(A339,'Banco de Funcionários'!$A$2:$D$1048576,2,0),0)","v":0},null,null,null,null,null,"00:00:00",null,"00:00:00","00:00:00"]
[null,{"$f":"IFERROR(VLOOKUP(A340,'Banco de Funcionários'!$A$2:$D$1048576,2,0),0)","v":0},null,null,null,null,null,"00:00:00",null,"00:00:00","00:00:00"]
[null,{"$f":"IFERROR(VLOOKUP(A341,'Banco de Funcionários'!$A$2:$D$1048576,2,0),0)","v":0},null,null,null,null,null,"00:00:00",null,"00:00:00","00:00:00"]
[null,{"$f":"IFERROR(VLOOKUP(A342,'Banco de Funcionários'!$A$2:$D$1048576,2,0),0)","v":0},null,null,null,null,null,"00:00:00",null,"00:00:00","00:00:00"]
[null,{"$f":"IFERROR(VLOOKUP(A343,'Banco de Funcionários'!$A$2:$D$1048576,2,0),0)","v":0},null,null,null,null,null,"00:00:00",null,"00:00:00","00:00:00"]
[null,{"$f":"IFERROR(VLOOKUP(A344,'Banco de Funcionários'!$A$2:$D$1048576,2,0),0)","v":0},null,null,null,null,null,"00:00:00",null,"00:00:00","00:00:00"]
[null,{"$f":"IFERROR(VLOOKUP(A345,'Banco de Funcionários'!$A$2:$D$1048576,2,0),0)","v":0},null,null,null,null,null,"00:00:00",null,"00:00:00","00:00:00"]
[null,{"$f":"IFERROR(VLOOKUP(A346,'Banco de Funcionários'!$A$2:$D$1048576,2,0),0)","v":0},null,null,null,null,null,"00:00:00",null,"00:00:00","00:00:00"]
[null,{"$f":"IFERROR(VLOOKUP(A347,'Banco de Funcionários'!$A$2:$D$1048576,2,0),0)","v":0},null,null,null,null,null,"00:00:00",null,"00:00:00","00:00:00"]
[null,{"$f":"IFERROR(VLOOKUP(A348,'Banco de Funcionários'!$A$2:$D$1048576,2,0),0)","v":0},null,null,null,null,null,"00:00:00",null,"00:00:00","00:00:00"]
[null,{"$f":"IFERROR(VLOOKUP(A349,'Banco de Funcionários'!$A$2:$D$1048576,2,0),0)","v":0},null,null,null,null,null,"00:00:00",null,"00:00:00","00:00:00"]
[null,{"$f":"IFERROR(VLOOKUP(A350,'Banco de Funcionários'!$A$2:$D$1048576,2,0),0)","v":0},null,null,null,null,null,"00:00:00",null,"00:00:00","00:00:00"]
[null,{"$f":"IFERROR(VLOOKUP(A351,'Banco de Funcionários'!$A$2:$D$1048576,2,0),0)","v":0},null,null,null,null,null,"00:00:00",null,"00:00:00","00:00:00"]
[null,{"$f":"IFERROR(VLOOKUP(A352,'Banco de Funcionários'!$A$2:$D$1048576,2,0),0)","v":0},null,null,null,null,null,"00:00:00",null,"00:00:00","00:00:00"]
[null,{"$f":"IFERROR(VLOOKUP(A353,'Banco de Funcionários'!$A$2:$D$1048576,2,0),0)","v":0},null,null,null,null,null,"00:00:00",null,"00:00:00","00:00:00"]
[null,{"$f":"IFERROR(VLOOKUP(A354,'Banco de Funcionários'!$A$2:$D$1048576,2,0),0)","v":0},null,null,null,null,null,"00:00:00",null,"00:00:00","00:00:00"]
[null,{"$f":"IFERROR(VLOOKUP(A355,'Banco de Funcionários'!$A$2:$D$1048576,2,0),0)","v":0},null,null,null,null,null,"00:00:00",null,"00:00:00","00:00:00"]
[null,{"$f":"IFERROR(VLOOKUP(A356,'Banco de Funcionários'!$A$2:$D$1048576,2,0),0)","v":0},null,null,null,null,null,"00:00:00",null,"00:00:00","00:00:00"]
[null,{"$f":"IFERROR(VLOOKUP(A357,'Banco de Funcionários'!$A$2:$D$1048576,2,0),0)","v":0},null,null,null,null,null,"00:00:00",null,"00:00:00","00:00:00"]
[null,{"$f":"IFERROR(VLOOKUP(A358,'Banco de Funcionários'!$A$2:$D$1048576,2,0),0)","v":0},null,null,null,null,null,"00:00:00",null,"00:00:00","00:00:00"]
[null,{"$f":"IFERROR(VLOOKUP(A359,'Banco de Funcionários'!$A$2:$D$1048576,2,0),0)","v":0},null,null,null,null,null,"00:00:00",null,"00:00:00","00:00:00"]
[null,{"$f":"IFERROR(VLOOKUP(A360,'Banco de Funcionários'!$A$2:$D$1048576,2,0),0)","v":0},null,null,null,null,null,"00:00:00",null,"00:00:00","00:00:00"]
[null,{"$f":"IFERROR(VLOOKUP(A361,'Banco de Funcionários'!$A$2:$D$1048576,2,0),0)","v":0},null,null,null,null,null,"00:00:00",null,"00:00:00","00:00:00"]
[null,{"$f":"IFERROR(VLOOKUP(A362,'Banco de Funcionários'!$A$2:$D$1048576,2,0),0)","v":0},null,null,null,null,null,"00:00:00",null,"00:00:00","00:00:00"]
[null,{"$f":"IFERROR(VLOOKUP(A363,'Banco de Funcionários'!$A$2:$D$1048576,2,0),0)","v":0},null,null,null,null,null,"00:00:00",null,"00:00:00","00:00:00"]
[null,{"$f":"IFERROR(VLOOKUP(A364,'Banco de Funcionários'!$A$2:$D$1048576,2,0),0)","v":0},null,null,null,null,null,"00:00:00",null,"00:00:00","00:00:00"]
[null,{"$f":"IFERROR(VLOOKUP(A365,'Banco de Funcionários'!$A$2:$D$1048576,2,0),0)","v":0},null,null,null,null,null,"00:00:00",null,"00:00:00","00:00:00"]
[null,{"$f":"IFERROR(VLOOKUP(A366,'Banco de Funcionários'!$A$2:$D$1048576,2,0),0)","v":0},null,null,null,null,null,"00:00:00",null,"00:00:00","00:00:00"]
[null,{"$f":"IFERROR(VLOOKUP(A367,'Banco de Funcionários'!$A$2:$D$1048576,2,0),0)","v":0},null,null,null,null,null,"00:00:00",null,"00:00:00","00:00:00"]
[null,{"$f":"IFERROR(VLOOKUP(A368,'Banco de Funcionários'!$A$2:$D$1048576,2,0),0)","v":0},null,null,null,null,null,"00:00:00",null,"00:00:00","00:00:00"]
[null,{"$f":"IFERROR(VLOOKUP(A369,'Banco de Funcionários'!$A$2:$D$1048576,2,0),0)","v":0},null,null,null,null,null,"00:00:00",null,"00:00:00","00:00:00"]
[null,{"$f":"IFERROR(VLOOKUP(A370,'Banco de Funcionários'!$A$2:$D$1048576,2,0),0)","v":0},null,null,null,null,null,"00:00:00",null,"00:00:00","00:00:00"]
[null,{"$f":"IFERROR(VLOOKUP(A371,'Banco de Funcionários'!$A$2:$D$1048576,2,0),0)","v":0},null,null,null,null,null,"00:00:00",null,"00:00:00","00:00:00"]
[null,{"$f":"IFERROR(VLOOKUP(A372,'Banco de Funcionários'!$A$2:$D$1048576,2,0),0)","v":0},null,null,null,null,null,"00:00:00",null,"00:00:00","00:00:00"]
[null,{"$f":"IFERROR(VLOOKUP(A373,'Banco de Funcionários'!$A$2:$D$1048576,2,0),0)","v":0},null,null,null,null,null,"00:00:00",null,"00:00:00","00:00:00"]
[null,{"$f":"IFERROR(VLOOKUP(A374,'Banco de Funcionários'!$A$2:$D$1048576,2,0),0)","v":0},null,null,null,null,null,"00:00:00",null,"00:00:00","00:00:00"]
[null,{"$f":"IFERROR(VLOOKUP(A375,'Banco de Funcionários'!$A$2:$D$1048576,2,0),0)","v":0},null,null,null,null,null,"00:00:00",null,"00:00:00","00:00:00"]
[null,{"$f":"IFERROR(VLOOKUP(A376,'Banco de Funcionários'!$A$2:$D$1048576,2,0),0)","v":0},null,null,null,null,null,"00:00:00",null,"00:00:00","00:00:00"]
[null,{"$f":"IFERROR(VLOOKUP(A377,'Banco de Funcionários'!$A$2:$D$1048576,2,0),0)","v":0},null,null,null,null,null,"00:00:00",null,"00:00:00","00:00:00"]
[null,{"$f":"IFERROR(VLOOKUP(A378,'Banco de Funcionários'!$A$2:$D$1048576,2,0),0)","v":0},null,null,null,null,null,"00:00:00",null,"00:00:00","00:00:00"]
[null,{"$f":"IFERROR(VLOOKUP(A379,'Banco de Funcionários'!$A$2:$D$1048576,2,0),0)","v":0},null,null,null,null,null,"00:00:00",null,"00:00:00","00:00:00"]
[null,{"$f":"IFERROR(VLOOKUP(A380,'Banco de Funcionários'!$A$2:$D$1048576,2,0),0)","v":0},null,null,null,null,null,"00:00:00",null,"00:00:00","00:00:00"]
[null,{"$f":"IFERROR(VLOOKUP(A381,'Banco de Funcionários'!$A$2:$D$1048576,2,0),0)","v":0},null,null,null,null,null,"00:00:00",null,"00:00:00","00:00:00"]
[null,{"$f":"IFERROR(VLOOKUP(A382,'Banco de Funcionários'!$A$2:$D$1048576,2,0),0)","v":0},null,null,null,null,null,"00:00:00",null,"00:00:00","00:00:00"]
[null,{"$f":"IFERROR(VLOOKUP(A383,'Banco de Funcionários'!$A$2:$D$1048576,2,0),0)","v":0},null,null,null,null,null,"00:00:00",null,"00:00:00","00:00:00"]
[null,{"$f":"IFERROR(VLOOKUP(A384,'Banco de Funcionários'!$A$2:$D$1048576,2,0),0)","v":0},null,null,null,null,null,"00:00:00",null,"00:00:00","00:00:00"]
[null,{"$f":"IFERROR(VLOOKUP(A385,'Banco de Funcionários'!$A$2:$D$1048576,2,0),0)","v":0},null,null,null,null,null,"00:00:00",null,"00:00:00","00:00:00"]
[null,{"$f":"IFERROR(VLOOKUP(A386,'Banco de Funcionários'!$A$2:$D$1048576,2,0),0)","v":0},null,null,null,null,null,"00:00:00",null,"00:00:00","00:00:00"]
[null,{"$f":"IFERROR(VLOOKUP(A387,'Banco de Funcionários'!$A$2:$D$1048576,2,0),0)","v":0},null,null,null,null,null,{"$f":"(F387-E387)-G387","v":"00:00:00"},null,{"$f":"IFERROR(H387-I387,\"\")","v":"00:00:00"},{"$f":"IFERROR(H387+J387,0)","v":"00:00:00"}]
[null,{"$f":"IFERROR(VLOOKUP(A388,'Banco de Funcionários'!$A$2:$D$1048576,2,0),0)","v":0},null,null,null,null,null,"00:00:00",null,"00:00:00","00:00:00"]
[null,{"$f":"IFERROR(VLOOKUP(A389,'Banco de Funcionários'!$A$2:$D$1048576,2,0),0)","v":0},null,null,null,null,null,"00:00:00",null,"00:00:00","00:00:00"]
[null,{"$f":"IFERROR(VLOOKUP(A390,'Banco de Funcionários'!$A$2:$D$1048576,2,0),0)","v":0},null,null,null,null,null,"00:00:00",null,"00:00:00","00:00:00"]
[null,{"$f":"IFERROR(VLOOKUP(A391,'Banco de Funcionários'!$A$2:$D$1048576,2,0),0)","v":0},null,null,null,null,null,"00:00:00",null,"00:00:00","00:00:00"]
[null,{"$f":"IFERROR(VLOOKUP(A392,'Banco de Funcionários'!$A$2:$D$1048576,2,0),0)","v":0},null,null,null,null,null,"00:00:00",null,"00:00:00","00:00:00"]
[null,{"$f":"IFERROR(VLOOKUP(A393,'Banco de Funcionários'!$A$2:$D$1048576,2,0),0)","v":0},null,null,null,null,null,"00:00:00",null,"00:00:00","00:00:00"]
[null,{"$f":"IFERROR(VLOOKUP(A394,'Banco de Funcionários'!$A$2:$D$1048576,2,0),0)","v":0},null,null,null,null,null,"00:00:00",null,"00:00:00","00:00:00"]
[null,{"$f":"IFERROR(VLOOKUP(A395,'Banco de Funcionários'!$A$2:$D$1048576,2,0),0)","v":0},null,null,null,null,null,"00:00:00",null,"00:00:00","00:00:00"]
[null,{"$f":"IFERROR(VLOOKUP(A396,'Banco de Funcionários'!$A$2:$D$1048576,2,0),0)","v":0},null,null,null,null,null,"00:00:00",null,"00:00:00","00:00:00"]
[null,{"$f":"IFERROR(VLOOKUP(A397,'Banco de Funcionários'!$A$2:$D$1048576,2,0),0)","v":0},null,null,null,null,null,"00:00:00",null,"00:00:00","00:00:00"]
[null,{"$f":"IFERROR(VLOOKUP(A398,'Banco de Funcionários'!$A$2:$D$1048576,2,0),0)","v":0},null,null,null,null,null,"00:00:00",null,"00:00:00","00:00:00"]
[null,{"$f":"IFERROR(VLOOKUP(A399,'Banco de Funcionários'!$A$2:$D$1048576,2,0),0)","v":0},null,null,null,null,null,"00:00:00",null,"00:00:00","00:00:00"]
[null,{"$f":"IFERROR(VLOOKUP(A400,'Banco de Funcionários'!$A$2:$D$1048576,2,0),0)","v":0},null,null,null,null,null,"00:00:00",null,"00:00:00","00:00:00"]
[null,{"$f":"IFERROR(VLOOKUP(A401,'Banco de Funcionários'!$A$2:$D$1048576,2,0),0)","v":0},null,null,null,null,null,"00:00:00",null,"00:00:00","00:00:00"]
[null,{"$f":"IFERROR(VLOOKUP(A402,'Banco de Funcionários'!$A$2:$D$1048576,2,0),0)","v":0},null,null,null,null,null,"00:00:00",null,"00:00:00","00:00:00"]
[null,{"$f":"IFERROR(VLOOKUP(A403,'Banco de Funcionários'!$A$2:$D$1048576,2,0),0)","v":0},null,null,null,null,null,"00:00:00",null,"00:00:00","00:00:00"]
[null,{"$f":"IFERROR(VLOOKUP(A404,'Banco de Funcionários'!$A$2:$D$1048576,2,0),0)","v":0},null,null,null,null,null,"00:00:00",null,"00:00:00","00:00:00"]
[null,{"$f":"IFERROR(VLOOKUP(A405,'Banco de Funcionários'!$A$2:$D$1048576,2,0),0)","v":0},null,null,null,null,null,"00:00:00",null,"00:00:00","00:00:00"]
[null,{"$f":"IFERROR(VLOOKUP(A406,'Banco de Funcionários'!$A$2:$D$1048576,2,0),0)","v":0},null,null,null,null,null,"00:00:00",null,"00:00:00","00:00:00"]
[null,{"$f":"IFERROR(VLOOKUP(A407,'Banco de Funcionários'!$A$2:$D$1048576,2,0),0)","v":0},null,null,null,null,null,"00:00:00",null,"00:00:00","00:00:00"]
[null,{"$f":"IFERROR(VLOOKUP(A408,'Banco de Funcionários'!$A$2:$D$1048576,2,0),0)","v":0},null,null,null,null,null,"00:00:00",null,"00:00:00","00:00:00"]
[null,{"$f":"IFERROR(VLOOKUP(A409,'Banco de Funcionários'!$A$2:$D$1048576,2,0),0)","v":0},null,null,null,null,null,"00:00:00",null,"00:00:00","00:00:00"]
[null,{"$f":"IFERROR(VLOOKUP(A410,'Banco de Funcionários'!$A$2:$D$1048576,2,0),0)","v":0},null,null,null,null,null,"00:00:00",null,"00:00:00","00:00:00"]
[null,{"$f":"IFERROR(VLOOKUP(A411,'Banco de Funcionários'!$A$2:$D$1048576,2,0),0)","v":0},null,null,null,null,null,"00:00:00",null,"00:00:00","00:00:00"]
[null,{"$f":"IFERROR(VLOOKUP(A412,'Banco de Funcionários'!$A$2:$D$1048576,2,0),0)","v":0},null,null,null,null,null,"00:00:00",null,"00:00:00","00:00:00"]
[null,{"$f":"IFERROR(VLOOKUP(A413,'Banco de Funcionários'!$A$2:$D$1048576,2,0),0)","v":0},null,null,null,null,null,"00:00:00",null,"00:00:00","00:00:00"]
[null,{"$f":"IFERROR(VLOOKUP(A414,'Banco de Funcionários'!$A$2:$D$1048576,2,0),0)","v":0},null,null,null,null,null,"00:00:00",null,"00:00:00","00:00:00"]
[null,{"$f":"IFERROR(VLOOKUP(A415,'Banco de Funcionários'!$A$2:$D$1048576,2,0),0)","v":0},null,null,null,null,null,"00:00:00",null,"00:00:00","00:00:00"]
[null,{"$f":"IFERROR(VLOOKUP(A416,'Banco de Funcionários'!$A$2:$D$1048576,2,0),0)","v":0},null,null,null,null,null,"00:00:00",null,"00:00:00","00:00:00"]
[null,{"$f":"IFERROR(VLOOKUP(A417,'Banco de Funcionários'!$A$2:$D$1048576,2,0),0)","v":0},null,null,null,null,null,"00:00:00",null,"00:00:00","00:00:00"]
[null,{"$f":"IFERROR(VLOOKUP(A418,'Banco de Funcionários'!$A$2:$D$1048576,2,0),0)","v":0},null,null,null,null,null,"00:00:00",null,"00:00:00","00:00:00"]
[null,{"$f":"IFERROR(VLOOKUP(A419,'Banco de Funcionários'!$A$2:$D$1048576,2,0),0)","v":0},null,null,null,null,null,"00:00:00",null,"00:00:00","00:00:00"]
[null,{"$f":"IFERROR(VLOOKUP(A420,'Banco de Funcionários'!$A$2:$D$1048576,2,0),0)","v":0},null,null,null,null,null,"00:00:00",null,"00:00:00","00:00:00"]
[null,{"$f":"IFERROR(VLOOKUP(A421,'Banco de Funcionários'!$A$2:$D$1048576,2,0),0)","v":0},null,null,null,null,null,"00:00:00",null,"00:00:00","00:00:00"]
[null,{"$f":"IFERROR(VLOOKUP(A422,'Banco de Funcionários'!$A$2:$D$1048576,2,0),0)","v":0},null,null,null,null,null,"00:00:00",null,"00:00:00","00:00:00"]
[null,{"$f":"IFERROR(VLOOKUP(A423,'Banco de Funcionários'!$A$2:$D$1048576,2,0),0)","v":0},null,null,null,null,null,"00:00:00",null,"00:00:00","00:00:00"]
[null,{"$f":"IFERROR(VLOOKUP(A424,'Banco de Funcionários'!$A$2:$D$1048576,2,0),0)","v":0},null,null,null,null,null,"00:00:00",null,"00:00:00","00:00:00"]
[null,{"$f":"IFERROR(VLOOKUP(A425,'Banco de Funcionários'!$A$2:$D$1048576,2,0),0)","v":0},null,null,null,null,null,"00:00:00",null,"00:00:00","00:00:00"]
[null,{"$f":"IFERROR(VLOOKUP(A426,'Banco de Funcionários'!$A$2:$D$1048576,2,0),0)","v":0},null,null,null,null,null,"00:00:00",null,"00:00:00","00:00:00"]
[null,{"$f":"IFERROR(VLOOKUP(A427,'Banco de Funcionários'!$A$2:$D$1048576,2,0),0)","v":0},null,null,null,null,null,"00:00:00",null,"00:00:00","00:00:00"]
[null,{"$f":"IFERROR(VLOOKUP(A428,'Banco de Funcionários'!$A$2:$D$1048576,2,0),0)","v":0},null,null,null,null,null,"00:00:00",null,"00:00:00","00:00:00"]
[null,{"$f":"IFERROR(VLOOKUP(A429,'Banco de Funcionários'!$A$2:$D$1048576,2,0),0)","v":0},null,null,null,null,null,"00:00:00",null,"00:00:00","00:00:00"]
[null,{"$f":"IFERROR(VLOOKUP(A430,'Banco de Funcionários'!$A$2:$D$1048576,2,0),0)","v":0},null,null,null,null,null,"00:00:00",null,"00:00:00","00:00:00"]
[null,{"$f":"IFERROR(VLOOKUP(A431,'Banco de Funcionários'!$A$2:$D$1048576,2,0),0)","v":0},null,null,null,null,null,"00:00:00",null,"00:00:00","00:00:00"]
[null,{"$f":"IFERROR(VLOOKUP(A432,'Banco de Funcionários'!$A$2:$D$1048576,2,0),0)","v":0},null,null,null,null,null,"00:00:00",null,"00:00:00","00:00:00"]
[null,{"$f":"IFERROR(VLOOKUP(A433,'Banco de Funcionários'!$A$2:$D$1048576,2,0),0)","v":0},null,null,null,null,null,"00:00:00",null,"00:00:00","00:00:00"]
[null,{"$f":"IFERROR(VLOOKUP(A434,'Banco de Funcionários'!$A$2:$D$1048576,2,0),0)","v":0},null,null,null,null,null,"00:00:00",null,"00:00:00","00:00:00"]
[null,{"$f":"IFERROR(VLOOKUP(A435,'Banco de Funcionários'!$A$2:$D$1048576,2,0),0)","v":0},null,null,null,null,null,"00:00:00",null,"00:00:00","00:00:00"]
[null,{"$f":"IFERROR(VLOOKUP(A436,'Banco de Funcionários'!$A$2:$D$1048576,2,0),0)","v":0},null,null,null,null,null,"00:00:00",null,"00:00:00","00:00:00"]
[null,{"$f":"IFERROR(VLOOKUP(A437,'Banco de Funcionários'!$A$2:$D$1048576,2,0),0)","v":0},null,null,null,null,null,"00:00:00",null,"00:00:00","00:00:00"]
[null,{"$f":"IFERROR(VLOOKUP(A438,'Banco de Funcionários'!$A$2:$D$1048576,2,0),0)","v":0},null,null,null,null,null,"00:00:00",null,"00:00:00","00:00:00"]
[null,{"$f":"IFERROR(VLOOKUP(A439,'Banco de Funcionários'!$A$2:$D$1048576,2,0),0)","v":0},null,null,null,null,null,"00:00:00",null,"00:00:00","00:00:00"]
[null,{"$f":"IFERROR(VLOOKUP(A440,'Banco de Funcionários'!$A$2:$D$1048576,2,0),0)","v":0},null,null,null,null,null,"00:00:00",null,"00:00:00","00:00:00"]
[null,{"$f":"IFERROR(VLOOKUP(A441,'Banco de Funcionários'!$A$2:$D$1048576,2,0),0)","v":0},null,null,null,null,null,"00:00:00",null,"00:00:00","00:00:00"]
[null,{"$f":"IFERROR(VLOOKUP(A442,'Banco de Funcionários'!$A$2:$D$1048576,2,0),0)","v":0},null,null,null,null,null,"00:00:00",null,"00:00:00","00:00:00"]
[null,{"$f":"IFERROR(VLOOKUP(A443,'Banco de Funcionários'!$A$2:$D$1048576,2,0),0)","v":0},null,null,null,null,null,"00:00:00",null,"00:00:00","00:00:00"]
[null,{"$f":"IFERROR(VLOOKUP(A444,'Banco de Funcionários'!$A$2:$D$1048576,2,0),0)","v":0},null,null,null,null,null,"00:00:00",null,"00:00:00","00:00:00"]
[null,{"$f":"IFERROR(VLOOKUP(A445,'Banco de Funcionários'!$A$2:$D$1048576,2,0),0)","v":0},null,null,null,null,null,"00:00:00",null,"00:00:00","00:00:00"]
[null,{"$f":"IFERROR(VLOOKUP(A446,'Banco de Funcionários'!$A$2:$D$1048576,2,0),0)","v":0},null,null,null,null,null,"00:00:00",null,"00:00:00","00:00:00"]
[null,{"$f":"IFERROR(VLOOKUP(A447,'Banco de Funcionários'!$A$2:$D$1048576,2,0),0)","v":0},null,null,null,null,null,"00:00:00",null,"00:00:00","00:00:00"]
[null,{"$f":"IFERROR(VLOOKUP(A448,'Banco de Funcionários'!$A$2:$D$1048576,2,0),0)","v":0},null,null,null,null,null,"00:00:00",null,"00:00:00","00:00:00"]
[null,{"$f":"IFERROR(VLOOKUP(A449,'Banco de Funcionários'!$A$2:$D$1048576,2,0),0)","v":0},null,null,null,null,null,"00:00:00",null,"00:00:00","00:00:00"]
[null,{"$f":"IFERROR(VLOOKUP(A450,'Banco de Funcionários'!$A$2:$D$1048576,2,0),0)","v":0},null,null,null,null,null,"00:00:00",null,"00:00:00","00:00:00"]
[null,{"$f":"IFERROR(VLOOKUP(A451,'Banco de Funcionários'!$A$2:$D$1048576,2,0),0)","v":0},null,null,null,null,null,{"$f":"(F451-E451)-G451","v":"00:00:00"},null,{"$f":"IFERROR(H451-I451,\"\")","v":"00:00:00"},{"$f":"IFERROR(H451+J451,0)","v":"00:00:00"}]
[null,{"$f":"IFERROR(VLOOKUP(A452,'Banco de Funcionários'!$A$2:$D$1048576,2,0),0)","v":0},null,null,null,null,null,"00:00:00",null,"00:00:00","00:00:00"]
[null,{"$f":"IFERROR(VLOOKUP(A453,'Banco de Funcionários'!$A$2:$D$1048576,2,0),0)","v":0},null,null,null,null,null,"00:00:00",null,"00:00:00","00:00:00"]
[null,{"$f":"IFERROR(VLOOKUP(A454,'Banco de Funcionários'!$A$2:$D$1048576,2,0),0)","v":0},null,null,null,null,null,"00:00:00",null,"00:00:00","00:00:00"]
[null,{"$f":"IFERROR(VLOOKUP(A455,'Banco de Funcionários'!$A$2:$D$1048576,2,0),0)","v":0},null,null,null,null,null,"00:00:00",null,"00:00:00","00:00:00"]
[null,{"$f":"IFERROR(VLOOKUP(A456,'Banco de Funcionários'!$A$2:$D$1048576,2,0),0)","v":0},null,null,null,null,null,"00:00:00",null,"00:00:00","00:00:00"]
[null,{"$f":"IFERROR(VLOOKUP(A457,'Banco de Funcionários'!$A$2:$D$1048576,2,0),0)","v":0},null,null,null,null,null,"00:00:00",null,"00:00:00","00:00:00"]
[null,{"$f":"IFERROR(VLOOKUP(A458,'Banco de Funcionários'!$A$2:$D$1048576,2,0),0)","v":0},null,null,null,null,null,"00:00:00",null,"00:00:00","00:00:00"]
[null,{"$f":"IFERROR(VLOOKUP(A459,'Banco de Funcionários'!$A$2:$D$1048576,2,0),0)","v":0},null,null,null,null,null,"00:00:00",null,"00:00:00","00:00:00"]
[null,{"$f":"IFERROR(VLOOKUP(A460,'Banco de Funcionários'!$A$2:$D$1048576,2,0),0)","v":0},null,null,null,null,null,"00:00:00",null,"00:00:00","00:00:00"]
[null,{"$f":"IFERROR(VLOOKUP(A461,'Banco de Funcionários'!$A$2:$D$1048576,2,0),0)","v":0},null,null,null,null,null,"00:00:00",null,"00:00:00","00:00:00"]
[null,{"$f":"IFERROR(VLOOKUP(A462,'Banco de Funcionários'!$A$2:$D$1048576,2,0),0)","v":0},null,null,null,null,null,"00:00:00",null,"00:00:00","00:00:00"]
[null,{"$f":"IFERROR(VLOOKUP(A463,'Banco de Funcionários'!$A$2:$D$1048576,2,0),0)","v":0},null,null,null,null,null,"00:00:00",null,"00:00:00","00:00:00"]
[null,{"$f":"IFERROR(VLOOKUP(A464,'Banco de Funcionários'!$A$2:$D$1048576,2,0),0)","v":0},null,null,null,null,null,"00:00:00",null,"00:00:00","00:00:00"]
[null,{"$f":"IFERROR(VLOOKUP(A465,'Banco de Funcionários'!$A$2:$D$1048576,2,0),0)","v":0},null,null,null,null,null,"00:00:00",null,"00:00:00","00:00:00"]
[null,{"$f":"IFERROR(VLOOKUP(A466,'Banco de Funcionários'!$A$2:$D$1048576,2,0),0)","v":0},null,null,null,null,null,"00:00:00",null,"00:00:00","00:00:00"]
[null,{"$f":"IFERROR(VLOOKUP(A467,'Banco de Funcionários'!$A$2:$D$1048576,2,0),0)","v":0},null,null,null,null,null,"00:00:00",null,"00:00:00","00:00:00"]
[null,{"$f":"IFERROR(VLOOKUP(A468,'Banco de Funcionários'!$A$2:$D$1048576,2,0),0)","v":0},null,null,null,null,null,"00:00:00",null,"00:00:00","00:00:00"]
[null,{"$f":"IFERROR(VLOOKUP(A469,'Banco de Funcionários'!$A$2:$D$1048576,2,0),0)","v":0},null,null,null,null,null,"00:00:00",null,"00:00:00","00:00:00"]
[null,{"$f":"IFERROR(VLOOKUP(A470,'Banco de Funcionários'!$A$2:$D$1048576,2,0),0)","v":0},null,null,null,null,null,"00:00:00",null,"00:00:00","00:00:00"]
[null,{"$f":"IFERROR(VLOOKUP(A471,'Banco de Funcionários'!$A$2:$D$1048576,2,0),0)","v":0},null,null,null,null,null,"00:00:00",null,"00:00:00","00:00:00"]
[null,{"$f":"IFERROR(VLOOKUP(A472,'Banco de Funcionários'!$A$2:$D$1048576,2,0),0)","v":0},null,null,null,null,null,"00:00:00",null,"00:00:00","00:00:00"]
[null,{"$f":"IFERROR(VLOOKUP(A473,'Banco de Funcionários'!$A$2:$D$1048576,2,0),0)","v":0},null,null,null,null,null,"00:00:00",null,"00:00:00","00:00:00"]
[null,{"$f":"IFERROR(VLOOKUP(A474,'Banco de Funcionários'!$A$2:$D$1048576,2,0),0)","v":0},null,null,null,null,null,"00:00:00",null,"00:00:00","00:00:00"]
[null,{"$f":"IFERROR(VLOOKUP(A475,'Banco de Funcionários'!$A$2:$D$1048576,2,0),0)","v":0},null,null,null,null,null,"00:00:00",null,"00:00:00","00:00:00"]
[null,{"$f":"IFERROR(VLOOKUP(A476,'Banco de Funcionários'!$A$2:$D$1048576,2,0),0)","v":0},null,null,null,null,null,"00:00:00",null,"00:00:00","00:00:00"]
[null,{"$f":"IFERROR(VLOOKUP(A477,'Banco de Funcionários'!$A$2:$D$1048576,2,0),0)","v":0},null,null,null,null,null,"00:00:00",null,"00:00:00","00:00:00"]
[null,{"$f":"IFERROR(VLOOKUP(A478,'Banco de Funcionários'!$A$2:$D$1048576,2,0),0)","v":0},null,null,null,null,null,"00:00:00",null,"00:00:00","00:00:00"]
[null,{"$f":"IFERROR(VLOOKUP(A479,'Banco de Funcionários'!$A$2:$D$1048576,2,0),0)","v":0},null,null,null,null,null,"00:00:00",null,"00:00:00","00:00:00"]
[null,{"$f":"IFERROR(VLOOKUP(A480,'Banco de Funcionários'!$A$2:$D$1048576,2,0),0)","v":0},null,null,null,null,null,"00:00:00",null,"00:00:00","00:00:00"]
[null,{"$f":"IFERROR(VLOOKUP(A481,'Banco de Funcionários'!$A$2:$D$1048576,2,0),0)","v":0},null,null,null,null,null,"00:00:00",null,"00:00:00","00:00:00"]
[null,{"$f":"IFERROR(VLOOKUP(A482,'Banco de Funcionários'!$A$2:$D$1048576,2,0),0)","v":0},null,null,null,null,null,"00:00:00",null,"00:00:00","00:00:00"]
[null,{"$f":"IFERROR(VLOOKUP(A483,'Banco de Funcionários'!$A$2:$D$1048576,2,0),0)","v":0},null,null,null,null,null,"00:00:00",null,"00:00:00","00:00:00"]
[null,{"$f":"IFERROR(VLOOKUP(A484,'Banco de Funcionários'!$A$2:$D$1048576,2,0),0)","v":0},null,null,null,null,null,"00:00:00",null,"00:00:00","00:00:00"]
[null,{"$f":"IFERROR(VLOOKUP(A485,'Banco de Funcionários'!$A$2:$D$1048576,2,0),0)","v":0},null,null,null,null,null,"00:00:00",null,"00:00:00","00:00:00"]
[null,{"$f":"IFERROR(VLOOKUP(A486,'Banco de Funcionários'!$A$2:$D$1048576,2,0),0)","v":0},null,null,null,null,null,"00:00:00",null,"00:00:00","00:00:00"]
[null,{"$f":"IFERROR(VLOOKUP(A487,'Banco de Funcionários'!$A$2:$D$1048576,2,0),0)","v":0},null,null,null,null,null,"00:00:00",null,"00:00:00","00:00:00"]
[null,{"$f":"IFERROR(VLOOKUP(A488,'Banco de Funcionários'!$A$2:$D$1048576,2,0),0)","v":0},null,null,null,null,null,"00:00:00",null,"00:00:00","00:00:00"]
[null,{"$f":"IFERROR(VLOOKUP(A489,'Banco de Funcionários'!$A$2:$D$1048576,2,0),0)","v":0},null,null,null,null,null,"00:00:00",null,"00:00:00","00:00:00"]
[null,{"$f":"IFERROR(VLOOKUP(A490,'Banco de Funcionários'!$A$2:$D$1048576,2,0),0)","v":0},null,null,null,null,null,"00:00:00",null,"00:00:00","00:00:00"]
[null,{"$f":"IFERROR(VLOOKUP(A491,'Banco de Funcionários'!$A$2:$D$1048576,2,0),0)","v":0},null,null,null,null,null,"00:00:00",null,"00:00:00","00:00:00"]
[null,{"$f":"IFERROR(VLOOKUP(A492,'Banco de Funcionários'!$A$2:$D$1048576,2,0),0)","v":0},null,null,null,null,null,"00:00:00",null,"00:00:00","00:00:00"]
[null,{"$f":"IFERROR(VLOOKUP(A493,'Banco de Funcionários'!$A$2:$D$1048576,2,0),0)","v":0},null,null,null,null,null,"00:00:00",null,"00:00:00","00:00:00"]
[null,{"$f":"IFERROR(VLOOKUP(A494,'Banco de Funcionários'!$A$2:$D$1048576,2,0),0)","v":0},null,null,null,null,null,"00:00:00",null,"00:00:00","00:00:00"]
[null,{"$f":"IFERROR(VLOOKUP(A495,'Banco de Funcionários'!$A$2:$D$1048576,2,0),0)","v":0},null,null,null,null,null,"00:00:00",null,"00:00:00","00:00:00"]
[null,{"$f":"IFERROR(VLOOKUP(A496,'Banco de Funcionários'!$A$2:$D$1048576,2,0),0)","v":0},null,null,null,null,null,"00:00:00",null,"00:00:00","00:00:00"]
[null,{"$f":"IFERROR(VLOOKUP(A497,'Banco de Funcionários'!$A$2:$D$1048576,2,0),0)","v":0},null,null,null,null,null,"00:00:00",null,"00:00:00","00:00:00"]
[null,{"$f":"IFERROR(VLOOKUP(A498,'Banco de Funcionários'!$A$2:$D$1048576,2,0),0)","v":0},null,null,null,null,null,"00:00:00",null,"00:00:00","00:00:00"]
[null,{"$f":"IFERROR(VLOOKUP(A499,'Banco de Funcionários'!$A$2:$D$1048576,2,0),0)","v":0},null,null,null,null,null,"00:00:00",null,"00:00:00","00:00:00"]
[null,{"$f":"IFERROR(VLOOKUP(A500,'Banco de Funcionários'!$A$2:$D$1048576,2,0),0)","v":0},null,null,null,null,null,"00:00:00",null,"00:00:00","00:00:00"]
[null,{"$f":"IFERROR(VLOOKUP(A501,'Banco de Funcionários'!$A$2:$D$1048576,2,0),0)","v":0},null,null,null,null,null,"00:00:00",null,"00:00:00","00:00:00"]
[null,{"$f":"IFERROR(VLOOKUP(A502,'Banco de Funcionários'!$A$2:$D$1048576,2,0),0)","v":0},null,null,null,null,null,"00:00:00",null,"00:00:00","00:00:00"]
[null,{"$f":"IFERROR(VLOOKUP(A503,'Banco de Funcionários'!$A$2:$D$1048576,2,0),0)","v":0},null,null,null,null,null,"00:00:00",null,"00:00:00","00:00:00"]
[null,{"$f":"IFERROR(VLOOKUP(A504,'Banco de Funcionários'!$A$2:$D$1048576,2,0),0)","v":0},null,null,null,null,null,"00:00:00",null,"00:00:00","00:00:00"]
[null,{"$f":"IFERROR(VLOOKUP(A505,'Banco de Funcionários'!$A$2:$D$1048576,2,0),0)","v":0},null,null,null,null,null,"00:00:00",null,"00:00:00","00:00:00"]
[null,{"$f":"IFERROR(VLOOKUP(A506,'Banco de Funcionários'!$A$2:$D$1048576,2,0),0)","v":0},null,null,null,null,null,"00:00:00",null,"00:00:00","00:00:00"]
[null,{"$f":"IFERROR(VLOOKUP(A507,'Banco de Funcionários'!$A$2:$D$1048576,2,0),0)","v":0},null,null,null,null,null,"00:00:00",null,"00:00:00","00:00:00"]
[null,{"$f":"IFERROR(VLOOKUP(A508,'Banco de Funcionários'!$A$2:$D$1048576,2,0),0)","v":0},null,null,null,null,null,"00:00:00",null,"00:00:00","00:00:00"]
[null,{"$f":"IFERROR(VLOOKUP(A509,'Banco de Funcionários'!$A$2:$D$1048576,2,0),0)","v":0},null,null,null,null,null,"00:00:00",null,"00:00:00","00:00:00"]
[null,{"$f":"IFERROR(VLOOKUP(A510,'Banco de Funcionários'!$A$2:$D$1048576,2,0),0)","v":0},null,null,null,null,null,"00:00:00",null,"00:00:00","00:00:00"]
[null,{"$f":"IFERROR(VLOOKUP(A511,'Banco de Funcionários'!$A$2:$D$1048576,2,0),0)","v":0},null,null,null,null,null,"00:00:00",null,"00:00:00","00:00:00"]
[null,{"$f":"IFERROR(VLOOKUP(A512,'Banco de Funcionários'!$A$2:$D$1048576,2,0),0)","v":0},null,null,null,null,null,"00:00:00",null,"00:00:00","00:00:00"]
[null,{"$f":"IFERROR(VLOOKUP(A513,'Banco de Funcionários'!$A$2:$D$1048576,2,0),0)","v":0},null,null,null,null,null,"00:00:00",null,"00:00:00","00:00:00"]
[null,{"$f":"IFERROR(VLOOKUP(A514,'Banco de Funcionários'!$A$2:$D$1048576,2,0),0)","v":0},null,null,null,null,null,"00:00:00",null,"00:00:00","00:00:00"]
[null,{"$f":"IFERROR(VLOOKUP(A515,'Banco de Funcionários'!$A$2:$D$1048576,2,0),0)","v":0},null,null,null,null,null,{"$f":"(F515-E515)-G515","v":"00:00:00"},null,{"$f":"IFERROR(H515-I515,\"\")","v":"00:00:00"},{"$f":"IFERROR(H515+J515,0)","v":"00:00:00"}]
[null,{"$f":"IFERROR(VLOOKUP(A516,'Banco de Funcionários'!$A$2:$D$1048576,2,0),0)","v":0},null,null,null,null,null,"00:00:00",null,"00:00:00","00:00:00"]
[null,{"$f":"IFERROR(VLOOKUP(A517,'Banco de Funcionários'!$A$2:$D$1048576,2,0),0)","v":0},null,null,null,null,null,"00:00:00",null,"00:00:00","00:00:00"]
[null,{"$f":"IFERROR(VLOOKUP(A518,'Banco de Funcionários'!$A$2:$D$1048576,2,0),0)","v":0},null,null,null,null,null,"00:00:00",null,"00:00:00","00:00:00"]
[null,{"$f":"IFERROR(VLOOKUP(A519,'Banco de Funcionários'!$A$2:$D$1048576,2,0),0)","v":0},null,null,null,null,null,"00:00:00",null,"00:00:00","00:00:00"]
[null,{"$f":"IFERROR(VLOOKUP(A520,'Banco de Funcionários'!$A$2:$D$1048576,2,0),0)","v":0},null,null,null,null,null,"00:00:00",null,"00:00:00","00:00:00"]
[null,{"$f":"IFERROR(VLOOKUP(A521,'Banco de Funcionários'!$A$2:$D$1048576,2,0),0)","v":0},null,null,null,null,null,"00:00:00",null,"00:00:00","00:00:00"]
[null,{"$f":"IFERROR(VLOOKUP(A522,'Banco de Funcionários'!$A$2:$D$1048576,2,0),0)","v":0},null,null,null,null,null,"00:00:00",null,"00:00:00","00:00:00"]
[null,{"$f":"IFERROR(VLOOKUP(A523,'Banco de Funcionários'!$A$2:$D$1048576,2,0),0)","v":0},null,null,null,null,null,"00:00:00",null,"00:00:00","00:00:00"]
[null,{"$f":"IFERROR(VLOOKUP(A524,'Banco de Funcionários'!$A$2:$D$1048576,2,0),0)","v":0},null,null,null,null,null,"00:00:00",null,"00:00:00","00:00:00"]
[null,{"$f":"IFERROR(VLOOKUP(A525,'Banco de Funcionários'!$A$2:$D$1048576,2,0),0)","v":0},null,null,null,null,null,"00:00:00",null,"00:00:00","00:00:00"]
[null,{"$f":"IFERROR(VLOOKUP(A526,'Banco de Funcionários'!$A$2:$D$1048576,2,0),0)","v":0},null,null,null,null,null,"00:00:00",null,"00:00:00","00:00:00"]
[null,{"$f":"IFERROR(VLOOKUP(A527,'Banco de Funcionários'!$A$2:$D$1048576,2,0),0)","v":0},null,null,null,null,null,"00:00:00",null,"00:00:00","00:00:00"]
[null,{"$f":"IFERROR(VLOOKUP(A528,'Banco de Funcionários'!$A$2:$D$1048576,2,0),0)","v":0},null,null,null,null,null,"00:00:00",null,"00:00:00","00:00:00"]
[null,{"$f":"IFERROR(VLOOKUP(A529,'Banco de Funcionários'!$A$2:$D$1048576,2,0),0)","v":0},null,null,null,null,null,"00:00:00",null,"00:00:00","00:00:00"]
[null,{"$f":"IFERROR(VLOOKUP(A530,'Banco de Funcionários'!$A$2:$D$1048576,2,0),0)","v":0},null,null,null,null,null,"00:00:00",null,"00:00:00","00:00:00"]
[null,{"$f":"IFERROR(VLOOKUP(A531,'Banco de Funcionários'!$A$2:$D$1048576,2,0),0)","v":0},null,null,null,null,null,"00:00:00",null,"00:00:00","00:00:00"]
[null,{"$f":"IFERROR(VLOOKUP(A532,'Banco de Funcionários'!$A$2:$D$1048576,2,0),0)","v":0},null,null,null,null,null,"00:00:00",null,"00:00:00","00:00:00"]
[null,{"$f":"IFERROR(VLOOKUP(A533,'Banco de Funcionários'!$A$2:$D$1048576,2,0),0)","v":0},null,null,null,null,null,"00:00:00",null,"00:00:00","00:00:00"]
[null,{"$f":"IFERROR(VLOOKUP(A534,'Banco de Funcionários'!$A$2:$D$1048576,2,0),0)","v":0},null,null,null,null,null,"00:00:00",null,"00:00:00","00:00:00"]
[null,{"$f":"IFERROR(VLOOKUP(A535,'Banco de Funcionários'!$A$2:$D$1048576,2,0),0)","v":0},null,null,null,null,null,"00:00:00",null,"00:00:00","00:00:00"]
[null,{"$f":"IFERROR(VLOOKUP(A536,'Banco de Funcionários'!$A$2:$D$1048576,2,0),0)","v":0},null,null,null,null,null,"00:00:00",null,"00:00:00","00:00:00"]
[null,{"$f":"IFERROR(VLOOKUP(A537,'Banco de Funcionários'!$A$2:$D$1048576,2,0),0)","v":0},null,null,null,null,null,"00:00:00",null,"00:00:00","00:00:00"]
[null,{"$f":"IFERROR(VLOOKUP(A538,'Banco de Funcionários'!$A$2:$D$1048576,2,0),0)","v":0},null,null,null,null,null,"00:00:00",null,"00:00:00","00:00:00"]
[null,{"$f":"IFERROR(VLOOKUP(A539,'Banco de Funcionários'!$A$2:$D$1048576,2,0),0)","v":0},null,null,null,null,null,"00:00:00",null,"00:00:00","00:00:00"]
[null,{"$f":"IFERROR(VLOOKUP(A540,'Banco de Funcionários'!$A$2:$D$1048576,2,0),0)","v":0},null,null,null,null,null,"00:00:00",null,"00:00:00","00:00:00"]
[null,{"$f":"IFERROR(VLOOKUP(A541,'Banco de Funcionários'!$A$2:$D$1048576,2,0),0)","v":0},null,null,null,null,null,"00:00:00",null,"00:00:00","00:00:00"]
[null,{"$f":"IFERROR(VLOOKUP(A542,'Banco de Funcionários'!$A$2:$D$1048576,2,0),0)","v":0},null,null,null,null,null,"00:00:00",null,"00:00:00","00:00:00"]
[null,{"$f":"IFERROR(VLOOKUP(A543,'Banco de Funcionários'!$A$2:$D$1048576,2,0),0)","v":0},null,null,null,null,null,"00:00:00",null,"00:00:00","00:00:00"]
[null,{"$f":"IFERROR(VLOOKUP(A544,'Banco de Funcionários'!$A$2:$D$1048576,2,0),0)","v":0},null,null,null,null,null,"00:00:00",null,"00:00:00","00:00:00"]
[null,{"$f":"IFERROR(VLOOKUP(A545,'Banco de Funcionários'!$A$2:$D$1048576,2,0),0)","v":0},null,null,null,null,null,"00:00:00",null,"00:00:00","00:00:00"]
[null,{"$f":"IFERROR(VLOOKUP(A546,'Banco de Funcionários'!$A$2:$D$1048576,2,0),0)","v":0},null,null,null,null,null,"00:00:00",null,"00:00:00","00:00:00"]
[null,{"$f":"IFERROR(VLOOKUP(A547,'Banco de Funcionários'!$A$2:$D$1048576,2,0),0)","v":0},null,null,null,null,null,"00:00:00",null,"00:00:00","00:00:00"]
[null,{"$f":"IFERROR(VLOOKUP(A548,'Banco de Funcionários'!$A$2:$D$1048576,2,0),0)","v":0},null,null,null,null,null,"00:00:00",null,"00:00:00","00:00:00"]
[null,{"$f":"IFERROR(VLOOKUP(A549,'Banco de Funcionários'!$A$2:$D$1048576,2,0),0)","v":0},null,null,null,null,null,"00:00:00",null,"00:00:00","00:00:00"]
[null,{"$f":"IFERROR(VLOOKUP(A550,'Banco de Funcionários'!$A$2:$D$1048576,2,0),0)","v":0},null,null,null,null,null,"00:00:00",null,"00:00:00","00:00:00"]
[null,{"$f":"IFERROR(VLOOKUP(A551,'Banco de Funcionários'!$A$2:$D$1048576,2,0),0)","v":0},null,null,null,null,null,"00:00:00",null,"00:00:00","00:00:00"]
[null,{"$f":"IFERROR(VLOOKUP(A552,'Banco de Funcionários'!$A$2:$D$1048576,2,0),0)","v":0},null,null,null,null,null,"00:00:00",null,"00:00:00","00:00:00"]
[null,{"$f":"IFERROR(VLOOKUP(A553,'Banco de Funcionários'!$A$2:$D$1048576,2,0),0)","v":0},null,null,null,null,null,"00:00:00",null,"00:00:00","00:00:00"]
[null,{"$f":"IFERROR(VLOOKUP(A554,'Banco de Funcionários'!$A$2:$D$1048576,2,0),0)","v":0},null,null,null,null,null,"00:00:00",null,"00:00:00","00:00:00"]
[null,{"$f":"IFERROR(VLOOKUP(A555,'Banco de Funcionários'!$A$2:$D$1048576,2,0),0)","v":0},null,null,null,null,null,"00:00:00",null,"00:00:00","00:00:00"]
[null,{"$f":"IFERROR(VLOOKUP(A556,'Banco de Funcionários'!$A$2:$D$1048576,2,0),0)","v":0},null,null,null,null,null,"00:00:00",null,"00:00:00","00:00:00"]
[null,{"$f":"IFERROR(VLOOKUP(A557,'Banco de Funcionários'!$A$2:$D$1048576,2,0),0)","v":0},null,null,null,null,null,"00:00:00",null,"00:00:00","00:00:00"]
[null,{"$f":"IFERROR(VLOOKUP(A558,'Banco de Funcionários'!$A$2:$D$1048576,2,0),0)","v":0},null,null,null,null,null,"00:00:00",null,"00:00:00","00:00:00"]
[null,{"$f":"IFERROR(VLOOKUP(A559,'Banco de Funcionários'!$A$2:$D$1048576,2,0),0)","v":0},null,null,null,null,null,"00:00:00",null,"00:00:00","00:00:00"]
[null,{"$f":"IFERROR(VLOOKUP(A560,'Banco de Funcionários'!$A$2:$D$1048576,2,0),0)","v":0},null,null,null,null,null,"00:00:00",null,"00:00:00","00:00:00"]
[null,{"$f":"IFERROR(VLOOKUP(A561,'Banco de Funcionários'!$A$2:$D$1048576,2,0),0)","v":0},null,null,null,null,null,"00:00:00",null,"00:00:00","00:00:00"]
[null,{"$f":"IFERROR(VLOOKUP(A562,'Banco de Funcionários'!$A$2:$D$1048576,2,0),0)","v":0},null,null,null,null,null,"00:00:00",null,"00:00:00","00:00:00"]
[null,{"$f":"IFERROR(VLOOKUP(A563,'Banco de Funcionários'!$A$2:$D$1048576,2,0),0)","v":0},null,null,null,null,null,"00:00:00",null,"00:00:00","00:00:00"]
[null,{"$f":"IFERROR(VLOOKUP(A564,'Banco de Funcionários'!$A$2:$D$1048576,2,0),0)","v":0},null,null,null,null,null,"00:00:00",null,"00:00:00","00:00:00"]
[null,{"$f":"IFERROR(VLOOKUP(A565,'Banco de Funcionários'!$A$2:$D$1048576,2,0),0)","v":0},null,null,null,null,null,"00:00:00",null,"00:00:00","00:00:00"]
[null,{"$f":"IFERROR(VLOOKUP(A566,'Banco de Funcionários'!$A$2:$D$1048576,2,0),0)","v":0},null,null,null,null,null,"00:00:00",null,"00:00:00","00:00:00"]
[null,{"$f":"IFERROR(VLOOKUP(A567,'Banco de Funcionários'!$A$2:$D$1048576,2,0),0)","v":0},null,null,null,null,null,"00:00:00",null,"00:00:00","00:00:00"]
[null,{"$f":"IFERROR(VLOOKUP(A568,'Banco de Funcionários'!$A$2:$D$1048576,2,0),0)","v":0},null,null,null,null,null,"00:00:00",null,"00:00:00","00:00:00"]
[null,{"$f":"IFERROR(VLOOKUP(A569,'Banco de Funcionários'!$A$2:$D$1048576,2,0),0)","v":0},null,null,null,null,null,"00:00:00",null,"00:00:00","00:00:00"]
[null,{"$f":"IFERROR(VLOOKUP(A570,'Banco de Funcionários'!$A$2:$D$1048576,2,0),0)","v":0},null,null,null,null,null,"00:00:00",null,"00:00:00","00:00:00"]
[null,{"$f":"IFERROR(VLOOKUP(A571,'Banco de Funcionários'!$A$2:$D$1048576,2,0),0)","v":0},null,null,null,null,null,"00:00:00",null,"00:00:00","00:00:00"]
[null,{"$f":"IFERROR(VLOOKUP(A572,'Banco de Funcionários'!$A$2:$D$1048576,2,0),0)","v":0},null,null,null,null,null,"00:00:00",null,"00:00:00","00:00:00"]
[null,{"$f":"IFERROR(VLOOKUP(A573,'Banco de Funcionários'!$A$2:$D$1048576,2,0),0)","v":0},null,null,null,null,null,"00:00:00",null,"00:00:00","00:00:00"]
[null,{"$f":"IFERROR(VLOOKUP(A574,'Banco de Funcionários'!$A$2:$D$1048576,2,0),0)","v":0},null,null,null,null,null,"00:00:00",null,"00:00:00","00:00:00"]
[null,{"$f":"IFERROR(VLOOKUP(A575,'Banco de Funcionários'!$A$2:$D$1048576,2,0),0)","v":0},null,null,null,null,null,"00:00:00",null,"00:00:00","00:00:00"]
[null,{"$f":"IFERROR(VLOOKUP(A576,'Banco de Funcionários'!$A$2:$D$1048576,2,0),0)","v":0},null,null,null,null,null,"00:00:00",null,"00:00:00","00:00:00"]
[null,{"$f":"IFERROR(VLOOKUP(A577,'Banco de Funcionários'!$A$2:$D$1048576,2,0),0)","v":0},null,null,null,null,null,"00:00:00",null,"00:00:00","00:00:00"]
[null,{"$f":"IFERROR(VLOOKUP(A578,'Banco de Funcionários'!$A$2:$D$1048576,2,0),0)","v":0},null,null,null,null,null,"00:00:00",null,"00:00:00","00:00:00"]
[null,{"$f":"IFERROR(VLOOKUP(A579,'Banco de Funcionários'!$A$2:$D$1048576,2,0),0)","v":0},null,null,null,null,null,{"$f":"(F579-E579)-G579","v":"00:00:00"},null,{"$f":"IFERROR(H579-I579,\"\")","v":"00:00:00"},{"$f":"IFERROR(H579+J579,0)","v":"00:00:00"}]
[null,{"$f":"IFERROR(VLOOKUP(A580,'Banco de Funcionários'!$A$2:$D$1048576,2,0),0)","v":0},null,null,null,null,null,"00:00:00",null,"00:00:00","00:00:00"]
[null,{"$f":"IFERROR(VLOOKUP(A581,'Banco de Funcionários'!$A$2:$D$1048576,2,0),0)","v":0},null,null,null,null,null,"00:00:00",null,"00:00:00","00:00:00"]
[null,{"$f":"IFERROR(VLOOKUP(A582,'Banco de Funcionários'!$A$2:$D$1048576,2,0),0)","v":0},null,null,null,null,null,"00:00:00",null,"00:00:00","00:00:00"]
[null,{"$f":"IFERROR(VLOOKUP(A583,'Banco de Funcionários'!$A$2:$D$1048576,2,0),0)","v":0},null,null,null,null,null,"00:00:00",null,"00:00:00","00:00:00"]
[null,{"$f":"IFERROR(VLOOKUP(A584,'Banco de Funcionários'!$A$2:$D$1048576,2,0),0)","v":0},null,null,null,null,null,"00:00:00",null,"00:00:00","00:00:00"]
[null,{"$f":"IFERROR(VLOOKUP(A585,'Banco de Funcionários'!$A$2:$D$1048576,2,0),0)","v":0},null,null,null,null,null,"00:00:00",null,"00:00:00","00:00:00"]
[null,{"$f":"IFERROR(VLOOKUP(A586,'Banco de Funcionários'!$A$2:$D$1048576,2,0),0)","v":0},null,null,null,null,null,"00:00:00",null,"00:00:00","00:00:00"]
[null,{"$f":"IFERROR(VLOOKUP(A587,'Banco de Funcionários'!$A$2:$D$1048576,2,0),0)","v":0},null,null,null,null,null,"00:00:00",null,"00:00:00","00:00:00"]
[null,{"$f":"IFERROR(VLOOKUP(A588,'Banco de Funcionários'!$A$2:$D$1048576,2,0),0)","v":0},null,null,null,null,null,"00:00:00",null,"00:00:00","00:00:00"]
[null,{"$f":"IFERROR(VLOOKUP(A589,'Banco de Funcionários'!$A$2:$D$1048576,2,0),0)","v":0},null,null,null,null,null,"00:00:00",null,"00:00:00","00:00:00"]
[null,{"$f":"IFERROR(VLOOKUP(A590,'Banco de Funcionários'!$A$2:$D$1048576,2,0),0)","v":0},null,null,null,null,null,"00:00:00",null,"00:00:00","00:00:00"]
[null,{"$f":"IFERROR(VLOOKUP(A591,'Banco de Funcionários'!$A$2:$D$1048576,2,0),0)","v":0},null,null,null,null,null,"00:00:00",null,"00:00:00","00:00:00"]
[null,{"$f":"IFERROR(VLOOKUP(A592,'Banco de Funcionários'!$A$2:$D$1048576,2,0),0)","v":0},null,null,null,null,null,"00:00:00",null,"00:00:00","00:00:00"]
[null,{"$f":"IFERROR(VLOOKUP(A593,'Banco de Funcionários'!$A$2:$D$1048576,2,0),0)","v":0},null,null,null,null,null,"00:00:00",null,"00:00:00","00:00:00"]
[null,{"$f":"IFERROR(VLOOKUP(A594,'Banco de Funcionários'!$A$2:$D$1048576,2,0),0)","v":0},null,null,null,null,null,"00:00:00",null,"00:00:00","00:00:00"]
[null,{"$f":"IFERROR(VLOOKUP(A595,'Banco de Funcionários'!$A$2:$D$1048576,2,0),0)","v":0},null,null,null,null,null,"00:00:00",null,"00:00:00","00:00:00"]
[null,{"$f":"IFERROR(VLOOKUP(A596,'Banco de Funcionários'!$A$2:$D$1048576,2,0),0)","v":0},null,null,null,null,null,"00:00:00",null,"00:00:00","00:00:00"]
[null,{"$f":"IFERROR(VLOOKUP(A597,'Banco de Funcionários'!$A$2:$D$1048576,2,0),0)","v":0},null,null,null,null,null,"00:00:00",null,"00:00:00","00:00:00"]
[null,{"$f":"IFERROR(VLOOKUP(A598,'Banco de Funcionários'!$A$2:$D$1048576,2,0),0)","v":0},null,null,null,null,null,"00:00:00",null,"00:00:00","00:00:00"]
[null,{"$f":"IFERROR(VLOOKUP(A599,'Banco de Funcionários'!$A$2:$D$1048576,2,0),0)","v":0},null,null,null,null,null,"00:00:00",null,"00:00:00","00:00:00"]
[null,{"$f":"IFERROR(VLOOKUP(A600,'Banco de Funcionários'!$A$2:$D$1048576,2,0),0)","v":0},null,null,null,null,null,"00:00:00",null,"00:00:00","00:00:00"]
[null,{"$f":"IFERROR(VLOOKUP(A601,'Banco de Funcionários'!$A$2:$D$1048576,2,0),0)","v":0},null,null,null,null,null,"00:00:00",null,"00:00:00","00:00:00"]
[null,{"$f":"IFERROR(VLOOKUP(A602,'Banco de Funcionários'!$A$2:$D$1048576,2,0),0)","v":0},null,null,null,null,null,"00:00:00",null,"00:00:00","00:00:00"]
[null,{"$f":"IFERROR(VLOOKUP(A603,'Banco de Funcionários'!$A$2:$D$1048576,2,0),0)","v":0},null,null,null,null,null,"00:00:00",null,"00:00:00","00:00:00"]
[null,{"$f":"IFERROR(VLOOKUP(A604,'Banco de Funcionários'!$A$2:$D$1048576,2,0),0)","v":0},null,null,null,null,null,"00:00:00",null,"00:00:00","00:00:00"]
[null,{"$f":"IFERROR(VLOOKUP(A605,'Banco de Funcionários'!$A$2:$D$1048576,2,0),0)","v":0},null,null,null,null,null,"00:00:00",null,"00:00:00","00:00:00"]
[null,{"$f":"IFERROR(VLOOKUP(A606,'Banco de Funcionários'!$A$2:$D$1048576,2,0),0)","v":0},null,null,null,null,null,"00:00:00",null,"00:00:00","00:00:00"]
[null,{"$f":"IFERROR(VLOOKUP(A607,'Banco de Funcionários'!$A$2:$D$1048576,2,0),0)","v":0},null,null,null,null,null,"00:00:00",null,"00:00:00","00:00:00"]
[null,{"$f":"IFERROR(VLOOKUP(A608,'Banco de Funcionários'!$A$2:$D$1048576,2,0),0)","v":0},null,null,null,null,null,"00:00:00",null,"00:00:00","00:00:00"]
[null,{"$f":"IFERROR(VLOOKUP(A609,'Banco de Funcionários'!$A$2:$D$1048576,2,0),0)","v":0},null,null,null,null,null,"00:00:00",null,"00:00:00","00:00:00"]
[null,{"$f":"IFERROR(VLOOKUP(A610,'Banco de Funcionários'!$A$2:$D$1048576,2,0),0)","v":0},null,null,null,null,null,"00:00:00",null,"00:00:00","00:00:00"]
[null,{"$f":"IFERROR(VLOOKUP(A611,'Banco de Funcionários'!$A$2:$D$1048576,2,0),0)","v":0},null,null,null,null,null,"00:00:00",null,"00:00:00","00:00:00"]
[null,{"$f":"IFERROR(VLOOKUP(A612,'Banco de Funcionários'!$A$2:$D$1048576,2,0),0)","v":0},null,null,null,null,null,"00:00:00",null,"00:00:00","00:00:00"]
[null,{"$f":"IFERROR(VLOOKUP(A613,'Banco de Funcionários'!$A$2:$D$1048576,2,0),0)","v":0},null,null,null,null,null,"00:00:00",null,"00:00:00","00:00:00"]
[null,{"$f":"IFERROR(VLOOKUP(A614,'Banco de Funcionários'!$A$2:$D$1048576,2,0),0)","v":0},null,null,null,null,null,"00:00:00",null,"00:00:00","00:00:00"]
[null,{"$f":"IFERROR(VLOOKUP(A615,'Banco de Funcionários'!$A$2:$D$1048576,2,0),0)","v":0},null,null,null,null,null,"00:00:00",null,"00:00:00","00:00:00"]
[null,{"$f":"IFERROR(VLOOKUP(A616,'Banco de Funcionários'!$A$2:$D$1048576,2,0),0)","v":0},null,null,null,null,null,"00:00:00",null,"00:00:00","00:00:00"]
[null,{"$f":"IFERROR(VLOOKUP(A617,'Banco de Funcionários'!$A$2:$D$1048576,2,0),0)","v":0},null,null,null,null,null,"00:00:00",null,"00:00:00","00:00:00"]
[null,{"$f":"IFERROR(VLOOKUP(A618,'Banco de Funcionários'!$A$2:$D$1048576,2,0),0)","v":0},null,null,null,null,null,"00:00:00",null,"00:00:00","00:00:00"]
[null,{"$f":"IFERROR(VLOOKUP(A619,'Banco de Funcionários'!$A$2:$D$1048576,2,0),0)","v":0},null,null,null,null,null,"00:00:00",null,"00:00:00","00:00:00"]
[null,{"$f":"IFERROR(VLOOKUP(A620,'Banco de Funcionários'!$A$2:$D$1048576,2,0),0)","v":0},null,null,null,null,null,"00:00:00",null,"00:00:00","00:00:00"]
[null,{"$f":"IFERROR(VLOOKUP(A621,'Banco de Funcionários'!$A$2:$D$1048576,2,0),0)","v":0},null,null,null,null,null,"00:00:00",null,"00:00:00","00:00:00"]
[null,{"$f":"IFERROR(VLOOKUP(A622,'Banco de Funcionários'!$A$2:$D$1048576,2,0),0)","v":0},null,null,null,null,null,"00:00:00",null,"00:00:00","00:00:00"]
[null,{"$f":"IFERROR(VLOOKUP(A623,'Banco de Funcionários'!$A$2:$D$1048576,2,0),0)","v":0},null,null,null,null,null,"00:00:00",null,"00:00:00","00:00:00"]
[null,{"$f":"IFERROR(VLOOKUP(A624,'Banco de Funcionários'!$A$2:$D$1048576,2,0),0)","v":0},null,null,null,null,null,"00:00:00",null,"00:00:00","00:00:00"]
[null,{"$f":"IFERROR(VLOOKUP(A625,'Banco de Funcionários'!$A$2:$D$1048576,2,0),0)","v":0},null,null,null,null,null,"00:00:00",null,"00:00:00","00:00:00"]
[null,{"$f":"IFERROR(VLOOKUP(A626,'Banco de Funcionários'!$A$2:$D$1048576,2,0),0)","v":0},null,null,null,null,null,"00:00:00",null,"00:00:00","00:00:00"]
[null,{"$f":"IFERROR(VLOOKUP(A627,'Banco de Funcionários'!$A$2:$D$1048576,2,0),0)","v":0},null,null,null,null,null,"00:00:00",null,"00:00:00","00:00:00"]
[null,{"$f":"IFERROR(VLOOKUP(A628,'Banco de Funcionários'!$A$2:$D$1048576,2,0),0)","v":0},null,null,null,null,null,"00:00:00",null,"00:00:00","00:00:00"]
[null,{"$f":"IFERROR(VLOOKUP(A629,'Banco de Funcionários'!$A$2:$D$1048576,2,0),0)","v":0},null,null,null,null,null,"00:00:00",null,"00:00:00","00:00:00"]
[null,{"$f":"IFERROR(VLOOKUP(A630,'Banco de Funcionários'!$A$2:$D$1048576,2,0),0)","v":0},null,null,null,null,null,"00:00:00",null,"00:00:00","00:00:00"]
[null,{"$f":"IFERROR(VLOOKUP(A631,'Banco de Funcionários'!$A$2:$D$1048576,2,0),0)","v":0},null,null,null,null,null,"00:00:00",null,"00:00:00","00:00:00"]
[null,{"$f":"IFERROR(VLOOKUP(A632,'Banco de Funcionários'!$A$2:$D$1048576,2,0),0)","v":0},null,null,null,null,null,"00:00:00",null,"00:00:00","00:00:00"]
[null,{"$f":"IFERROR(VLOOKUP(A633,'Banco de Funcionários'!$A$2:$D$1048576,2,0),0)","v":0},null,null,null,null,null,"00:00:00",null,"00:00:00","00:00:00"]
[null,{"$f":"IFERROR(VLOOKUP(A634,'Banco de Funcionários'!$A$2:$D$1048576,2,0),0)","v":0},null,null,null,null,null,"00:00:00",null,"00:00:00","00:00:00"]
[null,{"$f":"IFERROR(VLOOKUP(A635,'Banco de Funcionários'!$A$2:$D$1048576,2,0),0)","v":0},null,null,null,null,null,"00:00:00",null,"00:00:00","00:00:00"]
[null,{"$f":"IFERROR(VLOOKUP(A636,'Banco de Funcionários'!$A$2:$D$1048576,2,0),0)","v":0},null,null,null,null,null,"00:00:00",null,"00:00:00","00:00:00"]
[null,{"$f":"IFERROR(VLOOKUP(A637,'Banco de Funcionários'!$A$2:$D$1048576,2,0),0)","v":0},null,null,null,null,null,"00:00:00",null,"00:00:00","00:00:00"]
[null,{"$f":"IFERROR(VLOOKUP(A638,'Banco de Funcionários'!$A$2:$D$1048576,2,0),0)","v":0},null,null,null,null,null,"00:00:00",null,"00:00:00","00:00:00"]
[null,{"$f":"IFERROR(VLOOKUP(A639,'Banco de Funcionários'!$A$2:$D$1048576,2,0),0)","v":0},null,null,null,null,null,"00:00:00",null,"00:00:00","00:00:00"]
[null,{"$f":"IFERROR(VLOOKUP(A640,'Banco de Funcionários'!$A$2:$D$1048576,2,0),0)","v":0},null,null,null,null,null,"00:00:00",null,"00:00:00","00:00:00"]
[null,{"$f":"IFERROR(VLOOKUP(A641,'Banco de Funcionários'!$A$2:$D$1048576,2,0),0)","v":0},null,null,null,null,null,"00:00:00",null,"00:00:00","00:00:00"]
[null,{"$f":"IFERROR(VLOOKUP(A642,'Banco de Funcionários'!$A$2:$D$1048576,2,0),0)","v":0},null,null,null,null,null,"00:00:00",null,"00:00:00","00:00:00"]
[null,{"$f":"IFERROR(VLOOKUP(A643,'Banco de Funcionários'!$A$2:$D$1048576,2,0),0)","v":0},null,null,null,null,null,{"$f":"(F643-E643)-G643","v":"00:00:00"},null,{"$f":"IFERROR(H643-I643,\"\")","v":"00:00:00"},{"$f":"IFERROR(H643+J643,0)","v":"00:00:00"}]
[null,{"$f":"IFERROR(VLOOKUP(A644,'Banco de Funcionários'!$A$2:$D$1048576,2,0),0)","v":0},null,null,null,null,null,"00:00:00",null,"00:00:00","00:00:00"]
[null,{"$f":"IFERROR(VLOOKUP(A645,'Banco de Funcionários'!$A$2:$D$1048576,2,0),0)","v":0},null,null,null,null,null,"00:00:00",null,"00:00:00","00:00:00"]
[null,{"$f":"IFERROR(VLOOKUP(A646,'Banco de Funcionários'!$A$2:$D$1048576,2,0),0)","v":0},null,null,null,null,null,"00:00:00",null,"00:00:00","00:00:00"]
[null,{"$f":"IFERROR(VLOOKUP(A647,'Banco de Funcionários'!$A$2:$D$1048576,2,0),0)","v":0},null,null,null,null,null,"00:00:00",null,"00:00:00","00:00:00"]
[null,{"$f":"IFERROR(VLOOKUP(A648,'Banco de Funcionários'!$A$2:$D$1048576,2,0),0)","v":0},null,null,null,null,null,"00:00:00",null,"00:00:00","00:00:00"]
[null,{"$f":"IFERROR(VLOOKUP(A649,'Banco de Funcionários'!$A$2:$D$1048576,2,0),0)","v":0},null,null,null,null,null,"00:00:00",null,"00:00:00","00:00:00"]
[null,{"$f":"IFERROR(VLOOKUP(A650,'Banco de Funcionários'!$A$2:$D$1048576,2,0),0)","v":0},null,null,null,null,null,"00:00:00",null,"00:00:00","00:00:00"]
[null,{"$f":"IFERROR(VLOOKUP(A651,'Banco de Funcionários'!$A$2:$D$1048576,2,0),0)","v":0},null,null,null,null,null,"00:00:00",null,"00:00:00","00:00:00"]
[null,{"$f":"IFERROR(VLOOKUP(A652,'Banco de Funcionários'!$A$2:$D$1048576,2,0),0)","v":0},null,null,null,null,null,"00:00:00",null,"00:00:00","00:00:00"]
[null,{"$f":"IFERROR(VLOOKUP(A653,'Banco de Funcionários'!$A$2:$D$1048576,2,0),0)","v":0},null,null,null,null,null,"00:00:00",null,"00:00:00","00:00:00"]
[null,{"$f":"IFERROR(VLOOKUP(A654,'Banco de Funcionários'!$A$2:$D$1048576,2,0),0)","v":0},null,null,null,null,null,"00:00:00",null,"00:00:00","00:00:00"]
[null,{"$f":"IFERROR(VLOOKUP(A655,'Banco de Funcionários'!$A$2:$D$1048576,2,0),0)","v":0},null,null,null,null,null,"00:00:00",null,"00:00:00","00:00:00"]
[null,{"$f":"IFERROR(VLOOKUP(A656,'Banco de Funcionários'!$A$2:$D$1048576,2,0),0)","v":0},null,null,null,null,null,"00:00:00",null,"00:00:00","00:00:00"]
[null,{"$f":"IFERROR(VLOOKUP(A657,'Banco de Funcionários'!$A$2:$D$1048576,2,0),0)","v":0},null,null,null,null,null,"00:00:00",null,"00:00:00","00:00:00"]
[null,{"$f":"IFERROR(VLOOKUP(A658,'Banco de Funcionários'!$A$2:$D$1048576,2,0),0)","v":0},null,null,null,null,null,"00:00:00",null,"00:00:00","00:00:00"]
[null,{"$f":"IFERROR(VLOOKUP(A659,'Banco de Funcionários'!$A$2:$D$1048576,2,0),0)","v":0},null,null,null,null,null,"00:00:00",null,"00:00:00","00:00:00"]
[null,{"$f":"IFERROR(VLOOKUP(A660,'Banco de Funcionários'!$A$2:$D$1048576,2,0),0)","v":0},null,null,null,null,null,"00:00:00",null,"00:00:00","00:00:00"]
[null,{"$f":"IFERROR(VLOOKUP(A661,'Banco de Funcionários'!$A$2:$D$1048576,2,0),0)","v":0},null,null,null,null,null,"00:00:00",null,"00:00:00","00:00:00"]
[null,{"$f":"IFERROR(VLOOKUP(A662,'Banco de Funcionários'!$A$2:$D$1048576,2,0),0)","v":0},null,null,null,null,null,"00:00:00",null,"00:00:00","00:00:00"]
[null,{"$f":"IFERROR(VLOOKUP(A663,'Banco de Funcionários'!$A$2:$D$1048576,2,0),0)","v":0},null,null,null,null,null,"00:00:00",null,"00:00:00","00:00:00"]
[null,{"$f":"IFERROR(VLOOKUP(A664,'Banco de Funcionários'!$A$2:$D$1048576,2,0),0)","v":0},null,null,null,null,null,"00:00:00",null,"00:00:00","00:00:00"]
[null,{"$f":"IFERROR(VLOOKUP(A665,'Banco de Funcionários'!$A$2:$D$1048576,2,0),0)","v":0},null,null,null,null,null,"00:00:00",null,"00:00:00","00:00:00"]
[null,{"$f":"IFERROR(VLOOKUP(A666,'Banco de Funcionários'!$A$2:$D$1048576,2,0),0)","v":0},null,null,null,null,null,"00:00:00",null,"00:00:00","00:00:00"]
[null,{"$f":"IFERROR(VLOOKUP(A667,'Banco de Funcionários'!$A$2:$D$1048576,2,0),0)","v":0},null,null,null,null,null,"00:00:00",null,"00:00:00","00:00:00"]
[null,{"$f":"IFERROR(VLOOKUP(A668,'Banco de Funcionários'!$A$2:$D$1048576,2,0),0)","v":0},null,null,null,null,null,"00:00:00",null,"00:00:00","00:00:00"]
[null,{"$f":"IFERROR(VLOOKUP(A669,'Banco de Funcionários'!$A$2:$D$1048576,2,0),0)","v":0},null,null,null,null,null,"00:00:00",null,"00:00:00","00:00:00"]
[null,{"$f":"IFERROR(VLOOKUP(A670,'Banco de Funcionários'!$A$2:$D$1048576,2,0),0)","v":0},null,null,null,null,null,"00:00:00",null,"00:00:00","00:00:00"]
[null,{"$f":"IFERROR(VLOOKUP(A671,'Banco de Funcionários'!$A$2:$D$1048576,2,0),0)","v":0},null,null,null,null,null,"00:00:00",null,"00:00:00","00:00:00"]
[null,{"$f":"IFERROR(VLOOKUP(A672,'Banco de Funcionários'!$A$2:$D$1048576,2,0),0)","v":0},null,null,null,null,null,"00:00:00",null,"00:00:00","00:00:00"]
[null,{"$f":"IFERROR(VLOOKUP(A673,'Banco de Funcionários'!$A$2:$D$1048576,2,0),0)","v":0},null,null,null,null,null,"00:00:00",null,"00:00:00","00:00:00"]
[null,{"$f":"IFERROR(VLOOKUP(A674,'Banco de Funcionários'!$A$2:$D$1048576,2,0),0)","v":0},null,null,null,null,null,"00:00:00",null,"00:00:00","00:00:00"]
[null,{"$f":"IFERROR(VLOOKUP(A675,'Banco de Funcionários'!$A$2:$D$1048576,2,0),0)","v":0},null,null,null,null,null,"00:00:00",null,"00:00:00","00:00:00"]
[null,{"$f":"IFERROR(VLOOKUP(A676,'Banco de Funcionários'!$A$2:$D$1048576,2,0),0)","v":0},null,null,null,null,null,"00:00:00",null,"00:00:00","00:00:00"]
[null,{"$f":"IFERROR(VLOOKUP(A677,'Banco de Funcionários'!$A$2:$D$1048576,2,0),0)","v":0},null,null,null,null,null,"00:00:00",null,"00:00:00","00:00:00"]
[null,{"$f":"IFERROR(VLOOKUP(A678,'Banco de Funcionários'!$A$2:$D$1048576,2,0),0)","v":0},null,null,null,null,null,"00:00:00",null,"00:00:00","00:00:00"]
[null,{"$f":"IFERROR(VLOOKUP(A679,'Banco de Funcionários'!$A$2:$D$1048576,2,0),0)","v":0},null,null,null,null,null,"00:00:00",null,"00:00:00","00:00:00"]
[null,{"$f":"IFERROR(VLOOKUP(A680,'Banco de Funcionários'!$A$2:$D$1048576,2,0),0)","v":0},null,null,null,null,null,"00:00:00",null,"00:00:00","00:00:00"]
[null,{"$f":"IFERROR(VLOOKUP(A681,'Banco de Funcionários'!$A$2:$D$1048576,2,0),0)","v":0},null,null,null,null,null,"00:00:00",null,"00:00:00","00:00:00"]
[null,{"$f":"IFERROR(VLOOKUP(A682,'Banco de Funcionários'!$A$2:$D$1048576,2,0),0)","v":0},null,null,null,null,null,"00:00:00",null,"00:00:00","00:00:00"]
[null,{"$f":"IFERROR(VLOOKUP(A683,'Banco de Funcionários'!$A$2:$D$1048576,2,0),0)","v":0},null,null,null,null,null,"00:00:00",null,"00:00:00","00:00:00"]
[null,{"$f":"IFERROR(VLOOKUP(A684,'Banco de Funcionários'!$A$2:$D$1048576,2,0),0)","v":0},null,null,null,null,null,"00:00:00",null,"00:00:00","00:00:00"]
[null,{"$f":"IFERROR(VLOOKUP(A685,'Banco de Funcionários'!$A$2:$D$1048576,2,0),0)","v":0},null,null,null,null,null,"00:00:00",null,"00:00:00","00:00:00"]
[null,{"$f":"IFERROR(VLOOKUP(A686,'Banco de Funcionários'!$A$2:$D$1048576,2,0),0)","v":0},null,null,null,null,null,"00:00:00",null,"00:00:00","00:00:00"]
[null,{"$f":"IFERROR(VLOOKUP(A687,'Banco de Funcionários'!$A$2:$D$1048576,2,0),0)","v":0},null,null,null,null,null,"00:00:00",null,"00:00:00","00:00:00"]
[null,{"$f":"IFERROR(VLOOKUP(A688,'Banco de Funcionários'!$A$2:$D$1048576,2,0),0)","v":0},null,null,null,null,null,"00:00:00",null,"00:00:00","00:00:00"]
[null,{"$f":"IFERROR(VLOOKUP(A689,'Banco de Funcionários'!$A$2:$D$1048576,2,0),0)","v":0},null,null,null,null,null,"00:00:00",null,"00:00:00","00:00:00"]
[null,{"$f":"IFERROR(VLOOKUP(A690,'Banco de Funcionários'!$A$2:$D$1048576,2,0),0)","v":0},null,null,null,null,null,"00:00:00",null,"00:00:00","00:00:00"]
[null,{"$f":"IFERROR(VLOOKUP(A691,'Banco de Funcionários'!$A$2:$D$1048576,2,0),0)","v":0},null,null,null,null,null,"00:00:00",null,"00:00:00","00:00:00"]
[null,{"$f":"IFERROR(VLOOKUP(A692,'Banco de Funcionários'!$A$2:$D$1048576,2,0),0)","v":0},null,null,null,null,null,"00:00:00",null,"00:00:00","00:00:00"]
[null,{"$f":"IFERROR(VLOOKUP(A693,'Banco de Funcionários'!$A$2:$D$1048576,2,0),0)","v":0},null,null,null,null,null,"00:00:00",null,"00:00:00","00:00:00"]
[null,{"$f":"IFERROR(VLOOKUP(A694,'Banco de Funcionários'!$A$2:$D$1048576,2,0),0)","v":0},null,null,null,null,null,"00:00:00",null,"00:00:00","00:00:00"]
[null,{"$f":"IFERROR(VLOOKUP(A695,'Banco de Funcionários'!$A$2:$D$1048576,2,0),0)","v":0},null,null,null,null,null,"00:00:00",null,"00:00:00","00:00:00"]
[null,{"$f":"IFERROR(VLOOKUP(A696,'Banco de Funcionários'!$A$2:$D$1048576,2,0),0)","v":0},null,null,null,null,null,"00:00:00",null,"00:00:00","00:00:00"]
[null,{"$f":"IFERROR(VLOOKUP(A697,'Banco de Funcionários'!$A$2:$D$1048576,2,0),0)","v":0},null,null,null,null,null,"00:00:00",null,"00:00:00","00:00:00"]
[null,{"$f":"IFERROR(VLOOKUP(A698,'Banco de Funcionários'!$A$2:$D$1048576,2,0),0)","v":0},null,null,null,null,null,"00:00:00",null,"00:00:00","00:00:00"]
[null,{"$f":"IFERROR(VLOOKUP(A699,'Banco de Funcionários'!$A$2:$D$1048576,2,0),0)","v":0},null,null,null,null,null,"00:00:00",null,"00:00:00","00:00:00"]
[null,{"$f":"IFERROR(VLOOKUP(A700,'Banco de Funcionários'!$A$2:$D$1048576,2,0),0)","v":0},null,null,null,null,null,"00:00:00",null,"00:00:00","00:00:00"]
[null,{"$f":"IFERROR(VLOOKUP(A701,'Banco de Funcionários'!$A$2:$D$1048576,2,0),0)","v":0},null,null,null,null,null,"00:00:00",null,"00:00:00","00:00:00"]
[null,{"$f":"IFERROR(VLOOKUP(A702,'Banco de Funcionários'!$A$2:$D$1048576,2,0),0)","v":0},null,null,null,null,null,"00:00:00",null,"00:00:00","00:00:00"]
[null,{"$f":"IFERROR(VLOOKUP(A703,'Banco de Funcionários'!$A$2:$D$1048576,2,0),0)","v":0},null,null,null,null,null,"00:00:00",null,"00:00:00","00:00:00"]
[null,{"$f":"IFERROR(VLOOKUP(A704,'Banco de Funcionários'!$A$2:$D$1048576,2,0),0)","v":0},null,null,null,null,null,"00:00:00",null,"00:00:00","00:00:00"]
[null,{"$f":"IFERROR(VLOOKUP(A705,'Banco de Funcionários'!$A$2:$D$1048576,2,0),0)","v":0},null,null,null,null,null,"00:00:00",null,"00:00:00","00:00:00"]
[null,{"$f":"IFERROR(VLOOKUP(A706,'Banco de Funcionários'!$A$2:$D$1048576,2,0),0)","v":0},null,null,null,null,null,"00:00:00",null,"00:00:00","00:00:00"]
[null,{"$f":"IFERROR(VLOOKUP(A707,'Banco de Funcionários'!$A$2:$D$1048576,2,0),0)","v":0},null,null,null,null,null,{"$f":"(F707-E707)-G707","v":"00:00:00"},null,{"$f":"IFERROR(H707-I707,\"\")","v":"00:00:00"},{"$f":"IFERROR(H707+J707,0)","v":"00:00:00"}]
[null,{"$f":"IFERROR(VLOOKUP(A708,'Banco de Funcionários'!$A$2:$D$1048576,2,0),0)","v":0},null,null,null,null,null,"00:00:00",null,"00:00:00","00:00:00"]
[null,{"$f":"IFERROR(VLOOKUP(A709,'Banco de Funcionários'!$A$2:$D$1048576,2,0),0)","v":0},null,null,null,null,null,"00:00:00",null,"00:00:00","00:00:00"]
[null,{"$f":"IFERROR(VLOOKUP(A710,'Banco de Funcionários'!$A$2:$D$1048576,2,0),0)","v":0},null,null,null,null,null,"00:00:00",null,"00:00:00","00:00:00"]
[null,{"$f":"IFERROR(VLOOKUP(A711,'Banco de Funcionários'!$A$2:$D$1048576,2,0),0)","v":0},null,null,null,null,null,"00:00:00",null,"00:00:00","00:00:00"]
[null,{"$f":"IFERROR(VLOOKUP(A712,'Banco de Funcionários'!$A$2:$D$1048576,2,0),0)","v":0},null,null,null,null,null,"00:00:00",null,"00:00:00","00:00:00"]
[null,{"$f":"IFERROR(VLOOKUP(A713,'Banco de Funcionários'!$A$2:$D$1048576,2,0),0)","v":0},null,null,null,null,null,"00:00:00",null,"00:00:00","00:00:00"]
[null,{"$f":"IFERROR(VLOOKUP(A714,'Banco de Funcionários'!$A$2:$D$1048576,2,0),0)","v":0},null,null,null,null,null,"00:00:00",null,"00:00:00","00:00:00"]
[null,{"$f":"IFERROR(VLOOKUP(A715,'Banco de Funcionários'!$A$2:$D$1048576,2,0),0)","v":0},null,null,null,null,null,"00:00:00",null,"00:00:00","00:00:00"]
[null,{"$f":"IFERROR(VLOOKUP(A716,'Banco de Funcionários'!$A$2:$D$1048576,2,0),0)","v":0},null,null,null,null,null,"00:00:00",null,"00:00:00","00:00:00"]
[null,{"$f":"IFERROR(VLOOKUP(A717,'Banco de Funcionários'!$A$2:$D$1048576,2,0),0)","v":0},null,null,null,null,null,"00:00:00",null,"00:00:00","00:00:00"]
[null,{"$f":"IFERROR(VLOOKUP(A718,'Banco de Funcionários'!$A$2:$D$1048576,2,0),0)","v":0},null,null,null,null,null,"00:00:00",null,"00:00:00","00:00:00"]
[null,{"$f":"IFERROR(VLOOKUP(A719,'Banco de Funcionários'!$A$2:$D$1048576,2,0),0)","v":0},null,null,null,null,null,"00:00:00",null,"00:00:00","00:00:00"]
[null,{"$f":"IFERROR(VLOOKUP(A720,'Banco de Funcionários'!$A$2:$D$1048576,2,0),0)","v":0},null,null,null,null,null,"00:00:00",null,"00:00:00","00:00:00"]
[null,{"$f":"IFERROR(VLOOKUP(A721,'Banco de Funcionários'!$A$2:$D$1048576,2,0),0)","v":0},null,null,null,null,null,"00:00:00",null,"00:00:00","00:00:00"]
[null,{"$f":"IFERROR(VLOOKUP(A722,'Banco de Funcionários'!$A$2:$D$1048576,2,0),0)","v":0},null,null,null,null,null,"00:00:00",null,"00:00:00","00:00:00"]
[null,{"$f":"IFERROR(VLOOKUP(A723,'Banco de Funcionários'!$A$2:$D$1048576,2,0),0)","v":0},null,null,null,null,null,"00:00:00",null,"00:00:00","00:00:00"]
[null,{"$f":"IFERROR(VLOOKUP(A724,'Banco de Funcionários'!$A$2:$D$1048576,2,0),0)","v":0},null,null,null,null,null,"00:00:00",null,"00:00:00","00:00:00"]
[null,{"$f":"IFERROR(VLOOKUP(A725,'Banco de Funcionários'!$A$2:$D$1048576,2,0),0)","v":0},null,null,null,null,null,"00:00:00",null,"00:00:00","00:00:00"]
[null,{"$f":"IFERROR(VLOOKUP(A726,'Banco de Funcionários'!$A$2:$D$1048576,2,0),0)","v":0},null,null,null,null,null,"00:00:00",null,"00:00:00","00:00:00"]
[null,{"$f":"IFERROR(VLOOKUP(A727,'Banco de Funcionários'!$A$2:$D$1048576,2,0),0)","v":0},null,null,null,null,null,"00:00:00",null,"00:00:00","00:00:00"]
[null,{"$f":"IFERROR(VLOOKUP(A728,'Banco de Funcionários'!$A$2:$D$1048576,2,0),0)","v":0},null,null,null,null,null,"00:00:00",null,"00:00:00","00:00:00"]
[null,{"$f":"IFERROR(VLOOKUP(A729,'Banco de Funcionários'!$A$2:$D$1048576,2,0),0)","v":0},null,null,null,null,null,"00:00:00",null,"00:00:00","00:00:00"]
[null,{"$f":"IFERROR(VLOOKUP(A730,'Banco de Funcionários'!$A$2:$D$1048576,2,0),0)","v":0},null,null,null,null,null,"00:00:00",null,"00:00:00","00:00:00"]
[null,{"$f":"IFERROR(VLOOKUP(A731,'Banco de Funcionários'!$A$2:$D$1048576,2,0),0)","v":0},null,null,null,null,null,"00:00:00",null,"00:00:00","00:00:00"]
[null,{"$f":"IFERROR(VLOOKUP(A732,'Banco de Funcionários'!$A$2:$D$1048576,2,0),0)","v":0},null,null,null,null,null,"00:00:00",null,"00:00:00","00:00:00"]
[null,{"$f":"IFERROR(VLOOKUP(A733,'Banco de Funcionários'!$A$2:$D$1048576,2,0),0)","v":0},null,null,null,null,null,"00:00:00",null,"00:00:00","00:00:00"]
[null,{"$f":"IFERROR(VLOOKUP(A734,'Banco de Funcionários'!$A$2:$D$1048576,2,0),0)","v":0},null,null,null,null,null,"00:00:00",null,"00:00:00","00:00:00"]
[null,{"$f":"IFERROR(VLOOKUP(A735,'Banco de Funcionários'!$A$2:$D$1048576,2,0),0)","v":0},null,null,null,null,null,"00:00:00",null,"00:00:00","00:00:00"]
[null,{"$f":"IFERROR(VLOOKUP(A736,'Banco de Funcionários'!$A$2:$D$1048576,2,0),0)","v":0},null,null,null,null,null,"00:00:00",null,"00:00:00","00:00:00"]
[null,{"$f":"IFERROR(VLOOKUP(A737,'Banco de Funcionários'!$A$2:$D$1048576,2,0),0)","v":0},null,null,null,null,null,"00:00:00",null,"00:00:00","00:00:00"]
[null,{"$f":"IFERROR(VLOOKUP(A738,'Banco de Funcionários'!$A$2:$D$1048576,2,0),0)","v":0},null,null,null,null,null,"00:00:00",null,"00:00:00","00:00:00"]
[null,{"$f":"IFERROR(VLOOKUP(A739,'Banco de Funcionários'!$A$2:$D$1048576,2,0),0)","v":0},null,null,null,null,null,"00:00:00",null,"00:00:00","00:00:00"]
[null,{"$f":"IFERROR(VLOOKUP(A740,'Banco de Funcionários'!$A$2:$D$1048576,2,0),0)","v":0},null,null,null,null,null,"00:00:00",null,"00:00:00","00:00:00"]
[null,{"$f":"IFERROR(VLOOKUP(A741,'Banco de Funcionários'!$A$2:$D$1048576,2,0),0)","v":0},null,null,null,null,null,"00:00:00",null,"00:00:00","00:00:00"]
[null,{"$f":"IFERROR(VLOOKUP(A742,'Banco de Funcionários'!$A$2:$D$1048576,2,0),0)","v":0},null,null,null,null,null,"00:00:00",null,"00:00:00","00:00:00"]
[null,{"$f":"IFERROR(VLOOKUP(A743,'Banco de Funcionários'!$A$2:$D$1048576,2,0),0)","v":0},null,null,null,null,null,"00:00:00",null,"00:00:00","00:00:00"]
[null,{"$f":"IFERROR(VLOOKUP(A744,'Banco de Funcionários'!$A$2:$D$1048576,2,0),0)","v":0},null,null,null,null,null,"00:00:00",null,"00:00:00","00:00:00"]
[null,{"$f":"IFERROR(VLOOKUP(A745,'Banco de Funcionários'!$A$2:$D$1048576,2,0),0)","v":0},null,null,null,null,null,"00:00:00",null,"00:00:00","00:00:00"]
[null,{"$f":"IFERROR(VLOOKUP(A746,'Banco de Funcionários'!$A$2:$D$1048576,2,0),0)","v":0},null,null,null,null,null,"00:00:00",null,"00:00:00","00:00:00"]
[null,{"$f":"IFERROR(VLOOKUP(A747,'Banco de Funcionários'!$A$2:$D$1048576,2,0),0)","v":0},null,null,null,null,null,"00:00:00",null,"00:00:00","00:00:00"]
[null,{"$f":"IFERROR(VLOOKUP(A748,'Banco de Funcionários'!$A$2:$D$1048576,2,0),0)","v":0},null,null,null,null,null,"00:00:00",null,"00:00:00","00:00:00"]
[null,{"$f":"IFERROR(VLOOKUP(A749,'Banco de Funcionários'!$A$2:$D$1048576,2,0),0)","v":0},null,null,null,null,null,"00:00:00",null,"00:00:00","00:00:00"]
[null,{"$f":"IFERROR(VLOOKUP(A750,'Banco de Funcionários'!$A$2:$D$1048576,2,0),0)","v":0},null,null,null,null,null,"00:00:00",null,"00:00:00","00:00:00"]
[null,{"$f":"IFERROR(VLOOKUP(A751,'Banco de Funcionários'!$A$2:$D$1048576,2,0),0)","v":0},null,null,null,null,null,"00:00:00",null,"00:00:00","00:00:00"]
[null,{"$f":"IFERROR(VLOOKUP(A752,'Banco de Funcionários'!$A$2:$D$1048576,2,0),0)","v":0},null,null,null,null,null,"00:00:00",null,"00:00:00","00:00:00"]
[null,{"$f":"IFERROR(VLOOKUP(A753,'Banco de Funcionários'!$A$2:$D$1048576,2,0),0)","v":0},null,null,null,null,null,"00:00:00",null,"00:00:00","00:00:00"]
[null,{"$f":"IFERROR(VLOOKUP(A754,'Banco de Funcionários'!$A$2:$D$1048576,2,0),0)","v":0},null,null,null,null,null,"00:00:00",null,"00:00:00","00:00:00"]
[null,{"$f":"IFERROR(VLOOKUP(A755,'Banco de Funcionários'!$A$2:$D$1048576,2,0),0)","v":0},null,null,null,null,null,"00:00:00",null,"00:00:00","00:00:00"]
[null,{"$f":"IFERROR(VLOOKUP(A756,'Banco de Funcionários'!$A$2:$D$1048576,2,0),0)","v":0},null,null,null,null,null,"00:00:00",null,"00:00:00","00:00:00"]
[null,{"$f":"IFERROR(VLOOKUP(A757,'Banco de Funcionários'!$A$2:$D$1048576,2,0),0)","v":0},null,null,null,null,null,"00:00:00",null,"00:00:00","00:00:00"]
[null,{"$f":"IFERROR(VLOOKUP(A758,'Banco de Funcionários'!$A$2:$D$1048576,2,0),0)","v":0},null,null,null,null,null,"00:00:00",null,"00:00:00","00:00:00"]
[null,{"$f":"IFERROR(VLOOKUP(A759,'Banco de Funcionários'!$A$2:$D$1048576,2,0),0)","v":0},null,null,null,null,null,"00:00:00",null,"00:00:00","00:00:00"]
[null,{"$f":"IFERROR(VLOOKUP(A760,'Banco de Funcionários'!$A$2:$D$1048576,2,0),0)","v":0},null,null,null,null,null,"00:00:00",null,"00:00:00","00:00:00"]
[null,{"$f":"IFERROR(VLOOKUP(A761,'Banco de Funcionários'!$A$2:$D$1048576,2,0),0)","v":0},null,null,null,null,null,"00:00:00",null,"00:00:00","00:00:00"]
[null,{"$f":"IFERROR(VLOOKUP(A762,'Banco de Funcionários'!$A$2:$D$1048576,2,0),0)","v":0},null,null,null,null,null,"00:00:00",null,"00:00:00","00:00:00"]
[null,{"$f":"IFERROR(VLOOKUP(A763,'Banco de Funcionários'!$A$2:$D$1048576,2,0),0)","v":0},null,null,null,null,null,"00:00:00",null,"00:00:00","00:00:00"]
[null,{"$f":"IFERROR(VLOOKUP(A764,'Banco de Funcionários'!$A$2:$D$1048576,2,0),0)","v":0},null,null,null,null,null,"00:00:00",null,"00:00:00","00:00:00"]
[null,{"$f":"IFERROR(VLOOKUP(A765,'Banco de Funcionários'!$A$2:$D$1048576,2,0),0)","v":0},null,null,null,null,null,"00:00:00",null,"00:00:00","00:00:00"]
[null,{"$f":"IFERROR(VLOOKUP(A766,'Banco de Funcionários'!$A$2:$D$1048576,2,0),0)","v":0},null,null,null,null,null,"00:00:00",null,"00:00:00","00:00:00"]
[null,{"$f":"IFERROR(VLOOKUP(A767,'Banco de Funcionários'!$A$2:$D$1048576,2,0),0)","v":0},null,null,null,null,null,"00:00:00",null,"00:00:00","00:00:00"]
[null,{"$f":"IFERROR(VLOOKUP(A768,'Banco de Funcionários'!$A$2:$D$1048576,2,0),0)","v":0},null,null,null,null,null,"00:00:00",null,"00:00:00","00:00:00"]
[null,{"$f":"IFERROR(VLOOKUP(A769,'Banco de Funcionários'!$A$2:$D$1048576,2,0),0)","v":0},null,null,null,null,null,"00:00:00",null,"00:00:00","00:00:00"]
[null,{"$f":"IFERROR(VLOOKUP(A770,'Banco de Funcionários'!$A$2:$D$1048576,2,0),0)","v":0},null,null,null,null,null,"00:00:00",null,"00:00:00","00:00:00"]
[null,{"$f":"IFERROR(VLOOKUP(A771,'Banco de Funcionários'!$A$2:$D$1048576,2,0),0)","v":0},null,null,null,null,null,{"$f":"(F771-E771)-G771","v":"00:00:00"},null,{"$f":"IFERROR(H771-I771,\"\")","v":"00:00:00"},{"$f":"IFERROR(H771+J771,0)","v":"00:00:00"}]
[null,{"$f":"IFERROR(VLOOKUP(A772,'Banco de Funcionários'!$A$2:$D$1048576,2,0),0)","v":0},null,null,null,null,null,"00:00:00",null,"00:00:00","00:00:00"]
[null,{"$f":"IFERROR(VLOOKUP(A773,'Banco de Funcionários'!$A$2:$D$1048576,2,0),0)","v":0},null,null,null,null,null,"00:00:00",null,"00:00:00","00:00:00"]
[null,{"$f":"IFERROR(VLOOKUP(A774,'Banco de Funcionários'!$A$2:$D$1048576,2,0),0)","v":0},null,null,null,null,null,"00:00:00",null,"00:00:00","00:00:00"]
[null,{"$f":"IFERROR(VLOOKUP(A775,'Banco de Funcionários'!$A$2:$D$1048576,2,0),0)","v":0},null,null,null,null,null,"00:00:00",null,"00:00:00","00:00:00"]
[null,{"$f":"IFERROR(VLOOKUP(A776,'Banco de Funcionários'!$A$2:$D$1048576,2,0),0)","v":0},null,null,null,null,null,"00:00:00",null,"00:00:00","00:00:00"]
[null,{"$f":"IFERROR(VLOOKUP(A777,'Banco de Funcionários'!$A$2:$D$1048576,2,0),0)","v":0},null,null,null,null,null,"00:00:00",null,"00:00:00","00:00:00"]
[null,{"$f":"IFERROR(VLOOKUP(A778,'Banco de Funcionários'!$A$2:$D$1048576,2,0),0)","v":0},null,null,null,null,null,"00:00:00",null,"00:00:00","00:00:00"]
[null,{"$f":"IFERROR(VLOOKUP(A779,'Banco de Funcionários'!$A$2:$D$1048576,2,0),0)","v":0},null,null,null,null,null,"00:00:00",null,"00:00:00","00:00:00"]
[null,{"$f":"IFERROR(VLOOKUP(A780,'Banco de Funcionários'!$A$2:$D$1048576,2,0),0)","v":0},null,null,null,null,null,"00:00:00",null,"00:00:00","00:00:00"]
[null,{"$f":"IFERROR(VLOOKUP(A781,'Banco de Funcionários'!$A$2:$D$1048576,2,0),0)","v":0},null,null,null,null,null,"00:00:00",null,"00:00:00","00:00:00"]
[null,{"$f":"IFERROR(VLOOKUP(A782,'Banco de Funcionários'!$A$2:$D$1048576,2,0),0)","v":0},null,null,null,null,null,"00:00:00",null,"00:00:00","00:00:00"]
[null,{"$f":"IFERROR(VLOOKUP(A783,'Banco de Funcionários'!$A$2:$D$1048576,2,0),0)","v":0},null,null,null,null,null,"00:00:00",null,"00:00:00","00:00:00"]
[null,{"$f":"IFERROR(VLOOKUP(A784,'Banco de Funcionários'!$A$2:$D$1048576,2,0),0)","v":0},null,null,null,null,null,"00:00:00",null,"00:00:00","00:00:00"]
[null,{"$f":"IFERROR(VLOOKUP(A785,'Banco de Funcionários'!$A$2:$D$1048576,2,0),0)","v":0},null,null,null,null,null,"00:00:00",null,"00:00:00","00:00:00"]
[null,{"$f":"IFERROR(VLOOKUP(A786,'Banco de Funcionários'!$A$2:$D$1048576,2,0),0)","v":0},null,null,null,null,null,"00:00:00",null,"00:00:00","00:00:00"]
[null,{"$f":"IFERROR(VLOOKUP(A787,'Banco de Funcionários'!$A$2:$D$1048576,2,0),0)","v":0},null,null,null,null,null,"00:00:00",null,"00:00:00","00:00:00"]
[null,{"$f":"IFERROR(VLOOKUP(A788,'Banco de Funcionários'!$A$2:$D$1048576,2,0),0)","v":0},null,null,null,null,null,"00:00:00",null,"00:00:00","00:00:00"]
[null,{"$f":"IFERROR(VLOOKUP(A789,'Banco de Funcionários'!$A$2:$D$1048576,2,0),0)","v":0},null,null,null,null,null,"00:00:00",null,"00:00:00","00:00:00"]
[null,{"$f":"IFERROR(VLOOKUP(A790,'Banco de Funcionários'!$A$2:$D$1048576,2,0),0)","v":0},null,null,null,null,null,"00:00:00",null,"00:00:00","00:00:00"]
[null,{"$f":"IFERROR(VLOOKUP(A791,'Banco de Funcionários'!$A$2:$D$1048576,2,0),0)","v":0},null,null,null,null,null,"00:00:00",null,"00:00:00","00:00:00"]
[null,{"$f":"IFERROR(VLOOKUP(A792,'Banco de Funcionários'!$A$2:$D$1048576,2,0),0)","v":0},null,null,null,null,null,"00:00:00",null,"00:00:00","00:00:00"]
[null,{"$f":"IFERROR(VLOOKUP(A793,'Banco de Funcionários'!$A$2:$D$1048576,2,0),0)","v":0},null,null,null,null,null,"00:00:00",null,"00:00:00","00:00:00"]
[null,{"$f":"IFERROR(VLOOKUP(A794,'Banco de Funcionários'!$A$2:$D$1048576,2,0),0)","v":0},null,null,null,null,null,"00:00:00",null,"00:00:00","00:00:00"]
[null,{"$f":"IFERROR(VLOOKUP(A795,'Banco de Funcionários'!$A$2:$D$1048576,2,0),0)","v":0},null,null,null,null,null,"00:00:00",null,"00:00:00","00:00:00"]
[null,{"$f":"IFERROR(VLOOKUP(A796,'Banco de Funcionários'!$A$2:$D$1048576,2,0),0)","v":0},null,null,null,null,null,"00:00:00",null,"00:00:00","00:00:00"]
[null,{"$f":"IFERROR(VLOOKUP(A797,'Banco de Funcionários'!$A$2:$D$1048576,2,0),0)","v":0},null,null,null,null,null,"00:00:00",null,"00:00:00","00:00:00"]
[null,{"$f":"IFERROR(VLOOKUP(A798,'Banco de Funcionários'!$A$2:$D$1048576,2,0),0)","v":0},null,null,null,null,null,"00:00:00",null,"00:00:00","00:00:00"]
[null,{"$f":"IFERROR(VLOOKUP(A799,'Banco de Funcionários'!$A$2:$D$1048576,2,0),0)","v":0},null,null,null,null,null,"00:00:00",null,"00:00:00","00:00:00"]
[null,{"$f":"IFERROR(VLOOKUP(A800,'Banco de Funcionários'!$A$2:$D$1048576,2,0),0)","v":0},null,null,null,null,null,"00:00:00",null,"00:00:00","00:00:00"]
[null,{"$f":"IFERROR(VLOOKUP(A801,'Banco de Funcionários'!$A$2:$D$1048576,2,0),0)","v":0},null,null,null,null,null,"00:00:00",null,"00:00:00","00:00:00"]
[null,{"$f":"IFERROR(VLOOKUP(A802,'Banco de Funcionários'!$A$2:$D$1048576,2,0),0)","v":0},null,null,null,null,null,"00:00:00",null,"00:00:00","00:00:00"]
[null,{"$f":"IFERROR(VLOOKUP(A803,'Banco de Funcionários'!$A$2:$D$1048576,2,0),0)","v":0},null,null,null,null,null,"00:00:00",null,"00:00:00","00:00:00"]
[null,{"$f":"IFERROR(VLOOKUP(A804,'Banco de Funcionários'!$A$2:$D$1048576,2,0),0)","v":0},null,null,null,null,null,"00:00:00",null,"00:00:00","00:00:00"]
[null,{"$f":"IFERROR(VLOOKUP(A805,'Banco de Funcionários'!$A$2:$D$1048576,2,0),0)","v":0},null,null,null,null,null,"00:00:00",null,"00:00:00","00:00:00"]
[null,{"$f":"IFERROR(VLOOKUP(A806,'Banco de Funcionários'!$A$2:$D$1048576,2,0),0)","v":0},null,null,null,null,null,"00:00:00",null,"00:00:00","00:00:00"]
[null,{"$f":"IFERROR(VLOOKUP(A807,'Banco de Funcionários'!$A$2:$D$1048576,2,0),0)","v":0},null,null,null,null,null,"00:00:00",null,"00:00:00","00:00:00"]
[null,{"$f":"IFERROR(VLOOKUP(A808,'Banco de Funcionários'!$A$2:$D$1048576,2,0),0)","v":0},null,null,null,null,null,"00:00:00",null,"00:00:00","00:00:00"]
[null,{"$f":"IFERROR(VLOOKUP(A809,'Banco de Funcionários'!$A$2:$D$1048576,2,0),0)","v":0},null,null,null,null,null,"00:00:00",null,"00:00:00","00:00:00"]
[null,{"$f":"IFERROR(VLOOKUP(A810,'Banco de Funcionários'!$A$2:$D$1048576,2,0),0)","v":0},null,null,null,null,null,"00:00:00",null,"00:00:00","00:00:00"]
[null,{"$f":"IFERROR(VLOOKUP(A811,'Banco de Funcionários'!$A$2:$D$1048576,2,0),0)","v":0},null,null,null,null,null,"00:00:00",null,"00:00:00","00:00:00"]
[null,{"$f":"IFERROR(VLOOKUP(A812,'Banco de Funcionários'!$A$2:$D$1048576,2,0),0)","v":0},null,null,null,null,null,"00:00:00",null,"00:00:00","00:00:00"]
[null,{"$f":"IFERROR(VLOOKUP(A813,'Banco de Funcionários'!$A$2:$D$1048576,2,0),0)","v":0},null,null,null,null,null,"00:00:00",null,"00:00:00","00:00:00"]
[null,{"$f":"IFERROR(VLOOKUP(A814,'Banco de Funcionários'!$A$2:$D$1048576,2,0),0)","v":0},null,null,null,null,null,"00:00:00",null,"00:00:00","00:00:00"]
[null,{"$f":"IFERROR(VLOOKUP(A815,'Banco de Funcionários'!$A$2:$D$1048576,2,0),0)","v":0},null,null,null,null,null,"00:00:00",null,"00:00:00","00:00:00"]
[null,{"$f":"IFERROR(VLOOKUP(A816,'Banco de Funcionários'!$A$2:$D$1048576,2,0),0)","v":0},null,null,null,null,null,"00:00:00",null,"00:00:00","00:00:00"]
[null,{"$f":"IFERROR(VLOOKUP(A817,'Banco de Funcionários'!$A$2:$D$1048576,2,0),0)","v":0},null,null,null,null,null,"00:00:00",null,"00:00:00","00:00:00"]
[null,{"$f":"IFERROR(VLOOKUP(A818,'Banco de Funcionários'!$A$2:$D$1048576,2,0),0)","v":0},null,null,null,null,null,"00:00:00",null,"00:00:00","00:00:00"]
[null,{"$f":"IFERROR(VLOOKUP(A819,'Banco de Funcionários'!$A$2:$D$1048576,2,0),0)","v":0},null,null,null,null,null,"00:00:00",null,"00:00:00","00:00:00"]
[null,{"$f":"IFERROR(VLOOKUP(A820,'Banco de Funcionários'!$A$2:$D$1048576,2,0),0)","v":0},null,null,null,null,null,"00:00:00",null,"00:00:00","00:00:00"]
[null,{"$f":"IFERROR(VLOOKUP(A821,'Banco de Funcionários'!$A$2:$D$1048576,2,0),0)","v":0},null,null,null,null,null,"00:00:00",null,"00:00:00","00:00:00"]
[null,{"$f":"IFERROR(VLOOKUP(A822,'Banco de Funcionários'!$A$2:$D$1048576,2,0),0)","v":0},null,null,null,null,null,"00:00:00",null,"00:00:00","00:00:00"]
[null,{"$f":"IFERROR(VLOOKUP(A823,'Banco de Funcionários'!$A$2:$D$1048576,2,0),0)","v":0},null,null,null,null,null,"00:00:00",null,"00:00:00","00:00:00"]
[null,{"$f":"IFERROR(VLOOKUP(A824,'Banco de Funcionários'!$A$2:$D$1048576,2,0),0)","v":0},null,null,null,null,null,"00:00:00",null,"00:00:00","00:00:00"]
[null,{"$f":"IFERROR(VLOOKUP(A825,'Banco de Funcionários'!$A$2:$D$1048576,2,0),0)","v":0},null,null,null,null,null,"00:00:00",null,"00:00:00","00:00:00"]
[null,{"$f":"IFERROR(VLOOKUP(A826,'Banco de Funcionários'!$A$2:$D$1048576,2,0),0)","v":0},null,null,null,null,null,"00:00:00",null,"00:00:00","00:00:00"]
[null,{"$f":"IFERROR(VLOOKUP(A827,'Banco de Funcionários'!$A$2:$D$1048576,2,0),0)","v":0},null,null,null,null,null,"00:00:00",null,"00:00:00","00:00:00"]
[null,{"$f":"IFERROR(VLOOKUP(A828,'Banco de Funcionários'!$A$2:$D$1048576,2,0),0)","v":0},null,null,null,null,null,"00:00:00",null,"00:00:00","00:00:00"]
[null,{"$f":"IFERROR(VLOOKUP(A829,'Banco de Funcionários'!$A$2:$D$1048576,2,0),0)","v":0},null,null,null,null,null,"00:00:00",null,"00:00:00","00:00:00"]
[null,{"$f":"IFERROR(VLOOKUP(A830,'Banco de Funcionários'!$A$2:$D$1048576,2,0),0)","v":0},null,null,null,null,null,"00:00:00",null,"00:00:00","00:00:00"]
[null,{"$f":"IFERROR(VLOOKUP(A831,'Banco de Funcionários'!$A$2:$D$1048576,2,0),0)","v":0},null,null,null,null,null,"00:00:00",null,"00:00:00","00:00:00"]
[null,{"$f":"IFERROR(VLOOKUP(A832,'Banco de Funcionários'!$A$2:$D$1048576,2,0),0)","v":0},null,null,null,null,null,"00:00:00",null,"00:00:00","00:00:00"]
[null,{"$f":"IFERROR(VLOOKUP(A833,'Banco de Funcionários'!$A$2:$D$1048576,2,0),0)","v":0},null,null,null,null,null,"00:00:00",null,"00:00:00","00:00:00"]
[null,{"$f":"IFERROR(VLOOKUP(A834,'Banco de Funcionários'!$A$2:$D$1048576,2,0),0)","v":0},null,null,null,null,null,"00:00:00",null,"00:00:00","00:00:00"]
[null,{"$f":"IFERROR(VLOOKUP(A835,'Banco de Funcionários'!$A$2:$D$1048576,2,0),0)","v":0},null,null,null,null,null,{"$f":"(F835-E835)-G835","v":"00:00:00"},null,{"$f":"IFERROR(H835-I835,\"\")","v":"00:00:00"},{"$f":"IFERROR(H835+J835,0)","v":"00:00:00"}]
[null,{"$f":"IFERROR(VLOOKUP(A836,'Banco de Funcionários'!$A$2:$D$1048576,2,0),0)","v":0},null,null,null,null,null,"00:00:00",null,"00:00:00","00:00:00"]
[null,{"$f":"IFERROR(VLOOKUP(A837,'Banco de Funcionários'!$A$2:$D$1048576,2,0),0)","v":0},null,null,null,null,null,"00:00:00",null,"00:00:00","00:00:00"]
[null,{"$f":"IFERROR(VLOOKUP(A838,'Banco de Funcionários'!$A$2:$D$1048576,2,0),0)","v":0},null,null,null,null,null,"00:00:00",null,"00:00:00","00:00:00"]
[null,{"$f":"IFERROR(VLOOKUP(A839,'Banco de Funcionários'!$A$2:$D$1048576,2,0),0)","v":0},null,null,null,null,null,"00:00:00",null,"00:00:00","00:00:00"]
[null,{"$f":"IFERROR(VLOOKUP(A840,'Banco de Funcionários'!$A$2:$D$1048576,2,0),0)","v":0},null,null,null,null,null,"00:00:00",null,"00:00:00","00:00:00"]
[null,{"$f":"IFERROR(VLOOKUP(A841,'Banco de Funcionários'!$A$2:$D$1048576,2,0),0)","v":0},null,null,null,null,null,"00:00:00",null,"00:00:00","00:00:00"]
[null,{"$f":"IFERROR(VLOOKUP(A842,'Banco de Funcionários'!$A$2:$D$1048576,2,0),0)","v":0},null,null,null,null,null,"00:00:00",null,"00:00:00","00:00:00"]
[null,{"$f":"IFERROR(VLOOKUP(A843,'Banco de Funcionários'!$A$2:$D$1048576,2,0),0)","v":0},null,null,null,null,null,"00:00:00",null,"00:00:00","00:00:00"]
[null,{"$f":"IFERROR(VLOOKUP(A844,'Banco de Funcionários'!$A$2:$D$1048576,2,0),0)","v":0},null,null,null,null,null,"00:00:00",null,"00:00:00","00:00:00"]
[null,{"$f":"IFERROR(VLOOKUP(A845,'Banco de Funcionários'!$A$2:$D$1048576,2,0),0)","v":0},null,null,null,null,null,"00:00:00",null,"00:00:00","00:00:00"]
[null,{"$f":"IFERROR(VLOOKUP(A846,'Banco de Funcionários'!$A$2:$D$1048576,2,0),0)","v":0},null,null,null,null,null,"00:00:00",null,"00:00:00","00:00:00"]
[null,{"$f":"IFERROR(VLOOKUP(A847,'Banco de Funcionários'!$A$2:$D$1048576,2,0),0)","v":0},null,null,null,null,null,"00:00:00",null,"00:00:00","00:00:00"]
[null,{"$f":"IFERROR(VLOOKUP(A848,'Banco de Funcionários'!$A$2:$D$1048576,2,0),0)","v":0},null,null,null,null,null,"00:00:00",null,"00:00:00","00:00:00"]
[null,{"$f":"IFERROR(VLOOKUP(A849,'Banco de Funcionários'!$A$2:$D$1048576,2,0),0)","v":0},null,null,null,null,null,"00:00:00",null,"00:00:00","00:00:00"]
[null,{"$f":"IFERROR(VLOOKUP(A850,'Banco de Funcionários'!$A$2:$D$1048576,2,0),0)","v":0},null,null,null,null,null,"00:00:00",null,"00:00:00","00:00:00"]
[null,{"$f":"IFERROR(VLOOKUP(A851,'Banco de Funcionários'!$A$2:$D$1048576,2,0),0)","v":0},null,null,null,null,null,"00:00:00",null,"00:00:00","00:00:00"]
[null,{"$f":"IFERROR(VLOOKUP(A852,'Banco de Funcionários'!$A$2:$D$1048576,2,0),0)","v":0},null,null,null,null,null,"00:00:00",null,"00:00:00","00:00:00"]
[null,{"$f":"IFERROR(VLOOKUP(A853,'Banco de Funcionários'!$A$2:$D$1048576,2,0),0)","v":0},null,null,null,null,null,"00:00:00",null,"00:00:00","00:00:00"]
[null,{"$f":"IFERROR(VLOOKUP(A854,'Banco de Funcionários'!$A$2:$D$1048576,2,0),0)","v":0},null,null,null,null,null,"00:00:00",null,"00:00:00","00:00:00"]
[null,{"$f":"IFERROR(VLOOKUP(A855,'Banco de Funcionários'!$A$2:$D$1048576,2,0),0)","v":0},null,null,null,null,null,"00:00:00",null,"00:00:00","00:00:00"]
[null,{"$f":"IFERROR(VLOOKUP(A856,'Banco de Funcionários'!$A$2:$D$1048576,2,0),0)","v":0},null,null,null,null,null,"00:00:00",null,"00:00:00","00:00:00"]
[null,{"$f":"IFERROR(VLOOKUP(A857,'Banco de Funcionários'!$A$2:$D$1048576,2,0),0)","v":0},null,null,null,null,null,"00:00:00",null,"00:00:00","00:00:00"]
[null,{"$f":"IFERROR(VLOOKUP(A858,'Banco de Funcionários'!$A$2:$D$1048576,2,0),0)","v":0},null,null,null,null,null,"00:00:00",null,"00:00:00","00:00:00"]
[null,{"$f":"IFERROR(VLOOKUP(A859,'Banco de Funcionários'!$A$2:$D$1048576,2,0),0)","v":0},null,null,null,null,null,"00:00:00",null,"00:00:00","00:00:00"]
[null,{"$f":"IFERROR(VLOOKUP(A860,'Banco de Funcionários'!$A$2:$D$1048576,2,0),0)","v":0},null,null,null,null,null,"00:00:00",null,"00:00:00","00:00:00"]
[null,{"$f":"IFERROR(VLOOKUP(A861,'Banco de Funcionários'!$A$2:$D$1048576,2,0),0)","v":0},null,null,null,null,null,"00:00:00",null,"00:00:00","00:00:00"]
[null,{"$f":"IFERROR(VLOOKUP(A862,'Banco de Funcionários'!$A$2:$D$1048576,2,0),0)","v":0},null,null,null,null,null,"00:00:00",null,"00:00:00","00:00:00"]
[null,{"$f":"IFERROR(VLOOKUP(A863,'Banco de Funcionários'!$A$2:$D$1048576,2,0),0)","v":0},null,null,null,null,null,"00:00:00",null,"00:00:00","00:00:00"]
[null,{"$f":"IFERROR(VLOOKUP(A864,'Banco de Funcionários'!$A$2:$D$1048576,2,0),0)","v":0},null,null,null,null,null,"00:00:00",null,"00:00:00","00:00:00"]
[null,{"$f":"IFERROR(VLOOKUP(A865,'Banco de Funcionários'!$A$2:$D$1048576,2,0),0)","v":0},null,null,null,null,null,"00:00:00",null,"00:00:00","00:00:00"]
[null,{"$f":"IFERROR(VLOOKUP(A866,'Banco de Funcionários'!$A$2:$D$1048576,2,0),0)","v":0},null,null,null,null,null,"00:00:00",null,"00:00:00","00:00:00"]
[null,{"$f":"IFERROR(VLOOKUP(A867,'Banco de Funcionários'!$A$2:$D$1048576,2,0),0)","v":0},null,null,null,null,null,"00:00:00",null,"00:00:00","00:00:00"]
[null,{"$f":"IFERROR(VLOOKUP(A868,'Banco de Funcionários'!$A$2:$D$1048576,2,0),0)","v":0},null,null,null,null,null,"00:00:00",null,"00:00:00","00:00:00"]
[null,{"$f":"IFERROR(VLOOKUP(A869,'Banco de Funcionários'!$A$2:$D$1048576,2,0),0)","v":0},null,null,null,null,null,"00:00:00",null,"00:00:00","00:00:00"]
[null,{"$f":"IFERROR(VLOOKUP(A870,'Banco de Funcionários'!$A$2:$D$1048576,2,0),0)","v":0},null,null,null,null,null,"00:00:00",null,"00:00:00","00:00:00"]
[null,{"$f":"IFERROR(VLOOKUP(A871,'Banco de Funcionários'!$A$2:$D$1048576,2,0),0)","v":0},null,null,null,null,null,"00:00:00",null,"00:00:00","00:00:00"]
[null,{"$f":"IFERROR(VLOOKUP(A872,'Banco de Funcionários'!$A$2:$D$1048576,2,0),0)","v":0},null,null,null,null,null,"00:00:00",null,"00:00:00","00:00:00"]
[null,{"$f":"IFERROR(VLOOKUP(A873,'Banco de Funcionários'!$A$2:$D$1048576,2,0),0)","v":0},null,null,null,null,null,"00:00:00",null,"00:00:00","00:00:00"]
[null,{"$f":"IFERROR(VLOOKUP(A874,'Banco de Funcionários'!$A$2:$D$1048576,2,0),0)","v":0},null,null,null,null,null,"00:00:00",null,"00:00:00","00:00:00"]
[null,{"$f":"IFERROR(VLOOKUP(A875,'Banco de Funcionários'!$A$2:$D$1048576,2,0),0)","v":0},null,null,null,null,null,"00:00:00",null,"00:00:00","00:00:00"]
[null,{"$f":"IFERROR(VLOOKUP(A876,'Banco de Funcionários'!$A$2:$D$1048576,2,0),0)","v":0},null,null,null,null,null,"00:00:00",null,"00:00:00","00:00:00"]
[null,{"$f":"IFERROR(VLOOKUP(A877,'Banco de Funcionários'!$A$2:$D$1048576,2,0),0)","v":0},null,null,null,null,null,"00:00:00",null,"00:00:00","00:00:00"]
[null,{"$f":"IFERROR(VLOOKUP(A878,'Banco de Funcionários'!$A$2:$D$1048576,2,0),0)","v":0},null,null,null,null,null,"00:00:00",null,"00:00:00","00:00:00"]
[null,{"$f":"IFERROR(VLOOKUP(A879,'Banco de Funcionários'!$A$2:$D$1048576,2,0),0)","v":0},null,null,null,null,null,"00:00:00",null,"00:00:00","00:00:00"]
[null,{"$f":"IFERROR(VLOOKUP(A880,'Banco de Funcionários'!$A$2:$D$1048576,2,0),0)","v":0},null,null,null,null,null,"00:00:00",null,"00:00:00","00:00:00"]
[null,{"$f":"IFERROR(VLOOKUP(A881,'Banco de Funcionários'!$A$2:$D$1048576,2,0),0)","v":0},null,null,null,null,null,"00:00:00",null,"00:00:00","00:00:00"]
[null,{"$f":"IFERROR(VLOOKUP(A882,'Banco de Funcionários'!$A$2:$D$1048576,2,0),0)","v":0},null,null,null,null,null,"00:00:00",null,"00:00:00","00:00:00"]
[null,{"$f":"IFERROR(VLOOKUP(A883,'Banco de Funcionários'!$A$2:$D$1048576,2,0),0)","v":0},null,null,null,null,null,"00:00:00",null,"00:00:00","00:00:00"]
[null,{"$f":"IFERROR(VLOOKUP(A884,'Banco de Funcionários'!$A$2:$D$1048576,2,0),0)","v":0},null,null,null,null,null,"00:00:00",null,"00:00:00","00:00:00"]
[null,{"$f":"IFERROR(VLOOKUP(A885,'Banco de Funcionários'!$A$2:$D$1048576,2,0),0)","v":0},null,null,null,null,null,"00:00:00",null,"00:00:00","00:00:00"]
[null,{"$f":"IFERROR(VLOOKUP(A886,'Banco de Funcionários'!$A$2:$D$1048576,2,0),0)","v":0},null,null,null,null,null,"00:00:00",null,"00:00:00","00:00:00"]
[null,{"$f":"IFERROR(VLOOKUP(A887,'Banco de Funcionários'!$A$2:$D$1048576,2,0),0)","v":0},null,null,null,null,null,"00:00:00",null,"00:00:00","00:00:00"]
[null,{"$f":"IFERROR(VLOOKUP(A888,'Banco de Funcionários'!$A$2:$D$1048576,2,0),0)","v":0},null,null,null,null,null,"00:00:00",null,"00:00:00","00:00:00"]
[null,{"$f":"IFERROR(VLOOKUP(A889,'Banco de Funcionários'!$A$2:$D$1048576,2,0),0)","v":0},null,null,null,null,null,"00:00:00",null,"00:00:00","00:00:00"]
[null,{"$f":"IFERROR(VLOOKUP(A890,'Banco de Funcionários'!$A$2:$D$1048576,2,0),0)","v":0},null,null,null,null,null,"00:00:00",null,"00:00:00","00:00:00"]
[null,{"$f":"IFERROR(VLOOKUP(A891,'Banco de Funcionários'!$A$2:$D$1048576,2,0),0)","v":0},null,null,null,null,null,"00:00:00",null,"00:00:00","00:00:00"]
[null,{"$f":"IFERROR(VLOOKUP(A892,'Banco de Funcionários'!$A$2:$D$1048576,2,0),0)","v":0},null,null,null,null,null,"00:00:00",null,"00:00:00","00:00:00"]
[null,{"$f":"IFERROR(VLOOKUP(A893,'Banco de Funcionários'!$A$2:$D$1048576,2,0),0)","v":0},null,null,null,null,null,"00:00:00",null,"00:00:00","00:00:00"]
[null,{"$f":"IFERROR(VLOOKUP(A894,'Banco de Funcionários'!$A$2:$D$1048576,2,0),0)","v":0},null,null,null,null,null,"00:00:00",null,"00:00:00","00:00:00"]
[null,{"$f":"IFERROR(VLOOKUP(A895,'Banco de Funcionários'!$A$2:$D$1048576,2,0),0)","v":0},null,null,null,null,null,"00:00:00",null,"00:00:00","00:00:00"]
[null,{"$f":"IFERROR(VLOOKUP(A896,'Banco de Funcionários'!$A$2:$D$1048576,2,0),0)","v":0},null,null,null,null,null,"00:00:00",null,"00:00:00","00:00:00"]
[null,{"$f":"IFERROR(VLOOKUP(A897,'Banco de Funcionários'!$A$2:$D$1048576,2,0),0)","v":0},null,null,null,null,null,"00:00:00",null,"00:00:00","00:00:00"]
[null,{"$f":"IFERROR(VLOOKUP(A898,'Banco de Funcionários'!$A$2:$D$1048576,2,0),0)","v":0},null,null,null,null,null,"00:00:00",null,"00:00:00","00:00:00"]
[null,{"$f":"IFERROR(VLOOKUP(A899,'Banco de Funcionários'!$A$2:$D$1048576,2,0),0)","v":0},null,null,null,null,null,{"$f":"(F899-E899)-G899","v":"00:00:00"},null,{"$f":"IFERROR(H899-I899,\"\")","v":"00:00:00"},{"$f":"IFERROR(H899+J899,0)","v":"00:00:00"}]
[null,{"$f":"IFERROR(VLOOKUP(A900,'Banco de Funcionários'!$A$2:$D$1048576,2,0),0)","v":0},null,null,null,null,null,"00:00:00",null,"00:00:00","00:00:00"]
[null,{"$f":"IFERROR(VLOOKUP(A901,'Banco de Funcionários'!$A$2:$D$1048576,2,0),0)","v":0},null,null,null,null,null,"00:00:00",null,"00:00:00","00:00:00"]
[null,{"$f":"IFERROR(VLOOKUP(A902,'Banco de Funcionários'!$A$2:$D$1048576,2,0),0)","v":0},null,null,null,null,null,"00:00:00",null,"00:00:00","00:00:00"]
[null,{"$f":"IFERROR(VLOOKUP(A903,'Banco de Funcionários'!$A$2:$D$1048576,2,0),0)","v":0},null,null,null,null,null,"00:00:00",null,"00:00:00","00:00:00"]
[null,{"$f":"IFERROR(VLOOKUP(A904,'Banco de Funcionários'!$A$2:$D$1048576,2,0),0)","v":0},null,null,null,null,null,"00:00:00",null,"00:00:00","00:00:00"]
[null,{"$f":"IFERROR(VLOOKUP(A905,'Banco de Funcionários'!$A$2:$D$1048576,2,0),0)","v":0},null,null,null,null,null,"00:00:00",null,"00:00:00","00:00:00"]
[null,{"$f":"IFERROR(VLOOKUP(A906,'Banco de Funcionários'!$A$2:$D$1048576,2,0),0)","v":0},null,null,null,null,null,"00:00:00",null,"00:00:00","00:00:00"]
[null,{"$f":"IFERROR(VLOOKUP(A907,'Banco de Funcionários'!$A$2:$D$1048576,2,0),0)","v":0},null,null,null,null,null,"00:00:00",null,"00:00:00","00:00:00"]
[null,{"$f":"IFERROR(VLOOKUP(A908,'Banco de Funcionários'!$A$2:$D$1048576,2,0),0)","v":0},null,null,null,null,null,"00:00:00",null,"00:00:00","00:00:00"]
[null,{"$f":"IFERROR(VLOOKUP(A909,'Banco de Funcionários'!$A$2:$D$1048576,2,0),0)","v":0},null,null,null,null,null,"00:00:00",null,"00:00:00","00:00:00"]
[null,{"$f":"IFERROR(VLOOKUP(A910,'Banco de Funcionários'!$A$2:$D$1048576,2,0),0)","v":0},null,null,null,null,null,"00:00:00",null,"00:00:00","00:00:00"]
[null,{"$f":"IFERROR(VLOOKUP(A911,'Banco de Funcionários'!$A$2:$D$1048576,2,0),0)","v":0},null,null,null,null,null,"00:00:00",null,"00:00:00","00:00:00"]
[null,{"$f":"IFERROR(VLOOKUP(A912,'Banco de Funcionários'!$A$2:$D$1048576,2,0),0)","v":0},null,null,null,null,null,"00:00:00",null,"00:00:00","00:00:00"]
[null,{"$f":"IFERROR(VLOOKUP(A913,'Banco de Funcionários'!$A$2:$D$1048576,2,0),0)","v":0},null,null,null,null,null,"00:00:00",null,"00:00:00","00:00:00"]
[null,{"$f":"IFERROR(VLOOKUP(A914,'Banco de Funcionários'!$A$2:$D$1048576,2,0),0)","v":0},null,null,null,null,null,"00:00:00",null,"00:00:00","00:00:00"]
[null,{"$f":"IFERROR(VLOOKUP(A915,'Banco de Funcionários'!$A$2:$D$1048576,2,0),0)","v":0},null,null,null,null,null,"00:00:00",null,"00:00:00","00:00:00"]
[null,{"$f":"IFERROR(VLOOKUP(A916,'Banco de Funcionários'!$A$2:$D$1048576,2,0),0)","v":0},null,null,null,null,null,"00:00:00",null,"00:00:00","00:00:00"]
[null,{"$f":"IFERROR(VLOOKUP(A917,'Banco de Funcionários'!$A$2:$D$1048576,2,0),0)","v":0},null,null,null,null,null,"00:00:00",null,"00:00:00","00:00:00"]
[null,{"$f":"IFERROR(VLOOKUP(A918,'Banco de Funcionários'!$A$2:$D$1048576,2,0),0)","v":0},null,null,null,null,null,"00:00:00",null,"00:00:00","00:00:00"]
[null,{"$f":"IFERROR(VLOOKUP(A919,'Banco de Funcionários'!$A$2:$D$1048576,2,0),0)","v":0},null,null,null,null,null,"00:00:00",null,"00:00:00","00:00:00"]
[null,{"$f":"IFERROR(VLOOKUP(A920,'Banco de Funcionários'!$A$2:$D$1048576,2,0),0)","v":0},null,null,null,null,null,"00:00:00",null,"00:00:00","00:00:00"]
[null,{"$f":"IFERROR(VLOOKUP(A921,'Banco de Funcionários'!$A$2:$D$1048576,2,0),0)","v":0},null,null,null,null,null,"00:00:00",null,"00:00:00","00:00:00"]
[null,{"$f":"IFERROR(VLOOKUP(A922,'Banco de Funcionários'!$A$2:$D$1048576,2,0),0)","v":0},null,null,null,null,null,"00:00:00",null,"00:00:00","00:00:00"]
[null,{"$f":"IFERROR(VLOOKUP(A923,'Banco de Funcionários'!$A$2:$D$1048576,2,0),0)","v":0},null,null,null,null,null,"00:00:00",null,"00:00:00","00:00:00"]
[null,{"$f":"IFERROR(VLOOKUP(A924,'Banco de Funcionários'!$A$2:$D$1048576,2,0),0)","v":0},null,null,null,null,null,"00:00:00",null,"00:00:00","00:00:00"]
[null,{"$f":"IFERROR(VLOOKUP(A925,'Banco de Funcionários'!$A$2:$D$1048576,2,0),0)","v":0},null,null,null,null,null,"00:00:00",null,"00:00:00","00:00:00"]
[null,{"$f":"IFERROR(VLOOKUP(A926,'Banco de Funcionários'!$A$2:$D$1048576,2,0),0)","v":0},null,null,null,null,null,"00:00:00",null,"00:00:00","00:00:00"]
[null,{"$f":"IFERROR(VLOOKUP(A927,'Banco de Funcionários'!$A$2:$D$1048576,2,0),0)","v":0},null,null,null,null,null,"00:00:00",null,"00:00:00","00:00:00"]
[null,{"$f":"IFERROR(VLOOKUP(A928,'Banco de Funcionários'!$A$2:$D$1048576,2,0),0)","v":0},null,null,null,null,null,"00:00:00",null,"00:00:00","00:00:00"]
[null,{"$f":"IFERROR(VLOOKUP(A929,'Banco de Funcionários'!$A$2:$D$1048576,2,0),0)","v":0},null,null,null,null,null,"00:00:00",null,"00:00:00","00:00:00"]
[null,{"$f":"IFERROR(VLOOKUP(A930,'Banco de Funcionários'!$A$2:$D$1048576,2,0),0)","v":0},null,null,null,null,null,"00:00:00",null,"00:00:00","00:00:00"]
[null,{"$f":"IFERROR(VLOOKUP(A931,'Banco de Funcionários'!$A$2:$D$1048576,2,0),0)","v":0},null,null,null,null,null,"00:00:00",null,"00:00:00","00:00:00"]
[null,{"$f":"IFERROR(VLOOKUP(A932,'Banco de Funcionários'!$A$2:$D$1048576,2,0),0)","v":0},null,null,null,null,null,"00:00:00",null,"00:00:00","00:00:00"]
[null,{"$f":"IFERROR(VLOOKUP(A933,'Banco de Funcionários'!$A$2:$D$1048576,2,0),0)","v":0},null,null,null,null,null,"00:00:00",null,"00:00:00","00:00:00"]
[null,{"$f":"IFERROR(VLOOKUP(A934,'Banco de Funcionários'!$A$2:$D$1048576,2,0),0)","v":0},null,null,null,null,null,"00:00:00",null,"00:00:00","00:00:00"]
[null,{"$f":"IFERROR(VLOOKUP(A935,'Banco de Funcionários'!$A$2:$D$1048576,2,0),0)","v":0},null,null,null,null,null,"00:00:00",null,"00:00:00","00:00:00"]
[null,{"$f":"IFERROR(VLOOKUP(A936,'Banco de Funcionários'!$A$2:$D$1048576,2,0),0)","v":0},null,null,null,null,null,"00:00:00",null,"00:00:00","00:00:00"]
[null,{"$f":"IFERROR(VLOOKUP(A937,'Banco de Funcionários'!$A$2:$D$1048576,2,0),0)","v":0},null,null,null,null,null,"00:00:00",null,"00:00:00","00:00:00"]
[null,{"$f":"IFERROR(VLOOKUP(A938,'Banco de Funcionários'!$A$2:$D$1048576,2,0),0)","v":0},null,null,null,null,null,"00:00:00",null,"00:00:00","00:00:00"]
[null,{"$f":"IFERROR(VLOOKUP(A939,'Banco de Funcionários'!$A$2:$D$1048576,2,0),0)","v":0},null,null,null,null,null,"00:00:00",null,"00:00:00","00:00:00"]
[null,{"$f":"IFERROR(VLOOKUP(A940,'Banco de Funcionários'!$A$2:$D$1048576,2,0),0)","v":0},null,null,null,null,null,"00:00:00",null,"00:00:00","00:00:00"]
[null,{"$f":"IFERROR(VLOOKUP(A941,'Banco de Funcionários'!$A$2:$D$1048576,2,0),0)","v":0},null,null,null,null,null,"00:00:00",null,"00:00:00","00:00:00"]
[null,{"$f":"IFERROR(VLOOKUP(A942,'Banco de Funcionários'!$A$2:$D$1048576,2,0),0)","v":0},null,null,null,null,null,"00:00:00",null,"00:00:00","00:00:00"]
[null,{"$f":"IFERROR(VLOOKUP(A943,'Banco de Funcionários'!$A$2:$D$1048576,2,0),0)","v":0},null,null,null,null,null,"00:00:00",null,"00:00:00","00:00:00"]
[null,{"$f":"IFERROR(VLOOKUP(A944,'Banco de Funcionários'!$A$2:$D$1048576,2,0),0)","v":0},null,null,null,null,null,"00:00:00",null,"00:00:00","00:00:00"]
[null,{"$f":"IFERROR(VLOOKUP(A945,'Banco de Funcionários'!$A$2:$D$1048576,2,0),0)","v":0},null,null,null,null,null,"00:00:00",null,"00:00:00","00:00:00"]
[null,{"$f":"IFERROR(VLOOKUP(A946,'Banco de Funcionários'!$A$2:$D$1048576,2,0),0)","v":0},null,null,null,null,null,"00:00:00",null,"00:00:00","00:00:00"]
[null,{"$f":"IFERROR(VLOOKUP(A947,'Banco de Funcionários'!$A$2:$D$1048576,2,0),0)","v":0},null,null,null,null,null,"00:00:00",null,"00:00:00","00:00:00"]
[null,{"$f":"IFERROR(VLOOKUP(A948,'Banco de Funcionários'!$A$2:$D$1048576,2,0),0)","v":0},null,null,null,null,null,"00:00:00",null,"00:00:00","00:00:00"]
[null,{"$f":"IFERROR(VLOOKUP(A949,'Banco de Funcionários'!$A$2:$D$1048576,2,0),0)","v":0},null,null,null,null,null,"00:00:00",null,"00:00:00","00:00:00"]
[null,{"$f":"IFERROR(VLOOKUP(A950,'Banco de Funcionários'!$A$2:$D$1048576,2,0),0)","v":0},null,null,null,null,null,"00:00:00",null,"00:00:00","00:00:00"]
[null,{"$f":"IFERROR(VLOOKUP(A951,'Banco de Funcionários'!$A$2:$D$1048576,2,0),0)","v":0},null,null,null,null,null,"00:00:00",null,"00:00:00","00:00:00"]
[null,{"$f":"IFERROR(VLOOKUP(A952,'Banco de Funcionários'!$A$2:$D$1048576,2,0),0)","v":0},null,null,null,null,null,"00:00:00",null,"00:00:00","00:00:00"]
[null,{"$f":"IFERROR(VLOOKUP(A953,'Banco de Funcionários'!$A$2:$D$1048576,2,0),0)","v":0},null,null,null,null,null,"00:00:00",null,"00:00:00","00:00:00"]
[null,{"$f":"IFERROR(VLOOKUP(A954,'Banco de Funcionários'!$A$2:$D$1048576,2,0),0)","v":0},null,null,null,null,null,"00:00:00",null,"00:00:00","00:00:00"]
[null,{"$f":"IFERROR(VLOOKUP(A955,'Banco de Funcionários'!$A$2:$D$1048576,2,0),0)","v":0},null,null,null,null,null,"00:00:00",null,"00:00:00","00:00:00"]
[null,{"$f":"IFERROR(VLOOKUP(A956,'Banco de Funcionários'!$A$2:$D$1048576,2,0),0)","v":0},null,null,null,null,null,"00:00:00",null,"00:00:00","00:00:00"]
[null,{"$f":"IFERROR(VLOOKUP(A957,'Banco de Funcionários'!$A$2:$D$1048576,2,0),0)","v":0},null,null,null,null,null,"00:00:00",null,"00:00:00","00:00:00"]
[null,{"$f":"IFERROR(VLOOKUP(A958,'Banco de Funcionários'!$A$2:$D$1048576,2,0),0)","v":0},null,null,null,null,null,"00:00:00",null,"00:00:00","00:00:00"]
[null,{"$f":"IFERROR(VLOOKUP(A959,'Banco de Funcionários'!$A$2:$D$1048576,2,0),0)","v":0},null,null,null,null,null,"00:00:00",null,"00:00:00","00:00:00"]
[null,{"$f":"IFERROR(VLOOKUP(A960,'Banco de Funcionários'!$A$2:$D$1048576,2,0),0)","v":0},null,null,null,null,null,"00:00:00",null,"00:00:00","00:00:00"]
[null,{"$f":"IFERROR(VLOOKUP(A961,'Banco de Funcionários'!$A$2:$D$1048576,2,0),0)","v":0},null,null,null,null,null,"00:00:00",null,"00:00:00","00:00:00"]
[null,{"$f":"IFERROR(VLOOKUP(A962,'Banco de Funcionários'!$A$2:$D$1048576,2,0),0)","v":0},null,null,null,null,null,"00:00:00",null,"00:00:00","00:00:00"]
[null,{"$f":"IFERROR(VLOOKUP(A963,'Banco de Funcionários'!$A$2:$D$1048576,2,0),0)","v":0},null,null,null,null,null,{"$f":"(F963-E963)-G963","v":"00:00:00"},null,{"$f":"IFERROR(H963-I963,\"\")","v":"00:00:00"},{"$f":"IFERROR(H963+J963,0)","v":"00:00:00"}]
[null,{"$f":"IFERROR(VLOOKUP(A964,'Banco de Funcionários'!$A$2:$D$1048576,2,0),0)","v":0},null,null,null,null,null,"00:00:00",null,"00:00:00","00:00:00"]
[null,{"$f":"IFERROR(VLOOKUP(A965,'Banco de Funcionários'!$A$2:$D$1048576,2,0),0)","v":0},null,null,null,null,null,"00:00:00",null,"00:00:00","00:00:00"]
[null,{"$f":"IFERROR(VLOOKUP(A966,'Banco de Funcionários'!$A$2:$D$1048576,2,0),0)","v":0},null,null,null,null,null,"00:00:00",null,"00:00:00","00:00:00"]
[null,{"$f":"IFERROR(VLOOKUP(A967,'Banco de Funcionários'!$A$2:$D$1048576,2,0),0)","v":0},null,null,null,null,null,"00:00:00",null,"00:00:00","00:00:00"]
[null,{"$f":"IFERROR(VLOOKUP(A968,'Banco de Funcionários'!$A$2:$D$1048576,2,0),0)","v":0},null,null,null,null,null,"00:00:00",null,"00:00:00","00:00:00"]
[null,{"$f":"IFERROR(VLOOKUP(A969,'Banco de Funcionários'!$A$2:$D$1048576,2,0),0)","v":0},null,null,null,null,null,"00:00:00",null,"00:00:00","00:00:00"]
[null,{"$f":"IFERROR(VLOOKUP(A970,'Banco de Funcionários'!$A$2:$D$1048576,2,0),0)","v":0},null,null,null,null,null,"00:00:00",null,"00:00:00","00:00:00"]
[null,{"$f":"IFERROR(VLOOKUP(A971,'Banco de Funcionários'!$A$2:$D$1048576,2,0),0)","v":0},null,null,null,null,null,"00:00:00",null,"00:00:00","00:00:00"]
[null,{"$f":"IFERROR(VLOOKUP(A972,'Banco de Funcionários'!$A$2:$D$1048576,2,0),0)","v":0},null,null,null,null,null,"00:00:00",null,"00:00:00","00:00:00"]
[null,{"$f":"IFERROR(VLOOKUP(A973,'Banco de Funcionários'!$A$2:$D$1048576,2,0),0)","v":0},null,null,null,null,null,"00:00:00",null,"00:00:00","00:00:00"]
[null,{"$f":"IFERROR(VLOOKUP(A974,'Banco de Funcionários'!$A$2:$D$1048576,2,0),0)","v":0},null,null,null,null,null,"00:00:00",null,"00:00:00","00:00:00"]
[null,{"$f":"IFERROR(VLOOKUP(A975,'Banco de Funcionários'!$A$2:$D$1048576,2,0),0)","v":0},null,null,null,null,null,"00:00:00",null,"00:00:00","00:00:00"]
[null,{"$f":"IFERROR(VLOOKUP(A976,'Banco de Funcionários'!$A$2:$D$1048576,2,0),0)","v":0},null,null,null,null,null,"00:00:00",null,"00:00:00","00:00:00"]
[null,{"$f":"IFERROR(VLOOKUP(A977,'Banco de Funcionários'!$A$2:$D$1048576,2,0),0)","v":0},null,null,null,null,null,"00:00:00",null,"00:00:00","00:00:00"]
[null,{"$f":"IFERROR(VLOOKUP(A978,'Banco de Funcionários'!$A$2:$D$1048576,2,0),0)","v":0},null,null,null,null,null,"00:00:00",null,"00:00:00","00:00:00"]
[null,{"$f":"IFERROR(VLOOKUP(A979,'Banco de Funcionários'!$A$2:$D$1048576,2,0),0)","v":0},null,null,null,null,null,"00:00:00",null,"00:00:00","00:00:00"]
[null,{"$f":"IFERROR(VLOOKUP(A980,'Banco de Funcionários'!$A$2:$D$1048576,2,0),0)","v":0},null,null,null,null,null,"00:00:00",null,"00:00:00","00:00:00"]
[null,{"$f":"IFERROR(VLOOKUP(A981,'Banco de Funcionários'!$A$2:$D$1048576,2,0),0)","v":0},null,null,null,null,null,"00:00:00",null,"00:00:00","00:00:00"]
[null,{"$f":"IFERROR(VLOOKUP(A982,'Banco de Funcionários'!$A$2:$D$1048576,2,0),0)","v":0},null,null,null,null,null,"00:00:00",null,"00:00:00","00:00:00"]
[null,{"$f":"IFERROR(VLOOKUP(A983,'Banco de Funcionários'!$A$2:$D$1048576,2,0),0)","v":0},null,null,null,null,null,"00:00:00",null,"00:00:00","00:00:00"]
[null,{"$f":"IFERROR(VLOOKUP(A984,'Banco de Funcionários'!$A$2:$D$1048576,2,0),0)","v":0},null,null,null,null,null,"00:00:00",null,"00:00:00","00:00:00"]
[null,{"$f":"IFERROR(VLOOKUP(A985,'Banco de Funcionários'!$A$2:$D$1048576,2,0),0)","v":0},null,null,null,null,null,"00:00:00",null,"00:00:00","00:00:00"]
[null,{"$f":"IFERROR(VLOOKUP(A986,'Banco de Funcionários'!$A$2:$D$1048576,2,0),0)","v":0},null,null,null,null,null,"00:00:00",null,"00:00:00","00:00:00"]
[null,{"$f":"IFERROR(VLOOKUP(A987,'Banco de Funcionários'!$A$2:$D$1048576,2,0),0)","v":0},null,null,null,null,null,"00:00:00",null,"00:00:00","00:00:00"]
[null,{"$f":"IFERROR(VLOOKUP(A988,'Banco de Funcionários'!$A$2:$D$1048576,2,0),0)","v":0},null,null,null,null,null,"00:00:00",null,"00:00:00","00:00:00"]
[null,{"$f":"IFERROR(VLOOKUP(A989,'Banco de Funcionários'!$A$2:$D$1048576,2,0),0)","v":0},null,null,null,null,null,"00:00:00",null,"00:00:00","00:00:00"]
[null,{"$f":"IFERROR(VLOOKUP(A990,'Banco de Funcionários'!$A$2:$D$1048576,2,0),0)","v":0},null,null,null,null,null,"00:00:00",null,"00:00:00","00:00:00"]
[null,{"$f":"IFERROR(VLOOKUP(A991,'Banco de Funcionários'!$A$2:$D$1048576,2,0),0)","v":0},null,null,null,null,null,"00:00:00",null,"00:00:00","00:00:00"]
[null,{"$f":"IFERROR(VLOOKUP(A992,'Banco de Funcionários'!$A$2:$D$1048576,2,0),0)","v":0},null,null,null,null,null,"00:00:00",null,"00:00:00","00:00:00"]
[null,{"$f":"IFERROR(VLOOKUP(A993,'Banco de Funcionários'!$A$2:$D$1048576,2,0),0)","v":0},null,null,null,null,null,"00:00:00",null,"00:00:00","00:00:00"]
[null,{"$f":"IFERROR(VLOOKUP(A994,'Banco de Funcionários'!$A$2:$D$1048576,2,0),0)","v":0},null,null,null,null,null,"00:00:00",null,"00:00:00","00:00:00"]
[null,{"$f":"IFERROR(VLOOKUP(A995,'Banco de Funcionários'!$A$2:$D$1048576,2,0),0)","v":0},null,null,null,null,null,"00:00:00",null,"00:00:00","00:00:00"]
[null,{"$f":"IFERROR(VLOOKUP(A996,'Banco de Funcionários'!$A$2:$D$1048576,2,0),0)","v":0},null,null,null,null,null,"00:00:00",null,"00:00:00","00:00:00"]
[null,{"$f":"IFERROR(VLOOKUP(A997,'Banco de Funcionários'!$A$2:$D$1048576,2,0),0)","v":0},null,null,null,null,null,"00:00:00",null,"00:00:00","00:00:00"]
[null,{"$f":"IFERROR(VLOOKUP(A998,'Banco de Funcionários'!$A$2:$D$1048576,2,0),0)","v":0},null,null,null,null,null,"00:00:00",null,"00:00:00","00:00:00"]
[null,{"$f":"IFERROR(VLOOKUP(A999,'Banco de Funcionários'!$A$2:$D$1048576,2,0),0)","v":0},null,null,null,null,null,"00:00:00",null,"00:00:00","00:00:00"]
[null,{"$f":"IFERROR(VLOOKUP(A1000,'Banco de Funcionários'!$A$2:$D$1048576,2,0),0)","v":0},null,null,null,null,null,"00:00:00",null,"00:00:00","00:00:00"]
[null,{"$f":"IFERROR(VLOOKUP(A1001,'Banco de Funcionários'!$A$2:$D$1048576,2,0),0)","v":0},null,null,null,null,null,"00:00:00",null,"00:00:00","00:00:00"]
[null,{"$f":"IFERROR(VLOOKUP(A1002,'Banco de Funcionários'!$A$2:$D$1048576,2,0),0)","v":0},null,null,null,null,null,"00:00:00",null,"00:00:00","00:00:00"]
[null,{"$f":"IFERROR(VLOOKUP(A1003,'Banco de Funcionários'!$A$2:$D$1048576,2,0),0)","v":0},null,null,null,null,null,"00:00:00",null,"00:00:00","00:00:00"]
[null,{"$f":"IFERROR(VLOOKUP(A1004,'Banco de Funcionários'!$A$2:$D$1048576,2,0),0)","v":0},null,null,null,null,null,"00:00:00",null,"00:00:00","00:00:00"]
[null,{"$f":"IFERROR(VLOOKUP(A1005,'Banco de Funcionários'!$A$2:$D$1048576,2,0),0)","v":0},null,null,null,null,null,"00:00:00",null,"00:00:00","00:00:00"]
[null,{"$f":"IFERROR(VLOOKUP(A1006,'Banco de Funcionários'!$A$2:$D$1048576,2,0),0)","v":0},null,null,null,null,null,"00:00:00",null,"00:00:00","00:00:00"]
[null,{"$f":"IFERROR(VLOOKUP(A1007,'Banco de Funcionários'!$A$2:$D$1048576,2,0),0)","v":0},null,null,null,null,null,"00:00:00",null,"00:00:00","00:00:00"]
[null,{"$f":"IFERROR(VLOOKUP(A1008,'Banco de Funcionários'!$A$2:$D$1048576,2,0),0)","v":0},null,null,null,null,null,"00:00:00",null,"00:00:00","00:00:00"]
[null,{"$f":"IFERROR(VLOOKUP(A1009,'Banco de Funcionários'!$A$2:$D$1048576,2,0),0)","v":0},null,null,null,null,null,"00:00:00",null,"00:00:00","00:00:00"]
[null,{"$f":"IFERROR(VLOOKUP(A1010,'Banco de Funcionários'!$A$2:$D$1048576,2,0),0)","v":0},null,null,null,null,null,"00:00:00",null,"00:00:00","00:00:00"]
[null,{"$f":"IFERROR(VLOOKUP(A1011,'Banco de Funcionários'!$A$2:$D$1048576,2,0),0)","v":0},null,null,null,null,null,"00:00:00",null,"00:00:00","00:00:00"]
[null,{"$f":"IFERROR(VLOOKUP(A1012,'Banco de Funcionários'!$A$2:$D$1048576,2,0),0)","v":0},null,null,null,null,null,"00:00:00",null,"00:00:00","00:00:00"]
[null,{"$f":"IFERROR(VLOOKUP(A1013,'Banco de Funcionários'!$A$2:$D$1048576,2,0),0)","v":0},null,null,null,null,null,"00:00:00",null,"00:00:00","00:00:00"]
[null,{"$f":"IFERROR(VLOOKUP(A1014,'Banco de Funcionários'!$A$2:$D$1048576,2,0),0)","v":0},null,null,null,null,null,"00:00:00",null,"00:00:00","00:00:00"]
[null,{"$f":"IFERROR(VLOOKUP(A1015,'Banco de Funcionários'!$A$2:$D$1048576,2,0),0)","v":0},null,null,null,null,null,"00:00:00",null,"00:00:00","00:00:00"]
[null,{"$f":"IFERROR(VLOOKUP(A1016,'Banco de Funcionários'!$A$2:$D$1048576,2,0),0)","v":0},null,null,null,null,null,"00:00:00",null,"00:00:00","00:00:00"]
[null,{"$f":"IFERROR(VLOOKUP(A1017,'Banco de Funcionários'!$A$2:$D$1048576,2,0),0)","v":0},null,null,null,null,null,"00:00:00",null,"00:00:00","00:00:00"]
[null,{"$f":"IFERROR(VLOOKUP(A1018,'Banco de Funcionários'!$A$2:$D$1048576,2,0),0)","v":0},null,null,null,null,null,"00:00:00",null,"00:00:00","00:00:00"]
[null,{"$f":"IFERROR(VLOOKUP(A1019,'Banco de Funcionários'!$A$2:$D$1048576,2,0),0)","v":0},null,null,null,null,null,"00:00:00",null,"00:00:00","00:00:00"]
[null,{"$f":"IFERROR(VLOOKUP(A1020,'Banco de Funcionários'!$A$2:$D$1048576,2,0),0)","v":0},null,null,null,null,null,"00:00:00",null,"00:00:00","00:00:00"]
[null,{"$f":"IFERROR(VLOOKUP(A1021,'Banco de Funcionários'!$A$2:$D$1048576,2,0),0)","v":0},null,null,null,null,null,"00:00:00",null,"00:00:00","00:00:00"]
[null,{"$f":"IFERROR(VLOOKUP(A1022,'Banco de Funcionários'!$A$2:$D$1048576,2,0),0)","v":0},null,null,null,null,null,"00:00:00",null,"00:00:00","00:00:00"]
[null,{"$f":"IFERROR(VLOOKUP(A1023,'Banco de Funcionários'!$A$2:$D$1048576,2,0),0)","v":0},null,null,null,null,null,"00:00:00",null,"00:00:00","00:00:00"]
[null,{"$f":"IFERROR(VLOOKUP(A1024,'Banco de Funcionários'!$A$2:$D$1048576,2,0),0)","v":0},null,null,null,null,null,"00:00:00",null,"00:00:00","00:00:00"]
[null,{"$f":"IFERROR(VLOOKUP(A1025,'Banco de Funcionários'!$A$2:$D$1048576,2,0),0)","v":0},null,null,null,null,null,"00:00:00",null,"00:00:00","00:00:00"]
[null,{"$f":"IFERROR(VLOOKUP(A1026,'Banco de Funcionários'!$A$2:$D$1048576,2,0),0)","v":0},null,null,null,null,null,"00:00:00",null,"00:00:00","00:00:00"]
[null,{"$f":"IFERROR(VLOOKUP(A1027,'Banco de Funcionários'!$A$2:$D$1048576,2,0),0)","v":0},null,null,null,null,null,{"$f":"(F1027-E1027)-G1027","v":"00:00:00"},null,{"$f":"IFERROR(H1027-I1027,\"\")","v":"00:00:00"},{"$f":"IFERROR(H1027+J1027,0)","v":"00:00:00"}]
[null,{"$f":"IFERROR(VLOOKUP(A1028,'Banco de Funcionários'!$A$2:$D$1048576,2,0),0)","v":0},null,null,null,null,null,"00:00:00",null,"00:00:00","00:00:00"]
[null,{"$f":"IFERROR(VLOOKUP(A1029,'Banco de Funcionários'!$A$2:$D$1048576,2,0),0)","v":0},null,null,null,null,null,"00:00:00",null,"00:00:00","00:00:00"]
[null,{"$f":"IFERROR(VLOOKUP(A1030,'Banco de Funcionários'!$A$2:$D$1048576,2,0),0)","v":0},null,null,null,null,null,"00:00:00",null,"00:00:00","00:00:00"]
[null,{"$f":"IFERROR(VLOOKUP(A1031,'Banco de Funcionários'!$A$2:$D$1048576,2,0),0)","v":0},null,null,null,null,null,"00:00:00",null,"00:00:00","00:00:00"]
[null,{"$f":"IFERROR(VLOOKUP(A1032,'Banco de Funcionários'!$A$2:$D$1048576,2,0),0)","v":0},null,null,null,null,null,"00:00:00",null,"00:00:00","00:00:00"]
[null,{"$f":"IFERROR(VLOOKUP(A1033,'Banco de Funcionários'!$A$2:$D$1048576,2,0),0)","v":0},null,null,null,null,null,"00:00:00",null,"00:00:00","00:00:00"]
[null,{"$f":"IFERROR(VLOOKUP(A1034,'Banco de Funcionários'!$A$2:$D$1048576,2,0),0)","v":0},null,null,null,null,null,"00:00:00",null,"00:00:00","00:00:00"]
[null,{"$f":"IFERROR(VLOOKUP(A1035,'Banco de Funcionários'!$A$2:$D$1048576,2,0),0)","v":0},null,null,null,null,null,"00:00:00",null,"00:00:00","00:00:00"]
[null,{"$f":"IFERROR(VLOOKUP(A1036,'Banco de Funcionários'!$A$2:$D$1048576,2,0),0)","v":0},null,null,null,null,null,"00:00:00",null,"00:00:00","00:00:00"]
[null,{"$f":"IFERROR(VLOOKUP(A1037,'Banco de Funcionários'!$A$2:$D$1048576,2,0),0)","v":0},null,null,null,null,null,"00:00:00",null,"00:00:00","00:00:00"]
[null,{"$f":"IFERROR(VLOOKUP(A1038,'Banco de Funcionários'!$A$2:$D$1048576,2,0),0)","v":0},null,null,null,null,null,"00:00:00",null,"00:00:00","00:00:00"]
[null,{"$f":"IFERROR(VLOOKUP(A1039,'Banco de Funcionários'!$A$2:$D$1048576,2,0),0)","v":0},null,null,null,null,null,"00:00:00",null,"00:00:00","00:00:00"]
[null,{"$f":"IFERROR(VLOOKUP(A1040,'Banco de Funcionários'!$A$2:$D$1048576,2,0),0)","v":0},null,null,null,null,null,"00:00:00",null,"00:00:00","00:00:00"]
[null,{"$f":"IFERROR(VLOOKUP(A1041,'Banco de Funcionários'!$A$2:$D$1048576,2,0),0)","v":0},null,null,null,null,null,"00:00:00",null,"00:00:00","00:00:00"]
[null,{"$f":"IFERROR(VLOOKUP(A1042,'Banco de Funcionários'!$A$2:$D$1048576,2,0),0)","v":0},null,null,null,null,null,"00:00:00",null,"00:00:00","00:00:00"]
[null,{"$f":"IFERROR(VLOOKUP(A1043,'Banco de Funcionários'!$A$2:$D$1048576,2,0),0)","v":0},null,null,null,null,null,"00:00:00",null,"00:00:00","00:00:00"]
[null,{"$f":"IFERROR(VLOOKUP(A1044,'Banco de Funcionários'!$A$2:$D$1048576,2,0),0)","v":0},null,null,null,null,null,"00:00:00",null,"00:00:00","00:00:00"]
[null,{"$f":"IFERROR(VLOOKUP(A1045,'Banco de Funcionários'!$A$2:$D$1048576,2,0),0)","v":0},null,null,null,null,null,"00:00:00",null,"00:00:00","00:00:00"]
[null,{"$f":"IFERROR(VLOOKUP(A1046,'Banco de Funcionários'!$A$2:$D$1048576,2,0),0)","v":0},null,null,null,null,null,"00:00:00",null,"00:00:00","00:00:00"]
[null,{"$f":"IFERROR(VLOOKUP(A1047,'Banco de Funcionários'!$A$2:$D$1048576,2,0),0)","v":0},null,null,null,null,null,"00:00:00",null,"00:00:00","00:00:00"]
[null,{"$f":"IFERROR(VLOOKUP(A1048,'Banco de Funcionários'!$A$2:$D$1048576,2,0),0)","v":0},null,null,null,null,null,"00:00:00",null,"00:00:00","00:00:00"]
[null,{"$f":"IFERROR(VLOOKUP(A1049,'Banco de Funcionários'!$A$2:$D$1048576,2,0),0)","v":0},null,null,null,null,null,"00:00:00",null,"00:00:00","00:00:00"]
[null,{"$f":"IFERROR(VLOOKUP(A1050,'Banco de Funcionários'!$A$2:$D$1048576,2,0),0)","v":0},null,null,null,null,null,"00:00:00",null,"00:00:00","00:00:00"]
[null,{"$f":"IFERROR(VLOOKUP(A1051,'Banco de Funcionários'!$A$2:$D$1048576,2,0),0)","v":0},null,null,null,null,null,"00:00:00",null,"00:00:00","00:00:00"]
[null,{"$f":"IFERROR(VLOOKUP(A1052,'Banco de Funcionários'!$A$2:$D$1048576,2,0),0)","v":0},null,null,null,null,null,"00:00:00",null,"00:00:00","00:00:00"]
[null,{"$f":"IFERROR(VLOOKUP(A1053,'Banco de Funcionários'!$A$2:$D$1048576,2,0),0)","v":0},null,null,null,null,null,"00:00:00",null,"00:00:00","00:00:00"]
[null,{"$f":"IFERROR(VLOOKUP(A1054,'Banco de Funcionários'!$A$2:$D$1048576,2,0),0)","v":0},null,null,null,null,null,"00:00:00",null,"00:00:00","00:00:00"]
[null,{"$f":"IFERROR(VLOOKUP(A1055,'Banco de Funcionários'!$A$2:$D$1048576,2,0),0)","v":0},null,null,null,null,null,"00:00:00",null,"00:00:00","00:00:00"]
[null,{"$f":"IFERROR(VLOOKUP(A1056,'Banco de Funcionários'!$A$2:$D$1048576,2,0),0)","v":0},null,null,null,null,null,"00:00:00",null,"00:00:00","00:00:00"]
[null,{"$f":"IFERROR(VLOOKUP(A1057,'Banco de Funcionários'!$A$2:$D$1048576,2,0),0)","v":0},null,null,null,null,null,"00:00:00",null,"00:00:00","00:00:00"]
[null,{"$f":"IFERROR(VLOOKUP(A1058,'Banco de Funcionários'!$A$2:$D$1048576,2,0),0)","v":0},null,null,null,null,null,"00:00:00",null,"00:00:00","00:00:00"]
[null,{"$f":"IFERROR(VLOOKUP(A1059,'Banco de Funcionários'!$A$2:$D$1048576,2,0),0)","v":0},null,null,null,null,null,"00:00:00",null,"00:00:00","00:00:00"]
[null,{"$f":"IFERROR(VLOOKUP(A1060,'Banco de Funcionários'!$A$2:$D$1048576,2,0),0)","v":0},null,null,null,null,null,"00:00:00",null,"00:00:00","00:00:00"]
[null,{"$f":"IFERROR(VLOOKUP(A1061,'Banco de Funcionários'!$A$2:$D$1048576,2,0),0)","v":0},null,null,null,null,null,"00:00:00",null,"00:00:00","00:00:00"]
[null,{"$f":"IFERROR(VLOOKUP(A1062,'Banco de Funcionários'!$A$2:$D$1048576,2,0),0)","v":0},null,null,null,null,null,"00:00:00",null,"00:00:00","00:00:00"]
[null,{"$f":"IFERROR(VLOOKUP(A1063,'Banco de Funcionários'!$A$2:$D$1048576,2,0),0)","v":0},null,null,null,null,null,"00:00:00",null,"00:00:00","00:00:00"]
[null,{"$f":"IFERROR(VLOOKUP(A1064,'Banco de Funcionários'!$A$2:$D$1048576,2,0),0)","v":0},null,null,null,null,null,"00:00:00",null,"00:00:00","00:00:00"]
[null,{"$f":"IFERROR(VLOOKUP(A1065,'Banco de Funcionários'!$A$2:$D$1048576,2,0),0)","v":0},null,null,null,null,null,"00:00:00",null,"00:00:00","00:00:00"]
[null,{"$f":"IFERROR(VLOOKUP(A1066,'Banco de Funcionários'!$A$2:$D$1048576,2,0),0)","v":0},null,null,null,null,null,"00:00:00",null,"00:00:00","00:00:00"]
[null,{"$f":"IFERROR(VLOOKUP(A1067,'Banco de Funcionários'!$A$2:$D$1048576,2,0),0)","v":0},null,null,null,null,null,"00:00:00",null,"00:00:00","00:00:00"]
[null,{"$f":"IFERROR(VLOOKUP(A1068,'Banco de Funcionários'!$A$2:$D$1048576,2,0),0)","v":0},null,null,null,null,null,"00:00:00",null,"00:00:00","00:00:00"]
[null,{"$f":"IFERROR(VLOOKUP(A1069,'Banco de Funcionários'!$A$2:$D$1048576,2,0),0)","v":0},null,null,null,null,null,"00:00:00",null,"00:00:00","00:00:00"]
[null,{"$f":"IFERROR(VLOOKUP(A1070,'Banco de Funcionários'!$A$2:$D$1048576,2,0),0)","v":0},null,null,null,null,null,"00:00:00",null,"00:00:00","00:00:00"]
[null,{"$f":"IFERROR(VLOOKUP(A1071,'Banco de Funcionários'!$A$2:$D$1048576,2,0),0)","v":0},null,null,null,null,null,"00:00:00",null,"00:00:00","00:00:00"]
[null,{"$f":"IFERROR(VLOOKUP(A1072,'Banco de Funcionários'!$A$2:$D$1048576,2,0),0)","v":0},null,null,null,null,null,"00:00:00",null,"00:00:00","00:00:00"]
[null,{"$f":"IFERROR(VLOOKUP(A1073,'Banco de Funcionários'!$A$2:$D$1048576,2,0),0)","v":0},null,null,null,null,null,"00:00:00",null,"00:00:00","00:00:00"]
[null,{"$f":"IFERROR(VLOOKUP(A1074,'Banco de Funcionários'!$A$2:$D$1048576,2,0),0)","v":0},null,null,null,null,null,"00:00:00",null,"00:00:00","00:00:00"]
[null,{"$f":"IFERROR(VLOOKUP(A1075,'Banco de Funcionários'!$A$2:$D$1048576,2,0),0)","v":0},null,null,null,null,null,"00:00:00",null,"00:00:00","00:00:00"]
[null,{"$f":"IFERROR(VLOOKUP(A1076,'Banco de Funcionários'!$A$2:$D$1048576,2,0),0)","v":0},null,null,null,null,null,"00:00:00",null,"00:00:00","00:00:00"]
[null,{"$f":"IFERROR(VLOOKUP(A1077,'Banco de Funcionários'!$A$2:$D$1048576,2,0),0)","v":0},null,null,null,null,null,"00:00:00",null,"00:00:00","00:00:00"]
[null,{"$f":"IFERROR(VLOOKUP(A1078,'Banco de Funcionários'!$A$2:$D$1048576,2,0),0)","v":0},null,null,null,null,null,"00:00:00",null,"00:00:00","00:00:00"]
[null,{"$f":"IFERROR(VLOOKUP(A1079,'Banco de Funcionários'!$A$2:$D$1048576,2,0),0)","v":0},null,null,null,null,null,"00:00:00",null,"00:00:00","00:00:00"]
[null,{"$f":"IFERROR(VLOOKUP(A1080,'Banco de Funcionários'!$A$2:$D$1048576,2,0),0)","v":0},null,null,null,null,null,"00:00:00",null,"00:00:00","00:00:00"]
[null,{"$f":"IFERROR(VLOOKUP(A1081,'Banco de Funcionários'!$A$2:$D$1048576,2,0),0)","v":0},null,null,null,null,null,"00:00:00",null,"00:00:00","00:00:00"]
[null,{"$f":"IFERROR(VLOOKUP(A1082,'Banco de Funcionários'!$A$2:$D$1048576,2,0),0)","v":0},null,null,null,null,null,"00:00:00",null,"00:00:00","00:00:00"]
[null,{"$f":"IFERROR(VLOOKUP(A1083,'Banco de Funcionários'!$A$2:$D$1048576,2,0),0)","v":0},null,null,null,null,null,"00:00:00",null,"00:00:00","00:00:00"]
[null,{"$f":"IFERROR(VLOOKUP(A1084,'Banco de Funcionários'!$A$2:$D$1048576,2,0),0)","v":0},null,null,null,null,null,"00:00:00",null,"00:00:00","00:00:00"]
[null,{"$f":"IFERROR(VLOOKUP(A1085,'Banco de Funcionários'!$A$2:$D$1048576,2,0),0)","v":0},null,null,null,null,null,"00:00:00",null,"00:00:00","00:00:00"]
[null,{"$f":"IFERROR(VLOOKUP(A1086,'Banco de Funcionários'!$A$2:$D$1048576,2,0),0)","v":0},null,null,null,null,null,"00:00:00",null,"00:00:00","00:00:00"]
[null,{"$f":"IFERROR(VLOOKUP(A1087,'Banco de Funcionários'!$A$2:$D$1048576,2,0),0)","v":0},null,null,null,null,null,"00:00:00",null,"00:00:00","00:00:00"]
[null,{"$f":"IFERROR(VLOOKUP(A1088,'Banco de Funcionários'!$A$2:$D$1048576,2,0),0)","v":0},null,null,null,null,null,"00:00:00",null,"00:00:00","00:00:00"]
[null,{"$f":"IFERROR(VLOOKUP(A1089,'Banco de Funcionários'!$A$2:$D$1048576,2,0),0)","v":0},null,null,null,null,null,"00:00:00",null,"00:00:00","00:00:00"]
[null,{"$f":"IFERROR(VLOOKUP(A1090,'Banco de Funcionários'!$A$2:$D$1048576,2,0),0)","v":0},null,null,null,null,null,"00:00:00",null,"00:00:00","00:00:00"]
[null,{"$f":"IFERROR(VLOOKUP(A1091,'Banco de Funcionários'!$A$2:$D$1048576,2,0),0)","v":0},null,null,null,null,null,{"$f":"(F1091-E1091)-G1091","v":"00:00:00"},null,{"$f":"IFERROR(H1091-I1091,\"\")","v":"00:00:00"},{"$f":"IFERROR(H1091+J1091,0)","v":"00:00:00"}]
[null,{"$f":"IFERROR(VLOOKUP(A1092,'Banco de Funcionários'!$A$2:$D$1048576,2,0),0)","v":0},null,null,null,null,null,"00:00:00",null,"00:00:00","00:00:00"]
[null,{"$f":"IFERROR(VLOOKUP(A1093,'Banco de Funcionários'!$A$2:$D$1048576,2,0),0)","v":0},null,null,null,null,null,"00:00:00",null,"00:00:00","00:00:00"]
[null,{"$f":"IFERROR(VLOOKUP(A1094,'Banco de Funcionários'!$A$2:$D$1048576,2,0),0)","v":0},null,null,null,null,null,"00:00:00",null,"00:00:00","00:00:00"]
[null,{"$f":"IFERROR(VLOOKUP(A1095,'Banco de Funcionários'!$A$2:$D$1048576,2,0),0)","v":0},null,null,null,null,null,"00:00:00",null,"00:00:00","00:00:00"]
[null,{"$f":"IFERROR(VLOOKUP(A1096,'Banco de Funcionários'!$A$2:$D$1048576,2,0),0)","v":0},null,null,null,null,null,"00:00:00",null,"00:00:00","00:00:00"]
[null,{"$f":"IFERROR(VLOOKUP(A1097,'Banco de Funcionários'!$A$2:$D$1048576,2,0),0)","v":0},null,null,null,null,null,"00:00:00",null,"00:00:00","00:00:00"]
[null,{"$f":"IFERROR(VLOOKUP(A1098,'Banco de Funcionários'!$A$2:$D$1048576,2,0),0)","v":0},null,null,null,null,null,"00:00:00",null,"00:00:00","00:00:00"]
[null,{"$f":"IFERROR(VLOOKUP(A1099,'Banco de Funcionários'!$A$2:$D$1048576,2,0),0)","v":0},null,null,null,null,null,"00:00:00",null,"00:00:00","00:00:00"]
[null,{"$f":"IFERROR(VLOOKUP(A1100,'Banco de Funcionários'!$A$2:$D$1048576,2,0),0)","v":0},null,null,null,null,null,"00:00:00",null,"00:00:00","00:00:00"]
[null,{"$f":"IFERROR(VLOOKUP(A1101,'Banco de Funcionários'!$A$2:$D$1048576,2,0),0)","v":0},null,null,null,null,null,"00:00:00",null,"00:00:00","00:00:00"]
[null,{"$f":"IFERROR(VLOOKUP(A1102,'Banco de Funcionários'!$A$2:$D$1048576,2,0),0)","v":0},null,null,null,null,null,"00:00:00",null,"00:00:00","00:00:00"]
[null,{"$f":"IFERROR(VLOOKUP(A1103,'Banco de Funcionários'!$A$2:$D$1048576,2,0),0)","v":0},null,null,null,null,null,"00:00:00",null,"00:00:00","00:00:00"]
[null,{"$f":"IFERROR(VLOOKUP(A1104,'Banco de Funcionários'!$A$2:$D$1048576,2,0),0)","v":0},null,null,null,null,null,"00:00:00",null,"00:00:00","00:00:00"]
[null,{"$f":"IFERROR(VLOOKUP(A1105,'Banco de Funcionários'!$A$2:$D$1048576,2,0),0)","v":0},null,null,null,null,null,"00:00:00",null,"00:00:00","00:00:00"]
[null,{"$f":"IFERROR(VLOOKUP(A1106,'Banco de Funcionários'!$A$2:$D$1048576,2,0),0)","v":0},null,null,null,null,null,"00:00:00",null,"00:00:00","00:00:00"]
[null,{"$f":"IFERROR(VLOOKUP(A1107,'Banco de Funcionários'!$A$2:$D$1048576,2,0),0)","v":0},null,null,null,null,null,"00:00:00",null,"00:00:00","00:00:00"]
[null,{"$f":"IFERROR(VLOOKUP(A1108,'Banco de Funcionários'!$A$2:$D$1048576,2,0),0)","v":0},null,null,null,null,null,"00:00:00",null,"00:00:00","00:00:00"]
[null,{"$f":"IFERROR(VLOOKUP(A1109,'Banco de Funcionários'!$A$2:$D$1048576,2,0),0)","v":0},null,null,null,null,null,"00:00:00",null,"00:00:00","00:00:00"]
[null,{"$f":"IFERROR(VLOOKUP(A1110,'Banco de Funcionários'!$A$2:$D$1048576,2,0),0)","v":0},null,null,null,null,null,"00:00:00",null,"00:00:00","00:00:00"]
[null,{"$f":"IFERROR(VLOOKUP(A1111,'Banco de Funcionários'!$A$2:$D$1048576,2,0),0)","v":0},null,null,null,null,null,"00:00:00",null,"00:00:00","00:00:00"]
[null,{"$f":"IFERROR(VLOOKUP(A1112,'Banco de Funcionários'!$A$2:$D$1048576,2,0),0)","v":0},null,null,null,null,null,"00:00:00",null,"00:00:00","00:00:00"]
[null,{"$f":"IFERROR(VLOOKUP(A1113,'Banco de Funcionários'!$A$2:$D$1048576,2,0),0)","v":0},null,null,null,null,null,"00:00:00",null,"00:00:00","00:00:00"]
[null,{"$f":"IFERROR(VLOOKUP(A1114,'Banco de Funcionários'!$A$2:$D$1048576,2,0),0)","v":0},null,null,null,null,null,"00:00:00",null,"00:00:00","00:00:00"]
[null,{"$f":"IFERROR(VLOOKUP(A1115,'Banco de Funcionários'!$A$2:$D$1048576,2,0),0)","v":0},null,null,null,null,null,"00:00:00",null,"00:00:00","00:00:00"]
[null,{"$f":"IFERROR(VLOOKUP(A1116,'Banco de Funcionários'!$A$2:$D$1048576,2,0),0)","v":0},null,null,null,null,null,"00:00:00",null,"00:00:00","00:00:00"]
[null,{"$f":"IFERROR(VLOOKUP(A1117,'Banco de Funcionários'!$A$2:$D$1048576,2,0),0)","v":0},null,null,null,null,null,"00:00:00",null,"00:00:00","00:00:00"]
[null,{"$f":"IFERROR(VLOOKUP(A1118,'Banco de Funcionários'!$A$2:$D$1048576,2,0),0)","v":0},null,null,null,null,null,"00:00:00",null,"00:00:00","00:00:00"]
[null,{"$f":"IFERROR(VLOOKUP(A1119,'Banco de Funcionários'!$A$2:$D$1048576,2,0),0)","v":0},null,null,null,null,null,"00:00:00",null,"00:00:00","00:00:00"]
[null,{"$f":"IFERROR(VLOOKUP(A1120,'Banco de Funcionários'!$A$2:$D$1048576,2,0),0)","v":0},null,null,null,null,null,"00:00:00",null,"00:00:00","00:00:00"]
[null,{"$f":"IFERROR(VLOOKUP(A1121,'Banco de Funcionários'!$A$2:$D$1048576,2,0),0)","v":0},null,null,null,null,null,"00:00:00",null,"00:00:00","00:00:00"]
[null,{"$f":"IFERROR(VLOOKUP(A1122,'Banco de Funcionários'!$A$2:$D$1048576,2,0),0)","v":0},null,null,null,null,null,"00:00:00",null,"00:00:00","00:00:00"]
[null,{"$f":"IFERROR(VLOOKUP(A1123,'Banco de Funcionários'!$A$2:$D$1048576,2,0),0)","v":0},null,null,null,null,null,"00:00:00",null,"00:00:00","00:00:00"]
[null,{"$f":"IFERROR(VLOOKUP(A1124,'Banco de Funcionários'!$A$2:$D$1048576,2,0),0)","v":0},null,null,null,null,null,"00:00:00",null,"00:00:00","00:00:00"]
[null,{"$f":"IFERROR(VLOOKUP(A1125,'Banco de Funcionários'!$A$2:$D$1048576,2,0),0)","v":0},null,null,null,null,null,"00:00:00",null,"00:00:00","00:00:00"]
[null,{"$f":"IFERROR(VLOOKUP(A1126,'Banco de Funcionários'!$A$2:$D$1048576,2,0),0)","v":0},null,null,null,null,null,"00:00:00",null,"00:00:00","00:00:00"]
[null,{"$f":"IFERROR(VLOOKUP(A1127,'Banco de Funcionários'!$A$2:$D$1048576,2,0),0)","v":0},null,null,null,null,null,"00:00:00",null,"00:00:00","00:00:00"]
[null,{"$f":"IFERROR(VLOOKUP(A1128,'Banco de Funcionários'!$A$2:$D$1048576,2,0),0)","v":0},null,null,null,null,null,"00:00:00",null,"00:00:00","00:00:00"]
[null,{"$f":"IFERROR(VLOOKUP(A1129,'Banco de Funcionários'!$A$2:$D$1048576,2,0),0)","v":0},null,null,null,null,null,"00:00:00",null,"00:00:00","00:00:00"]
[null,{"$f":"IFERROR(VLOOKUP(A1130,'Banco de Funcionários'!$A$2:$D$1048576,2,0),0)","v":0},null,null,null,null,null,"00:00:00",null,"00:00:00","00:00:00"]
[null,{"$f":"IFERROR(VLOOKUP(A1131,'Banco de Funcionários'!$A$2:$D$1048576,2,0),0)","v":0},null,null,null,null,null,"00:00:00",null,"00:00:00","00:00:00"]
[null,{"$f":"IFERROR(VLOOKUP(A1132,'Banco de Funcionários'!$A$2:$D$1048576,2,0),0)","v":0},null,null,null,null,null,"00:00:00",null,"00:00:00","00:00:00"]
[null,{"$f":"IFERROR(VLOOKUP(A1133,'Banco de Funcionários'!$A$2:$D$1048576,2,0),0)","v":0},null,null,null,null,null,"00:00:00",null,"00:00:00","00:00:00"]
[null,{"$f":"IFERROR(VLOOKUP(A1134,'Banco de Funcionários'!$A$2:$D$1048576,2,0),0)","v":0},null,null,null,null,null,"00:00:00",null,"00:00:00","00:00:00"]
[null,{"$f":"IFERROR(VLOOKUP(A1135,'Banco de Funcionários'!$A$2:$D$1048576,2,0),0)","v":0},null,null,null,null,null,"00:00:00",null,"00:00:00","00:00:00"]
[null,{"$f":"IFERROR(VLOOKUP(A1136,'Banco de Funcionários'!$A$2:$D$1048576,2,0),0)","v":0},null,null,null,null,null,"00:00:00",null,"00:00:00","00:00:00"]
[null,{"$f":"IFERROR(VLOOKUP(A1137,'Banco de Funcionários'!$A$2:$D$1048576,2,0),0)","v":0},null,null,null,null,null,"00:00:00",null,"00:00:00","00:00:00"]
[null,{"$f":"IFERROR(VLOOKUP(A1138,'Banco de Funcionários'!$A$2:$D$1048576,2,0),0)","v":0},null,null,null,null,null,"00:00:00",null,"00:00:00","00:00:00"]
[null,{"$f":"IFERROR(VLOOKUP(A1139,'Banco de Funcionários'!$A$2:$D$1048576,2,0),0)","v":0},null,null,null,null,null,"00:00:00",null,"00:00:00","00:00:00"]
[null,{"$f":"IFERROR(VLOOKUP(A1140,'Banco de Funcionários'!$A$2:$D$1048576,2,0),0)","v":0},null,null,null,null,null,"00:00:00",null,"00:00:00","00:00:00"]
[null,{"$f":"IFERROR(VLOOKUP(A1141,'Banco de Funcionários'!$A$2:$D$1048576,2,0),0)","v":0},null,null,null,null,null,"00:00:00",null,"00:00:00","00:00:00"]
[null,{"$f":"IFERROR(VLOOKUP(A1142,'Banco de Funcionários'!$A$2:$D$1048576,2,0),0)","v":0},null,null,null,null,null,"00:00:00",null,"00:00:00","00:00:00"]
[null,{"$f":"IFERROR(VLOOKUP(A1143,'Banco de Funcionários'!$A$2:$D$1048576,2,0),0)","v":0},null,null,null,null,null,"00:00:00",null,"00:00:00","00:00:00"]
[null,{"$f":"IFERROR(VLOOKUP(A1144,'Banco de Funcionários'!$A$2:$D$1048576,2,0),0)","v":0},null,null,null,null,null,"00:00:00",null,"00:00:00","00:00:00"]
[null,{"$f":"IFERROR(VLOOKUP(A1145,'Banco de Funcionários'!$A$2:$D$1048576,2,0),0)","v":0},null,null,null,null,null,"00:00:00",null,"00:00:00","00:00:00"]
[null,{"$f":"IFERROR(VLOOKUP(A1146,'Banco de Funcionários'!$A$2:$D$1048576,2,0),0)","v":0},null,null,null,null,null,"00:00:00",null,"00:00:00","00:00:00"]
[null,{"$f":"IFERROR(VLOOKUP(A1147,'Banco de Funcionários'!$A$2:$D$1048576,2,0),0)","v":0},null,null,null,null,null,"00:00:00",null,"00:00:00","00:00:00"]
[null,{"$f":"IFERROR(VLOOKUP(A1148,'Banco de Funcionários'!$A$2:$D$1048576,2,0),0)","v":0},null,null,null,null,null,"00:00:00",null,"00:00:00","00:00:00"]
[null,{"$f":"IFERROR(VLOOKUP(A1149,'Banco de Funcionários'!$A$2:$D$1048576,2,0),0)","v":0},null,null,null,null,null,"00:00:00",null,"00:00:00","00:00:00"]
[null,{"$f":"IFERROR(VLOOKUP(A1150,'Banco de Funcionários'!$A$2:$D$1048576,2,0),0)","v":0},null,null,null,null,null,"00:00:00",null,"00:00:00","00:00:00"]
[null,{"$f":"IFERROR(VLOOKUP(A1151,'Banco de Funcionários'!$A$2:$D$1048576,2,0),0)","v":0},null,null,null,null,null,"00:00:00",null,"00:00:00","00:00:00"]
[null,{"$f":"IFERROR(VLOOKUP(A1152,'Banco de Funcionários'!$A$2:$D$1048576,2,0),0)","v":0},null,null,null,null,null,"00:00:00",null,"00:00:00","00:00:00"]
[null,{"$f":"IFERROR(VLOOKUP(A1153,'Banco de Funcionários'!$A$2:$D$1048576,2,0),0)","v":0},null,null,null,null,null,"00:00:00",null,"00:00:00","00:00:00"]
[null,{"$f":"IFERROR(VLOOKUP(A1154,'Banco de Funcionários'!$A$2:$D$1048576,2,0),0)","v":0},null,null,null,null,null,"00:00:00",null,"00:00:00","00:00:00"]
[null,{"$f":"IFERROR(VLOOKUP(A1155,'Banco de Funcionários'!$A$2:$D$1048576,2,0),0)","v":0},null,null,null,null,null,{"$f":"(F1155-E1155)-G1155","v":"00:00:00"},null,{"$f":"IFERROR(H1155-I1155,\"\")","v":"00:00:00"},{"$f":"IFERROR(H1155+J1155,0)","v":"00:00:00"}]
[null,{"$f":"IFERROR(VLOOKUP(A1156,'Banco de Funcionários'!$A$2:$D$1048576,2,0),0)","v":0},null,null,null,null,null,"00:00:00",null,"00:00:00","00:00:00"]
[null,{"$f":"IFERROR(VLOOKUP(A1157,'Banco de Funcionários'!$A$2:$D$1048576,2,0),0)","v":0},null,null,null,null,null,"00:00:00",null,"00:00:00","00:00:00"]
[null,{"$f":"IFERROR(VLOOKUP(A1158,'Banco de Funcionários'!$A$2:$D$1048576,2,0),0)","v":0},null,null,null,null,null,"00:00:00",null,"00:00:00","00:00:00"]
[null,{"$f":"IFERROR(VLOOKUP(A1159,'Banco de Funcionários'!$A$2:$D$1048576,2,0),0)","v":0},null,null,null,null,null,"00:00:00",null,"00:00:00","00:00:00"]
[null,{"$f":"IFERROR(VLOOKUP(A1160,'Banco de Funcionários'!$A$2:$D$1048576,2,0),0)","v":0},null,null,null,null,null,"00:00:00",null,"00:00:00","00:00:00"]
[null,{"$f":"IFERROR(VLOOKUP(A1161,'Banco de Funcionários'!$A$2:$D$1048576,2,0),0)","v":0},null,null,null,null,null,"00:00:00",null,"00:00:00","00:00:00"]
[null,{"$f":"IFERROR(VLOOKUP(A1162,'Banco de Funcionários'!$A$2:$D$1048576,2,0),0)","v":0},null,null,null,null,null,"00:00:00",null,"00:00:00","00:00:00"]
[null,{"$f":"IFERROR(VLOOKUP(A1163,'Banco de Funcionários'!$A$2:$D$1048576,2,0),0)","v":0},null,null,null,null,null,"00:00:00",null,"00:00:00","00:00:00"]
[null,{"$f":"IFERROR(VLOOKUP(A1164,'Banco de Funcionários'!$A$2:$D$1048576,2,0),0)","v":0},null,null,null,null,null,"00:00:00",null,"00:00:00","00:00:00"]
[null,{"$f":"IFERROR(VLOOKUP(A1165,'Banco de Funcionários'!$A$2:$D$1048576,2,0),0)","v":0},null,null,null,null,null,"00:00:00",null,"00:00:00","00:00:00"]
[null,{"$f":"IFERROR(VLOOKUP(A1166,'Banco de Funcionários'!$A$2:$D$1048576,2,0),0)","v":0},null,null,null,null,null,"00:00:00",null,"00:00:00","00:00:00"]
[null,{"$f":"IFERROR(VLOOKUP(A1167,'Banco de Funcionários'!$A$2:$D$1048576,2,0),0)","v":0},null,null,null,null,null,"00:00:00",null,"00:00:00","00:00:00"]
[null,{"$f":"IFERROR(VLOOKUP(A1168,'Banco de Funcionários'!$A$2:$D$1048576,2,0),0)","v":0},null,null,null,null,null,"00:00:00",null,"00:00:00","00:00:00"]
[null,{"$f":"IFERROR(VLOOKUP(A1169,'Banco de Funcionários'!$A$2:$D$1048576,2,0),0)","v":0},null,null,null,null,null,"00:00:00",null,"00:00:00","00:00:00"]
[null,{"$f":"IFERROR(VLOOKUP(A1170,'Banco de Funcionários'!$A$2:$D$1048576,2,0),0)","v":0},null,null,null,null,null,"00:00:00",null,"00:00:00","00:00:00"]
[null,{"$f":"IFERROR(VLOOKUP(A1171,'Banco de Funcionários'!$A$2:$D$1048576,2,0),0)","v":0},null,null,null,null,null,"00:00:00",null,"00:00:00","00:00:00"]
[null,{"$f":"IFERROR(VLOOKUP(A1172,'Banco de Funcionários'!$A$2:$D$1048576,2,0),0)","v":0},null,null,null,null,null,"00:00:00",null,"00:00:00","00:00:00"]
[null,{"$f":"IFERROR(VLOOKUP(A1173,'Banco de Funcionários'!$A$2:$D$1048576,2,0),0)","v":0},null,null,null,null,null,"00:00:00",null,"00:00:00","00:00:00"]
[null,{"$f":"IFERROR(VLOOKUP(A1174,'Banco de Funcionários'!$A$2:$D$1048576,2,0),0)","v":0},null,null,null,null,null,"00:00:00",null,"00:00:00","00:00:00"]
[null,{"$f":"IFERROR(VLOOKUP(A1175,'Banco de Funcionários'!$A$2:$D$1048576,2,0),0)","v":0},null,null,null,null,null,"00:00:00",null,"00:00:00","00:00:00"]
[null,{"$f":"IFERROR(VLOOKUP(A1176,'Banco de Funcionários'!$A$2:$D$1048576,2,0),0)","v":0},null,null,null,null,null,"00:00:00",null,"00:00:00","00:00:00"]
[null,{"$f":"IFERROR(VLOOKUP(A1177,'Banco de Funcionários'!$A$2:$D$1048576,2,0),0)","v":0},null,null,null,null,null,"00:00:00",null,"00:00:00","00:00:00"]
[null,{"$f":"IFERROR(VLOOKUP(A1178,'Banco de Funcionários'!$A$2:$D$1048576,2,0),0)","v":0},null,null,null,null,null,"00:00:00",null,"00:00:00","00:00:00"]
[null,{"$f":"IFERROR(VLOOKUP(A1179,'Banco de Funcionários'!$A$2:$D$1048576,2,0),0)","v":0},null,null,null,null,null,"00:00:00",null,"00:00:00","00:00:00"]
[null,{"$f":"IFERROR(VLOOKUP(A1180,'Banco de Funcionários'!$A$2:$D$1048576,2,0),0)","v":0},null,null,null,null,null,"00:00:00",null,"00:00:00","00:00:00"]
[null,{"$f":"IFERROR(VLOOKUP(A1181,'Banco de Funcionários'!$A$2:$D$1048576,2,0),0)","v":0},null,null,null,null,null,"00:00:00",null,"00:00:00","00:00:00"]
[null,{"$f":"IFERROR(VLOOKUP(A1182,'Banco de Funcionários'!$A$2:$D$1048576,2,0),0)","v":0},null,null,null,null,null,"00:00:00",null,"00:00:00","00:00:00"]
[null,{"$f":"IFERROR(VLOOKUP(A1183,'Banco de Funcionários'!$A$2:$D$1048576,2,0),0)","v":0},null,null,null,null,null,"00:00:00",null,"00:00:00","00:00:00"]
[null,{"$f":"IFERROR(VLOOKUP(A1184,'Banco de Funcionários'!$A$2:$D$1048576,2,0),0)","v":0},null,null,null,null,null,"00:00:00",null,"00:00:00","00:00:00"]
[null,{"$f":"IFERROR(VLOOKUP(A1185,'Banco de Funcionários'!$A$2:$D$1048576,2,0),0)","v":0},null,null,null,null,null,"00:00:00",null,"00:00:00","00:00:00"]
[null,{"$f":"IFERROR(VLOOKUP(A1186,'Banco de Funcionários'!$A$2:$D$1048576,2,0),0)","v":0},null,null,null,null,null,"00:00:00",null,"00:00:00","00:00:00"]
[null,{"$f":"IFERROR(VLOOKUP(A1187,'Banco de Funcionários'!$A$2:$D$1048576,2,0),0)","v":0},null,null,null,null,null,"00:00:00",null,"00:00:00","00:00:00"]
[null,{"$f":"IFERROR(VLOOKUP(A1188,'Banco de Funcionários'!$A$2:$D$1048576,2,0),0)","v":0},null,null,null,null,null,"00:00:00",null,"00:00:00","00:00:00"]
[null,{"$f":"IFERROR(VLOOKUP(A1189,'Banco de Funcionários'!$A$2:$D$1048576,2,0),0)","v":0},null,null,null,null,null,"00:00:00",null,"00:00:00","00:00:00"]
[null,{"$f":"IFERROR(VLOOKUP(A1190,'Banco de Funcionários'!$A$2:$D$1048576,2,0),0)","v":0},null,null,null,null,null,"00:00:00",null,"00:00:00","00:00:00"]
[null,{"$f":"IFERROR(VLOOKUP(A1191,'Banco de Funcionários'!$A$2:$D$1048576,2,0),0)","v":0},null,null,null,null,null,"00:00:00",null,"00:00:00","00:00:00"]
[null,{"$f":"IFERROR(VLOOKUP(A1192,'Banco de Funcionários'!$A$2:$D$1048576,2,0),0)","v":0},null,null,null,null,null,"00:00:00",null,"00:00:00","00:00:00"]
[null,{"$f":"IFERROR(VLOOKUP(A1193,'Banco de Funcionários'!$A$2:$D$1048576,2,0),0)","v":0},null,null,null,null,null,"00:00:00",null,"00:00:00","00:00:00"]
[null,{"$f":"IFERROR(VLOOKUP(A1194,'Banco de Funcionários'!$A$2:$D$1048576,2,0),0)","v":0},null,null,null,null,null,"00:00:00",null,"00:00:00","00:00:00"]
[null,{"$f":"IFERROR(VLOOKUP(A1195,'Banco de Funcionários'!$A$2:$D$1048576,2,0),0)","v":0},null,null,null,null,null,"00:00:00",null,"00:00:00","00:00:00"]
[null,{"$f":"IFERROR(VLOOKUP(A1196,'Banco de Funcionários'!$A$2:$D$1048576,2,0),0)","v":0},null,null,null,null,null,"00:00:00",null,"00:00:00","00:00:00"]
[null,{"$f":"IFERROR(VLOOKUP(A1197,'Banco de Funcionários'!$A$2:$D$1048576,2,0),0)","v":0},null,null,null,null,null,"00:00:00",null,"00:00:00","00:00:00"]
[null,{"$f":"IFERROR(VLOOKUP(A1198,'Banco de Funcionários'!$A$2:$D$1048576,2,0),0)","v":0},null,null,null,null,null,"00:00:00",null,"00:00:00","00:00:00"]
[null,{"$f":"IFERROR(VLOOKUP(A1199,'Banco de Funcionários'!$A$2:$D$1048576,2,0),0)","v":0},null,null,null,null,null,"00:00:00",null,"00:00:00","00:00:00"]
[null,{"$f":"IFERROR(VLOOKUP(A1200,'Banco de Funcionários'!$A$2:$D$1048576,2,0),0)","v":0},null,null,null,null,null,"00:00:00",null,"00:00:00","00:00:00"]
[null,{"$f":"IFERROR(VLOOKUP(A1201,'Banco de Funcionários'!$A$2:$D$1048576,2,0),0)","v":0},null,null,null,null,null,"00:00:00",null,"00:00:00","00:00:00"]
[null,{"$f":"IFERROR(VLOOKUP(A1202,'Banco de Funcionários'!$A$2:$D$1048576,2,0),0)","v":0},null,null,null,null,null,"00:00:00",null,"00:00:00","00:00:00"]
[null,{"$f":"IFERROR(VLOOKUP(A1203,'Banco de Funcionários'!$A$2:$D$1048576,2,0),0)","v":0},null,null,null,null,null,"00:00:00",null,"00:00:00","00:00:00"]
[null,{"$f":"IFERROR(VLOOKUP(A1204,'Banco de Funcionários'!$A$2:$D$1048576,2,0),0)","v":0},null,null,null,null,null,"00:00:00",null,"00:00:00","00:00:00"]
[null,{"$f":"IFERROR(VLOOKUP(A1205,'Banco de Funcionários'!$A$2:$D$1048576,2,0),0)","v":0},null,null,null,null,null,"00:00:00",null,"00:00:00","00:00:00"]
[null,{"$f":"IFERROR(VLOOKUP(A1206,'Banco de Funcionários'!$A$2:$D$1048576,2,0),0)","v":0},null,null,null,null,null,"00:00:00",null,"00:00:00","00:00:00"]
[null,{"$f":"IFERROR(VLOOKUP(A1207,'Banco de Funcionários'!$A$2:$D$1048576,2,0),0)","v":0},null,null,null,null,null,"00:00:00",null,"00:00:00","00:00:00"]
[null,{"$f":"IFERROR(VLOOKUP(A1208,'Banco de Funcionários'!$A$2:$D$1048576,2,0),0)","v":0},null,null,null,null,null,"00:00:00",null,"00:00:00","00:00:00"]
[null,{"$f":"IFERROR(VLOOKUP(A1209,'Banco de Funcionários'!$A$2:$D$1048576,2,0),0)","v":0},null,null,null,null,null,"00:00:00",null,"00:00:00","00:00:00"]
[null,{"$f":"IFERROR(VLOOKUP(A1210,'Banco de Funcionários'!$A$2:$D$1048576,2,0),0)","v":0},null,null,null,null,null,"00:00:00",null,"00:00:00","00:00:00"]
[null,{"$f":"IFERROR(VLOOKUP(A1211,'Banco de Funcionários'!$A$2:$D$1048576,2,0),0)","v":0},null,null,null,null,null,"00:00:00",null,"00:00:00","00:00:00"]
[null,{"$f":"IFERROR(VLOOKUP(A1212,'Banco de Funcionários'!$A$2:$D$1048576,2,0),0)","v":0},null,null,null,null,null,"00:00:00",null,"00:00:00","00:00:00"]
[null,{"$f":"IFERROR(VLOOKUP(A1213,'Banco de Funcionários'!$A$2:$D$1048576,2,0),0)","v":0},null,null,null,null,null,"00:00:00",null,"00:00:00","00:00:00"]
[null,{"$f":"IFERROR(VLOOKUP(A1214,'Banco de Funcionários'!$A$2:$D$1048576,2,0),0)","v":0},null,null,null,null,null,"00:00:00",null,"00:00:00","00:00:00"]
[null,{"$f":"IFERROR(VLOOKUP(A1215,'Banco de Funcionários'!$A$2:$D$1048576,2,0),0)","v":0},null,null,null,null,null,"00:00:00",null,"00:00:00","00:00:00"]
[null,{"$f":"IFERROR(VLOOKUP(A1216,'Banco de Funcionários'!$A$2:$D$1048576,2,0),0)","v":0},null,null,null,null,null,"00:00:00",null,"00:00:00","00:00:00"]
[null,{"$f":"IFERROR(VLOOKUP(A1217,'Banco de Funcionários'!$A$2:$D$1048576,2,0),0)","v":0},null,null,null,null,null,"00:00:00",null,"00:00:00","00:00:00"]
[null,{"$f":"IFERROR(VLOOKUP(A1218,'Banco de Funcionários'!$A$2:$D$1048576,2,0),0)","v":0},null,null,null,null,null,"00:00:00",null,"00:00:00","00:00:00"]
[null,{"$f":"IFERROR(VLOOKUP(A1219,'Banco de Funcionários'!$A$2:$D$1048576,2,0),0)","v":0},null,null,null,null,null,{"$f":"(F1219-E1219)-G1219","v":"00:00:00"},null,{"$f":"IFERROR(H1219-I1219,\"\")","v":"00:00:00"},{"$f":"IFERROR(H1219+J1219,0)","v":"00:00:00"}]
[null,{"$f":"IFERROR(VLOOKUP(A1220,'Banco de Funcionários'!$A$2:$D$1048576,2,0),0)","v":0},null,null,null,null,null,"00:00:00",null,"00:00:00","00:00:00"]
[null,{"$f":"IFERROR(VLOOKUP(A1221,'Banco de Funcionários'!$A$2:$D$1048576,2,0),0)","v":0},null,null,null,null,null,"00:00:00",null,"00:00:00","00:00:00"]
[null,{"$f":"IFERROR(VLOOKUP(A1222,'Banco de Funcionários'!$A$2:$D$1048576,2,0),0)","v":0},null,null,null,null,null,"00:00:00",null,"00:00:00","00:00:00"]
[null,{"$f":"IFERROR(VLOOKUP(A1223,'Banco de Funcionários'!$A$2:$D$1048576,2,0),0)","v":0},null,null,null,null,null,"00:00:00",null,"00:00:00","00:00:00"]
[null,{"$f":"IFERROR(VLOOKUP(A1224,'Banco de Funcionários'!$A$2:$D$1048576,2,0),0)","v":0},null,null,null,null,null,"00:00:00",null,"00:00:00","00:00:00"]
[null,{"$f":"IFERROR(VLOOKUP(A1225,'Banco de Funcionários'!$A$2:$D$1048576,2,0),0)","v":0},null,null,null,null,null,"00:00:00",null,"00:00:00","00:00:00"]
[null,{"$f":"IFERROR(VLOOKUP(A1226,'Banco de Funcionários'!$A$2:$D$1048576,2,0),0)","v":0},null,null,null,null,null,"00:00:00",null,"00:00:00","00:00:00"]
[null,{"$f":"IFERROR(VLOOKUP(A1227,'Banco de Funcionários'!$A$2:$D$1048576,2,0),0)","v":0},null,null,null,null,null,"00:00:00",null,"00:00:00","00:00:00"]
[null,{"$f":"IFERROR(VLOOKUP(A1228,'Banco de Funcionários'!$A$2:$D$1048576,2,0),0)","v":0},null,null,null,null,null,"00:00:00",null,"00:00:00","00:00:00"]
[null,{"$f":"IFERROR(VLOOKUP(A1229,'Banco de Funcionários'!$A$2:$D$1048576,2,0),0)","v":0},null,null,null,null,null,"00:00:00",null,"00:00:00","00:00:00"]
[null,{"$f":"IFERROR(VLOOKUP(A1230,'Banco de Funcionários'!$A$2:$D$1048576,2,0),0)","v":0},null,null,null,null,null,"00:00:00",null,"00:00:00","00:00:00"]
[null,{"$f":"IFERROR(VLOOKUP(A1231,'Banco de Funcionários'!$A$2:$D$1048576,2,0),0)","v":0},null,null,null,null,null,"00:00:00",null,"00:00:00","00:00:00"]
[null,{"$f":"IFERROR(VLOOKUP(A1232,'Banco de Funcionários'!$A$2:$D$1048576,2,0),0)","v":0},null,null,null,null,null,"00:00:00",null,"00:00:00","00:00:00"]
[null,{"$f":"IFERROR(VLOOKUP(A1233,'Banco de Funcionários'!$A$2:$D$1048576,2,0),0)","v":0},null,null,null,null,null,"00:00:00",null,"00:00:00","00:00:00"]
[null,{"$f":"IFERROR(VLOOKUP(A1234,'Banco de Funcionários'!$A$2:$D$1048576,2,0),0)","v":0},null,null,null,null,null,"00:00:00",null,"00:00:00","00:00:00"]
[null,{"$f":"IFERROR(VLOOKUP(A1235,'Banco de Funcionários'!$A$2:$D$1048576,2,0),0)","v":0},null,null,null,null,null,"00:00:00",null,"00:00:00","00:00:00"]
[null,{"$f":"IFERROR(VLOOKUP(A1236,'Banco de Funcionários'!$A$2:$D$1048576,2,0),0)","v":0},null,null,null,null,null,"00:00:00",null,"00:00:00","00:00:00"]
[null,{"$f":"IFERROR(VLOOKUP(A1237,'Banco de Funcionários'!$A$2:$D$1048576,2,0),0)","v":0},null,null,null,null,null,"00:00:00",null,"00:00:00","00:00:00"]
[null,{"$f":"IFERROR(VLOOKUP(A1238,'Banco de Funcionários'!$A$2:$D$1048576,2,0),0)","v":0},null,null,null,null,null,"00:00:00",null,"00:00:00","00:00:00"]
[null,{"$f":"IFERROR(VLOOKUP(A1239,'Banco de Funcionários'!$A$2:$D$1048576,2,0),0)","v":0},null,null,null,null,null,"00:00:00",null,"00:00:00","00:00:00"]
[null,{"$f":"IFERROR(VLOOKUP(A1240,'Banco de Funcionários'!$A$2:$D$1048576,2,0),0)","v":0},null,null,null,null,null,"00:00:00",null,"00:00:00","00:00:00"]
[null,{"$f":"IFERROR(VLOOKUP(A1241,'Banco de Funcionários'!$A$2:$D$1048576,2,0),0)","v":0},null,null,null,null,null,"00:00:00",null,"00:00:00","00:00:00"]
[null,{"$f":"IFERROR(VLOOKUP(A1242,'Banco de Funcionários'!$A$2:$D$1048576,2,0),0)","v":0},null,null,null,null,null,"00:00:00",null,"00:00:00","00:00:00"]
[null,{"$f":"IFERROR(VLOOKUP(A1243,'Banco de Funcionários'!$A$2:$D$1048576,2,0),0)","v":0},null,null,null,null,null,"00:00:00",null,"00:00:00","00:00:00"]
[null,{"$f":"IFERROR(VLOOKUP(A1244,'Banco de Funcionários'!$A$2:$D$1048576,2,0),0)","v":0},null,null,null,null,null,"00:00:00",null,"00:00:00","00:00:00"]
[null,{"$f":"IFERROR(VLOOKUP(A1245,'Banco de Funcionários'!$A$2:$D$1048576,2,0),0)","v":0},null,null,null,null,null,"00:00:00",null,"00:00:00","00:00:00"]
[null,{"$f":"IFERROR(VLOOKUP(A1246,'Banco de Funcionários'!$A$2:$D$1048576,2,0),0)","v":0},null,null,null,null,null,"00:00:00",null,"00:00:00","00:00:00"]
[null,{"$f":"IFERROR(VLOOKUP(A1247,'Banco de Funcionários'!$A$2:$D$1048576,2,0),0)","v":0},null,null,null,null,null,"00:00:00",null,"00:00:00","00:00:00"]
[null,{"$f":"IFERROR(VLOOKUP(A1248,'Banco de Funcionários'!$A$2:$D$1048576,2,0),0)","v":0},null,null,null,null,null,"00:00:00",null,"00:00:00","00:00:00"]
[null,{"$f":"IFERROR(VLOOKUP(A1249,'Banco de Funcionários'!$A$2:$D$1048576,2,0),0)","v":0},null,null,null,null,null,"00:00:00",null,"00:00:00","00:00:00"]
[null,{"$f":"IFERROR(VLOOKUP(A1250,'Banco de Funcionários'!$A$2:$D$1048576,2,0),0)","v":0},null,null,null,null,null,"00:00:00",null,"00:00:00","00:00:00"]
[null,{"$f":"IFERROR(VLOOKUP(A1251,'Banco de Funcionários'!$A$2:$D$1048576,2,0),0)","v":0},null,null,null,null,null,"00:00:00",null,"00:00:00","00:00:00"]
[null,{"$f":"IFERROR(VLOOKUP(A1252,'Banco de Funcionários'!$A$2:$D$1048576,2,0),0)","v":0},null,null,null,null,null,"00:00:00",null,"00:00:00","00:00:00"]
[null,{"$f":"IFERROR(VLOOKUP(A1253,'Banco de Funcionários'!$A$2:$D$1048576,2,0),0)","v":0},null,null,null,null,null,"00:00:00",null,"00:00:00","00:00:00"]
[null,{"$f":"IFERROR(VLOOKUP(A1254,'Banco de Funcionários'!$A$2:$D$1048576,2,0),0)","v":0},null,null,null,null,null,"00:00:00",null,"00:00:00","00:00:00"]
[null,{"$f":"IFERROR(VLOOKUP(A1255,'Banco de Funcionários'!$A$2:$D$1048576,2,0),0)","v":0},null,null,null,null,null,"00:00:00",null,"00:00:00","00:00:00"]
[null,{"$f":"IFERROR(VLOOKUP(A1256,'Banco de Funcionários'!$A$2:$D$1048576,2,0),0)","v":0},null,null,null,null,null,"00:00:00",null,"00:00:00","00:00:00"]
[null,{"$f":"IFERROR(VLOOKUP(A1257,'Banco de Funcionários'!$A$2:$D$1048576,2,0),0)","v":0},null,null,null,null,null,"00:00:00",null,"00:00:00","00:00:00"]
[null,{"$f":"IFERROR(VLOOKUP(A1258,'Banco de Funcionários'!$A$2:$D$1048576,2,0),0)","v":0},null,null,null,null,null,"00:00:00",null,"00:00:00","00:00:00"]
[null,{"$f":"IFERROR(VLOOKUP(A1259,'Banco de Funcionários'!$A$2:$D$1048576,2,0),0)","v":0},null,null,null,null,null,"00:00:00",null,"00:00:00","00:00:00"]
[null,{"$f":"IFERROR(VLOOKUP(A1260,'Banco de Funcionários'!$A$2:$D$1048576,2,0),0)","v":0},null,null,null,null,null,"00:00:00",null,"00:00:00","00:00:00"]
[null,{"$f":"IFERROR(VLOOKUP(A1261,'Banco de Funcionários'!$A$2:$D$1048576,2,0),0)","v":0},null,null,null,null,null,"00:00:00",null,"00:00:00","00:00:00"]
[null,{"$f":"IFERROR(VLOOKUP(A1262,'Banco de Funcionários'!$A$2:$D$1048576,2,0),0)","v":0},null,null,null,null,null,"00:00:00",null,"00:00:00","00:00:00"]
[null,{"$f":"IFERROR(VLOOKUP(A1263,'Banco de Funcionários'!$A$2:$D$1048576,2,0),0)","v":0},null,null,null,null,null,"00:00:00",null,"00:00:00","00:00:00"]
[null,{"$f":"IFERROR(VLOOKUP(A1264,'Banco de Funcionários'!$A$2:$D$1048576,2,0),0)","v":0},null,null,null,null,null,"00:00:00",null,"00:00:00","00:00:00"]
[null,{"$f":"IFERROR(VLOOKUP(A1265,'Banco de Funcionários'!$A$2:$D$1048576,2,0),0)","v":0},null,null,null,null,null,"00:00:00",null,"00:00:00","00:00:00"]
[null,{"$f":"IFERROR(VLOOKUP(A1266,'Banco de Funcionários'!$A$2:$D$1048576,2,0),0)","v":0},null,null,null,null,null,"00:00:00",null,"00:00:00","00:00:00"]
[null,{"$f":"IFERROR(VLOOKUP(A1267,'Banco de Funcionários'!$A$2:$D$1048576,2,0),0)","v":0},null,null,null,null,null,"00:00:00",null,"00:00:00","00:00:00"]
[null,{"$f":"IFERROR(VLOOKUP(A1268,'Banco de Funcionários'!$A$2:$D$1048576,2,0),0)","v":0},null,null,null,null,null,"00:00:00",null,"00:00:00","00:00:00"]
[null,{"$f":"IFERROR(VLOOKUP(A1269,'Banco de Funcionários'!$A$2:$D$1048576,2,0),0)","v":0},null,null,null,null,null,"00:00:00",null,"00:00:00","00:00:00"]
[null,{"$f":"IFERROR(VLOOKUP(A1270,'Banco de Funcionários'!$A$2:$D$1048576,2,0),0)","v":0},null,null,null,null,null,"00:00:00",null,"00:00:00","00:00:00"]
[null,{"$f":"IFERROR(VLOOKUP(A1271,'Banco de Funcionários'!$A$2:$D$1048576,2,0),0)","v":0},null,null,null,null,null,"00:00:00",null,"00:00:00","00:00:00"]
[null,{"$f":"IFERROR(VLOOKUP(A1272,'Banco de Funcionários'!$A$2:$D$1048576,2,0),0)","v":0},null,null,null,null,null,"00:00:00",null,"00:00:00","00:00:00"]
[null,{"$f":"IFERROR(VLOOKUP(A1273,'Banco de Funcionários'!$A$2:$D$1048576,2,0),0)","v":0},null,null,null,null,null,"00:00:00",null,"00:00:00","00:00:00"]
[null,{"$f":"IFERROR(VLOOKUP(A1274,'Banco de Funcionários'!$A$2:$D$1048576,2,0),0)","v":0},null,null,null,null,null,"00:00:00",null,"00:00:00","00:00:00"]
[null,{"$f":"IFERROR(VLOOKUP(A1275,'Banco de Funcionários'!$A$2:$D$1048576,2,0),0)","v":0},null,null,null,null,null,"00:00:00",null,"00:00:00","00:00:00"]
[null,{"$f":"IFERROR(VLOOKUP(A1276,'Banco de Funcionários'!$A$2:$D$1048576,2,0),0)","v":0},null,null,null,null,null,"00:00:00",null,"00:00:00","00:00:00"]
[null,{"$f":"IFERROR(VLOOKUP(A1277,'Banco de Funcionários'!$A$2:$D$1048576,2,0),0)","v":0},null,null,null,null,null,"00:00:00",null,"00:00:00","00:00:00"]
[null,{"$f":"IFERROR(VLOOKUP(A1278,'Banco de Funcionários'!$A$2:$D$1048576,2,0),0)","v":0},null,null,null,null,null,"00:00:00",null,"00:00:00","00:00:00"]
[null,{"$f":"IFERROR(VLOOKUP(A1279,'Banco de Funcionários'!$A$2:$D$1048576,2,0),0)","v":0},null,null,null,null,null,"00:00:00",null,"00:00:00","00:00:00"]
[null,{"$f":"IFERROR(VLOOKUP(A1280,'Banco de Funcionários'!$A$2:$D$1048576,2,0),0)","v":0},null,null,null,null,null,"00:00:00",null,"00:00:00","00:00:00"]
[null,{"$f":"IFERROR(VLOOKUP(A1281,'Banco de Funcionários'!$A$2:$D$1048576,2,0),0)","v":0},null,null,null,null,null,"00:00:00",null,"00:00:00","00:00:00"]
[null,{"$f":"IFERROR(VLOOKUP(A1282,'Banco de Funcionários'!$A$2:$D$1048576,2,0),0)","v":0},null,null,null,null,null,"00:00:00",null,"00:00:00","00:00:00"]
[null,{"$f":"IFERROR(VLOOKUP(A1283,'Banco de Funcionários'!$A$2:$D$1048576,2,0),0)","v":0},null,null,null,null,null,{"$f":"(F1283-E1283)-G1283","v":"00:00:00"},null,{"$f":"IFERROR(H1283-I1283,\"\")","v":"00:00:00"},{"$f":"IFERROR(H1283+J1283,0)","v":"00:00:00"}]
[null,{"$f":"IFERROR(VLOOKUP(A1284,'Banco de Funcionários'!$A$2:$D$1048576,2,0),0)","v":0},null,null,null,null,null,"00:00:00",null,"00:00:00","00:00:00"]
[null,{"$f":"IFERROR(VLOOKUP(A1285,'Banco de Funcionários'!$A$2:$D$1048576,2,0),0)","v":0},null,null,null,null,null,"00:00:00",null,"00:00:00","00:00:00"]
[null,{"$f":"IFERROR(VLOOKUP(A1286,'Banco de Funcionários'!$A$2:$D$1048576,2,0),0)","v":0},null,null,null,null,null,"00:00:00",null,"00:00:00","00:00:00"]
[null,{"$f":"IFERROR(VLOOKUP(A1287,'Banco de Funcionários'!$A$2:$D$1048576,2,0),0)","v":0},null,null,null,null,null,"00:00:00",null,"00:00:00","00:00:00"]
[null,{"$f":"IFERROR(VLOOKUP(A1288,'Banco de Funcionários'!$A$2:$D$1048576,2,0),0)","v":0},null,null,null,null,null,"00:00:00",null,"00:00:00","00:00:00"]
[null,{"$f":"IFERROR(VLOOKUP(A1289,'Banco de Funcionários'!$A$2:$D$1048576,2,0),0)","v":0},null,null,null,null,null,"00:00:00",null,"00:00:00","00:00:00"]
[null,{"$f":"IFERROR(VLOOKUP(A1290,'Banco de Funcionários'!$A$2:$D$1048576,2,0),0)","v":0},null,null,null,null,null,"00:00:00",null,"00:00:00","00:00:00"]
[null,{"$f":"IFERROR(VLOOKUP(A1291,'Banco de Funcionários'!$A$2:$D$1048576,2,0),0)","v":0},null,null,null,null,null,"00:00:00",null,"00:00:00","00:00:00"]
[null,{"$f":"IFERROR(VLOOKUP(A1292,'Banco de Funcionários'!$A$2:$D$1048576,2,0),0)","v":0},null,null,null,null,null,"00:00:00",null,"00:00:00","00:00:00"]
[null,{"$f":"IFERROR(VLOOKUP(A1293,'Banco de Funcionários'!$A$2:$D$1048576,2,0),0)","v":0},null,null,null,null,null,"00:00:00",null,"00:00:00","00:00:00"]
[null,{"$f":"IFERROR(VLOOKUP(A1294,'Banco de Funcionários'!$A$2:$D$1048576,2,0),0)","v":0},null,null,null,null,null,"00:00:00",null,"00:00:00","00:00:00"]
[null,{"$f":"IFERROR(VLOOKUP(A1295,'Banco de Funcionários'!$A$2:$D$1048576,2,0),0)","v":0},null,null,null,null,null,"00:00:00",null,"00:00:00","00:00:00"]
[null,{"$f":"IFERROR(VLOOKUP(A1296,'Banco de Funcionários'!$A$2:$D$1048576,2,0),0)","v":0},null,null,null,null,null,"00:00:00",null,"00:00:00","00:00:00"]
[null,{"$f":"IFERROR(VLOOKUP(A1297,'Banco de Funcionários'!$A$2:$D$1048576,2,0),0)","v":0},null,null,null,null,null,"00:00:00",null,"00:00:00","00:00:00"]
[null,{"$f":"IFERROR(VLOOKUP(A1298,'Banco de Funcionários'!$A$2:$D$1048576,2,0),0)","v":0},null,null,null,null,null,"00:00:00",null,"00:00:00","00:00:00"]
[null,{"$f":"IFERROR(VLOOKUP(A1299,'Banco de Funcionários'!$A$2:$D$1048576,2,0),0)","v":0},null,null,null,null,null,"00:00:00",null,"00:00:00","00:00:00"]
[null,{"$f":"IFERROR(VLOOKUP(A1300,'Banco de Funcionários'!$A$2:$D$1048576,2,0),0)","v":0},null,null,null,null,null,"00:00:00",null,"00:00:00","00:00:00"]
[null,{"$f":"IFERROR(VLOOKUP(A1301,'Banco de Funcionários'!$A$2:$D$1048576,2,0),0)","v":0},null,null,null,null,null,"00:00:00",null,"00:00:00","00:00:00"]
[null,{"$f":"IFERROR(VLOOKUP(A1302,'Banco de Funcionários'!$A$2:$D$1048576,2,0),0)","v":0},null,null,null,null,null,"00:00:00",null,"00:00:00","00:00:00"]
[null,{"$f":"IFERROR(VLOOKUP(A1303,'Banco de Funcionários'!$A$2:$D$1048576,2,0),0)","v":0},null,null,null,null,null,"00:00:00",null,"00:00:00","00:00:00"]
[null,{"$f":"IFERROR(VLOOKUP(A1304,'Banco de Funcionários'!$A$2:$D$1048576,2,0),0)","v":0},null,null,null,null,null,"00:00:00",null,"00:00:00","00:00:00"]
[null,{"$f":"IFERROR(VLOOKUP(A1305,'Banco de Funcionários'!$A$2:$D$1048576,2,0),0)","v":0},null,null,null,null,null,"00:00:00",null,"00:00:00","00:00:00"]
[null,{"$f":"IFERROR(VLOOKUP(A1306,'Banco de Funcionários'!$A$2:$D$1048576,2,0),0)","v":0},null,null,null,null,null,"00:00:00",null,"00:00:00","00:00:00"]
[null,{"$f":"IFERROR(VLOOKUP(A1307,'Banco de Funcionários'!$A$2:$D$1048576,2,0),0)","v":0},null,null,null,null,null,"00:00:00",null,"00:00:00","00:00:00"]
[null,{"$f":"IFERROR(VLOOKUP(A1308,'Banco de Funcionários'!$A$2:$D$1048576,2,0),0)","v":0},null,null,null,null,null,"00:00:00",null,"00:00:00","00:00:00"]
[null,{"$f":"IFERROR(VLOOKUP(A1309,'Banco de Funcionários'!$A$2:$D$1048576,2,0),0)","v":0},null,null,null,null,null,"00:00:00",null,"00:00:00","00:00:00"]
[null,{"$f":"IFERROR(VLOOKUP(A1310,'Banco de Funcionários'!$A$2:$D$1048576,2,0),0)","v":0},null,null,null,null,null,"00:00:00",null,"00:00:00","00:00:00"]
[null,{"$f":"IFERROR(VLOOKUP(A1311,'Banco de Funcionários'!$A$2:$D$1048576,2,0),0)","v":0},null,null,null,null,null,"00:00:00",null,"00:00:00","00:00:00"]
[null,{"$f":"IFERROR(VLOOKUP(A1312,'Banco de Funcionários'!$A$2:$D$1048576,2,0),0)","v":0},null,null,null,null,null,"00:00:00",null,"00:00:00","00:00:00"]
[null,{"$f":"IFERROR(VLOOKUP(A1313,'Banco de Funcionários'!$A$2:$D$1048576,2,0),0)","v":0},null,null,null,null,null,"00:00:00",null,"00:00:00","00:00:00"]
[null,{"$f":"IFERROR(VLOOKUP(A1314,'Banco de Funcionários'!$A$2:$D$1048576,2,0),0)","v":0},null,null,null,null,null,"00:00:00",null,"00:00:00","00:00:00"]
[null,{"$f":"IFERROR(VLOOKUP(A1315,'Banco de Funcionários'!$A$2:$D$1048576,2,0),0)","v":0},null,null,null,null,null,"00:00:00",null,"00:00:00","00:00:00"]
[null,{"$f":"IFERROR(VLOOKUP(A1316,'Banco de Funcionários'!$A$2:$D$1048576,2,0),0)","v":0},null,null,null,null,null,"00:00:00",null,"00:00:00","00:00:00"]
[null,{"$f":"IFERROR(VLOOKUP(A1317,'Banco de Funcionários'!$A$2:$D$1048576,2,0),0)","v":0},null,null,null,null,null,"00:00:00",null,"00:00:00","00:00:00"]
[null,{"$f":"IFERROR(VLOOKUP(A1318,'Banco de Funcionários'!$A$2:$D$1048576,2,0),0)","v":0},null,null,null,null,null,"00:00:00",null,"00:00:00","00:00:00"]
[null,{"$f":"IFERROR(VLOOKUP(A1319,'Banco de Funcionários'!$A$2:$D$1048576,2,0),0)","v":0},null,null,null,null,null,"00:00:00",null,"00:00:00","00:00:00"]
[null,{"$f":"IFERROR(VLOOKUP(A1320,'Banco de Funcionários'!$A$2:$D$1048576,2,0),0)","v":0},null,null,null,null,null,"00:00:00",null,"00:00:00","00:00:00"]
[null,{"$f":"IFERROR(VLOOKUP(A1321,'Banco de Funcionários'!$A$2:$D$1048576,2,0),0)","v":0},null,null,null,null,null,"00:00:00",null,"00:00:00","00:00:00"]
[null,{"$f":"IFERROR(VLOOKUP(A1322,'Banco de Funcionários'!$A$2:$D$1048576,2,0),0)","v":0},null,null,null,null,null,"00:00:00",null,"00:00:00","00:00:00"]
[null,{"$f":"IFERROR(VLOOKUP(A1323,'Banco de Funcionários'!$A$2:$D$1048576,2,0),0)","v":0},null,null,null,null,null,"00:00:00",null,"00:00:00","00:00:00"]
[null,{"$f":"IFERROR(VLOOKUP(A1324,'Banco de Funcionários'!$A$2:$D$1048576,2,0),0)","v":0},null,null,null,null,null,"00:00:00",null,"00:00:00","00:00:00"]
[null,{"$f":"IFERROR(VLOOKUP(A1325,'Banco de Funcionários'!$A$2:$D$1048576,2,0),0)","v":0},null,null,null,null,null,"00:00:00",null,"00:00:00","00:00:00"]
[null,{"$f":"IFERROR(VLOOKUP(A1326,'Banco de Funcionários'!$A$2:$D$1048576,2,0),0)","v":0},null,null,null,null,null,"00:00:00",null,"00:00:00","00:00:00"]
[null,{"$f":"IFERROR(VLOOKUP(A1327,'Banco de Funcionários'!$A$2:$D$1048576,2,0),0)","v":0},null,null,null,null,null,"00:00:00",null,"00:00:00","00:00:00"]
[null,{"$f":"IFERROR(VLOOKUP(A1328,'Banco de Funcionários'!$A$2:$D$1048576,2,0),0)","v":0},null,null,null,null,null,"00:00:00",null,"00:00:00","00:00:00"]
[null,{"$f":"IFERROR(VLOOKUP(A1329,'Banco de Funcionários'!$A$2:$D$1048576,2,0),0)","v":0},null,null,null,null,null,"00:00:00",null,"00:00:00","00:00:00"]
[null,{"$f":"IFERROR(VLOOKUP(A1330,'Banco de Funcionários'!$A$2:$D$1048576,2,0),0)","v":0},null,null,null,null,null,"00:00:00",null,"00:00:00","00:00:00"]
[null,{"$f":"IFERROR(VLOOKUP(A1331,'Banco de Funcionários'!$A$2:$D$1048576,2,0),0)","v":0},null,null,null,null,null,"00:00:00",null,"00:00:00","00:00:00"]
[null,{"$f":"IFERROR(VLOOKUP(A1332,'Banco de Funcionários'!$A$2:$D$1048576,2,0),0)","v":0},null,null,null,null,null,"00:00:00",null,"00:00:00","00:00:00"]
[null,{"$f":"IFERROR(VLOOKUP(A1333,'Banco de Funcionários'!$A$2:$D$1048576,2,0),0)","v":0},null,null,null,null,null,"00:00:00",null,"00:00:00","00:00:00"]
[null,{"$f":"IFERROR(VLOOKUP(A1334,'Banco de Funcionários'!$A$2:$D$1048576,2,0),0)","v":0},null,null,null,null,null,"00:00:00",null,"00:00:00","00:00:00"]
[null,{"$f":"IFERROR(VLOOKUP(A1335,'Banco de Funcionários'!$A$2:$D$1048576,2,0),0)","v":0},null,null,null,null,null,"00:00:00",null,"00:00:00","00:00:00"]
[null,{"$f":"IFERROR(VLOOKUP(A1336,'Banco de Funcionários'!$A$2:$D$1048576,2,0),0)","v":0},null,null,null,null,null,"00:00:00",null,"00:00:00","00:00:00"]
[null,{"$f":"IFERROR(VLOOKUP(A1337,'Banco de Funcionários'!$A$2:$D$1048576,2,0),0)","v":0},null,null,null,null,null,"00:00:00",null,"00:00:00","00:00:00"]
[null,{"$f":"IFERROR(VLOOKUP(A1338,'Banco de Funcionários'!$A$2:$D$1048576,2,0),0)","v":0},null,null,null,null,null,"00:00:00",null,"00:00:00","00:00:00"]
[null,{"$f":"IFERROR(VLOOKUP(A1339,'Banco de Funcionários'!$A$2:$D$1048576,2,0),0)","v":0},null,null,null,null,null,"00:00:00",null,"00:00:00","00:00:00"]
[null,{"$f":"IFERROR(VLOOKUP(A1340,'Banco de Funcionários'!$A$2:$D$1048576,2,0),0)","v":0},null,null,null,null,null,"00:00:00",null,"00:00:00","00:00:00"]
[null,{"$f":"IFERROR(VLOOKUP(A1341,'Banco de Funcionários'!$A$2:$D$1048576,2,0),0)","v":0},null,null,null,null,null,"00:00:00",null,"00:00:00","00:00:00"]
[null,{"$f":"IFERROR(VLOOKUP(A1342,'Banco de Funcionários'!$A$2:$D$1048576,2,0),0)","v":0},null,null,null,null,null,"00:00:00",null,"00:00:00","00:00:00"]
[null,{"$f":"IFERROR(VLOOKUP(A1343,'Banco de Funcionários'!$A$2:$D$1048576,2,0),0)","v":0},null,null,null,null,null,"00:00:00",null,"00:00:00","00:00:00"]
[null,{"$f":"IFERROR(VLOOKUP(A1344,'Banco de Funcionários'!$A$2:$D$1048576,2,0),0)","v":0},null,null,null,null,null,"00:00:00",null,"00:00:00","00:00:00"]
[null,{"$f":"IFERROR(VLOOKUP(A1345,'Banco de Funcionários'!$A$2:$D$1048576,2,0),0)","v":0},null,null,null,null,null,"00:00:00",null,"00:00:00","00:00:00"]
[null,{"$f":"IFERROR(VLOOKUP(A1346,'Banco de Funcionários'!$A$2:$D$1048576,2,0),0)","v":0},null,null,null,null,null,"00:00:00",null,"00:00:00","00:00:00"]
[null,{"$f":"IFERROR(VLOOKUP(A1347,'Banco de Funcionários'!$A$2:$D$1048576,2,0),0)","v":0},null,null,null,null,null,{"$f":"(F1347-E1347)-G1347","v":"00:00:00"},null,{"$f":"IFERROR(H1347-I1347,\"\")","v":"00:00:00"},{"$f":"IFERROR(H1347+J1347,0)","v":"00:00:00"}]
[null,{"$f":"IFERROR(VLOOKUP(A1348,'Banco de Funcionários'!$A$2:$D$1048576,2,0),0)","v":0},null,null,null,null,null,"00:00:00",null,"00:00:00","00:00:00"]
[null,{"$f":"IFERROR(VLOOKUP(A1349,'Banco de Funcionários'!$A$2:$D$1048576,2,0),0)","v":0},null,null,null,null,null,"00:00:00",null,"00:00:00","00:00:00"]
[null,{"$f":"IFERROR(VLOOKUP(A1350,'Banco de Funcionários'!$A$2:$D$1048576,2,0),0)","v":0},null,null,null,null,null,"00:00:00",null,"00:00:00","00:00:00"]
[null,{"$f":"IFERROR(VLOOKUP(A1351,'Banco de Funcionários'!$A$2:$D$1048576,2,0),0)","v":0},null,null,null,null,null,"00:00:00",null,"00:00:00","00:00:00"]
[null,{"$f":"IFERROR(VLOOKUP(A1352,'Banco de Funcionários'!$A$2:$D$1048576,2,0),0)","v":0},null,null,null,null,null,"00:00:00",null,"00:00:00","00:00:00"]
[null,{"$f":"IFERROR(VLOOKUP(A1353,'Banco de Funcionários'!$A$2:$D$1048576,2,0),0)","v":0},null,null,null,null,null,"00:00:00",null,"00:00:00","00:00:00"]
[null,{"$f":"IFERROR(VLOOKUP(A1354,'Banco de Funcionários'!$A$2:$D$1048576,2,0),0)","v":0},null,null,null,null,null,"00:00:00",null,"00:00:00","00:00:00"]
[null,{"$f":"IFERROR(VLOOKUP(A1355,'Banco de Funcionários'!$A$2:$D$1048576,2,0),0)","v":0},null,null,null,null,null,"00:00:00",null,"00:00:00","00:00:00"]
[null,{"$f":"IFERROR(VLOOKUP(A1356,'Banco de Funcionários'!$A$2:$D$1048576,2,0),0)","v":0},null,null,null,null,null,"00:00:00",null,"00:00:00","00:00:00"]
[null,{"$f":"IFERROR(VLOOKUP(A1357,'Banco de Funcionários'!$A$2:$D$1048576,2,0),0)","v":0},null,null,null,null,null,"00:00:00",null,"00:00:00","00:00:00"]
[null,{"$f":"IFERROR(VLOOKUP(A1358,'Banco de Funcionários'!$A$2:$D$1048576,2,0),0)","v":0},null,null,null,null,null,"00:00:00",null,"00:00:00","00:00:00"]
[null,{"$f":"IFERROR(VLOOKUP(A1359,'Banco de Funcionários'!$A$2:$D$1048576,2,0),0)","v":0},null,null,null,null,null,"00:00:00",null,"00:00:00","00:00:00"]
[null,{"$f":"IFERROR(VLOOKUP(A1360,'Banco de Funcionários'!$A$2:$D$1048576,2,0),0)","v":0},null,null,null,null,null,"00:00:00",null,"00:00:00","00:00:00"]
[null,{"$f":"IFERROR(VLOOKUP(A1361,'Banco de Funcionários'!$A$2:$D$1048576,2,0),0)","v":0},null,null,null,null,null,"00:00:00",null,"00:00:00","00:00:00"]
[null,{"$f":"IFERROR(VLOOKUP(A1362,'Banco de Funcionários'!$A$2:$D$1048576,2,0),0)","v":0},null,null,null,null,null,"00:00:00",null,"00:00:00","00:00:00"]
[null,{"$f":"IFERROR(VLOOKUP(A1363,'Banco de Funcionários'!$A$2:$D$1048576,2,0),0)","v":0},null,null,null,null,null,"00:00:00",null,"00:00:00","00:00:00"]
[null,{"$f":"IFERROR(VLOOKUP(A1364,'Banco de Funcionários'!$A$2:$D$1048576,2,0),0)","v":0},null,null,null,null,null,"00:00:00",null,"00:00:00","00:00:00"]
[null,{"$f":"IFERROR(VLOOKUP(A1365,'Banco de Funcionários'!$A$2:$D$1048576,2,0),0)","v":0},null,null,null,null,null,"00:00:00",null,"00:00:00","00:00:00"]
[null,{"$f":"IFERROR(VLOOKUP(A1366,'Banco de Funcionários'!$A$2:$D$1048576,2,0),0)","v":0},null,null,null,null,null,"00:00:00",null,"00:00:00","00:00:00"]
[null,{"$f":"IFERROR(VLOOKUP(A1367,'Banco de Funcionários'!$A$2:$D$1048576,2,0),0)","v":0},null,null,null,null,null,"00:00:00",null,"00:00:00","00:00:00"]
[null,{"$f":"IFERROR(VLOOKUP(A1368,'Banco de Funcionários'!$A$2:$D$1048576,2,0),0)","v":0},null,null,null,null,null,"00:00:00",null,"00:00:00","00:00:00"]
[null,{"$f":"IFERROR(VLOOKUP(A1369,'Banco de Funcionários'!$A$2:$D$1048576,2,0),0)","v":0},null,null,null,null,null,"00:00:00",null,"00:00:00","00:00:00"]
[null,{"$f":"IFERROR(VLOOKUP(A1370,'Banco de Funcionários'!$A$2:$D$1048576,2,0),0)","v":0},null,null,null,null,null,"00:00:00",null,"00:00:00","00:00:00"]
[null,{"$f":"IFERROR(VLOOKUP(A1371,'Banco de Funcionários'!$A$2:$D$1048576,2,0),0)","v":0},null,null,null,null,null,"00:00:00",null,"00:00:00","00:00:00"]
[null,{"$f":"IFERROR(VLOOKUP(A1372,'Banco de Funcionários'!$A$2:$D$1048576,2,0),0)","v":0},null,null,null,null,null,"00:00:00",null,"00:00:00","00:00:00"]
[null,{"$f":"IFERROR(VLOOKUP(A1373,'Banco de Funcionários'!$A$2:$D$1048576,2,0),0)","v":0},null,null,null,null,null,"00:00:00",null,"00:00:00","00:00:00"]
[null,{"$f":"IFERROR(VLOOKUP(A1374,'Banco de Funcionários'!$A$2:$D$1048576,2,0),0)","v":0},null,null,null,null,null,"00:00:00",null,"00:00:00","00:00:00"]
[null,{"$f":"IFERROR(VLOOKUP(A1375,'Banco de Funcionários'!$A$2:$D$1048576,2,0),0)","v":0},null,null,null,null,null,"00:00:00",null,"00:00:00","00:00:00"]
[null,{"$f":"IFERROR(VLOOKUP(A1376,'Banco de Funcionários'!$A$2:$D$1048576,2,0),0)","v":0},null,null,null,null,null,"00:00:00",null,"00:00:00","00:00:00"]
[null,{"$f":"IFERROR(VLOOKUP(A1377,'Banco de Funcionários'!$A$2:$D$1048576,2,0),0)","v":0},null,null,null,null,null,"00:00:00",null,"00:00:00","00:00:00"]
[null,{"$f":"IFERROR(VLOOKUP(A1378,'Banco de Funcionários'!$A$2:$D$1048576,2,0),0)","v":0},null,null,null,null,null,"00:00:00",null,"00:00:00","00:00:00"]
[null,{"$f":"IFERROR(VLOOKUP(A1379,'Banco de Funcionários'!$A$2:$D$1048576,2,0),0)","v":0},null,null,null,null,null,"00:00:00",null,"00:00:00","00:00:00"]
[null,{"$f":"IFERROR(VLOOKUP(A1380,'Banco de Funcionários'!$A$2:$D$1048576,2,0),0)","v":0},null,null,null,null,null,"00:00:00",null,"00:00:00","00:00:00"]
[null,{"$f":"IFERROR(VLOOKUP(A1381,'Banco de Funcionários'!$A$2:$D$1048576,2,0),0)","v":0},null,null,null,null,null,"00:00:00",null,"00:00:00","00:00:00"]
[null,{"$f":"IFERROR(VLOOKUP(A1382,'Banco de Funcionários'!$A$2:$D$1048576,2,0),0)","v":0},null,null,null,null,null,"00:00:00",null,"00:00:00","00:00:00"]
[null,{"$f":"IFERROR(VLOOKUP(A1383,'Banco de Funcionários'!$A$2:$D$1048576,2,0),0)","v":0},null,null,null,null,null,"00:00:00",null,"00:00:00","00:00:00"]
[null,{"$f":"IFERROR(VLOOKUP(A1384,'Banco de Funcionários'!$A$2:$D$1048576,2,0),0)","v":0},null,null,null,null,null,"00:00:00",null,"00:00:00","00:00:00"]
[null,{"$f":"IFERROR(VLOOKUP(A1385,'Banco de Funcionários'!$A$2:$D$1048576,2,0),0)","v":0},null,null,null,null,null,"00:00:00",null,"00:00:00","00:00:00"]
[null,{"$f":"IFERROR(VLOOKUP(A1386,'Banco de Funcionários'!$A$2:$D$1048576,2,0),0)","v":0},null,null,null,null,null,"00:00:00",null,"00:00:00","00:00:00"]
[null,{"$f":"IFERROR(VLOOKUP(A1387,'Banco de Funcionários'!$A$2:$D$1048576,2,0),0)","v":0},null,null,null,null,null,"00:00:00",null,"00:00:00","00:00:00"]
[null,{"$f":"IFERROR(VLOOKUP(A1388,'Banco de Funcionários'!$A$2:$D$1048576,2,0),0)","v":0},null,null,null,null,null,"00:00:00",null,"00:00:00","00:00:00"]
[null,{"$f":"IFERROR(VLOOKUP(A1389,'Banco de Funcionários'!$A$2:$D$1048576,2,0),0)","v":0},null,null,null,null,null,"00:00:00",null,"00:00:00","00:00:00"]
[null,{"$f":"IFERROR(VLOOKUP(A1390,'Banco de Funcionários'!$A$2:$D$1048576,2,0),0)","v":0},null,null,null,null,null,"00:00:00",null,"00:00:00","00:00:00"]
[null,{"$f":"IFERROR(VLOOKUP(A1391,'Banco de Funcionários'!$A$2:$D$1048576,2,0),0)","v":0},null,null,null,null,null,"00:00:00",null,"00:00:00","00:00:00"]
[null,{"$f":"IFERROR(VLOOKUP(A1392,'Banco de Funcionários'!$A$2:$D$1048576,2,0),0)","v":0},null,null,null,null,null,"00:00:00",null,"00:00:00","00:00:00"]
[null,{"$f":"IFERROR(VLOOKUP(A1393,'Banco de Funcionários'!$A$2:$D$1048576,2,0),0)","v":0},null,null,null,null,null,"00:00:00",null,"00:00:00","00:00:00"]
[null,{"$f":"IFERROR(VLOOKUP(A1394,'Banco de Funcionários'!$A$2:$D$1048576,2,0),0)","v":0},null,null,null,null,null,"00:00:00",null,"00:00:00","00:00:00"]
[null,{"$f":"IFERROR(VLOOKUP(A1395,'Banco de Funcionários'!$A$2:$D$1048576,2,0),0)","v":0},null,null,null,null,null,"00:00:00",null,"00:00:00","00:00:00"]
[null,{"$f":"IFERROR(VLOOKUP(A1396,'Banco de Funcionários'!$A$2:$D$1048576,2,0),0)","v":0},null,null,null,null,null,"00:00:00",null,"00:00:00","00:00:00"]
[null,{"$f":"IFERROR(VLOOKUP(A1397,'Banco de Funcionários'!$A$2:$D$1048576,2,0),0)","v":0},null,null,null,null,null,"00:00:00",null,"00:00:00","00:00:00"]
[null,{"$f":"IFERROR(VLOOKUP(A1398,'Banco de Funcionários'!$A$2:$D$1048576,2,0),0)","v":0},null,null,null,null,null,"00:00:00",null,"00:00:00","00:00:00"]
[null,{"$f":"IFERROR(VLOOKUP(A1399,'Banco de Funcionários'!$A$2:$D$1048576,2,0),0)","v":0},null,null,null,null,null,"00:00:00",null,"00:00:00","00:00:00"]
[null,{"$f":"IFERROR(VLOOKUP(A1400,'Banco de Funcionários'!$A$2:$D$1048576,2,0),0)","v":0},null,null,null,null,null,"00:00:00",null,"00:00:00","00:00:00"]
[null,{"$f":"IFERROR(VLOOKUP(A1401,'Banco de Funcionários'!$A$2:$D$1048576,2,0),0)","v":0},null,null,null,null,null,"00:00:00",null,"00:00:00","00:00:00"]
[null,{"$f":"IFERROR(VLOOKUP(A1402,'Banco de Funcionários'!$A$2:$D$1048576,2,0),0)","v":0},null,null,null,null,null,"00:00:00",null,"00:00:00","00:00:00"]
[null,{"$f":"IFERROR(VLOOKUP(A1403,'Banco de Funcionários'!$A$2:$D$1048576,2,0),0)","v":0},null,null,null,null,null,"00:00:00",null,"00:00:00","00:00:00"]
[null,{"$f":"IFERROR(VLOOKUP(A1404,'Banco de Funcionários'!$A$2:$D$1048576,2,0),0)","v":0},null,null,null,null,null,"00:00:00",null,"00:00:00","00:00:00"]
[null,{"$f":"IFERROR(VLOOKUP(A1405,'Banco de Funcionários'!$A$2:$D$1048576,2,0),0)","v":0},null,null,null,null,null,"00:00:00",null,"00:00:00","00:00:00"]
[null,{"$f":"IFERROR(VLOOKUP(A1406,'Banco de Funcionários'!$A$2:$D$1048576,2,0),0)","v":0},null,null,null,null,null,"00:00:00",null,"00:00:00","00:00:00"]
[null,{"$f":"IFERROR(VLOOKUP(A1407,'Banco de Funcionários'!$A$2:$D$1048576,2,0),0)","v":0},null,null,null,null,null,"00:00:00",null,"00:00:00","00:00:00"]
[null,{"$f":"IFERROR(VLOOKUP(A1408,'Banco de Funcionários'!$A$2:$D$1048576,2,0),0)","v":0},null,null,null,null,null,"00:00:00",null,"00:00:00","00:00:00"]
[null,{"$f":"IFERROR(VLOOKUP(A1409,'Banco de Funcionários'!$A$2:$D$1048576,2,0),0)","v":0},null,null,null,null,null,"00:00:00",null,"00:00:00","00:00:00"]
[null,{"$f":"IFERROR(VLOOKUP(A1410,'Banco de Funcionários'!$A$2:$D$1048576,2,0),0)","v":0},null,null,null,null,null,"00:00:00",null,"00:00:00","00:00:00"]
[null,{"$f":"IFERROR(VLOOKUP(A1411,'Banco de Funcionários'!$A$2:$D$1048576,2,0),0)","v":0},null,null,null,null,null,{"$f":"(F1411-E1411)-G1411","v":"00:00:00"},null,{"$f":"IFERROR(H1411-I1411,\"\")","v":"00:00:00"},{"$f":"IFERROR(H1411+J1411,0)","v":"00:00:00"}]
[null,{"$f":"IFERROR(VLOOKUP(A1412,'Banco de Funcionários'!$A$2:$D$1048576,2,0),0)","v":0},null,null,null,null,null,"00:00:00",null,"00:00:00","00:00:00"]
[null,{"$f":"IFERROR(VLOOKUP(A1413,'Banco de Funcionários'!$A$2:$D$1048576,2,0),0)","v":0},null,null,null,null,null,"00:00:00",null,"00:00:00","00:00:00"]
[null,{"$f":"IFERROR(VLOOKUP(A1414,'Banco de Funcionários'!$A$2:$D$1048576,2,0),0)","v":0},null,null,null,null,null,"00:00:00",null,"00:00:00","00:00:00"]
[null,{"$f":"IFERROR(VLOOKUP(A1415,'Banco de Funcionários'!$A$2:$D$1048576,2,0),0)","v":0},null,null,null,null,null,"00:00:00",null,"00:00:00","00:00:00"]
[null,{"$f":"IFERROR(VLOOKUP(A1416,'Banco de Funcionários'!$A$2:$D$1048576,2,0),0)","v":0},null,null,null,null,null,"00:00:00",null,"00:00:00","00:00:00"]
[null,{"$f":"IFERROR(VLOOKUP(A1417,'Banco de Funcionários'!$A$2:$D$1048576,2,0),0)","v":0},null,null,null,null,null,"00:00:00",null,"00:00:00","00:00:00"]
[null,{"$f":"IFERROR(VLOOKUP(A1418,'Banco de Funcionários'!$A$2:$D$1048576,2,0),0)","v":0},null,null,null,null,null,"00:00:00",null,"00:00:00","00:00:00"]
[null,{"$f":"IFERROR(VLOOKUP(A1419,'Banco de Funcionários'!$A$2:$D$1048576,2,0),0)","v":0},null,null,null,null,null,"00:00:00",null,"00:00:00","00:00:00"]
[null,{"$f":"IFERROR(VLOOKUP(A1420,'Banco de Funcionários'!$A$2:$D$1048576,2,0),0)","v":0},null,null,null,null,null,"00:00:00",null,"00:00:00","00:00:00"]
[null,{"$f":"IFERROR(VLOOKUP(A1421,'Banco de Funcionários'!$A$2:$D$1048576,2,0),0)","v":0},null,null,null,null,null,"00:00:00",null,"00:00:00","00:00:00"]
[null,{"$f":"IFERROR(VLOOKUP(A1422,'Banco de Funcionários'!$A$2:$D$1048576,2,0),0)","v":0},null,null,null,null,null,"00:00:00",null,"00:00:00","00:00:00"]
[null,{"$f":"IFERROR(VLOOKUP(A1423,'Banco de Funcionários'!$A$2:$D$1048576,2,0),0)","v":0},null,null,null,null,null,"00:00:00",null,"00:00:00","00:00:00"]
[null,{"$f":"IFERROR(VLOOKUP(A1424,'Banco de Funcionários'!$A$2:$D$1048576,2,0),0)","v":0},null,null,null,null,null,"00:00:00",null,"00:00:00","00:00:00"]
[null,{"$f":"IFERROR(VLOOKUP(A1425,'Banco de Funcionários'!$A$2:$D$1048576,2,0),0)","v":0},null,null,null,null,null,"00:00:00",null,"00:00:00","00:00:00"]
[null,{"$f":"IFERROR(VLOOKUP(A1426,'Banco de Funcionários'!$A$2:$D$1048576,2,0),0)","v":0},null,null,null,null,null,"00:00:00",null,"00:00:00","00:00:00"]
[null,{"$f":"IFERROR(VLOOKUP(A1427,'Banco de Funcionários'!$A$2:$D$1048576,2,0),0)","v":0},null,null,null,null,null,"00:00:00",null,"00:00:00","00:00:00"]
[null,{"$f":"IFERROR(VLOOKUP(A1428,'Banco de Funcionários'!$A$2:$D$1048576,2,0),0)","v":0},null,null,null,null,null,"00:00:00",null,"00:00:00","00:00:00"]
[null,{"$f":"IFERROR(VLOOKUP(A1429,'Banco de Funcionários'!$A$2:$D$1048576,2,0),0)","v":0},null,null,null,null,null,"00:00:00",null,"00:00:00","00:00:00"]
[null,{"$f":"IFERROR(VLOOKUP(A1430,'Banco de Funcionários'!$A$2:$D$1048576,2,0),0)","v":0},null,null,null,null,null,"00:00:00",null,"00:00:00","00:00:00"]
[null,{"$f":"IFERROR(VLOOKUP(A1431,'Banco de Funcionários'!$A$2:$D$1048576,2,0),0)","v":0},null,null,null,null,null,"00:00:00",null,"00:00:00","00:00:00"]
[null,{"$f":"IFERROR(VLOOKUP(A1432,'Banco de Funcionários'!$A$2:$D$1048576,2,0),0)","v":0},null,null,null,null,null,"00:00:00",null,"00:00:00","00:00:00"]
[null,{"$f":"IFERROR(VLOOKUP(A1433,'Banco de Funcionários'!$A$2:$D$1048576,2,0),0)","v":0},null,null,null,null,null,"00:00:00",null,"00:00:00","00:00:00"]
[null,{"$f":"IFERROR(VLOOKUP(A1434,'Banco de Funcionários'!$A$2:$D$1048576,2,0),0)","v":0},null,null,null,null,null,"00:00:00",null,"00:00:00","00:00:00"]
[null,{"$f":"IFERROR(VLOOKUP(A1435,'Banco de Funcionários'!$A$2:$D$1048576,2,0),0)","v":0},null,null,null,null,null,"00:00:00",null,"00:00:00","00:00:00"]
[null,{"$f":"IFERROR(VLOOKUP(A1436,'Banco de Funcionários'!$A$2:$D$1048576,2,0),0)","v":0},null,null,null,null,null,"00:00:00",null,"00:00:00","00:00:00"]
[null,{"$f":"IFERROR(VLOOKUP(A1437,'Banco de Funcionários'!$A$2:$D$1048576,2,0),0)","v":0},null,null,null,null,null,"00:00:00",null,"00:00:00","00:00:00"]
[null,{"$f":"IFERROR(VLOOKUP(A1438,'Banco de Funcionários'!$A$2:$D$1048576,2,0),0)","v":0},null,null,null,null,null,"00:00:00",null,"00:00:00","00:00:00"]
[null,{"$f":"IFERROR(VLOOKUP(A1439,'Banco de Funcionários'!$A$2:$D$1048576,2,0),0)","v":0},null,null,null,null,null,"00:00:00",null,"00:00:00","00:00:00"]
[null,{"$f":"IFERROR(VLOOKUP(A1440,'Banco de Funcionários'!$A$2:$D$1048576,2,0),0)","v":0},null,null,null,null,null,"00:00:00",null,"00:00:00","00:00:00"]
[null,{"$f":"IFERROR(VLOOKUP(A1441,'Banco de Funcionários'!$A$2:$D$1048576,2,0),0)","v":0},null,null,null,null,null,"00:00:00",null,"00:00:00","00:00:00"]
[null,{"$f":"IFERROR(VLOOKUP(A1442,'Banco de Funcionários'!$A$2:$D$1048576,2,0),0)","v":0},null,null,null,null,null,"00:00:00",null,"00:00:00","00:00:00"]
[null,{"$f":"IFERROR(VLOOKUP(A1443,'Banco de Funcionários'!$A$2:$D$1048576,2,0),0)","v":0},null,null,null,null,null,"00:00:00",null,"00:00:00","00:00:00"]
[null,{"$f":"IFERROR(VLOOKUP(A1444,'Banco de Funcionários'!$A$2:$D$1048576,2,0),0)","v":0},null,null,null,null,null,"00:00:00",null,"00:00:00","00:00:00"]
[null,{"$f":"IFERROR(VLOOKUP(A1445,'Banco de Funcionários'!$A$2:$D$1048576,2,0),0)","v":0},null,null,null,null,null,"00:00:00",null,"00:00:00","00:00:00"]
[null,{"$f":"IFERROR(VLOOKUP(A1446,'Banco de Funcionários'!$A$2:$D$1048576,2,0),0)","v":0},null,null,null,null,null,"00:00:00",null,"00:00:00","00:00:00"]
[null,{"$f":"IFERROR(VLOOKUP(A1447,'Banco de Funcionários'!$A$2:$D$1048576,2,0),0)","v":0},null,null,null,null,null,"00:00:00",null,"00:00:00","00:00:00"]
[null,{"$f":"IFERROR(VLOOKUP(A1448,'Banco de Funcionários'!$A$2:$D$1048576,2,0),0)","v":0},null,null,null,null,null,"00:00:00",null,"00:00:00","00:00:00"]
[null,{"$f":"IFERROR(VLOOKUP(A1449,'Banco de Funcionários'!$A$2:$D$1048576,2,0),0)","v":0},null,null,null,null,null,"00:00:00",null,"00:00:00","00:00:00"]
[null,{"$f":"IFERROR(VLOOKUP(A1450,'Banco de Funcionários'!$A$2:$D$1048576,2,0),0)","v":0},null,null,null,null,null,"00:00:00",null,"00:00:00","00:00:00"]
[null,{"$f":"IFERROR(VLOOKUP(A1451,'Banco de Funcionários'!$A$2:$D$1048576,2,0),0)","v":0},null,null,null,null,null,"00:00:00",null,"00:00:00","00:00:00"]
[null,{"$f":"IFERROR(VLOOKUP(A1452,'Banco de Funcionários'!$A$2:$D$1048576,2,0),0)","v":0},null,null,null,null,null,"00:00:00",null,"00:00:00","00:00:00"]
[null,{"$f":"IFERROR(VLOOKUP(A1453,'Banco de Funcionários'!$A$2:$D$1048576,2,0),0)","v":0},null,null,null,null,null,"00:00:00",null,"00:00:00","00:00:00"]
[null,{"$f":"IFERROR(VLOOKUP(A1454,'Banco de Funcionários'!$A$2:$D$1048576,2,0),0)","v":0},null,null,null,null,null,"00:00:00",null,"00:00:00","00:00:00"]
[null,{"$f":"IFERROR(VLOOKUP(A1455,'Banco de Funcionários'!$A$2:$D$1048576,2,0),0)","v":0},null,null,null,null,null,"00:00:00",null,"00:00:00","00:00:00"]
[null,{"$f":"IFERROR(VLOOKUP(A1456,'Banco de Funcionários'!$A$2:$D$1048576,2,0),0)","v":0},null,null,null,null,null,"00:00:00",null,"00:00:00","00:00:00"]
[null,{"$f":"IFERROR(VLOOKUP(A1457,'Banco de Funcionários'!$A$2:$D$1048576,2,0),0)","v":0},null,null,null,null,null,"00:00:00",null,"00:00:00","00:00:00"]
[null,{"$f":"IFERROR(VLOOKUP(A1458,'Banco de Funcionários'!$A$2:$D$1048576,2,0),0)","v":0},null,null,null,null,null,"00:00:00",null,"00:00:00","00:00:00"]
[null,{"$f":"IFERROR(VLOOKUP(A1459,'Banco de Funcionários'!$A$2:$D$1048576,2,0),0)","v":0},null,null,null,null,null,"00:00:00",null,"00:00:00","00:00:00"]
[null,{"$f":"IFERROR(VLOOKUP(A1460,'Banco de Funcionários'!$A$2:$D$1048576,2,0),0)","v":0},null,null,null,null,null,"00:00:00",null,"00:00:00","00:00:00"]
[null,{"$f":"IFERROR(VLOOKUP(A1461,'Banco de Funcionários'!$A$2:$D$1048576,2,0),0)","v":0},null,null,null,null,null,"00:00:00",null,"00:00:00","00:00:00"]
[null,{"$f":"IFERROR(VLOOKUP(A1462,'Banco de Funcionários'!$A$2:$D$1048576,2,0),0)","v":0},null,null,null,null,null,"00:00:00",null,"00:00:00","00:00:00"]
[null,{"$f":"IFERROR(VLOOKUP(A1463,'Banco de Funcionários'!$A$2:$D$1048576,2,0),0)","v":0},null,null,null,null,null,"00:00:00",null,"00:00:00","00:00:00"]
[null,{"$f":"IFERROR(VLOOKUP(A1464,'Banco de Funcionários'!$A$2:$D$1048576,2,0),0)","v":0},null,null,null,null,null,"00:00:00",null,"00:00:00","00:00:00"]
[null,{"$f":"IFERROR(VLOOKUP(A1465,'Banco de Funcionários'!$A$2:$D$1048576,2,0),0)","v":0},null,null,null,null,null,"00:00:00",null,"00:00:00","00:00:00"]
[null,{"$f":"IFERROR(VLOOKUP(A1466,'Banco de Funcionários'!$A$2:$D$1048576,2,0),0)","v":0},null,null,null,null,null,"00:00:00",null,"00:00:00","00:00:00"]
[null,{"$f":"IFERROR(VLOOKUP(A1467,'Banco de Funcionários'!$A$2:$D$1048576,2,0),0)","v":0},null,null,null,null,null,"00:00:00",null,"00:00:00","00:00:00"]
[null,{"$f":"IFERROR(VLOOKUP(A1468,'Banco de Funcionários'!$A$2:$D$1048576,2,0),0)","v":0},null,null,null,null,null,"00:00:00",null,"00:00:00","00:00:00"]
[null,{"$f":"IFERROR(VLOOKUP(A1469,'Banco de Funcionários'!$A$2:$D$1048576,2,0),0)","v":0},null,null,null,null,null,"00:00:00",null,"00:00:00","00:00:00"]
[null,{"$f":"IFERROR(VLOOKUP(A1470,'Banco de Funcionários'!$A$2:$D$1048576,2,0),0)","v":0},null,null,null,null,null,"00:00:00",null,"00:00:00","00:00:00"]
[null,{"$f":"IFERROR(VLOOKUP(A1471,'Banco de Funcionários'!$A$2:$D$1048576,2,0),0)","v":0},null,null,null,null,null,"00:00:00",null,"00:00:00","00:00:00"]
[null,{"$f":"IFERROR(VLOOKUP(A1472,'Banco de Funcionários'!$A$2:$D$1048576,2,0),0)","v":0},null,null,null,null,null,"00:00:00",null,"00:00:00","00:00:00"]
[null,{"$f":"IFERROR(VLOOKUP(A1473,'Banco de Funcionários'!$A$2:$D$1048576,2,0),0)","v":0},null,null,null,null,null,"00:00:00",null,"00:00:00","00:00:00"]
[null,{"$f":"IFERROR(VLOOKUP(A1474,'Banco de Funcionários'!$A$2:$D$1048576,2,0),0)","v":0},null,null,null,null,null,"00:00:00",null,"00:00:00","00:00:00"]
[null,{"$f":"IFERROR(VLOOKUP(A1475,'Banco de Funcionários'!$A$2:$D$1048576,2,0),0)","v":0},null,null,null,null,null,{"$f":"(F1475-E1475)-G1475","v":"00:00:00"},null,{"$f":"IFERROR(H1475-I1475,\"\")","v":"00:00:00"},{"$f":"IFERROR(H1475+J1475,0)","v":"00:00:00"}]
[null,{"$f":"IFERROR(VLOOKUP(A1476,'Banco de Funcionários'!$A$2:$D$1048576,2,0),0)","v":0},null,null,null,null,null,"00:00:00",null,"00:00:00","00:00:00"]
[null,{"$f":"IFERROR(VLOOKUP(A1477,'Banco de Funcionários'!$A$2:$D$1048576,2,0),0)","v":0},null,null,null,null,null,"00:00:00",null,"00:00:00","00:00:00"]
[null,{"$f":"IFERROR(VLOOKUP(A1478,'Banco de Funcionários'!$A$2:$D$1048576,2,0),0)","v":0},null,null,null,null,null,"00:00:00",null,"00:00:00","00:00:00"]
[null,{"$f":"IFERROR(VLOOKUP(A1479,'Banco de Funcionários'!$A$2:$D$1048576,2,0),0)","v":0},null,null,null,null,null,"00:00:00",null,"00:00:00","00:00:00"]
[null,{"$f":"IFERROR(VLOOKUP(A1480,'Banco de Funcionários'!$A$2:$D$1048576,2,0),0)","v":0},null,null,null,null,null,"00:00:00",null,"00:00:00","00:00:00"]
[null,{"$f":"IFERROR(VLOOKUP(A1481,'Banco de Funcionários'!$A$2:$D$1048576,2,0),0)","v":0},null,null,null,null,null,"00:00:00",null,"00:00:00","00:00:00"]
[null,{"$f":"IFERROR(VLOOKUP(A1482,'Banco de Funcionários'!$A$2:$D$1048576,2,0),0)","v":0},null,null,null,null,null,"00:00:00",null,"00:00:00","00:00:00"]
[null,{"$f":"IFERROR(VLOOKUP(A1483,'Banco de Funcionários'!$A$2:$D$1048576,2,0),0)","v":0},null,null,null,null,null,"00:00:00",null,"00:00:00","00:00:00"]
[null,{"$f":"IFERROR(VLOOKUP(A1484,'Banco de Funcionários'!$A$2:$D$1048576,2,0),0)","v":0},null,null,null,null,null,"00:00:00",null,"00:00:00","00:00:00"]
[null,{"$f":"IFERROR(VLOOKUP(A1485,'Banco de Funcionários'!$A$2:$D$1048576,2,0),0)","v":0},null,null,null,null,null,"00:00:00",null,"00:00:00","00:00:00"]
[null,{"$f":"IFERROR(VLOOKUP(A1486,'Banco de Funcionários'!$A$2:$D$1048576,2,0),0)","v":0},null,null,null,null,null,"00:00:00",null,"00:00:00","00:00:00"]
[null,{"$f":"IFERROR(VLOOKUP(A1487,'Banco de Funcionários'!$A$2:$D$1048576,2,0),0)","v":0},null,null,null,null,null,"00:00:00",null,"00:00:00","00:00:00"]
[null,{"$f":"IFERROR(VLOOKUP(A1488,'Banco de Funcionários'!$A$2:$D$1048576,2,0),0)","v":0},null,null,null,null,null,"00:00:00",null,"00:00:00","00:00:00"]
[null,{"$f":"IFERROR(VLOOKUP(A1489,'Banco de Funcionários'!$A$2:$D$1048576,2,0),0)","v":0},null,null,null,null,null,"00:00:00",null,"00:00:00","00:00:00"]
[null,{"$f":"IFERROR(VLOOKUP(A1490,'Banco de Funcionários'!$A$2:$D$1048576,2,0),0)","v":0},null,null,null,null,null,"00:00:00",null,"00:00:00","00:00:00"]
[null,{"$f":"IFERROR(VLOOKUP(A1491,'Banco de Funcionários'!$A$2:$D$1048576,2,0),0)","v":0},null,null,null,null,null,"00:00:00",null,"00:00:00","00:00:00"]
[null,{"$f":"IFERROR(VLOOKUP(A1492,'Banco de Funcionários'!$A$2:$D$1048576,2,0),0)","v":0},null,null,null,null,null,"00:00:00",null,"00:00:00","00:00:00"]
[null,{"$f":"IFERROR(VLOOKUP(A1493,'Banco de Funcionários'!$A$2:$D$1048576,2,0),0)","v":0},null,null,null,null,null,"00:00:00",null,"00:00:00","00:00:00"]
[null,{"$f":"IFERROR(VLOOKUP(A1494,'Banco de Funcionários'!$A$2:$D$1048576,2,0),0)","v":0},null,null,null,null,null,"00:00:00",null,"00:00:00","00:00:00"]
[null,{"$f":"IFERROR(VLOOKUP(A1495,'Banco de Funcionários'!$A$2:$D$1048576,2,0),0)","v":0},null,null,null,null,null,"00:00:00",null,"00:00:00","00:00:00"]
[null,{"$f":"IFERROR(VLOOKUP(A1496,'Banco de Funcionários'!$A$2:$D$1048576,2,0),0)","v":0},null,null,null,null,null,"00:00:00",null,"00:00:00","00:00:00"]
[null,{"$f":"IFERROR(VLOOKUP(A1497,'Banco de Funcionários'!$A$2:$D$1048576,2,0),0)","v":0},null,null,null,null,null,"00:00:00",null,"00:00:00","00:00:00"]
[null,{"$f":"IFERROR(VLOOKUP(A1498,'Banco de Funcionários'!$A$2:$D$1048576,2,0),0)","v":0},null,null,null,null,null,"00:00:00",null,"00:00:00","00:00:00"]
[null,{"$f":"IFERROR(VLOOKUP(A1499,'Banco de Funcionários'!$A$2:$D$1048576,2,0),0)","v":0},null,null,null,null,null,"00:00:00",null,"00:00:00","00:00:00"]
[null,{"$f":"IFERROR(VLOOKUP(A1500,'Banco de Funcionários'!$A$2:$D$1048576,2,0),0)","v":0},null,null,null,null,null,"00:00:00",null,"00:00:00","00:00:00"]
[null,{"$f":"IFERROR(VLOOKUP(A1501,'Banco de Funcionários'!$A$2:$D$1048576,2,0),0)","v":0},null,null,null,null,null,"00:00:00",null,"00:00:00","00:00:00"]
[null,{"$f":"IFERROR(VLOOKUP(A1502,'Banco de Funcionários'!$A$2:$D$1048576,2,0),0)","v":0},null,null,null,null,null,"00:00:00",null,"00:00:00","00:00:00"]
[null,{"$f":"IFERROR(VLOOKUP(A1503,'Banco de Funcionários'!$A$2:$D$1048576,2,0),0)","v":0},null,null,null,null,null,"00:00:00",null,"00:00:00","00:00:00"]
[null,{"$f":"IFERROR(VLOOKUP(A1504,'Banco de Funcionários'!$A$2:$D$1048576,2,0),0)","v":0},null,null,null,null,null,"00:00:00",null,"00:00:00","00:00:00"]
[null,{"$f":"IFERROR(VLOOKUP(A1505,'Banco de Funcionários'!$A$2:$D$1048576,2,0),0)","v":0},null,null,null,null,null,"00:00:00",null,"00:00:00","00:00:00"]
[null,{"$f":"IFERROR(VLOOKUP(A1506,'Banco de Funcionários'!$A$2:$D$1048576,2,0),0)","v":0},null,null,null,null,null,"00:00:00",null,"00:00:00","00:00:00"]
[null,{"$f":"IFERROR(VLOOKUP(A1507,'Banco de Funcionários'!$A$2:$D$1048576,2,0),0)","v":0},null,null,null,null,null,"00:00:00",null,"00:00:00","00:00:00"]
[null,{"$f":"IFERROR(VLOOKUP(A1508,'Banco de Funcionários'!$A$2:$D$1048576,2,0),0)","v":0},null,null,null,null,null,"00:00:00",null,"00:00:00","00:00:00"]
[null,{"$f":"IFERROR(VLOOKUP(A1509,'Banco de Funcionários'!$A$2:$D$1048576,2,0),0)","v":0},null,null,null,null,null,"00:00:00",null,"00:00:00","00:00:00"]
[null,{"$f":"IFERROR(VLOOKUP(A1510,'Banco de Funcionários'!$A$2:$D$1048576,2,0),0)","v":0},null,null,null,null,null,"00:00:00",null,"00:00:00","00:00:00"]
[null,{"$f":"IFERROR(VLOOKUP(A1511,'Banco de Funcionários'!$A$2:$D$1048576,2,0),0)","v":0},null,null,null,null,null,"00:00:00",null,"00:00:00","00:00:00"]
[null,{"$f":"IFERROR(VLOOKUP(A1512,'Banco de Funcionários'!$A$2:$D$1048576,2,0),0)","v":0},null,null,null,null,null,"00:00:00",null,"00:00:00","00:00:00"]
[null,{"$f":"IFERROR(VLOOKUP(A1513,'Banco de Funcionários'!$A$2:$D$1048576,2,0),0)","v":0},null,null,null,null,null,"00:00:00",null,"00:00:00","00:00:00"]
[null,{"$f":"IFERROR(VLOOKUP(A1514,'Banco de Funcionários'!$A$2:$D$1048576,2,0),0)","v":0},null,null,null,null,null,"00:00:00",null,"00:00:00","00:00:00"]
[null,{"$f":"IFERROR(VLOOKUP(A1515,'Banco de Funcionários'!$A$2:$D$1048576,2,0),0)","v":0},null,null,null,null,null,"00:00:00",null,"00:00:00","00:00:00"]
[null,{"$f":"IFERROR(VLOOKUP(A1516,'Banco de Funcionários'!$A$2:$D$1048576,2,0),0)","v":0},null,null,null,null,null,"00:00:00",null,"00:00:00","00:00:00"]
[null,{"$f":"IFERROR(VLOOKUP(A1517,'Banco de Funcionários'!$A$2:$D$1048576,2,0),0)","v":0},null,null,null,null,null,"00:00:00",null,"00:00:00","00:00:00"]
[null,{"$f":"IFERROR(VLOOKUP(A1518,'Banco de Funcionários'!$A$2:$D$1048576,2,0),0)","v":0},null,null,null,null,null,"00:00:00",null,"00:00:00","00:00:00"]
[null,{"$f":"IFERROR(VLOOKUP(A1519,'Banco de Funcionários'!$A$2:$D$1048576,2,0),0)","v":0},null,null,null,null,null,"00:00:00",null,"00:00:00","00:00:00"]
[null,{"$f":"IFERROR(VLOOKUP(A1520,'Banco de Funcionários'!$A$2:$D$1048576,2,0),0)","v":0},null,null,null,null,null,"00:00:00",null,"00:00:00","00:00:00"]
[null,{"$f":"IFERROR(VLOOKUP(A1521,'Banco de Funcionários'!$A$2:$D$1048576,2,0),0)","v":0},null,null,null,null,null,"00:00:00",null,"00:00:00","00:00:00"]
[null,{"$f":"IFERROR(VLOOKUP(A1522,'Banco de Funcionários'!$A$2:$D$1048576,2,0),0)","v":0},null,null,null,null,null,"00:00:00",null,"00:00:00","00:00:00"]
[null,{"$f":"IFERROR(VLOOKUP(A1523,'Banco de Funcionários'!$A$2:$D$1048576,2,0),0)","v":0},null,null,null,null,null,"00:00:00",null,"00:00:00","00:00:00"]
[null,{"$f":"IFERROR(VLOOKUP(A1524,'Banco de Funcionários'!$A$2:$D$1048576,2,0),0)","v":0},null,null,null,null,null,"00:00:00",null,"00:00:00","00:00:00"]
[null,{"$f":"IFERROR(VLOOKUP(A1525,'Banco de Funcionários'!$A$2:$D$1048576,2,0),0)","v":0},null,null,null,null,null,"00:00:00",null,"00:00:00","00:00:00"]
[null,{"$f":"IFERROR(VLOOKUP(A1526,'Banco de Funcionários'!$A$2:$D$1048576,2,0),0)","v":0},null,null,null,null,null,"00:00:00",null,"00:00:00","00:00:00"]
[null,{"$f":"IFERROR(VLOOKUP(A1527,'Banco de Funcionários'!$A$2:$D$1048576,2,0),0)","v":0},null,null,null,null,null,"00:00:00",null,"00:00:00","00:00:00"]
[null,{"$f":"IFERROR(VLOOKUP(A1528,'Banco de Funcionários'!$A$2:$D$1048576,2,0),0)","v":0},null,null,null,null,null,"00:00:00",null,"00:00:00","00:00:00"]
[null,{"$f":"IFERROR(VLOOKUP(A1529,'Banco de Funcionários'!$A$2:$D$1048576,2,0),0)","v":0},null,null,null,null,null,"00:00:00",null,"00:00:00","00:00:00"]
[null,{"$f":"IFERROR(VLOOKUP(A1530,'Banco de Funcionários'!$A$2:$D$1048576,2,0),0)","v":0},null,null,null,null,null,"00:00:00",null,"00:00:00","00:00:00"]
[null,{"$f":"IFERROR(VLOOKUP(A1531,'Banco de Funcionários'!$A$2:$D$1048576,2,0),0)","v":0},null,null,null,null,null,"00:00:00",null,"00:00:00","00:00:00"]
[null,{"$f":"IFERROR(VLOOKUP(A1532,'Banco de Funcionários'!$A$2:$D$1048576,2,0),0)","v":0},null,null,null,null,null,"00:00:00",null,"00:00:00","00:00:00"]
[null,{"$f":"IFERROR(VLOOKUP(A1533,'Banco de Funcionários'!$A$2:$D$1048576,2,0),0)","v":0},null,null,null,null,null,"00:00:00",null,"00:00:00","00:00:00"]
[null,{"$f":"IFERROR(VLOOKUP(A1534,'Banco de Funcionários'!$A$2:$D$1048576,2,0),0)","v":0},null,null,null,null,null,"00:00:00",null,"00:00:00","00:00:00"]
[null,{"$f":"IFERROR(VLOOKUP(A1535,'Banco de Funcionários'!$A$2:$D$1048576,2,0),0)","v":0},null,null,null,null,null,"00:00:00",null,"00:00:00","00:00:00"]
[null,{"$f":"IFERROR(VLOOKUP(A1536,'Banco de Funcionários'!$A$2:$D$1048576,2,0),0)","v":0},null,null,null,null,null,"00:00:00",null,"00:00:00","00:00:00"]
[null,{"$f":"IFERROR(VLOOKUP(A1537,'Banco de Funcionários'!$A$2:$D$1048576,2,0),0)","v":0},null,null,null,null,null,"00:00:00",null,"00:00:00","00:00:00"]
[null,{"$f":"IFERROR(VLOOKUP(A1538,'Banco de Funcionários'!$A$2:$D$1048576,2,0),0)","v":0},null,null,null,null,null,"00:00:00",null,"00:00:00","00:00:00"]
[null,{"$f":"IFERROR(VLOOKUP(A1539,'Banco de Funcionários'!$A$2:$D$1048576,2,0),0)","v":0},null,null,null,null,null,{"$f":"(F1539-E1539)-G1539","v":"00:00:00"},null,{"$f":"IFERROR(H1539-I1539,\"\")","v":"00:00:00"},{"$f":"IFERROR(H1539+J1539,0)","v":"00:00:00"}]
[null,{"$f":"IFERROR(VLOOKUP(A1540,'Banco de Funcionários'!$A$2:$D$1048576,2,0),0)","v":0},null,null,null,null,null,"00:00:00",null,"00:00:00","00:00:00"]
[null,{"$f":"IFERROR(VLOOKUP(A1541,'Banco de Funcionários'!$A$2:$D$1048576,2,0),0)","v":0},null,null,null,null,null,"00:00:00",null,"00:00:00","00:00:00"]
[null,{"$f":"IFERROR(VLOOKUP(A1542,'Banco de Funcionários'!$A$2:$D$1048576,2,0),0)","v":0},null,null,null,null,null,"00:00:00",null,"00:00:00","00:00:00"]
[null,{"$f":"IFERROR(VLOOKUP(A1543,'Banco de Funcionários'!$A$2:$D$1048576,2,0),0)","v":0},null,null,null,null,null,"00:00:00",null,"00:00:00","00:00:00"]
[null,{"$f":"IFERROR(VLOOKUP(A1544,'Banco de Funcionários'!$A$2:$D$1048576,2,0),0)","v":0},null,null,null,null,null,"00:00:00",null,"00:00:00","00:00:00"]
[null,{"$f":"IFERROR(VLOOKUP(A1545,'Banco de Funcionários'!$A$2:$D$1048576,2,0),0)","v":0},null,null,null,null,null,"00:00:00",null,"00:00:00","00:00:00"]
[null,{"$f":"IFERROR(VLOOKUP(A1546,'Banco de Funcionários'!$A$2:$D$1048576,2,0),0)","v":0},null,null,null,null,null,"00:00:00",null,"00:00:00","00:00:00"]
[null,{"$f":"IFERROR(VLOOKUP(A1547,'Banco de Funcionários'!$A$2:$D$1048576,2,0),0)","v":0},null,null,null,null,null,"00:00:00",null,"00:00:00","00:00:00"]
[null,{"$f":"IFERROR(VLOOKUP(A1548,'Banco de Funcionários'!$A$2:$D$1048576,2,0),0)","v":0},null,null,null,null,null,"00:00:00",null,"00:00:00","00:00:00"]
[null,{"$f":"IFERROR(VLOOKUP(A1549,'Banco de Funcionários'!$A$2:$D$1048576,2,0),0)","v":0},null,null,null,null,null,"00:00:00",null,"00:00:00","00:00:00"]
[null,{"$f":"IFERROR(VLOOKUP(A1550,'Banco de Funcionários'!$A$2:$D$1048576,2,0),0)","v":0},null,null,null,null,null,"00:00:00",null,"00:00:00","00:00:00"]
[null,{"$f":"IFERROR(VLOOKUP(A1551,'Banco de Funcionários'!$A$2:$D$1048576,2,0),0)","v":0},null,null,null,null,null,"00:00:00",null,"00:00:00","00:00:00"]
[null,{"$f":"IFERROR(VLOOKUP(A1552,'Banco de Funcionários'!$A$2:$D$1048576,2,0),0)","v":0},null,null,null,null,null,"00:00:00",null,"00:00:00","00:00:00"]
[null,{"$f":"IFERROR(VLOOKUP(A1553,'Banco de Funcionários'!$A$2:$D$1048576,2,0),0)","v":0},null,null,null,null,null,"00:00:00",null,"00:00:00","00:00:00"]
[null,{"$f":"IFERROR(VLOOKUP(A1554,'Banco de Funcionários'!$A$2:$D$1048576,2,0),0)","v":0},null,null,null,null,null,"00:00:00",null,"00:00:00","00:00:00"]
[null,{"$f":"IFERROR(VLOOKUP(A1555,'Banco de Funcionários'!$A$2:$D$1048576,2,0),0)","v":0},null,null,null,null,null,"00:00:00",null,"00:00:00","00:00:00"]
[null,{"$f":"IFERROR(VLOOKUP(A1556,'Banco de Funcionários'!$A$2:$D$1048576,2,0),0)","v":0},null,null,null,null,null,"00:00:00",null,"00:00:00","00:00:00"]
[null,{"$f":"IFERROR(VLOOKUP(A1557,'Banco de Funcionários'!$A$2:$D$1048576,2,0),0)","v":0},null,null,null,null,null,"00:00:00",null,"00:00:00","00:00:00"]
[null,{"$f":"IFERROR(VLOOKUP(A1558,'Banco de Funcionários'!$A$2:$D$1048576,2,0),0)","v":0},null,null,null,null,null,"00:00:00",null,"00:00:00","00:00:00"]
[null,{"$f":"IFERROR(VLOOKUP(A1559,'Banco de Funcionários'!$A$2:$D$1048576,2,0),0)","v":0},null,null,null,null,null,"00:00:00",null,"00:00:00","00:00:00"]
[null,{"$f":"IFERROR(VLOOKUP(A1560,'Banco de Funcionários'!$A$2:$D$1048576,2,0),0)","v":0},null,null,null,null,null,"00:00:00",null,"00:00:00","00:00:00"]
[null,{"$f":"IFERROR(VLOOKUP(A1561,'Banco de Funcionários'!$A$2:$D$1048576,2,0),0)","v":0},null,null,null,null,null,"00:00:00",null,"00:00:00","00:00:00"]
[null,{"$f":"IFERROR(VLOOKUP(A1562,'Banco de Funcionários'!$A$2:$D$1048576,2,0),0)","v":0},null,null,null,null,null,"00:00:00",null,"00:00:00","00:00:00"]
[null,{"$f":"IFERROR(VLOOKUP(A1563,'Banco de Funcionários'!$A$2:$D$1048576,2,0),0)","v":0},null,null,null,null,null,"00:00:00",null,"00:00:00","00:00:00"]
[null,{"$f":"IFERROR(VLOOKUP(A1564,'Banco de Funcionários'!$A$2:$D$1048576,2,0),0)","v":0},null,null,null,null,null,"00:00:00",null,"00:00:00","00:00:00"]
[null,{"$f":"IFERROR(VLOOKUP(A1565,'Banco de Funcionários'!$A$2:$D$1048576,2,0),0)","v":0},null,null,null,null,null,"00:00:00",null,"00:00:00","00:00:00"]
[null,{"$f":"IFERROR(VLOOKUP(A1566,'Banco de Funcionários'!$A$2:$D$1048576,2,0),0)","v":0},null,null,null,null,null,"00:00:00",null,"00:00:00","00:00:00"]
[null,{"$f":"IFERROR(VLOOKUP(A1567,'Banco de Funcionários'!$A$2:$D$1048576,2,0),0)","v":0},null,null,null,null,null,"00:00:00",null,"00:00:00","00:00:00"]
[null,{"$f":"IFERROR(VLOOKUP(A1568,'Banco de Funcionários'!$A$2:$D$1048576,2,0),0)","v":0},null,null,null,null,null,"00:00:00",null,"00:00:00","00:00:00"]
[null,{"$f":"IFERROR(VLOOKUP(A1569,'Banco de Funcionários'!$A$2:$D$1048576,2,0),0)","v":0},null,null,null,null,null,"00:00:00",null,"00:00:00","00:00:00"]
[null,{"$f":"IFERROR(VLOOKUP(A1570,'Banco de Funcionários'!$A$2:$D$1048576,2,0),0)","v":0},null,null,null,null,null,"00:00:00",null,"00:00:00","00:00:00"]
[null,{"$f":"IFERROR(VLOOKUP(A1571,'Banco de Funcionários'!$A$2:$D$1048576,2,0),0)","v":0},null,null,null,null,null,"00:00:00",null,"00:00:00","00:00:00"]
[null,{"$f":"IFERROR(VLOOKUP(A1572,'Banco de Funcionários'!$A$2:$D$1048576,2,0),0)","v":0},null,null,null,null,null,"00:00:00",null,"00:00:00","00:00:00"]
[null,{"$f":"IFERROR(VLOOKUP(A1573,'Banco de Funcionários'!$A$2:$D$1048576,2,0),0)","v":0},null,null,null,null,null,"00:00:00",null,"00:00:00","00:00:00"]
[null,{"$f":"IFERROR(VLOOKUP(A1574,'Banco de Funcionários'!$A$2:$D$1048576,2,0),0)","v":0},null,null,null,null,null,"00:00:00",null,"00:00:00","00:00:00"]
[null,{"$f":"IFERROR(VLOOKUP(A1575,'Banco de Funcionários'!$A$2:$D$1048576,2,0),0)","v":0},null,null,null,null,null,"00:00:00",null,"00:00:00","00:00:00"]
[null,{"$f":"IFERROR(VLOOKUP(A1576,'Banco de Funcionários'!$A$2:$D$1048576,2,0),0)","v":0},null,null,null,null,null,"00:00:00",null,"00:00:00","00:00:00"]
[null,{"$f":"IFERROR(VLOOKUP(A1577,'Banco de Funcionários'!$A$2:$D$1048576,2,0),0)","v":0},null,null,null,null,null,"00:00:00",null,"00:00:00","00:00:00"]
[null,{"$f":"IFERROR(VLOOKUP(A1578,'Banco de Funcionários'!$A$2:$D$1048576,2,0),0)","v":0},null,null,null,null,null,"00:00:00",null,"00:00:00","00:00:00"]
[null,{"$f":"IFERROR(VLOOKUP(A1579,'Banco de Funcionários'!$A$2:$D$1048576,2,0),0)","v":0},null,null,null,null,null,"00:00:00",null,"00:00:00","00:00:00"]
[null,{"$f":"IFERROR(VLOOKUP(A1580,'Banco de Funcionários'!$A$2:$D$1048576,2,0),0)","v":0},null,null,null,null,null,"00:00:00",null,"00:00:00","00:00:00"]
[null,{"$f":"IFERROR(VLOOKUP(A1581,'Banco de Funcionários'!$A$2:$D$1048576,2,0),0)","v":0},null,null,null,null,null,"00:00:00",null,"00:00:00","00:00:00"]
[null,{"$f":"IFERROR(VLOOKUP(A1582,'Banco de Funcionários'!$A$2:$D$1048576,2,0),0)","v":0},null,null,null,null,null,"00:00:00",null,"00:00:00","00:00:00"]
[null,{"$f":"IFERROR(VLOOKUP(A1583,'Banco de Funcionários'!$A$2:$D$1048576,2,0),0)","v":0},null,null,null,null,null,"00:00:00",null,"00:00:00","00:00:00"]
[null,{"$f":"IFERROR(VLOOKUP(A1584,'Banco de Funcionários'!$A$2:$D$1048576,2,0),0)","v":0},null,null,null,null,null,"00:00:00",null,"00:00:00","00:00:00"]
[null,{"$f":"IFERROR(VLOOKUP(A1585,'Banco de Funcionários'!$A$2:$D$1048576,2,0),0)","v":0},null,null,null,null,null,"00:00:00",null,"00:00:00","00:00:00"]
[null,{"$f":"IFERROR(VLOOKUP(A1586,'Banco de Funcionários'!$A$2:$D$1048576,2,0),0)","v":0},null,null,null,null,null,"00:00:00",null,"00:00:00","00:00:00"]
[null,{"$f":"IFERROR(VLOOKUP(A1587,'Banco de Funcionários'!$A$2:$D$1048576,2,0),0)","v":0},null,null,null,null,null,"00:00:00",null,"00:00:00","00:00:00"]
[null,{"$f":"IFERROR(VLOOKUP(A1588,'Banco de Funcionários'!$A$2:$D$1048576,2,0),0)","v":0},null,null,null,null,null,"00:00:00",null,"00:00:00","00:00:00"]
[null,{"$f":"IFERROR(VLOOKUP(A1589,'Banco de Funcionários'!$A$2:$D$1048576,2,0),0)","v":0},null,null,null,null,null,"00:00:00",null,"00:00:00","00:00:00"]
[null,{"$f":"IFERROR(VLOOKUP(A1590,'Banco de Funcionários'!$A$2:$D$1048576,2,0),0)","v":0},null,null,null,null,null,"00:00:00",null,"00:00:00","00:00:00"]
[null,{"$f":"IFERROR(VLOOKUP(A1591,'Banco de Funcionários'!$A$2:$D$1048576,2,0),0)","v":0},null,null,null,null,null,"00:00:00",null,"00:00:00","00:00:00"]
[null,{"$f":"IFERROR(VLOOKUP(A1592,'Banco de Funcionários'!$A$2:$D$1048576,2,0),0)","v":0},null,null,null,null,null,"00:00:00",null,"00:00:00","00:00:00"]
[null,{"$f":"IFERROR(VLOOKUP(A1593,'Banco de Funcionários'!$A$2:$D$1048576,2,0),0)","v":0},null,null,null,null,null,"00:00:00",null,"00:00:00","00:00:00"]
[null,{"$f":"IFERROR(VLOOKUP(A1594,'Banco de Funcionários'!$A$2:$D$1048576,2,0),0)","v":0},null,null,null,null,null,"00:00:00",null,"00:00:00","00:00:00"]
[null,{"$f":"IFERROR(VLOOKUP(A1595,'Banco de Funcionários'!$A$2:$D$1048576,2,0),0)","v":0},null,null,null,null,null,"00:00:00",null,"00:00:00","00:00:00"]
[null,{"$f":"IFERROR(VLOOKUP(A1596,'Banco de Funcionários'!$A$2:$D$1048576,2,0),0)","v":0},null,null,null,null,null,"00:00:00",null,"00:00:00","00:00:00"]
[null,{"$f":"IFERROR(VLOOKUP(A1597,'Banco de Funcionários'!$A$2:$D$1048576,2,0),0)","v":0},null,null,null,null,null,"00:00:00",null,"00:00:00","00:00:00"]
[null,{"$f":"IFERROR(VLOOKUP(A1598,'Banco de Funcionários'!$A$2:$D$1048576,2,0),0)","v":0},null,null,null,null,null,"00:00:00",null,"00:00:00","00:00:00"]
[null,{"$f":"IFERROR(VLOOKUP(A1599,'Banco de Funcionários'!$A$2:$D$1048576,2,0),0)","v":0},null,null,null,null,null,"00:00:00",null,"00:00:00","00:00:00"]
[null,{"$f":"IFERROR(VLOOKUP(A1600,'Banco de Funcionários'!$A$2:$D$1048576,2,0),0)","v":0},null,null,null,null,null,"00:00:00",null,"00:00:00","00:00:00"]
[null,{"$f":"IFERROR(VLOOKUP(A1601,'Banco de Funcionários'!$A$2:$D$1048576,2,0),0)","v":0},null,null,null,null,null,"00:00:00",null,"00:00:00","00:00:00"]
[null,{"$f":"IFERROR(VLOOKUP(A1602,'Banco de Funcionários'!$A$2:$D$1048576,2,0),0)","v":0},null,null,null,null,null,"00:00:00",null,"00:00:00","00:00:00"]
[null,{"$f":"IFERROR(VLOOKUP(A1603,'Banco de Funcionários'!$A$2:$D$1048576,2,0),0)","v":0},null,null,null,null,null,{"$f":"(F1603-E1603)-G1603","v":"00:00:00"},null,{"$f":"IFERROR(H1603-I1603,\"\")","v":"00:00:00"},{"$f":"IFERROR(H1603+J1603,0)","v":"00:00:00"}]
[null,{"$f":"IFERROR(VLOOKUP(A1604,'Banco de Funcionários'!$A$2:$D$1048576,2,0),0)","v":0},null,null,null,null,null,"00:00:00",null,"00:00:00","00:00:00"]
[null,{"$f":"IFERROR(VLOOKUP(A1605,'Banco de Funcionários'!$A$2:$D$1048576,2,0),0)","v":0},null,null,null,null,null,"00:00:00",null,"00:00:00","00:00:00"]
[null,{"$f":"IFERROR(VLOOKUP(A1606,'Banco de Funcionários'!$A$2:$D$1048576,2,0),0)","v":0},null,null,null,null,null,"00:00:00",null,"00:00:00","00:00:00"]
[null,{"$f":"IFERROR(VLOOKUP(A1607,'Banco de Funcionários'!$A$2:$D$1048576,2,0),0)","v":0},null,null,null,null,null,"00:00:00",null,"00:00:00","00:00:00"]
[null,{"$f":"IFERROR(VLOOKUP(A1608,'Banco de Funcionários'!$A$2:$D$1048576,2,0),0)","v":0},null,null,null,null,null,"00:00:00",null,"00:00:00","00:00:00"]
[null,{"$f":"IFERROR(VLOOKUP(A1609,'Banco de Funcionários'!$A$2:$D$1048576,2,0),0)","v":0},null,null,null,null,null,"00:00:00",null,"00:00:00","00:00:00"]
[null,{"$f":"IFERROR(VLOOKUP(A1610,'Banco de Funcionários'!$A$2:$D$1048576,2,0),0)","v":0},null,null,null,null,null,"00:00:00",null,"00:00:00","00:00:00"]
[null,{"$f":"IFERROR(VLOOKUP(A1611,'Banco de Funcionários'!$A$2:$D$1048576,2,0),0)","v":0},null,null,null,null,null,"00:00:00",null,"00:00:00","00:00:00"]
[null,{"$f":"IFERROR(VLOOKUP(A1612,'Banco de Funcionários'!$A$2:$D$1048576,2,0),0)","v":0},null,null,null,null,null,"00:00:00",null,"00:00:00","00:00:00"]
[null,{"$f":"IFERROR(VLOOKUP(A1613,'Banco de Funcionários'!$A$2:$D$1048576,2,0),0)","v":0},null,null,null,null,null,"00:00:00",null,"00:00:00","00:00:00"]
[null,{"$f":"IFERROR(VLOOKUP(A1614,'Banco de Funcionários'!$A$2:$D$1048576,2,0),0)","v":0},null,null,null,null,null,"00:00:00",null,"00:00:00","00:00:00"]
[null,{"$f":"IFERROR(VLOOKUP(A1615,'Banco de Funcionários'!$A$2:$D$1048576,2,0),0)","v":0},null,null,null,null,null,"00:00:00",null,"00:00:00","00:00:00"]
[null,{"$f":"IFERROR(VLOOKUP(A1616,'Banco de Funcionários'!$A$2:$D$1048576,2,0),0)","v":0},null,null,null,null,null,"00:00:00",null,"00:00:00","00:00:00"]
[null,{"$f":"IFERROR(VLOOKUP(A1617,'Banco de Funcionários'!$A$2:$D$1048576,2,0),0)","v":0},null,null,null,null,null,"00:00:00",null,"00:00:00","00:00:00"]
[null,{"$f":"IFERROR(VLOOKUP(A1618,'Banco de Funcionários'!$A$2:$D$1048576,2,0),0)","v":0},null,null,null,null,null,"00:00:00",null,"00:00:00","00:00:00"]
[null,{"$f":"IFERROR(VLOOKUP(A1619,'Banco de Funcionários'!$A$2:$D$1048576,2,0),0)","v":0},null,null,null,null,null,"00:00:00",null,"00:00:00","00:00:00"]
[null,{"$f":"IFERROR(VLOOKUP(A1620,'Banco de Funcionários'!$A$2:$D$1048576,2,0),0)","v":0},null,null,null,null,null,"00:00:00",null,"00:00:00","00:00:00"]
[null,{"$f":"IFERROR(VLOOKUP(A1621,'Banco de Funcionários'!$A$2:$D$1048576,2,0),0)","v":0},null,null,null,null,null,"00:00:00",null,"00:00:00","00:00:00"]
[null,{"$f":"IFERROR(VLOOKUP(A1622,'Banco de Funcionários'!$A$2:$D$1048576,2,0),0)","v":0},null,null,null,null,null,"00:00:00",null,"00:00:00","00:00:00"]
[null,{"$f":"IFERROR(VLOOKUP(A1623,'Banco de Funcionários'!$A$2:$D$1048576,2,0),0)","v":0},null,null,null,null,null,"00:00:00",null,"00:00:00","00:00:00"]
[null,{"$f":"IFERROR(VLOOKUP(A1624,'Banco de Funcionários'!$A$2:$D$1048576,2,0),0)","v":0},null,null,null,null,null,"00:00:00",null,"00:00:00","00:00:00"]
[null,{"$f":"IFERROR(VLOOKUP(A1625,'Banco de Funcionários'!$A$2:$D$1048576,2,0),0)","v":0},null,null,null,null,null,"00:00:00",null,"00:00:00","00:00:00"]
[null,{"$f":"IFERROR(VLOOKUP(A1626,'Banco de Funcionários'!$A$2:$D$1048576,2,0),0)","v":0},null,null,null,null,null,"00:00:00",null,"00:00:00","00:00:00"]
[null,{"$f":"IFERROR(VLOOKUP(A1627,'Banco de Funcionários'!$A$2:$D$1048576,2,0),0)","v":0},null,null,null,null,null,"00:00:00",null,"00:00:00","00:00:00"]
[null,{"$f":"IFERROR(VLOOKUP(A1628,'Banco de Funcionários'!$A$2:$D$1048576,2,0),0)","v":0},null,null,null,null,null,"00:00:00",null,"00:00:00","00:00:00"]
[null,{"$f":"IFERROR(VLOOKUP(A1629,'Banco de Funcionários'!$A$2:$D$1048576,2,0),0)","v":0},null,null,null,null,null,"00:00:00",null,"00:00:00","00:00:00"]
[null,{"$f":"IFERROR(VLOOKUP(A1630,'Banco de Funcionários'!$A$2:$D$1048576,2,0),0)","v":0},null,null,null,null,null,"00:00:00",null,"00:00:00","00:00:00"]
[null,{"$f":"IFERROR(VLOOKUP(A1631,'Banco de Funcionários'!$A$2:$D$1048576,2,0),0)","v":0},null,null,null,null,null,"00:00:00",null,"00:00:00","00:00:00"]
[null,{"$f":"IFERROR(VLOOKUP(A1632,'Banco de Funcionários'!$A$2:$D$1048576,2,0),0)","v":0},null,null,null,null,null,"00:00:00",null,"00:00:00","00:00:00"]
[null,{"$f":"IFERROR(VLOOKUP(A1633,'Banco de Funcionários'!$A$2:$D$1048576,2,0),0)","v":0},null,null,null,null,null,"00:00:00",null,"00:00:00","00:00:00"]
[null,{"$f":"IFERROR(VLOOKUP(A1634,'Banco de Funcionários'!$A$2:$D$1048576,2,0),0)","v":0},null,null,null,null,null,"00:00:00",null,"00:00:00","00:00:00"]
[null,{"$f":"IFERROR(VLOOKUP(A1635,'Banco de Funcionários'!$A$2:$D$1048576,2,0),0)","v":0},null,null,null,null,null,"00:00:00",null,"00:00:00","00:00:00"]
[null,{"$f":"IFERROR(VLOOKUP(A1636,'Banco de Funcionários'!$A$2:$D$1048576,2,0),0)","v":0},null,null,null,null,null,"00:00:00",null,"00:00:00","00:00:00"]
[null,{"$f":"IFERROR(VLOOKUP(A1637,'Banco de Funcionários'!$A$2:$D$1048576,2,0),0)","v":0},null,null,null,null,null,"00:00:00",null,"00:00:00","00:00:00"]
[null,{"$f":"IFERROR(VLOOKUP(A1638,'Banco de Funcionários'!$A$2:$D$1048576,2,0),0)","v":0},null,null,null,null,null,"00:00:00",null,"00:00:00","00:00:00"]
[null,{"$f":"IFERROR(VLOOKUP(A1639,'Banco de Funcionários'!$A$2:$D$1048576,2,0),0)","v":0},null,null,null,null,null,"00:00:00",null,"00:00:00","00:00:00"]
[null,{"$f":"IFERROR(VLOOKUP(A1640,'Banco de Funcionários'!$A$2:$D$1048576,2,0),0)","v":0},null,null,null,null,null,"00:00:00",null,"00:00:00","00:00:00"]
[null,{"$f":"IFERROR(VLOOKUP(A1641,'Banco de Funcionários'!$A$2:$D$1048576,2,0),0)","v":0},null,null,null,null,null,"00:00:00",null,"00:00:00","00:00:00"]
[null,{"$f":"IFERROR(VLOOKUP(A1642,'Banco de Funcionários'!$A$2:$D$1048576,2,0),0)","v":0},null,null,null,null,null,"00:00:00",null,"00:00:00","00:00:00"]
[null,{"$f":"IFERROR(VLOOKUP(A1643,'Banco de Funcionários'!$A$2:$D$1048576,2,0),0)","v":0},null,null,null,null,null,"00:00:00",null,"00:00:00","00:00:00"]
[null,{"$f":"IFERROR(VLOOKUP(A1644,'Banco de Funcionários'!$A$2:$D$1048576,2,0),0)","v":0},null,null,null,null,null,"00:00:00",null,"00:00:00","00:00:00"]
[null,{"$f":"IFERROR(VLOOKUP(A1645,'Banco de Funcionários'!$A$2:$D$1048576,2,0),0)","v":0},null,null,null,null,null,"00:00:00",null,"00:00:00","00:00:00"]
[null,{"$f":"IFERROR(VLOOKUP(A1646,'Banco de Funcionários'!$A$2:$D$1048576,2,0),0)","v":0},null,null,null,null,null,"00:00:00",null,"00:00:00","00:00:00"]
[null,{"$f":"IFERROR(VLOOKUP(A1647,'Banco de Funcionários'!$A$2:$D$1048576,2,0),0)","v":0},null,null,null,null,null,"00:00:00",null,"00:00:00","00:00:00"]
[null,{"$f":"IFERROR(VLOOKUP(A1648,'Banco de Funcionários'!$A$2:$D$1048576,2,0),0)","v":0},null,null,null,null,null,"00:00:00",null,"00:00:00","00:00:00"]
[null,{"$f":"IFERROR(VLOOKUP(A1649,'Banco de Funcionários'!$A$2:$D$1048576,2,0),0)","v":0},null,null,null,null,null,"00:00:00",null,"00:00:00","00:00:00"]
[null,{"$f":"IFERROR(VLOOKUP(A1650,'Banco de Funcionários'!$A$2:$D$1048576,2,0),0)","v":0},null,null,null,null,null,"00:00:00",null,"00:00:00","00:00:00"]
[null,{"$f":"IFERROR(VLOOKUP(A1651,'Banco de Funcionários'!$A$2:$D$1048576,2,0),0)","v":0},null,null,null,null,null,"00:00:00",null,"00:00:00","00:00:00"]
[null,{"$f":"IFERROR(VLOOKUP(A1652,'Banco de Funcionários'!$A$2:$D$1048576,2,0),0)","v":0},null,null,null,null,null,"00:00:00",null,"00:00:00","00:00:00"]
[null,{"$f":"IFERROR(VLOOKUP(A1653,'Banco de Funcionários'!$A$2:$D$1048576,2,0),0)","v":0},null,null,null,null,null,"00:00:00",null,"00:00:00","00:00:00"]
[null,{"$f":"IFERROR(VLOOKUP(A1654,'Banco de Funcionários'!$A$2:$D$1048576,2,0),0)","v":0},null,null,null,null,null,"00:00:00",null,"00:00:00","00:00:00"]
[null,{"$f":"IFERROR(VLOOKUP(A1655,'Banco de Funcionários'!$A$2:$D$1048576,2,0),0)","v":0},null,null,null,null,null,"00:00:00",null,"00:00:00","00:00:00"]
[null,{"$f":"IFERROR(VLOOKUP(A1656,'Banco de Funcionários'!$A$2:$D$1048576,2,0),0)","v":0},null,null,null,null,null,"00:00:00",null,"00:00:00","00:00:00"]
[null,{"$f":"IFERROR(VLOOKUP(A1657,'Banco de Funcionários'!$A$2:$D$1048576,2,0),0)","v":0},null,null,null,null,null,"00:00:00",null,"00:00:00","00:00:00"]
[null,{"$f":"IFERROR(VLOOKUP(A1658,'Banco de Funcionários'!$A$2:$D$1048576,2,0),0)","v":0},null,null,null,null,null,"00:00:00",null,"00:00:00","00:00:00"]
[null,{"$f":"IFERROR(VLOOKUP(A1659,'Banco de Funcionários'!$A$2:$D$1048576,2,0),0)","v":0},null,null,null,null,null,"00:00:00",null,"00:00:00","00:00:00"]
[null,{"$f":"IFERROR(VLOOKUP(A1660,'Banco de Funcionários'!$A$2:$D$1048576,2,0),0)","v":0},null,null,null,null,null,"00:00:00",null,"00:00:00","00:00:00"]
[null,{"$f":"IFERROR(VLOOKUP(A1661,'Banco de Funcionários'!$A$2:$D$1048576,2,0),0)","v":0},null,null,null,null,null,"00:00:00",null,"00:00:00","00:00:00"]
[null,{"$f":"IFERROR(VLOOKUP(A1662,'Banco de Funcionários'!$A$2:$D$1048576,2,0),0)","v":0},null,null,null,null,null,"00:00:00",null,"00:00:00","00:00:00"]
[null,{"$f":"IFERROR(VLOOKUP(A1663,'Banco de Funcionários'!$A$2:$D$1048576,2,0),0)","v":0},null,null,null,null,null,"00:00:00",null,"00:00:00","00:00:00"]
[null,{"$f":"IFERROR(VLOOKUP(A1664,'Banco de Funcionários'!$A$2:$D$1048576,2,0),0)","v":0},null,null,null,null,null,"00:00:00",null,"00:00:00","00:00:00"]
[null,{"$f":"IFERROR(VLOOKUP(A1665,'Banco de Funcionários'!$A$2:$D$1048576,2,0),0)","v":0},null,null,null,null,null,"00:00:00",null,"00:00:00","00:00:00"]
[null,{"$f":"IFERROR(VLOOKUP(A1666,'Banco de Funcionários'!$A$2:$D$1048576,2,0),0)","v":0},null,null,null,null,null,"00:00:00",null,"00:00:00","00:00:00"]
[null,{"$f":"IFERROR(VLOOKUP(A1667,'Banco de Funcionários'!$A$2:$D$1048576,2,0),0)","v":0},null,null,null,null,null,{"$f":"(F1667-E1667)-G1667","v":"00:00:00"},null,{"$f":"IFERROR(H1667-I1667,\"\")","v":"00:00:00"},{"$f":"IFERROR(H1667+J1667,0)","v":"00:00:00"}]
[null,{"$f":"IFERROR(VLOOKUP(A1668,'Banco de Funcionários'!$A$2:$D$1048576,2,0),0)","v":0},null,null,null,null,null,"00:00:00",null,"00:00:00","00:00:00"]
[null,{"$f":"IFERROR(VLOOKUP(A1669,'Banco de Funcionários'!$A$2:$D$1048576,2,0),0)","v":0},null,null,null,null,null,"00:00:00",null,"00:00:00","00:00:00"]
[null,{"$f":"IFERROR(VLOOKUP(A1670,'Banco de Funcionários'!$A$2:$D$1048576,2,0),0)","v":0},null,null,null,null,null,"00:00:00",null,"00:00:00","00:00:00"]
[null,{"$f":"IFERROR(VLOOKUP(A1671,'Banco de Funcionários'!$A$2:$D$1048576,2,0),0)","v":0},null,null,null,null,null,"00:00:00",null,"00:00:00","00:00:00"]
[null,{"$f":"IFERROR(VLOOKUP(A1672,'Banco de Funcionários'!$A$2:$D$1048576,2,0),0)","v":0},null,null,null,null,null,"00:00:00",null,"00:00:00","00:00:00"]
[null,{"$f":"IFERROR(VLOOKUP(A1673,'Banco de Funcionários'!$A$2:$D$1048576,2,0),0)","v":0},null,null,null,null,null,"00:00:00",null,"00:00:00","00:00:00"]
[null,{"$f":"IFERROR(VLOOKUP(A1674,'Banco de Funcionários'!$A$2:$D$1048576,2,0),0)","v":0},null,null,null,null,null,"00:00:00",null,"00:00:00","00:00:00"]
[null,{"$f":"IFERROR(VLOOKUP(A1675,'Banco de Funcionários'!$A$2:$D$1048576,2,0),0)","v":0},null,null,null,null,null,"00:00:00",null,"00:00:00","00:00:00"]
[null,{"$f":"IFERROR(VLOOKUP(A1676,'Banco de Funcionários'!$A$2:$D$1048576,2,0),0)","v":0},null,null,null,null,null,"00:00:00",null,"00:00:00","00:00:00"]
[null,{"$f":"IFERROR(VLOOKUP(A1677,'Banco de Funcionários'!$A$2:$D$1048576,2,0),0)","v":0},null,null,null,null,null,"00:00:00",null,"00:00:00","00:00:00"]
[null,{"$f":"IFERROR(VLOOKUP(A1678,'Banco de Funcionários'!$A$2:$D$1048576,2,0),0)","v":0},null,null,null,null,null,"00:00:00",null,"00:00:00","00:00:00"]
[null,{"$f":"IFERROR(VLOOKUP(A1679,'Banco de Funcionários'!$A$2:$D$1048576,2,0),0)","v":0},null,null,null,null,null,"00:00:00",null,"00:00:00","00:00:00"]
[null,{"$f":"IFERROR(VLOOKUP(A1680,'Banco de Funcionários'!$A$2:$D$1048576,2,0),0)","v":0},null,null,null,null,null,"00:00:00",null,"00:00:00","00:00:00"]
[null,{"$f":"IFERROR(VLOOKUP(A1681,'Banco de Funcionários'!$A$2:$D$1048576,2,0),0)","v":0},null,null,null,null,null,"00:00:00",null,"00:00:00","00:00:00"]
[null,{"$f":"IFERROR(VLOOKUP(A1682,'Banco de Funcionários'!$A$2:$D$1048576,2,0),0)","v":0},null,null,null,null,null,"00:00:00",null,"00:00:00","00:00:00"]
[null,{"$f":"IFERROR(VLOOKUP(A1683,'Banco de Funcionários'!$A$2:$D$1048576,2,0),0)","v":0},null,null,null,null,null,"00:00:00",null,"00:00:00","00:00:00"]
[null,{"$f":"IFERROR(VLOOKUP(A1684,'Banco de Funcionários'!$A$2:$D$1048576,2,0),0)","v":0},null,null,null,null,null,"00:00:00",null,"00:00:00","00:00:00"]
[null,{"$f":"IFERROR(VLOOKUP(A1685,'Banco de Funcionários'!$A$2:$D$1048576,2,0),0)","v":0},null,null,null,null,null,"00:00:00",null,"00:00:00","00:00:00"]
[null,{"$f":"IFERROR(VLOOKUP(A1686,'Banco de Funcionários'!$A$2:$D$1048576,2,0),0)","v":0},null,null,null,null,null,"00:00:00",null,"00:00:00","00:00:00"]
[null,{"$f":"IFERROR(VLOOKUP(A1687,'Banco de Funcionários'!$A$2:$D$1048576,2,0),0)","v":0},null,null,null,null,null,"00:00:00",null,"00:00:00","00:00:00"]
[null,{"$f":"IFERROR(VLOOKUP(A1688,'Banco de Funcionários'!$A$2:$D$1048576,2,0),0)","v":0},null,null,null,null,null,"00:00:00",null,"00:00:00","00:00:00"]
[null,{"$f":"IFERROR(VLOOKUP(A1689,'Banco de Funcionários'!$A$2:$D$1048576,2,0),0)","v":0},null,null,null,null,null,"00:00:00",null,"00:00:00","00:00:00"]
[null,{"$f":"IFERROR(VLOOKUP(A1690,'Banco de Funcionários'!$A$2:$D$1048576,2,0),0)","v":0},null,null,null,null,null,"00:00:00",null,"00:00:00","00:00:00"]
[null,{"$f":"IFERROR(VLOOKUP(A1691,'Banco de Funcionários'!$A$2:$D$1048576,2,0),0)","v":0},null,null,null,null,null,"00:00:00",null,"00:00:00","00:00:00"]
[null,{"$f":"IFERROR(VLOOKUP(A1692,'Banco de Funcionários'!$A$2:$D$1048576,2,0),0)","v":0},null,null,null,null,null,"00:00:00",null,"00:00:00","00:00:00"]
[null,{"$f":"IFERROR(VLOOKUP(A1693,'Banco de Funcionários'!$A$2:$D$1048576,2,0),0)","v":0},null,null,null,null,null,"00:00:00",null,"00:00:00","00:00:00"]
[null,{"$f":"IFERROR(VLOOKUP(A1694,'Banco de Funcionários'!$A$2:$D$1048576,2,0),0)","v":0},null,null,null,null,null,"00:00:00",null,"00:00:00","00:00:00"]
[null,{"$f":"IFERROR(VLOOKUP(A1695,'Banco de Funcionários'!$A$2:$D$1048576,2,0),0)","v":0},null,null,null,null,null,"00:00:00",null,"00:00:00","00:00:00"]
[null,{"$f":"IFERROR(VLOOKUP(A1696,'Banco de Funcionários'!$A$2:$D$1048576,2,0),0)","v":0},null,null,null,null,null,"00:00:00",null,"00:00:00","00:00:00"]
[null,{"$f":"IFERROR(VLOOKUP(A1697,'Banco de Funcionários'!$A$2:$D$1048576,2,0),0)","v":0},null,null,null,null,null,"00:00:00",null,"00:00:00","00:00:00"]
[null,{"$f":"IFERROR(VLOOKUP(A1698,'Banco de Funcionários'!$A$2:$D$1048576,2,0),0)","v":0},null,null,null,null,null,"00:00:00",null,"00:00:00","00:00:00"]
[null,{"$f":"IFERROR(VLOOKUP(A1699,'Banco de Funcionários'!$A$2:$D$1048576,2,0),0)","v":0},null,null,null,null,null,"00:00:00",null,"00:00:00","00:00:00"]
[null,{"$f":"IFERROR(VLOOKUP(A1700,'Banco de Funcionários'!$A$2:$D$1048576,2,0),0)","v":0},null,null,null,null,null,"00:00:00",null,"00:00:00","00:00:00"]
[null,{"$f":"IFERROR(VLOOKUP(A1701,'Banco de Funcionários'!$A$2:$D$1048576,2,0),0)","v":0},null,null,null,null,null,"00:00:00",null,"00:00:00","00:00:00"]
[null,{"$f":"IFERROR(VLOOKUP(A1702,'Banco de Funcionários'!$A$2:$D$1048576,2,0),0)","v":0},null,null,null,null,null,"00:00:00",null,"00:00:00","00:00:00"]
[null,{"$f":"IFERROR(VLOOKUP(A1703,'Banco de Funcionários'!$A$2:$D$1048576,2,0),0)","v":0},null,null,null,null,null,"00:00:00",null,"00:00:00","00:00:00"]
[null,{"$f":"IFERROR(VLOOKUP(A1704,'Banco de Funcionários'!$A$2:$D$1048576,2,0),0)","v":0},null,null,null,null,null,"00:00:00",null,"00:00:00","00:00:00"]
[null,{"$f":"IFERROR(VLOOKUP(A1705,'Banco de Funcionários'!$A$2:$D$1048576,2,0),0)","v":0},null,null,null,null,null,"00:00:00",null,"00:00:00","00:00:00"]
[null,{"$f":"IFERROR(VLOOKUP(A1706,'Banco de Funcionários'!$A$2:$D$1048576,2,0),0)","v":0},null,null,null,null,null,"00:00:00",null,"00:00:00","00:00:00"]
[null,{"$f":"IFERROR(VLOOKUP(A1707,'Banco de Funcionários'!$A$2:$D$1048576,2,0),0)","v":0},null,null,null,null,null,"00:00:00",null,"00:00:00","00:00:00"]
[null,{"$f":"IFERROR(VLOOKUP(A1708,'Banco de Funcionários'!$A$2:$D$1048576,2,0),0)","v":0},null,null,null,null,null,"00:00:00",null,"00:00:00","00:00:00"]
[null,{"$f":"IFERROR(VLOOKUP(A1709,'Banco de Funcionários'!$A$2:$D$1048576,2,0),0)","v":0},null,null,null,null,null,"00:00:00",null,"00:00:00","00:00:00"]
[null,{"$f":"IFERROR(VLOOKUP(A1710,'Banco de Funcionários'!$A$2:$D$1048576,2,0),0)","v":0},null,null,null,null,null,"00:00:00",null,"00:00:00","00:00:00"]
[null,{"$f":"IFERROR(VLOOKUP(A1711,'Banco de Funcionários'!$A$2:$D$1048576,2,0),0)","v":0},null,null,null,null,null,"00:00:00",null,"00:00:00","00:00:00"]
[null,{"$f":"IFERROR(VLOOKUP(A1712,'Banco de Funcionários'!$A$2:$D$1048576,2,0),0)","v":0},null,null,null,null,null,"00:00:00",null,"00:00:00","00:00:00"]
[null,{"$f":"IFERROR(VLOOKUP(A1713,'Banco de Funcionários'!$A$2:$D$1048576,2,0),0)","v":0},null,null,null,null,null,"00:00:00",null,"00:00:00","00:00:00"]
[null,{"$f":"IFERROR(VLOOKUP(A1714,'Banco de Funcionários'!$A$2:$D$1048576,2,0),0)","v":0},null,null,null,null,null,"00:00:00",null,"00:00:00","00:00:00"]
[null,{"$f":"IFERROR(VLOOKUP(A1715,'Banco de Funcionários'!$A$2:$D$1048576,2,0),0)","v":0},null,null,null,null,null,"00:00:00",null,"00:00:00","00:00:00"]
[null,{"$f":"IFERROR(VLOOKUP(A1716,'Banco de Funcionários'!$A$2:$D$1048576,2,0),0)","v":0},null,null,null,null,null,"00:00:00",null,"00:00:00","00:00:00"]
[null,{"$f":"IFERROR(VLOOKUP(A1717,'Banco de Funcionários'!$A$2:$D$1048576,2,0),0)","v":0},null,null,null,null,null,"00:00:00",null,"00:00:00","00:00:00"]
[null,{"$f":"IFERROR(VLOOKUP(A1718,'Banco de Funcionários'!$A$2:$D$1048576,2,0),0)","v":0},null,null,null,null,null,"00:00:00",null,"00:00:00","00:00:00"]
[null,{"$f":"IFERROR(VLOOKUP(A1719,'Banco de Funcionários'!$A$2:$D$1048576,2,0),0)","v":0},null,null,null,null,null,"00:00:00",null,"00:00:00","00:00:00"]
[null,{"$f":"IFERROR(VLOOKUP(A1720,'Banco de Funcionários'!$A$2:$D$1048576,2,0),0)","v":0},null,null,null,null,null,"00:00:00",null,"00:00:00","00:00:00"]
[null,{"$f":"IFERROR(VLOOKUP(A1721,'Banco de Funcionários'!$A$2:$D$1048576,2,0),0)","v":0},null,null,null,null,null,"00:00:00",null,"00:00:00","00:00:00"]
[null,{"$f":"IFERROR(VLOOKUP(A1722,'Banco de Funcionários'!$A$2:$D$1048576,2,0),0)","v":0},null,null,null,null,null,"00:00:00",null,"00:00:00","00:00:00"]
[null,{"$f":"IFERROR(VLOOKUP(A1723,'Banco de Funcionários'!$A$2:$D$1048576,2,0),0)","v":0},null,null,null,null,null,"00:00:00",null,"00:00:00","00:00:00"]
[null,{"$f":"IFERROR(VLOOKUP(A1724,'Banco de Funcionários'!$A$2:$D$1048576,2,0),0)","v":0},null,null,null,null,null,"00:00:00",null,"00:00:00","00:00:00"]
[null,{"$f":"IFERROR(VLOOKUP(A1725,'Banco de Funcionários'!$A$2:$D$1048576,2,0),0)","v":0},null,null,null,null,null,"00:00:00",null,"00:00:00","00:00:00"]
[null,{"$f":"IFERROR(VLOOKUP(A1726,'Banco de Funcionários'!$A$2:$D$1048576,2,0),0)","v":0},null,null,null,null,null,"00:00:00",null,"00:00:00","00:00:00"]
[null,{"$f":"IFERROR(VLOOKUP(A1727,'Banco de Funcionários'!$A$2:$D$1048576,2,0),0)","v":0},null,null,null,null,null,"00:00:00",null,"00:00:00","00:00:00"]
[null,{"$f":"IFERROR(VLOOKUP(A1728,'Banco de Funcionários'!$A$2:$D$1048576,2,0),0)","v":0},null,null,null,null,null,"00:00:00",null,"00:00:00","00:00:00"]
[null,{"$f":"IFERROR(VLOOKUP(A1729,'Banco de Funcionários'!$A$2:$D$1048576,2,0),0)","v":0},null,null,null,null,null,"00:00:00",null,"00:00:00","00:00:00"]
[null,{"$f":"IFERROR(VLOOKUP(A1730,'Banco de Funcionários'!$A$2:$D$1048576,2,0),0)","v":0},null,null,null,null,null,"00:00:00",null,"00:00:00","00:00:00"]
[null,{"$f":"IFERROR(VLOOKUP(A1731,'Banco de Funcionários'!$A$2:$D$1048576,2,0),0)","v":0},null,null,null,null,null,{"$f":"(F1731-E1731)-G1731","v":"00:00:00"},null,{"$f":"IFERROR(H1731-I1731,\"\")","v":"00:00:00"},{"$f":"IFERROR(H1731+J1731,0)","v":"00:00:00"}]
[null,{"$f":"IFERROR(VLOOKUP(A1732,'Banco de Funcionários'!$A$2:$D$1048576,2,0),0)","v":0},null,null,null,null,null,"00:00:00",null,"00:00:00","00:00:00"]
[null,{"$f":"IFERROR(VLOOKUP(A1733,'Banco de Funcionários'!$A$2:$D$1048576,2,0),0)","v":0},null,null,null,null,null,"00:00:00",null,"00:00:00","00:00:00"]
[null,{"$f":"IFERROR(VLOOKUP(A1734,'Banco de Funcionários'!$A$2:$D$1048576,2,0),0)","v":0},null,null,null,null,null,"00:00:00",null,"00:00:00","00:00:00"]
[null,{"$f":"IFERROR(VLOOKUP(A1735,'Banco de Funcionários'!$A$2:$D$1048576,2,0),0)","v":0},null,null,null,null,null,"00:00:00",null,"00:00:00","00:00:00"]
[null,{"$f":"IFERROR(VLOOKUP(A1736,'Banco de Funcionários'!$A$2:$D$1048576,2,0),0)","v":0},null,null,null,null,null,"00:00:00",null,"00:00:00","00:00:00"]
[null,{"$f":"IFERROR(VLOOKUP(A1737,'Banco de Funcionários'!$A$2:$D$1048576,2,0),0)","v":0},null,null,null,null,null,"00:00:00",null,"00:00:00","00:00:00"]
[null,{"$f":"IFERROR(VLOOKUP(A1738,'Banco de Funcionários'!$A$2:$D$1048576,2,0),0)","v":0},null,null,null,null,null,"00:00:00",null,"00:00:00","00:00:00"]
[null,{"$f":"IFERROR(VLOOKUP(A1739,'Banco de Funcionários'!$A$2:$D$1048576,2,0),0)","v":0},null,null,null,null,null,"00:00:00",null,"00:00:00","00:00:00"]
[null,{"$f":"IFERROR(VLOOKUP(A1740,'Banco de Funcionários'!$A$2:$D$1048576,2,0),0)","v":0},null,null,null,null,null,"00:00:00",null,"00:00:00","00:00:00"]
[null,{"$f":"IFERROR(VLOOKUP(A1741,'Banco de Funcionários'!$A$2:$D$1048576,2,0),0)","v":0},null,null,null,null,null,"00:00:00",null,"00:00:00","00:00:00"]
[null,{"$f":"IFERROR(VLOOKUP(A1742,'Banco de Funcionários'!$A$2:$D$1048576,2,0),0)","v":0},null,null,null,null,null,"00:00:00",null,"00:00:00","00:00:00"]
[null,{"$f":"IFERROR(VLOOKUP(A1743,'Banco de Funcionários'!$A$2:$D$1048576,2,0),0)","v":0},null,null,null,null,null,"00:00:00",null,"00:00:00","00:00:00"]
[null,{"$f":"IFERROR(VLOOKUP(A1744,'Banco de Funcionários'!$A$2:$D$1048576,2,0),0)","v":0},null,null,null,null,null,"00:00:00",null,"00:00:00","00:00:00"]
[null,{"$f":"IFERROR(VLOOKUP(A1745,'Banco de Funcionários'!$A$2:$D$1048576,2,0),0)","v":0},null,null,null,null,null,"00:00:00",null,"00:00:00","00:00:00"]
[null,{"$f":"IFERROR(VLOOKUP(A1746,'Banco de Funcionários'!$A$2:$D$1048576,2,0),0)","v":0},null,null,null,null,null,"00:00:00",null,"00:00:00","00:00:00"]
[null,{"$f":"IFERROR(VLOOKUP(A1747,'Banco de Funcionários'!$A$2:$D$1048576,2,0),0)","v":0},null,null,null,null,null,"00:00:00",null,"00:00:00","00:00:00"]
[null,{"$f":"IFERROR(VLOOKUP(A1748,'Banco de Funcionários'!$A$2:$D$1048576,2,0),0)","v":0},null,null,null,null,null,"00:00:00",null,"00:00:00","00:00:00"]
[null,{"$f":"IFERROR(VLOOKUP(A1749,'Banco de Funcionários'!$A$2:$D$1048576,2,0),0)","v":0},null,null,null,null,null,"00:00:00",null,"00:00:00","00:00:00"]
[null,{"$f":"IFERROR(VLOOKUP(A1750,'Banco de Funcionários'!$A$2:$D$1048576,2,0),0)","v":0},null,null,null,null,null,"00:00:00",null,"00:00:00","00:00:00"]
[null,{"$f":"IFERROR(VLOOKUP(A1751,'Banco de Funcionários'!$A$2:$D$1048576,2,0),0)","v":0},null,null,null,null,null,"00:00:00",null,"00:00:00","00:00:00"]
[null,{"$f":"IFERROR(VLOOKUP(A1752,'Banco de Funcionários'!$A$2:$D$1048576,2,0),0)","v":0},null,null,null,null,null,"00:00:00",null,"00:00:00","00:00:00"]
[null,{"$f":"IFERROR(VLOOKUP(A1753,'Banco de Funcionários'!$A$2:$D$1048576,2,0),0)","v":0},null,null,null,null,null,"00:00:00",null,"00:00:00","00:00:00"]
[null,{"$f":"IFERROR(VLOOKUP(A1754,'Banco de Funcionários'!$A$2:$D$1048576,2,0),0)","v":0},null,null,null,null,null,"00:00:00",null,"00:00:00","00:00:00"]
[null,{"$f":"IFERROR(VLOOKUP(A1755,'Banco de Funcionários'!$A$2:$D$1048576,2,0),0)","v":0},null,null,null,null,null,"00:00:00",null,"00:00:00","00:00:00"]
[null,{"$f":"IFERROR(VLOOKUP(A1756,'Banco de Funcionários'!$A$2:$D$1048576,2,0),0)","v":0},null,null,null,null,null,"00:00:00",null,"00:00:00","00:00:00"]
[null,{"$f":"IFERROR(VLOOKUP(A1757,'Banco de Funcionários'!$A$2:$D$1048576,2,0),0)","v":0},null,null,null,null,null,"00:00:00",null,"00:00:00","00:00:00"]
[null,{"$f":"IFERROR(VLOOKUP(A1758,'Banco de Funcionários'!$A$2:$D$1048576,2,0),0)","v":0},null,null,null,null,null,"00:00:00",null,"00:00:00","00:00:00"]
[null,{"$f":"IFERROR(VLOOKUP(A1759,'Banco de Funcionários'!$A$2:$D$1048576,2,0),0)","v":0},null,null,null,null,null,"00:00:00",null,"00:00:00","00:00:00"]
[null,{"$f":"IFERROR(VLOOKUP(A1760,'Banco de Funcionários'!$A$2:$D$1048576,2,0),0)","v":0},null,null,null,null,null,"00:00:00",null,"00:00:00","00:00:00"]
[null,{"$f":"IFERROR(VLOOKUP(A1761,'Banco de Funcionários'!$A$2:$D$1048576,2,0),0)","v":0},null,null,null,null,null,"00:00:00",null,"00:00:00","00:00:00"]
[null,{"$f":"IFERROR(VLOOKUP(A1762,'Banco de Funcionários'!$A$2:$D$1048576,2,0),0)","v":0},null,null,null,null,null,"00:00:00",null,"00:00:00","00:00:00"]
[null,{"$f":"IFERROR(VLOOKUP(A1763,'Banco de Funcionários'!$A$2:$D$1048576,2,0),0)","v":0},null,null,null,null,null,"00:00:00",null,"00:00:00","00:00:00"]
[null,{"$f":"IFERROR(VLOOKUP(A1764,'Banco de Funcionários'!$A$2:$D$1048576,2,0),0)","v":0},null,null,null,null,null,"00:00:00",null,"00:00:00","00:00:00"]
[null,{"$f":"IFERROR(VLOOKUP(A1765,'Banco de Funcionários'!$A$2:$D$1048576,2,0),0)","v":0},null,null,null,null,null,"00:00:00",null,"00:00:00","00:00:00"]
[null,{"$f":"IFERROR(VLOOKUP(A1766,'Banco de Funcionários'!$A$2:$D$1048576,2,0),0)","v":0},null,null,null,null,null,"00:00:00",null,"00:00:00","00:00:00"]
[null,{"$f":"IFERROR(VLOOKUP(A1767,'Banco de Funcionários'!$A$2:$D$1048576,2,0),0)","v":0},null,null,null,null,null,"00:00:00",null,"00:00:00","00:00:00"]
[null,{"$f":"IFERROR(VLOOKUP(A1768,'Banco de Funcionários'!$A$2:$D$1048576,2,0),0)","v":0},null,null,null,null,null,"00:00:00",null,"00:00:00","00:00:00"]
[null,{"$f":"IFERROR(VLOOKUP(A1769,'Banco de Funcionários'!$A$2:$D$1048576,2,0),0)","v":0},null,null,null,null,null,"00:00:00",null,"00:00:00","00:00:00"]
[null,{"$f":"IFERROR(VLOOKUP(A1770,'Banco de Funcionários'!$A$2:$D$1048576,2,0),0)","v":0},null,null,null,null,null,"00:00:00",null,"00:00:00","00:00:00"]
[null,{"$f":"IFERROR(VLOOKUP(A1771,'Banco de Funcionários'!$A$2:$D$1048576,2,0),0)","v":0},null,null,null,null,null,"00:00:00",null,"00:00:00","00:00:00"]
[null,{"$f":"IFERROR(VLOOKUP(A1772,'Banco de Funcionários'!$A$2:$D$1048576,2,0),0)","v":0},null,null,null,null,null,"00:00:00",null,"00:00:00","00:00:00"]
[null,{"$f":"IFERROR(VLOOKUP(A1773,'Banco de Funcionários'!$A$2:$D$1048576,2,0),0)","v":0},null,null,null,null,null,"00:00:00",null,"00:00:00","00:00:00"]
[null,{"$f":"IFERROR(VLOOKUP(A1774,'Banco de Funcionários'!$A$2:$D$1048576,2,0),0)","v":0},null,null,null,null,null,"00:00:00",null,"00:00:00","00:00:00"]
[null,{"$f":"IFERROR(VLOOKUP(A1775,'Banco de Funcionários'!$A$2:$D$1048576,2,0),0)","v":0},null,null,null,null,null,"00:00:00",null,"00:00:00","00:00:00"]
[null,{"$f":"IFERROR(VLOOKUP(A1776,'Banco de Funcionários'!$A$2:$D$1048576,2,0),0)","v":0},null,null,null,null,null,"00:00:00",null,"00:00:00","00:00:00"]
[null,{"$f":"IFERROR(VLOOKUP(A1777,'Banco de Funcionários'!$A$2:$D$1048576,2,0),0)","v":0},null,null,null,null,null,"00:00:00",null,"00:00:00","00:00:00"]
[null,{"$f":"IFERROR(VLOOKUP(A1778,'Banco de Funcionários'!$A$2:$D$1048576,2,0),0)","v":0},null,null,null,null,null,"00:00:00",null,"00:00:00","00:00:00"]
[null,{"$f":"IFERROR(VLOOKUP(A1779,'Banco de Funcionários'!$A$2:$D$1048576,2,0),0)","v":0},null,null,null,null,null,"00:00:00",null,"00:00:00","00:00:00"]
[null,{"$f":"IFERROR(VLOOKUP(A1780,'Banco de Funcionários'!$A$2:$D$1048576,2,0),0)","v":0},null,null,null,null,null,"00:00:00",null,"00:00:00","00:00:00"]
[null,{"$f":"IFERROR(VLOOKUP(A1781,'Banco de Funcionários'!$A$2:$D$1048576,2,0),0)","v":0},null,null,null,null,null,"00:00:00",null,"00:00:00","00:00:00"]
[null,{"$f":"IFERROR(VLOOKUP(A1782,'Banco de Funcionários'!$A$2:$D$1048576,2,0),0)","v":0},null,null,null,null,null,"00:00:00",null,"00:00:00","00:00:00"]
[null,{"$f":"IFERROR(VLOOKUP(A1783,'Banco de Funcionários'!$A$2:$D$1048576,2,0),0)","v":0},null,null,null,null,null,"00:00:00",null,"00:00:00","00:00:00"]
[null,{"$f":"IFERROR(VLOOKUP(A1784,'Banco de Funcionários'!$A$2:$D$1048576,2,0),0)","v":0},null,null,null,null,null,"00:00:00",null,"00:00:00","00:00:00"]
[null,{"$f":"IFERROR(VLOOKUP(A1785,'Banco de Funcionários'!$A$2:$D$1048576,2,0),0)","v":0},null,null,null,null,null,"00:00:00",null,"00:00:00","00:00:00"]
[null,{"$f":"IFERROR(VLOOKUP(A1786,'Banco de Funcionários'!$A$2:$D$1048576,2,0),0)","v":0},null,null,null,null,null,"00:00:00",null,"00:00:00","00:00:00"]
[null,{"$f":"IFERROR(VLOOKUP(A1787,'Banco de Funcionários'!$A$2:$D$1048576,2,0),0)","v":0},null,null,null,null,null,"00:00:00",null,"00:00:00","00:00:00"]
[null,{"$f":"IFERROR(VLOOKUP(A1788,'Banco de Funcionários'!$A$2:$D$1048576,2,0),0)","v":0},null,null,null,null,null,"00:00:00",null,"00:00:00","00:00:00"]
[null,{"$f":"IFERROR(VLOOKUP(A1789,'Banco de Funcionários'!$A$2:$D$1048576,2,0),0)","v":0},null,null,null,null,null,"00:00:00",null,"00:00:00","00:00:00"]
[null,{"$f":"IFERROR(VLOOKUP(A1790,'Banco de Funcionários'!$A$2:$D$1048576,2,0),0)","v":0},null,null,null,null,null,"00:00:00",null,"00:00:00","00:00:00"]
[null,{"$f":"IFERROR(VLOOKUP(A1791,'Banco de Funcionários'!$A$2:$D$1048576,2,0),0)","v":0},null,null,null,null,null,"00:00:00",null,"00:00:00","00:00:00"]
[null,{"$f":"IFERROR(VLOOKUP(A1792,'Banco de Funcionários'!$A$2:$D$1048576,2,0),0)","v":0},null,null,null,null,null,"00:00:00",null,"00:00:00","00:00:00"]
[null,{"$f":"IFERROR(VLOOKUP(A1793,'Banco de Funcionários'!$A$2:$D$1048576,2,0),0)","v":0},null,null,null,null,null,"00:00:00",null,"00:00:00","00:00:00"]
[null,{"$f":"IFERROR(VLOOKUP(A1794,'Banco de Funcionários'!$A$2:$D$1048576,2,0),0)","v":0},null,null,null,null,null,"00:00:00",null,"00:00:00","00:00:00"]
[null,{"$f":"IFERROR(VLOOKUP(A1795,'Banco de Funcionários'!$A$2:$D$1048576,2,0),0)","v":0},null,null,null,null,null,{"$f":"(F1795-E1795)-G1795","v":"00:00:00"},null,{"$f":"IFERROR(H1795-I1795,\"\")","v":"00:00:00"},{"$f":"IFERROR(H1795+J1795,0)","v":"00:00:00"}]
[null,{"$f":"IFERROR(VLOOKUP(A1796,'Banco de Funcionários'!$A$2:$D$1048576,2,0),0)","v":0},null,null,null,null,null,"00:00:00",null,"00:00:00","00:00:00"]
[null,{"$f":"IFERROR(VLOOKUP(A1797,'Banco de Funcionários'!$A$2:$D$1048576,2,0),0)","v":0},null,null,null,null,null,"00:00:00",null,"00:00:00","00:00:00"]
[null,{"$f":"IFERROR(VLOOKUP(A1798,'Banco de Funcionários'!$A$2:$D$1048576,2,0),0)","v":0},null,null,null,null,null,"00:00:00",null,"00:00:00","00:00:00"]
[null,{"$f":"IFERROR(VLOOKUP(A1799,'Banco de Funcionários'!$A$2:$D$1048576,2,0),0)","v":0},null,null,null,null,null,"00:00:00",null,"00:00:00","00:00:00"]
[null,{"$f":"IFERROR(VLOOKUP(A1800,'Banco de Funcionários'!$A$2:$D$1048576,2,0),0)","v":0},null,null,null,null,null,"00:00:00",null,"00:00:00","00:00:00"]
[null,{"$f":"IFERROR(VLOOKUP(A1801,'Banco de Funcionários'!$A$2:$D$1048576,2,0),0)","v":0},null,null,null,null,null,"00:00:00",null,"00:00:00","00:00:00"]
[null,{"$f":"IFERROR(VLOOKUP(A1802,'Banco de Funcionários'!$A$2:$D$1048576,2,0),0)","v":0},null,null,null,null,null,"00:00:00",null,"00:00:00","00:00:00"]
[null,{"$f":"IFERROR(VLOOKUP(A1803,'Banco de Funcionários'!$A$2:$D$1048576,2,0),0)","v":0},null,null,null,null,null,"00:00:00",null,"00:00:00","00:00:00"]
[null,{"$f":"IFERROR(VLOOKUP(A1804,'Banco de Funcionários'!$A$2:$D$1048576,2,0),0)","v":0},null,null,null,null,null,"00:00:00",null,"00:00:00","00:00:00"]
[null,{"$f":"IFERROR(VLOOKUP(A1805,'Banco de Funcionários'!$A$2:$D$1048576,2,0),0)","v":0},null,null,null,null,null,"00:00:00",null,"00:00:00","00:00:00"]
[null,{"$f":"IFERROR(VLOOKUP(A1806,'Banco de Funcionários'!$A$2:$D$1048576,2,0),0)","v":0},null,null,null,null,null,"00:00:00",null,"00:00:00","00:00:00"]
[null,{"$f":"IFERROR(VLOOKUP(A1807,'Banco de Funcionários'!$A$2:$D$1048576,2,0),0)","v":0},null,null,null,null,null,"00:00:00",null,"00:00:00","00:00:00"]
[null,{"$f":"IFERROR(VLOOKUP(A1808,'Banco de Funcionários'!$A$2:$D$1048576,2,0),0)","v":0},null,null,null,null,null,"00:00:00",null,"00:00:00","00:00:00"]
[null,{"$f":"IFERROR(VLOOKUP(A1809,'Banco de Funcionários'!$A$2:$D$1048576,2,0),0)","v":0},null,null,null,null,null,"00:00:00",null,"00:00:00","00:00:00"]
[null,{"$f":"IFERROR(VLOOKUP(A1810,'Banco de Funcionários'!$A$2:$D$1048576,2,0),0)","v":0},null,null,null,null,null,"00:00:00",null,"00:00:00","00:00:00"]
[null,{"$f":"IFERROR(VLOOKUP(A1811,'Banco de Funcionários'!$A$2:$D$1048576,2,0),0)","v":0},null,null,null,null,null,"00:00:00",null,"00:00:00","00:00:00"]
[null,{"$f":"IFERROR(VLOOKUP(A1812,'Banco de Funcionários'!$A$2:$D$1048576,2,0),0)","v":0},null,null,null,null,null,"00:00:00",null,"00:00:00","00:00:00"]
[null,{"$f":"IFERROR(VLOOKUP(A1813,'Banco de Funcionários'!$A$2:$D$1048576,2,0),0)","v":0},null,null,null,null,null,"00:00:00",null,"00:00:00","00:00:00"]
[null,{"$f":"IFERROR(VLOOKUP(A1814,'Banco de Funcionários'!$A$2:$D$1048576,2,0),0)","v":0},null,null,null,null,null,"00:00:00",null,"00:00:00","00:00:00"]
[null,{"$f":"IFERROR(VLOOKUP(A1815,'Banco de Funcionários'!$A$2:$D$1048576,2,0),0)","v":0},null,null,null,null,null,"00:00:00",null,"00:00:00","00:00:00"]
[null,{"$f":"IFERROR(VLOOKUP(A1816,'Banco de Funcionários'!$A$2:$D$1048576,2,0),0)","v":0},null,null,null,null,null,"00:00:00",null,"00:00:00","00:00:00"]
[null,{"$f":"IFERROR(VLOOKUP(A1817,'Banco de Funcionários'!$A$2:$D$1048576,2,0),0)","v":0},null,null,null,null,null,"00:00:00",null,"00:00:00","00:00:00"]
[null,{"$f":"IFERROR(VLOOKUP(A1818,'Banco de Funcionários'!$A$2:$D$1048576,2,0),0)","v":0},null,null,null,null,null,"00:00:00",null,"00:00:00","00:00:00"]
[null,{"$f":"IFERROR(VLOOKUP(A1819,'Banco de Funcionários'!$A$2:$D$1048576,2,0),0)","v":0},null,null,null,null,null,"00:00:00",null,"00:00:00","00:00:00"]
[null,{"$f":"IFERROR(VLOOKUP(A1820,'Banco de Funcionários'!$A$2:$D$1048576,2,0),0)","v":0},null,null,null,null,null,"00:00:00",null,"00:00:00","00:00:00"]
[null,{"$f":"IFERROR(VLOOKUP(A1821,'Banco de Funcionários'!$A$2:$D$1048576,2,0),0)","v":0},null,null,null,null,null,"00:00:00",null,"00:00:00","00:00:00"]
[null,{"$f":"IFERROR(VLOOKUP(A1822,'Banco de Funcionários'!$A$2:$D$1048576,2,0),0)","v":0},null,null,null,null,null,"00:00:00",null,"00:00:00","00:00:00"]
[null,{"$f":"IFERROR(VLOOKUP(A1823,'Banco de Funcionários'!$A$2:$D$1048576,2,0),0)","v":0},null,null,null,null,null,"00:00:00",null,"00:00:00","00:00:00"]
[null,{"$f":"IFERROR(VLOOKUP(A1824,'Banco de Funcionários'!$A$2:$D$1048576,2,0),0)","v":0},null,null,null,null,null,"00:00:00",null,"00:00:00","00:00:00"]
[null,{"$f":"IFERROR(VLOOKUP(A1825,'Banco de Funcionários'!$A$2:$D$1048576,2,0),0)","v":0},null,null,null,null,null,"00:00:00",null,"00:00:00","00:00:00"]
[null,{"$f":"IFERROR(VLOOKUP(A1826,'Banco de Funcionários'!$A$2:$D$1048576,2,0),0)","v":0},null,null,null,null,null,"00:00:00",null,"00:00:00","00:00:00"]
[null,{"$f":"IFERROR(VLOOKUP(A1827,'Banco de Funcionários'!$A$2:$D$1048576,2,0),0)","v":0},null,null,null,null,null,"00:00:00",null,"00:00:00","00:00:00"]
[null,{"$f":"IFERROR(VLOOKUP(A1828,'Banco de Funcionários'!$A$2:$D$1048576,2,0),0)","v":0},null,null,null,null,null,"00:00:00",null,"00:00:00","00:00:00"]
[null,{"$f":"IFERROR(VLOOKUP(A1829,'Banco de Funcionários'!$A$2:$D$1048576,2,0),0)","v":0},null,null,null,null,null,"00:00:00",null,"00:00:00","00:00:00"]
[null,{"$f":"IFERROR(VLOOKUP(A1830,'Banco de Funcionários'!$A$2:$D$1048576,2,0),0)","v":0},null,null,null,null,null,"00:00:00",null,"00:00:00","00:00:00"]
[null,{"$f":"IFERROR(VLOOKUP(A1831,'Banco de Funcionários'!$A$2:$D$1048576,2,0),0)","v":0},null,null,null,null,null,"00:00:00",null,"00:00:00","00:00:00"]
[null,{"$f":"IFERROR(VLOOKUP(A1832,'Banco de Funcionários'!$A$2:$D$1048576,2,0),0)","v":0},null,null,null,null,null,"00:00:00",null,"00:00:00","00:00:00"]
[null,{"$f":"IFERROR(VLOOKUP(A1833,'Banco de Funcionários'!$A$2:$D$1048576,2,0),0)","v":0},null,null,null,null,null,"00:00:00",null,"00:00:00","00:00:00"]
[null,{"$f":"IFERROR(VLOOKUP(A1834,'Banco de Funcionários'!$A$2:$D$1048576,2,0),0)","v":0},null,null,null,null,null,"00:00:00",null,"00:00:00","00:00:00"]
[null,{"$f":"IFERROR(VLOOKUP(A1835,'Banco de Funcionários'!$A$2:$D$1048576,2,0),0)","v":0},null,null,null,null,null,"00:00:00",null,"00:00:00","00:00:00"]
[null,{"$f":"IFERROR(VLOOKUP(A1836,'Banco de Funcionários'!$A$2:$D$1048576,2,0),0)","v":0},null,null,null,null,null,"00:00:00",null,"00:00:00","00:00:00"]
[null,{"$f":"IFERROR(VLOOKUP(A1837,'Banco de Funcionários'!$A$2:$D$1048576,2,0),0)","v":0},null,null,null,null,null,"00:00:00",null,"00:00:00","00:00:00"]
[null,{"$f":"IFERROR(VLOOKUP(A1838,'Banco de Funcionários'!$A$2:$D$1048576,2,0),0)","v":0},null,null,null,null,null,"00:00:00",null,"00:00:00","00:00:00"]
[null,{"$f":"IFERROR(VLOOKUP(A1839,'Banco de Funcionários'!$A$2:$D$1048576,2,0),0)","v":0},null,null,null,null,null,"00:00:00",null,"00:00:00","00:00:00"]
[null,{"$f":"IFERROR(VLOOKUP(A1840,'Banco de Funcionários'!$A$2:$D$1048576,2,0),0)","v":0},null,null,null,null,null,"00:00:00",null,"00:00:00","00:00:00"]
[null,{"$f":"IFERROR(VLOOKUP(A1841,'Banco de Funcionários'!$A$2:$D$1048576,2,0),0)","v":0},null,null,null,null,null,"00:00:00",null,"00:00:00","00:00:00"]
[null,{"$f":"IFERROR(VLOOKUP(A1842,'Banco de Funcionários'!$A$2:$D$1048576,2,0),0)","v":0},null,null,null,null,null,"00:00:00",null,"00:00:00","00:00:00"]
[null,{"$f":"IFERROR(VLOOKUP(A1843,'Banco de Funcionários'!$A$2:$D$1048576,2,0),0)","v":0},null,null,null,null,null,"00:00:00",null,"00:00:00","00:00:00"]
[null,{"$f":"IFERROR(VLOOKUP(A1844,'Banco de Funcionários'!$A$2:$D$1048576,2,0),0)","v":0},null,null,null,null,null,"00:00:00",null,"00:00:00","00:00:00"]
[null,{"$f":"IFERROR(VLOOKUP(A1845,'Banco de Funcionários'!$A$2:$D$1048576,2,0),0)","v":0},null,null,null,null,null,"00:00:00",null,"00:00:00","00:00:00"]
[null,{"$f":"IFERROR(VLOOKUP(A1846,'Banco de Funcionários'!$A$2:$D$1048576,2,0),0)","v":0},null,null,null,null,null,"00:00:00",null,"00:00:00","00:00:00"]
[null,{"$f":"IFERROR(VLOOKUP(A1847,'Banco de Funcionários'!$A$2:$D$1048576,2,0),0)","v":0},null,null,null,null,null,"00:00:00",null,"00:00:00","00:00:00"]
[null,{"$f":"IFERROR(VLOOKUP(A1848,'Banco de Funcionários'!$A$2:$D$1048576,2,0),0)","v":0},null,null,null,null,null,"00:00:00",null,"00:00:00","00:00:00"]
[null,{"$f":"IFERROR(VLOOKUP(A1849,'Banco de Funcionários'!$A$2:$D$1048576,2,0),0)","v":0},null,null,null,null,null,"00:00:00",null,"00:00:00","00:00:00"]
[null,{"$f":"IFERROR(VLOOKUP(A1850,'Banco de Funcionários'!$A$2:$D$1048576,2,0),0)","v":0},null,null,null,null,null,"00:00:00",null,"00:00:00","00:00:00"]
[null,{"$f":"IFERROR(VLOOKUP(A1851,'Banco de Funcionários'!$A$2:$D$1048576,2,0),0)","v":0},null,null,null,null,null,"00:00:00",null,"00:00:00","00:00:00"]
[null,{"$f":"IFERROR(VLOOKUP(A1852,'Banco de Funcionários'!$A$2:$D$1048576,2,0),0)","v":0},null,null,null,null,null,"00:00:00",null,"00:00:00","00:00:00"]
[null,{"$f":"IFERROR(VLOOKUP(A1853,'Banco de Funcionários'!$A$2:$D$1048576,2,0),0)","v":0},null,null,null,null,null,"00:00:00",null,"00:00:00","00:00:00"]
[null,{"$f":"IFERROR(VLOOKUP(A1854,'Banco de Funcionários'!$A$2:$D$1048576,2,0),0)","v":0},null,null,null,null,null,"00:00:00",null,"00:00:00","00:00:00"]
[null,{"$f":"IFERROR(VLOOKUP(A1855,'Banco de Funcionários'!$A$2:$D$1048576,2,0),0)","v":0},null,null,null,null,null,"00:00:00",null,"00:00:00","00:00:00"]
[null,{"$f":"IFERROR(VLOOKUP(A1856,'Banco de Funcionários'!$A$2:$D$1048576,2,0),0)","v":0},null,null,null,null,null,"00:00:00",null,"00:00:00","00:00:00"]
[null,{"$f":"IFERROR(VLOOKUP(A1857,'Banco de Funcionários'!$A$2:$D$1048576,2,0),0)","v":0},null,null,null,null,null,"00:00:00",null,"00:00:00","00:00:00"]
[null,{"$f":"IFERROR(VLOOKUP(A1858,'Banco de Funcionários'!$A$2:$D$1048576,2,0),0)","v":0},null,null,null,null,null,"00:00:00",null,"00:00:00","00:00:00"]
[null,{"$f":"IFERROR(VLOOKUP(A1859,'Banco de Funcionários'!$A$2:$D$1048576,2,0),0)","v":0},null,null,null,null,null,{"$f":"(F1859-E1859)-G1859","v":"00:00:00"},null,{"$f":"IFERROR(H1859-I1859,\"\")","v":"00:00:00"},{"$f":"IFERROR(H1859+J1859,0)","v":"00:00:00"}]
[null,{"$f":"IFERROR(VLOOKUP(A1860,'Banco de Funcionários'!$A$2:$D$1048576,2,0),0)","v":0},null,null,null,null,null,"00:00:00",null,"00:00:00","00:00:00"]
[null,{"$f":"IFERROR(VLOOKUP(A1861,'Banco de Funcionários'!$A$2:$D$1048576,2,0),0)","v":0},null,null,null,null,null,"00:00:00",null,"00:00:00","00:00:00"]
[null,{"$f":"IFERROR(VLOOKUP(A1862,'Banco de Funcionários'!$A$2:$D$1048576,2,0),0)","v":0},null,null,null,null,null,"00:00:00",null,"00:00:00","00:00:00"]
[null,{"$f":"IFERROR(VLOOKUP(A1863,'Banco de Funcionários'!$A$2:$D$1048576,2,0),0)","v":0},null,null,null,null,null,"00:00:00",null,"00:00:00","00:00:00"]
[null,{"$f":"IFERROR(VLOOKUP(A1864,'Banco de Funcionários'!$A$2:$D$1048576,2,0),0)","v":0},null,null,null,null,null,"00:00:00",null,"00:00:00","00:00:00"]
[null,{"$f":"IFERROR(VLOOKUP(A1865,'Banco de Funcionários'!$A$2:$D$1048576,2,0),0)","v":0},null,null,null,null,null,"00:00:00",null,"00:00:00","00:00:00"]
[null,{"$f":"IFERROR(VLOOKUP(A1866,'Banco de Funcionários'!$A$2:$D$1048576,2,0),0)","v":0},null,null,null,null,null,"00:00:00",null,"00:00:00","00:00:00"]
[null,{"$f":"IFERROR(VLOOKUP(A1867,'Banco de Funcionários'!$A$2:$D$1048576,2,0),0)","v":0},null,null,null,null,null,"00:00:00",null,"00:00:00","00:00:00"]
[null,{"$f":"IFERROR(VLOOKUP(A1868,'Banco de Funcionários'!$A$2:$D$1048576,2,0),0)","v":0},null,null,null,null,null,"00:00:00",null,"00:00:00","00:00:00"]
[null,{"$f":"IFERROR(VLOOKUP(A1869,'Banco de Funcionários'!$A$2:$D$1048576,2,0),0)","v":0},null,null,null,null,null,"00:00:00",null,"00:00:00","00:00:00"]
[null,{"$f":"IFERROR(VLOOKUP(A1870,'Banco de Funcionários'!$A$2:$D$1048576,2,0),0)","v":0},null,null,null,null,null,"00:00:00",null,"00:00:00","00:00:00"]
[null,{"$f":"IFERROR(VLOOKUP(A1871,'Banco de Funcionários'!$A$2:$D$1048576,2,0),0)","v":0},null,null,null,null,null,"00:00:00",null,"00:00:00","00:00:00"]
[null,{"$f":"IFERROR(VLOOKUP(A1872,'Banco de Funcionários'!$A$2:$D$1048576,2,0),0)","v":0},null,null,null,null,null,"00:00:00",null,"00:00:00","00:00:00"]
[null,{"$f":"IFERROR(VLOOKUP(A1873,'Banco de Funcionários'!$A$2:$D$1048576,2,0),0)","v":0},null,null,null,null,null,"00:00:00",null,"00:00:00","00:00:00"]
[null,{"$f":"IFERROR(VLOOKUP(A1874,'Banco de Funcionários'!$A$2:$D$1048576,2,0),0)","v":0},null,null,null,null,null,"00:00:00",null,"00:00:00","00:00:00"]
[null,{"$f":"IFERROR(VLOOKUP(A1875,'Banco de Funcionários'!$A$2:$D$1048576,2,0),0)","v":0},null,null,null,null,null,"00:00:00",null,"00:00:00","00:00:00"]
[null,{"$f":"IFERROR(VLOOKUP(A1876,'Banco de Funcionários'!$A$2:$D$1048576,2,0),0)","v":0},null,null,null,null,null,"00:00:00",null,"00:00:00","00:00:00"]
[null,{"$f":"IFERROR(VLOOKUP(A1877,'Banco de Funcionários'!$A$2:$D$1048576,2,0),0)","v":0},null,null,null,null,null,"00:00:00",null,"00:00:00","00:00:00"]
[null,{"$f":"IFERROR(VLOOKUP(A1878,'Banco de Funcionários'!$A$2:$D$1048576,2,0),0)","v":0},null,null,null,null,null,"00:00:00",null,"00:00:00","00:00:00"]
[null,{"$f":"IFERROR(VLOOKUP(A1879,'Banco de Funcionários'!$A$2:$D$1048576,2,0),0)","v":0},null,null,null,null,null,"00:00:00",null,"00:00:00","00:00:00"]
[null,{"$f":"IFERROR(VLOOKUP(A1880,'Banco de Funcionários'!$A$2:$D$1048576,2,0),0)","v":0},null,null,null,null,null,"00:00:00",null,"00:00:00","00:00:00"]
[null,{"$f":"IFERROR(VLOOKUP(A1881,'Banco de Funcionários'!$A$2:$D$1048576,2,0),0)","v":0},null,null,null,null,null,"00:00:00",null,"00:00:00","00:00:00"]
[null,{"$f":"IFERROR(VLOOKUP(A1882,'Banco de Funcionários'!$A$2:$D$1048576,2,0),0)","v":0},null,null,null,null,null,"00:00:00",null,"00:00:00","00:00:00"]
[null,{"$f":"IFERROR(VLOOKUP(A1883,'Banco de Funcionários'!$A$2:$D$1048576,2,0),0)","v":0},null,null,null,null,null,"00:00:00",null,"00:00:00","00:00:00"]
[null,{"$f":"IFERROR(VLOOKUP(A1884,'Banco de Funcionários'!$A$2:$D$1048576,2,0),0)","v":0},null,null,null,null,null,"00:00:00",null,"00:00:00","00:00:00"]
[null,{"$f":"IFERROR(VLOOKUP(A1885,'Banco de Funcionários'!$A$2:$D$1048576,2,0),0)","v":0},null,null,null,null,null,"00:00:00",null,"00:00:00","00:00:00"]
[null,{"$f":"IFERROR(VLOOKUP(A1886,'Banco de Funcionários'!$A$2:$D$1048576,2,0),0)","v":0},null,null,null,null,null,"00:00:00",null,"00:00:00","00:00:00"]
[null,{"$f":"IFERROR(VLOOKUP(A1887,'Banco de Funcionários'!$A$2:$D$1048576,2,0),0)","v":0},null,null,null,null,null,"00:00:00",null,"00:00:00","00:00:00"]
[null,{"$f":"IFERROR(VLOOKUP(A1888,'Banco de Funcionários'!$A$2:$D$1048576,2,0),0)","v":0},null,null,null,null,null,"00:00:00",null,"00:00:00","00:00:00"]
[null,{"$f":"IFERROR(VLOOKUP(A1889,'Banco de Funcionários'!$A$2:$D$1048576,2,0),0)","v":0},null,null,null,null,null,"00:00:00",null,"00:00:00","00:00:00"]
[null,{"$f":"IFERROR(VLOOKUP(A1890,'Banco de Funcionários'!$A$2:$D$1048576,2,0),0)","v":0},null,null,null,null,null,"00:00:00",null,"00:00:00","00:00:00"]
[null,{"$f":"IFERROR(VLOOKUP(A1891,'Banco de Funcionários'!$A$2:$D$1048576,2,0),0)","v":0},null,null,null,null,null,"00:00:00",null,"00:00:00","00:00:00"]
[null,{"$f":"IFERROR(VLOOKUP(A1892,'Banco de Funcionários'!$A$2:$D$1048576,2,0),0)","v":0},null,null,null,null,null,"00:00:00",null,"00:00:00","00:00:00"]
[null,{"$f":"IFERROR(VLOOKUP(A1893,'Banco de Funcionários'!$A$2:$D$1048576,2,0),0)","v":0},null,null,null,null,null,"00:00:00",null,"00:00:00","00:00:00"]
[null,{"$f":"IFERROR(VLOOKUP(A1894,'Banco de Funcionários'!$A$2:$D$1048576,2,0),0)","v":0},null,null,null,null,null,"00:00:00",null,"00:00:00","00:00:00"]
[null,{"$f":"IFERROR(VLOOKUP(A1895,'Banco de Funcionários'!$A$2:$D$1048576,2,0),0)","v":0},null,null,null,null,null,"00:00:00",null,"00:00:00","00:00:00"]
[null,{"$f":"IFERROR(VLOOKUP(A1896,'Banco de Funcionários'!$A$2:$D$1048576,2,0),0)","v":0},null,null,null,null,null,"00:00:00",null,"00:00:00","00:00:00"]
[null,{"$f":"IFERROR(VLOOKUP(A1897,'Banco de Funcionários'!$A$2:$D$1048576,2,0),0)","v":0},null,null,null,null,null,"00:00:00",null,"00:00:00","00:00:00"]
[null,{"$f":"IFERROR(VLOOKUP(A1898,'Banco de Funcionários'!$A$2:$D$1048576,2,0),0)","v":0},null,null,null,null,null,"00:00:00",null,"00:00:00","00:00:00"]
[null,{"$f":"IFERROR(VLOOKUP(A1899,'Banco de Funcionários'!$A$2:$D$1048576,2,0),0)","v":0},null,null,null,null,null,"00:00:00",null,"00:00:00","00:00:00"]
[null,{"$f":"IFERROR(VLOOKUP(A1900,'Banco de Funcionários'!$A$2:$D$1048576,2,0),0)","v":0},null,null,null,null,null,"00:00:00",null,"00:00:00","00:00:00"]
[null,{"$f":"IFERROR(VLOOKUP(A1901,'Banco de Funcionários'!$A$2:$D$1048576,2,0),0)","v":0},null,null,null,null,null,"00:00:00",null,"00:00:00","00:00:00"]
[null,{"$f":"IFERROR(VLOOKUP(A1902,'Banco de Funcionários'!$A$2:$D$1048576,2,0),0)","v":0},null,null,null,null,null,"00:00:00",null,"00:00:00","00:00:00"]
[null,{"$f":"IFERROR(VLOOKUP(A1903,'Banco de Funcionários'!$A$2:$D$1048576,2,0),0)","v":0},null,null,null,null,null,"00:00:00",null,"00:00:00","00:00:00"]
[null,{"$f":"IFERROR(VLOOKUP(A1904,'Banco de Funcionários'!$A$2:$D$1048576,2,0),0)","v":0},null,null,null,null,null,"00:00:00",null,"00:00:00","00:00:00"]
[null,{"$f":"IFERROR(VLOOKUP(A1905,'Banco de Funcionários'!$A$2:$D$1048576,2,0),0)","v":0},null,null,null,null,null,"00:00:00",null,"00:00:00","00:00:00"]
[null,{"$f":"IFERROR(VLOOKUP(A1906,'Banco de Funcionários'!$A$2:$D$1048576,2,0),0)","v":0},null,null,null,null,null,"00:00:00",null,"00:00:00","00:00:00"]
[null,{"$f":"IFERROR(VLOOKUP(A1907,'Banco de Funcionários'!$A$2:$D$1048576,2,0),0)","v":0},null,null,null,null,null,"00:00:00",null,"00:00:00","00:00:00"]
[null,{"$f":"IFERROR(VLOOKUP(A1908,'Banco de Funcionários'!$A$2:$D$1048576,2,0),0)","v":0},null,null,null,null,null,"00:00:00",null,"00:00:00","00:00:00"]
[null,{"$f":"IFERROR(VLOOKUP(A1909,'Banco de Funcionários'!$A$2:$D$1048576,2,0),0)","v":0},null,null,null,null,null,"00:00:00",null,"00:00:00","00:00:00"]
[null,{"$f":"IFERROR(VLOOKUP(A1910,'Banco de Funcionários'!$A$2:$D$1048576,2,0),0)","v":0},null,null,null,null,null,"00:00:00",null,"00:00:00","00:00:00"]
[null,{"$f":"IFERROR(VLOOKUP(A1911,'Banco de Funcionários'!$A$2:$D$1048576,2,0),0)","v":0},null,null,null,null,null,"00:00:00",null,"00:00:00","00:00:00"]
[null,{"$f":"IFERROR(VLOOKUP(A1912,'Banco de Funcionários'!$A$2:$D$1048576,2,0),0)","v":0},null,null,null,null,null,"00:00:00",null,"00:00:00","00:00:00"]
[null,{"$f":"IFERROR(VLOOKUP(A1913,'Banco de Funcionários'!$A$2:$D$1048576,2,0),0)","v":0},null,null,null,null,null,"00:00:00",null,"00:00:00","00:00:00"]
[null,{"$f":"IFERROR(VLOOKUP(A1914,'Banco de Funcionários'!$A$2:$D$1048576,2,0),0)","v":0},null,null,null,null,null,"00:00:00",null,"00:00:00","00:00:00"]
[null,{"$f":"IFERROR(VLOOKUP(A1915,'Banco de Funcionários'!$A$2:$D$1048576,2,0),0)","v":0},null,null,null,null,null,"00:00:00",null,"00:00:00","00:00:00"]
[null,{"$f":"IFERROR(VLOOKUP(A1916,'Banco de Funcionários'!$A$2:$D$1048576,2,0),0)","v":0},null,null,null,null,null,"00:00:00",null,"00:00:00","00:00:00"]
[null,{"$f":"IFERROR(VLOOKUP(A1917,'Banco de Funcionários'!$A$2:$D$1048576,2,0),0)","v":0},null,null,null,null,null,"00:00:00",null,"00:00:00","00:00:00"]
[null,{"$f":"IFERROR(VLOOKUP(A1918,'Banco de Funcionários'!$A$2:$D$1048576,2,0),0)","v":0},null,null,null,null,null,"00:00:00",null,"00:00:00","00:00:00"]
[null,{"$f":"IFERROR(VLOOKUP(A1919,'Banco de Funcionários'!$A$2:$D$1048576,2,0),0)","v":0},null,null,null,null,null,"00:00:00",null,"00:00:00","00:00:00"]
[null,{"$f":"IFERROR(VLOOKUP(A1920,'Banco de Funcionários'!$A$2:$D$1048576,2,0),0)","v":0},null,null,null,null,null,"00:00:00",null,"00:00:00","00:00:00"]
[null,{"$f":"IFERROR(VLOOKUP(A1921,'Banco de Funcionários'!$A$2:$D$1048576,2,0),0)","v":0},null,null,null,null,null,"00:00:00",null,"00:00:00","00:00:00"]
[null,{"$f":"IFERROR(VLOOKUP(A1922,'Banco de Funcionários'!$A$2:$D$1048576,2,0),0)","v":0},null,null,null,null,null,"00:00:00",null,"00:00:00","00:00:00"]
[null,{"$f":"IFERROR(VLOOKUP(A1923,'Banco de Funcionários'!$A$2:$D$1048576,2,0),0)","v":0},null,null,null,null,null,{"$f":"(F1923-E1923)-G1923","v":"00:00:00"},null,{"$f":"IFERROR(H1923-I1923,\"\")","v":"00:00:00"},{"$f":"IFERROR(H1923+J1923,0)","v":"00:00:00"}]
[null,{"$f":"IFERROR(VLOOKUP(A1924,'Banco de Funcionários'!$A$2:$D$1048576,2,0),0)","v":0},null,null,null,null,null,"00:00:00",null,"00:00:00","00:00:00"]
[null,{"$f":"IFERROR(VLOOKUP(A1925,'Banco de Funcionários'!$A$2:$D$1048576,2,0),0)","v":0},null,null,null,null,null,"00:00:00",null,"00:00:00","00:00:00"]
[null,{"$f":"IFERROR(VLOOKUP(A1926,'Banco de Funcionários'!$A$2:$D$1048576,2,0),0)","v":0},null,null,null,null,null,"00:00:00",null,"00:00:00","00:00:00"]
[null,{"$f":"IFERROR(VLOOKUP(A1927,'Banco de Funcionários'!$A$2:$D$1048576,2,0),0)","v":0},null,null,null,null,null,"00:00:00",null,"00:00:00","00:00:00"]
[null,{"$f":"IFERROR(VLOOKUP(A1928,'Banco de Funcionários'!$A$2:$D$1048576,2,0),0)","v":0},null,null,null,null,null,"00:00:00",null,"00:00:00","00:00:00"]
[null,{"$f":"IFERROR(VLOOKUP(A1929,'Banco de Funcionários'!$A$2:$D$1048576,2,0),0)","v":0},null,null,null,null,null,"00:00:00",null,"00:00:00","00:00:00"]
[null,{"$f":"IFERROR(VLOOKUP(A1930,'Banco de Funcionários'!$A$2:$D$1048576,2,0),0)","v":0},null,null,null,null,null,"00:00:00",null,"00:00:00","00:00:00"]
[null,{"$f":"IFERROR(VLOOKUP(A1931,'Banco de Funcionários'!$A$2:$D$1048576,2,0),0)","v":0},null,null,null,null,null,"00:00:00",null,"00:00:00","00:00:00"]
[null,{"$f":"IFERROR(VLOOKUP(A1932,'Banco de Funcionários'!$A$2:$D$1048576,2,0),0)","v":0},null,null,null,null,null,"00:00:00",null,"00:00:00","00:00:00"]
[null,{"$f":"IFERROR(VLOOKUP(A1933,'Banco de Funcionários'!$A$2:$D$1048576,2,0),0)","v":0},null,null,null,null,null,"00:00:00",null,"00:00:00","00:00:00"]
[null,{"$f":"IFERROR(VLOOKUP(A1934,'Banco de Funcionários'!$A$2:$D$1048576,2,0),0)","v":0},null,null,null,null,null,"00:00:00",null,"00:00:00","00:00:00"]
[null,{"$f":"IFERROR(VLOOKUP(A1935,'Banco de Funcionários'!$A$2:$D$1048576,2,0),0)","v":0},null,null,null,null,null,"00:00:00",null,"00:00:00","00:00:00"]
[null,{"$f":"IFERROR(VLOOKUP(A1936,'Banco de Funcionários'!$A$2:$D$1048576,2,0),0)","v":0},null,null,null,null,null,"00:00:00",null,"00:00:00","00:00:00"]
[null,{"$f":"IFERROR(VLOOKUP(A1937,'Banco de Funcionários'!$A$2:$D$1048576,2,0),0)","v":0},null,null,null,null,null,"00:00:00",null,"00:00:00","00:00:00"]
[null,{"$f":"IFERROR(VLOOKUP(A1938,'Banco de Funcionários'!$A$2:$D$1048576,2,0),0)","v":0},null,null,null,null,null,"00:00:00",null,"00:00:00","00:00:00"]
[null,{"$f":"IFERROR(VLOOKUP(A1939,'Banco de Funcionários'!$A$2:$D$1048576,2,0),0)","v":0},null,null,null,null,null,"00:00:00",null,"00:00:00","00:00:00"]
[null,{"$f":"IFERROR(VLOOKUP(A1940,'Banco de Funcionários'!$A$2:$D$1048576,2,0),0)","v":0},null,null,null,null,null,"00:00:00",null,"00:00:00","00:00:00"]
[null,{"$f":"IFERROR(VLOOKUP(A1941,'Banco de Funcionários'!$A$2:$D$1048576,2,0),0)","v":0},null,null,null,null,null,"00:00:00",null,"00:00:00","00:00:00"]
[null,{"$f":"IFERROR(VLOOKUP(A1942,'Banco de Funcionários'!$A$2:$D$1048576,2,0),0)","v":0},null,null,null,null,null,"00:00:00",null,"00:00:00","00:00:00"]
[null,{"$f":"IFERROR(VLOOKUP(A1943,'Banco de Funcionários'!$A$2:$D$1048576,2,0),0)","v":0},null,null,null,null,null,"00:00:00",null,"00:00:00","00:00:00"]
[null,{"$f":"IFERROR(VLOOKUP(A1944,'Banco de Funcionários'!$A$2:$D$1048576,2,0),0)","v":0},null,null,null,null,null,"00:00:00",null,"00:00:00","00:00:00"]
[null,{"$f":"IFERROR(VLOOKUP(A1945,'Banco de Funcionários'!$A$2:$D$1048576,2,0),0)","v":0},null,null,null,null,null,"00:00:00",null,"00:00:00","00:00:00"]
[null,{"$f":"IFERROR(VLOOKUP(A1946,'Banco de Funcionários'!$A$2:$D$1048576,2,0),0)","v":0},null,null,null,null,null,"00:00:00",null,"00:00:00","00:00:00"]
[null,{"$f":"IFERROR(VLOOKUP(A1947,'Banco de Funcionários'!$A$2:$D$1048576,2,0),0)","v":0},null,null,null,null,null,"00:00:00",null,"00:00:00","00:00:00"]
[null,{"$f":"IFERROR(VLOOKUP(A1948,'Banco de Funcionários'!$A$2:$D$1048576,2,0),0)","v":0},null,null,null,null,null,"00:00:00",null,"00:00:00","00:00:00"]
[null,{"$f":"IFERROR(VLOOKUP(A1949,'Banco de Funcionários'!$A$2:$D$1048576,2,0),0)","v":0},null,null,null,null,null,"00:00:00",null,"00:00:00","00:00:00"]
[null,{"$f":"IFERROR(VLOOKUP(A1950,'Banco de Funcionários'!$A$2:$D$1048576,2,0),0)","v":0},null,null,null,null,null,"00:00:00",null,"00:00:00","00:00:00"]
[null,{"$f":"IFERROR(VLOOKUP(A1951,'Banco de Funcionários'!$A$2:$D$1048576,2,0),0)","v":0},null,null,null,null,null,"00:00:00",null,"00:00:00","00:00:00"]
[null,{"$f":"IFERROR(VLOOKUP(A1952,'Banco de Funcionários'!$A$2:$D$1048576,2,0),0)","v":0},null,null,null,null,null,"00:00:00",null,"00:00:00","00:00:00"]
[null,{"$f":"IFERROR(VLOOKUP(A1953,'Banco de Funcionários'!$A$2:$D$1048576,2,0),0)","v":0},null,null,null,null,null,"00:00:00",null,"00:00:00","00:00:00"]
[null,{"$f":"IFERROR(VLOOKUP(A1954,'Banco de Funcionários'!$A$2:$D$1048576,2,0),0)","v":0},null,null,null,null,null,"00:00:00",null,"00:00:00","00:00:00"]
[null,{"$f":"IFERROR(VLOOKUP(A1955,'Banco de Funcionários'!$A$2:$D$1048576,2,0),0)","v":0},null,null,null,null,null,"00:00:00",null,"00:00:00","00:00:00"]
[null,{"$f":"IFERROR(VLOOKUP(A1956,'Banco de Funcionários'!$A$2:$D$1048576,2,0),0)","v":0},null,null,null,null,null,"00:00:00",null,"00:00:00","00:00:00"]
[null,{"$f":"IFERROR(VLOOKUP(A1957,'Banco de Funcionários'!$A$2:$D$1048576,2,0),0)","v":0},null,null,null,null,null,"00:00:00",null,"00:00:00","00:00:00"]
[null,{"$f":"IFERROR(VLOOKUP(A1958,'Banco de Funcionários'!$A$2:$D$1048576,2,0),0)","v":0},null,null,null,null,null,"00:00:00",null,"00:00:00","00:00:00"]
[null,{"$f":"IFERROR(VLOOKUP(A1959,'Banco de Funcionários'!$A$2:$D$1048576,2,0),0)","v":0},null,null,null,null,null,"00:00:00",null,"00:00:00","00:00:00"]
[null,{"$f":"IFERROR(VLOOKUP(A1960,'Banco de Funcionários'!$A$2:$D$1048576,2,0),0)","v":0},null,null,null,null,null,"00:00:00",null,"00:00:00","00:00:00"]
[null,{"$f":"IFERROR(VLOOKUP(A1961,'Banco de Funcionários'!$A$2:$D$1048576,2,0),0)","v":0},null,null,null,null,null,"00:00:00",null,"00:00:00","00:00:00"]
[null,{"$f":"IFERROR(VLOOKUP(A1962,'Banco de Funcionários'!$A$2:$D$1048576,2,0),0)","v":0},null,null,null,null,null,"00:00:00",null,"00:00:00","00:00:00"]
[null,{"$f":"IFERROR(VLOOKUP(A1963,'Banco de Funcionários'!$A$2:$D$1048576,2,0),0)","v":0},null,null,null,null,null,"00:00:00",null,"00:00:00","00:00:00"]
[null,{"$f":"IFERROR(VLOOKUP(A1964,'Banco de Funcionários'!$A$2:$D$1048576,2,0),0)","v":0},null,null,null,null,null,"00:00:00",null,"00:00:00","00:00:00"]
[null,{"$f":"IFERROR(VLOOKUP(A1965,'Banco de Funcionários'!$A$2:$D$1048576,2,0),0)","v":0},null,null,null,null,null,"00:00:00",null,"00:00:00","00:00:00"]
[null,{"$f":"IFERROR(VLOOKUP(A1966,'Banco de Funcionários'!$A$2:$D$1048576,2,0),0)","v":0},null,null,null,null,null,"00:00:00",null,"00:00:00","00:00:00"]
[null,{"$f":"IFERROR(VLOOKUP(A1967,'Banco de Funcionários'!$A$2:$D$1048576,2,0),0)","v":0},null,null,null,null,null,"00:00:00",null,"00:00:00","00:00:00"]
[null,{"$f":"IFERROR(VLOOKUP(A1968,'Banco de Funcionários'!$A$2:$D$1048576,2,0),0)","v":0},null,null,null,null,null,"00:00:00",null,"00:00:00","00:00:00"]
[null,{"$f":"IFERROR(VLOOKUP(A1969,'Banco de Funcionários'!$A$2:$D$1048576,2,0),0)","v":0},null,null,null,null,null,"00:00:00",null,"00:00:00","00:00:00"]
[null,{"$f":"IFERROR(VLOOKUP(A1970,'Banco de Funcionários'!$A$2:$D$1048576,2,0),0)","v":0},null,null,null,null,null,"00:00:00",null,"00:00:00","00:00:00"]
[null,{"$f":"IFERROR(VLOOKUP(A1971,'Banco de Funcionários'!$A$2:$D$1048576,2,0),0)","v":0},null,null,null,null,null,"00:00:00",null,"00:00:00","00:00:00"]
[null,{"$f":"IFERROR(VLOOKUP(A1972,'Banco de Funcionários'!$A$2:$D$1048576,2,0),0)","v":0},null,null,null,null,null,"00:00:00",null,"00:00:00","00:00:00"]
[null,{"$f":"IFERROR(VLOOKUP(A1973,'Banco de Funcionários'!$A$2:$D$1048576,2,0),0)","v":0},null,null,null,null,null,"00:00:00",null,"00:00:00","00:00:00"]
[null,{"$f":"IFERROR(VLOOKUP(A1974,'Banco de Funcionários'!$A$2:$D$1048576,2,0),0)","v":0},null,null,null,null,null,"00:00:00",null,"00:00:00","00:00:00"]
[null,{"$f":"IFERROR(VLOOKUP(A1975,'Banco de Funcionários'!$A$2:$D$1048576,2,0),0)","v":0},null,null,null,null,null,"00:00:00",null,"00:00:00","00:00:00"]
[null,{"$f":"IFERROR(VLOOKUP(A1976,'Banco de Funcionários'!$A$2:$D$1048576,2,0),0)","v":0},null,null,null,null,null,"00:00:00",null,"00:00:00","00:00:00"]
[null,{"$f":"IFERROR(VLOOKUP(A1977,'Banco de Funcionários'!$A$2:$D$1048576,2,0),0)","v":0},null,null,null,null,null,"00:00:00",null,"00:00:00","00:00:00"]
[null,{"$f":"IFERROR(VLOOKUP(A1978,'Banco de Funcionários'!$A$2:$D$1048576,2,0),0)","v":0},null,null,null,null,null,"00:00:00",null,"00:00:00","00:00:00"]
[null,{"$f":"IFERROR(VLOOKUP(A1979,'Banco de Funcionários'!$A$2:$D$1048576,2,0),0)","v":0},null,null,null,null,null,"00:00:00",null,"00:00:00","00:00:00"]
[null,{"$f":"IFERROR(VLOOKUP(A1980,'Banco de Funcionários'!$A$2:$D$1048576,2,0),0)","v":0},null,null,null,null,null,"00:00:00",null,"00:00:00","00:00:00"]
[null,{"$f":"IFERROR(VLOOKUP(A1981,'Banco de Funcionários'!$A$2:$D$1048576,2,0),0)","v":0},null,null,null,null,null,"00:00:00",null,"00:00:00","00:00:00"]
[null,{"$f":"IFERROR(VLOOKUP(A1982,'Banco de Funcionários'!$A$2:$D$1048576,2,0),0)","v":0},null,null,null,null,null,"00:00:00",null,"00:00:00","00:00:00"]
[null,{"$f":"IFERROR(VLOOKUP(A1983,'Banco de Funcionários'!$A$2:$D$1048576,2,0),0)","v":0},null,null,null,null,null,"00:00:00",null,"00:00:00","00:00:00"]
[null,{"$f":"IFERROR(VLOOKUP(A1984,'Banco de Funcionários'!$A$2:$D$1048576,2,0),0)","v":0},null,null,null,null,null,"00:00:00",null,"00:00:00","00:00:00"]
[null,{"$f":"IFERROR(VLOOKUP(A1985,'Banco de Funcionários'!$A$2:$D$1048576,2,0),0)","v":0},null,null,null,null,null,"00:00:00",null,"00:00:00","00:00:00"]
[null,{"$f":"IFERROR(VLOOKUP(A1986,'Banco de Funcionários'!$A$2:$D$1048576,2,0),0)","v":0},null,null,null,null,null,"00:00:00",null,"00:00:00","00:00:00"]
[null,{"$f":"IFERROR(VLOOKUP(A1987,'Banco de Funcionários'!$A$2:$D$1048576,2,0),0)","v":0},null,null,null,null,null,{"$f":"(F1987-E1987)-G1987","v":"00:00:00"},null,{"$f":"IFERROR(H1987-I1987,\"\")","v":"00:00:00"},{"$f":"IFERROR(H1987+J1987,0)","v":"00:00:00"}]
[null,{"$f":"IFERROR(VLOOKUP(A1988,'Banco de Funcionários'!$A$2:$D$1048576,2,0),0)","v":0},null,null,null,null,null,"00:00:00",null,"00:00:00","00:00:00"]
[null,{"$f":"IFERROR(VLOOKUP(A1989,'Banco de Funcionários'!$A$2:$D$1048576,2,0),0)","v":0},null,null,null,null,null,"00:00:00",null,"00:00:00","00:00:00"]
[null,{"$f":"IFERROR(VLOOKUP(A1990,'Banco de Funcionários'!$A$2:$D$1048576,2,0),0)","v":0},null,null,null,null,null,"00:00:00",null,"00:00:00","00:00:00"]
[null,{"$f":"IFERROR(VLOOKUP(A1991,'Banco de Funcionários'!$A$2:$D$1048576,2,0),0)","v":0},null,null,null,null,null,"00:00:00",null,"00:00:00","00:00:00"]
[null,{"$f":"IFERROR(VLOOKUP(A1992,'Banco de Funcionários'!$A$2:$D$1048576,2,0),0)","v":0},null,null,null,null,null,"00:00:00",null,"00:00:00","00:00:00"]
[null,{"$f":"IFERROR(VLOOKUP(A1993,'Banco de Funcionários'!$A$2:$D$1048576,2,0),0)","v":0},null,null,null,null,null,"00:00:00",null,"00:00:00","00:00:00"]
[null,{"$f":"IFERROR(VLOOKUP(A1994,'Banco de Funcionários'!$A$2:$D$1048576,2,0),0)","v":0},null,null,null,null,null,"00:00:00",null,"00:00:00","00:00:00"]
[null,{"$f":"IFERROR(VLOOKUP(A1995,'Banco de Funcionários'!$A$2:$D$1048576,2,0),0)","v":0},null,null,null,null,null,"00:00:00",null,"00:00:00","00:00:00"]
[null,{"$f":"IFERROR(VLOOKUP(A1996,'Banco de Funcionários'!$A$2:$D$1048576,2,0),0)","v":0},null,null,null,null,null,"00:00:00",null,"00:00:00","00:00:00"]
[null,{"$f":"IFERROR(VLOOKUP(A1997,'Banco de Funcionários'!$A$2:$D$1048576,2,0),0)","v":0},null,null,null,null,null,"00:00:00",null,"00:00:00","00:00:00"]
[null,{"$f":"IFERROR(VLOOKUP(A1998,'Banco de Funcionários'!$A$2:$D$1048576,2,0),0)","v":0},null,null,null,null,null,"00:00:00",null,"00:00:00","00:00:00"]
[null,{"$f":"IFERROR(VLOOKUP(A1999,'Banco de Funcionários'!$A$2:$D$1048576,2,0),0)","v":0},null,null,null,null,null,"00:00:00",null,"00:00:00","00:00:00"]
[null,{"$f":"IFERROR(VLOOKUP(A2000,'Banco de Funcionários'!$A$2:$D$1048576,2,0),0)","v":0},null,null,null,null,null,"00:00:00",null,"00:00:00","00:00:00"]
[null,{"$f":"IFERROR(VLOOKUP(A2002,'Banco de Funcionários'!$A$2:$D$1048576,2,0),0)","v":0},null,null,null,null,null,"00:00:00",null,"00:00:00","00:00:00"]
[null,{"$f":"IFERROR(VLOOKUP(A2006,'Banco de Funcionários'!$A$2:$D$1048576,2,0),0)","v":0},null,null,null,null,null,"00:00:00",null,"00:00:00","00:00:00"]
[null,{"$f":"IFERROR(VLOOKUP(A2011,'Banco de Funcionários'!$A$2:$D$1048576,2,0),0)","v":0},null,null,null,null,null,"00:00:00",null,"00:00:00","00:00:00"]
[null,{"$f":"IFERROR(VLOOKUP(A2017,'Banco de Funcionários'!$A$2:$D$1048576,2,0),0)","v":0},null,null,null,null,null,"00:00:00",null,"00:00:00","00:00:00"]
[null,{"$f":"IFERROR(VLOOKUP(A2022,'Banco de Funcionários'!$A$2:$D$1048576,2,0),0)","v":0},null,null,null,null,null,"00:00:00",null,"00:00:00","00:00:00"]
[null,{"$f":"IFERROR(VLOOKUP(A2027,'Banco de Funcionários'!$A$2:$D$1048576,2,0),0)","v":0},null,null,null,null,null,"00:00:00",null,"00:00:00","00:00:00"]
[null,{"$f":"IFERROR(VLOOKUP(A2033,'Banco de Funcionários'!$A$2:$D$1048576,2,0),0)","v":0},null,null,null,null,null,"00:00:00",null,"00:00:00","00:00:00"]
[null,{"$f":"IFERROR(VLOOKUP(A2038,'Banco de Funcionários'!$A$2:$D$1048576,2,0),0)","v":0},null,null,null,null,null,"00:00:00",null,"00:00:00","00:00:00"]
[null,{"$f":"IFERROR(VLOOKUP(A2044,'Banco de Funcionários'!$A$2:$D$1048576,2,0),0)","v":0},null,null,null,null,null,"00:00:00",null,"00:00:00","00:00:00"]
[null,{"$f":"IFERROR(VLOOKUP(A2049,'Banco de Funcionários'!$A$2:$D$1048576,2,0),0)","v":0},null,null,null,null,null,"00:00:00",null,"00:00:00","00:00:00"]
[null,{"$f":"IFERROR(VLOOKUP(A2054,'Banco de Funcionários'!$A$2:$D$1048576,2,0),0)","v":0},null,null,null,null,null,"00:00:00",null,"00:00:00","00:00:00"]
[null,{"$f":"IFERROR(VLOOKUP(A2055,'Banco de Funcionários'!$A$2:$D$1048576,2,0),0)","v":0},null,null,null,null,null,"00:00:00",null,"00:00:00","00:00:00"]
[null,{"$f":"IFERROR(VLOOKUP(A2060,'Banco de Funcionários'!$A$2:$D$1048576,2,0),0)","v":0},null,null,null,null,null,"00:00:00",null,"00:00:00","00:00:00"]
[null,{"$f":"IFERROR(VLOOKUP(A2065,'Banco de Funcionários'!$A$2:$D$1048576,2,0),0)","v":0},null,null,null,null,null,"00:00:00",null,"00:00:00","00:00:00"]
[null,{"$f":"IFERROR(VLOOKUP(A2071,'Banco de Funcionários'!$A$2:$D$1048576,2,0),0)","v":0},null,null,null,null,null,"00:00:00",null,"00:00:00","00:00:00"]
[null,{"$f":"IFERROR(VLOOKUP(A2076,'Banco de Funcionários'!$A$2:$D$1048576,2,0),0)","v":0},null,null,null,null,null,"00:00:00",null,"00:00:00","00:00:00"]
[null,{"$f":"IFERROR(VLOOKUP(A2082,'Banco de Funcionários'!$A$2:$D$1048576,2,0),0)","v":0},null,null,null,null,null,"00:00:00",null,"00:00:00","00:00:00"]
[null,{"$f":"IFERROR(VLOOKUP(A2087,'Banco de Funcionários'!$A$2:$D$1048576,2,0),0)","v":0},null,null,null,null,null,"00:00:00",null,"00:00:00","00:00:00"]
[null,{"$f":"IFERROR(VLOOKUP(A2092,'Banco de Funcionários'!$A$2:$D$1048576,2,0),0)","v":0},null,null,null,null,null,"00:00:00",null,"00:00:00","00:00:00"]
[null,{"$f":"IFERROR(VLOOKUP(A2098,'Banco de Funcionários'!$A$2:$D$1048576,2,0),0)","v":0},null,null,null,null,null,"00:00:00",null,"00:00:00","00:00:00"]
[null,{"$f":"IFERROR(VLOOKUP(A2103,'Banco de Funcionários'!$A$2:$D$1048576,2,0),0)","v":0},null,null,null,null,null,"00:00:00",null,"00:00:00","00:00:00"]
[null,{"$f":"IFERROR(VLOOKUP(A2109,'Banco de Funcionários'!$A$2:$D$1048576,2,0),0)","v":0},null,null,null,null,null,"00:00:00",null,"00:00:00","00:00:00"]
[null,{"$f":"IFERROR(VLOOKUP(A2113,'Banco de Funcionários'!$A$2:$D$1048576,2,0),0)","v":0},null,null,null,null,null,"00:00:00",null,"00:00:00","00:00:00"]
[null,{"$f":"IFERROR(VLOOKUP(A2118,'Banco de Funcionários'!$A$2:$D$1048576,2,0),0)","v":0},null,null,null,null,null,"00:00:00",null,"00:00:00","00:00:00"]
[null,{"$f":"IFERROR(VLOOKUP(A2119,'Banco de Funcionários'!$A$2:$D$1048576,2,0),0)","v":0},null,null,null,null,null,"00:00:00",null,"00:00:00","00:00:00"]
[null,{"$f":"IFERROR(VLOOKUP(A2124,'Banco de Funcionários'!$A$2:$D$1048576,2,0),0)","v":0},null,null,null,null,null,"00:00:00",null,"00:00:00","00:00:00"]
[null,{"$f":"IFERROR(VLOOKUP(A2129,'Banco de Funcionários'!$A$2:$D$1048576,2,0),0)","v":0},null,null,null,null,null,"00:00:00",null,"00:00:00","00:00:00"]
[null,{"$f":"IFERROR(VLOOKUP(A2135,'Banco de Funcionários'!$A$2:$D$1048576,2,0),0)","v":0},null,null,null,null,null,"00:00:00",null,"00:00:00","00:00:00"]
[null,{"$f":"IFERROR(VLOOKUP(A2140,'Banco de Funcionários'!$A$2:$D$1048576,2,0),0)","v":0},null,null,null,null,null,"00:00:00",null,"00:00:00","00:00:00"]
[null,{"$f":"IFERROR(VLOOKUP(A2146,'Banco de Funcionários'!$A$2:$D$1048576,2,0),0)","v":0},null,null,null,null,null,"00:00:00",null,"00:00:00","00:00:00"]
[null,{"$f":"IFERROR(VLOOKUP(A2151,'Banco de Funcionários'!$A$2:$D$1048576,2,0),0)","v":0},null,null,null,null,null,"00:00:00",null,"00:00:00","00:00:00"]
[null,{"$f":"IFERROR(VLOOKUP(A2156,'Banco de Funcionários'!$A$2:$D$1048576,2,0),0)","v":0},null,null,null,null,null,"00:00:00",null,"00:00:00","00:00:00"]
[null,{"$f":"IFERROR(VLOOKUP(A2162,'Banco de Funcionários'!$A$2:$D$1048576,2,0),0)","v":0},null,null,null,null,null,"00:00:00",null,"00:00:00","00:00:00"]
[null,{"$f":"IFERROR(VLOOKUP(A2167,'Banco de Funcionários'!$A$2:$D$1048576,2,0),0)","v":0},null,null,null,null,null,"00:00:00",null,"00:00:00","00:00:00"]
[null,{"$f":"IFERROR(VLOOKUP(A2172,'Banco de Funcionários'!$A$2:$D$1048576,2,0),0)","v":0},null,null,null,null,null,"00:00:00",null,"00:00:00","00:00:00"]
[null,{"$f":"IFERROR(VLOOKUP(A2178,'Banco de Funcionários'!$A$2:$D$1048576,2,0),0)","v":0},null,null,null,null,null,"00:00:00",null,"00:00:00","00:00:00"]
[null,{"$f":"IFERROR(VLOOKUP(A2183,'Banco de Funcionários'!$A$2:$D$1048576,2,0),0)","v":0},null,null,null,null,null,"00:00:00",null,"00:00:00","00:00:00"]
[null,{"$f":"IFERROR(VLOOKUP(A2184,'Banco de Funcionários'!$A$2:$D$1048576,2,0),0)","v":0},null,null,null,null,null,"00:00:00",null,"00:00:00","00:00:00"]
[null,{"$f":"IFERROR(VLOOKUP(A2189,'Banco de Funcionários'!$A$2:$D$1048576,2,0),0)","v":0},null,null,null,null,null,"00:00:00",null,"00:00:00","00:00:00"]
[null,{"$f":"IFERROR(VLOOKUP(A2194,'Banco de Funcionários'!$A$2:$D$1048576,2,0),0)","v":0},null,null,null,null,null,"00:00:00",null,"00:00:00","00:00:00"]
[null,{"$f":"IFERROR(VLOOKUP(A2200,'Banco de Funcionários'!$A$2:$D$1048576,2,0),0)","v":0},null,null,null,null,null,"00:00:00",null,"00:00:00","00:00:00"]
[null,{"$f":"IFERROR(VLOOKUP(A2205,'Banco de Funcionários'!$A$2:$D$1048576,2,0),0)","v":0},null,null,null,null,null,"00:00:00",null,"00:00:00","00:00:00"]
[null,{"$f":"IFERROR(VLOOKUP(A2211,'Banco de Funcionários'!$A$2:$D$1048576,2,0),0)","v":0},null,null,null,null,null,"00:00:00",null,"00:00:00","00:00:00"]
[null,{"$f":"IFERROR(VLOOKUP(A2216,'Banco de Funcionários'!$A$2:$D$1048576,2,0),0)","v":0},null,null,null,null,null,"00:00:00",null,"00:00:00","00:00:00"]
[null,{"$f":"IFERROR(VLOOKUP(A2220,'Banco de Funcionários'!$A$2:$D$1048576,2,0),0)","v":0},null,null,null,null,null,"00:00:00",null,"00:00:00","00:00:00"]
[null,{"$f":"IFERROR(VLOOKUP(A2226,'Banco de Funcionários'!$A$2:$D$1048576,2,0),0)","v":0},null,null,null,null,null,"00:00:00",null,"00:00:00","00:00:00"]
[null,{"$f":"IFERROR(VLOOKUP(A2231,'Banco de Funcionários'!$A$2:$D$1048576,2,0),0)","v":0},null,null,null,null,null,"00:00:00",null,"00:00:00","00:00:00"]
[null,{"$f":"IFERROR(VLOOKUP(A2236,'Banco de Funcionários'!$A$2:$D$1048576,2,0),0)","v":0},null,null,null,null,null,"00:00:00",null,"00:00:00","00:00:00"]
[null,{"$f":"IFERROR(VLOOKUP(A2242,'Banco de Funcionários'!$A$2:$D$1048576,2,0),0)","v":0},null,null,null,null,null,"00:00:00",null,"00:00:00","00:00:00"]
[null,{"$f":"IFERROR(VLOOKUP(A2247,'Banco de Funcionários'!$A$2:$D$1048576,2,0),0)","v":0},null,null,null,null,null,"00:00:00",null,"00:00:00","00:00:00"]
[null,{"$f":"IFERROR(VLOOKUP(A2248,'Banco de Funcionários'!$A$2:$D$1048576,2,0),0)","v":0},null,null,null,null,null,"00:00:00",null,"00:00:00","00:00:00"]
[null,{"$f":"IFERROR(VLOOKUP(A2253,'Banco de Funcionários'!$A$2:$D$1048576,2,0),0)","v":0},null,null,null,null,null,"00:00:00",null,"00:00:00","00:00:00"]
[null,{"$f":"IFERROR(VLOOKUP(A2258,'Banco de Funcionários'!$A$2:$D$1048576,2,0),0)","v":0},null,null,null,null,null,"00:00:00",null,"00:00:00","00:00:00"]
[null,{"$f":"IFERROR(VLOOKUP(A2264,'Banco de Funcionários'!$A$2:$D$1048576,2,0),0)","v":0},null,null,null,null,null,"00:00:00",null,"00:00:00","00:00:00"]
[null,{"$f":"IFERROR(VLOOKUP(A2269,'Banco de Funcionários'!$A$2:$D$1048576,2,0),0)","v":0},null,null,null,null,null,"00:00:00",null,"00:00:00","00:00:00"]
[null,{"$f":"IFERROR(VLOOKUP(A2275,'Banco de Funcionários'!$A$2:$D$1048576,2,0),0)","v":0},null,null,null,null,null,"00:00:00",null,"00:00:00","00:00:00"]
[null,{"$f":"IFERROR(VLOOKUP(A2280,'Banco de Funcionários'!$A$2:$D$1048576,2,0),0)","v":0},null,null,null,null,null,"00:00:00",null,"00:00:00","00:00:00"]
[null,{"$f":"IFERROR(VLOOKUP(A2285,'Banco de Funcionários'!$A$2:$D$1048576,2,0),0)","v":0},null,null,null,null,null,"00:00:00",null,"00:00:00","00:00:00"]
[null,{"$f":"IFERROR(VLOOKUP(A2291,'Banco de Funcionários'!$A$2:$D$1048576,2,0),0)","v":0},null,null,null,null,null,"00:00:00",null,"00:00:00","00:00:00"]
[null,{"$f":"IFERROR(VLOOKUP(A2296,'Banco de Funcionários'!$A$2:$D$1048576,2,0),0)","v":0},null,null,null,null,null,"00:00:00",null,"00:00:00","00:00:00"]
[null,{"$f":"IFERROR(VLOOKUP(A2301,'Banco de Funcionários'!$A$2:$D$1048576,2,0),0)","v":0},null,null,null,null,null,"00:00:00",null,"00:00:00","00:00:00"]
[null,{"$f":"IFERROR(VLOOKUP(A2307,'Banco de Funcionários'!$A$2:$D$1048576,2,0),0)","v":0},null,null,null,null,null,{"$f":"(F2307-E2307)-G2307","v":"00:00:00"},null,{"$f":"IFERROR(H2307-I2307,\"\")","v":"00:00:00"},{"$f":"IFERROR(H2307+J2307,0)","v":"00:00:00"}]
[null,{"$f":"IFERROR(VLOOKUP(A2312,'Banco de Funcionários'!$A$2:$D$1048576,2,0),0)","v":0},null,null,null,null,null,"00:00:00",null,"00:00:00","00:00:00"]
[null,{"$f":"IFERROR(VLOOKUP(A2313,'Banco de Funcionários'!$A$2:$D$1048576,2,0),0)","v":0},null,null,null,null,null,"00:00:00",null,"00:00:00","00:00:00"]
[null,{"$f":"IFERROR(VLOOKUP(A2318,'Banco de Funcionários'!$A$2:$D$1048576,2,0),0)","v":0},null,null,null,null,null,"00:00:00",null,"00:00:00","00:00:00"]
[null,{"$f":"IFERROR(VLOOKUP(A2323,'Banco de Funcionários'!$A$2:$D$1048576,2,0),0)","v":0},null,null,null,null,null,"00:00:00",null,"00:00:00","00:00:00"]
[null,{"$f":"IFERROR(VLOOKUP(A2329,'Banco de Funcionários'!$A$2:$D$1048576,2,0),0)","v":0},null,null,null,null,null,"00:00:00",null,"00:00:00","00:00:00"]
[null,{"$f":"IFERROR(VLOOKUP(A2333,'Banco de Funcionários'!$A$2:$D$1048576,2,0),0)","v":0},null,null,null,null,null,"00:00:00",null,"00:00:00","00:00:00"]
[null,{"$f":"IFERROR(VLOOKUP(A2338,'Banco de Funcionários'!$A$2:$D$1048576,2,0),0)","v":0},null,null,null,null,null,"00:00:00",null,"00:00:00","00:00:00"]
[null,{"$f":"IFERROR(VLOOKUP(A2344,'Banco de Funcionários'!$A$2:$D$1048576,2,0),0)","v":0},null,null,null,null,null,"00:00:00",null,"00:00:00","00:00:00"]
[null,{"$f":"IFERROR(VLOOKUP(A2349,'Banco de Funcionários'!$A$2:$D$1048576,2,0),0)","v":0},null,null,null,null,null,"00:00:00",null,"00:00:00","00:00:00"]
[null,{"$f":"IFERROR(VLOOKUP(A2355,'Banco de Funcionários'!$A$2:$D$1048576,2,0),0)","v":0},null,null,null,null,null,"00:00:00",null,"00:00:00","00:00:00"]
[null,{"$f":"IFERROR(VLOOKUP(A2360,'Banco de Funcionários'!$A$2:$D$1048576,2,0),0)","v":0},null,null,null,null,null,"00:00:00",null,"00:00:00","00:00:00"]
[null,{"$f":"IFERROR(VLOOKUP(A2365,'Banco de Funcionários'!$A$2:$D$1048576,2,0),0)","v":0},null,null,null,null,null,"00:00:00",null,"00:00:00","00:00:00"]
[null,{"$f":"IFERROR(VLOOKUP(A2371,'Banco de Funcionários'!$A$2:$D$1048576,2,0),0)","v":0},null,null,null,null,null,{"$f":"(F2371-E2371)-G2371","v":"00:00:00"},null,{"$f":"IFERROR(H2371-I2371,\"\")","v":"00:00:00"},{"$f":"IFERROR(H2371+J2371,0)","v":"00:00:00"}]
[null,{"$f":"IFERROR(VLOOKUP(A2376,'Banco de Funcionários'!$A$2:$D$1048576,2,0),0)","v":0},null,null,null,null,null,"00:00:00",null,"00:00:00","00:00:00"]
[null,{"$f":"IFERROR(VLOOKUP(A2377,'Banco de Funcionários'!$A$2:$D$1048576,2,0),0)","v":0},null,null,null,null,null,"00:00:00",null,"00:00:00","00:00:00"]
[null,{"$f":"IFERROR(VLOOKUP(A2382,'Banco de Funcionários'!$A$2:$D$1048576,2,0),0)","v":0},null,null,null,null,null,"00:00:00",null,"00:00:00","00:00:00"]
[null,{"$f":"IFERROR(VLOOKUP(A2387,'Banco de Funcionários'!$A$2:$D$1048576,2,0),0)","v":0},null,null,null,null,null,"00:00:00",null,"00:00:00","00:00:00"]
[null,{"$f":"IFERROR(VLOOKUP(A2393,'Banco de Funcionários'!$A$2:$D$1048576,2,0),0)","v":0},null,null,null,null,null,"00:00:00",null,"00:00:00","00:00:00"]
[null,{"$f":"IFERROR(VLOOKUP(A2398,'Banco de Funcionários'!$A$2:$D$1048576,2,0),0)","v":0},null,null,null,null,null,"00:00:00",null,"00:00:00","00:00:00"]
[null,{"$f":"IFERROR(VLOOKUP(A2403,'Banco de Funcionários'!$A$2:$D$1048576,2,0),0)","v":0},null,null,null,null,null,"00:00:00",null,"00:00:00","00:00:00"]
[null,{"$f":"IFERROR(VLOOKUP(A2409,'Banco de Funcionários'!$A$2:$D$1048576,2,0),0)","v":0},null,null,null,null,null,"00:00:00",null,"00:00:00","00:00:00"]
[null,{"$f":"IFERROR(VLOOKUP(A2414,'Banco de Funcionários'!$A$2:$D$1048576,2,0),0)","v":0},null,null,null,null,null,"00:00:00",null,"00:00:00","00:00:00"]
[null,{"$f":"IFERROR(VLOOKUP(A2420,'Banco de Funcionários'!$A$2:$D$1048576,2,0),0)","v":0},null,null,null,null,null,"00:00:00",null,"00:00:00","00:00:00"]
[null,{"$f":"IFERROR(VLOOKUP(A2425,'Banco de Funcionários'!$A$2:$D$1048576,2,0),0)","v":0},null,null,null,null,null,"00:00:00",null,"00:00:00","00:00:00"]
[null,{"$f":"IFERROR(VLOOKUP(A2430,'Banco de Funcionários'!$A$2:$D$1048576,2,0),0)","v":0},null,null,null,null,null,"00:00:00",null,"00:00:00","00:00:00"]
[null,{"$f":"IFERROR(VLOOKUP(A2436,'Banco de Funcionários'!$A$2:$D$1048576,2,0),0)","v":0},null,null,null,null,null,"00:00:00",null,"00:00:00","00:00:00"]
[null,{"$f":"IFERROR(VLOOKUP(A2441,'Banco de Funcionários'!$A$2:$D$1048576,2,0),0)","v":0},null,null,null,null,null,"00:00:00",null,"00:00:00","00:00:00"]
[null,{"$f":"IFERROR(VLOOKUP(A2444,'Banco de Funcionários'!$A$2:$D$1048576,2,0),0)","v":0},null,null,null,null,null,"00:00:00",null,"00:00:00","00:00:00"]
[null,{"$f":"IFERROR(VLOOKUP(A2446,'Banco de Funcionários'!$A$2:$D$1048576,2,0),0)","v":0},null,null,null,null,null,"00:00:00",null,"00:00:00","00:00:00"]
[null,{"$f":"IFERROR(VLOOKUP(A2451,'Banco de Funcionários'!$A$2:$D$1048576,2,0),0)","v":0},null,null,null,null,null,"00:00:00",null,"00:00:00","00:00:00"]
[null,{"$f":"IFERROR(VLOOKUP(A2457,'Banco de Funcionários'!$A$2:$D$1048576,2,0),0)","v":0},null,null,null,null,null,"00:00:00",null,"00:00:00","00:00:00"]
[null,{"$f":"IFERROR(VLOOKUP(A2462,'Banco de Funcionários'!$A$2:$D$1048576,2,0),0)","v":0},null,null,null,null,null,"00:00:00",null,"00:00:00","00:00:00"]
[null,{"$f":"IFERROR(VLOOKUP(A2467,'Banco de Funcionários'!$A$2:$D$1048576,2,0),0)","v":0},null,null,null,null,null,"00:00:00",null,"00:00:00","00:00:00"]
[null,{"$f":"IFERROR(VLOOKUP(A2473,'Banco de Funcionários'!$A$2:$D$1048576,2,0),0)","v":0},null,null,null,null,null,"00:00:00",null,"00:00:00","00:00:00"]
[null,{"$f":"IFERROR(VLOOKUP(A2478,'Banco de Funcionários'!$A$2:$D$1048576,2,0),0)","v":0},null,null,null,null,null,"00:00:00",null,"00:00:00","00:00:00"]
[null,{"$f":"IFERROR(VLOOKUP(A2484,'Banco de Funcionários'!$A$2:$D$1048576,2,0),0)","v":0},null,null,null,null,null,"00:00:00",null,"00:00:00","00:00:00"]
[null,{"$f":"IFERROR(VLOOKUP(A2489,'Banco de Funcionários'!$A$2:$D$1048576,2,0),0)","v":0},null,null,null,null,null,"00:00:00",null,"00:00:00","00:00:00"]
[null,{"$f":"IFERROR(VLOOKUP(A2494,'Banco de Funcionários'!$A$2:$D$1048576,2,0),0)","v":0},null,null,null,null,null,"00:00:00",null,"00:00:00","00:00:00"]
[null,{"$f":"IFERROR(VLOOKUP(A2500,'Banco de Funcionários'!$A$2:$D$1048576,2,0),0)","v":0},null,null,null,null,null,"00:00:00",null,"00:00:00","00:00:00"]
[null,{"$f":"IFERROR(VLOOKUP(A2505,'Banco de Funcionários'!$A$2:$D$1048576,2,0),0)","v":0},null,null,null,null,null,"00:00:00",null,"00:00:00","00:00:00"]
[null,{"$f":"IFERROR(VLOOKUP(A2510,'Banco de Funcionários'!$A$2:$D$1048576,2,0),0)","v":0},null,null,null,null,null,"00:00:00",null,"00:00:00","00:00:00"]
[null,{"$f":"IFERROR(VLOOKUP(A2511,'Banco de Funcionários'!$A$2:$D$1048576,2,0),0)","v":0},null,null,null,null,null,"00:00:00",null,"00:00:00","00:00:00"]
[null,{"$f":"IFERROR(VLOOKUP(A2516,'Banco de Funcionários'!$A$2:$D$1048576,2,0),0)","v":0},null,null,null,null,null,"00:00:00",null,"00:00:00","00:00:00"]
[null,{"$f":"IFERROR(VLOOKUP(A2522,'Banco de Funcionários'!$A$2:$D$1048576,2,0),0)","v":0},null,null,null,null,null,"00:00:00",null,"00:00:00","00:00:00"]
[null,{"$f":"IFERROR(VLOOKUP(A2527,'Banco de Funcionários'!$A$2:$D$1048576,2,0),0)","v":0},null,null,null,null,null,"00:00:00",null,"00:00:00","00:00:00"]
[null,{"$f":"IFERROR(VLOOKUP(A2532,'Banco de Funcionários'!$A$2:$D$1048576,2,0),0)","v":0},null,null,null,null,null,"00:00:00",null,"00:00:00","00:00:00"]
[null,{"$f":"IFERROR(VLOOKUP(A2538,'Banco de Funcionários'!$A$2:$D$1048576,2,0),0)","v":0},null,null,null,null,null,"00:00:00",null,"00:00:00","00:00:00"]
[null,{"$f":"IFERROR(VLOOKUP(A2543,'Banco de Funcionários'!$A$2:$D$1048576,2,0),0)","v":0},null,null,null,null,null,"00:00:00",null,"00:00:00","00:00:00"]
[null,{"$f":"IFERROR(VLOOKUP(A2549,'Banco de Funcionários'!$A$2:$D$1048576,2,0),0)","v":0},null,null,null,null,null,"00:00:00",null,"00:00:00","00:00:00"]
[null,{"$f":"IFERROR(VLOOKUP(A2554,'Banco de Funcionários'!$A$2:$D$1048576,2,0),0)","v":0},null,null,null,null,null,"00:00:00",null,"00:00:00","00:00:00"]
[null,{"$f":"IFERROR(VLOOKUP(A2557,'Banco de Funcionários'!$A$2:$D$1048576,2,0),0)","v":0},null,null,null,null,null,"00:00:00",null,"00:00:00","00:00:00"]
[null,{"$f":"IFERROR(VLOOKUP(A2564,'Banco de Funcionários'!$A$2:$D$1048576,2,0),0)","v":0},null,null,null,null,null,"00:00:00",null,"00:00:00","00:00:00"]
[null,{"$f":"IFERROR(VLOOKUP(A2569,'Banco de Funcionários'!$A$2:$D$1048576,2,0),0)","v":0},null,null,null,null,null,"00:00:00",null,"00:00:00","00:00:00"]
[null,{"$f":"IFERROR(VLOOKUP(A2574,'Banco de Funcionários'!$A$2:$D$1048576,2,0),0)","v":0},null,null,null,null,null,"00:00:00",null,"00:00:00","00:00:00"]
[null,{"$f":"IFERROR(VLOOKUP(A2575,'Banco de Funcionários'!$A$2:$D$1048576,2,0),0)","v":0},null,null,null,null,null,"00:00:00",null,"00:00:00","00:00:00"]
[null,{"$f":"IFERROR(VLOOKUP(A2580,'Banco de Funcionários'!$A$2:$D$1048576,2,0),0)","v":0},null,null,null,null,null,"00:00:00",null,"00:00:00","00:00:00"]
[null,{"$f":"IFERROR(VLOOKUP(A2586,'Banco de Funcionários'!$A$2:$D$1048576,2,0),0)","v":0},null,null,null,null,null,"00:00:00",null,"00:00:00","00:00:00"]
[null,{"$f":"IFERROR(VLOOKUP(A2591,'Banco de Funcionários'!$A$2:$D$1048576,2,0),0)","v":0},null,null,null,null,null,"00:00:00",null,"00:00:00","00:00:00"]
[null,{"$f":"IFERROR(VLOOKUP(A2596,'Banco de Funcionários'!$A$2:$D$1048576,2,0),0)","v":0},null,null,null,null,null,"00:00:00",null,"00:00:00","00:00:00"]
[null,{"$f":"IFERROR(VLOOKUP(A2602,'Banco de Funcionários'!$A$2:$D$1048576,2,0),0)","v":0},null,null,null,null,null,"00:00:00",null,"00:00:00","00:00:00"]
[null,{"$f":"IFERROR(VLOOKUP(A2607,'Banco de Funcionários'!$A$2:$D$1048576,2,0),0)","v":0},null,null,null,null,null,"00:00:00",null,"00:00:00","00:00:00"]
[null,{"$f":"IFERROR(VLOOKUP(A2612,'Banco de Funcionários'!$A$2:$D$1048576,2,0),0)","v":0},null,null,null,null,null,"00:00:00",null,"00:00:00","00:00:00"]
[null,{"$f":"IFERROR(VLOOKUP(A2618,'Banco de Funcionários'!$A$2:$D$1048576,2,0),0)","v":0},null,null,null,null,null,"00:00:00",null,"00:00:00","00:00:00"]
[null,{"$f":"IFERROR(VLOOKUP(A2623,'Banco de Funcionários'!$A$2:$D$1048576,2,0),0)","v":0},null,null,null,null,null,"00:00:00",null,"00:00:00","00:00:00"]
[null,{"$f":"IFERROR(VLOOKUP(A2629,'Banco de Funcionários'!$A$2:$D$1048576,2,0),0)","v":0},null,null,null,null,null,"00:00:00",null,"00:00:00","00:00:00"]
[null,{"$f":"IFERROR(VLOOKUP(A2634,'Banco de Funcionários'!$A$2:$D$1048576,2,0),0)","v":0},null,null,null,null,null,"00:00:00",null,"00:00:00","00:00:00"]
[null,{"$f":"IFERROR(VLOOKUP(A2639,'Banco de Funcionários'!$A$2:$D$1048576,2,0),0)","v":0},null,null,null,null,null,"00:00:00",null,"00:00:00","00:00:00"]
[null,{"$f":"IFERROR(VLOOKUP(A2640,'Banco de Funcionários'!$A$2:$D$1048576,2,0),0)","v":0},null,null,null,null,null,"00:00:00",null,"00:00:00","00:00:00"]
[null,{"$f":"IFERROR(VLOOKUP(A2645,'Banco de Funcionários'!$A$2:$D$1048576,2,0),0)","v":0},null,null,null,null,null,"00:00:00",null,"00:00:00","00:00:00"]
[null,{"$f":"IFERROR(VLOOKUP(A2651,'Banco de Funcionários'!$A$2:$D$1048576,2,0),0)","v":0},null,null,null,null,null,"00:00:00",null,"00:00:00","00:00:00"]
[null,{"$f":"IFERROR(VLOOKUP(A2656,'Banco de Funcionários'!$A$2:$D$1048576,2,0),0)","v":0},null,null,null,null,null,"00:00:00",null,"00:00:00","00:00:00"]
[null,{"$f":"IFERROR(VLOOKUP(A2661,'Banco de Funcionários'!$A$2:$D$1048576,2,0),0)","v":0},null,null,null,null,null,"00:00:00",null,"00:00:00","00:00:00"]
[null,{"$f":"IFERROR(VLOOKUP(A2668,'Banco de Funcionários'!$A$2:$D$1048576,2,0),0)","v":0},null,null,null,null,null,"00:00:00",null,"00:00:00","00:00:00"]
[null,{"$f":"IFERROR(VLOOKUP(A2671,'Banco de Funcionários'!$A$2:$D$1048576,2,0),0)","v":0},null,null,null,null,null,"00:00:00",null,"00:00:00","00:00:00"]
[null,{"$f":"IFERROR(VLOOKUP(A2676,'Banco de Funcionários'!$A$2:$D$1048576,2,0),0)","v":0},null,null,null,null,null,"00:00:00",null,"00:00:00","00:00:00"]
[null,{"$f":"IFERROR(VLOOKUP(A2682,'Banco de Funcionários'!$A$2:$D$1048576,2,0),0)","v":0},null,null,null,null,null,"00:00:00",null,"00:00:00","00:00:00"]
[null,{"$f":"IFERROR(VLOOKUP(A2687,'Banco de Funcionários'!$A$2:$D$1048576,2,0),0)","v":0},null,null,null,null,null,"00:00:00",null,"00:00:00","00:00:00"]
[null,{"$f":"IFERROR(VLOOKUP(A2693,'Banco de Funcionários'!$A$2:$D$1048576,2,0),0)","v":0},null,null,null,null,null,"00:00:00",null,"00:00:00","00:00:00"]
[null,{"$f":"IFERROR(VLOOKUP(A2698,'Banco de Funcionários'!$A$2:$D$1048576,2,0),0)","v":0},null,null,null,null,null,"00:00:00",null,"00:00:00","00:00:00"]
[null,{"$f":"IFERROR(VLOOKUP(A2703,'Banco de Funcionários'!$A$2:$D$1048576,2,0),0)","v":0},null,null,null,null,null,"00:00:00",null,"00:00:00","00:00:00"]
[null,{"$f":"IFERROR(VLOOKUP(A2704,'Banco de Funcionários'!$A$2:$D$1048576,2,0),0)","v":0},null,null,null,null,null,"00:00:00",null,"00:00:00","00:00:00"]
[null,{"$f":"IFERROR(VLOOKUP(A2709,'Banco de Funcionários'!$A$2:$D$1048576,2,0),0)","v":0},null,null,null,null,null,"00:00:00",null,"00:00:00","00:00:00"]
[null,{"$f":"IFERROR(VLOOKUP(A2715,'Banco de Funcionários'!$A$2:$D$1048576,2,0),0)","v":0},null,null,null,null,null,"00:00:00",null,"00:00:00","00:00:00"]
[null,{"$f":"IFERROR(VLOOKUP(A2720,'Banco de Funcionários'!$A$2:$D$1048576,2,0),0)","v":0},null,null,null,null,null,"00:00:00",null,"00:00:00","00:00:00"]
[null,{"$f":"IFERROR(VLOOKUP(A2725,'Banco de Funcionários'!$A$2:$D$1048576,2,0),0)","v":0},null,null,null,null,null,"00:00:00",null,"00:00:00","00:00:00"]
[null,{"$f":"IFERROR(VLOOKUP(A2731,'Banco de Funcionários'!$A$2:$D$1048576,2,0),0)","v":0},null,null,null,null,null,"00:00:00",null,"00:00:00","00:00:00"]
[null,{"$f":"IFERROR(VLOOKUP(A2736,'Banco de Funcionários'!$A$2:$D$1048576,2,0),0)","v":0},null,null,null,null,null,"00:00:00",null,"00:00:00","00:00:00"]
[null,{"$f":"IFERROR(VLOOKUP(A2741,'Banco de Funcionários'!$A$2:$D$1048576,2,0),0)","v":0},null,null,null,null,null,"00:00:00",null,"00:00:00","00:00:00"]
[null,{"$f":"IFERROR(VLOOKUP(A2747,'Banco de Funcionários'!$A$2:$D$1048576,2,0),0)","v":0},null,null,null,null,null,"00:00:00",null,"00:00:00","00:00:00"]
[null,{"$f":"IFERROR(VLOOKUP(A2752,'Banco de Funcionários'!$A$2:$D$1048576,2,0),0)","v":0},null,null,null,null,null,"00:00:00",null,"00:00:00","00:00:00"]
[null,{"$f":"IFERROR(VLOOKUP(A2758,'Banco de Funcionários'!$A$2:$D$1048576,2,0),0)","v":0},null,null,null,null,null,"00:00:00",null,"00:00:00","00:00:00"]
[null,{"$f":"IFERROR(VLOOKUP(A2763,'Banco de Funcionários'!$A$2:$D$1048576,2,0),0)","v":0},null,null,null,null,null,"00:00:00",null,"00:00:00","00:00:00"]
[null,{"$f":"IFERROR(VLOOKUP(A2768,'Banco de Funcionários'!$A$2:$D$1048576,2,0),0)","v":0},null,null,null,null,null,"00:00:00",null,"00:00:00","00:00:00"]
[null,{"$f":"IFERROR(VLOOKUP(A2769,'Banco de Funcionários'!$A$2:$D$1048576,2,0),0)","v":0},null,null,null,null,null,"00:00:00",null,"00:00:00","00:00:00"]
[null,{"$f":"IFERROR(VLOOKUP(A2774,'Banco de Funcionários'!$A$2:$D$1048576,2,0),0)","v":0},null,null,null,null,null,"00:00:00",null,"00:00:00","00:00:00"]
[null,{"$f":"IFERROR(VLOOKUP(A2781,'Banco de Funcionários'!$A$2:$D$1048576,2,0),0)","v":0},null,null,null,null,null,"00:00:00",null,"00:00:00","00:00:00"]
[null,{"$f":"IFERROR(VLOOKUP(A2784,'Banco de Funcionários'!$A$2:$D$1048576,2,0),0)","v":0},null,null,null,null,null,"00:00:00",null,"00:00:00","00:00:00"]
[null,{"$f":"IFERROR(VLOOKUP(A2789,'Banco de Funcionários'!$A$2:$D$1048576,2,0),0)","v":0},null,null,null,null,null,"00:00:00",null,"00:00:00","00:00:00"]
[null,{"$f":"IFERROR(VLOOKUP(A2795,'Banco de Funcionários'!$A$2:$D$1048576,2,0),0)","v":0},null,null,null,null,null,"00:00:00",null,"00:00:00","00:00:00"]
[null,{"$f":"IFERROR(VLOOKUP(A2800,'Banco de Funcionários'!$A$2:$D$1048576,2,0),0)","v":0},null,null,null,null,null,"00:00:00",null,"00:00:00","00:00:00"]
[null,{"$f":"IFERROR(VLOOKUP(A2805,'Banco de Funcionários'!$A$2:$D$1048576,2,0),0)","v":0},null,null,null,null,null,"00:00:00",null,"00:00:00","00:00:00"]
[null,{"$f":"IFERROR(VLOOKUP(A2811,'Banco de Funcionários'!$A$2:$D$1048576,2,0),0)","v":0},null,null,null,null,null,"00:00:00",null,"00:00:00","00:00:00"]
[null,{"$f":"IFERROR(VLOOKUP(A2816,'Banco de Funcionários'!$A$2:$D$1048576,2,0),0)","v":0},null,null,null,null,null,"00:00:00",null,"00:00:00","00:00:00"]
[null,{"$f":"IFERROR(VLOOKUP(A2822,'Banco de Funcionários'!$A$2:$D$1048576,2,0),0)","v":0},null,null,null,null,null,"00:00:00",null,"00:00:00","00:00:00"]
[null,{"$f":"IFERROR(VLOOKUP(A2827,'Banco de Funcionários'!$A$2:$D$1048576,2,0),0)","v":0},null,null,null,null,null,"00:00:00",null,"00:00:00","00:00:00"]
[null,{"$f":"IFERROR(VLOOKUP(A2832,'Banco de Funcionários'!$A$2:$D$1048576,2,0),0)","v":0},null,null,null,null,null,"00:00:00",null,"00:00:00","00:00:00"]
[null,{"$f":"IFERROR(VLOOKUP(A2833,'Banco de Funcionários'!$A$2:$D$1048576,2,0),0)","v":0},null,null,null,null,null,"00:00:00",null,"00:00:00","00:00:00"]
[null,{"$f":"IFERROR(VLOOKUP(A2838,'Banco de Funcionários'!$A$2:$D$1048576,2,0),0)","v":0},null,null,null,null,null,"00:00:00",null,"00:00:00","00:00:00"]
[null,{"$f":"IFERROR(VLOOKUP(A2843,'Banco de Funcionários'!$A$2:$D$1048576,2,0),0)","v":0},null,null,null,null,null,"00:00:00",null,"00:00:00","00:00:00"]
[null,{"$f":"IFERROR(VLOOKUP(A2849,'Banco de Funcionários'!$A$2:$D$1048576,2,0),0)","v":0},null,null,null,null,null,"00:00:00",null,"00:00:00","00:00:00"]
[null,{"$f":"IFERROR(VLOOKUP(A2854,'Banco de Funcionários'!$A$2:$D$1048576,2,0),0)","v":0},null,null,null,null,null,"00:00:00",null,"00:00:00","00:00:00"]
[null,{"$f":"IFERROR(VLOOKUP(A2860,'Banco de Funcionários'!$A$2:$D$1048576,2,0),0)","v":0},null,null,null,null,null,"00:00:00",null,"00:00:00","00:00:00"]
[null,{"$f":"IFERROR(VLOOKUP(A2865,'Banco de Funcionários'!$A$2:$D$1048576,2,0),0)","v":0},null,null,null,null,null,"00:00:00",null,"00:00:00","00:00:00"]
[null,{"$f":"IFERROR(VLOOKUP(A2870,'Banco de Funcionários'!$A$2:$D$1048576,2,0),0)","v":0},null,null,null,null,null,"00:00:00",null,"00:00:00","00:00:00"]
[null,{"$f":"IFERROR(VLOOKUP(A2876,'Banco de Funcionários'!$A$2:$D$1048576,2,0),0)","v":0},null,null,null,null,null,"00:00:00",null,"00:00:00","00:00:00"]
[null,{"$f":"IFERROR(VLOOKUP(A2881,'Banco de Funcionários'!$A$2:$D$1048576,2,0),0)","v":0},null,null,null,null,null,"00:00:00",null,"00:00:00","00:00:00"]
[null,{"$f":"IFERROR(VLOOKUP(A2886,'Banco de Funcionários'!$A$2:$D$1048576,2,0),0)","v":0},null,null,null,null,null,"00:00:00",null,"00:00:00","00:00:00"]
[null,{"$f":"IFERROR(VLOOKUP(A2888,'Banco de Funcionários'!$A$2:$D$1048576,2,0),0)","v":0},null,null,null,null,null,"00:00:00",null,"00:00:00","00:00:00"]
[null,{"$f":"IFERROR(VLOOKUP(A2896,'Banco de Funcionários'!$A$2:$D$1048576,2,0),0)","v":0},null,null,null,null,null,"00:00:00",null,"00:00:00","00:00:00"]
[null,{"$f":"IFERROR(VLOOKUP(A2897,'Banco de Funcionários'!$A$2:$D$1048576,2,0),0)","v":0},null,null,null,null,null,"00:00:00",null,"00:00:00","00:00:00"]
[null,{"$f":"IFERROR(VLOOKUP(A2902,'Banco de Funcionários'!$A$2:$D$1048576,2,0),0)","v":0},null,null,null,null,null,"00:00:00",null,"00:00:00","00:00:00"]
[null,{"$f":"IFERROR(VLOOKUP(A2907,'Banco de Funcionários'!$A$2:$D$1048576,2,0),0)","v":0},null,null,null,null,null,"00:00:00",null,"00:00:00","00:00:00"]
[null,{"$f":"IFERROR(VLOOKUP(A2913,'Banco de Funcionários'!$A$2:$D$1048576,2,0),0)","v":0},null,null,null,null,null,"00:00:00",null,"00:00:00","00:00:00"]
[null,{"$f":"IFERROR(VLOOKUP(A2918,'Banco de Funcionários'!$A$2:$D$1048576,2,0),0)","v":0},null,null,null,null,null,"00:00:00",null,"00:00:00","00:00:00"]
[null,{"$f":"IFERROR(VLOOKUP(A2924,'Banco de Funcionários'!$A$2:$D$1048576,2,0),0)","v":0},null,null,null,null,null,"00:00:00",null,"00:00:00","00:00:00"]
[null,{"$f":"IFERROR(VLOOKUP(A2929,'Banco de Funcionários'!$A$2:$D$1048576,2,0),0)","v":0},null,null,null,null,null,"00:00:00",null,"00:00:00","00:00:00"]
[null,{"$f":"IFERROR(VLOOKUP(A2934,'Banco de Funcionários'!$A$2:$D$1048576,2,0),0)","v":0},null,null,null,null,null,"00:00:00",null,"00:00:00","00:00:00"]
[null,{"$f":"IFERROR(VLOOKUP(A2940,'Banco de Funcionários'!$A$2:$D$1048576,2,0),0)","v":0},null,null,null,null,null,"00:00:00",null,"00:00:00","00:00:00"]
[null,{"$f":"IFERROR(VLOOKUP(A2945,'Banco de Funcionários'!$A$2:$D$1048576,2,0),0)","v":0},null,null,null,null,null,"00:00:00",null,"00:00:00","00:00:00"]
[null,{"$f":"IFERROR(VLOOKUP(A2950,'Banco de Funcionários'!$A$2:$D$1048576,2,0),0)","v":0},null,null,null,null,null,"00:00:00",null,"00:00:00","00:00:00"]
[null,{"$f":"IFERROR(VLOOKUP(A2956,'Banco de Funcionários'!$A$2:$D$1048576,2,0),0)","v":0},null,null,null,null,null,"00:00:00",null,"00:00:00","00:00:00"]
[null,{"$f":"IFERROR(VLOOKUP(A2961,'Banco de Funcionários'!$A$2:$D$1048576,2,0),0)","v":0},null,null,null,null,null,"00:00:00",null,"00:00:00","00:00:00"]
[null,{"$f":"IFERROR(VLOOKUP(A2962,'Banco de Funcionários'!$A$2:$D$1048576,2,0),0)","v":0},null,null,null,null,null,"00:00:00",null,"00:00:00","00:00:00"]
[null,{"$f":"IFERROR(VLOOKUP(A2967,'Banco de Funcionários'!$A$2:$D$1048576,2,0),0)","v":0},null,null,null,null,null,"00:00:00",null,"00:00:00","00:00:00"]
[null,{"$f":"IFERROR(VLOOKUP(A2972,'Banco de Funcionários'!$A$2:$D$1048576,2,0),0)","v":0},null,null,null,null,null,"00:00:00",null,"00:00:00","00:00:00"]
[null,{"$f":"IFERROR(VLOOKUP(A2978,'Banco de Funcionários'!$A$2:$D$1048576,2,0),0)","v":0},null,null,null,null,null,"00:00:00",null,"00:00:00","00:00:00"]
[null,{"$f":"IFERROR(VLOOKUP(A2983,'Banco de Funcionários'!$A$2:$D$1048576,2,0),0)","v":0},null,null,null,null,null,"00:00:00",null,"00:00:00","00:00:00"]
[null,{"$f":"IFERROR(VLOOKUP(A2989,'Banco de Funcionários'!$A$2:$D$1048576,2,0),0)","v":0},null,null,null,null,null,"00:00:00",null,"00:00:00","00:00:00"]
[null,{"$f":"IFERROR(VLOOKUP(A2994,'Banco de Funcionários'!$A$2:$D$1048576,2,0),0)","v":0},null,null,null,null,null,"00:00:00",null,"00:00:00","00:00:00"]
[null,{"$f":"IFERROR(VLOOKUP(A2999,'Banco de Funcionários'!$A$2:$D$1048576,2,0),0)","v":0},null,null,null,null,null,"00:00:00",null,"00:00:00","00:00:00"]
[null,{"$f":"IFERROR(VLOOKUP(A3005,'Banco de Funcionários'!$A$2:$D$1048576,2,0),0)","v":0},null,null,null,null,null,"00:00:00",null,"00:00:00","00:00:00"]
[null,{"$f":"IFERROR(VLOOKUP(A3009,'Banco de Funcionários'!$A$2:$D$1048576,2,0),0)","v":0},null,null,null,null,null,"00:00:00",null,"00:00:00","00:00:00"]
[null,{"$f":"IFERROR(VLOOKUP(A3014,'Banco de Funcionários'!$A$2:$D$1048576,2,0),0)","v":0},null,null,null,null,null,"00:00:00",null,"00:00:00","00:00:00"]
[null,{"$f":"IFERROR(VLOOKUP(A3020,'Banco de Funcionários'!$A$2:$D$1048576,2,0),0)","v":0},null,null,null,null,null,"00:00:00",null,"00:00:00","00:00:00"]
[null,{"$f":"IFERROR(VLOOKUP(A3025,'Banco de Funcionários'!$A$2:$D$1048576,2,0),0)","v":0},null,null,null,null,null,"00:00:00",null,"00:00:00","00:00:00"]
[null,{"$f":"IFERROR(VLOOKUP(A3026,'Banco de Funcionários'!$A$2:$D$1048576,2,0),0)","v":0},null,null,null,null,null,"00:00:00",null,"00:00:00","00:00:00"]
[null,{"$f":"IFERROR(VLOOKUP(A3031,'Banco de Funcionários'!$A$2:$D$1048576,2,0),0)","v":0},null,null,null,null,null,"00:00:00",null,"00:00:00","00:00:00"]
[null,{"$f":"IFERROR(VLOOKUP(A3036,'Banco de Funcionários'!$A$2:$D$1048576,2,0),0)","v":0},null,null,null,null,null,"00:00:00",null,"00:00:00","00:00:00"]
[null,{"$f":"IFERROR(VLOOKUP(A3042,'Banco de Funcionários'!$A$2:$D$1048576,2,0),0)","v":0},null,null,null,null,null,"00:00:00",null,"00:00:00","00:00:00"]
[null,{"$f":"IFERROR(VLOOKUP(A3047,'Banco de Funcionários'!$A$2:$D$1048576,2,0),0)","v":0},null,null,null,null,null,"00:00:00",null,"00:00:00","00:00:00"]
[null,{"$f":"IFERROR(VLOOKUP(A3052,'Banco de Funcionários'!$A$2:$D$1048576,2,0),0)","v":0},null,null,null,null,null,"00:00:00",null,"00:00:00","00:00:00"]
[null,{"$f":"IFERROR(VLOOKUP(A3058,'Banco de Funcionários'!$A$2:$D$1048576,2,0),0)","v":0},null,null,null,null,null,"00:00:00",null,"00:00:00","00:00:00"]
[null,{"$f":"IFERROR(VLOOKUP(A3063,'Banco de Funcionários'!$A$2:$D$1048576,2,0),0)","v":0},null,null,null,null,null,"00:00:00",null,"00:00:00","00:00:00"]
[null,{"$f":"IFERROR(VLOOKUP(A3069,'Banco de Funcionários'!$A$2:$D$1048576,2,0),0)","v":0},null,null,null,null,null,"00:00:00",null,"00:00:00","00:00:00"]
[null,{"$f":"IFERROR(VLOOKUP(A3074,'Banco de Funcionários'!$A$2:$D$1048576,2,0),0)","v":0},null,null,null,null,null,"00:00:00",null,"00:00:00","00:00:00"]
[null,{"$f":"IFERROR(VLOOKUP(A3079,'Banco de Funcionários'!$A$2:$D$1048576,2,0),0)","v":0},null,null,null,null,null,"00:00:00",null,"00:00:00","00:00:00"]
[null,{"$f":"IFERROR(VLOOKUP(A3085,'Banco de Funcionários'!$A$2:$D$1048576,2,0),0)","v":0},null,null,null,null,null,"00:00:00",null,"00:00:00","00:00:00"]
[null,{"$f":"IFERROR(VLOOKUP(A3090,'Banco de Funcionários'!$A$2:$D$1048576,2,0),0)","v":0},null,null,null,null,null,"00:00:00",null,"00:00:00","00:00:00"]
[null,{"$f":"IFERROR(VLOOKUP(A3091,'Banco de Funcionários'!$A$2:$D$1048576,2,0),0)","v":0},null,null,null,null,null,"00:00:00",null,"00:00:00","00:00:00"]
[null,{"$f":"IFERROR(VLOOKUP(A3096,'Banco de Funcionários'!$A$2:$D$1048576,2,0),0)","v":0},null,null,null,null,null,"00:00:00",null,"00:00:00","00:00:00"]
[null,{"$f":"IFERROR(VLOOKUP(A3101,'Banco de Funcionários'!$A$2:$D$1048576,2,0),0)","v":0},null,null,null,null,null,"00:00:00",null,"00:00:00","00:00:00"]
[null,{"$f":"IFERROR(VLOOKUP(A3107,'Banco de Funcionários'!$A$2:$D$1048576,2,0),0)","v":0},null,null,null,null,null,"00:00:00",null,"00:00:00","00:00:00"]
[null,{"$f":"IFERROR(VLOOKUP(A3112,'Banco de Funcionários'!$A$2:$D$1048576,2,0),0)","v":0},null,null,null,null,null,"00:00:00",null,"00:00:00","00:00:00"]
[null,{"$f":"IFERROR(VLOOKUP(A3116,'Banco de Funcionários'!$A$2:$D$1048576,2,0),0)","v":0},null,null,null,null,null,"00:00:00",null,"00:00:00","00:00:00"]
[null,{"$f":"IFERROR(VLOOKUP(A3122,'Banco de Funcionários'!$A$2:$D$1048576,2,0),0)","v":0},null,null,null,null,null,"00:00:00",null,"00:00:00","00:00:00"]
[null,{"$f":"IFERROR(VLOOKUP(A3127,'Banco de Funcionários'!$A$2:$D$1048576,2,0),0)","v":0},null,null,null,null,null,"00:00:00",null,"00:00:00","00:00:00"]
[null,{"$f":"IFERROR(VLOOKUP(A3133,'Banco de Funcionários'!$A$2:$D$1048576,2,0),0)","v":0},null,null,null,null,null,"00:00:00",null,"00:00:00","00:00:00"]
[null,{"$f":"IFERROR(VLOOKUP(A3138,'Banco de Funcionários'!$A$2:$D$1048576,2,0),0)","v":0},null,null,null,null,null,"00:00:00",null,"00:00:00","00:00:00"]
[null,{"$f":"IFERROR(VLOOKUP(A3143,'Banco de Funcionários'!$A$2:$D$1048576,2,0),0)","v":0},null,null,null,null,null,"00:00:00",null,"00:00:00","00:00:00"]
[null,{"$f":"IFERROR(VLOOKUP(A3149,'Banco de Funcionários'!$A$2:$D$1048576,2,0),0)","v":0},null,null,null,null,null,"00:00:00",null,"00:00:00","00:00:00"]
[null,{"$f":"IFERROR(VLOOKUP(A3154,'Banco de Funcionários'!$A$2:$D$1048576,2,0),0)","v":0},null,null,null,null,null,"00:00:00",null,"00:00:00","00:00:00"]
[null,{"$f":"IFERROR(VLOOKUP(A3159,'Banco de Funcionários'!$A$2:$D$1048576,2,0),0)","v":0},null,null,null,null,null,"00:00:00",null,"00:00:00","00:00:00"]
[null,{"$f":"IFERROR(VLOOKUP(A3160,'Banco de Funcionários'!$A$2:$D$1048576,2,0),0)","v":0},null,null,null,null,null,"00:00:00",null,"00:00:00","00:00:00"]
[null,{"$f":"IFERROR(VLOOKUP(A3165,'Banco de Funcionários'!$A$2:$D$1048576,2,0),0)","v":0},null,null,null,null,null,"00:00:00",null,"00:00:00","00:00:00"]
[null,{"$f":"IFERROR(VLOOKUP(A3171,'Banco de Funcionários'!$A$2:$D$1048576,2,0),0)","v":0},null,null,null,null,null,"00:00:00",null,"00:00:00","00:00:00"]
[null,{"$f":"IFERROR(VLOOKUP(A3176,'Banco de Funcionários'!$A$2:$D$1048576,2,0),0)","v":0},null,null,null,null,null,"00:00:00",null,"00:00:00","00:00:00"]
[null,{"$f":"IFERROR(VLOOKUP(A3181,'Banco de Funcionários'!$A$2:$D$1048576,2,0),0)","v":0},null,null,null,null,null,"00:00:00",null,"00:00:00","00:00:00"]
[null,{"$f":"IFERROR(VLOOKUP(A3187,'Banco de Funcionários'!$A$2:$D$1048576,2,0),0)","v":0},null,null,null,null,null,"00:00:00",null,"00:00:00","00:00:00"]
[null,{"$f":"IFERROR(VLOOKUP(A3192,'Banco de Funcionários'!$A$2:$D$1048576,2,0),0)","v":0},null,null,null,null,null,"00:00:00",null,"00:00:00","00:00:00"]
[null,{"$f":"IFERROR(VLOOKUP(A3198,'Banco de Funcionários'!$A$2:$D$1048576,2,0),0)","v":0},null,null,null,null,null,"00:00:00",null,"00:00:00","00:00:00"]
[null,{"$f":"IFERROR(VLOOKUP(A3203,'Banco de Funcionários'!$A$2:$D$1048576,2,0),0)","v":0},null,null,null,null,null,{"$f":"(F3203-E3203)-G3203","v":"00:00:00"},null,{"$f":"IFERROR(H3203-I3203,\"\")","v":"00:00:00"},{"$f":"IFERROR(H3203+J3203,0)","v":"00:00:00"}]
[null,{"$f":"IFERROR(VLOOKUP(A3208,'Banco de Funcionários'!$A$2:$D$1048576,2,0),0)","v":0},null,null,null,null,null,"00:00:00",null,"00:00:00","00:00:00"]
[null,{"$f":"IFERROR(VLOOKUP(A3214,'Banco de Funcionários'!$A$2:$D$1048576,2,0),0)","v":0},null,null,null,null,null,"00:00:00",null,"00:00:00","00:00:00"]
[null,{"$f":"IFERROR(VLOOKUP(A3219,'Banco de Funcionários'!$A$2:$D$1048576,2,0),0)","v":0},null,null,null,null,null,"00:00:00",null,"00:00:00","00:00:00"]
[null,{"$f":"IFERROR(VLOOKUP(A3224,'Banco de Funcionários'!$A$2:$D$1048576,2,0),0)","v":0},null,null,null,null,null,"00:00:00",null,"00:00:00","00:00:00"]
[null,{"$f":"IFERROR(VLOOKUP(A3225,'Banco de Funcionários'!$A$2:$D$1048576,2,0),0)","v":0},null,null,null,null,null,"00:00:00",null,"00:00:00","00:00:00"]
[null,{"$f":"IFERROR(VLOOKUP(A3229,'Banco de Funcionários'!$A$2:$D$1048576,2,0),0)","v":0},null,null,null,null,null,"00:00:00",null,"00:00:00","00:00:00"]
[null,{"$f":"IFERROR(VLOOKUP(A3235,'Banco de Funcionários'!$A$2:$D$1048576,2,0),0)","v":0},null,null,null,null,null,"00:00:00",null,"00:00:00","00:00:00"]
[null,{"$f":"IFERROR(VLOOKUP(A3240,'Banco de Funcionários'!$A$2:$D$1048576,2,0),0)","v":0},null,null,null,null,null,"00:00:00",null,"00:00:00","00:00:00"]
[null,{"$f":"IFERROR(VLOOKUP(A3245,'Banco de Funcionários'!$A$2:$D$1048576,2,0),0)","v":0},null,null,null,null,null,"00:00:00",null,"00:00:00","00:00:00"]
[null,{"$f":"IFERROR(VLOOKUP(A3251,'Banco de Funcionários'!$A$2:$D$1048576,2,0),0)","v":0},null,null,null,null,null,"00:00:00",null,"00:00:00","00:00:00"]
[null,{"$f":"IFERROR(VLOOKUP(A3256,'Banco de Funcionários'!$A$2:$D$1048576,2,0),0)","v":0},null,null,null,null,null,"00:00:00",null,"00:00:00","00:00:00"]
[null,{"$f":"IFERROR(VLOOKUP(A3262,'Banco de Funcionários'!$A$2:$D$1048576,2,0),0)","v":0},null,null,null,null,null,"00:00:00",null,"00:00:00","00:00:00"]
[null,{"$f":"IFERROR(VLOOKUP(A3267,'Banco de Funcionários'!$A$2:$D$1048576,2,0),0)","v":0},null,null,null,null,null,{"$f":"(F3267-E3267)-G3267","v":"00:00:00"},null,{"$f":"IFERROR(H3267-I3267,\"\")","v":"00:00:00"},{"$f":"IFERROR(H3267+J3267,0)","v":"00:00:00"}]
[null,{"$f":"IFERROR(VLOOKUP(A3272,'Banco de Funcionários'!$A$2:$D$1048576,2,0),0)","v":0},null,null,null,null,null,"00:00:00",null,"00:00:00","00:00:00"]
[null,{"$f":"IFERROR(VLOOKUP(A3278,'Banco de Funcionários'!$A$2:$D$1048576,2,0),0)","v":0},null,null,null,null,null,"00:00:00",null,"00:00:00","00:00:00"]
[null,{"$f":"IFERROR(VLOOKUP(A3283,'Banco de Funcionários'!$A$2:$D$1048576,2,0),0)","v":0},null,null,null,null,null,"00:00:00",null,"00:00:00","00:00:00"]
[null,{"$f":"IFERROR(VLOOKUP(A3288,'Banco de Funcionários'!$A$2:$D$1048576,2,0),0)","v":0},null,null,null,null,null,"00:00:00",null,"00:00:00","00:00:00"]
[null,{"$f":"IFERROR(VLOOKUP(A3289,'Banco de Funcionários'!$A$2:$D$1048576,2,0),0)","v":0},null,null,null,null,null,"00:00:00",null,"00:00:00","00:00:00"]
[null,{"$f":"IFERROR(VLOOKUP(A3294,'Banco de Funcionários'!$A$2:$D$1048576,2,0),0)","v":0},null,null,null,null,null,"00:00:00",null,"00:00:00","00:00:00"]
[null,{"$f":"IFERROR(VLOOKUP(A3300,'Banco de Funcionários'!$A$2:$D$1048576,2,0),0)","v":0},null,null,null,null,null,"00:00:00",null,"00:00:00","00:00:00"]
[null,{"$f":"IFERROR(VLOOKUP(A3305,'Banco de Funcionários'!$A$2:$D$1048576,2,0),0)","v":0},null,null,null,null,null,"00:00:00",null,"00:00:00","00:00:00"]
[null,{"$f":"IFERROR(VLOOKUP(A3310,'Banco de Funcionários'!$A$2:$D$1048576,2,0),0)","v":0},null,null,null,null,null,"00:00:00",null,"00:00:00","00:00:00"]
[null,{"$f":"IFERROR(VLOOKUP(A3316,'Banco de Funcionários'!$A$2:$D$1048576,2,0),0)","v":0},null,null,null,null,null,"00:00:00",null,"00:00:00","00:00:00"]
[null,{"$f":"IFERROR(VLOOKUP(A3321,'Banco de Funcionários'!$A$2:$D$1048576,2,0),0)","v":0},null,null,null,null,null,"00:00:00",null,"00:00:00","00:00:00"]
[null,{"$f":"IFERROR(VLOOKUP(A3326,'Banco de Funcionários'!$A$2:$D$1048576,2,0),0)","v":0},null,null,null,null,null,"00:00:00",null,"00:00:00","00:00:00"]
[null,{"$f":"IFERROR(VLOOKUP(A3332,'Banco de Funcionários'!$A$2:$D$1048576,2,0),0)","v":0},null,null,null,null,null,"00:00:00",null,"00:00:00","00:00:00"]
[null,{"$f":"IFERROR(VLOOKUP(A3336,'Banco de Funcionários'!$A$2:$D$1048576,2,0),0)","v":0},null,null,null,null,null,"00:00:00",null,"00:00:00","00:00:00"]
[null,{"$f":"IFERROR(VLOOKUP(A3342,'Banco de Funcionários'!$A$2:$D$1048576,2,0),0)","v":0},null,null,null,null,null,"00:00:00",null,"00:00:00","00:00:00"]
[null,{"$f":"IFERROR(VLOOKUP(A3347,'Banco de Funcionários'!$A$2:$D$1048576,2,0),0)","v":0},null,null,null,null,null,"00:00:00",null,"00:00:00","00:00:00"]
[null,{"$f":"IFERROR(VLOOKUP(A3352,'Banco de Funcionários'!$A$2:$D$1048576,2,0),0)","v":0},null,null,null,null,null,"00:00:00",null,"00:00:00","00:00:00"]
[null,{"$f":"IFERROR(VLOOKUP(A3353,'Banco de Funcionários'!$A$2:$D$1048576,2,0),0)","v":0},null,null,null,null,null,"00:00:00",null,"00:00:00","00:00:00"]
[null,{"$f":"IFERROR(VLOOKUP(A3358,'Banco de Funcionários'!$A$2:$D$1048576,2,0),0)","v":0},null,null,null,null,null,"00:00:00",null,"00:00:00","00:00:00"]
[null,{"$f":"IFERROR(VLOOKUP(A3364,'Banco de Funcionários'!$A$2:$D$1048576,2,0),0)","v":0},null,null,null,null,null,"00:00:00",null,"00:00:00","00:00:00"]
[null,{"$f":"IFERROR(VLOOKUP(A3369,'Banco de Funcionários'!$A$2:$D$1048576,2,0),0)","v":0},null,null,null,null,null,"00:00:00",null,"00:00:00","00:00:00"]
[null,{"$f":"IFERROR(VLOOKUP(A3374,'Banco de Funcionários'!$A$2:$D$1048576,2,0),0)","v":0},null,null,null,null,null,"00:00:00",null,"00:00:00","00:00:00"]
[null,{"$f":"IFERROR(VLOOKUP(A3380,'Banco de Funcionários'!$A$2:$D$1048576,2,0),0)","v":0},null,null,null,null,null,"00:00:00",null,"00:00:00","00:00:00"]
[null,{"$f":"IFERROR(VLOOKUP(A3385,'Banco de Funcionários'!$A$2:$D$1048576,2,0),0)","v":0},null,null,null,null,null,"00:00:00",null,"00:00:00","00:00:00"]
[null,{"$f":"IFERROR(VLOOKUP(A3390,'Banco de Funcionários'!$A$2:$D$1048576,2,0),0)","v":0},null,null,null,null,null,"00:00:00",null,"00:00:00","00:00:00"]
[null,{"$f":"IFERROR(VLOOKUP(A3396,'Banco de Funcionários'!$A$2:$D$1048576,2,0),0)","v":0},null,null,null,null,null,"00:00:00",null,"00:00:00","00:00:00"]
[null,{"$f":"IFERROR(VLOOKUP(A3401,'Banco de Funcionários'!$A$2:$D$1048576,2,0),0)","v":0},null,null,null,null,null,"00:00:00",null,"00:00:00","00:00:00"]
[null,{"$f":"IFERROR(VLOOKUP(A3407,'Banco de Funcionários'!$A$2:$D$1048576,2,0),0)","v":0},null,null,null,null,null,"00:00:00",null,"00:00:00","00:00:00"]
[null,{"$f":"IFERROR(VLOOKUP(A3412,'Banco de Funcionários'!$A$2:$D$1048576,2,0),0)","v":0},null,null,null,null,null,"00:00:00",null,"00:00:00","00:00:00"]
[null,{"$f":"IFERROR(VLOOKUP(A3417,'Banco de Funcionários'!$A$2:$D$1048576,2,0),0)","v":0},null,null,null,null,null,"00:00:00",null,"00:00:00","00:00:00"]
[null,{"$f":"IFERROR(VLOOKUP(A3418,'Banco de Funcionários'!$A$2:$D$1048576,2,0),0)","v":0},null,null,null,null,null,"00:00:00",null,"00:00:00","00:00:00"]
[null,{"$f":"IFERROR(VLOOKUP(A3423,'Banco de Funcionários'!$A$2:$D$1048576,2,0),0)","v":0},null,null,null,null,null,"00:00:00",null,"00:00:00","00:00:00"]
[null,{"$f":"IFERROR(VLOOKUP(A3429,'Banco de Funcionários'!$A$2:$D$1048576,2,0),0)","v":0},null,null,null,null,null,"00:00:00",null,"00:00:00","00:00:00"]
[null,{"$f":"IFERROR(VLOOKUP(A3434,'Banco de Funcionários'!$A$2:$D$1048576,2,0),0)","v":0},null,null,null,null,null,"00:00:00",null,"00:00:00","00:00:00"]
[null,{"$f":"IFERROR(VLOOKUP(A3439,'Banco de Funcionários'!$A$2:$D$1048576,2,0),0)","v":0},null,null,null,null,null,"00:00:00",null,"00:00:00","00:00:00"]
[null,{"$f":"IFERROR(VLOOKUP(A3445,'Banco de Funcionários'!$A$2:$D$1048576,2,0),0)","v":0},null,null,null,null,null,"00:00:00",null,"00:00:00","00:00:00"]
[null,{"$f":"IFERROR(VLOOKUP(A3449,'Banco de Funcionários'!$A$2:$D$1048576,2,0),0)","v":0},null,null,null,null,null,"00:00:00",null,"00:00:00","00:00:00"]
[null,{"$f":"IFERROR(VLOOKUP(A3454,'Banco de Funcionários'!$A$2:$D$1048576,2,0),0)","v":0},null,null,null,null,null,"00:00:00",null,"00:00:00","00:00:00"]
[null,{"$f":"IFERROR(VLOOKUP(A3460,'Banco de Funcionários'!$A$2:$D$1048576,2,0),0)","v":0},null,null,null,null,null,"00:00:00",null,"00:00:00","00:00:00"]
[null,{"$f":"IFERROR(VLOOKUP(A3465,'Banco de Funcionários'!$A$2:$D$1048576,2,0),0)","v":0},null,null,null,null,null,"00:00:00",null,"00:00:00","00:00:00"]
[null,{"$f":"IFERROR(VLOOKUP(A3471,'Banco de Funcionários'!$A$2:$D$1048576,2,0),0)","v":0},null,null,null,null,null,"00:00:00",null,"00:00:00","00:00:00"]
[null,{"$f":"IFERROR(VLOOKUP(A3476,'Banco de Funcionários'!$A$2:$D$1048576,2,0),0)","v":0},null,null,null,null,null,"00:00:00",null,"00:00:00","00:00:00"]
[null,{"$f":"IFERROR(VLOOKUP(A3481,'Banco de Funcionários'!$A$2:$D$1048576,2,0),0)","v":0},null,null,null,null,null,"00:00:00",null,"00:00:00","00:00:00"]
[null,{"$f":"IFERROR(VLOOKUP(A3482,'Banco de Funcionários'!$A$2:$D$1048576,2,0),0)","v":0},null,null,null,null,null,"00:00:00",null,"00:00:00","00:00:00"]
[null,{"$f":"IFERROR(VLOOKUP(A3487,'Banco de Funcionários'!$A$2:$D$1048576,2,0),0)","v":0},null,null,null,null,null,"00:00:00",null,"00:00:00","00:00:00"]
[null,{"$f":"IFERROR(VLOOKUP(A3492,'Banco de Funcionários'!$A$2:$D$1048576,2,0),0)","v":0},null,null,null,null,null,"00:00:00",null,"00:00:00","00:00:00"]
[null,{"$f":"IFERROR(VLOOKUP(A3498,'Banco de Funcionários'!$A$2:$D$1048576,2,0),0)","v":0},null,null,null,null,null,"00:00:00",null,"00:00:00","00:00:00"]
[null,{"$f":"IFERROR(VLOOKUP(A3503,'Banco de Funcionários'!$A$2:$D$1048576,2,0),0)","v":0},null,null,null,null,null,"00:00:00",null,"00:00:00","00:00:00"]
[null,{"$f":"IFERROR(VLOOKUP(A3509,'Banco de Funcionários'!$A$2:$D$1048576,2,0),0)","v":0},null,null,null,null,null,"00:00:00",null,"00:00:00","00:00:00"]
[null,{"$f":"IFERROR(VLOOKUP(A3514,'Banco de Funcionários'!$A$2:$D$1048576,2,0),0)","v":0},null,null,null,null,null,"00:00:00",null,"00:00:00","00:00:00"]
[null,{"$f":"IFERROR(VLOOKUP(A3519,'Banco de Funcionários'!$A$2:$D$1048576,2,0),0)","v":0},null,null,null,null,null,"00:00:00",null,"00:00:00","00:00:00"]
[null,{"$f":"IFERROR(VLOOKUP(A3525,'Banco de Funcionários'!$A$2:$D$1048576,2,0),0)","v":0},null,null,null,null,null,"00:00:00",null,"00:00:00","00:00:00"]
[null,{"$f":"IFERROR(VLOOKUP(A3530,'Banco de Funcionários'!$A$2:$D$1048576,2,0),0)","v":0},null,null,null,null,null,"00:00:00",null,"00:00:00","00:00:00"]
[null,{"$f":"IFERROR(VLOOKUP(A3536,'Banco de Funcionários'!$A$2:$D$1048576,2,0),0)","v":0},null,null,null,null,null,"00:00:00",null,"00:00:00","00:00:00"]
[null,{"$f":"IFERROR(VLOOKUP(A3541,'Banco de Funcionários'!$A$2:$D$1048576,2,0),0)","v":0},null,null,null,null,null,"00:00:00",null,"00:00:00","00:00:00"]
[null,{"$f":"IFERROR(VLOOKUP(A3546,'Banco de Funcionários'!$A$2:$D$1048576,2,0),0)","v":0},null,null,null,null,null,"00:00:00",null,"00:00:00","00:00:00"]
[null,{"$f":"IFERROR(VLOOKUP(A3547,'Banco de Funcionários'!$A$2:$D$1048576,2,0),0)","v":0},null,null,null,null,null,"00:00:00",null,"00:00:00","00:00:00"]
[null,{"$f":"IFERROR(VLOOKUP(A3552,'Banco de Funcionários'!$A$2:$D$1048576,2,0),0)","v":0},null,null,null,null,null,"00:00:00",null,"00:00:00","00:00:00"]
[null,{"$f":"IFERROR(VLOOKUP(A3560,'Banco de Funcionários'!$A$2:$D$1048576,2,0),0)","v":0},null,null,null,null,null,"00:00:00",null,"00:00:00","00:00:00"]
[null,{"$f":"IFERROR(VLOOKUP(A3562,'Banco de Funcionários'!$A$2:$D$1048576,2,0),0)","v":0},null,null,null,null,null,"00:00:00",null,"00:00:00","00:00:00"]
[null,{"$f":"IFERROR(VLOOKUP(A3567,'Banco de Funcionários'!$A$2:$D$1048576,2,0),0)","v":0},null,null,null,null,null,"00:00:00",null,"00:00:00","00:00:00"]
[null,{"$f":"IFERROR(VLOOKUP(A3573,'Banco de Funcionários'!$A$2:$D$1048576,2,0),0)","v":0},null,null,null,null,null,"00:00:00",null,"00:00:00","00:00:00"]
[null,{"$f":"IFERROR(VLOOKUP(A3578,'Banco de Funcionários'!$A$2:$D$1048576,2,0),0)","v":0},null,null,null,null,null,"00:00:00",null,"00:00:00","00:00:00"]
[null,{"$f":"IFERROR(VLOOKUP(A3583,'Banco de Funcionários'!$A$2:$D$1048576,2,0),0)","v":0},null,null,null,null,null,"00:00:00",null,"00:00:00","00:00:00"]
[null,{"$f":"IFERROR(VLOOKUP(A3589,'Banco de Funcionários'!$A$2:$D$1048576,2,0),0)","v":0},null,null,null,null,null,"00:00:00",null,"00:00:00","00:00:00"]
[null,{"$f":"IFERROR(VLOOKUP(A3594,'Banco de Funcionários'!$A$2:$D$1048576,2,0),0)","v":0},null,null,null,null,null,"00:00:00",null,"00:00:00","00:00:00"]
[null,{"$f":"IFERROR(VLOOKUP(A3599,'Banco de Funcionários'!$A$2:$D$1048576,2,0),0)","v":0},null,null,null,null,null,"00:00:00",null,"00:00:00","00:00:00"]
[null,{"$f":"IFERROR(VLOOKUP(A3605,'Banco de Funcionários'!$A$2:$D$1048576,2,0),0)","v":0},null,null,null,null,null,"00:00:00",null,"00:00:00","00:00:00"]
[null,{"$f":"IFERROR(VLOOKUP(A3610,'Banco de Funcionários'!$A$2:$D$1048576,2,0),0)","v":0},null,null,null,null,null,"00:00:00",null,"00:00:00","00:00:00"]
[null,{"$f":"IFERROR(VLOOKUP(A3611,'Banco de Funcionários'!$A$2:$D$1048576,2,0),0)","v":0},null,null,null,null,null,"00:00:00",null,"00:00:00","00:00:00"]
[null,{"$f":"IFERROR(VLOOKUP(A3616,'Banco de Funcionários'!$A$2:$D$1048576,2,0),0)","v":0},null,null,null,null,null,"00:00:00",null,"00:00:00","00:00:00"]
[null,{"$f":"IFERROR(VLOOKUP(A3621,'Banco de Funcionários'!$A$2:$D$1048576,2,0),0)","v":0},null,null,null,null,null,"00:00:00",null,"00:00:00","00:00:00"]
[null,{"$f":"IFERROR(VLOOKUP(A3627,'Banco de Funcionários'!$A$2:$D$1048576,2,0),0)","v":0},null,null,null,null,null,"00:00:00",null,"00:00:00","00:00:00"]
[null,{"$f":"IFERROR(VLOOKUP(A3632,'Banco de Funcionários'!$A$2:$D$1048576,2,0),0)","v":0},null,null,null,null,null,"00:00:00",null,"00:00:00","00:00:00"]
[null,{"$f":"IFERROR(VLOOKUP(A3638,'Banco de Funcionários'!$A$2:$D$1048576,2,0),0)","v":0},null,null,null,null,null,"00:00:00",null,"00:00:00","00:00:00"]
[null,{"$f":"IFERROR(VLOOKUP(A3643,'Banco de Funcionários'!$A$2:$D$1048576,2,0),0)","v":0},null,null,null,null,null,"00:00:00",null,"00:00:00","00:00:00"]
[null,{"$f":"IFERROR(VLOOKUP(A3648,'Banco de Funcionários'!$A$2:$D$1048576,2,0),0)","v":0},null,null,null,null,null,"00:00:00",null,"00:00:00","00:00:00"]
[null,{"$f":"IFERROR(VLOOKUP(A3654,'Banco de Funcionários'!$A$2:$D$1048576,2,0),0)","v":0},null,null,null,null,null,"00:00:00",null,"00:00:00","00:00:00"]
[null,{"$f":"IFERROR(VLOOKUP(A3659,'Banco de Funcionários'!$A$2:$D$1048576,2,0),0)","v":0},null,null,null,null,null,"00:00:00",null,"00:00:00","00:00:00"]
[null,{"$f":"IFERROR(VLOOKUP(A3664,'Banco de Funcionários'!$A$2:$D$1048576,2,0),0)","v":0},null,null,null,null,null,"00:00:00",null,"00:00:00","00:00:00"]
[null,{"$f":"IFERROR(VLOOKUP(A3670,'Banco de Funcionários'!$A$2:$D$1048576,2,0),0)","v":0},null,null,null,null,null,"00:00:00",null,"00:00:00","00:00:00"]
[null,{"$f":"IFERROR(VLOOKUP(A3673,'Banco de Funcionários'!$A$2:$D$1048576,2,0),0)","v":0},null,null,null,null,null,"00:00:00",null,"00:00:00","00:00:00"]
[null,{"$f":"IFERROR(VLOOKUP(A3675,'Banco de Funcionários'!$A$2:$D$1048576,2,0),0)","v":0},null,null,null,null,null,"00:00:00",null,"00:00:00","00:00:00"]
[null,{"$f":"IFERROR(VLOOKUP(A3680,'Banco de Funcionários'!$A$2:$D$1048576,2,0),0)","v":0},null,null,null,null,null,"00:00:00",null,"00:00:00","00:00:00"]
[null,{"$f":"IFERROR(VLOOKUP(A3685,'Banco de Funcionários'!$A$2:$D$1048576,2,0),0)","v":0},null,null,null,null,null,"00:00:00",null,"00:00:00","00:00:00"]
[null,{"$f":"IFERROR(VLOOKUP(A3691,'Banco de Funcionários'!$A$2:$D$1048576,2,0),0)","v":0},null,null,null,null,null,"00:00:00",null,"00:00:00","00:00:00"]
[null,{"$f":"IFERROR(VLOOKUP(A3696,'Banco de Funcionários'!$A$2:$D$1048576,2,0),0)","v":0},null,null,null,null,null,"00:00:00",null,"00:00:00","00:00:00"]
[null,{"$f":"IFERROR(VLOOKUP(A3702,'Banco de Funcionários'!$A$2:$D$1048576,2,0),0)","v":0},null,null,null,null,null,"00:00:00",null,"00:00:00","00:00:00"]
[null,{"$f":"IFERROR(VLOOKUP(A3707,'Banco de Funcionários'!$A$2:$D$1048576,2,0),0)","v":0},null,null,null,null,null,"00:00:00",null,"00:00:00","00:00:00"]
[null,{"$f":"IFERROR(VLOOKUP(A3712,'Banco de Funcionários'!$A$2:$D$1048576,2,0),0)","v":0},null,null,null,null,null,"00:00:00",null,"00:00:00","00:00:00"]
[null,{"$f":"IFERROR(VLOOKUP(A3718,'Banco de Funcionários'!$A$2:$D$1048576,2,0),0)","v":0},null,null,null,null,null,"00:00:00",null,"00:00:00","00:00:00"]
[null,{"$f":"IFERROR(VLOOKUP(A3723,'Banco de Funcionários'!$A$2:$D$1048576,2,0),0)","v":0},null,null,null,null,null,"00:00:00",null,"00:00:00","00:00:00"]
[null,{"$f":"IFERROR(VLOOKUP(A3728,'Banco de Funcionários'!$A$2:$D$1048576,2,0),0)","v":0},null,null,null,null,null,"00:00:00",null,"00:00:00","00:00:00"]
[null,{"$f":"IFERROR(VLOOKUP(A3734,'Banco de Funcionários'!$A$2:$D$1048576,2,0),0)","v":0},null,null,null,null,null,"00:00:00",null,"00:00:00","00:00:00"]
[null,{"$f":"IFERROR(VLOOKUP(A3739,'Banco de Funcionários'!$A$2:$D$1048576,2,0),0)","v":0},null,null,null,null,null,"00:00:00",null,"00:00:00","00:00:00"]
[null,{"$f":"IFERROR(VLOOKUP(A3740,'Banco de Funcionários'!$A$2:$D$1048576,2,0),0)","v":0},null,null,null,null,null,"00:00:00",null,"00:00:00","00:00:00"]
[null,{"$f":"IFERROR(VLOOKUP(A3745,'Banco de Funcionários'!$A$2:$D$1048576,2,0),0)","v":0},null,null,null,null,null,"00:00:00",null,"00:00:00","00:00:00"]
[null,{"$f":"IFERROR(VLOOKUP(A3750,'Banco de Funcionários'!$A$2:$D$1048576,2,0),0)","v":0},null,null,null,null,null,"00:00:00",null,"00:00:00","00:00:00"]
[null,{"$f":"IFERROR(VLOOKUP(A3756,'Banco de Funcionários'!$A$2:$D$1048576,2,0),0)","v":0},null,null,null,null,null,"00:00:00",null,"00:00:00","00:00:00"]
[null,{"$f":"IFERROR(VLOOKUP(A3761,'Banco de Funcionários'!$A$2:$D$1048576,2,0),0)","v":0},null,null,null,null,null,"00:00:00",null,"00:00:00","00:00:00"]
[null,{"$f":"IFERROR(VLOOKUP(A3766,'Banco de Funcionários'!$A$2:$D$1048576,2,0),0)","v":0},null,null,null,null,null,"00:00:00",null,"00:00:00","00:00:00"]
[null,{"$f":"IFERROR(VLOOKUP(A3772,'Banco de Funcionários'!$A$2:$D$1048576,2,0),0)","v":0},null,null,null,null,null,"00:00:00",null,"00:00:00","00:00:00"]
[null,{"$f":"IFERROR(VLOOKUP(A3777,'Banco de Funcionários'!$A$2:$D$1048576,2,0),0)","v":0},null,null,null,null,null,"00:00:00",null,"00:00:00","00:00:00"]
[null,{"$f":"IFERROR(VLOOKUP(A3780,'Banco de Funcionários'!$A$2:$D$1048576,2,0),0)","v":0},null,null,null,null,null,"00:00:00",null,"00:00:00","00:00:00"]
[null,{"$f":"IFERROR(VLOOKUP(A3787,'Banco de Funcionários'!$A$2:$D$1048576,2,0),0)","v":0},null,null,null,null,null,"00:00:00",null,"00:00:00","00:00:00"]
[null,{"$f":"IFERROR(VLOOKUP(A3792,'Banco de Funcionários'!$A$2:$D$1048576,2,0),0)","v":0},null,null,null,null,null,"00:00:00",null,"00:00:00","00:00:00"]
[null,{"$f":"IFERROR(VLOOKUP(A3798,'Banco de Funcionários'!$A$2:$D$1048576,2,0),0)","v":0},null,null,null,null,null,"00:00:00",null,"00:00:00","00:00:00"]
[null,{"$f":"IFERROR(VLOOKUP(A3803,'Banco de Funcionários'!$A$2:$D$1048576,2,0),0)","v":0},null,null,null,null,null,"00:00:00",null,"00:00:00","00:00:00"]
[null,{"$f":"IFERROR(VLOOKUP(A3804,'Banco de Funcionários'!$A$2:$D$1048576,2,0),0)","v":0},null,null,null,null,null,"00:00:00",null,"00:00:00","00:00:00"]
[null,{"$f":"IFERROR(VLOOKUP(A3809,'Banco de Funcionários'!$A$2:$D$1048576,2,0),0)","v":0},null,null,null,null,null,"00:00:00",null,"00:00:00","00:00:00"]
[null,{"$f":"IFERROR(VLOOKUP(A3814,'Banco de Funcionários'!$A$2:$D$1048576,2,0),0)","v":0},null,null,null,null,null,"00:00:00",null,"00:00:00","00:00:00"]
[null,{"$f":"IFERROR(VLOOKUP(A3820,'Banco de Funcionários'!$A$2:$D$1048576,2,0),0)","v":0},null,null,null,null,null,"00:00:00",null,"00:00:00","00:00:00"]
[null,{"$f":"IFERROR(VLOOKUP(A3825,'Banco de Funcionários'!$A$2:$D$1048576,2,0),0)","v":0},null,null,null,null,null,"00:00:00",null,"00:00:00","00:00:00"]
[null,{"$f":"IFERROR(VLOOKUP(A3830,'Banco de Funcionários'!$A$2:$D$1048576,2,0),0)","v":0},null,null,null,null,null,"00:00:00",null,"00:00:00","00:00:00"]
[null,{"$f":"IFERROR(VLOOKUP(A3836,'Banco de Funcionários'!$A$2:$D$1048576,2,0),0)","v":0},null,null,null,null,null,"00:00:00",null,"00:00:00","00:00:00"]
[null,{"$f":"IFERROR(VLOOKUP(A3841,'Banco de Funcionários'!$A$2:$D$1048576,2,0),0)","v":0},null,null,null,null,null,"00:00:00",null,"00:00:00","00:00:00"]
[null,{"$f":"IFERROR(VLOOKUP(A3847,'Banco de Funcionários'!$A$2:$D$1048576,2,0),0)","v":0},null,null,null,null,null,"00:00:00",null,"00:00:00","00:00:00"]
[null,{"$f":"IFERROR(VLOOKUP(A3852,'Banco de Funcionários'!$A$2:$D$1048576,2,0),0)","v":0},null,null,null,null,null,"00:00:00",null,"00:00:00","00:00:00"]
[null,{"$f":"IFERROR(VLOOKUP(A3857,'Banco de Funcionários'!$A$2:$D$1048576,2,0),0)","v":0},null,null,null,null,null,"00:00:00",null,"00:00:00","00:00:00"]
[null,{"$f":"IFERROR(VLOOKUP(A3863,'Banco de Funcionários'!$A$2:$D$1048576,2,0),0)","v":0},null,null,null,null,null,"00:00:00",null,"00:00:00","00:00:00"]
[null,{"$f":"IFERROR(VLOOKUP(A3868,'Banco de Funcionários'!$A$2:$D$1048576,2,0),0)","v":0},null,null,null,null,null,"00:00:00",null,"00:00:00","00:00:00"]
[null,{"$f":"IFERROR(VLOOKUP(A3869,'Banco de Funcionários'!$A$2:$D$1048576,2,0),0)","v":0},null,null,null,null,null,"00:00:00",null,"00:00:00","00:00:00"]
[null,{"$f":"IFERROR(VLOOKUP(A3874,'Banco de Funcionários'!$A$2:$D$1048576,2,0),0)","v":0},null,null,null,null,null,"00:00:00",null,"00:00:00","00:00:00"]
[null,{"$f":"IFERROR(VLOOKUP(A3879,'Banco de Funcionários'!$A$2:$D$1048576,2,0),0)","v":0},null,null,null,null,null,"00:00:00",null,"00:00:00","00:00:00"]
[null,{"$f":"IFERROR(VLOOKUP(A3885,'Banco de Funcionários'!$A$2:$D$1048576,2,0),0)","v":0},null,null,null,null,null,"00:00:00",null,"00:00:00","00:00:00"]
[null,{"$f":"IFERROR(VLOOKUP(A3890,'Banco de Funcionários'!$A$2:$D$1048576,2,0),0)","v":0},null,null,null,null,null,"00:00:00",null,"00:00:00","00:00:00"]
[null,{"$f":"IFERROR(VLOOKUP(A3897,'Banco de Funcionários'!$A$2:$D$1048576,2,0),0)","v":0},null,null,null,null,null,"00:00:00",null,"00:00:00","00:00:00"]
[null,{"$f":"IFERROR(VLOOKUP(A3900,'Banco de Funcionários'!$A$2:$D$1048576,2,0),0)","v":0},null,null,null,null,null,"00:00:00",null,"00:00:00","00:00:00"]
[null,{"$f":"IFERROR(VLOOKUP(A3905,'Banco de Funcionários'!$A$2:$D$1048576,2,0),0)","v":0},null,null,null,null,null,"00:00:00",null,"00:00:00","00:00:00"]
[null,{"$f":"IFERROR(VLOOKUP(A3911,'Banco de Funcionários'!$A$2:$D$1048576,2,0),0)","v":0},null,null,null,null,null,"00:00:00",null,"00:00:00","00:00:00"]
[null,{"$f":"IFERROR(VLOOKUP(A3916,'Banco de Funcionários'!$A$2:$D$1048576,2,0),0)","v":0},null,null,null,null,null,"00:00:00",null,"00:00:00","00:00:00"]
[null,{"$f":"IFERROR(VLOOKUP(A3921,'Banco de Funcionários'!$A$2:$D$1048576,2,0),0)","v":0},null,null,null,null,null,"00:00:00",null,"00:00:00","00:00:00"]
[null,{"$f":"IFERROR(VLOOKUP(A3927,'Banco de Funcionários'!$A$2:$D$1048576,2,0),0)","v":0},null,null,null,null,null,"00:00:00",null,"00:00:00","00:00:00"]
[null,{"$f":"IFERROR(VLOOKUP(A3932,'Banco de Funcionários'!$A$2:$D$1048576,2,0),0)","v":0},null,null,null,null,null,"00:00:00",null,"00:00:00","00:00:00"]
[null,{"$f":"IFERROR(VLOOKUP(A3937,'Banco de Funcionários'!$A$2:$D$1048576,2,0),0)","v":0},null,null,null,null,null,"00:00:00",null,"00:00:00","00:00:00"]
[null,{"$f":"IFERROR(VLOOKUP(A3938,'Banco de Funcionários'!$A$2:$D$1048576,2,0),0)","v":0},null,null,null,null,null,"00:00:00",null,"00:00:00","00:00:00"]
[null,{"$f":"IFERROR(VLOOKUP(A3943,'Banco de Funcionários'!$A$2:$D$1048576,2,0),0)","v":0},null,null,null,null,null,"00:00:00",null,"00:00:00","00:00:00"]
[null,{"$f":"IFERROR(VLOOKUP(A3949,'Banco de Funcionários'!$A$2:$D$1048576,2,0),0)","v":0},null,null,null,null,null,"00:00:00",null,"00:00:00","00:00:00"]
[null,{"$f":"IFERROR(VLOOKUP(A3954,'Banco de Funcionários'!$A$2:$D$1048576,2,0),0)","v":0},null,null,null,null,null,"00:00:00",null,"00:00:00","00:00:00"]
[null,{"$f":"IFERROR(VLOOKUP(A3959,'Banco de Funcionários'!$A$2:$D$1048576,2,0),0)","v":0},null,null,null,null,null,"00:00:00",null,"00:00:00","00:00:00"]
[null,{"$f":"IFERROR(VLOOKUP(A3965,'Banco de Funcionários'!$A$2:$D$1048576,2,0),0)","v":0},null,null,null,null,null,"00:00:00",null,"00:00:00","00:00:00"]
[null,{"$f":"IFERROR(VLOOKUP(A3970,'Banco de Funcionários'!$A$2:$D$1048576,2,0),0)","v":0},null,null,null,null,null,"00:00:00",null,"00:00:00","00:00:00"]
[null,{"$f":"IFERROR(VLOOKUP(A3976,'Banco de Funcionários'!$A$2:$D$1048576,2,0),0)","v":0},null,null,null,null,null,"00:00:00",null,"00:00:00","00:00:00"]
[null,{"$f":"IFERROR(VLOOKUP(A3981,'Banco de Funcionários'!$A$2:$D$1048576,2,0),0)","v":0},null,null,null,null,null,"00:00:00",null,"00:00:00","00:00:00"]
[null,{"$f":"IFERROR(VLOOKUP(A3986,'Banco de Funcionários'!$A$2:$D$1048576,2,0),0)","v":0},null,null,null,null,null,"00:00:00",null,"00:00:00","00:00:00"]
[null,{"$f":"IFERROR(VLOOKUP(A3992,'Banco de Funcionários'!$A$2:$D$1048576,2,0),0)","v":0},null,null,null,null,null,"00:00:00",null,"00:00:00","00:00:00"]
[null,{"$f":"IFERROR(VLOOKUP(A3997,'Banco de Funcionários'!$A$2:$D$1048576,2,0),0)","v":0},null,null,null,null,null,"00:00:00",null,"00:00:00","00:00:00"]
[null,{"$f":"IFERROR(VLOOKUP(A4002,'Banco de Funcionários'!$A$2:$D$1048576,2,0),0)","v":0},null,null,null,null,null,"00:00:00",null,"00:00:00","00:00:00"]
[null,{"$f":"IFERROR(VLOOKUP(A4004,'Banco de Funcionários'!$A$2:$D$1048576,2,0),0)","v":0},null,null,null,null,null,"00:00:00",null,"00:00:00","00:00:00"]
[null,{"$f":"IFERROR(VLOOKUP(A4007,'Banco de Funcionários'!$A$2:$D$1048576,2,0),0)","v":0},null,null,null,null,null,"00:00:00",null,"00:00:00","00:00:00"]
[null,{"$f":"IFERROR(VLOOKUP(A4013,'Banco de Funcionários'!$A$2:$D$1048576,2,0),0)","v":0},null,null,null,null,null,"00:00:00",null,"00:00:00","00:00:00"]
[null,{"$f":"IFERROR(VLOOKUP(A4018,'Banco de Funcionários'!$A$2:$D$1048576,2,0),0)","v":0},null,null,null,null,null,"00:00:00",null,"00:00:00","00:00:00"]
[null,{"$f":"IFERROR(VLOOKUP(A4023,'Banco de Funcionários'!$A$2:$D$1048576,2,0),0)","v":0},null,null,null,null,null,"00:00:00",null,"00:00:00","00:00:00"]
[null,{"$f":"IFERROR(VLOOKUP(A4029,'Banco de Funcionários'!$A$2:$D$1048576,2,0),0)","v":0},null,null,null,null,null,"00:00:00",null,"00:00:00","00:00:00"]
[null,{"$f":"IFERROR(VLOOKUP(A4034,'Banco de Funcionários'!$A$2:$D$1048576,2,0),0)","v":0},null,null,null,null,null,"00:00:00",null,"00:00:00","00:00:00"]
[null,{"$f":"IFERROR(VLOOKUP(A4039,'Banco de Funcionários'!$A$2:$D$1048576,2,0),0)","v":0},null,null,null,null,null,"00:00:00",null,"00:00:00","00:00:00"]
[null,{"$f":"IFERROR(VLOOKUP(A4045,'Banco de Funcionários'!$A$2:$D$1048576,2,0),0)","v":0},null,null,null,null,null,"00:00:00",null,"00:00:00","00:00:00"]
[null,{"$f":"IFERROR(VLOOKUP(A4050,'Banco de Funcionários'!$A$2:$D$1048576,2,0),0)","v":0},null,null,null,null,null,"00:00:00",null,"00:00:00","00:00:00"]
[null,{"$f":"IFERROR(VLOOKUP(A4056,'Banco de Funcionários'!$A$2:$D$1048576,2,0),0)","v":0},null,null,null,null,null,"00:00:00",null,"00:00:00","00:00:00"]
[null,{"$f":"IFERROR(VLOOKUP(A4061,'Banco de Funcionários'!$A$2:$D$1048576,2,0),0)","v":0},null,null,null,null,null,"00:00:00",null,"00:00:00","00:00:00"]
[null,{"$f":"IFERROR(VLOOKUP(A4066,'Banco de Funcionários'!$A$2:$D$1048576,2,0),0)","v":0},null,null,null,null,null,"00:00:00",null,"00:00:00","00:00:00"]
[null,{"$f":"IFERROR(VLOOKUP(A4067,'Banco de Funcionários'!$A$2:$D$1048576,2,0),0)","v":0},null,null,null,null,null,"00:00:00",null,"00:00:00","00:00:00"]
[null,{"$f":"IFERROR(VLOOKUP(A4072,'Banco de Funcionários'!$A$2:$D$1048576,2,0),0)","v":0},null,null,null,null,null,"00:00:00",null,"00:00:00","00:00:00"]
[null,{"$f":"IFERROR(VLOOKUP(A4078,'Banco de Funcionários'!$A$2:$D$1048576,2,0),0)","v":0},null,null,null,null,null,"00:00:00",null,"00:00:00","00:00:00"]
[null,{"$f":"IFERROR(VLOOKUP(A4083,'Banco de Funcionários'!$A$2:$D$1048576,2,0),0)","v":0},null,null,null,null,null,"00:00:00",null,"00:00:00","00:00:00"]
[null,{"$f":"IFERROR(VLOOKUP(A4088,'Banco de Funcionários'!$A$2:$D$1048576,2,0),0)","v":0},null,null,null,null,null,"00:00:00",null,"00:00:00","00:00:00"]
[null,{"$f":"IFERROR(VLOOKUP(A4094,'Banco de Funcionários'!$A$2:$D$1048576,2,0),0)","v":0},null,null,null,null,null,"00:00:00",null,"00:00:00","00:00:00"]
[null,{"$f":"IFERROR(VLOOKUP(A4099,'Banco de Funcionários'!$A$2:$D$1048576,2,0),0)","v":0},null,null,null,null,null,{"$f":"(F4099-E4099)-G4099","v":"00:00:00"},null,{"$f":"IFERROR(H4099-I4099,\"\")","v":"00:00:00"},{"$f":"IFERROR(H4099+J4099,0)","v":"00:00:00"}]
[null,{"$f":"IFERROR(VLOOKUP(A4104,'Banco de Funcionários'!$A$2:$D$1048576,2,0),0)","v":0},null,null,null,null,null,"00:00:00",null,"00:00:00","00:00:00"]
[null,{"$f":"IFERROR(VLOOKUP(A4110,'Banco de Funcionários'!$A$2:$D$1048576,2,0),0)","v":0},null,null,null,null,null,"00:00:00",null,"00:00:00","00:00:00"]
[null,{"$f":"IFERROR(VLOOKUP(A4115,'Banco de Funcionários'!$A$2:$D$1048576,2,0),0)","v":0},null,null,null,null,null,"00:00:00",null,"00:00:00","00:00:00"]
[null,{"$f":"IFERROR(VLOOKUP(A4120,'Banco de Funcionários'!$A$2:$D$1048576,2,0),0)","v":0},null,null,null,null,null,"00:00:00",null,"00:00:00","00:00:00"]
[null,{"$f":"IFERROR(VLOOKUP(A4125,'Banco de Funcionários'!$A$2:$D$1048576,2,0),0)","v":0},null,null,null,null,null,"00:00:00",null,"00:00:00","00:00:00"]
[null,{"$f":"IFERROR(VLOOKUP(A4130,'Banco de Funcionários'!$A$2:$D$1048576,2,0),0)","v":0},null,null,null,null,null,"00:00:00",null,"00:00:00","00:00:00"]
[null,{"$f":"IFERROR(VLOOKUP(A4131,'Banco de Funcionários'!$A$2:$D$1048576,2,0),0)","v":0},null,null,null,null,null,"00:00:00",null,"00:00:00","00:00:00"]
[null,{"$f":"IFERROR(VLOOKUP(A4136,'Banco de Funcionários'!$A$2:$D$1048576,2,0),0)","v":0},null,null,null,null,null,"00:00:00",null,"00:00:00","00:00:00"]
[null,{"$f":"IFERROR(VLOOKUP(A4142,'Banco de Funcionários'!$A$2:$D$1048576,2,0),0)","v":0},null,null,null,null,null,"00:00:00",null,"00:00:00","00:00:00"]
[null,{"$f":"IFERROR(VLOOKUP(A4147,'Banco de Funcionários'!$A$2:$D$1048576,2,0),0)","v":0},null,null,null,null,null,"00:00:00",null,"00:00:00","00:00:00"]
[null,{"$f":"IFERROR(VLOOKUP(A4152,'Banco de Funcionários'!$A$2:$D$1048576,2,0),0)","v":0},null,null,null,null,null,"00:00:00",null,"00:00:00","00:00:00"]
[null,{"$f":"IFERROR(VLOOKUP(A4158,'Banco de Funcionários'!$A$2:$D$1048576,2,0),0)","v":0},null,null,null,null,null,"00:00:00",null,"00:00:00","00:00:00"]
[null,{"$f":"IFERROR(VLOOKUP(A4163,'Banco de Funcionários'!$A$2:$D$1048576,2,0),0)","v":0},null,null,null,null,null,{"$f":"(F4163-E4163)-G4163","v":"00:00:00"},null,{"$f":"IFERROR(H4163-I4163,\"\")","v":"00:00:00"},{"$f":"IFERROR(H4163+J4163,0)","v":"00:00:00"}]
[null,{"$f":"IFERROR(VLOOKUP(A4168,'Banco de Funcionários'!$A$2:$D$1048576,2,0),0)","v":0},null,null,null,null,null,"00:00:00",null,"00:00:00","00:00:00"]
[null,{"$f":"IFERROR(VLOOKUP(A4174,'Banco de Funcionários'!$A$2:$D$1048576,2,0),0)","v":0},null,null,null,null,null,"00:00:00",null,"00:00:00","00:00:00"]
[null,{"$f":"IFERROR(VLOOKUP(A4179,'Banco de Funcionários'!$A$2:$D$1048576,2,0),0)","v":0},null,null,null,null,null,"00:00:00",null,"00:00:00","00:00:00"]
[null,{"$f":"IFERROR(VLOOKUP(A4185,'Banco de Funcionários'!$A$2:$D$1048576,2,0),0)","v":0},null,null,null,null,null,"00:00:00",null,"00:00:00","00:00:00"]
[null,{"$f":"IFERROR(VLOOKUP(A4190,'Banco de Funcionários'!$A$2:$D$1048576,2,0),0)","v":0},null,null,null,null,null,"00:00:00",null,"00:00:00","00:00:00"]
[null,{"$f":"IFERROR(VLOOKUP(A4195,'Banco de Funcionários'!$A$2:$D$1048576,2,0),0)","v":0},null,null,null,null,null,"00:00:00",null,"00:00:00","00:00:00"]
[null,{"$f":"IFERROR(VLOOKUP(A4196,'Banco de Funcionários'!$A$2:$D$1048576,2,0),0)","v":0},null,null,null,null,null,"00:00:00",null,"00:00:00","00:00:00"]
[null,{"$f":"IFERROR(VLOOKUP(A4201,'Banco de Funcionários'!$A$2:$D$1048576,2,0),0)","v":0},null,null,null,null,null,"00:00:00",null,"00:00:00","00:00:00"]
[null,{"$f":"IFERROR(VLOOKUP(A4206,'Banco de Funcionários'!$A$2:$D$1048576,2,0),0)","v":0},null,null,null,null,null,"00:00:00",null,"00:00:00","00:00:00"]
[null,{"$f":"IFERROR(VLOOKUP(A4212,'Banco de Funcionários'!$A$2:$D$1048576,2,0),0)","v":0},null,null,null,null,null,"00:00:00",null,"00:00:00","00:00:00"]
[null,{"$f":"IFERROR(VLOOKUP(A4217,'Banco de Funcionários'!$A$2:$D$1048576,2,0),0)","v":0},null,null,null,null,null,"00:00:00",null,"00:00:00","00:00:00"]
[null,{"$f":"IFERROR(VLOOKUP(A4223,'Banco de Funcionários'!$A$2:$D$1048576,2,0),0)","v":0},null,null,null,null,null,"00:00:00",null,"00:00:00","00:00:00"]
[null,{"$f":"IFERROR(VLOOKUP(A4228,'Banco de Funcionários'!$A$2:$D$1048576,2,0),0)","v":0},null,null,null,null,null,"00:00:00",null,"00:00:00","00:00:00"]
[null,{"$f":"IFERROR(VLOOKUP(A4232,'Banco de Funcionários'!$A$2:$D$1048576,2,0),0)","v":0},null,null,null,null,null,"00:00:00",null,"00:00:00","00:00:00"]
[null,{"$f":"IFERROR(VLOOKUP(A4238,'Banco de Funcionários'!$A$2:$D$1048576,2,0),0)","v":0},null,null,null,null,null,"00:00:00",null,"00:00:00","00:00:00"]
[null,{"$f":"IFERROR(VLOOKUP(A4243,'Banco de Funcionários'!$A$2:$D$1048576,2,0),0)","v":0},null,null,null,null,null,"00:00:00",null,"00:00:00","00:00:00"]
[null,{"$f":"IFERROR(VLOOKUP(A4249,'Banco de Funcionários'!$A$2:$D$1048576,2,0),0)","v":0},null,null,null,null,null,"00:00:00",null,"00:00:00","00:00:00"]
[null,{"$f":"IFERROR(VLOOKUP(A4254,'Banco de Funcionários'!$A$2:$D$1048576,2,0),0)","v":0},null,null,null,null,null,"00:00:00",null,"00:00:00","00:00:00"]
[null,{"$f":"IFERROR(VLOOKUP(A4259,'Banco de Funcionários'!$A$2:$D$1048576,2,0),0)","v":0},null,null,null,null,null,"00:00:00",null,"00:00:00","00:00:00"]
[null,{"$f":"IFERROR(VLOOKUP(A4260,'Banco de Funcionários'!$A$2:$D$1048576,2,0),0)","v":0},null,null,null,null,null,"00:00:00",null,"00:00:00","00:00:00"]
[null,{"$f":"IFERROR(VLOOKUP(A4265,'Banco de Funcionários'!$A$2:$D$1048576,2,0),0)","v":0},null,null,null,null,null,"00:00:00",null,"00:00:00","00:00:00"]
[null,{"$f":"IFERROR(VLOOKUP(A4270,'Banco de Funcionários'!$A$2:$D$1048576,2,0),0)","v":0},null,null,null,null,null,"00:00:00",null,"00:00:00","00:00:00"]
[null,{"$f":"IFERROR(VLOOKUP(A4276,'Banco de Funcionários'!$A$2:$D$1048576,2,0),0)","v":0},null,null,null,null,null,"00:00:00",null,"00:00:00","00:00:00"]
[null,{"$f":"IFERROR(VLOOKUP(A4281,'Banco de Funcionários'!$A$2:$D$1048576,2,0),0)","v":0},null,null,null,null,null,"00:00:00",null,"00:00:00","00:00:00"]
[null,{"$f":"IFERROR(VLOOKUP(A4287,'Banco de Funcionários'!$A$2:$D$1048576,2,0),0)","v":0},null,null,null,null,null,"00:00:00",null,"00:00:00","00:00:00"]
[null,{"$f":"IFERROR(VLOOKUP(A4292,'Banco de Funcionários'!$A$2:$D$1048576,2,0),0)","v":0},null,null,null,null,null,"00:00:00",null,"00:00:00","00:00:00"]
[null,{"$f":"IFERROR(VLOOKUP(A4297,'Banco de Funcionários'!$A$2:$D$1048576,2,0),0)","v":0},null,null,null,null,null,"00:00:00",null,"00:00:00","00:00:00"]
[null,{"$f":"IFERROR(VLOOKUP(A4303,'Banco de Funcionários'!$A$2:$D$1048576,2,0),0)","v":0},null,null,null,null,null,"00:00:00",null,"00:00:00","00:00:00"]
[null,{"$f":"IFERROR(VLOOKUP(A4308,'Banco de Funcionários'!$A$2:$D$1048576,2,0),0)","v":0},null,null,null,null,null,"00:00:00",null,"00:00:00","00:00:00"]
[null,{"$f":"IFERROR(VLOOKUP(A4313,'Banco de Funcionários'!$A$2:$D$1048576,2,0),0)","v":0},null,null,null,null,null,"00:00:00",null,"00:00:00","00:00:00"]
[null,{"$f":"IFERROR(VLOOKUP(A4319,'Banco de Funcionários'!$A$2:$D$1048576,2,0),0)","v":0},null,null,null,null,null,"00:00:00",null,"00:00:00","00:00:00"]
[null,{"$f":"IFERROR(VLOOKUP(A4324,'Banco de Funcionários'!$A$2:$D$1048576,2,0),0)","v":0},null,null,null,null,null,"00:00:00",null,"00:00:00","00:00:00"]
[null,{"$f":"IFERROR(VLOOKUP(A4325,'Banco de Funcionários'!$A$2:$D$1048576,2,0),0)","v":0},null,null,null,null,null,"00:00:00",null,"00:00:00","00:00:00"]
[null,{"$f":"IFERROR(VLOOKUP(A4330,'Banco de Funcionários'!$A$2:$D$1048576,2,0),0)","v":0},null,null,null,null,null,"00:00:00",null,"00:00:00","00:00:00"]
[null,{"$f":"IFERROR(VLOOKUP(A4335,'Banco de Funcionários'!$A$2:$D$1048576,2,0),0)","v":0},null,null,null,null,null,"00:00:00",null,"00:00:00","00:00:00"]
[null,{"$f":"IFERROR(VLOOKUP(A4340,'Banco de Funcionários'!$A$2:$D$1048576,2,0),0)","v":0},null,null,null,null,null,"00:00:00",null,"00:00:00","00:00:00"]
[null,{"$f":"IFERROR(VLOOKUP(A4345,'Banco de Funcionários'!$A$2:$D$1048576,2,0),0)","v":0},null,null,null,null,null,"00:00:00",null,"00:00:00","00:00:00"]
[null,{"$f":"IFERROR(VLOOKUP(A4351,'Banco de Funcionários'!$A$2:$D$1048576,2,0),0)","v":0},null,null,null,null,null,"00:00:00",null,"00:00:00","00:00:00"]
[null,{"$f":"IFERROR(VLOOKUP(A4356,'Banco de Funcionários'!$A$2:$D$1048576,2,0),0)","v":0},null,null,null,null,null,"00:00:00",null,"00:00:00","00:00:00"]
[null,{"$f":"IFERROR(VLOOKUP(A4361,'Banco de Funcionários'!$A$2:$D$1048576,2,0),0)","v":0},null,null,null,null,null,"00:00:00",null,"00:00:00","00:00:00"]
[null,{"$f":"IFERROR(VLOOKUP(A4367,'Banco de Funcionários'!$A$2:$D$1048576,2,0),0)","v":0},null,null,null,null,null,"00:00:00",null,"00:00:00","00:00:00"]
[null,{"$f":"IFERROR(VLOOKUP(A4372,'Banco de Funcionários'!$A$2:$D$1048576,2,0),0)","v":0},null,null,null,null,null,"00:00:00",null,"00:00:00","00:00:00"]
[null,{"$f":"IFERROR(VLOOKUP(A4377,'Banco de Funcionários'!$A$2:$D$1048576,2,0),0)","v":0},null,null,null,null,null,"00:00:00",null,"00:00:00","00:00:00"]
[null,{"$f":"IFERROR(VLOOKUP(A4383,'Banco de Funcionários'!$A$2:$D$1048576,2,0),0)","v":0},null,null,null,null,null,"00:00:00",null,"00:00:00","00:00:00"]
[null,{"$f":"IFERROR(VLOOKUP(A4388,'Banco de Funcionários'!$A$2:$D$1048576,2,0),0)","v":0},null,null,null,null,null,"00:00:00",null,"00:00:00","00:00:00"]
[null,{"$f":"IFERROR(VLOOKUP(A4389,'Banco de Funcionários'!$A$2:$D$1048576,2,0),0)","v":0},null,null,null,null,null,"00:00:00",null,"00:00:00","00:00:00"]
[null,{"$f":"IFERROR(VLOOKUP(A4394,'Banco de Funcionários'!$A$2:$D$1048576,2,0),0)","v":0},null,null,null,null,null,"00:00:00",null,"00:00:00","00:00:00"]
[null,{"$f":"IFERROR(VLOOKUP(A4399,'Banco de Funcionários'!$A$2:$D$1048576,2,0),0)","v":0},null,null,null,null,null,"00:00:00",null,"00:00:00","00:00:00"]
[null,{"$f":"IFERROR(VLOOKUP(A4405,'Banco de Funcionários'!$A$2:$D$1048576,2,0),0)","v":0},null,null,null,null,null,"00:00:00",null,"00:00:00","00:00:00"]
[null,{"$f":"IFERROR(VLOOKUP(A4410,'Banco de Funcionários'!$A$2:$D$1048576,2,0),0)","v":0},null,null,null,null,null,"00:00:00",null,"00:00:00","00:00:00"]
[null,{"$f":"IFERROR(VLOOKUP(A4416,'Banco de Funcionários'!$A$2:$D$1048576,2,0),0)","v":0},null,null,null,null,null,"00:00:00",null,"00:00:00","00:00:00"]
[null,{"$f":"IFERROR(VLOOKUP(A4421,'Banco de Funcionários'!$A$2:$D$1048576,2,0),0)","v":0},null,null,null,null,null,"00:00:00",null,"00:00:00","00:00:00"]
[null,{"$f":"IFERROR(VLOOKUP(A4426,'Banco de Funcionários'!$A$2:$D$1048576,2,0),0)","v":0},null,null,null,null,null,"00:00:00",null,"00:00:00","00:00:00"]
[null,{"$f":"IFERROR(VLOOKUP(A4432,'Banco de Funcionários'!$A$2:$D$1048576,2,0),0)","v":0},null,null,null,null,null,"00:00:00",null,"00:00:00","00:00:00"]
[null,{"$f":"IFERROR(VLOOKUP(A4437,'Banco de Funcionários'!$A$2:$D$1048576,2,0),0)","v":0},null,null,null,null,null,"00:00:00",null,"00:00:00","00:00:00"]
[null,{"$f":"IFERROR(VLOOKUP(A4442,'Banco de Funcionários'!$A$2:$D$1048576,2,0),0)","v":0},null,null,null,null,null,"00:00:00",null,"00:00:00","00:00:00"]
[null,{"$f":"IFERROR(VLOOKUP(A4448,'Banco de Funcionários'!$A$2:$D$1048576,2,0),0)","v":0},null,null,null,null,null,"00:00:00",null,"00:00:00","00:00:00"]
[null,{"$f":"IFERROR(VLOOKUP(A4452,'Banco de Funcionários'!$A$2:$D$1048576,2,0),0)","v":0},null,null,null,null,null,"00:00:00",null,"00:00:00","00:00:00"]
[null,{"$f":"IFERROR(VLOOKUP(A4453,'Banco de Funcionários'!$A$2:$D$1048576,2,0),0)","v":0},null,null,null,null,null,"00:00:00",null,"00:00:00","00:00:00"]
[null,{"$f":"IFERROR(VLOOKUP(A4458,'Banco de Funcionários'!$A$2:$D$1048576,2,0),0)","v":0},null,null,null,null,null,"00:00:00",null,"00:00:00","00:00:00"]
[null,{"$f":"IFERROR(VLOOKUP(A4463,'Banco de Funcionários'!$A$2:$D$1048576,2,0),0)","v":0},null,null,null,null,null,"00:00:00",null,"00:00:00","00:00:00"]
[null,{"$f":"IFERROR(VLOOKUP(A4469,'Banco de Funcionários'!$A$2:$D$1048576,2,0),0)","v":0},null,null,null,null,null,"00:00:00",null,"00:00:00","00:00:00"]
[null,{"$f":"IFERROR(VLOOKUP(A4474,'Banco de Funcionários'!$A$2:$D$1048576,2,0),0)","v":0},null,null,null,null,null,"00:00:00",null,"00:00:00","00:00:00"]
[null,{"$f":"IFERROR(VLOOKUP(A4479,'Banco de Funcionários'!$A$2:$D$1048576,2,0),0)","v":0},null,null,null,null,null,"00:00:00",null,"00:00:00","00:00:00"]
[null,{"$f":"IFERROR(VLOOKUP(A4485,'Banco de Funcionários'!$A$2:$D$1048576,2,0),0)","v":0},null,null,null,null,null,"00:00:00",null,"00:00:00","00:00:00"]
[null,{"$f":"IFERROR(VLOOKUP(A4490,'Banco de Funcionários'!$A$2:$D$1048576,2,0),0)","v":0},null,null,null,null,null,"00:00:00",null,"00:00:00","00:00:00"]
[null,{"$f":"IFERROR(VLOOKUP(A4496,'Banco de Funcionários'!$A$2:$D$1048576,2,0),0)","v":0},null,null,null,null,null,"00:00:00",null,"00:00:00","00:00:00"]
[null,{"$f":"IFERROR(VLOOKUP(A4501,'Banco de Funcionários'!$A$2:$D$1048576,2,0),0)","v":0},null,null,null,null,null,"00:00:00",null,"00:00:00","00:00:00"]
[null,{"$f":"IFERROR(VLOOKUP(A4506,'Banco de Funcionários'!$A$2:$D$1048576,2,0),0)","v":0},null,null,null,null,null,"00:00:00",null,"00:00:00","00:00:00"]
[null,{"$f":"IFERROR(VLOOKUP(A4512,'Banco de Funcionários'!$A$2:$D$1048576,2,0),0)","v":0},null,null,null,null,null,"00:00:00",null,"00:00:00","00:00:00"]
[null,{"$f":"IFERROR(VLOOKUP(A4517,'Banco de Funcionários'!$A$2:$D$1048576,2,0),0)","v":0},null,null,null,null,null,"00:00:00",null,"00:00:00","00:00:00"]
[null,{"$f":"IFERROR(VLOOKUP(A4518,'Banco de Funcionários'!$A$2:$D$1048576,2,0),0)","v":0},null,null,null,null,null,"00:00:00",null,"00:00:00","00:00:00"]
[null,{"$f":"IFERROR(VLOOKUP(A4523,'Banco de Funcionários'!$A$2:$D$1048576,2,0),0)","v":0},null,null,null,null,null,"00:00:00",null,"00:00:00","00:00:00"]
[null,{"$f":"IFERROR(VLOOKUP(A4528,'Banco de Funcionários'!$A$2:$D$1048576,2,0),0)","v":0},null,null,null,null,null,"00:00:00",null,"00:00:00","00:00:00"]
[null,{"$f":"IFERROR(VLOOKUP(A4534,'Banco de Funcionários'!$A$2:$D$1048576,2,0),0)","v":0},null,null,null,null,null,"00:00:00",null,"00:00:00","00:00:00"]
[null,{"$f":"IFERROR(VLOOKUP(A4539,'Banco de Funcionários'!$A$2:$D$1048576,2,0),0)","v":0},null,null,null,null,null,"00:00:00",null,"00:00:00","00:00:00"]
[null,{"$f":"IFERROR(VLOOKUP(A4544,'Banco de Funcionários'!$A$2:$D$1048576,2,0),0)","v":0},null,null,null,null,null,"00:00:00",null,"00:00:00","00:00:00"]
[null,{"$f":"IFERROR(VLOOKUP(A4550,'Banco de Funcionários'!$A$2:$D$1048576,2,0),0)","v":0},null,null,null,null,null,"00:00:00",null,"00:00:00","00:00:00"]
[null,{"$f":"IFERROR(VLOOKUP(A4555,'Banco de Funcionários'!$A$2:$D$1048576,2,0),0)","v":0},null,null,null,null,null,"00:00:00",null,"00:00:00","00:00:00"]
[null,{"$f":"IFERROR(VLOOKUP(A4559,'Banco de Funcionários'!$A$2:$D$1048576,2,0),0)","v":0},null,null,null,null,null,"00:00:00",null,"00:00:00","00:00:00"]
[null,{"$f":"IFERROR(VLOOKUP(A4565,'Banco de Funcionários'!$A$2:$D$1048576,2,0),0)","v":0},null,null,null,null,null,"00:00:00",null,"00:00:00","00:00:00"]
[null,{"$f":"IFERROR(VLOOKUP(A4570,'Banco de Funcionários'!$A$2:$D$1048576,2,0),0)","v":0},null,null,null,null,null,"00:00:00",null,"00:00:00","00:00:00"]
[null,{"$f":"IFERROR(VLOOKUP(A4576,'Banco de Funcionários'!$A$2:$D$1048576,2,0),0)","v":0},null,null,null,null,null,"00:00:00",null,"00:00:00","00:00:00"]
[null,{"$f":"IFERROR(VLOOKUP(A4581,'Banco de Funcionários'!$A$2:$D$1048576,2,0),0)","v":0},null,null,null,null,null,"00:00:00",null,"00:00:00","00:00:00"]
[null,{"$f":"IFERROR(VLOOKUP(A4582,'Banco de Funcionários'!$A$2:$D$1048576,2,0),0)","v":0},null,null,null,null,null,"00:00:00",null,"00:00:00","00:00:00"]
[null,{"$f":"IFERROR(VLOOKUP(A4587,'Banco de Funcionários'!$A$2:$D$1048576,2,0),0)","v":0},null,null,null,null,null,"00:00:00",null,"00:00:00","00:00:00"]
[null,{"$f":"IFERROR(VLOOKUP(A4592,'Banco de Funcionários'!$A$2:$D$1048576,2,0),0)","v":0},null,null,null,null,null,"00:00:00",null,"00:00:00","00:00:00"]
[null,{"$f":"IFERROR(VLOOKUP(A4598,'Banco de Funcionários'!$A$2:$D$1048576,2,0),0)","v":0},null,null,null,null,null,"00:00:00",null,"00:00:00","00:00:00"]
[null,{"$f":"IFERROR(VLOOKUP(A4603,'Banco de Funcionários'!$A$2:$D$1048576,2,0),0)","v":0},null,null,null,null,null,"00:00:00",null,"00:00:00","00:00:00"]
[null,{"$f":"IFERROR(VLOOKUP(A4608,'Banco de Funcionários'!$A$2:$D$1048576,2,0),0)","v":0},null,null,null,null,null,"00:00:00",null,"00:00:00","00:00:00"]
[null,{"$f":"IFERROR(VLOOKUP(A4614,'Banco de Funcionários'!$A$2:$D$1048576,2,0),0)","v":0},null,null,null,null,null,"00:00:00",null,"00:00:00","00:00:00"]
[null,{"$f":"IFERROR(VLOOKUP(A4619,'Banco de Funcionários'!$A$2:$D$1048576,2,0),0)","v":0},null,null,null,null,null,"00:00:00",null,"00:00:00","00:00:00"]
[null,{"$f":"IFERROR(VLOOKUP(A4625,'Banco de Funcionários'!$A$2:$D$1048576,2,0),0)","v":0},null,null,null,null,null,"00:00:00",null,"00:00:00","00:00:00"]
[null,{"$f":"IFERROR(VLOOKUP(A4630,'Banco de Funcionários'!$A$2:$D$1048576,2,0),0)","v":0},null,null,null,null,null,"00:00:00",null,"00:00:00","00:00:00"]
[null,{"$f":"IFERROR(VLOOKUP(A4635,'Banco de Funcionários'!$A$2:$D$1048576,2,0),0)","v":0},null,null,null,null,null,"00:00:00",null,"00:00:00","00:00:00"]
[null,{"$f":"IFERROR(VLOOKUP(A4641,'Banco de Funcionários'!$A$2:$D$1048576,2,0),0)","v":0},null,null,null,null,null,"00:00:00",null,"00:00:00","00:00:00"]
[null,{"$f":"IFERROR(VLOOKUP(A4646,'Banco de Funcionários'!$A$2:$D$1048576,2,0),0)","v":0},null,null,null,null,null,"00:00:00",null,"00:00:00","00:00:00"]
[null,{"$f":"IFERROR(VLOOKUP(A4651,'Banco de Funcionários'!$A$2:$D$1048576,2,0),0)","v":0},null,null,null,null,null,"00:00:00",null,"00:00:00","00:00:00"]
[null,{"$f":"IFERROR(VLOOKUP(A4652,'Banco de Funcionários'!$A$2:$D$1048576,2,0),0)","v":0},null,null,null,null,null,"00:00:00",null,"00:00:00","00:00:00"]
[null,{"$f":"IFERROR(VLOOKUP(A4657,'Banco de Funcionários'!$A$2:$D$1048576,2,0),0)","v":0},null,null,null,null,null,"00:00:00",null,"00:00:00","00:00:00"]
[null,{"$f":"IFERROR(VLOOKUP(A4663,'Banco de Funcionários'!$A$2:$D$1048576,2,0),0)","v":0},null,null,null,null,null,"00:00:00",null,"00:00:00","00:00:00"]
[null,{"$f":"IFERROR(VLOOKUP(A4668,'Banco de Funcionários'!$A$2:$D$1048576,2,0),0)","v":0},null,null,null,null,null,"00:00:00",null,"00:00:00","00:00:00"]
[null,{"$f":"IFERROR(VLOOKUP(A4672,'Banco de Funcionários'!$A$2:$D$1048576,2,0),0)","v":0},null,null,null,null,null,"00:00:00",null,"00:00:00","00:00:00"]
[null,{"$f":"IFERROR(VLOOKUP(A4678,'Banco de Funcionários'!$A$2:$D$1048576,2,0),0)","v":0},null,null,null,null,null,"00:00:00",null,"00:00:00","00:00:00"]
[null,{"$f":"IFERROR(VLOOKUP(A4683,'Banco de Funcionários'!$A$2:$D$1048576,2,0),0)","v":0},null,null,null,null,null,"00:00:00",null,"00:00:00","00:00:00"]
[null,{"$f":"IFERROR(VLOOKUP(A4689,'Banco de Funcionários'!$A$2:$D$1048576,2,0),0)","v":0},null,null,null,null,null,"00:00:00",null,"00:00:00","00:00:00"]
[null,{"$f":"IFERROR(VLOOKUP(A4694,'Banco de Funcionários'!$A$2:$D$1048576,2,0),0)","v":0},null,null,null,null,null,"00:00:00",null,"00:00:00","00:00:00"]
[null,{"$f":"IFERROR(VLOOKUP(A4699,'Banco de Funcionários'!$A$2:$D$1048576,2,0),0)","v":0},null,null,null,null,null,"00:00:00",null,"00:00:00","00:00:00"]
[null,{"$f":"IFERROR(VLOOKUP(A4705,'Banco de Funcionários'!$A$2:$D$1048576,2,0),0)","v":0},null,null,null,null,null,"00:00:00",null,"00:00:00","00:00:00"]
[null,{"$f":"IFERROR(VLOOKUP(A4710,'Banco de Funcionários'!$A$2:$D$1048576,2,0),0)","v":0},null,null,null,null,null,"00:00:00",null,"00:00:00","00:00:00"]
[null,{"$f":"IFERROR(VLOOKUP(A4715,'Banco de Funcionários'!$A$2:$D$1048576,2,0),0)","v":0},null,null,null,null,null,"00:00:00",null,"00:00:00","00:00:00"]
[null,{"$f":"IFERROR(VLOOKUP(A4716,'Banco de Funcionários'!$A$2:$D$1048576,2,0),0)","v":0},null,null,null,null,null,"00:00:00",null,"00:00:00","00:00:00"]
[null,{"$f":"IFERROR(VLOOKUP(A4721,'Banco de Funcionários'!$A$2:$D$1048576,2,0),0)","v":0},null,null,null,null,null,"00:00:00",null,"00:00:00","00:00:00"]
[null,{"$f":"IFERROR(VLOOKUP(A4727,'Banco de Funcionários'!$A$2:$D$1048576,2,0),0)","v":0},null,null,null,null,null,"00:00:00",null,"00:00:00","00:00:00"]
[null,{"$f":"IFERROR(VLOOKUP(A4732,'Banco de Funcionários'!$A$2:$D$1048576,2,0),0)","v":0},null,null,null,null,null,"00:00:00",null,"00:00:00","00:00:00"]
[null,{"$f":"IFERROR(VLOOKUP(A4737,'Banco de Funcionários'!$A$2:$D$1048576,2,0),0)","v":0},null,null,null,null,null,"00:00:00",null,"00:00:00","00:00:00"]
[null,{"$f":"IFERROR(VLOOKUP(A4743,'Banco de Funcionários'!$A$2:$D$1048576,2,0),0)","v":0},null,null,null,null,null,"00:00:00",null,"00:00:00","00:00:00"]
[null,{"$f":"IFERROR(VLOOKUP(A4748,'Banco de Funcionários'!$A$2:$D$1048576,2,0),0)","v":0},null,null,null,null,null,"00:00:00",null,"00:00:00","00:00:00"]
[null,{"$f":"IFERROR(VLOOKUP(A4753,'Banco de Funcionários'!$A$2:$D$1048576,2,0),0)","v":0},null,null,null,null,null,"00:00:00",null,"00:00:00","00:00:00"]
[null,{"$f":"IFERROR(VLOOKUP(A4759,'Banco de Funcionários'!$A$2:$D$1048576,2,0),0)","v":0},null,null,null,null,null,"00:00:00",null,"00:00:00","00:00:00"]
[null,{"$f":"IFERROR(VLOOKUP(A4764,'Banco de Funcionários'!$A$2:$D$1048576,2,0),0)","v":0},null,null,null,null,null,"00:00:00",null,"00:00:00","00:00:00"]
[null,{"$f":"IFERROR(VLOOKUP(A4770,'Banco de Funcionários'!$A$2:$D$1048576,2,0),0)","v":0},null,null,null,null,null,"00:00:00",null,"00:00:00","00:00:00"]
[null,{"$f":"IFERROR(VLOOKUP(A4775,'Banco de Funcionários'!$A$2:$D$1048576,2,0),0)","v":0},null,null,null,null,null,"00:00:00",null,"00:00:00","00:00:00"]
[null,{"$f":"IFERROR(VLOOKUP(A4780,'Banco de Funcionários'!$A$2:$D$1048576,2,0),0)","v":0},null,null,null,null,null,"00:00:00",null,"00:00:00","00:00:00"]
[null,{"$f":"IFERROR(VLOOKUP(A4783,'Banco de Funcionários'!$A$2:$D$1048576,2,0),0)","v":0},null,null,null,null,null,"00:00:00",null,"00:00:00","00:00:00"]
[null,{"$f":"IFERROR(VLOOKUP(A4785,'Banco de Funcionários'!$A$2:$D$1048576,2,0),0)","v":0},null,null,null,null,null,"00:00:00",null,"00:00:00","00:00:00"]
[null,{"$f":"IFERROR(VLOOKUP(A4791,'Banco de Funcionários'!$A$2:$D$1048576,2,0),0)","v":0},null,null,null,null,null,"00:00:00",null,"00:00:00","00:00:00"]
[null,{"$f":"IFERROR(VLOOKUP(A4796,'Banco de Funcionários'!$A$2:$D$1048576,2,0),0)","v":0},null,null,null,null,null,"00:00:00",null,"00:00:00","00:00:00"]
[null,{"$f":"IFERROR(VLOOKUP(A4801,'Banco de Funcionários'!$A$2:$D$1048576,2,0),0)","v":0},null,null,null,null,null,"00:00:00",null,"00:00:00","00:00:00"]
[null,{"$f":"IFERROR(VLOOKUP(A4807,'Banco de Funcionários'!$A$2:$D$1048576,2,0),0)","v":0},null,null,null,null,null,"00:00:00",null,"00:00:00","00:00:00"]
[null,{"$f":"IFERROR(VLOOKUP(A4812,'Banco de Funcionários'!$A$2:$D$1048576,2,0),0)","v":0},null,null,null,null,null,"00:00:00",null,"00:00:00","00:00:00"]
[null,{"$f":"IFERROR(VLOOKUP(A4817,'Banco de Funcionários'!$A$2:$D$1048576,2,0),0)","v":0},null,null,null,null,null,"00:00:00",null,"00:00:00","00:00:00"]
[null,{"$f":"IFERROR(VLOOKUP(A4823,'Banco de Funcionários'!$A$2:$D$1048576,2,0),0)","v":0},null,null,null,null,null,"00:00:00",null,"00:00:00","00:00:00"]
[null,{"$f":"IFERROR(VLOOKUP(A4828,'Banco de Funcionários'!$A$2:$D$1048576,2,0),0)","v":0},null,null,null,null,null,"00:00:00",null,"00:00:00","00:00:00"]
[null,{"$f":"IFERROR(VLOOKUP(A4834,'Banco de Funcionários'!$A$2:$D$1048576,2,0),0)","v":0},null,null,null,null,null,"00:00:00",null,"00:00:00","00:00:00"]
[null,{"$f":"IFERROR(VLOOKUP(A4839,'Banco de Funcionários'!$A$2:$D$1048576,2,0),0)","v":0},null,null,null,null,null,"00:00:00",null,"00:00:00","00:00:00"]
[null,{"$f":"IFERROR(VLOOKUP(A4844,'Banco de Funcionários'!$A$2:$D$1048576,2,0),0)","v":0},null,null,null,null,null,"00:00:00",null,"00:00:00","00:00:00"]
[null,{"$f":"IFERROR(VLOOKUP(A4845,'Banco de Funcionários'!$A$2:$D$1048576,2,0),0)","v":0},null,null,null,null,null,"00:00:00",null,"00:00:00","00:00:00"]
[null,{"$f":"IFERROR(VLOOKUP(A4850,'Banco de Funcionários'!$A$2:$D$1048576,2,0),0)","v":0},null,null,null,null,null,"00:00:00",null,"00:00:00","00:00:00"]
[null,{"$f":"IFERROR(VLOOKUP(A4856,'Banco de Funcionários'!$A$2:$D$1048576,2,0),0)","v":0},null,null,null,null,null,"00:00:00",null,"00:00:00","00:00:00"]
[null,{"$f":"IFERROR(VLOOKUP(A4861,'Banco de Funcionários'!$A$2:$D$1048576,2,0),0)","v":0},null,null,null,null,null,"00:00:00",null,"00:00:00","00:00:00"]
[null,{"$f":"IFERROR(VLOOKUP(A4866,'Banco de Funcionários'!$A$2:$D$1048576,2,0),0)","v":0},null,null,null,null,null,"00:00:00",null,"00:00:00","00:00:00"]
[null,{"$f":"IFERROR(VLOOKUP(A4872,'Banco de Funcionários'!$A$2:$D$1048576,2,0),0)","v":0},null,null,null,null,null,"00:00:00",null,"00:00:00","00:00:00"]
[null,{"$f":"IFERROR(VLOOKUP(A4877,'Banco de Funcionários'!$A$2:$D$1048576,2,0),0)","v":0},null,null,null,null,null,"00:00:00",null,"00:00:00","00:00:00"]
[null,{"$f":"IFERROR(VLOOKUP(A4882,'Banco de Funcionários'!$A$2:$D$1048576,2,0),0)","v":0},null,null,null,null,null,"00:00:00",null,"00:00:00","00:00:00"]
[null,{"$f":"IFERROR(VLOOKUP(A4888,'Banco de Funcionários'!$A$2:$D$1048576,2,0),0)","v":0},null,null,null,null,null,"00:00:00",null,"00:00:00","00:00:00"]
[null,{"$f":"IFERROR(VLOOKUP(A4893,'Banco de Funcionários'!$A$2:$D$1048576,2,0),0)","v":0},null,null,null,null,null,"00:00:00",null,"00:00:00","00:00:00"]
[null,{"$f":"IFERROR(VLOOKUP(A4896,'Banco de Funcionários'!$A$2:$D$1048576,2,0),0)","v":0},null,null,null,null,null,"00:00:00",null,"00:00:00","00:00:00"]
[null,{"$f":"IFERROR(VLOOKUP(A4903,'Banco de Funcionários'!$A$2:$D$1048576,2,0),0)","v":0},null,null,null,null,null,"00:00:00",null,"00:00:00","00:00:00"]
[null,{"$f":"IFERROR(VLOOKUP(A4908,'Banco de Funcionários'!$A$2:$D$1048576,2,0),0)","v":0},null,null,null,null,null,"00:00:00",null,"00:00:00","00:00:00"]
[null,{"$f":"IFERROR(VLOOKUP(A4909,'Banco de Funcionários'!$A$2:$D$1048576,2,0),0)","v":0},null,null,null,null,null,"00:00:00",null,"00:00:00","00:00:00"]
[null,{"$f":"IFERROR(VLOOKUP(A4914,'Banco de Funcionários'!$A$2:$D$1048576,2,0),0)","v":0},null,null,null,null,null,"00:00:00",null,"00:00:00","00:00:00"]
[null,{"$f":"IFERROR(VLOOKUP(A4919,'Banco de Funcionários'!$A$2:$D$1048576,2,0),0)","v":0},null,null,null,null,null,"00:00:00",null,"00:00:00","00:00:00"]
[null,{"$f":"IFERROR(VLOOKUP(A4925,'Banco de Funcionários'!$A$2:$D$1048576,2,0),0)","v":0},null,null,null,null,null,"00:00:00",null,"00:00:00","00:00:00"]
[null,{"$f":"IFERROR(VLOOKUP(A4930,'Banco de Funcionários'!$A$2:$D$1048576,2,0),0)","v":0},null,null,null,null,null,"00:00:00",null,"00:00:00","00:00:00"]
[null,{"$f":"IFERROR(VLOOKUP(A4936,'Banco de Funcionários'!$A$2:$D$1048576,2,0),0)","v":0},null,null,null,null,null,"00:00:00",null,"00:00:00","00:00:00"]
[null,{"$f":"IFERROR(VLOOKUP(A4941,'Banco de Funcionários'!$A$2:$D$1048576,2,0),0)","v":0},null,null,null,null,null,"00:00:00",null,"00:00:00","00:00:00"]
[null,{"$f":"IFERROR(VLOOKUP(A4946,'Banco de Funcionários'!$A$2:$D$1048576,2,0),0)","v":0},null,null,null,null,null,"00:00:00",null,"00:00:00","00:00:00"]
[null,{"$f":"IFERROR(VLOOKUP(A4952,'Banco de Funcionários'!$A$2:$D$1048576,2,0),0)","v":0},null,null,null,null,null,"00:00:00",null,"00:00:00","00:00:00"]
[null,{"$f":"IFERROR(VLOOKUP(A4957,'Banco de Funcionários'!$A$2:$D$1048576,2,0),0)","v":0},null,null,null,null,null,"00:00:00",null,"00:00:00","00:00:00"]
[null,{"$f":"IFERROR(VLOOKUP(A4963,'Banco de Funcionários'!$A$2:$D$1048576,2,0),0)","v":0},null,null,null,null,null,"00:00:00",null,"00:00:00","00:00:00"]
[null,{"$f":"IFERROR(VLOOKUP(A4968,'Banco de Funcionários'!$A$2:$D$1048576,2,0),0)","v":0},null,null,null,null,null,"00:00:00",null,"00:00:00","00:00:00"]
[null,{"$f":"IFERROR(VLOOKUP(A4973,'Banco de Funcionários'!$A$2:$D$1048576,2,0),0)","v":0},null,null,null,null,null,"00:00:00",null,"00:00:00","00:00:00"]
[null,{"$f":"IFERROR(VLOOKUP(A4974,'Banco de Funcionários'!$A$2:$D$1048576,2,0),0)","v":0},null,null,null,null,null,"00:00:00",null,"00:00:00","00:00:00"]
[null,{"$f":"IFERROR(VLOOKUP(A4979,'Banco de Funcionários'!$A$2:$D$1048576,2,0),0)","v":0},null,null,null,null,null,"00:00:00",null,"00:00:00","00:00:00"]
[null,{"$f":"IFERROR(VLOOKUP(A4984,'Banco de Funcionários'!$A$2:$D$1048576,2,0),0)","v":0},null,null,null,null,null,"00:00:00",null,"00:00:00","00:00:00"]
[null,{"$f":"IFERROR(VLOOKUP(A4990,'Banco de Funcionários'!$A$2:$D$1048576,2,0),0)","v":0},null,null,null,null,null,"00:00:00",null,"00:00:00","00:00:00"]
[null,{"$f":"IFERROR(VLOOKUP(A4995,'Banco de Funcionários'!$A$2:$D$1048576,2,0),0)","v":0},null,null,null,null,null,{"$f":"(F4995-E4995)-G4995","v":"00:00:00"},null,{"$f":"IFERROR(H4995-I4995,\"\")","v":"00:00:00"},{"$f":"IFERROR(H4995+J4995,0)","v":"00:00:00"}]
[null,{"$f":"IFERROR(VLOOKUP(A5001,'Banco de Funcionários'!$A$2:$D$1048576,2,0),0)","v":0},null,null,null,null,null,"00:00:00",null,"00:00:00","00:00:00"]
[null,{"$f":"IFERROR(VLOOKUP(A5007,'Banco de Funcionários'!$A$2:$D$1048576,2,0),0)","v":0},null,null,null,null,null,"00:00:00",null,"00:00:00","00:00:00"]
[null,{"$f":"IFERROR(VLOOKUP(A5010,'Banco de Funcionários'!$A$2:$D$1048576,2,0),0)","v":0},null,null,null,null,null,"00:00:00",null,"00:00:00","00:00:00"]
[null,{"$f":"IFERROR(VLOOKUP(A5016,'Banco de Funcionários'!$A$2:$D$1048576,2,0),0)","v":0},null,null,null,null,null,"00:00:00",null,"00:00:00","00:00:00"]
[null,{"$f":"IFERROR(VLOOKUP(A5021,'Banco de Funcionários'!$A$2:$D$1048576,2,0),0)","v":0},null,null,null,null,null,"00:00:00",null,"00:00:00","00:00:00"]
[null,{"$f":"IFERROR(VLOOKUP(A5026,'Banco de Funcionários'!$A$2:$D$1048576,2,0),0)","v":0},null,null,null,null,null,"00:00:00",null,"00:00:00","00:00:00"]
[null,{"$f":"IFERROR(VLOOKUP(A5032,'Banco de Funcionários'!$A$2:$D$1048576,2,0),0)","v":0},null,null,null,null,null,"00:00:00",null,"00:00:00","00:00:00"]
[null,{"$f":"IFERROR(VLOOKUP(A5037,'Banco de Funcionários'!$A$2:$D$1048576,2,0),0)","v":0},null,null,null,null,null,"00:00:00",null,"00:00:00","00:00:00"]
[null,{"$f":"IFERROR(VLOOKUP(A5038,'Banco de Funcionários'!$A$2:$D$1048576,2,0),0)","v":0},null,null,null,null,null,"00:00:00",null,"00:00:00","00:00:00"]
[null,{"$f":"IFERROR(VLOOKUP(A5043,'Banco de Funcionários'!$A$2:$D$1048576,2,0),0)","v":0},null,null,null,null,null,"00:00:00",null,"00:00:00","00:00:00"]
[null,{"$f":"IFERROR(VLOOKUP(A5048,'Banco de Funcionários'!$A$2:$D$1048576,2,0),0)","v":0},null,null,null,null,null,"00:00:00",null,"00:00:00","00:00:00"]
[null,{"$f":"IFERROR(VLOOKUP(A5054,'Banco de Funcionários'!$A$2:$D$1048576,2,0),0)","v":0},null,null,null,null,null,"00:00:00",null,"00:00:00","00:00:00"]
[null,{"$f":"IFERROR(VLOOKUP(A5059,'Banco de Funcionários'!$A$2:$D$1048576,2,0),0)","v":0},null,null,null,null,null,{"$f":"(F5059-E5059)-G5059","v":"00:00:00"},null,{"$f":"IFERROR(H5059-I5059,\"\")","v":"00:00:00"},{"$f":"IFERROR(H5059+J5059,0)","v":"00:00:00"}]
[null,{"$f":"IFERROR(VLOOKUP(A5065,'Banco de Funcionários'!$A$2:$D$1048576,2,0),0)","v":0},null,null,null,null,null,"00:00:00",null,"00:00:00","00:00:00"]
[null,{"$f":"IFERROR(VLOOKUP(A5070,'Banco de Funcionários'!$A$2:$D$1048576,2,0),0)","v":0},null,null,null,null,null,"00:00:00",null,"00:00:00","00:00:00"]
[null,{"$f":"IFERROR(VLOOKUP(A5075,'Banco de Funcionários'!$A$2:$D$1048576,2,0),0)","v":0},null,null,null,null,null,"00:00:00",null,"00:00:00","00:00:00"]
[null,{"$f":"IFERROR(VLOOKUP(A5081,'Banco de Funcionários'!$A$2:$D$1048576,2,0),0)","v":0},null,null,null,null,null,"00:00:00",null,"00:00:00","00:00:00"]
[null,{"$f":"IFERROR(VLOOKUP(A5086,'Banco de Funcionários'!$A$2:$D$1048576,2,0),0)","v":0},null,null,null,null,null,"00:00:00",null,"00:00:00","00:00:00"]
[null,{"$f":"IFERROR(VLOOKUP(A5091,'Banco de Funcionários'!$A$2:$D$1048576,2,0),0)","v":0},null,null,null,null,null,"00:00:00",null,"00:00:00","00:00:00"]
[null,{"$f":"IFERROR(VLOOKUP(A5097,'Banco de Funcionários'!$A$2:$D$1048576,2,0),0)","v":0},null,null,null,null,null,"00:00:00",null,"00:00:00","00:00:00"]
[null,{"$f":"IFERROR(VLOOKUP(A5102,'Banco de Funcionários'!$A$2:$D$1048576,2,0),0)","v":0},null,null,null,null,null,"00:00:00",null,"00:00:00","00:00:00"]
[null,{"$f":"IFERROR(VLOOKUP(A5103,'Banco de Funcionários'!$A$2:$D$1048576,2,0),0)","v":0},null,null,null,null,null,"00:00:00",null,"00:00:00","00:00:00"]
[null,{"$f":"IFERROR(VLOOKUP(A5108,'Banco de Funcionários'!$A$2:$D$1048576,2,0),0)","v":0},null,null,null,null,null,"00:00:00",null,"00:00:00","00:00:00"]
[null,{"$f":"IFERROR(VLOOKUP(A5113,'Banco de Funcionários'!$A$2:$D$1048576,2,0),0)","v":0},null,null,null,null,null,"00:00:00",null,"00:00:00","00:00:00"]
[null,{"$f":"IFERROR(VLOOKUP(A5120,'Banco de Funcionários'!$A$2:$D$1048576,2,0),0)","v":0},null,null,null,null,null,"00:00:00",null,"00:00:00","00:00:00"]
[null,{"$f":"IFERROR(VLOOKUP(A5123,'Banco de Funcionários'!$A$2:$D$1048576,2,0),0)","v":0},null,null,null,null,null,{"$f":"(F5123-E5123)-G5123","v":"00:00:00"},null,{"$f":"IFERROR(H5123-I5123,\"\")","v":"00:00:00"},{"$f":"IFERROR(H5123+J5123,0)","v":"00:00:00"}]
[null,{"$f":"IFERROR(VLOOKUP(A5129,'Banco de Funcionários'!$A$2:$D$1048576,2,0),0)","v":0},null,null,null,null,null,"00:00:00",null,"00:00:00","00:00:00"]
[null,{"$f":"IFERROR(VLOOKUP(A5134,'Banco de Funcionários'!$A$2:$D$1048576,2,0),0)","v":0},null,null,null,null,null,"00:00:00",null,"00:00:00","00:00:00"]
[null,{"$f":"IFERROR(VLOOKUP(A5139,'Banco de Funcionários'!$A$2:$D$1048576,2,0),0)","v":0},null,null,null,null,null,"00:00:00",null,"00:00:00","00:00:00"]
[null,{"$f":"IFERROR(VLOOKUP(A5145,'Banco de Funcionários'!$A$2:$D$1048576,2,0),0)","v":0},null,null,null,null,null,"00:00:00",null,"00:00:00","00:00:00"]
[null,{"$f":"IFERROR(VLOOKUP(A5150,'Banco de Funcionários'!$A$2:$D$1048576,2,0),0)","v":0},null,null,null,null,null,"00:00:00",null,"00:00:00","00:00:00"]
[null,{"$f":"IFERROR(VLOOKUP(A5155,'Banco de Funcionários'!$A$2:$D$1048576,2,0),0)","v":0},null,null,null,null,null,"00:00:00",null,"00:00:00","00:00:00"]
[null,{"$f":"IFERROR(VLOOKUP(A5161,'Banco de Funcionários'!$A$2:$D$1048576,2,0),0)","v":0},null,null,null,null,null,"00:00:00",null,"00:00:00","00:00:00"]
[null,{"$f":"IFERROR(VLOOKUP(A5166,'Banco de Funcionários'!$A$2:$D$1048576,2,0),0)","v":0},null,null,null,null,null,"00:00:00",null,"00:00:00","00:00:00"]
[null,{"$f":"IFERROR(VLOOKUP(A5167,'Banco de Funcionários'!$A$2:$D$1048576,2,0),0)","v":0},null,null,null,null,null,"00:00:00",null,"00:00:00","00:00:00"]
[null,{"$f":"IFERROR(VLOOKUP(A5172,'Banco de Funcionários'!$A$2:$D$1048576,2,0),0)","v":0},null,null,null,null,null,"00:00:00",null,"00:00:00","00:00:00"]
[null,{"$f":"IFERROR(VLOOKUP(A5177,'Banco de Funcionários'!$A$2:$D$1048576,2,0),0)","v":0},null,null,null,null,null,"00:00:00",null,"00:00:00","00:00:00"]
[null,{"$f":"IFERROR(VLOOKUP(A5183,'Banco de Funcionários'!$A$2:$D$1048576,2,0),0)","v":0},null,null,null,null,null,"00:00:00",null,"00:00:00","00:00:00"]
[null,{"$f":"IFERROR(VLOOKUP(A5188,'Banco de Funcionários'!$A$2:$D$1048576,2,0),0)","v":0},null,null,null,null,null,"00:00:00",null,"00:00:00","00:00:00"]
[null,{"$f":"IFERROR(VLOOKUP(A5193,'Banco de Funcionários'!$A$2:$D$1048576,2,0),0)","v":0},null,null,null,null,null,"00:00:00",null,"00:00:00","00:00:00"]
[null,{"$f":"IFERROR(VLOOKUP(A5199,'Banco de Funcionários'!$A$2:$D$1048576,2,0),0)","v":0},null,null,null,null,null,"00:00:00",null,"00:00:00","00:00:00"]
[null,{"$f":"IFERROR(VLOOKUP(A5204,'Banco de Funcionários'!$A$2:$D$1048576,2,0),0)","v":0},null,null,null,null,null,"00:00:00",null,"00:00:00","00:00:00"]
[null,{"$f":"IFERROR(VLOOKUP(A5210,'Banco de Funcionários'!$A$2:$D$1048576,2,0),0)","v":0},null,null,null,null,null,"00:00:00",null,"00:00:00","00:00:00"]
[null,{"$f":"IFERROR(VLOOKUP(A5215,'Banco de Funcionários'!$A$2:$D$1048576,2,0),0)","v":0},null,null,null,null,null,"00:00:00",null,"00:00:00","00:00:00"]
[null,{"$f":"IFERROR(VLOOKUP(A5220,'Banco de Funcionários'!$A$2:$D$1048576,2,0),0)","v":0},null,null,null,null,null,"00:00:00",null,"00:00:00","00:00:00"]
[null,{"$f":"IFERROR(VLOOKUP(A5226,'Banco de Funcionários'!$A$2:$D$1048576,2,0),0)","v":0},null,null,null,null,null,"00:00:00",null,"00:00:00","00:00:00"]
[null,{"$f":"IFERROR(VLOOKUP(A5227,'Banco de Funcionários'!$A$2:$D$1048576,2,0),0)","v":0},null,null,null,null,null,"00:00:00",null,"00:00:00","00:00:00"]
[null,{"$f":"IFERROR(VLOOKUP(A5231,'Banco de Funcionários'!$A$2:$D$1048576,2,0),0)","v":0},null,null,null,null,null,"00:00:00",null,"00:00:00","00:00:00"]
[null,{"$f":"IFERROR(VLOOKUP(A5236,'Banco de Funcionários'!$A$2:$D$1048576,2,0),0)","v":0},null,null,null,null,null,"00:00:00",null,"00:00:00","00:00:00"]
[null,{"$f":"IFERROR(VLOOKUP(A5241,'Banco de Funcionários'!$A$2:$D$1048576,2,0),0)","v":0},null,null,null,null,null,"00:00:00",null,"00:00:00","00:00:00"]
[null,{"$f":"IFERROR(VLOOKUP(A5247,'Banco de Funcionários'!$A$2:$D$1048576,2,0),0)","v":0},null,null,null,null,null,"00:00:00",null,"00:00:00","00:00:00"]
[null,{"$f":"IFERROR(VLOOKUP(A5252,'Banco de Funcionários'!$A$2:$D$1048576,2,0),0)","v":0},null,null,null,null,null,"00:00:00",null,"00:00:00","00:00:00"]
[null,{"$f":"IFERROR(VLOOKUP(A5257,'Banco de Funcionários'!$A$2:$D$1048576,2,0),0)","v":0},null,null,null,null,null,"00:00:00",null,"00:00:00","00:00:00"]
[null,{"$f":"IFERROR(VLOOKUP(A5263,'Banco de Funcionários'!$A$2:$D$1048576,2,0),0)","v":0},null,null,null,null,null,"00:00:00",null,"00:00:00","00:00:00"]
[null,{"$f":"IFERROR(VLOOKUP(A5268,'Banco de Funcionários'!$A$2:$D$1048576,2,0),0)","v":0},null,null,null,null,null,"00:00:00",null,"00:00:00","00:00:00"]
[null,{"$f":"IFERROR(VLOOKUP(A5274,'Banco de Funcionários'!$A$2:$D$1048576,2,0),0)","v":0},null,null,null,null,null,"00:00:00",null,"00:00:00","00:00:00"]
[null,{"$f":"IFERROR(VLOOKUP(A5279,'Banco de Funcionários'!$A$2:$D$1048576,2,0),0)","v":0},null,null,null,null,null,"00:00:00",null,"00:00:00","00:00:00"]
[null,{"$f":"IFERROR(VLOOKUP(A5284,'Banco de Funcionários'!$A$2:$D$1048576,2,0),0)","v":0},null,null,null,null,null,"00:00:00",null,"00:00:00","00:00:00"]
[null,{"$f":"IFERROR(VLOOKUP(A5290,'Banco de Funcionários'!$A$2:$D$1048576,2,0),0)","v":0},null,null,null,null,null,"00:00:00",null,"00:00:00","00:00:00"]
[null,{"$f":"IFERROR(VLOOKUP(A5295,'Banco de Funcionários'!$A$2:$D$1048576,2,0),0)","v":0},null,null,null,null,null,"00:00:00",null,"00:00:00","00:00:00"]
[null,{"$f":"IFERROR(VLOOKUP(A5296,'Banco de Funcionários'!$A$2:$D$1048576,2,0),0)","v":0},null,null,null,null,null,"00:00:00",null,"00:00:00","00:00:00"]
[null,{"$f":"IFERROR(VLOOKUP(A5301,'Banco de Funcionários'!$A$2:$D$1048576,2,0),0)","v":0},null,null,null,null,null,"00:00:00",null,"00:00:00","00:00:00"]
[null,{"$f":"IFERROR(VLOOKUP(A5306,'Banco de Funcionários'!$A$2:$D$1048576,2,0),0)","v":0},null,null,null,null,null,"00:00:00",null,"00:00:00","00:00:00"]
[null,{"$f":"IFERROR(VLOOKUP(A5312,'Banco de Funcionários'!$A$2:$D$1048576,2,0),0)","v":0},null,null,null,null,null,"00:00:00",null,"00:00:00","00:00:00"]
[null,{"$f":"IFERROR(VLOOKUP(A5317,'Banco de Funcionários'!$A$2:$D$1048576,2,0),0)","v":0},null,null,null,null,null,"00:00:00",null,"00:00:00","00:00:00"]
[null,{"$f":"IFERROR(VLOOKUP(A5322,'Banco de Funcionários'!$A$2:$D$1048576,2,0),0)","v":0},null,null,null,null,null,"00:00:00",null,"00:00:00","00:00:00"]
[null,{"$f":"IFERROR(VLOOKUP(A5328,'Banco de Funcionários'!$A$2:$D$1048576,2,0),0)","v":0},null,null,null,null,null,"00:00:00",null,"00:00:00","00:00:00"]
[null,{"$f":"IFERROR(VLOOKUP(A5333,'Banco de Funcionários'!$A$2:$D$1048576,2,0),0)","v":0},null,null,null,null,null,"00:00:00",null,"00:00:00","00:00:00"]
[null,{"$f":"IFERROR(VLOOKUP(A5339,'Banco de Funcionários'!$A$2:$D$1048576,2,0),0)","v":0},null,null,null,null,null,"00:00:00",null,"00:00:00","00:00:00"]
[null,{"$f":"IFERROR(VLOOKUP(A5344,'Banco de Funcionários'!$A$2:$D$1048576,2,0),0)","v":0},null,null,null,null,null,"00:00:00",null,"00:00:00","00:00:00"]
[null,{"$f":"IFERROR(VLOOKUP(A5348,'Banco de Funcionários'!$A$2:$D$1048576,2,0),0)","v":0},null,null,null,null,null,"00:00:00",null,"00:00:00","00:00:00"]
[null,{"$f":"IFERROR(VLOOKUP(A5354,'Banco de Funcionários'!$A$2:$D$1048576,2,0),0)","v":0},null,null,null,null,null,"00:00:00",null,"00:00:00","00:00:00"]
[null,{"$f":"IFERROR(VLOOKUP(A5359,'Banco de Funcionários'!$A$2:$D$1048576,2,0),0)","v":0},null,null,null,null,null,"00:00:00",null,"00:00:00","00:00:00"]
[null,{"$f":"IFERROR(VLOOKUP(A5364,'Banco de Funcionários'!$A$2:$D$1048576,2,0),0)","v":0},null,null,null,null,null,"00:00:00",null,"00:00:00","00:00:00"]
[null,{"$f":"IFERROR(VLOOKUP(A5365,'Banco de Funcionários'!$A$2:$D$1048576,2,0),0)","v":0},null,null,null,null,null,"00:00:00",null,"00:00:00","00:00:00"]
[null,{"$f":"IFERROR(VLOOKUP(A5370,'Banco de Funcionários'!$A$2:$D$1048576,2,0),0)","v":0},null,null,null,null,null,"00:00:00",null,"00:00:00","00:00:00"]
[null,{"$f":"IFERROR(VLOOKUP(A5376,'Banco de Funcionários'!$A$2:$D$1048576,2,0),0)","v":0},null,null,null,null,null,"00:00:00",null,"00:00:00","00:00:00"]
[null,{"$f":"IFERROR(VLOOKUP(A5381,'Banco de Funcionários'!$A$2:$D$1048576,2,0),0)","v":0},null,null,null,null,null,"00:00:00",null,"00:00:00","00:00:00"]
[null,{"$f":"IFERROR(VLOOKUP(A5386,'Banco de Funcionários'!$A$2:$D$1048576,2,0),0)","v":0},null,null,null,null,null,"00:00:00",null,"00:00:00","00:00:00"]
[null,{"$f":"IFERROR(VLOOKUP(A5392,'Banco de Funcionários'!$A$2:$D$1048576,2,0),0)","v":0},null,null,null,null,null,"00:00:00",null,"00:00:00","00:00:00"]
[null,{"$f":"IFERROR(VLOOKUP(A5397,'Banco de Funcionários'!$A$2:$D$1048576,2,0),0)","v":0},null,null,null,null,null,"00:00:00",null,"00:00:00","00:00:00"]
[null,{"$f":"IFERROR(VLOOKUP(A5403,'Banco de Funcionários'!$A$2:$D$1048576,2,0),0)","v":0},null,null,null,null,null,"00:00:00",null,"00:00:00","00:00:00"]
[null,{"$f":"IFERROR(VLOOKUP(A5408,'Banco de Funcionários'!$A$2:$D$1048576,2,0),0)","v":0},null,null,null,null,null,"00:00:00",null,"00:00:00","00:00:00"]
[null,{"$f":"IFERROR(VLOOKUP(A5413,'Banco de Funcionários'!$A$2:$D$1048576,2,0),0)","v":0},null,null,null,null,null,"00:00:00",null,"00:00:00","00:00:00"]
[null,{"$f":"IFERROR(VLOOKUP(A5419,'Banco de Funcionários'!$A$2:$D$1048576,2,0),0)","v":0},null,null,null,null,null,"00:00:00",null,"00:00:00","00:00:00"]
[null,{"$f":"IFERROR(VLOOKUP(A5424,'Banco de Funcionários'!$A$2:$D$1048576,2,0),0)","v":0},null,null,null,null,null,"00:00:00",null,"00:00:00","00:00:00"]
[null,{"$f":"IFERROR(VLOOKUP(A5429,'Banco de Funcionários'!$A$2:$D$1048576,2,0),0)","v":0},null,null,null,null,null,"00:00:00",null,"00:00:00","00:00:00"]
[null,{"$f":"IFERROR(VLOOKUP(A5430,'Banco de Funcionários'!$A$2:$D$1048576,2,0),0)","v":0},null,null,null,null,null,"00:00:00",null,"00:00:00","00:00:00"]
[null,{"$f":"IFERROR(VLOOKUP(A5435,'Banco de Funcionários'!$A$2:$D$1048576,2,0),0)","v":0},null,null,null,null,null,"00:00:00",null,"00:00:00","00:00:00"]
[null,{"$f":"IFERROR(VLOOKUP(A5441,'Banco de Funcionários'!$A$2:$D$1048576,2,0),0)","v":0},null,null,null,null,null,"00:00:00",null,"00:00:00","00:00:00"]
[null,{"$f":"IFERROR(VLOOKUP(A5446,'Banco de Funcionários'!$A$2:$D$1048576,2,0),0)","v":0},null,null,null,null,null,"00:00:00",null,"00:00:00","00:00:00"]
[null,{"$f":"IFERROR(VLOOKUP(A5451,'Banco de Funcionários'!$A$2:$D$1048576,2,0),0)","v":0},null,null,null,null,null,"00:00:00",null,"00:00:00","00:00:00"]
[null,{"$f":"IFERROR(VLOOKUP(A5456,'Banco de Funcionários'!$A$2:$D$1048576,2,0),0)","v":0},null,null,null,null,null,"00:00:00",null,"00:00:00","00:00:00"]
[null,{"$f":"IFERROR(VLOOKUP(A5461,'Banco de Funcionários'!$A$2:$D$1048576,2,0),0)","v":0},null,null,null,null,null,"00:00:00",null,"00:00:00","00:00:00"]
[null,{"$f":"IFERROR(VLOOKUP(A5466,'Banco de Funcionários'!$A$2:$D$1048576,2,0),0)","v":0},null,null,null,null,null,"00:00:00",null,"00:00:00","00:00:00"]
[null,{"$f":"IFERROR(VLOOKUP(A5472,'Banco de Funcionários'!$A$2:$D$1048576,2,0),0)","v":0},null,null,null,null,null,"00:00:00",null,"00:00:00","00:00:00"]
[null,{"$f":"IFERROR(VLOOKUP(A5477,'Banco de Funcionários'!$A$2:$D$1048576,2,0),0)","v":0},null,null,null,null,null,"00:00:00",null,"00:00:00","00:00:00"]
[null,{"$f":"IFERROR(VLOOKUP(A5483,'Banco de Funcionários'!$A$2:$D$1048576,2,0),0)","v":0},null,null,null,null,null,"00:00:00",null,"00:00:00","00:00:00"]
[null,{"$f":"IFERROR(VLOOKUP(A5488,'Banco de Funcionários'!$A$2:$D$1048576,2,0),0)","v":0},null,null,null,null,null,"00:00:00",null,"00:00:00","00:00:00"]
[null,{"$f":"IFERROR(VLOOKUP(A5493,'Banco de Funcionários'!$A$2:$D$1048576,2,0),0)","v":0},null,null,null,null,null,"00:00:00",null,"00:00:00","00:00:00"]
[null,{"$f":"IFERROR(VLOOKUP(A5494,'Banco de Funcionários'!$A$2:$D$1048576,2,0),0)","v":0},null,null,null,null,null,"00:00:00",null,"00:00:00","00:00:00"]
[null,{"$f":"IFERROR(VLOOKUP(A5499,'Banco de Funcionários'!$A$2:$D$1048576,2,0),0)","v":0},null,null,null,null,null,"00:00:00",null,"00:00:00","00:00:00"]
[null,{"$f":"IFERROR(VLOOKUP(A5505,'Banco de Funcionários'!$A$2:$D$1048576,2,0),0)","v":0},null,null,null,null,null,"00:00:00",null,"00:00:00","00:00:00"]
[null,{"$f":"IFERROR(VLOOKUP(A5510,'Banco de Funcionários'!$A$2:$D$1048576,2,0),0)","v":0},null,null,null,null,null,"00:00:00",null,"00:00:00","00:00:00"]
[null,{"$f":"IFERROR(VLOOKUP(A5515,'Banco de Funcionários'!$A$2:$D$1048576,2,0),0)","v":0},null,null,null,null,null,"00:00:00",null,"00:00:00","00:00:00"]
[null,{"$f":"IFERROR(VLOOKUP(A5521,'Banco de Funcionários'!$A$2:$D$1048576,2,0),0)","v":0},null,null,null,null,null,"00:00:00",null,"00:00:00","00:00:00"]
[null,{"$f":"IFERROR(VLOOKUP(A5526,'Banco de Funcionários'!$A$2:$D$1048576,2,0),0)","v":0},null,null,null,null,null,"00:00:00",null,"00:00:00","00:00:00"]
[null,{"$f":"IFERROR(VLOOKUP(A5531,'Banco de Funcionários'!$A$2:$D$1048576,2,0),0)","v":0},null,null,null,null,null,"00:00:00",null,"00:00:00","00:00:00"]
[null,{"$f":"IFERROR(VLOOKUP(A5537,'Banco de Funcionários'!$A$2:$D$1048576,2,0),0)","v":0},null,null,null,null,null,"00:00:00",null,"00:00:00","00:00:00"]
[null,{"$f":"IFERROR(VLOOKUP(A5542,'Banco de Funcionários'!$A$2:$D$1048576,2,0),0)","v":0},null,null,null,null,null,"00:00:00",null,"00:00:00","00:00:00"]
[null,{"$f":"IFERROR(VLOOKUP(A5548,'Banco de Funcionários'!$A$2:$D$1048576,2,0),0)","v":0},null,null,null,null,null,"00:00:00",null,"00:00:00","00:00:00"]
[null,{"$f":"IFERROR(VLOOKUP(A5553,'Banco de Funcionários'!$A$2:$D$1048576,2,0),0)","v":0},null,null,null,null,null,"00:00:00",null,"00:00:00","00:00:00"]
[null,{"$f":"IFERROR(VLOOKUP(A5558,'Banco de Funcionários'!$A$2:$D$1048576,2,0),0)","v":0},null,null,null,null,null,"00:00:00",null,"00:00:00","00:00:00"]
[null,{"$f":"IFERROR(VLOOKUP(A5559,'Banco de Funcionários'!$A$2:$D$1048576,2,0),0)","v":0},null,null,null,null,null,"00:00:00",null,"00:00:00","00:00:00"]
[null,{"$f":"IFERROR(VLOOKUP(A5564,'Banco de Funcionários'!$A$2:$D$1048576,2,0),0)","v":0},null,null,null,null,null,"00:00:00",null,"00:00:00","00:00:00"]
[null,{"$f":"IFERROR(VLOOKUP(A5569,'Banco de Funcionários'!$A$2:$D$1048576,2,0),0)","v":0},null,null,null,null,null,"00:00:00",null,"00:00:00","00:00:00"]
[null,{"$f":"IFERROR(VLOOKUP(A5574,'Banco de Funcionários'!$A$2:$D$1048576,2,0),0)","v":0},null,null,null,null,null,"00:00:00",null,"00:00:00","00:00:00"]
[null,{"$f":"IFERROR(VLOOKUP(A5579,'Banco de Funcionários'!$A$2:$D$1048576,2,0),0)","v":0},null,null,null,null,null,"00:00:00",null,"00:00:00","00:00:00"]
[null,{"$f":"IFERROR(VLOOKUP(A5585,'Banco de Funcionários'!$A$2:$D$1048576,2,0),0)","v":0},null,null,null,null,null,"00:00:00",null,"00:00:00","00:00:00"]
[null,{"$f":"IFERROR(VLOOKUP(A5590,'Banco de Funcionários'!$A$2:$D$1048576,2,0),0)","v":0},null,null,null,null,null,"00:00:00",null,"00:00:00","00:00:00"]
[null,{"$f":"IFERROR(VLOOKUP(A5595,'Banco de Funcionários'!$A$2:$D$1048576,2,0),0)","v":0},null,null,null,null,null,"00:00:00",null,"00:00:00","00:00:00"]
[null,{"$f":"IFERROR(VLOOKUP(A5601,'Banco de Funcionários'!$A$2:$D$1048576,2,0),0)","v":0},null,null,null,null,null,"00:00:00",null,"00:00:00","00:00:00"]
[null,{"$f":"IFERROR(VLOOKUP(A5606,'Banco de Funcionários'!$A$2:$D$1048576,2,0),0)","v":0},null,null,null,null,null,"00:00:00",null,"00:00:00","00:00:00"]
[null,{"$f":"IFERROR(VLOOKUP(A5612,'Banco de Funcionários'!$A$2:$D$1048576,2,0),0)","v":0},null,null,null,null,null,"00:00:00",null,"00:00:00","00:00:00"]
[null,{"$f":"IFERROR(VLOOKUP(A5617,'Banco de Funcionários'!$A$2:$D$1048576,2,0),0)","v":0},null,null,null,null,null,"00:00:00",null,"00:00:00","00:00:00"]
[null,{"$f":"IFERROR(VLOOKUP(A5622,'Banco de Funcionários'!$A$2:$D$1048576,2,0),0)","v":0},null,null,null,null,null,"00:00:00",null,"00:00:00","00:00:00"]
[null,{"$f":"IFERROR(VLOOKUP(A5623,'Banco de Funcionários'!$A$2:$D$1048576,2,0),0)","v":0},null,null,null,null,null,"00:00:00",null,"00:00:00","00:00:00"]
[null,{"$f":"IFERROR(VLOOKUP(A5628,'Banco de Funcionários'!$A$2:$D$1048576,2,0),0)","v":0},null,null,null,null,null,"00:00:00",null,"00:00:00","00:00:00"]
[null,{"$f":"IFERROR(VLOOKUP(A5633,'Banco de Funcionários'!$A$2:$D$1048576,2,0),0)","v":0},null,null,null,null,null,"00:00:00",null,"00:00:00","00:00:00"]
[null,{"$f":"IFERROR(VLOOKUP(A5639,'Banco de Funcionários'!$A$2:$D$1048576,2,0),0)","v":0},null,null,null,null,null,"00:00:00",null,"00:00:00","00:00:00"]
[null,{"$f":"IFERROR(VLOOKUP(A5644,'Banco de Funcionários'!$A$2:$D$1048576,2,0),0)","v":0},null,null,null,null,null,"00:00:00",null,"00:00:00","00:00:00"]
[null,{"$f":"IFERROR(VLOOKUP(A5650,'Banco de Funcionários'!$A$2:$D$1048576,2,0),0)","v":0},null,null,null,null,null,"00:00:00",null,"00:00:00","00:00:00"]
[null,{"$f":"IFERROR(VLOOKUP(A5655,'Banco de Funcionários'!$A$2:$D$1048576,2,0),0)","v":0},null,null,null,null,null,"00:00:00",null,"00:00:00","00:00:00"]
[null,{"$f":"IFERROR(VLOOKUP(A5660,'Banco de Funcionários'!$A$2:$D$1048576,2,0),0)","v":0},null,null,null,null,null,"00:00:00",null,"00:00:00","00:00:00"]
[null,{"$f":"IFERROR(VLOOKUP(A5666,'Banco de Funcionários'!$A$2:$D$1048576,2,0),0)","v":0},null,null,null,null,null,"00:00:00",null,"00:00:00","00:00:00"]
[null,{"$f":"IFERROR(VLOOKUP(A5671,'Banco de Funcionários'!$A$2:$D$1048576,2,0),0)","v":0},null,null,null,null,null,"00:00:00",null,"00:00:00","00:00:00"]
[null,{"$f":"IFERROR(VLOOKUP(A5675,'Banco de Funcionários'!$A$2:$D$1048576,2,0),0)","v":0},null,null,null,null,null,"00:00:00",null,"00:00:00","00:00:00"]
[null,{"$f":"IFERROR(VLOOKUP(A5681,'Banco de Funcionários'!$A$2:$D$1048576,2,0),0)","v":0},null,null,null,null,null,"00:00:00",null,"00:00:00","00:00:00"]
[null,{"$f":"IFERROR(VLOOKUP(A5686,'Banco de Funcionários'!$A$2:$D$1048576,2,0),0)","v":0},null,null,null,null,null,"00:00:00",null,"00:00:00","00:00:00"]
[null,{"$f":"IFERROR(VLOOKUP(A5687,'Banco de Funcionários'!$A$2:$D$1048576,2,0),0)","v":0},null,null,null,null,null,"00:00:00",null,"00:00:00","00:00:00"]
[null,{"$f":"IFERROR(VLOOKUP(A5692,'Banco de Funcionários'!$A$2:$D$1048576,2,0),0)","v":0},null,null,null,null,null,"00:00:00",null,"00:00:00","00:00:00"]
[null,{"$f":"IFERROR(VLOOKUP(A5697,'Banco de Funcionários'!$A$2:$D$1048576,2,0),0)","v":0},null,null,null,null,null,"00:00:00",null,"00:00:00","00:00:00"]
[null,{"$f":"IFERROR(VLOOKUP(A5703,'Banco de Funcionários'!$A$2:$D$1048576,2,0),0)","v":0},null,null,null,null,null,"00:00:00",null,"00:00:00","00:00:00"]
[null,{"$f":"IFERROR(VLOOKUP(A5708,'Banco de Funcionários'!$A$2:$D$1048576,2,0),0)","v":0},null,null,null,null,null,"00:00:00",null,"00:00:00","00:00:00"]
[null,{"$f":"IFERROR(VLOOKUP(A5714,'Banco de Funcionários'!$A$2:$D$1048576,2,0),0)","v":0},null,null,null,null,null,"00:00:00",null,"00:00:00","00:00:00"]
[null,{"$f":"IFERROR(VLOOKUP(A5719,'Banco de Funcionários'!$A$2:$D$1048576,2,0),0)","v":0},null,null,null,null,null,"00:00:00",null,"00:00:00","00:00:00"]
[null,{"$f":"IFERROR(VLOOKUP(A5724,'Banco de Funcionários'!$A$2:$D$1048576,2,0),0)","v":0},null,null,null,null,null,"00:00:00",null,"00:00:00","00:00:00"]
[null,{"$f":"IFERROR(VLOOKUP(A5730,'Banco de Funcionários'!$A$2:$D$1048576,2,0),0)","v":0},null,null,null,null,null,"00:00:00",null,"00:00:00","00:00:00"]
[null,{"$f":"IFERROR(VLOOKUP(A5735,'Banco de Funcionários'!$A$2:$D$1048576,2,0),0)","v":0},null,null,null,null,null,"00:00:00",null,"00:00:00","00:00:00"]
[null,{"$f":"IFERROR(VLOOKUP(A5741,'Banco de Funcionários'!$A$2:$D$1048576,2,0),0)","v":0},null,null,null,null,null,"00:00:00",null,"00:00:00","00:00:00"]
[null,{"$f":"IFERROR(VLOOKUP(A5746,'Banco de Funcionários'!$A$2:$D$1048576,2,0),0)","v":0},null,null,null,null,null,"00:00:00",null,"00:00:00","00:00:00"]
[null,{"$f":"IFERROR(VLOOKUP(A5751,'Banco de Funcionários'!$A$2:$D$1048576,2,0),0)","v":0},null,null,null,null,null,"00:00:00",null,"00:00:00","00:00:00"]
[null,{"$f":"IFERROR(VLOOKUP(A5752,'Banco de Funcionários'!$A$2:$D$1048576,2,0),0)","v":0},null,null,null,null,null,"00:00:00",null,"00:00:00","00:00:00"]
[null,{"$f":"IFERROR(VLOOKUP(A5757,'Banco de Funcionários'!$A$2:$D$1048576,2,0),0)","v":0},null,null,null,null,null,"00:00:00",null,"00:00:00","00:00:00"]
[null,{"$f":"IFERROR(VLOOKUP(A5762,'Banco de Funcionários'!$A$2:$D$1048576,2,0),0)","v":0},null,null,null,null,null,"00:00:00",null,"00:00:00","00:00:00"]
[null,{"$f":"IFERROR(VLOOKUP(A5768,'Banco de Funcionários'!$A$2:$D$1048576,2,0),0)","v":0},null,null,null,null,null,"00:00:00",null,"00:00:00","00:00:00"]
[null,{"$f":"IFERROR(VLOOKUP(A5773,'Banco de Funcionários'!$A$2:$D$1048576,2,0),0)","v":0},null,null,null,null,null,"00:00:00",null,"00:00:00","00:00:00"]
[null,{"$f":"IFERROR(VLOOKUP(A5779,'Banco de Funcionários'!$A$2:$D$1048576,2,0),0)","v":0},null,null,null,null,null,"00:00:00",null,"00:00:00","00:00:00"]
[null,{"$f":"IFERROR(VLOOKUP(A5784,'Banco de Funcionários'!$A$2:$D$1048576,2,0),0)","v":0},null,null,null,null,null,"00:00:00",null,"00:00:00","00:00:00"]
[null,{"$f":"IFERROR(VLOOKUP(A5788,'Banco de Funcionários'!$A$2:$D$1048576,2,0),0)","v":0},null,null,null,null,null,"00:00:00",null,"00:00:00","00:00:00"]
[null,{"$f":"IFERROR(VLOOKUP(A5794,'Banco de Funcionários'!$A$2:$D$1048576,2,0),0)","v":0},null,null,null,null,null,"00:00:00",null,"00:00:00","00:00:00"]
[null,{"$f":"IFERROR(VLOOKUP(A5799,'Banco de Funcionários'!$A$2:$D$1048576,2,0),0)","v":0},null,null,null,null,null,"00:00:00",null,"00:00:00","00:00:00"]
[null,{"$f":"IFERROR(VLOOKUP(A5804,'Banco de Funcionários'!$A$2:$D$1048576,2,0),0)","v":0},null,null,null,null,null,"00:00:00",null,"00:00:00","00:00:00"]
[null,{"$f":"IFERROR(VLOOKUP(A5810,'Banco de Funcionários'!$A$2:$D$1048576,2,0),0)","v":0},null,null,null,null,null,"00:00:00",null,"00:00:00","00:00:00"]
[null,{"$f":"IFERROR(VLOOKUP(A5815,'Banco de Funcionários'!$A$2:$D$1048576,2,0),0)","v":0},null,null,null,null,null,"00:00:00",null,"00:00:00","00:00:00"]
[null,{"$f":"IFERROR(VLOOKUP(A5816,'Banco de Funcionários'!$A$2:$D$1048576,2,0),0)","v":0},null,null,null,null,null,"00:00:00",null,"00:00:00","00:00:00"]
[null,{"$f":"IFERROR(VLOOKUP(A5821,'Banco de Funcionários'!$A$2:$D$1048576,2,0),0)","v":0},null,null,null,null,null,"00:00:00",null,"00:00:00","00:00:00"]
[null,{"$f":"IFERROR(VLOOKUP(A5826,'Banco de Funcionários'!$A$2:$D$1048576,2,0),0)","v":0},null,null,null,null,null,"00:00:00",null,"00:00:00","00:00:00"]
[null,{"$f":"IFERROR(VLOOKUP(A5832,'Banco de Funcionários'!$A$2:$D$1048576,2,0),0)","v":0},null,null,null,null,null,"00:00:00",null,"00:00:00","00:00:00"]
[null,{"$f":"IFERROR(VLOOKUP(A5837,'Banco de Funcionários'!$A$2:$D$1048576,2,0),0)","v":0},null,null,null,null,null,"00:00:00",null,"00:00:00","00:00:00"]
[null,{"$f":"IFERROR(VLOOKUP(A5843,'Banco de Funcionários'!$A$2:$D$1048576,2,0),0)","v":0},null,null,null,null,null,"00:00:00",null,"00:00:00","00:00:00"]
[null,{"$f":"IFERROR(VLOOKUP(A5848,'Banco de Funcionários'!$A$2:$D$1048576,2,0),0)","v":0},null,null,null,null,null,"00:00:00",null,"00:00:00","00:00:00"]
[null,{"$f":"IFERROR(VLOOKUP(A5853,'Banco de Funcionários'!$A$2:$D$1048576,2,0),0)","v":0},null,null,null,null,null,"00:00:00",null,"00:00:00","00:00:00"]
[null,{"$f":"IFERROR(VLOOKUP(A5859,'Banco de Funcionários'!$A$2:$D$1048576,2,0),0)","v":0},null,null,null,null,null,"00:00:00",null,"00:00:00","00:00:00"]
[null,{"$f":"IFERROR(VLOOKUP(A5864,'Banco de Funcionários'!$A$2:$D$1048576,2,0),0)","v":0},null,null,null,null,null,"00:00:00",null,"00:00:00","00:00:00"]
[null,{"$f":"IFERROR(VLOOKUP(A5869,'Banco de Funcionários'!$A$2:$D$1048576,2,0),0)","v":0},null,null,null,null,null,"00:00:00",null,"00:00:00","00:00:00"]
[null,{"$f":"IFERROR(VLOOKUP(A5875,'Banco de Funcionários'!$A$2:$D$1048576,2,0),0)","v":0},null,null,null,null,null,"00:00:00",null,"00:00:00","00:00:00"]
[null,{"$f":"IFERROR(VLOOKUP(A5880,'Banco de Funcionários'!$A$2:$D$1048576,2,0),0)","v":0},null,null,null,null,null,"00:00:00",null,"00:00:00","00:00:00"]
[null,{"$f":"IFERROR(VLOOKUP(A5881,'Banco de Funcionários'!$A$2:$D$1048576,2,0),0)","v":0},null,null,null,null,null,"00:00:00",null,"00:00:00","00:00:00"]
[null,{"$f":"IFERROR(VLOOKUP(A5886,'Banco de Funcionários'!$A$2:$D$1048576,2,0),0)","v":0},null,null,null,null,null,"00:00:00",null,"00:00:00","00:00:00"]
[null,{"$f":"IFERROR(VLOOKUP(A5891,'Banco de Funcionários'!$A$2:$D$1048576,2,0),0)","v":0},null,null,null,null,null,{"$f":"(F5891-E5891)-G5891","v":"00:00:00"},null,{"$f":"IFERROR(H5891-I5891,\"\")","v":"00:00:00"},{"$f":"IFERROR(H5891+J5891,0)","v":"00:00:00"}]
[null,{"$f":"IFERROR(VLOOKUP(A5899,'Banco de Funcionários'!$A$2:$D$1048576,2,0),0)","v":0},null,null,null,null,null,"00:00:00",null,"00:00:00","00:00:00"]
[null,{"$f":"IFERROR(VLOOKUP(A5901,'Banco de Funcionários'!$A$2:$D$1048576,2,0),0)","v":0},null,null,null,null,null,"00:00:00",null,"00:00:00","00:00:00"]
[null,{"$f":"IFERROR(VLOOKUP(A5906,'Banco de Funcionários'!$A$2:$D$1048576,2,0),0)","v":0},null,null,null,null,null,"00:00:00",null,"00:00:00","00:00:00"]
[null,{"$f":"IFERROR(VLOOKUP(A5912,'Banco de Funcionários'!$A$2:$D$1048576,2,0),0)","v":0},null,null,null,null,null,"00:00:00",null,"00:00:00","00:00:00"]
[null,{"$f":"IFERROR(VLOOKUP(A5917,'Banco de Funcionários'!$A$2:$D$1048576,2,0),0)","v":0},null,null,null,null,null,"00:00:00",null,"00:00:00","00:00:00"]
[null,{"$f":"IFERROR(VLOOKUP(A5923,'Banco de Funcionários'!$A$2:$D$1048576,2,0),0)","v":0},null,null,null,null,null,"00:00:00",null,"00:00:00","00:00:00"]
[null,{"$f":"IFERROR(VLOOKUP(A5928,'Banco de Funcionários'!$A$2:$D$1048576,2,0),0)","v":0},null,null,null,null,null,"00:00:00",null,"00:00:00","00:00:00"]
[null,{"$f":"IFERROR(VLOOKUP(A5933,'Banco de Funcionários'!$A$2:$D$1048576,2,0),0)","v":0},null,null,null,null,null,"00:00:00",null,"00:00:00","00:00:00"]
[null,{"$f":"IFERROR(VLOOKUP(A5939,'Banco de Funcionários'!$A$2:$D$1048576,2,0),0)","v":0},null,null,null,null,null,"00:00:00",null,"00:00:00","00:00:00"]
[null,{"$f":"IFERROR(VLOOKUP(A5944,'Banco de Funcionários'!$A$2:$D$1048576,2,0),0)","v":0},null,null,null,null,null,"00:00:00",null,"00:00:00","00:00:00"]
[null,{"$f":"IFERROR(VLOOKUP(A5945,'Banco de Funcionários'!$A$2:$D$1048576,2,0),0)","v":0},null,null,null,null,null,"00:00:00",null,"00:00:00","00:00:00"]
[null,{"$f":"IFERROR(VLOOKUP(A5950,'Banco de Funcionários'!$A$2:$D$1048576,2,0),0)","v":0},null,null,null,null,null,"00:00:00",null,"00:00:00","00:00:00"]
[null,{"$f":"IFERROR(VLOOKUP(A5955,'Banco de Funcionários'!$A$2:$D$1048576,2,0),0)","v":0},null,null,null,null,null,{"$f":"(F5955-E5955)-G5955","v":"00:00:00"},null,{"$f":"IFERROR(H5955-I5955,\"\")","v":"00:00:00"},{"$f":"IFERROR(H5955+J5955,0)","v":"00:00:00"}]
[null,{"$f":"IFERROR(VLOOKUP(A5961,'Banco de Funcionários'!$A$2:$D$1048576,2,0),0)","v":0},null,null,null,null,null,"00:00:00",null,"00:00:00","00:00:00"]
[null,{"$f":"IFERROR(VLOOKUP(A5966,'Banco de Funcionários'!$A$2:$D$1048576,2,0),0)","v":0},null,null,null,null,null,"00:00:00",null,"00:00:00","00:00:00"]
[null,{"$f":"IFERROR(VLOOKUP(A5971,'Banco de Funcionários'!$A$2:$D$1048576,2,0),0)","v":0},null,null,null,null,null,"00:00:00",null,"00:00:00","00:00:00"]
[null,{"$f":"IFERROR(VLOOKUP(A5977,'Banco de Funcionários'!$A$2:$D$1048576,2,0),0)","v":0},null,null,null,null,null,"00:00:00",null,"00:00:00","00:00:00"]
[null,{"$f":"IFERROR(VLOOKUP(A5982,'Banco de Funcionários'!$A$2:$D$1048576,2,0),0)","v":0},null,null,null,null,null,"00:00:00",null,"00:00:00","00:00:00"]
[null,{"$f":"IFERROR(VLOOKUP(A5988,'Banco de Funcionários'!$A$2:$D$1048576,2,0),0)","v":0},null,null,null,null,null,"00:00:00",null,"00:00:00","00:00:00"]
[null,{"$f":"IFERROR(VLOOKUP(A5993,'Banco de Funcionários'!$A$2:$D$1048576,2,0),0)","v":0},null,null,null,null,null,"00:00:00",null,"00:00:00","00:00:00"]
[null,{"$f":"IFERROR(VLOOKUP(A5998,'Banco de Funcionários'!$A$2:$D$1048576,2,0),0)","v":0},null,null,null,null,null,"00:00:00",null,"00:00:00","00:00:00"]
[null,{"$f":"IFERROR(VLOOKUP(A6004,'Banco de Funcionários'!$A$2:$D$1048576,2,0),0)","v":0},null,null,null,null,null,"00:00:00",null,"00:00:00","00:00:00"]
[null,{"$f":"IFERROR(VLOOKUP(A6006,'Banco de Funcionários'!$A$2:$D$1048576,2,0),0)","v":0},null,null,null,null,null,"00:00:00",null,"00:00:00","00:00:00"]
[null,{"$f":"IFERROR(VLOOKUP(A6009,'Banco de Funcionários'!$A$2:$D$1048576,2,0),0)","v":0},null,null,null,null,null,"00:00:00",null,"00:00:00","00:00:00"]
[null,{"$f":"IFERROR(VLOOKUP(A6014,'Banco de Funcionários'!$A$2:$D$1048576,2,0),0)","v":0},null,null,null,null,null,"00:00:00",null,"00:00:00","00:00:00"]
[null,{"$f":"IFERROR(VLOOKUP(A6019,'Banco de Funcionários'!$A$2:$D$1048576,2,0),0)","v":0},null,null,null,null,null,{"$f":"(F6019-E6019)-G6019","v":"00:00:00"},null,{"$f":"IFERROR(H6019-I6019,\"\")","v":"00:00:00"},{"$f":"IFERROR(H6019+J6019,0)","v":"00:00:00"}]
[null,{"$f":"IFERROR(VLOOKUP(A6025,'Banco de Funcionários'!$A$2:$D$1048576,2,0),0)","v":0},null,null,null,null,null,"00:00:00",null,"00:00:00","00:00:00"]
[null,{"$f":"IFERROR(VLOOKUP(A6030,'Banco de Funcionários'!$A$2:$D$1048576,2,0),0)","v":0},null,null,null,null,null,"00:00:00",null,"00:00:00","00:00:00"]
[null,{"$f":"IFERROR(VLOOKUP(A6035,'Banco de Funcionários'!$A$2:$D$1048576,2,0),0)","v":0},null,null,null,null,null,"00:00:00",null,"00:00:00","00:00:00"]
[null,{"$f":"IFERROR(VLOOKUP(A6041,'Banco de Funcionários'!$A$2:$D$1048576,2,0),0)","v":0},null,null,null,null,null,"00:00:00",null,"00:00:00","00:00:00"]
[null,{"$f":"IFERROR(VLOOKUP(A6046,'Banco de Funcionários'!$A$2:$D$1048576,2,0),0)","v":0},null,null,null,null,null,"00:00:00",null,"00:00:00","00:00:00"]
[null,{"$f":"IFERROR(VLOOKUP(A6052,'Banco de Funcionários'!$A$2:$D$1048576,2,0),0)","v":0},null,null,null,null,null,"00:00:00",null,"00:00:00","00:00:00"]
[null,{"$f":"IFERROR(VLOOKUP(A6057,'Banco de Funcionários'!$A$2:$D$1048576,2,0),0)","v":0},null,null,null,null,null,"00:00:00",null,"00:00:00","00:00:00"]
[null,{"$f":"IFERROR(VLOOKUP(A6062,'Banco de Funcionários'!$A$2:$D$1048576,2,0),0)","v":0},null,null,null,null,null,"00:00:00",null,"00:00:00","00:00:00"]
[null,{"$f":"IFERROR(VLOOKUP(A6068,'Banco de Funcionários'!$A$2:$D$1048576,2,0),0)","v":0},null,null,null,null,null,"00:00:00",null,"00:00:00","00:00:00"]
[null,{"$f":"IFERROR(VLOOKUP(A6073,'Banco de Funcionários'!$A$2:$D$1048576,2,0),0)","v":0},null,null,null,null,null,"00:00:00",null,"00:00:00","00:00:00"]
[null,{"$f":"IFERROR(VLOOKUP(A6078,'Banco de Funcionários'!$A$2:$D$1048576,2,0),0)","v":0},null,null,null,null,null,"00:00:00",null,"00:00:00","00:00:00"]
[null,{"$f":"IFERROR(VLOOKUP(A6079,'Banco de Funcionários'!$A$2:$D$1048576,2,0),0)","v":0},null,null,null,null,null,"00:00:00",null,"00:00:00","00:00:00"]
[null,{"$f":"IFERROR(VLOOKUP(A6084,'Banco de Funcionários'!$A$2:$D$1048576,2,0),0)","v":0},null,null,null,null,null,"00:00:00",null,"00:00:00","00:00:00"]
[null,{"$f":"IFERROR(VLOOKUP(A6090,'Banco de Funcionários'!$A$2:$D$1048576,2,0),0)","v":0},null,null,null,null,null,"00:00:00",null,"00:00:00","00:00:00"]
[null,{"$f":"IFERROR(VLOOKUP(A6095,'Banco de Funcionários'!$A$2:$D$1048576,2,0),0)","v":0},null,null,null,null,null,"00:00:00",null,"00:00:00","00:00:00"]
[null,{"$f":"IFERROR(VLOOKUP(A6100,'Banco de Funcionários'!$A$2:$D$1048576,2,0),0)","v":0},null,null,null,null,null,"00:00:00",null,"00:00:00","00:00:00"]
[null,{"$f":"IFERROR(VLOOKUP(A6106,'Banco de Funcionários'!$A$2:$D$1048576,2,0),0)","v":0},null,null,null,null,null,"00:00:00",null,"00:00:00","00:00:00"]
[null,{"$f":"IFERROR(VLOOKUP(A6111,'Banco de Funcionários'!$A$2:$D$1048576,2,0),0)","v":0},null,null,null,null,null,"00:00:00",null,"00:00:00","00:00:00"]
[null,{"$f":"IFERROR(VLOOKUP(A6117,'Banco de Funcionários'!$A$2:$D$1048576,2,0),0)","v":0},null,null,null,null,null,"00:00:00",null,"00:00:00","00:00:00"]
[null,{"$f":"IFERROR(VLOOKUP(A6119,'Banco de Funcionários'!$A$2:$D$1048576,2,0),0)","v":0},null,null,null,null,null,"00:00:00",null,"00:00:00","00:00:00"]
[null,{"$f":"IFERROR(VLOOKUP(A6126,'Banco de Funcionários'!$A$2:$D$1048576,2,0),0)","v":0},null,null,null,null,null,"00:00:00",null,"00:00:00","00:00:00"]
[null,{"$f":"IFERROR(VLOOKUP(A6132,'Banco de Funcionários'!$A$2:$D$1048576,2,0),0)","v":0},null,null,null,null,null,"00:00:00",null,"00:00:00","00:00:00"]
[null,{"$f":"IFERROR(VLOOKUP(A6137,'Banco de Funcionários'!$A$2:$D$1048576,2,0),0)","v":0},null,null,null,null,null,"00:00:00",null,"00:00:00","00:00:00"]
[null,{"$f":"IFERROR(VLOOKUP(A6142,'Banco de Funcionários'!$A$2:$D$1048576,2,0),0)","v":0},null,null,null,null,null,"00:00:00",null,"00:00:00","00:00:00"]
[null,{"$f":"IFERROR(VLOOKUP(A6143,'Banco de Funcionários'!$A$2:$D$1048576,2,0),0)","v":0},null,null,null,null,null,"00:00:00",null,"00:00:00","00:00:00"]
[null,{"$f":"IFERROR(VLOOKUP(A6148,'Banco de Funcionários'!$A$2:$D$1048576,2,0),0)","v":0},null,null,null,null,null,"00:00:00",null,"00:00:00","00:00:00"]
[null,{"$f":"IFERROR(VLOOKUP(A6154,'Banco de Funcionários'!$A$2:$D$1048576,2,0),0)","v":0},null,null,null,null,null,"00:00:00",null,"00:00:00","00:00:00"]
[null,{"$f":"IFERROR(VLOOKUP(A6159,'Banco de Funcionários'!$A$2:$D$1048576,2,0),0)","v":0},null,null,null,null,null,"00:00:00",null,"00:00:00","00:00:00"]
[null,{"$f":"IFERROR(VLOOKUP(A6164,'Banco de Funcionários'!$A$2:$D$1048576,2,0),0)","v":0},null,null,null,null,null,"00:00:00",null,"00:00:00","00:00:00"]
[null,{"$f":"IFERROR(VLOOKUP(A6170,'Banco de Funcionários'!$A$2:$D$1048576,2,0),0)","v":0},null,null,null,null,null,"00:00:00",null,"00:00:00","00:00:00"]
[null,{"$f":"IFERROR(VLOOKUP(A6175,'Banco de Funcionários'!$A$2:$D$1048576,2,0),0)","v":0},null,null,null,null,null,"00:00:00",null,"00:00:00","00:00:00"]
[null,{"$f":"IFERROR(VLOOKUP(A6180,'Banco de Funcionários'!$A$2:$D$1048576,2,0),0)","v":0},null,null,null,null,null,"00:00:00",null,"00:00:00","00:00:00"]
[null,{"$f":"IFERROR(VLOOKUP(A6186,'Banco de Funcionários'!$A$2:$D$1048576,2,0),0)","v":0},null,null,null,null,null,"00:00:00",null,"00:00:00","00:00:00"]
[null,{"$f":"IFERROR(VLOOKUP(A6191,'Banco de Funcionários'!$A$2:$D$1048576,2,0),0)","v":0},null,null,null,null,null,"00:00:00",null,"00:00:00","00:00:00"]
[null,{"$f":"IFERROR(VLOOKUP(A6197,'Banco de Funcionários'!$A$2:$D$1048576,2,0),0)","v":0},null,null,null,null,null,"00:00:00",null,"00:00:00","00:00:00"]
[null,{"$f":"IFERROR(VLOOKUP(A6202,'Banco de Funcionários'!$A$2:$D$1048576,2,0),0)","v":0},null,null,null,null,null,"00:00:00",null,"00:00:00","00:00:00"]
[null,{"$f":"IFERROR(VLOOKUP(A6207,'Banco de Funcionários'!$A$2:$D$1048576,2,0),0)","v":0},null,null,null,null,null,"00:00:00",null,"00:00:00","00:00:00"]
[null,{"$f":"IFERROR(VLOOKUP(A6208,'Banco de Funcionários'!$A$2:$D$1048576,2,0),0)","v":0},null,null,null,null,null,"00:00:00",null,"00:00:00","00:00:00"]
[null,{"$f":"IFERROR(VLOOKUP(A6213,'Banco de Funcionários'!$A$2:$D$1048576,2,0),0)","v":0},null,null,null,null,null,"00:00:00",null,"00:00:00","00:00:00"]
[null,{"$f":"IFERROR(VLOOKUP(A6219,'Banco de Funcionários'!$A$2:$D$1048576,2,0),0)","v":0},null,null,null,null,null,"00:00:00",null,"00:00:00","00:00:00"]
[null,{"$f":"IFERROR(VLOOKUP(A6224,'Banco de Funcionários'!$A$2:$D$1048576,2,0),0)","v":0},null,null,null,null,null,"00:00:00",null,"00:00:00","00:00:00"]
[null,{"$f":"IFERROR(VLOOKUP(A6230,'Banco de Funcionários'!$A$2:$D$1048576,2,0),0)","v":0},null,null,null,null,null,"00:00:00",null,"00:00:00","00:00:00"]
[null,{"$f":"IFERROR(VLOOKUP(A6234,'Banco de Funcionários'!$A$2:$D$1048576,2,0),0)","v":0},null,null,null,null,null,"00:00:00",null,"00:00:00","00:00:00"]
[null,{"$f":"IFERROR(VLOOKUP(A6239,'Banco de Funcionários'!$A$2:$D$1048576,2,0),0)","v":0},null,null,null,null,null,"00:00:00",null,"00:00:00","00:00:00"]
[null,{"$f":"IFERROR(VLOOKUP(A6244,'Banco de Funcionários'!$A$2:$D$1048576,2,0),0)","v":0},null,null,null,null,null,"00:00:00",null,"00:00:00","00:00:00"]
[null,{"$f":"IFERROR(VLOOKUP(A6250,'Banco de Funcionários'!$A$2:$D$1048576,2,0),0)","v":0},null,null,null,null,null,"00:00:00",null,"00:00:00","00:00:00"]
[null,{"$f":"IFERROR(VLOOKUP(A6255,'Banco de Funcionários'!$A$2:$D$1048576,2,0),0)","v":0},null,null,null,null,null,"00:00:00",null,"00:00:00","00:00:00"]
[null,{"$f":"IFERROR(VLOOKUP(A6261,'Banco de Funcionários'!$A$2:$D$1048576,2,0),0)","v":0},null,null,null,null,null,"00:00:00",null,"00:00:00","00:00:00"]
[null,{"$f":"IFERROR(VLOOKUP(A6266,'Banco de Funcionários'!$A$2:$D$1048576,2,0),0)","v":0},null,null,null,null,null,"00:00:00",null,"00:00:00","00:00:00"]
[null,{"$f":"IFERROR(VLOOKUP(A6271,'Banco de Funcionários'!$A$2:$D$1048576,2,0),0)","v":0},null,null,null,null,null,"00:00:00",null,"00:00:00","00:00:00"]
[null,{"$f":"IFERROR(VLOOKUP(A6272,'Banco de Funcionários'!$A$2:$D$1048576,2,0),0)","v":0},null,null,null,null,null,"00:00:00",null,"00:00:00","00:00:00"]
[null,{"$f":"IFERROR(VLOOKUP(A6277,'Banco de Funcionários'!$A$2:$D$1048576,2,0),0)","v":0},null,null,null,null,null,"00:00:00",null,"00:00:00","00:00:00"]
[null,{"$f":"IFERROR(VLOOKUP(A6283,'Banco de Funcionários'!$A$2:$D$1048576,2,0),0)","v":0},null,null,null,null,null,"00:00:00",null,"00:00:00","00:00:00"]
[null,{"$f":"IFERROR(VLOOKUP(A6288,'Banco de Funcionários'!$A$2:$D$1048576,2,0),0)","v":0},null,null,null,null,null,"00:00:00",null,"00:00:00","00:00:00"]
[null,{"$f":"IFERROR(VLOOKUP(A6293,'Banco de Funcionários'!$A$2:$D$1048576,2,0),0)","v":0},null,null,null,null,null,"00:00:00",null,"00:00:00","00:00:00"]
[null,{"$f":"IFERROR(VLOOKUP(A6299,'Banco de Funcionários'!$A$2:$D$1048576,2,0),0)","v":0},null,null,null,null,null,"00:00:00",null,"00:00:00","00:00:00"]
[null,{"$f":"IFERROR(VLOOKUP(A6304,'Banco de Funcionários'!$A$2:$D$1048576,2,0),0)","v":0},null,null,null,null,null,"00:00:00",null,"00:00:00","00:00:00"]
[null,{"$f":"IFERROR(VLOOKUP(A6309,'Banco de Funcionários'!$A$2:$D$1048576,2,0),0)","v":0},null,null,null,null,null,"00:00:00",null,"00:00:00","00:00:00"]
[null,{"$f":"IFERROR(VLOOKUP(A6315,'Banco de Funcionários'!$A$2:$D$1048576,2,0),0)","v":0},null,null,null,null,null,"00:00:00",null,"00:00:00","00:00:00"]
[null,{"$f":"IFERROR(VLOOKUP(A6320,'Banco de Funcionários'!$A$2:$D$1048576,2,0),0)","v":0},null,null,null,null,null,"00:00:00",null,"00:00:00","00:00:00"]
[null,{"$f":"IFERROR(VLOOKUP(A6326,'Banco de Funcionários'!$A$2:$D$1048576,2,0),0)","v":0},null,null,null,null,null,"00:00:00",null,"00:00:00","00:00:00"]
[null,{"$f":"IFERROR(VLOOKUP(A6331,'Banco de Funcionários'!$A$2:$D$1048576,2,0),0)","v":0},null,null,null,null,null,"00:00:00",null,"00:00:00","00:00:00"]
[null,{"$f":"IFERROR(VLOOKUP(A6336,'Banco de Funcionários'!$A$2:$D$1048576,2,0),0)","v":0},null,null,null,null,null,"00:00:00",null,"00:00:00","00:00:00"]
[null,{"$f":"IFERROR(VLOOKUP(A6337,'Banco de Funcionários'!$A$2:$D$1048576,2,0),0)","v":0},null,null,null,null,null,"00:00:00",null,"00:00:00","00:00:00"]
[null,{"$f":"IFERROR(VLOOKUP(A6343,'Banco de Funcionários'!$A$2:$D$1048576,2,0),0)","v":0},null,null,null,null,null,"00:00:00",null,"00:00:00","00:00:00"]
[null,{"$f":"IFERROR(VLOOKUP(A6346,'Banco de Funcionários'!$A$2:$D$1048576,2,0),0)","v":0},null,null,null,null,null,"00:00:00",null,"00:00:00","00:00:00"]
[null,{"$f":"IFERROR(VLOOKUP(A6352,'Banco de Funcionários'!$A$2:$D$1048576,2,0),0)","v":0},null,null,null,null,null,"00:00:00",null,"00:00:00","00:00:00"]
[null,{"$f":"IFERROR(VLOOKUP(A6357,'Banco de Funcionários'!$A$2:$D$1048576,2,0),0)","v":0},null,null,null,null,null,"00:00:00",null,"00:00:00","00:00:00"]
[null,{"$f":"IFERROR(VLOOKUP(A6363,'Banco de Funcionários'!$A$2:$D$1048576,2,0),0)","v":0},null,null,null,null,null,"00:00:00",null,"00:00:00","00:00:00"]
[null,{"$f":"IFERROR(VLOOKUP(A6368,'Banco de Funcionários'!$A$2:$D$1048576,2,0),0)","v":0},null,null,null,null,null,"00:00:00",null,"00:00:00","00:00:00"]
[null,{"$f":"IFERROR(VLOOKUP(A6373,'Banco de Funcionários'!$A$2:$D$1048576,2,0),0)","v":0},null,null,null,null,null,"00:00:00",null,"00:00:00","00:00:00"]
[null,{"$f":"IFERROR(VLOOKUP(A6379,'Banco de Funcionários'!$A$2:$D$1048576,2,0),0)","v":0},null,null,null,null,null,"00:00:00",null,"00:00:00","00:00:00"]
[null,{"$f":"IFERROR(VLOOKUP(A6384,'Banco de Funcionários'!$A$2:$D$1048576,2,0),0)","v":0},null,null,null,null,null,"00:00:00",null,"00:00:00","00:00:00"]
[null,{"$f":"IFERROR(VLOOKUP(A6390,'Banco de Funcionários'!$A$2:$D$1048576,2,0),0)","v":0},null,null,null,null,null,"00:00:00",null,"00:00:00","00:00:00"]
[null,{"$f":"IFERROR(VLOOKUP(A6395,'Banco de Funcionários'!$A$2:$D$1048576,2,0),0)","v":0},null,null,null,null,null,"00:00:00",null,"00:00:00","00:00:00"]
[null,{"$f":"IFERROR(VLOOKUP(A6400,'Banco de Funcionários'!$A$2:$D$1048576,2,0),0)","v":0},null,null,null,null,null,"00:00:00",null,"00:00:00","00:00:00"]
[null,{"$f":"IFERROR(VLOOKUP(A6401,'Banco de Funcionários'!$A$2:$D$1048576,2,0),0)","v":0},null,null,null,null,null,"00:00:00",null,"00:00:00","00:00:00"]
[null,{"$f":"IFERROR(VLOOKUP(A6406,'Banco de Funcionários'!$A$2:$D$1048576,2,0),0)","v":0},null,null,null,null,null,"00:00:00",null,"00:00:00","00:00:00"]
[null,{"$f":"IFERROR(VLOOKUP(A6411,'Banco de Funcionários'!$A$2:$D$1048576,2,0),0)","v":0},null,null,null,null,null,"00:00:00",null,"00:00:00","00:00:00"]
[null,{"$f":"IFERROR(VLOOKUP(A6417,'Banco de Funcionários'!$A$2:$D$1048576,2,0),0)","v":0},null,null,null,null,null,"00:00:00",null,"00:00:00","00:00:00"]
[null,{"$f":"IFERROR(VLOOKUP(A6422,'Banco de Funcionários'!$A$2:$D$1048576,2,0),0)","v":0},null,null,null,null,null,"00:00:00",null,"00:00:00","00:00:00"]
[null,{"$f":"IFERROR(VLOOKUP(A6428,'Banco de Funcionários'!$A$2:$D$1048576,2,0),0)","v":0},null,null,null,null,null,"00:00:00",null,"00:00:00","00:00:00"]
[null,{"$f":"IFERROR(VLOOKUP(A6433,'Banco de Funcionários'!$A$2:$D$1048576,2,0),0)","v":0},null,null,null,null,null,"00:00:00",null,"00:00:00","00:00:00"]
[null,{"$f":"IFERROR(VLOOKUP(A6438,'Banco de Funcionários'!$A$2:$D$1048576,2,0),0)","v":0},null,null,null,null,null,"00:00:00",null,"00:00:00","00:00:00"]
[null,{"$f":"IFERROR(VLOOKUP(A6444,'Banco de Funcionários'!$A$2:$D$1048576,2,0),0)","v":0},null,null,null,null,null,"00:00:00",null,"00:00:00","00:00:00"]
[null,{"$f":"IFERROR(VLOOKUP(A6449,'Banco de Funcionários'!$A$2:$D$1048576,2,0),0)","v":0},null,null,null,null,null,"00:00:00",null,"00:00:00","00:00:00"]
[null,{"$f":"IFERROR(VLOOKUP(A6454,'Banco de Funcionários'!$A$2:$D$1048576,2,0),0)","v":0},null,null,null,null,null,"00:00:00",null,"00:00:00","00:00:00"]
[null,{"$f":"IFERROR(VLOOKUP(A6459,'Banco de Funcionários'!$A$2:$D$1048576,2,0),0)","v":0},null,null,null,null,null,"00:00:00",null,"00:00:00","00:00:00"]
[null,{"$f":"IFERROR(VLOOKUP(A6464,'Banco de Funcionários'!$A$2:$D$1048576,2,0),0)","v":0},null,null,null,null,null,"00:00:00",null,"00:00:00","00:00:00"]
[null,{"$f":"IFERROR(VLOOKUP(A6465,'Banco de Funcionários'!$A$2:$D$1048576,2,0),0)","v":0},null,null,null,null,null,"00:00:00",null,"00:00:00","00:00:00"]
[null,{"$f":"IFERROR(VLOOKUP(A6470,'Banco de Funcionários'!$A$2:$D$1048576,2,0),0)","v":0},null,null,null,null,null,"00:00:00",null,"00:00:00","00:00:00"]
[null,{"$f":"IFERROR(VLOOKUP(A6475,'Banco de Funcionários'!$A$2:$D$1048576,2,0),0)","v":0},null,null,null,null,null,"00:00:00",null,"00:00:00","00:00:00"]
[null,{"$f":"IFERROR(VLOOKUP(A6481,'Banco de Funcionários'!$A$2:$D$1048576,2,0),0)","v":0},null,null,null,null,null,"00:00:00",null,"00:00:00","00:00:00"]
[null,{"$f":"IFERROR(VLOOKUP(A6486,'Banco de Funcionários'!$A$2:$D$1048576,2,0),0)","v":0},null,null,null,null,null,"00:00:00",null,"00:00:00","00:00:00"]
[null,{"$f":"IFERROR(VLOOKUP(A6492,'Banco de Funcionários'!$A$2:$D$1048576,2,0),0)","v":0},null,null,null,null,null,"00:00:00",null,"00:00:00","00:00:00"]
[null,{"$f":"IFERROR(VLOOKUP(A6497,'Banco de Funcionários'!$A$2:$D$1048576,2,0),0)","v":0},null,null,null,null,null,"00:00:00",null,"00:00:00","00:00:00"]
[null,{"$f":"IFERROR(VLOOKUP(A6502,'Banco de Funcionários'!$A$2:$D$1048576,2,0),0)","v":0},null,null,null,null,null,"00:00:00",null,"00:00:00","00:00:00"]
[null,{"$f":"IFERROR(VLOOKUP(A6508,'Banco de Funcionários'!$A$2:$D$1048576,2,0),0)","v":0},null,null,null,null,null,"00:00:00",null,"00:00:00","00:00:00"]
[null,{"$f":"IFERROR(VLOOKUP(A6513,'Banco de Funcionários'!$A$2:$D$1048576,2,0),0)","v":0},null,null,null,null,null,"00:00:00",null,"00:00:00","00:00:00"]
[null,{"$f":"IFERROR(VLOOKUP(A6518,'Banco de Funcionários'!$A$2:$D$1048576,2,0),0)","v":0},null,null,null,null,null,"00:00:00",null,"00:00:00","00:00:00"]
[null,{"$f":"IFERROR(VLOOKUP(A6524,'Banco de Funcionários'!$A$2:$D$1048576,2,0),0)","v":0},null,null,null,null,null,"00:00:00",null,"00:00:00","00:00:00"]
[null,{"$f":"IFERROR(VLOOKUP(A6529,'Banco de Funcionários'!$A$2:$D$1048576,2,0),0)","v":0},null,null,null,null,null,"00:00:00",null,"00:00:00","00:00:00"]
[null,{"$f":"IFERROR(VLOOKUP(A6530,'Banco de Funcionários'!$A$2:$D$1048576,2,0),0)","v":0},null,null,null,null,null,"00:00:00",null,"00:00:00","00:00:00"]
[null,{"$f":"IFERROR(VLOOKUP(A6535,'Banco de Funcionários'!$A$2:$D$1048576,2,0),0)","v":0},null,null,null,null,null,"00:00:00",null,"00:00:00","00:00:00"]
[null,{"$f":"IFERROR(VLOOKUP(A6540,'Banco de Funcionários'!$A$2:$D$1048576,2,0),0)","v":0},null,null,null,null,null,"00:00:00",null,"00:00:00","00:00:00"]
[null,{"$f":"IFERROR(VLOOKUP(A6546,'Banco de Funcionários'!$A$2:$D$1048576,2,0),0)","v":0},null,null,null,null,null,"00:00:00",null,"00:00:00","00:00:00"]
[null,{"$f":"IFERROR(VLOOKUP(A6551,'Banco de Funcionários'!$A$2:$D$1048576,2,0),0)","v":0},null,null,null,null,null,"00:00:00",null,"00:00:00","00:00:00"]
[null,{"$f":"IFERROR(VLOOKUP(A6557,'Banco de Funcionários'!$A$2:$D$1048576,2,0),0)","v":0},null,null,null,null,null,"00:00:00",null,"00:00:00","00:00:00"]
[null,{"$f":"IFERROR(VLOOKUP(A6562,'Banco de Funcionários'!$A$2:$D$1048576,2,0),0)","v":0},null,null,null,null,null,"00:00:00",null,"00:00:00","00:00:00"]
[null,{"$f":"IFERROR(VLOOKUP(A6567,'Banco de Funcionários'!$A$2:$D$1048576,2,0),0)","v":0},null,null,null,null,null,"00:00:00",null,"00:00:00","00:00:00"]
[null,{"$f":"IFERROR(VLOOKUP(A6572,'Banco de Funcionários'!$A$2:$D$1048576,2,0),0)","v":0},null,null,null,null,null,"00:00:00",null,"00:00:00","00:00:00"]
[null,{"$f":"IFERROR(VLOOKUP(A6577,'Banco de Funcionários'!$A$2:$D$1048576,2,0),0)","v":0},null,null,null,null,null,"00:00:00",null,"00:00:00","00:00:00"]
[null,{"$f":"IFERROR(VLOOKUP(A6582,'Banco de Funcionários'!$A$2:$D$1048576,2,0),0)","v":0},null,null,null,null,null,"00:00:00",null,"00:00:00","00:00:00"]
[null,{"$f":"IFERROR(VLOOKUP(A6588,'Banco de Funcionários'!$A$2:$D$1048576,2,0),0)","v":0},null,null,null,null,null,"00:00:00",null,"00:00:00","00:00:00"]
[null,{"$f":"IFERROR(VLOOKUP(A6593,'Banco de Funcionários'!$A$2:$D$1048576,2,0),0)","v":0},null,null,null,null,null,"00:00:00",null,"00:00:00","00:00:00"]
[null,{"$f":"IFERROR(VLOOKUP(A6594,'Banco de Funcionários'!$A$2:$D$1048576,2,0),0)","v":0},null,null,null,null,null,"00:00:00",null,"00:00:00","00:00:00"]
[null,{"$f":"IFERROR(VLOOKUP(A6599,'Banco de Funcionários'!$A$2:$D$1048576,2,0),0)","v":0},null,null,null,null,null,"00:00:00",null,"00:00:00","00:00:00"]
[null,{"$f":"IFERROR(VLOOKUP(A6604,'Banco de Funcionários'!$A$2:$D$1048576,2,0),0)","v":0},null,null,null,null,null,"00:00:00",null,"00:00:00","00:00:00"]
[null,{"$f":"IFERROR(VLOOKUP(A6610,'Banco de Funcionários'!$A$2:$D$1048576,2,0),0)","v":0},null,null,null,null,null,"00:00:00",null,"00:00:00","00:00:00"]
[null,{"$f":"IFERROR(VLOOKUP(A6615,'Banco de Funcionários'!$A$2:$D$1048576,2,0),0)","v":0},null,null,null,null,null,"00:00:00",null,"00:00:00","00:00:00"]
[null,{"$f":"IFERROR(VLOOKUP(A6620,'Banco de Funcionários'!$A$2:$D$1048576,2,0),0)","v":0},null,null,null,null,null,"00:00:00",null,"00:00:00","00:00:00"]
[null,{"$f":"IFERROR(VLOOKUP(A6626,'Banco de Funcionários'!$A$2:$D$1048576,2,0),0)","v":0},null,null,null,null,null,"00:00:00",null,"00:00:00","00:00:00"]
[null,{"$f":"IFERROR(VLOOKUP(A6631,'Banco de Funcionários'!$A$2:$D$1048576,2,0),0)","v":0},null,null,null,null,null,"00:00:00",null,"00:00:00","00:00:00"]
[null,{"$f":"IFERROR(VLOOKUP(A6637,'Banco de Funcionários'!$A$2:$D$1048576,2,0),0)","v":0},null,null,null,null,null,"00:00:00",null,"00:00:00","00:00:00"]
[null,{"$f":"IFERROR(VLOOKUP(A6642,'Banco de Funcionários'!$A$2:$D$1048576,2,0),0)","v":0},null,null,null,null,null,"00:00:00",null,"00:00:00","00:00:00"]
[null,{"$f":"IFERROR(VLOOKUP(A6647,'Banco de Funcionários'!$A$2:$D$1048576,2,0),0)","v":0},null,null,null,null,null,"00:00:00",null,"00:00:00","00:00:00"]
[null,{"$f":"IFERROR(VLOOKUP(A6653,'Banco de Funcionários'!$A$2:$D$1048576,2,0),0)","v":0},null,null,null,null,null,"00:00:00",null,"00:00:00","00:00:00"]
[null,{"$f":"IFERROR(VLOOKUP(A6658,'Banco de Funcionários'!$A$2:$D$1048576,2,0),0)","v":0},null,null,null,null,null,"00:00:00",null,"00:00:00","00:00:00"]
[null,{"$f":"IFERROR(VLOOKUP(A6659,'Banco de Funcionários'!$A$2:$D$1048576,2,0),0)","v":0},null,null,null,null,null,{"$f":"(F6659-E6659)-G6659","v":"00:00:00"},null,{"$f":"IFERROR(H6659-I6659,\"\")","v":"00:00:00"},{"$f":"IFERROR(H6659+J6659,0)","v":"00:00:00"}]
[null,{"$f":"IFERROR(VLOOKUP(A6664,'Banco de Funcionários'!$A$2:$D$1048576,2,0),0)","v":0},null,null,null,null,null,"00:00:00",null,"00:00:00","00:00:00"]
[null,{"$f":"IFERROR(VLOOKUP(A6669,'Banco de Funcionários'!$A$2:$D$1048576,2,0),0)","v":0},null,null,null,null,null,"00:00:00",null,"00:00:00","00:00:00"]
[null,{"$f":"IFERROR(VLOOKUP(A6674,'Banco de Funcionários'!$A$2:$D$1048576,2,0),0)","v":0},null,null,null,null,null,"00:00:00",null,"00:00:00","00:00:00"]
[null,{"$f":"IFERROR(VLOOKUP(A6679,'Banco de Funcionários'!$A$2:$D$1048576,2,0),0)","v":0},null,null,null,null,null,"00:00:00",null,"00:00:00","00:00:00"]
[null,{"$f":"IFERROR(VLOOKUP(A6684,'Banco de Funcionários'!$A$2:$D$1048576,2,0),0)","v":0},null,null,null,null,null,"00:00:00",null,"00:00:00","00:00:00"]
[null,{"$f":"IFERROR(VLOOKUP(A6690,'Banco de Funcionários'!$A$2:$D$1048576,2,0),0)","v":0},null,null,null,null,null,"00:00:00",null,"00:00:00","00:00:00"]
[null,{"$f":"IFERROR(VLOOKUP(A6695,'Banco de Funcionários'!$A$2:$D$1048576,2,0),0)","v":0},null,null,null,null,null,"00:00:00",null,"00:00:00","00:00:00"]
[null,{"$f":"IFERROR(VLOOKUP(A6701,'Banco de Funcionários'!$A$2:$D$1048576,2,0),0)","v":0},null,null,null,null,null,"00:00:00",null,"00:00:00","00:00:00"]
[null,{"$f":"IFERROR(VLOOKUP(A6706,'Banco de Funcionários'!$A$2:$D$1048576,2,0),0)","v":0},null,null,null,null,null,"00:00:00",null,"00:00:00","00:00:00"]
[null,{"$f":"IFERROR(VLOOKUP(A6711,'Banco de Funcionários'!$A$2:$D$1048576,2,0),0)","v":0},null,null,null,null,null,"00:00:00",null,"00:00:00","00:00:00"]
[null,{"$f":"IFERROR(VLOOKUP(A6717,'Banco de Funcionários'!$A$2:$D$1048576,2,0),0)","v":0},null,null,null,null,null,"00:00:00",null,"00:00:00","00:00:00"]
[null,{"$f":"IFERROR(VLOOKUP(A6722,'Banco de Funcionários'!$A$2:$D$1048576,2,0),0)","v":0},null,null,null,null,null,"00:00:00",null,"00:00:00","00:00:00"]
[null,{"$f":"IFERROR(VLOOKUP(A6723,'Banco de Funcionários'!$A$2:$D$1048576,2,0),0)","v":0},null,null,null,null,null,{"$f":"(F6723-E6723)-G6723","v":"00:00:00"},null,{"$f":"IFERROR(H6723-I6723,\"\")","v":"00:00:00"},{"$f":"IFERROR(H6723+J6723,0)","v":"00:00:00"}]
[null,{"$f":"IFERROR(VLOOKUP(A6728,'Banco de Funcionários'!$A$2:$D$1048576,2,0),0)","v":0},null,null,null,null,null,"00:00:00",null,"00:00:00","00:00:00"]
[null,{"$f":"IFERROR(VLOOKUP(A6733,'Banco de Funcionários'!$A$2:$D$1048576,2,0),0)","v":0},null,null,null,null,null,"00:00:00",null,"00:00:00","00:00:00"]
[null,{"$f":"IFERROR(VLOOKUP(A6739,'Banco de Funcionários'!$A$2:$D$1048576,2,0),0)","v":0},null,null,null,null,null,"00:00:00",null,"00:00:00","00:00:00"]
[null,{"$f":"IFERROR(VLOOKUP(A6744,'Banco de Funcionários'!$A$2:$D$1048576,2,0),0)","v":0},null,null,null,null,null,"00:00:00",null,"00:00:00","00:00:00"]
[null,{"$f":"IFERROR(VLOOKUP(A6749,'Banco de Funcionários'!$A$2:$D$1048576,2,0),0)","v":0},null,null,null,null,null,"00:00:00",null,"00:00:00","00:00:00"]
[null,{"$f":"IFERROR(VLOOKUP(A6755,'Banco de Funcionários'!$A$2:$D$1048576,2,0),0)","v":0},null,null,null,null,null,"00:00:00",null,"00:00:00","00:00:00"]
[null,{"$f":"IFERROR(VLOOKUP(A6760,'Banco de Funcionários'!$A$2:$D$1048576,2,0),0)","v":0},null,null,null,null,null,"00:00:00",null,"00:00:00","00:00:00"]
[null,{"$f":"IFERROR(VLOOKUP(A6766,'Banco de Funcionários'!$A$2:$D$1048576,2,0),0)","v":0},null,null,null,null,null,"00:00:00",null,"00:00:00","00:00:00"]
[null,{"$f":"IFERROR(VLOOKUP(A6771,'Banco de Funcionários'!$A$2:$D$1048576,2,0),0)","v":0},null,null,null,null,null,"00:00:00",null,"00:00:00","00:00:00"]
[null,{"$f":"IFERROR(VLOOKUP(A6776,'Banco de Funcionários'!$A$2:$D$1048576,2,0),0)","v":0},null,null,null,null,null,"00:00:00",null,"00:00:00","00:00:00"]
[null,{"$f":"IFERROR(VLOOKUP(A6782,'Banco de Funcionários'!$A$2:$D$1048576,2,0),0)","v":0},null,null,null,null,null,"00:00:00",null,"00:00:00","00:00:00"]
[null,{"$f":"IFERROR(VLOOKUP(A6787,'Banco de Funcionários'!$A$2:$D$1048576,2,0),0)","v":0},null,null,null,null,null,{"$f":"(F6787-E6787)-G6787","v":"00:00:00"},null,{"$f":"IFERROR(H6787-I6787,\"\")","v":"00:00:00"},{"$f":"IFERROR(H6787+J6787,0)","v":"00:00:00"}]
[null,{"$f":"IFERROR(VLOOKUP(A6791,'Banco de Funcionários'!$A$2:$D$1048576,2,0),0)","v":0},null,null,null,null,null,"00:00:00",null,"00:00:00","00:00:00"]
[null,{"$f":"IFERROR(VLOOKUP(A6792,'Banco de Funcionários'!$A$2:$D$1048576,2,0),0)","v":0},null,null,null,null,null,"00:00:00",null,"00:00:00","00:00:00"]
[null,{"$f":"IFERROR(VLOOKUP(A6797,'Banco de Funcionários'!$A$2:$D$1048576,2,0),0)","v":0},null,null,null,null,null,"00:00:00",null,"00:00:00","00:00:00"]
[null,{"$f":"IFERROR(VLOOKUP(A6803,'Banco de Funcionários'!$A$2:$D$1048576,2,0),0)","v":0},null,null,null,null,null,"00:00:00",null,"00:00:00","00:00:00"]
[null,{"$f":"IFERROR(VLOOKUP(A6808,'Banco de Funcionários'!$A$2:$D$1048576,2,0),0)","v":0},null,null,null,null,null,"00:00:00",null,"00:00:00","00:00:00"]
[null,{"$f":"IFERROR(VLOOKUP(A6813,'Banco de Funcionários'!$A$2:$D$1048576,2,0),0)","v":0},null,null,null,null,null,"00:00:00",null,"00:00:00","00:00:00"]
[null,{"$f":"IFERROR(VLOOKUP(A6819,'Banco de Funcionários'!$A$2:$D$1048576,2,0),0)","v":0},null,null,null,null,null,"00:00:00",null,"00:00:00","00:00:00"]
[null,{"$f":"IFERROR(VLOOKUP(A6824,'Banco de Funcionários'!$A$2:$D$1048576,2,0),0)","v":0},null,null,null,null,null,"00:00:00",null,"00:00:00","00:00:00"]
[null,{"$f":"IFERROR(VLOOKUP(A6830,'Banco de Funcionários'!$A$2:$D$1048576,2,0),0)","v":0},null,null,null,null,null,"00:00:00",null,"00:00:00","00:00:00"]
[null,{"$f":"IFERROR(VLOOKUP(A6835,'Banco de Funcionários'!$A$2:$D$1048576,2,0),0)","v":0},null,null,null,null,null,"00:00:00",null,"00:00:00","00:00:00"]
[null,{"$f":"IFERROR(VLOOKUP(A6840,'Banco de Funcionários'!$A$2:$D$1048576,2,0),0)","v":0},null,null,null,null,null,"00:00:00",null,"00:00:00","00:00:00"]
[null,{"$f":"IFERROR(VLOOKUP(A6846,'Banco de Funcionários'!$A$2:$D$1048576,2,0),0)","v":0},null,null,null,null,null,"00:00:00",null,"00:00:00","00:00:00"]
[null,{"$f":"IFERROR(VLOOKUP(A6851,'Banco de Funcionários'!$A$2:$D$1048576,2,0),0)","v":0},null,null,null,null,null,{"$f":"(F6851-E6851)-G6851","v":"00:00:00"},null,{"$f":"IFERROR(H6851-I6851,\"\")","v":"00:00:00"},{"$f":"IFERROR(H6851+J6851,0)","v":"00:00:00"}]
[null,{"$f":"IFERROR(VLOOKUP(A6856,'Banco de Funcionários'!$A$2:$D$1048576,2,0),0)","v":0},null,null,null,null,null,"00:00:00",null,"00:00:00","00:00:00"]
[null,{"$f":"IFERROR(VLOOKUP(A6857,'Banco de Funcionários'!$A$2:$D$1048576,2,0),0)","v":0},null,null,null,null,null,"00:00:00",null,"00:00:00","00:00:00"]
[null,{"$f":"IFERROR(VLOOKUP(A6862,'Banco de Funcionários'!$A$2:$D$1048576,2,0),0)","v":0},null,null,null,null,null,"00:00:00",null,"00:00:00","00:00:00"]
[null,{"$f":"IFERROR(VLOOKUP(A6868,'Banco de Funcionários'!$A$2:$D$1048576,2,0),0)","v":0},null,null,null,null,null,"00:00:00",null,"00:00:00","00:00:00"]
[null,{"$f":"IFERROR(VLOOKUP(A6873,'Banco de Funcionários'!$A$2:$D$1048576,2,0),0)","v":0},null,null,null,null,null,"00:00:00",null,"00:00:00","00:00:00"]
[null,{"$f":"IFERROR(VLOOKUP(A6878,'Banco de Funcionários'!$A$2:$D$1048576,2,0),0)","v":0},null,null,null,null,null,"00:00:00",null,"00:00:00","00:00:00"]
[null,{"$f":"IFERROR(VLOOKUP(A6884,'Banco de Funcionários'!$A$2:$D$1048576,2,0),0)","v":0},null,null,null,null,null,"00:00:00",null,"00:00:00","00:00:00"]
[null,{"$f":"IFERROR(VLOOKUP(A6889,'Banco de Funcionários'!$A$2:$D$1048576,2,0),0)","v":0},null,null,null,null,null,"00:00:00",null,"00:00:00","00:00:00"]
[null,{"$f":"IFERROR(VLOOKUP(A6895,'Banco de Funcionários'!$A$2:$D$1048576,2,0),0)","v":0},null,null,null,null,null,"00:00:00",null,"00:00:00","00:00:00"]
[null,{"$f":"IFERROR(VLOOKUP(A6898,'Banco de Funcionários'!$A$2:$D$1048576,2,0),0)","v":0},null,null,null,null,null,"00:00:00",null,"00:00:00","00:00:00"]
[null,{"$f":"IFERROR(VLOOKUP(A6904,'Banco de Funcionários'!$A$2:$D$1048576,2,0),0)","v":0},null,null,null,null,null,"00:00:00",null,"00:00:00","00:00:00"]
[null,{"$f":"IFERROR(VLOOKUP(A6910,'Banco de Funcionários'!$A$2:$D$1048576,2,0),0)","v":0},null,null,null,null,null,"00:00:00",null,"00:00:00","00:00:00"]
[null,{"$f":"IFERROR(VLOOKUP(A6915,'Banco de Funcionários'!$A$2:$D$1048576,2,0),0)","v":0},null,null,null,null,null,{"$f":"(F6915-E6915)-G6915","v":"00:00:00"},null,{"$f":"IFERROR(H6915-I6915,\"\")","v":"00:00:00"},{"$f":"IFERROR(H6915+J6915,0)","v":"00:00:00"}]
[null,{"$f":"IFERROR(VLOOKUP(A6920,'Banco de Funcionários'!$A$2:$D$1048576,2,0),0)","v":0},null,null,null,null,null,"00:00:00",null,"00:00:00","00:00:00"]
[null,{"$f":"IFERROR(VLOOKUP(A6921,'Banco de Funcionários'!$A$2:$D$1048576,2,0),0)","v":0},null,null,null,null,null,"00:00:00",null,"00:00:00","00:00:00"]
[null,{"$f":"IFERROR(VLOOKUP(A6926,'Banco de Funcionários'!$A$2:$D$1048576,2,0),0)","v":0},null,null,null,null,null,"00:00:00",null,"00:00:00","00:00:00"]
[null,{"$f":"IFERROR(VLOOKUP(A6932,'Banco de Funcionários'!$A$2:$D$1048576,2,0),0)","v":0},null,null,null,null,null,"00:00:00",null,"00:00:00","00:00:00"]
[null,{"$f":"IFERROR(VLOOKUP(A6937,'Banco de Funcionários'!$A$2:$D$1048576,2,0),0)","v":0},null,null,null,null,null,"00:00:00",null,"00:00:00","00:00:00"]
[null,{"$f":"IFERROR(VLOOKUP(A6942,'Banco de Funcionários'!$A$2:$D$1048576,2,0),0)","v":0},null,null,null,null,null,"00:00:00",null,"00:00:00","00:00:00"]
[null,{"$f":"IFERROR(VLOOKUP(A6948,'Banco de Funcionários'!$A$2:$D$1048576,2,0),0)","v":0},null,null,null,null,null,"00:00:00",null,"00:00:00","00:00:00"]
[null,{"$f":"IFERROR(VLOOKUP(A6953,'Banco de Funcionários'!$A$2:$D$1048576,2,0),0)","v":0},null,null,null,null,null,"00:00:00",null,"00:00:00","00:00:00"]
[null,{"$f":"IFERROR(VLOOKUP(A6958,'Banco de Funcionários'!$A$2:$D$1048576,2,0),0)","v":0},null,null,null,null,null,"00:00:00",null,"00:00:00","00:00:00"]
[null,{"$f":"IFERROR(VLOOKUP(A6964,'Banco de Funcionários'!$A$2:$D$1048576,2,0),0)","v":0},null,null,null,null,null,"00:00:00",null,"00:00:00","00:00:00"]
[null,{"$f":"IFERROR(VLOOKUP(A6969,'Banco de Funcionários'!$A$2:$D$1048576,2,0),0)","v":0},null,null,null,null,null,"00:00:00",null,"00:00:00","00:00:00"]
[null,{"$f":"IFERROR(VLOOKUP(A6975,'Banco de Funcionários'!$A$2:$D$1048576,2,0),0)","v":0},null,null,null,null,null,"00:00:00",null,"00:00:00","00:00:00"]
[null,{"$f":"IFERROR(VLOOKUP(A6980,'Banco de Funcionários'!$A$2:$D$1048576,2,0),0)","v":0},null,null,null,null,null,"00:00:00",null,"00:00:00","00:00:00"]
[null,{"$f":"IFERROR(VLOOKUP(A6985,'Banco de Funcionários'!$A$2:$D$1048576,2,0),0)","v":0},null,null,null,null,null,"00:00:00",null,"00:00:00","00:00:00"]
[null,{"$f":"IFERROR(VLOOKUP(A6986,'Banco de Funcionários'!$A$2:$D$1048576,2,0),0)","v":0},null,null,null,null,null,"00:00:00",null,"00:00:00","00:00:00"]
[null,{"$f":"IFERROR(VLOOKUP(A6991,'Banco de Funcionários'!$A$2:$D$1048576,2,0),0)","v":0},null,null,null,null,null,"00:00:00",null,"00:00:00","00:00:00"]
[null,{"$f":"IFERROR(VLOOKUP(A6997,'Banco de Funcionários'!$A$2:$D$1048576,2,0),0)","v":0},null,null,null,null,null,"00:00:00",null,"00:00:00","00:00:00"]
[null,{"$f":"IFERROR(VLOOKUP(A7002,'Banco de Funcionários'!$A$2:$D$1048576,2,0),0)","v":0},null,null,null,null,null,"00:00:00",null,"00:00:00","00:00:00"]
[null,{"$f":"IFERROR(VLOOKUP(A7007,'Banco de Funcionários'!$A$2:$D$1048576,2,0),0)","v":0},null,null,null,null,null,"00:00:00",null,"00:00:00","00:00:00"]
[null,{"$f":"IFERROR(VLOOKUP(A7011,'Banco de Funcionários'!$A$2:$D$1048576,2,0),0)","v":0},null,null,null,null,null,"00:00:00",null,"00:00:00","00:00:00"]
[null,{"$f":"IFERROR(VLOOKUP(A7017,'Banco de Funcionários'!$A$2:$D$1048576,2,0),0)","v":0},null,null,null,null,null,"00:00:00",null,"00:00:00","00:00:00"]
[null,{"$f":"IFERROR(VLOOKUP(A7022,'Banco de Funcionários'!$A$2:$D$1048576,2,0),0)","v":0},null,null,null,null,null,"00:00:00",null,"00:00:00","00:00:00"]
[null,{"$f":"IFERROR(VLOOKUP(A7028,'Banco de Funcionários'!$A$2:$D$1048576,2,0),0)","v":0},null,null,null,null,null,"00:00:00",null,"00:00:00","00:00:00"]
[null,{"$f":"IFERROR(VLOOKUP(A7033,'Banco de Funcionários'!$A$2:$D$1048576,2,0),0)","v":0},null,null,null,null,null,"00:00:00",null,"00:00:00","00:00:00"]
[null,{"$f":"IFERROR(VLOOKUP(A7039,'Banco de Funcionários'!$A$2:$D$1048576,2,0),0)","v":0},null,null,null,null,null,"00:00:00",null,"00:00:00","00:00:00"]
[null,{"$f":"IFERROR(VLOOKUP(A7044,'Banco de Funcionários'!$A$2:$D$1048576,2,0),0)","v":0},null,null,null,null,null,"00:00:00",null,"00:00:00","00:00:00"]
[null,{"$f":"IFERROR(VLOOKUP(A7049,'Banco de Funcionários'!$A$2:$D$1048576,2,0),0)","v":0},null,null,null,null,null,"00:00:00",null,"00:00:00","00:00:00"]
[null,{"$f":"IFERROR(VLOOKUP(A7050,'Banco de Funcionários'!$A$2:$D$1048576,2,0),0)","v":0},null,null,null,null,null,"00:00:00",null,"00:00:00","00:00:00"]
[null,{"$f":"IFERROR(VLOOKUP(A7055,'Banco de Funcionários'!$A$2:$D$1048576,2,0),0)","v":0},null,null,null,null,null,"00:00:00",null,"00:00:00","00:00:00"]
[null,{"$f":"IFERROR(VLOOKUP(A7060,'Banco de Funcionários'!$A$2:$D$1048576,2,0),0)","v":0},null,null,null,null,null,"00:00:00",null,"00:00:00","00:00:00"]
[null,{"$f":"IFERROR(VLOOKUP(A7066,'Banco de Funcionários'!$A$2:$D$1048576,2,0),0)","v":0},null,null,null,null,null,"00:00:00",null,"00:00:00","00:00:00"]
[null,{"$f":"IFERROR(VLOOKUP(A7071,'Banco de Funcionários'!$A$2:$D$1048576,2,0),0)","v":0},null,null,null,null,null,"00:00:00",null,"00:00:00","00:00:00"]
[null,{"$f":"IFERROR(VLOOKUP(A7077,'Banco de Funcionários'!$A$2:$D$1048576,2,0),0)","v":0},null,null,null,null,null,"00:00:00",null,"00:00:00","00:00:00"]
[null,{"$f":"IFERROR(VLOOKUP(A7082,'Banco de Funcionários'!$A$2:$D$1048576,2,0),0)","v":0},null,null,null,null,null,"00:00:00",null,"00:00:00","00:00:00"]
[null,{"$f":"IFERROR(VLOOKUP(A7087,'Banco de Funcionários'!$A$2:$D$1048576,2,0),0)","v":0},null,null,null,null,null,"00:00:00",null,"00:00:00","00:00:00"]
[null,{"$f":"IFERROR(VLOOKUP(A7093,'Banco de Funcionários'!$A$2:$D$1048576,2,0),0)","v":0},null,null,null,null,null,"00:00:00",null,"00:00:00","00:00:00"]
[null,{"$f":"IFERROR(VLOOKUP(A7098,'Banco de Funcionários'!$A$2:$D$1048576,2,0),0)","v":0},null,null,null,null,null,"00:00:00",null,"00:00:00","00:00:00"]
[null,{"$f":"IFERROR(VLOOKUP(A7104,'Banco de Funcionários'!$A$2:$D$1048576,2,0),0)","v":0},null,null,null,null,null,"00:00:00",null,"00:00:00","00:00:00"]
[null,{"$f":"IFERROR(VLOOKUP(A7109,'Banco de Funcionários'!$A$2:$D$1048576,2,0),0)","v":0},null,null,null,null,null,"00:00:00",null,"00:00:00","00:00:00"]
[null,{"$f":"IFERROR(VLOOKUP(A7114,'Banco de Funcionários'!$A$2:$D$1048576,2,0),0)","v":0},null,null,null,null,null,"00:00:00",null,"00:00:00","00:00:00"]
[null,{"$f":"IFERROR(VLOOKUP(A7115,'Banco de Funcionários'!$A$2:$D$1048576,2,0),0)","v":0},null,null,null,null,null,"00:00:00",null,"00:00:00","00:00:00"]
[null,{"$f":"IFERROR(VLOOKUP(A7122,'Banco de Funcionários'!$A$2:$D$1048576,2,0),0)","v":0},null,null,null,null,null,"00:00:00",null,"00:00:00","00:00:00"]
[null,{"$f":"IFERROR(VLOOKUP(A7124,'Banco de Funcionários'!$A$2:$D$1048576,2,0),0)","v":0},null,null,null,null,null,"00:00:00",null,"00:00:00","00:00:00"]
[null,{"$f":"IFERROR(VLOOKUP(A7130,'Banco de Funcionários'!$A$2:$D$1048576,2,0),0)","v":0},null,null,null,null,null,"00:00:00",null,"00:00:00","00:00:00"]
[null,{"$f":"IFERROR(VLOOKUP(A7135,'Banco de Funcionários'!$A$2:$D$1048576,2,0),0)","v":0},null,null,null,null,null,"00:00:00",null,"00:00:00","00:00:00"]
[null,{"$f":"IFERROR(VLOOKUP(A7141,'Banco de Funcionários'!$A$2:$D$1048576,2,0),0)","v":0},null,null,null,null,null,"00:00:00",null,"00:00:00","00:00:00"]
[null,{"$f":"IFERROR(VLOOKUP(A7146,'Banco de Funcionários'!$A$2:$D$1048576,2,0),0)","v":0},null,null,null,null,null,"00:00:00",null,"00:00:00","00:00:00"]
[null,{"$f":"IFERROR(VLOOKUP(A7151,'Banco de Funcionários'!$A$2:$D$1048576,2,0),0)","v":0},null,null,null,null,null,"00:00:00",null,"00:00:00","00:00:00"]
[null,{"$f":"IFERROR(VLOOKUP(A7157,'Banco de Funcionários'!$A$2:$D$1048576,2,0),0)","v":0},null,null,null,null,null,"00:00:00",null,"00:00:00","00:00:00"]
[null,{"$f":"IFERROR(VLOOKUP(A7162,'Banco de Funcionários'!$A$2:$D$1048576,2,0),0)","v":0},null,null,null,null,null,"00:00:00",null,"00:00:00","00:00:00"]
[null,{"$f":"IFERROR(VLOOKUP(A7168,'Banco de Funcionários'!$A$2:$D$1048576,2,0),0)","v":0},null,null,null,null,null,"00:00:00",null,"00:00:00","00:00:00"]
[null,{"$f":"IFERROR(VLOOKUP(A7173,'Banco de Funcionários'!$A$2:$D$1048576,2,0),0)","v":0},null,null,null,null,null,"00:00:00",null,"00:00:00","00:00:00"]
[null,{"$f":"IFERROR(VLOOKUP(A7178,'Banco de Funcionários'!$A$2:$D$1048576,2,0),0)","v":0},null,null,null,null,null,"00:00:00",null,"00:00:00","00:00:00"]
[null,{"$f":"IFERROR(VLOOKUP(A7179,'Banco de Funcionários'!$A$2:$D$1048576,2,0),0)","v":0},null,null,null,null,null,"00:00:00",null,"00:00:00","00:00:00"]
[null,{"$f":"IFERROR(VLOOKUP(A7184,'Banco de Funcionários'!$A$2:$D$1048576,2,0),0)","v":0},null,null,null,null,null,"00:00:00",null,"00:00:00","00:00:00"]
[null,{"$f":"IFERROR(VLOOKUP(A7189,'Banco de Funcionários'!$A$2:$D$1048576,2,0),0)","v":0},null,null,null,null,null,"00:00:00",null,"00:00:00","00:00:00"]
[null,{"$f":"IFERROR(VLOOKUP(A7195,'Banco de Funcionários'!$A$2:$D$1048576,2,0),0)","v":0},null,null,null,null,null,"00:00:00",null,"00:00:00","00:00:00"]
[null,{"$f":"IFERROR(VLOOKUP(A7200,'Banco de Funcionários'!$A$2:$D$1048576,2,0),0)","v":0},null,null,null,null,null,"00:00:00",null,"00:00:00","00:00:00"]
[null,{"$f":"IFERROR(VLOOKUP(A7206,'Banco de Funcionários'!$A$2:$D$1048576,2,0),0)","v":0},null,null,null,null,null,"00:00:00",null,"00:00:00","00:00:00"]
[null,{"$f":"IFERROR(VLOOKUP(A7211,'Banco de Funcionários'!$A$2:$D$1048576,2,0),0)","v":0},null,null,null,null,null,"00:00:00",null,"00:00:00","00:00:00"]
[null,{"$f":"IFERROR(VLOOKUP(A7216,'Banco de Funcionários'!$A$2:$D$1048576,2,0),0)","v":0},null,null,null,null,null,"00:00:00",null,"00:00:00","00:00:00"]
[null,{"$f":"IFERROR(VLOOKUP(A7222,'Banco de Funcionários'!$A$2:$D$1048576,2,0),0)","v":0},null,null,null,null,null,"00:00:00",null,"00:00:00","00:00:00"]
[null,{"$f":"IFERROR(VLOOKUP(A7227,'Banco de Funcionários'!$A$2:$D$1048576,2,0),0)","v":0},null,null,null,null,null,"00:00:00",null,"00:00:00","00:00:00"]
[null,{"$f":"IFERROR(VLOOKUP(A7232,'Banco de Funcionários'!$A$2:$D$1048576,2,0),0)","v":0},null,null,null,null,null,"00:00:00",null,"00:00:00","00:00:00"]
[null,{"$f":"IFERROR(VLOOKUP(A7235,'Banco de Funcionários'!$A$2:$D$1048576,2,0),0)","v":0},null,null,null,null,null,{"$f":"(F7235-E7235)-G7235","v":"00:00:00"},null,{"$f":"IFERROR(H7235-I7235,\"\")","v":"00:00:00"},{"$f":"IFERROR(H7235+J7235,0)","v":"00:00:00"}]
[null,{"$f":"IFERROR(VLOOKUP(A7242,'Banco de Funcionários'!$A$2:$D$1048576,2,0),0)","v":0},null,null,null,null,null,"00:00:00",null,"00:00:00","00:00:00"]
[null,{"$f":"IFERROR(VLOOKUP(A7243,'Banco de Funcionários'!$A$2:$D$1048576,2,0),0)","v":0},null,null,null,null,null,"00:00:00",null,"00:00:00","00:00:00"]
[null,{"$f":"IFERROR(VLOOKUP(A7248,'Banco de Funcionários'!$A$2:$D$1048576,2,0),0)","v":0},null,null,null,null,null,"00:00:00",null,"00:00:00","00:00:00"]
[null,{"$f":"IFERROR(VLOOKUP(A7253,'Banco de Funcionários'!$A$2:$D$1048576,2,0),0)","v":0},null,null,null,null,null,"00:00:00",null,"00:00:00","00:00:00"]
[null,{"$f":"IFERROR(VLOOKUP(A7259,'Banco de Funcionários'!$A$2:$D$1048576,2,0),0)","v":0},null,null,null,null,null,"00:00:00",null,"00:00:00","00:00:00"]
[null,{"$f":"IFERROR(VLOOKUP(A7264,'Banco de Funcionários'!$A$2:$D$1048576,2,0),0)","v":0},null,null,null,null,null,"00:00:00",null,"00:00:00","00:00:00"]
[null,{"$f":"IFERROR(VLOOKUP(A7270,'Banco de Funcionários'!$A$2:$D$1048576,2,0),0)","v":0},null,null,null,null,null,"00:00:00",null,"00:00:00","00:00:00"]
[null,{"$f":"IFERROR(VLOOKUP(A7275,'Banco de Funcionários'!$A$2:$D$1048576,2,0),0)","v":0},null,null,null,null,null,"00:00:00",null,"00:00:00","00:00:00"]
[null,{"$f":"IFERROR(VLOOKUP(A7280,'Banco de Funcionários'!$A$2:$D$1048576,2,0),0)","v":0},null,null,null,null,null,"00:00:00",null,"00:00:00","00:00:00"]
[null,{"$f":"IFERROR(VLOOKUP(A7286,'Banco de Funcionários'!$A$2:$D$1048576,2,0),0)","v":0},null,null,null,null,null,"00:00:00",null,"00:00:00","00:00:00"]
[null,{"$f":"IFERROR(VLOOKUP(A7291,'Banco de Funcionários'!$A$2:$D$1048576,2,0),0)","v":0},null,null,null,null,null,"00:00:00",null,"00:00:00","00:00:00"]
[null,{"$f":"IFERROR(VLOOKUP(A7296,'Banco de Funcionários'!$A$2:$D$1048576,2,0),0)","v":0},null,null,null,null,null,"00:00:00",null,"00:00:00","00:00:00"]
[null,{"$f":"IFERROR(VLOOKUP(A7302,'Banco de Funcionários'!$A$2:$D$1048576,2,0),0)","v":0},null,null,null,null,null,"00:00:00",null,"00:00:00","00:00:00"]
[null,{"$f":"IFERROR(VLOOKUP(A7307,'Banco de Funcionários'!$A$2:$D$1048576,2,0),0)","v":0},null,null,null,null,null,"00:00:00",null,"00:00:00","00:00:00"]
[null,{"$f":"IFERROR(VLOOKUP(A7308,'Banco de Funcionários'!$A$2:$D$1048576,2,0),0)","v":0},null,null,null,null,null,"00:00:00",null,"00:00:00","00:00:00"]
[null,{"$f":"IFERROR(VLOOKUP(A7313,'Banco de Funcionários'!$A$2:$D$1048576,2,0),0)","v":0},null,null,null,null,null,"00:00:00",null,"00:00:00","00:00:00"]
[null,{"$f":"IFERROR(VLOOKUP(A7318,'Banco de Funcionários'!$A$2:$D$1048576,2,0),0)","v":0},null,null,null,null,null,"00:00:00",null,"00:00:00","00:00:00"]
[null,{"$f":"IFERROR(VLOOKUP(A7324,'Banco de Funcionários'!$A$2:$D$1048576,2,0),0)","v":0},null,null,null,null,null,"00:00:00",null,"00:00:00","00:00:00"]
[null,{"$f":"IFERROR(VLOOKUP(A7329,'Banco de Funcionários'!$A$2:$D$1048576,2,0),0)","v":0},null,null,null,null,null,"00:00:00",null,"00:00:00","00:00:00"]
[null,{"$f":"IFERROR(VLOOKUP(A7334,'Banco de Funcionários'!$A$2:$D$1048576,2,0),0)","v":0},null,null,null,null,null,"00:00:00",null,"00:00:00","00:00:00"]
[null,{"$f":"IFERROR(VLOOKUP(A7340,'Banco de Funcionários'!$A$2:$D$1048576,2,0),0)","v":0},null,null,null,null,null,"00:00:00",null,"00:00:00","00:00:00"]
[null,{"$f":"IFERROR(VLOOKUP(A7346,'Banco de Funcionários'!$A$2:$D$1048576,2,0),0)","v":0},null,null,null,null,null,"00:00:00",null,"00:00:00","00:00:00"]
[null,{"$f":"IFERROR(VLOOKUP(A7350,'Banco de Funcionários'!$A$2:$D$1048576,2,0),0)","v":0},null,null,null,null,null,"00:00:00",null,"00:00:00","00:00:00"]
[null,{"$f":"IFERROR(VLOOKUP(A7355,'Banco de Funcionários'!$A$2:$D$1048576,2,0),0)","v":0},null,null,null,null,null,"00:00:00",null,"00:00:00","00:00:00"]
[null,{"$f":"IFERROR(VLOOKUP(A7360,'Banco de Funcionários'!$A$2:$D$1048576,2,0),0)","v":0},null,null,null,null,null,"00:00:00",null,"00:00:00","00:00:00"]
[null,{"$f":"IFERROR(VLOOKUP(A7366,'Banco de Funcionários'!$A$2:$D$1048576,2,0),0)","v":0},null,null,null,null,null,"00:00:00",null,"00:00:00","00:00:00"]
[null,{"$f":"IFERROR(VLOOKUP(A7371,'Banco de Funcionários'!$A$2:$D$1048576,2,0),0)","v":0},null,null,null,null,null,"00:00:00",null,"00:00:00","00:00:00"]
[null,{"$f":"IFERROR(VLOOKUP(A7372,'Banco de Funcionários'!$A$2:$D$1048576,2,0),0)","v":0},null,null,null,null,null,"00:00:00",null,"00:00:00","00:00:00"]
[null,{"$f":"IFERROR(VLOOKUP(A7377,'Banco de Funcionários'!$A$2:$D$1048576,2,0),0)","v":0},null,null,null,null,null,"00:00:00",null,"00:00:00","00:00:00"]
[null,{"$f":"IFERROR(VLOOKUP(A7382,'Banco de Funcionários'!$A$2:$D$1048576,2,0),0)","v":0},null,null,null,null,null,"00:00:00",null,"00:00:00","00:00:00"]
[null,{"$f":"IFERROR(VLOOKUP(A7388,'Banco de Funcionários'!$A$2:$D$1048576,2,0),0)","v":0},null,null,null,null,null,"00:00:00",null,"00:00:00","00:00:00"]
[null,{"$f":"IFERROR(VLOOKUP(A7393,'Banco de Funcionários'!$A$2:$D$1048576,2,0),0)","v":0},null,null,null,null,null,"00:00:00",null,"00:00:00","00:00:00"]
[null,{"$f":"IFERROR(VLOOKUP(A7398,'Banco de Funcionários'!$A$2:$D$1048576,2,0),0)","v":0},null,null,null,null,null,"00:00:00",null,"00:00:00","00:00:00"]
[null,{"$f":"IFERROR(VLOOKUP(A7404,'Banco de Funcionários'!$A$2:$D$1048576,2,0),0)","v":0},null,null,null,null,null,"00:00:00",null,"00:00:00","00:00:00"]
[null,{"$f":"IFERROR(VLOOKUP(A7409,'Banco de Funcionários'!$A$2:$D$1048576,2,0),0)","v":0},null,null,null,null,null,"00:00:00",null,"00:00:00","00:00:00"]
[null,{"$f":"IFERROR(VLOOKUP(A7415,'Banco de Funcionários'!$A$2:$D$1048576,2,0),0)","v":0},null,null,null,null,null,"00:00:00",null,"00:00:00","00:00:00"]
[null,{"$f":"IFERROR(VLOOKUP(A7420,'Banco de Funcionários'!$A$2:$D$1048576,2,0),0)","v":0},null,null,null,null,null,"00:00:00",null,"00:00:00","00:00:00"]
[null,{"$f":"IFERROR(VLOOKUP(A7425,'Banco de Funcionários'!$A$2:$D$1048576,2,0),0)","v":0},null,null,null,null,null,"00:00:00",null,"00:00:00","00:00:00"]
[null,{"$f":"IFERROR(VLOOKUP(A7431,'Banco de Funcionários'!$A$2:$D$1048576,2,0),0)","v":0},null,null,null,null,null,"00:00:00",null,"00:00:00","00:00:00"]
[null,{"$f":"IFERROR(VLOOKUP(A7436,'Banco de Funcionários'!$A$2:$D$1048576,2,0),0)","v":0},null,null,null,null,null,"00:00:00",null,"00:00:00","00:00:00"]
[null,{"$f":"IFERROR(VLOOKUP(A7437,'Banco de Funcionários'!$A$2:$D$1048576,2,0),0)","v":0},null,null,null,null,null,"00:00:00",null,"00:00:00","00:00:00"]
[null,{"$f":"IFERROR(VLOOKUP(A7442,'Banco de Funcionários'!$A$2:$D$1048576,2,0),0)","v":0},null,null,null,null,null,"00:00:00",null,"00:00:00","00:00:00"]
[null,{"$f":"IFERROR(VLOOKUP(A7447,'Banco de Funcionários'!$A$2:$D$1048576,2,0),0)","v":0},null,null,null,null,null,"00:00:00",null,"00:00:00","00:00:00"]
[null,{"$f":"IFERROR(VLOOKUP(A7453,'Banco de Funcionários'!$A$2:$D$1048576,2,0),0)","v":0},null,null,null,null,null,"00:00:00",null,"00:00:00","00:00:00"]
[null,{"$f":"IFERROR(VLOOKUP(A7459,'Banco de Funcionários'!$A$2:$D$1048576,2,0),0)","v":0},null,null,null,null,null,"00:00:00",null,"00:00:00","00:00:00"]
[null,{"$f":"IFERROR(VLOOKUP(A7462,'Banco de Funcionários'!$A$2:$D$1048576,2,0),0)","v":0},null,null,null,null,null,"00:00:00",null,"00:00:00","00:00:00"]
[null,{"$f":"IFERROR(VLOOKUP(A7468,'Banco de Funcionários'!$A$2:$D$1048576,2,0),0)","v":0},null,null,null,null,null,"00:00:00",null,"00:00:00","00:00:00"]
[null,{"$f":"IFERROR(VLOOKUP(A7473,'Banco de Funcionários'!$A$2:$D$1048576,2,0),0)","v":0},null,null,null,null,null,"00:00:00",null,"00:00:00","00:00:00"]
[null,{"$f":"IFERROR(VLOOKUP(A7479,'Banco de Funcionários'!$A$2:$D$1048576,2,0),0)","v":0},null,null,null,null,null,"00:00:00",null,"00:00:00","00:00:00"]
[null,{"$f":"IFERROR(VLOOKUP(A7484,'Banco de Funcionários'!$A$2:$D$1048576,2,0),0)","v":0},null,null,null,null,null,"00:00:00",null,"00:00:00","00:00:00"]
[null,{"$f":"IFERROR(VLOOKUP(A7489,'Banco de Funcionários'!$A$2:$D$1048576,2,0),0)","v":0},null,null,null,null,null,"00:00:00",null,"00:00:00","00:00:00"]
[null,{"$f":"IFERROR(VLOOKUP(A7495,'Banco de Funcionários'!$A$2:$D$1048576,2,0),0)","v":0},null,null,null,null,null,"00:00:00",null,"00:00:00","00:00:00"]
[null,{"$f":"IFERROR(VLOOKUP(A7500,'Banco de Funcionários'!$A$2:$D$1048576,2,0),0)","v":0},null,null,null,null,null,"00:00:00",null,"00:00:00","00:00:00"]
[null,{"$f":"IFERROR(VLOOKUP(A7505,'Banco de Funcionários'!$A$2:$D$1048576,2,0),0)","v":0},null,null,null,null,null,"00:00:00",null,"00:00:00","00:00:00"]
[null,{"$f":"IFERROR(VLOOKUP(A7506,'Banco de Funcionários'!$A$2:$D$1048576,2,0),0)","v":0},null,null,null,null,null,"00:00:00",null,"00:00:00","00:00:00"]
[null,{"$f":"IFERROR(VLOOKUP(A7511,'Banco de Funcionários'!$A$2:$D$1048576,2,0),0)","v":0},null,null,null,null,null,"00:00:00",null,"00:00:00","00:00:00"]
[null,{"$f":"IFERROR(VLOOKUP(A7517,'Banco de Funcionários'!$A$2:$D$1048576,2,0),0)","v":0},null,null,null,null,null,"00:00:00",null,"00:00:00","00:00:00"]
[null,{"$f":"IFERROR(VLOOKUP(A7522,'Banco de Funcionários'!$A$2:$D$1048576,2,0),0)","v":0},null,null,null,null,null,"00:00:00",null,"00:00:00","00:00:00"]
[null,{"$f":"IFERROR(VLOOKUP(A7527,'Banco de Funcionários'!$A$2:$D$1048576,2,0),0)","v":0},null,null,null,null,null,"00:00:00",null,"00:00:00","00:00:00"]
[null,{"$f":"IFERROR(VLOOKUP(A7533,'Banco de Funcionários'!$A$2:$D$1048576,2,0),0)","v":0},null,null,null,null,null,"00:00:00",null,"00:00:00","00:00:00"]
[null,{"$f":"IFERROR(VLOOKUP(A7538,'Banco de Funcionários'!$A$2:$D$1048576,2,0),0)","v":0},null,null,null,null,null,"00:00:00",null,"00:00:00","00:00:00"]
[null,{"$f":"IFERROR(VLOOKUP(A7544,'Banco de Funcionários'!$A$2:$D$1048576,2,0),0)","v":0},null,null,null,null,null,"00:00:00",null,"00:00:00","00:00:00"]
[null,{"$f":"IFERROR(VLOOKUP(A7549,'Banco de Funcionários'!$A$2:$D$1048576,2,0),0)","v":0},null,null,null,null,null,"00:00:00",null,"00:00:00","00:00:00"]
[null,{"$f":"IFERROR(VLOOKUP(A7554,'Banco de Funcionários'!$A$2:$D$1048576,2,0),0)","v":0},null,null,null,null,null,"00:00:00",null,"00:00:00","00:00:00"]
[null,{"$f":"IFERROR(VLOOKUP(A7560,'Banco de Funcionários'!$A$2:$D$1048576,2,0),0)","v":0},null,null,null,null,null,"00:00:00",null,"00:00:00","00:00:00"]
[null,{"$f":"IFERROR(VLOOKUP(A7565,'Banco de Funcionários'!$A$2:$D$1048576,2,0),0)","v":0},null,null,null,null,null,"00:00:00",null,"00:00:00","00:00:00"]
[null,{"$f":"IFERROR(VLOOKUP(A7566,'Banco de Funcionários'!$A$2:$D$1048576,2,0),0)","v":0},null,null,null,null,null,"00:00:00",null,"00:00:00","00:00:00"]
[null,{"$f":"IFERROR(VLOOKUP(A7570,'Banco de Funcionários'!$A$2:$D$1048576,2,0),0)","v":0},null,null,null,null,null,"00:00:00",null,"00:00:00","00:00:00"]
[null,{"$f":"IFERROR(VLOOKUP(A7575,'Banco de Funcionários'!$A$2:$D$1048576,2,0),0)","v":0},null,null,null,null,null,"00:00:00",null,"00:00:00","00:00:00"]
[null,{"$f":"IFERROR(VLOOKUP(A7581,'Banco de Funcionários'!$A$2:$D$1048576,2,0),0)","v":0},null,null,null,null,null,"00:00:00",null,"00:00:00","00:00:00"]
[null,{"$f":"IFERROR(VLOOKUP(A7586,'Banco de Funcionários'!$A$2:$D$1048576,2,0),0)","v":0},null,null,null,null,null,"00:00:00",null,"00:00:00","00:00:00"]
[null,{"$f":"IFERROR(VLOOKUP(A7591,'Banco de Funcionários'!$A$2:$D$1048576,2,0),0)","v":0},null,null,null,null,null,"00:00:00",null,"00:00:00","00:00:00"]
[null,{"$f":"IFERROR(VLOOKUP(A7597,'Banco de Funcionários'!$A$2:$D$1048576,2,0),0)","v":0},null,null,null,null,null,"00:00:00",null,"00:00:00","00:00:00"]
[null,{"$f":"IFERROR(VLOOKUP(A7602,'Banco de Funcionários'!$A$2:$D$1048576,2,0),0)","v":0},null,null,null,null,null,"00:00:00",null,"00:00:00","00:00:00"]
[null,{"$f":"IFERROR(VLOOKUP(A7608,'Banco de Funcionários'!$A$2:$D$1048576,2,0),0)","v":0},null,null,null,null,null,"00:00:00",null,"00:00:00","00:00:00"]
[null,{"$f":"IFERROR(VLOOKUP(A7613,'Banco de Funcionários'!$A$2:$D$1048576,2,0),0)","v":0},null,null,null,null,null,"00:00:00",null,"00:00:00","00:00:00"]
[null,{"$f":"IFERROR(VLOOKUP(A7618,'Banco de Funcionários'!$A$2:$D$1048576,2,0),0)","v":0},null,null,null,null,null,"00:00:00",null,"00:00:00","00:00:00"]
[null,{"$f":"IFERROR(VLOOKUP(A7624,'Banco de Funcionários'!$A$2:$D$1048576,2,0),0)","v":0},null,null,null,null,null,"00:00:00",null,"00:00:00","00:00:00"]
[null,{"$f":"IFERROR(VLOOKUP(A7629,'Banco de Funcionários'!$A$2:$D$1048576,2,0),0)","v":0},null,null,null,null,null,"00:00:00",null,"00:00:00","00:00:00"]
[null,{"$f":"IFERROR(VLOOKUP(A7634,'Banco de Funcionários'!$A$2:$D$1048576,2,0),0)","v":0},null,null,null,null,null,"00:00:00",null,"00:00:00","00:00:00"]
[null,{"$f":"IFERROR(VLOOKUP(A7635,'Banco de Funcionários'!$A$2:$D$1048576,2,0),0)","v":0},null,null,null,null,null,"00:00:00",null,"00:00:00","00:00:00"]
[null,{"$f":"IFERROR(VLOOKUP(A7640,'Banco de Funcionários'!$A$2:$D$1048576,2,0),0)","v":0},null,null,null,null,null,"00:00:00",null,"00:00:00","00:00:00"]
[null,{"$f":"IFERROR(VLOOKUP(A7646,'Banco de Funcionários'!$A$2:$D$1048576,2,0),0)","v":0},null,null,null,null,null,"00:00:00",null,"00:00:00","00:00:00"]
[null,{"$f":"IFERROR(VLOOKUP(A7651,'Banco de Funcionários'!$A$2:$D$1048576,2,0),0)","v":0},null,null,null,null,null,"00:00:00",null,"00:00:00","00:00:00"]
[null,{"$f":"IFERROR(VLOOKUP(A7656,'Banco de Funcionários'!$A$2:$D$1048576,2,0),0)","v":0},null,null,null,null,null,"00:00:00",null,"00:00:00","00:00:00"]
[null,{"$f":"IFERROR(VLOOKUP(A7662,'Banco de Funcionários'!$A$2:$D$1048576,2,0),0)","v":0},null,null,null,null,null,"00:00:00",null,"00:00:00","00:00:00"]
[null,{"$f":"IFERROR(VLOOKUP(A7667,'Banco de Funcionários'!$A$2:$D$1048576,2,0),0)","v":0},null,null,null,null,null,"00:00:00",null,"00:00:00","00:00:00"]
[null,{"$f":"IFERROR(VLOOKUP(A7672,'Banco de Funcionários'!$A$2:$D$1048576,2,0),0)","v":0},null,null,null,null,null,"00:00:00",null,"00:00:00","00:00:00"]
[null,{"$f":"IFERROR(VLOOKUP(A7678,'Banco de Funcionários'!$A$2:$D$1048576,2,0),0)","v":0},null,null,null,null,null,"00:00:00",null,"00:00:00","00:00:00"]
[null,{"$f":"IFERROR(VLOOKUP(A7683,'Banco de Funcionários'!$A$2:$D$1048576,2,0),0)","v":0},null,null,null,null,null,{"$f":"(F7683-E7683)-G7683","v":"00:00:00"},null,{"$f":"IFERROR(H7683-I7683,\"\")","v":"00:00:00"},{"$f":"IFERROR(H7683+J7683,0)","v":"00:00:00"}]
[null,{"$f":"IFERROR(VLOOKUP(A7688,'Banco de Funcionários'!$A$2:$D$1048576,2,0),0)","v":0},null,null,null,null,null,"00:00:00",null,"00:00:00","00:00:00"]
[null,{"$f":"IFERROR(VLOOKUP(A7693,'Banco de Funcionários'!$A$2:$D$1048576,2,0),0)","v":0},null,null,null,null,null,"00:00:00",null,"00:00:00","00:00:00"]
[null,{"$f":"IFERROR(VLOOKUP(A7698,'Banco de Funcionários'!$A$2:$D$1048576,2,0),0)","v":0},null,null,null,null,null,"00:00:00",null,"00:00:00","00:00:00"]
[null,{"$f":"IFERROR(VLOOKUP(A7699,'Banco de Funcionários'!$A$2:$D$1048576,2,0),0)","v":0},null,null,null,null,null,"00:00:00",null,"00:00:00","00:00:00"]
[null,{"$f":"IFERROR(VLOOKUP(A7704,'Banco de Funcionários'!$A$2:$D$1048576,2,0),0)","v":0},null,null,null,null,null,"00:00:00",null,"00:00:00","00:00:00"]
[null,{"$f":"IFERROR(VLOOKUP(A7710,'Banco de Funcionários'!$A$2:$D$1048576,2,0),0)","v":0},null,null,null,null,null,"00:00:00",null,"00:00:00","00:00:00"]
[null,{"$f":"IFERROR(VLOOKUP(A7715,'Banco de Funcionários'!$A$2:$D$1048576,2,0),0)","v":0},null,null,null,null,null,"00:00:00",null,"00:00:00","00:00:00"]
[null,{"$f":"IFERROR(VLOOKUP(A7720,'Banco de Funcionários'!$A$2:$D$1048576,2,0),0)","v":0},null,null,null,null,null,"00:00:00",null,"00:00:00","00:00:00"]
[null,{"$f":"IFERROR(VLOOKUP(A7726,'Banco de Funcionários'!$A$2:$D$1048576,2,0),0)","v":0},null,null,null,null,null,"00:00:00",null,"00:00:00","00:00:00"]
[null,{"$f":"IFERROR(VLOOKUP(A7731,'Banco de Funcionários'!$A$2:$D$1048576,2,0),0)","v":0},null,null,null,null,null,"00:00:00",null,"00:00:00","00:00:00"]
[null,{"$f":"IFERROR(VLOOKUP(A7736,'Banco de Funcionários'!$A$2:$D$1048576,2,0),0)","v":0},null,null,null,null,null,"00:00:00",null,"00:00:00","00:00:00"]
[null,{"$f":"IFERROR(VLOOKUP(A7742,'Banco de Funcionários'!$A$2:$D$1048576,2,0),0)","v":0},null,null,null,null,null,"00:00:00",null,"00:00:00","00:00:00"]
[null,{"$f":"IFERROR(VLOOKUP(A7747,'Banco de Funcionários'!$A$2:$D$1048576,2,0),0)","v":0},null,null,null,null,null,{"$f":"(F7747-E7747)-G7747","v":"00:00:00"},null,{"$f":"IFERROR(H7747-I7747,\"\")","v":"00:00:00"},{"$f":"IFERROR(H7747+J7747,0)","v":"00:00:00"}]
[null,{"$f":"IFERROR(VLOOKUP(A7753,'Banco de Funcionários'!$A$2:$D$1048576,2,0),0)","v":0},null,null,null,null,null,"00:00:00",null,"00:00:00","00:00:00"]
[null,{"$f":"IFERROR(VLOOKUP(A7758,'Banco de Funcionários'!$A$2:$D$1048576,2,0),0)","v":0},null,null,null,null,null,"00:00:00",null,"00:00:00","00:00:00"]
[null,{"$f":"IFERROR(VLOOKUP(A7763,'Banco de Funcionários'!$A$2:$D$1048576,2,0),0)","v":0},null,null,null,null,null,"00:00:00",null,"00:00:00","00:00:00"]
[null,{"$f":"IFERROR(VLOOKUP(A7764,'Banco de Funcionários'!$A$2:$D$1048576,2,0),0)","v":0},null,null,null,null,null,"00:00:00",null,"00:00:00","00:00:00"]
[null,{"$f":"IFERROR(VLOOKUP(A7769,'Banco de Funcionários'!$A$2:$D$1048576,2,0),0)","v":0},null,null,null,null,null,"00:00:00",null,"00:00:00","00:00:00"]
[null,{"$f":"IFERROR(VLOOKUP(A7774,'Banco de Funcionários'!$A$2:$D$1048576,2,0),0)","v":0},null,null,null,null,null,"00:00:00",null,"00:00:00","00:00:00"]
[null,{"$f":"IFERROR(VLOOKUP(A7780,'Banco de Funcionários'!$A$2:$D$1048576,2,0),0)","v":0},null,null,null,null,null,"00:00:00",null,"00:00:00","00:00:00"]
[null,{"$f":"IFERROR(VLOOKUP(A7785,'Banco de Funcionários'!$A$2:$D$1048576,2,0),0)","v":0},null,null,null,null,null,"00:00:00",null,"00:00:00","00:00:00"]
[null,{"$f":"IFERROR(VLOOKUP(A7790,'Banco de Funcionários'!$A$2:$D$1048576,2,0),0)","v":0},null,null,null,null,null,"00:00:00",null,"00:00:00","00:00:00"]
[null,{"$f":"IFERROR(VLOOKUP(A7795,'Banco de Funcionários'!$A$2:$D$1048576,2,0),0)","v":0},null,null,null,null,null,"00:00:00",null,"00:00:00","00:00:00"]
[null,{"$f":"IFERROR(VLOOKUP(A7800,'Banco de Funcionários'!$A$2:$D$1048576,2,0),0)","v":0},null,null,null,null,null,"00:00:00",null,"00:00:00","00:00:00"]
[null,{"$f":"IFERROR(VLOOKUP(A7806,'Banco de Funcionários'!$A$2:$D$1048576,2,0),0)","v":0},null,null,null,null,null,"00:00:00",null,"00:00:00","00:00:00"]
[null,{"$f":"IFERROR(VLOOKUP(A7811,'Banco de Funcionários'!$A$2:$D$1048576,2,0),0)","v":0},null,null,null,null,null,{"$f":"(F7811-E7811)-G7811","v":"00:00:00"},null,{"$f":"IFERROR(H7811-I7811,\"\")","v":"00:00:00"},{"$f":"IFERROR(H7811+J7811,0)","v":"00:00:00"}]
[null,{"$f":"IFERROR(VLOOKUP(A7817,'Banco de Funcionários'!$A$2:$D$1048576,2,0),0)","v":0},null,null,null,null,null,"00:00:00",null,"00:00:00","00:00:00"]
[null,{"$f":"IFERROR(VLOOKUP(A7822,'Banco de Funcionários'!$A$2:$D$1048576,2,0),0)","v":0},null,null,null,null,null,"00:00:00",null,"00:00:00","00:00:00"]
[null,{"$f":"IFERROR(VLOOKUP(A7827,'Banco de Funcionários'!$A$2:$D$1048576,2,0),0)","v":0},null,null,null,null,null,"00:00:00",null,"00:00:00","00:00:00"]
[null,{"$f":"IFERROR(VLOOKUP(A7828,'Banco de Funcionários'!$A$2:$D$1048576,2,0),0)","v":0},null,null,null,null,null,"00:00:00",null,"00:00:00","00:00:00"]
[null,{"$f":"IFERROR(VLOOKUP(A7833,'Banco de Funcionários'!$A$2:$D$1048576,2,0),0)","v":0},null,null,null,null,null,"00:00:00",null,"00:00:00","00:00:00"]
[null,{"$f":"IFERROR(VLOOKUP(A7838,'Banco de Funcionários'!$A$2:$D$1048576,2,0),0)","v":0},null,null,null,null,null,"00:00:00",null,"00:00:00","00:00:00"]
[null,{"$f":"IFERROR(VLOOKUP(A7844,'Banco de Funcionários'!$A$2:$D$1048576,2,0),0)","v":0},null,null,null,null,null,"00:00:00",null,"00:00:00","00:00:00"]
[null,{"$f":"IFERROR(VLOOKUP(A7849,'Banco de Funcionários'!$A$2:$D$1048576,2,0),0)","v":0},null,null,null,null,null,"00:00:00",null,"00:00:00","00:00:00"]
[null,{"$f":"IFERROR(VLOOKUP(A7855,'Banco de Funcionários'!$A$2:$D$1048576,2,0),0)","v":0},null,null,null,null,null,"00:00:00",null,"00:00:00","00:00:00"]
[null,{"$f":"IFERROR(VLOOKUP(A7860,'Banco de Funcionários'!$A$2:$D$1048576,2,0),0)","v":0},null,null,null,null,null,"00:00:00",null,"00:00:00","00:00:00"]
[null,{"$f":"IFERROR(VLOOKUP(A7865,'Banco de Funcionários'!$A$2:$D$1048576,2,0),0)","v":0},null,null,null,null,null,"00:00:00",null,"00:00:00","00:00:00"]
[null,{"$f":"IFERROR(VLOOKUP(A7871,'Banco de Funcionários'!$A$2:$D$1048576,2,0),0)","v":0},null,null,null,null,null,"00:00:00",null,"00:00:00","00:00:00"]
[null,{"$f":"IFERROR(VLOOKUP(A7876,'Banco de Funcionários'!$A$2:$D$1048576,2,0),0)","v":0},null,null,null,null,null,"00:00:00",null,"00:00:00","00:00:00"]
[null,{"$f":"IFERROR(VLOOKUP(A7882,'Banco de Funcionários'!$A$2:$D$1048576,2,0),0)","v":0},null,null,null,null,null,"00:00:00",null,"00:00:00","00:00:00"]
[null,{"$f":"IFERROR(VLOOKUP(A7887,'Banco de Funcionários'!$A$2:$D$1048576,2,0),0)","v":0},null,null,null,null,null,"00:00:00",null,"00:00:00","00:00:00"]
[null,{"$f":"IFERROR(VLOOKUP(A7892,'Banco de Funcionários'!$A$2:$D$1048576,2,0),0)","v":0},null,null,null,null,null,"00:00:00",null,"00:00:00","00:00:00"]
[null,{"$f":"IFERROR(VLOOKUP(A7893,'Banco de Funcionários'!$A$2:$D$1048576,2,0),0)","v":0},null,null,null,null,null,"00:00:00",null,"00:00:00","00:00:00"]
[null,{"$f":"IFERROR(VLOOKUP(A7898,'Banco de Funcionários'!$A$2:$D$1048576,2,0),0)","v":0},null,null,null,null,null,"00:00:00",null,"00:00:00","00:00:00"]
[null,{"$f":"IFERROR(VLOOKUP(A7903,'Banco de Funcionários'!$A$2:$D$1048576,2,0),0)","v":0},null,null,null,null,null,"00:00:00",null,"00:00:00","00:00:00"]
[null,{"$f":"IFERROR(VLOOKUP(A7908,'Banco de Funcionários'!$A$2:$D$1048576,2,0),0)","v":0},null,null,null,null,null,"00:00:00",null,"00:00:00","00:00:00"]
[null,{"$f":"IFERROR(VLOOKUP(A7913,'Banco de Funcionários'!$A$2:$D$1048576,2,0),0)","v":0},null,null,null,null,null,"00:00:00",null,"00:00:00","00:00:00"]
[null,{"$f":"IFERROR(VLOOKUP(A7919,'Banco de Funcionários'!$A$2:$D$1048576,2,0),0)","v":0},null,null,null,null,null,"00:00:00",null,"00:00:00","00:00:00"]
[null,{"$f":"IFERROR(VLOOKUP(A7924,'Banco de Funcionários'!$A$2:$D$1048576,2,0),0)","v":0},null,null,null,null,null,"00:00:00",null,"00:00:00","00:00:00"]
[null,{"$f":"IFERROR(VLOOKUP(A7929,'Banco de Funcionários'!$A$2:$D$1048576,2,0),0)","v":0},null,null,null,null,null,"00:00:00",null,"00:00:00","00:00:00"]
[null,{"$f":"IFERROR(VLOOKUP(A7935,'Banco de Funcionários'!$A$2:$D$1048576,2,0),0)","v":0},null,null,null,null,null,"00:00:00",null,"00:00:00","00:00:00"]
[null,{"$f":"IFERROR(VLOOKUP(A7940,'Banco de Funcionários'!$A$2:$D$1048576,2,0),0)","v":0},null,null,null,null,null,"00:00:00",null,"00:00:00","00:00:00"]
[null,{"$f":"IFERROR(VLOOKUP(A7945,'Banco de Funcionários'!$A$2:$D$1048576,2,0),0)","v":0},null,null,null,null,null,"00:00:00",null,"00:00:00","00:00:00"]
[null,{"$f":"IFERROR(VLOOKUP(A7951,'Banco de Funcionários'!$A$2:$D$1048576,2,0),0)","v":0},null,null,null,null,null,"00:00:00",null,"00:00:00","00:00:00"]
[null,{"$f":"IFERROR(VLOOKUP(A7956,'Banco de Funcionários'!$A$2:$D$1048576,2,0),0)","v":0},null,null,null,null,null,"00:00:00",null,"00:00:00","00:00:00"]
[null,{"$f":"IFERROR(VLOOKUP(A7957,'Banco de Funcionários'!$A$2:$D$1048576,2,0),0)","v":0},null,null,null,null,null,"00:00:00",null,"00:00:00","00:00:00"]
[null,{"$f":"IFERROR(VLOOKUP(A7962,'Banco de Funcionários'!$A$2:$D$1048576,2,0),0)","v":0},null,null,null,null,null,"00:00:00",null,"00:00:00","00:00:00"]
[null,{"$f":"IFERROR(VLOOKUP(A7967,'Banco de Funcionários'!$A$2:$D$1048576,2,0),0)","v":0},null,null,null,null,null,"00:00:00",null,"00:00:00","00:00:00"]
[null,{"$f":"IFERROR(VLOOKUP(A7973,'Banco de Funcionários'!$A$2:$D$1048576,2,0),0)","v":0},null,null,null,null,null,"00:00:00",null,"00:00:00","00:00:00"]
[null,{"$f":"IFERROR(VLOOKUP(A7978,'Banco de Funcionários'!$A$2:$D$1048576,2,0),0)","v":0},null,null,null,null,null,"00:00:00",null,"00:00:00","00:00:00"]
[null,{"$f":"IFERROR(VLOOKUP(A7984,'Banco de Funcionários'!$A$2:$D$1048576,2,0),0)","v":0},null,null,null,null,null,"00:00:00",null,"00:00:00","00:00:00"]
[null,{"$f":"IFERROR(VLOOKUP(A7989,'Banco de Funcionários'!$A$2:$D$1048576,2,0),0)","v":0},null,null,null,null,null,"00:00:00",null,"00:00:00","00:00:00"]
[null,{"$f":"IFERROR(VLOOKUP(A7994,'Banco de Funcionários'!$A$2:$D$1048576,2,0),0)","v":0},null,null,null,null,null,"00:00:00",null,"00:00:00","00:00:00"]
[null,{"$f":"IFERROR(VLOOKUP(A8000,'Banco de Funcionários'!$A$2:$D$1048576,2,0),0)","v":0},null,null,null,null,null,"00:00:00",null,"00:00:00","00:00:00"]
[null,{"$f":"IFERROR(VLOOKUP(A8005,'Banco de Funcionários'!$A$2:$D$1048576,2,0),0)","v":0},null,null,null,null,null,"00:00:00",null,"00:00:00","00:00:00"]
[null,{"$f":"IFERROR(VLOOKUP(A8010,'Banco de Funcionários'!$A$2:$D$1048576,2,0),0)","v":0},null,null,null,null,null,"00:00:00",null,"00:00:00","00:00:00"]
[null,{"$f":"IFERROR(VLOOKUP(A8014,'Banco de Funcionários'!$A$2:$D$1048576,2,0),0)","v":0},null,null,null,null,null,"00:00:00",null,"00:00:00","00:00:00"]
[null,{"$f":"IFERROR(VLOOKUP(A8020,'Banco de Funcionários'!$A$2:$D$1048576,2,0),0)","v":0},null,null,null,null,null,"00:00:00",null,"00:00:00","00:00:00"]
[null,{"$f":"IFERROR(VLOOKUP(A8021,'Banco de Funcionários'!$A$2:$D$1048576,2,0),0)","v":0},null,null,null,null,null,"00:00:00",null,"00:00:00","00:00:00"]
[null,{"$f":"IFERROR(VLOOKUP(A8026,'Banco de Funcionários'!$A$2:$D$1048576,2,0),0)","v":0},null,null,null,null,null,"00:00:00",null,"00:00:00","00:00:00"]
[null,{"$f":"IFERROR(VLOOKUP(A8031,'Banco de Funcionários'!$A$2:$D$1048576,2,0),0)","v":0},null,null,null,null,null,"00:00:00",null,"00:00:00","00:00:00"]
[null,{"$f":"IFERROR(VLOOKUP(A8037,'Banco de Funcionários'!$A$2:$D$1048576,2,0),0)","v":0},null,null,null,null,null,"00:00:00",null,"00:00:00","00:00:00"]
[null,{"$f":"IFERROR(VLOOKUP(A8042,'Banco de Funcionários'!$A$2:$D$1048576,2,0),0)","v":0},null,null,null,null,null,"00:00:00",null,"00:00:00","00:00:00"]
[null,{"$f":"IFERROR(VLOOKUP(A8047,'Banco de Funcionários'!$A$2:$D$1048576,2,0),0)","v":0},null,null,null,null,null,"00:00:00",null,"00:00:00","00:00:00"]
[null,{"$f":"IFERROR(VLOOKUP(A8053,'Banco de Funcionários'!$A$2:$D$1048576,2,0),0)","v":0},null,null,null,null,null,"00:00:00",null,"00:00:00","00:00:00"]
[null,{"$f":"IFERROR(VLOOKUP(A8058,'Banco de Funcionários'!$A$2:$D$1048576,2,0),0)","v":0},null,null,null,null,null,"00:00:00",null,"00:00:00","00:00:00"]
[null,{"$f":"IFERROR(VLOOKUP(A8064,'Banco de Funcionários'!$A$2:$D$1048576,2,0),0)","v":0},null,null,null,null,null,"00:00:00",null,"00:00:00","00:00:00"]
[null,{"$f":"IFERROR(VLOOKUP(A8069,'Banco de Funcionários'!$A$2:$D$1048576,2,0),0)","v":0},null,null,null,null,null,"00:00:00",null,"00:00:00","00:00:00"]
[null,{"$f":"IFERROR(VLOOKUP(A8074,'Banco de Funcionários'!$A$2:$D$1048576,2,0),0)","v":0},null,null,null,null,null,"00:00:00",null,"00:00:00","00:00:00"]
[null,{"$f":"IFERROR(VLOOKUP(A8080,'Banco de Funcionários'!$A$2:$D$1048576,2,0),0)","v":0},null,null,null,null,null,"00:00:00",null,"00:00:00","00:00:00"]
[null,{"$f":"IFERROR(VLOOKUP(A8085,'Banco de Funcionários'!$A$2:$D$1048576,2,0),0)","v":0},null,null,null,null,null,"00:00:00",null,"00:00:00","00:00:00"]
[null,{"$f":"IFERROR(VLOOKUP(A8086,'Banco de Funcionários'!$A$2:$D$1048576,2,0),0)","v":0},null,null,null,null,null,"00:00:00",null,"00:00:00","00:00:00"]
[null,{"$f":"IFERROR(VLOOKUP(A8091,'Banco de Funcionários'!$A$2:$D$1048576,2,0),0)","v":0},null,null,null,null,null,"00:00:00",null,"00:00:00","00:00:00"]
[null,{"$f":"IFERROR(VLOOKUP(A8096,'Banco de Funcionários'!$A$2:$D$1048576,2,0),0)","v":0},null,null,null,null,null,"00:00:00",null,"00:00:00","00:00:00"]
[null,{"$f":"IFERROR(VLOOKUP(A8102,'Banco de Funcionários'!$A$2:$D$1048576,2,0),0)","v":0},null,null,null,null,null,"00:00:00",null,"00:00:00","00:00:00"]
[null,{"$f":"IFERROR(VLOOKUP(A8107,'Banco de Funcionários'!$A$2:$D$1048576,2,0),0)","v":0},null,null,null,null,null,"00:00:00",null,"00:00:00","00:00:00"]
[null,{"$f":"IFERROR(VLOOKUP(A8112,'Banco de Funcionários'!$A$2:$D$1048576,2,0),0)","v":0},null,null,null,null,null,"00:00:00",null,"00:00:00","00:00:00"]
[null,{"$f":"IFERROR(VLOOKUP(A8118,'Banco de Funcionários'!$A$2:$D$1048576,2,0),0)","v":0},null,null,null,null,null,"00:00:00",null,"00:00:00","00:00:00"]
[null,{"$f":"IFERROR(VLOOKUP(A8121,'Banco de Funcionários'!$A$2:$D$1048576,2,0),0)","v":0},null,null,null,null,null,"00:00:00",null,"00:00:00","00:00:00"]
[null,{"$f":"IFERROR(VLOOKUP(A8128,'Banco de Funcionários'!$A$2:$D$1048576,2,0),0)","v":0},null,null,null,null,null,"00:00:00",null,"00:00:00","00:00:00"]
[null,{"$f":"IFERROR(VLOOKUP(A8133,'Banco de Funcionários'!$A$2:$D$1048576,2,0),0)","v":0},null,null,null,null,null,"00:00:00",null,"00:00:00","00:00:00"]
[null,{"$f":"IFERROR(VLOOKUP(A8138,'Banco de Funcionários'!$A$2:$D$1048576,2,0),0)","v":0},null,null,null,null,null,"00:00:00",null,"00:00:00","00:00:00"]
[null,{"$f":"IFERROR(VLOOKUP(A8144,'Banco de Funcionários'!$A$2:$D$1048576,2,0),0)","v":0},null,null,null,null,null,"00:00:00",null,"00:00:00","00:00:00"]
[null,{"$f":"IFERROR(VLOOKUP(A8149,'Banco de Funcionários'!$A$2:$D$1048576,2,0),0)","v":0},null,null,null,null,null,"00:00:00",null,"00:00:00","00:00:00"]
[null,{"$f":"IFERROR(VLOOKUP(A8150,'Banco de Funcionários'!$A$2:$D$1048576,2,0),0)","v":0},null,null,null,null,null,"00:00:00",null,"00:00:00","00:00:00"]
[null,{"$f":"IFERROR(VLOOKUP(A8155,'Banco de Funcionários'!$A$2:$D$1048576,2,0),0)","v":0},null,null,null,null,null,"00:00:00",null,"00:00:00","00:00:00"]
[null,{"$f":"IFERROR(VLOOKUP(A8160,'Banco de Funcionários'!$A$2:$D$1048576,2,0),0)","v":0},null,null,null,null,null,"00:00:00",null,"00:00:00","00:00:00"]
[null,{"$f":"IFERROR(VLOOKUP(A8166,'Banco de Funcionários'!$A$2:$D$1048576,2,0),0)","v":0},null,null,null,null,null,"00:00:00",null,"00:00:00","00:00:00"]
[null,{"$f":"IFERROR(VLOOKUP(A8171,'Banco de Funcionários'!$A$2:$D$1048576,2,0),0)","v":0},null,null,null,null,null,"00:00:00",null,"00:00:00","00:00:00"]
[null,{"$f":"IFERROR(VLOOKUP(A8176,'Banco de Funcionários'!$A$2:$D$1048576,2,0),0)","v":0},null,null,null,null,null,"00:00:00",null,"00:00:00","00:00:00"]
[null,{"$f":"IFERROR(VLOOKUP(A8182,'Banco de Funcionários'!$A$2:$D$1048576,2,0),0)","v":0},null,null,null,null,null,"00:00:00",null,"00:00:00","00:00:00"]
[null,{"$f":"IFERROR(VLOOKUP(A8187,'Banco de Funcionários'!$A$2:$D$1048576,2,0),0)","v":0},null,null,null,null,null,"00:00:00",null,"00:00:00","00:00:00"]
[null,{"$f":"IFERROR(VLOOKUP(A8193,'Banco de Funcionários'!$A$2:$D$1048576,2,0),0)","v":0},null,null,null,null,null,"00:00:00",null,"00:00:00","00:00:00"]
[null,{"$f":"IFERROR(VLOOKUP(A8198,'Banco de Funcionários'!$A$2:$D$1048576,2,0),0)","v":0},null,null,null,null,null,"00:00:00",null,"00:00:00","00:00:00"]
[null,{"$f":"IFERROR(VLOOKUP(A8203,'Banco de Funcionários'!$A$2:$D$1048576,2,0),0)","v":0},null,null,null,null,null,"00:00:00",null,"00:00:00","00:00:00"]
[null,{"$f":"IFERROR(VLOOKUP(A8209,'Banco de Funcionários'!$A$2:$D$1048576,2,0),0)","v":0},null,null,null,null,null,"00:00:00",null,"00:00:00","00:00:00"]
[null,{"$f":"IFERROR(VLOOKUP(A8214,'Banco de Funcionários'!$A$2:$D$1048576,2,0),0)","v":0},null,null,null,null,null,"00:00:00",null,"00:00:00","00:00:00"]
[null,{"$f":"IFERROR(VLOOKUP(A8219,'Banco de Funcionários'!$A$2:$D$1048576,2,0),0)","v":0},null,null,null,null,null,"00:00:00",null,"00:00:00","00:00:00"]
[null,{"$f":"IFERROR(VLOOKUP(A8220,'Banco de Funcionários'!$A$2:$D$1048576,2,0),0)","v":0},null,null,null,null,null,"00:00:00",null,"00:00:00","00:00:00"]
[null,{"$f":"IFERROR(VLOOKUP(A8225,'Banco de Funcionários'!$A$2:$D$1048576,2,0),0)","v":0},null,null,null,null,null,"00:00:00",null,"00:00:00","00:00:00"]
[null,{"$f":"IFERROR(VLOOKUP(A8231,'Banco de Funcionários'!$A$2:$D$1048576,2,0),0)","v":0},null,null,null,null,null,"00:00:00",null,"00:00:00","00:00:00"]
[null,{"$f":"IFERROR(VLOOKUP(A8238,'Banco de Funcionários'!$A$2:$D$1048576,2,0),0)","v":0},null,null,null,null,null,"00:00:00",null,"00:00:00","00:00:00"]
[null,{"$f":"IFERROR(VLOOKUP(A8240,'Banco de Funcionários'!$A$2:$D$1048576,2,0),0)","v":0},null,null,null,null,null,"00:00:00",null,"00:00:00","00:00:00"]
[null,{"$f":"IFERROR(VLOOKUP(A8246,'Banco de Funcionários'!$A$2:$D$1048576,2,0),0)","v":0},null,null,null,null,null,"00:00:00",null,"00:00:00","00:00:00"]
[null,{"$f":"IFERROR(VLOOKUP(A8251,'Banco de Funcionários'!$A$2:$D$1048576,2,0),0)","v":0},null,null,null,null,null,"00:00:00",null,"00:00:00","00:00:00"]
[null,{"$f":"IFERROR(VLOOKUP(A8257,'Banco de Funcionários'!$A$2:$D$1048576,2,0),0)","v":0},null,null,null,null,null,"00:00:00",null,"00:00:00","00:00:00"]
[null,{"$f":"IFERROR(VLOOKUP(A8262,'Banco de Funcionários'!$A$2:$D$1048576,2,0),0)","v":0},null,null,null,null,null,"00:00:00",null,"00:00:00","00:00:00"]
[null,{"$f":"IFERROR(VLOOKUP(A8267,'Banco de Funcionários'!$A$2:$D$1048576,2,0),0)","v":0},null,null,null,null,null,"00:00:00",null,"00:00:00","00:00:00"]
[null,{"$f":"IFERROR(VLOOKUP(A8273,'Banco de Funcionários'!$A$2:$D$1048576,2,0),0)","v":0},null,null,null,null,null,"00:00:00",null,"00:00:00","00:00:00"]
[null,{"$f":"IFERROR(VLOOKUP(A8278,'Banco de Funcionários'!$A$2:$D$1048576,2,0),0)","v":0},null,null,null,null,null,"00:00:00",null,"00:00:00","00:00:00"]
[null,{"$f":"IFERROR(VLOOKUP(A8283,'Banco de Funcionários'!$A$2:$D$1048576,2,0),0)","v":0},null,null,null,null,null,"00:00:00",null,"00:00:00","00:00:00"]
[null,{"$f":"IFERROR(VLOOKUP(A8284,'Banco de Funcionários'!$A$2:$D$1048576,2,0),0)","v":0},null,null,null,null,null,"00:00:00",null,"00:00:00","00:00:00"]
[null,{"$f":"IFERROR(VLOOKUP(A8289,'Banco de Funcionários'!$A$2:$D$1048576,2,0),0)","v":0},null,null,null,null,null,"00:00:00",null,"00:00:00","00:00:00"]
[null,{"$f":"IFERROR(VLOOKUP(A8295,'Banco de Funcionários'!$A$2:$D$1048576,2,0),0)","v":0},null,null,null,null,null,"00:00:00",null,"00:00:00","00:00:00"]
[null,{"$f":"IFERROR(VLOOKUP(A8300,'Banco de Funcionários'!$A$2:$D$1048576,2,0),0)","v":0},null,null,null,null,null,"00:00:00",null,"00:00:00","00:00:00"]
[null,{"$f":"IFERROR(VLOOKUP(A8305,'Banco de Funcionários'!$A$2:$D$1048576,2,0),0)","v":0},null,null,null,null,null,"00:00:00",null,"00:00:00","00:00:00"]
[null,{"$f":"IFERROR(VLOOKUP(A8311,'Banco de Funcionários'!$A$2:$D$1048576,2,0),0)","v":0},null,null,null,null,null,"00:00:00",null,"00:00:00","00:00:00"]
[null,{"$f":"IFERROR(VLOOKUP(A8316,'Banco de Funcionários'!$A$2:$D$1048576,2,0),0)","v":0},null,null,null,null,null,"00:00:00",null,"00:00:00","00:00:00"]
[null,{"$f":"IFERROR(VLOOKUP(A8322,'Banco de Funcionários'!$A$2:$D$1048576,2,0),0)","v":0},null,null,null,null,null,"00:00:00",null,"00:00:00","00:00:00"]
[null,{"$f":"IFERROR(VLOOKUP(A8327,'Banco de Funcionários'!$A$2:$D$1048576,2,0),0)","v":0},null,null,null,null,null,"00:00:00",null,"00:00:00","00:00:00"]
[null,{"$f":"IFERROR(VLOOKUP(A8332,'Banco de Funcionários'!$A$2:$D$1048576,2,0),0)","v":0},null,null,null,null,null,"00:00:00",null,"00:00:00","00:00:00"]
[null,{"$f":"IFERROR(VLOOKUP(A8338,'Banco de Funcionários'!$A$2:$D$1048576,2,0),0)","v":0},null,null,null,null,null,"00:00:00",null,"00:00:00","00:00:00"]
[null,{"$f":"IFERROR(VLOOKUP(A8343,'Banco de Funcionários'!$A$2:$D$1048576,2,0),0)","v":0},null,null,null,null,null,"00:00:00",null,"00:00:00","00:00:00"]
[null,{"$f":"IFERROR(VLOOKUP(A8345,'Banco de Funcionários'!$A$2:$D$1048576,2,0),0)","v":0},null,null,null,null,null,"00:00:00",null,"00:00:00","00:00:00"]
[null,{"$f":"IFERROR(VLOOKUP(A8348,'Banco de Funcionários'!$A$2:$D$1048576,2,0),0)","v":0},null,null,null,null,null,"00:00:00",null,"00:00:00","00:00:00"]
[null,{"$f":"IFERROR(VLOOKUP(A8353,'Banco de Funcionários'!$A$2:$D$1048576,2,0),0)","v":0},null,null,null,null,null,"00:00:00",null,"00:00:00","00:00:00"]
[null,{"$f":"IFERROR(VLOOKUP(A8359,'Banco de Funcionários'!$A$2:$D$1048576,2,0),0)","v":0},null,null,null,null,null,"00:00:00",null,"00:00:00","00:00:00"]
[null,{"$f":"IFERROR(VLOOKUP(A8364,'Banco de Funcionários'!$A$2:$D$1048576,2,0),0)","v":0},null,null,null,null,null,"00:00:00",null,"00:00:00","00:00:00"]
[null,{"$f":"IFERROR(VLOOKUP(A8369,'Banco de Funcionários'!$A$2:$D$1048576,2,0),0)","v":0},null,null,null,null,null,"00:00:00",null,"00:00:00","00:00:00"]
[null,{"$f":"IFERROR(VLOOKUP(A8375,'Banco de Funcionários'!$A$2:$D$1048576,2,0),0)","v":0},null,null,null,null,null,"00:00:00",null,"00:00:00","00:00:00"]
[null,{"$f":"IFERROR(VLOOKUP(A8380,'Banco de Funcionários'!$A$2:$D$1048576,2,0),0)","v":0},null,null,null,null,null,"00:00:00",null,"00:00:00","00:00:00"]
[null,{"$f":"IFERROR(VLOOKUP(A8385,'Banco de Funcionários'!$A$2:$D$1048576,2,0),0)","v":0},null,null,null,null,null,"00:00:00",null,"00:00:00","00:00:00"]
[null,{"$f":"IFERROR(VLOOKUP(A8391,'Banco de Funcionários'!$A$2:$D$1048576,2,0),0)","v":0},null,null,null,null,null,"00:00:00",null,"00:00:00","00:00:00"]
[null,{"$f":"IFERROR(VLOOKUP(A8396,'Banco de Funcionários'!$A$2:$D$1048576,2,0),0)","v":0},null,null,null,null,null,"00:00:00",null,"00:00:00","00:00:00"]
[null,{"$f":"IFERROR(VLOOKUP(A8402,'Banco de Funcionários'!$A$2:$D$1048576,2,0),0)","v":0},null,null,null,null,null,"00:00:00",null,"00:00:00","00:00:00"]
[null,{"$f":"IFERROR(VLOOKUP(A8407,'Banco de Funcionários'!$A$2:$D$1048576,2,0),0)","v":0},null,null,null,null,null,"00:00:00",null,"00:00:00","00:00:00"]
[null,{"$f":"IFERROR(VLOOKUP(A8412,'Banco de Funcionários'!$A$2:$D$1048576,2,0),0)","v":0},null,null,null,null,null,"00:00:00",null,"00:00:00","00:00:00"]
[null,{"$f":"IFERROR(VLOOKUP(A8413,'Banco de Funcionários'!$A$2:$D$1048576,2,0),0)","v":0},null,null,null,null,null,"00:00:00",null,"00:00:00","00:00:00"]
[null,{"$f":"IFERROR(VLOOKUP(A8418,'Banco de Funcionários'!$A$2:$D$1048576,2,0),0)","v":0},null,null,null,null,null,"00:00:00",null,"00:00:00","00:00:00"]
[null,{"$f":"IFERROR(VLOOKUP(A8424,'Banco de Funcionários'!$A$2:$D$1048576,2,0),0)","v":0},null,null,null,null,null,"00:00:00",null,"00:00:00","00:00:00"]
[null,{"$f":"IFERROR(VLOOKUP(A8429,'Banco de Funcionários'!$A$2:$D$1048576,2,0),0)","v":0},null,null,null,null,null,"00:00:00",null,"00:00:00","00:00:00"]
[null,{"$f":"IFERROR(VLOOKUP(A8434,'Banco de Funcionários'!$A$2:$D$1048576,2,0),0)","v":0},null,null,null,null,null,"00:00:00",null,"00:00:00","00:00:00"]
[null,{"$f":"IFERROR(VLOOKUP(A8440,'Banco de Funcionários'!$A$2:$D$1048576,2,0),0)","v":0},null,null,null,null,null,"00:00:00",null,"00:00:00","00:00:00"]
[null,{"$f":"IFERROR(VLOOKUP(A8445,'Banco de Funcionários'!$A$2:$D$1048576,2,0),0)","v":0},null,null,null,null,null,"00:00:00",null,"00:00:00","00:00:00"]
[null,{"$f":"IFERROR(VLOOKUP(A8450,'Banco de Funcionários'!$A$2:$D$1048576,2,0),0)","v":0},null,null,null,null,null,"00:00:00",null,"00:00:00","00:00:00"]
[null,{"$f":"IFERROR(VLOOKUP(A8456,'Banco de Funcionários'!$A$2:$D$1048576,2,0),0)","v":0},null,null,null,null,null,"00:00:00",null,"00:00:00","00:00:00"]
[null,{"$f":"IFERROR(VLOOKUP(A8458,'Banco de Funcionários'!$A$2:$D$1048576,2,0),0)","v":0},null,null,null,null,null,"00:00:00",null,"00:00:00","00:00:00"]
[null,{"$f":"IFERROR(VLOOKUP(A8466,'Banco de Funcionários'!$A$2:$D$1048576,2,0),0)","v":0},null,null,null,null,null,"00:00:00",null,"00:00:00","00:00:00"]
[null,{"$f":"IFERROR(VLOOKUP(A8471,'Banco de Funcionários'!$A$2:$D$1048576,2,0),0)","v":0},null,null,null,null,null,"00:00:00",null,"00:00:00","00:00:00"]
[null,{"$f":"IFERROR(VLOOKUP(A8476,'Banco de Funcionários'!$A$2:$D$1048576,2,0),0)","v":0},null,null,null,null,null,"00:00:00",null,"00:00:00","00:00:00"]
[null,{"$f":"IFERROR(VLOOKUP(A8477,'Banco de Funcionários'!$A$2:$D$1048576,2,0),0)","v":0},null,null,null,null,null,"00:00:00",null,"00:00:00","00:00:00"]
[null,{"$f":"IFERROR(VLOOKUP(A8482,'Banco de Funcionários'!$A$2:$D$1048576,2,0),0)","v":0},null,null,null,null,null,"00:00:00",null,"00:00:00","00:00:00"]
[null,{"$f":"IFERROR(VLOOKUP(A8487,'Banco de Funcionários'!$A$2:$D$1048576,2,0),0)","v":0},null,null,null,null,null,"00:00:00",null,"00:00:00","00:00:00"]
[null,{"$f":"IFERROR(VLOOKUP(A8493,'Banco de Funcionários'!$A$2:$D$1048576,2,0),0)","v":0},null,null,null,null,null,"00:00:00",null,"00:00:00","00:00:00"]
[null,{"$f":"IFERROR(VLOOKUP(A8498,'Banco de Funcionários'!$A$2:$D$1048576,2,0),0)","v":0},null,null,null,null,null,"00:00:00",null,"00:00:00","00:00:00"]
[null,{"$f":"IFERROR(VLOOKUP(A8504,'Banco de Funcionários'!$A$2:$D$1048576,2,0),0)","v":0},null,null,null,null,null,"00:00:00",null,"00:00:00","00:00:00"]
[null,{"$f":"IFERROR(VLOOKUP(A8509,'Banco de Funcionários'!$A$2:$D$1048576,2,0),0)","v":0},null,null,null,null,null,"00:00:00",null,"00:00:00","00:00:00"]
[null,{"$f":"IFERROR(VLOOKUP(A8514,'Banco de Funcionários'!$A$2:$D$1048576,2,0),0)","v":0},null,null,null,null,null,"00:00:00",null,"00:00:00","00:00:00"]
[null,{"$f":"IFERROR(VLOOKUP(A8520,'Banco de Funcionários'!$A$2:$D$1048576,2,0),0)","v":0},null,null,null,null,null,"00:00:00",null,"00:00:00","00:00:00"]
[null,{"$f":"IFERROR(VLOOKUP(A8525,'Banco de Funcionários'!$A$2:$D$1048576,2,0),0)","v":0},null,null,null,null,null,"00:00:00",null,"00:00:00","00:00:00"]
[null,{"$f":"IFERROR(VLOOKUP(A8531,'Banco de Funcionários'!$A$2:$D$1048576,2,0),0)","v":0},null,null,null,null,null,"00:00:00",null,"00:00:00","00:00:00"]
[null,{"$f":"IFERROR(VLOOKUP(A8536,'Banco de Funcionários'!$A$2:$D$1048576,2,0),0)","v":0},null,null,null,null,null,"00:00:00",null,"00:00:00","00:00:00"]
[null,{"$f":"IFERROR(VLOOKUP(A8541,'Banco de Funcionários'!$A$2:$D$1048576,2,0),0)","v":0},null,null,null,null,null,"00:00:00",null,"00:00:00","00:00:00"]
[null,{"$f":"IFERROR(VLOOKUP(A8542,'Banco de Funcionários'!$A$2:$D$1048576,2,0),0)","v":0},null,null,null,null,null,"00:00:00",null,"00:00:00","00:00:00"]
[null,{"$f":"IFERROR(VLOOKUP(A8547,'Banco de Funcionários'!$A$2:$D$1048576,2,0),0)","v":0},null,null,null,null,null,"00:00:00",null,"00:00:00","00:00:00"]
[null,{"$f":"IFERROR(VLOOKUP(A8552,'Banco de Funcionários'!$A$2:$D$1048576,2,0),0)","v":0},null,null,null,null,null,"00:00:00",null,"00:00:00","00:00:00"]
[null,{"$f":"IFERROR(VLOOKUP(A8558,'Banco de Funcionários'!$A$2:$D$1048576,2,0),0)","v":0},null,null,null,null,null,"00:00:00",null,"00:00:00","00:00:00"]
[null,{"$f":"IFERROR(VLOOKUP(A8563,'Banco de Funcionários'!$A$2:$D$1048576,2,0),0)","v":0},null,null,null,null,null,"00:00:00",null,"00:00:00","00:00:00"]
[null,{"$f":"IFERROR(VLOOKUP(A8569,'Banco de Funcionários'!$A$2:$D$1048576,2,0),0)","v":0},null,null,null,null,null,"00:00:00",null,"00:00:00","00:00:00"]
[null,{"$f":"IFERROR(VLOOKUP(A8573,'Banco de Funcionários'!$A$2:$D$1048576,2,0),0)","v":0},null,null,null,null,null,"00:00:00",null,"00:00:00","00:00:00"]
[null,{"$f":"IFERROR(VLOOKUP(A8578,'Banco de Funcionários'!$A$2:$D$1048576,2,0),0)","v":0},null,null,null,null,null,"00:00:00",null,"00:00:00","00:00:00"]
[null,{"$f":"IFERROR(VLOOKUP(A8584,'Banco de Funcionários'!$A$2:$D$1048576,2,0),0)","v":0},null,null,null,null,null,"00:00:00",null,"00:00:00","00:00:00"]
[null,{"$f":"IFERROR(VLOOKUP(A8589,'Banco de Funcionários'!$A$2:$D$1048576,2,0),0)","v":0},null,null,null,null,null,"00:00:00",null,"00:00:00","00:00:00"]
[null,{"$f":"IFERROR(VLOOKUP(A8595,'Banco de Funcionários'!$A$2:$D$1048576,2,0),0)","v":0},null,null,null,null,null,"00:00:00",null,"00:00:00","00:00:00"]
[null,{"$f":"IFERROR(VLOOKUP(A8600,'Banco de Funcionários'!$A$2:$D$1048576,2,0),0)","v":0},null,null,null,null,null,"00:00:00",null,"00:00:00","00:00:00"]
[null,{"$f":"IFERROR(VLOOKUP(A8605,'Banco de Funcionários'!$A$2:$D$1048576,2,0),0)","v":0},null,null,null,null,null,"00:00:00",null,"00:00:00","00:00:00"]
[null,{"$f":"IFERROR(VLOOKUP(A8606,'Banco de Funcionários'!$A$2:$D$1048576,2,0),0)","v":0},null,null,null,null,null,"00:00:00",null,"00:00:00","00:00:00"]
[null,{"$f":"IFERROR(VLOOKUP(A8611,'Banco de Funcionários'!$A$2:$D$1048576,2,0),0)","v":0},null,null,null,null,null,"00:00:00",null,"00:00:00","00:00:00"]
[null,{"$f":"IFERROR(VLOOKUP(A8616,'Banco de Funcionários'!$A$2:$D$1048576,2,0),0)","v":0},null,null,null,null,null,"00:00:00",null,"00:00:00","00:00:00"]
[null,{"$f":"IFERROR(VLOOKUP(A8622,'Banco de Funcionários'!$A$2:$D$1048576,2,0),0)","v":0},null,null,null,null,null,"00:00:00",null,"00:00:00","00:00:00"]
[null,{"$f":"IFERROR(VLOOKUP(A8627,'Banco de Funcionários'!$A$2:$D$1048576,2,0),0)","v":0},null,null,null,null,null,"00:00:00",null,"00:00:00","00:00:00"]
[null,{"$f":"IFERROR(VLOOKUP(A8633,'Banco de Funcionários'!$A$2:$D$1048576,2,0),0)","v":0},null,null,null,null,null,"00:00:00",null,"00:00:00","00:00:00"]
[null,{"$f":"IFERROR(VLOOKUP(A8638,'Banco de Funcionários'!$A$2:$D$1048576,2,0),0)","v":0},null,null,null,null,null,"00:00:00",null,"00:00:00","00:00:00"]
[null,{"$f":"IFERROR(VLOOKUP(A8643,'Banco de Funcionários'!$A$2:$D$1048576,2,0),0)","v":0},null,null,null,null,null,{"$f":"(F8643-E8643)-G8643","v":"00:00:00"},null,{"$f":"IFERROR(H8643-I8643,\"\")","v":"00:00:00"},{"$f":"IFERROR(H8643+J8643,0)","v":"00:00:00"}]
[null,{"$f":"IFERROR(VLOOKUP(A8649,'Banco de Funcionários'!$A$2:$D$1048576,2,0),0)","v":0},null,null,null,null,null,"00:00:00",null,"00:00:00","00:00:00"]
[null,{"$f":"IFERROR(VLOOKUP(A8654,'Banco de Funcionários'!$A$2:$D$1048576,2,0),0)","v":0},null,null,null,null,null,"00:00:00",null,"00:00:00","00:00:00"]
[null,{"$f":"IFERROR(VLOOKUP(A8659,'Banco de Funcionários'!$A$2:$D$1048576,2,0),0)","v":0},null,null,null,null,null,"00:00:00",null,"00:00:00","00:00:00"]
[null,{"$f":"IFERROR(VLOOKUP(A8665,'Banco de Funcionários'!$A$2:$D$1048576,2,0),0)","v":0},null,null,null,null,null,"00:00:00",null,"00:00:00","00:00:00"]
[null,{"$f":"IFERROR(VLOOKUP(A8670,'Banco de Funcionários'!$A$2:$D$1048576,2,0),0)","v":0},null,null,null,null,null,"00:00:00",null,"00:00:00","00:00:00"]
[null,{"$f":"IFERROR(VLOOKUP(A8671,'Banco de Funcionários'!$A$2:$D$1048576,2,0),0)","v":0},null,null,null,null,null,"00:00:00",null,"00:00:00","00:00:00"]
[null,{"$f":"IFERROR(VLOOKUP(A8676,'Banco de Funcionários'!$A$2:$D$1048576,2,0),0)","v":0},null,null,null,null,null,"00:00:00",null,"00:00:00","00:00:00"]
[null,{"$f":"IFERROR(VLOOKUP(A8682,'Banco de Funcionários'!$A$2:$D$1048576,2,0),0)","v":0},null,null,null,null,null,"00:00:00",null,"00:00:00","00:00:00"]
[null,{"$f":"IFERROR(VLOOKUP(A8686,'Banco de Funcionários'!$A$2:$D$1048576,2,0),0)","v":0},null,null,null,null,null,"00:00:00",null,"00:00:00","00:00:00"]
[null,{"$f":"IFERROR(VLOOKUP(A8691,'Banco de Funcionários'!$A$2:$D$1048576,2,0),0)","v":0},null,null,null,null,null,"00:00:00",null,"00:00:00","00:00:00"]
[null,{"$f":"IFERROR(VLOOKUP(A8697,'Banco de Funcionários'!$A$2:$D$1048576,2,0),0)","v":0},null,null,null,null,null,"00:00:00",null,"00:00:00","00:00:00"]
[null,{"$f":"IFERROR(VLOOKUP(A8702,'Banco de Funcionários'!$A$2:$D$1048576,2,0),0)","v":0},null,null,null,null,null,"00:00:00",null,"00:00:00","00:00:00"]
[null,{"$f":"IFERROR(VLOOKUP(A8707,'Banco de Funcionários'!$A$2:$D$1048576,2,0),0)","v":0},null,null,null,null,null,{"$f":"(F8707-E8707)-G8707","v":"00:00:00"},null,{"$f":"IFERROR(H8707-I8707,\"\")","v":"00:00:00"},{"$f":"IFERROR(H8707+J8707,0)","v":"00:00:00"}]
[null,{"$f":"IFERROR(VLOOKUP(A8713,'Banco de Funcionários'!$A$2:$D$1048576,2,0),0)","v":0},null,null,null,null,null,"00:00:00",null,"00:00:00","00:00:00"]
[null,{"$f":"IFERROR(VLOOKUP(A8718,'Banco de Funcionários'!$A$2:$D$1048576,2,0),0)","v":0},null,null,null,null,null,"00:00:00",null,"00:00:00","00:00:00"]
[null,{"$f":"IFERROR(VLOOKUP(A8723,'Banco de Funcionários'!$A$2:$D$1048576,2,0),0)","v":0},null,null,null,null,null,"00:00:00",null,"00:00:00","00:00:00"]
[null,{"$f":"IFERROR(VLOOKUP(A8729,'Banco de Funcionários'!$A$2:$D$1048576,2,0),0)","v":0},null,null,null,null,null,"00:00:00",null,"00:00:00","00:00:00"]
[null,{"$f":"IFERROR(VLOOKUP(A8734,'Banco de Funcionários'!$A$2:$D$1048576,2,0),0)","v":0},null,null,null,null,null,"00:00:00",null,"00:00:00","00:00:00"]
[null,{"$f":"IFERROR(VLOOKUP(A8735,'Banco de Funcionários'!$A$2:$D$1048576,2,0),0)","v":0},null,null,null,null,null,"00:00:00",null,"00:00:00","00:00:00"]
[null,{"$f":"IFERROR(VLOOKUP(A8740,'Banco de Funcionários'!$A$2:$D$1048576,2,0),0)","v":0},null,null,null,null,null,"00:00:00",null,"00:00:00","00:00:00"]
[null,{"$f":"IFERROR(VLOOKUP(A8745,'Banco de Funcionários'!$A$2:$D$1048576,2,0),0)","v":0},null,null,null,null,null,"00:00:00",null,"00:00:00","00:00:00"]
[null,{"$f":"IFERROR(VLOOKUP(A8751,'Banco de Funcionários'!$A$2:$D$1048576,2,0),0)","v":0},null,null,null,null,null,"00:00:00",null,"00:00:00","00:00:00"]
[null,{"$f":"IFERROR(VLOOKUP(A8756,'Banco de Funcionários'!$A$2:$D$1048576,2,0),0)","v":0},null,null,null,null,null,"00:00:00",null,"00:00:00","00:00:00"]
[null,{"$f":"IFERROR(VLOOKUP(A8762,'Banco de Funcionários'!$A$2:$D$1048576,2,0),0)","v":0},null,null,null,null,null,"00:00:00",null,"00:00:00","00:00:00"]
[null,{"$f":"IFERROR(VLOOKUP(A8767,'Banco de Funcionários'!$A$2:$D$1048576,2,0),0)","v":0},null,null,null,null,null,"00:00:00",null,"00:00:00","00:00:00"]
[null,{"$f":"IFERROR(VLOOKUP(A8772,'Banco de Funcionários'!$A$2:$D$1048576,2,0),0)","v":0},null,null,null,null,null,"00:00:00",null,"00:00:00","00:00:00"]
[null,{"$f":"IFERROR(VLOOKUP(A8778,'Banco de Funcionários'!$A$2:$D$1048576,2,0),0)","v":0},null,null,null,null,null,"00:00:00",null,"00:00:00","00:00:00"]
[null,{"$f":"IFERROR(VLOOKUP(A8783,'Banco de Funcionários'!$A$2:$D$1048576,2,0),0)","v":0},null,null,null,null,null,"00:00:00",null,"00:00:00","00:00:00"]
[null,{"$f":"IFERROR(VLOOKUP(A8788,'Banco de Funcionários'!$A$2:$D$1048576,2,0),0)","v":0},null,null,null,null,null,"00:00:00",null,"00:00:00","00:00:00"]
[null,{"$f":"IFERROR(VLOOKUP(A8793,'Banco de Funcionários'!$A$2:$D$1048576,2,0),0)","v":0},null,null,null,null,null,"00:00:00",null,"00:00:00","00:00:00"]
[null,{"$f":"IFERROR(VLOOKUP(A8798,'Banco de Funcionários'!$A$2:$D$1048576,2,0),0)","v":0},null,null,null,null,null,"00:00:00",null,"00:00:00","00:00:00"]
[null,{"$f":"IFERROR(VLOOKUP(A8799,'Banco de Funcionários'!$A$2:$D$1048576,2,0),0)","v":0},null,null,null,null,null,"00:00:00",null,"00:00:00","00:00:00"]
[null,{"$f":"IFERROR(VLOOKUP(A8804,'Banco de Funcionários'!$A$2:$D$1048576,2,0),0)","v":0},null,null,null,null,null,"00:00:00",null,"00:00:00","00:00:00"]
[null,{"$f":"IFERROR(VLOOKUP(A8809,'Banco de Funcionários'!$A$2:$D$1048576,2,0),0)","v":0},null,null,null,null,null,"00:00:00",null,"00:00:00","00:00:00"]
[null,{"$f":"IFERROR(VLOOKUP(A8815,'Banco de Funcionários'!$A$2:$D$1048576,2,0),0)","v":0},null,null,null,null,null,"00:00:00",null,"00:00:00","00:00:00"]
[null,{"$f":"IFERROR(VLOOKUP(A8820,'Banco de Funcionários'!$A$2:$D$1048576,2,0),0)","v":0},null,null,null,null,null,"00:00:00",null,"00:00:00","00:00:00"]
[null,{"$f":"IFERROR(VLOOKUP(A8825,'Banco de Funcionários'!$A$2:$D$1048576,2,0),0)","v":0},null,null,null,null,null,"00:00:00",null,"00:00:00","00:00:00"]
[null,{"$f":"IFERROR(VLOOKUP(A8831,'Banco de Funcionários'!$A$2:$D$1048576,2,0),0)","v":0},null,null,null,null,null,"00:00:00",null,"00:00:00","00:00:00"]
[null,{"$f":"IFERROR(VLOOKUP(A8836,'Banco de Funcionários'!$A$2:$D$1048576,2,0),0)","v":0},null,null,null,null,null,"00:00:00",null,"00:00:00","00:00:00"]
[null,{"$f":"IFERROR(VLOOKUP(A8842,'Banco de Funcionários'!$A$2:$D$1048576,2,0),0)","v":0},null,null,null,null,null,"00:00:00",null,"00:00:00","00:00:00"]
[null,{"$f":"IFERROR(VLOOKUP(A8847,'Banco de Funcionários'!$A$2:$D$1048576,2,0),0)","v":0},null,null,null,null,null,"00:00:00",null,"00:00:00","00:00:00"]
[null,{"$f":"IFERROR(VLOOKUP(A8852,'Banco de Funcionários'!$A$2:$D$1048576,2,0),0)","v":0},null,null,null,null,null,"00:00:00",null,"00:00:00","00:00:00"]
[null,{"$f":"IFERROR(VLOOKUP(A8858,'Banco de Funcionários'!$A$2:$D$1048576,2,0),0)","v":0},null,null,null,null,null,"00:00:00",null,"00:00:00","00:00:00"]
[null,{"$f":"IFERROR(VLOOKUP(A8863,'Banco de Funcionários'!$A$2:$D$1048576,2,0),0)","v":0},null,null,null,null,null,"00:00:00",null,"00:00:00","00:00:00"]
[null,{"$f":"IFERROR(VLOOKUP(A8864,'Banco de Funcionários'!$A$2:$D$1048576,2,0),0)","v":0},null,null,null,null,null,"00:00:00",null,"00:00:00","00:00:00"]
[null,{"$f":"IFERROR(VLOOKUP(A8869,'Banco de Funcionários'!$A$2:$D$1048576,2,0),0)","v":0},null,null,null,null,null,"00:00:00",null,"00:00:00","00:00:00"]
[null,{"$f":"IFERROR(VLOOKUP(A8874,'Banco de Funcionários'!$A$2:$D$1048576,2,0),0)","v":0},null,null,null,null,null,"00:00:00",null,"00:00:00","00:00:00"]
[null,{"$f":"IFERROR(VLOOKUP(A8880,'Banco de Funcionários'!$A$2:$D$1048576,2,0),0)","v":0},null,null,null,null,null,"00:00:00",null,"00:00:00","00:00:00"]
[null,{"$f":"IFERROR(VLOOKUP(A8885,'Banco de Funcionários'!$A$2:$D$1048576,2,0),0)","v":0},null,null,null,null,null,"00:00:00",null,"00:00:00","00:00:00"]
[null,{"$f":"IFERROR(VLOOKUP(A8890,'Banco de Funcionários'!$A$2:$D$1048576,2,0),0)","v":0},null,null,null,null,null,"00:00:00",null,"00:00:00","00:00:00"]
[null,{"$f":"IFERROR(VLOOKUP(A8896,'Banco de Funcionários'!$A$2:$D$1048576,2,0),0)","v":0},null,null,null,null,null,"00:00:00",null,"00:00:00","00:00:00"]
[null,{"$f":"IFERROR(VLOOKUP(A8901,'Banco de Funcionários'!$A$2:$D$1048576,2,0),0)","v":0},null,null,null,null,null,"00:00:00",null,"00:00:00","00:00:00"]
[null,{"$f":"IFERROR(VLOOKUP(A8906,'Banco de Funcionários'!$A$2:$D$1048576,2,0),0)","v":0},null,null,null,null,null,"00:00:00",null,"00:00:00","00:00:00"]
[null,{"$f":"IFERROR(VLOOKUP(A8911,'Banco de Funcionários'!$A$2:$D$1048576,2,0),0)","v":0},null,null,null,null,null,"00:00:00",null,"00:00:00","00:00:00"]
[null,{"$f":"IFERROR(VLOOKUP(A8916,'Banco de Funcionários'!$A$2:$D$1048576,2,0),0)","v":0},null,null,null,null,null,"00:00:00",null,"00:00:00","00:00:00"]
[null,{"$f":"IFERROR(VLOOKUP(A8922,'Banco de Funcionários'!$A$2:$D$1048576,2,0),0)","v":0},null,null,null,null,null,"00:00:00",null,"00:00:00","00:00:00"]
[null,{"$f":"IFERROR(VLOOKUP(A8927,'Banco de Funcionários'!$A$2:$D$1048576,2,0),0)","v":0},null,null,null,null,null,"00:00:00",null,"00:00:00","00:00:00"]
[null,{"$f":"IFERROR(VLOOKUP(A8932,'Banco de Funcionários'!$A$2:$D$1048576,2,0),0)","v":0},null,null,null,null,null,"00:00:00",null,"00:00:00","00:00:00"]
[null,{"$f":"IFERROR(VLOOKUP(A8933,'Banco de Funcionários'!$A$2:$D$1048576,2,0),0)","v":0},null,null,null,null,null,"00:00:00",null,"00:00:00","00:00:00"]
[null,{"$f":"IFERROR(VLOOKUP(A8938,'Banco de Funcionários'!$A$2:$D$1048576,2,0),0)","v":0},null,null,null,null,null,"00:00:00",null,"00:00:00","00:00:00"]
[null,{"$f":"IFERROR(VLOOKUP(A8944,'Banco de Funcionários'!$A$2:$D$1048576,2,0),0)","v":0},null,null,null,null,null,"00:00:00",null,"00:00:00","00:00:00"]
[null,{"$f":"IFERROR(VLOOKUP(A8949,'Banco de Funcionários'!$A$2:$D$1048576,2,0),0)","v":0},null,null,null,null,null,"00:00:00",null,"00:00:00","00:00:00"]
[null,{"$f":"IFERROR(VLOOKUP(A8954,'Banco de Funcionários'!$A$2:$D$1048576,2,0),0)","v":0},null,null,null,null,null,"00:00:00",null,"00:00:00","00:00:00"]
[null,{"$f":"IFERROR(VLOOKUP(A8960,'Banco de Funcionários'!$A$2:$D$1048576,2,0),0)","v":0},null,null,null,null,null,"00:00:00",null,"00:00:00","00:00:00"]
[null,{"$f":"IFERROR(VLOOKUP(A8965,'Banco de Funcionários'!$A$2:$D$1048576,2,0),0)","v":0},null,null,null,null,null,"00:00:00",null,"00:00:00","00:00:00"]
[null,{"$f":"IFERROR(VLOOKUP(A8971,'Banco de Funcionários'!$A$2:$D$1048576,2,0),0)","v":0},null,null,null,null,null,"00:00:00",null,"00:00:00","00:00:00"]
[null,{"$f":"IFERROR(VLOOKUP(A8976,'Banco de Funcionários'!$A$2:$D$1048576,2,0),0)","v":0},null,null,null,null,null,"00:00:00",null,"00:00:00","00:00:00"]
[null,{"$f":"IFERROR(VLOOKUP(A8981,'Banco de Funcionários'!$A$2:$D$1048576,2,0),0)","v":0},null,null,null,null,null,"00:00:00",null,"00:00:00","00:00:00"]
[null,{"$f":"IFERROR(VLOOKUP(A8987,'Banco de Funcionários'!$A$2:$D$1048576,2,0),0)","v":0},null,null,null,null,null,"00:00:00",null,"00:00:00","00:00:00"]
[null,{"$f":"IFERROR(VLOOKUP(A8992,'Banco de Funcionários'!$A$2:$D$1048576,2,0),0)","v":0},null,null,null,null,null,"00:00:00",null,"00:00:00","00:00:00"]
[null,{"$f":"IFERROR(VLOOKUP(A8997,'Banco de Funcionários'!$A$2:$D$1048576,2,0),0)","v":0},null,null,null,null,null,"00:00:00",null,"00:00:00","00:00:00"]
[null,{"$f":"IFERROR(VLOOKUP(A8998,'Banco de Funcionários'!$A$2:$D$1048576,2,0),0)","v":0},null,null,null,null,null,"00:00:00",null,"00:00:00","00:00:00"]
[null,{"$f":"IFERROR(VLOOKUP(A9003,'Banco de Funcionários'!$A$2:$D$1048576,2,0),0)","v":0},null,null,null,null,null,"00:00:00",null,"00:00:00","00:00:00"]
[null,{"$f":"IFERROR(VLOOKUP(A9009,'Banco de Funcionários'!$A$2:$D$1048576,2,0),0)","v":0},null,null,null,null,null,"00:00:00",null,"00:00:00","00:00:00"]
[null,{"$f":"IFERROR(VLOOKUP(A9013,'Banco de Funcionários'!$A$2:$D$1048576,2,0),0)","v":0},null,null,null,null,null,"00:00:00",null,"00:00:00","00:00:00"]
[null,{"$f":"IFERROR(VLOOKUP(A9018,'Banco de Funcionários'!$A$2:$D$1048576,2,0),0)","v":0},null,null,null,null,null,"00:00:00",null,"00:00:00","00:00:00"]
[null,{"$f":"IFERROR(VLOOKUP(A9024,'Banco de Funcionários'!$A$2:$D$1048576,2,0),0)","v":0},null,null,null,null,null,"00:00:00",null,"00:00:00","00:00:00"]
[null,{"$f":"IFERROR(VLOOKUP(A9029,'Banco de Funcionários'!$A$2:$D$1048576,2,0),0)","v":0},null,null,null,null,null,"00:00:00",null,"00:00:00","00:00:00"]
[null,{"$f":"IFERROR(VLOOKUP(A9035,'Banco de Funcionários'!$A$2:$D$1048576,2,0),0)","v":0},null,null,null,null,null,"00:00:00",null,"00:00:00","00:00:00"]
[null,{"$f":"IFERROR(VLOOKUP(A9040,'Banco de Funcionários'!$A$2:$D$1048576,2,0),0)","v":0},null,null,null,null,null,"00:00:00",null,"00:00:00","00:00:00"]
[null,{"$f":"IFERROR(VLOOKUP(A9045,'Banco de Funcionários'!$A$2:$D$1048576,2,0),0)","v":0},null,null,null,null,null,"00:00:00",null,"00:00:00","00:00:00"]
[null,{"$f":"IFERROR(VLOOKUP(A9051,'Banco de Funcionários'!$A$2:$D$1048576,2,0),0)","v":0},null,null,null,null,null,"00:00:00",null,"00:00:00","00:00:00"]
[null,{"$f":"IFERROR(VLOOKUP(A9056,'Banco de Funcionários'!$A$2:$D$1048576,2,0),0)","v":0},null,null,null,null,null,"00:00:00",null,"00:00:00","00:00:00"]
[null,{"$f":"IFERROR(VLOOKUP(A9061,'Banco de Funcionários'!$A$2:$D$1048576,2,0),0)","v":0},null,null,null,null,null,"00:00:00",null,"00:00:00","00:00:00"]
[null,{"$f":"IFERROR(VLOOKUP(A9062,'Banco de Funcionários'!$A$2:$D$1048576,2,0),0)","v":0},null,null,null,null,null,"00:00:00",null,"00:00:00","00:00:00"]
[null,{"$f":"IFERROR(VLOOKUP(A9067,'Banco de Funcionários'!$A$2:$D$1048576,2,0),0)","v":0},null,null,null,null,null,"00:00:00",null,"00:00:00","00:00:00"]
[null,{"$f":"IFERROR(VLOOKUP(A9073,'Banco de Funcionários'!$A$2:$D$1048576,2,0),0)","v":0},null,null,null,null,null,"00:00:00",null,"00:00:00","00:00:00"]
[null,{"$f":"IFERROR(VLOOKUP(A9078,'Banco de Funcionários'!$A$2:$D$1048576,2,0),0)","v":0},null,null,null,null,null,"00:00:00",null,"00:00:00","00:00:00"]
[null,{"$f":"IFERROR(VLOOKUP(A9083,'Banco de Funcionários'!$A$2:$D$1048576,2,0),0)","v":0},null,null,null,null,null,"00:00:00",null,"00:00:00","00:00:00"]
[null,{"$f":"IFERROR(VLOOKUP(A9089,'Banco de Funcionários'!$A$2:$D$1048576,2,0),0)","v":0},null,null,null,null,null,"00:00:00",null,"00:00:00","00:00:00"]
[null,{"$f":"IFERROR(VLOOKUP(A9094,'Banco de Funcionários'!$A$2:$D$1048576,2,0),0)","v":0},null,null,null,null,null,"00:00:00",null,"00:00:00","00:00:00"]
[null,{"$f":"IFERROR(VLOOKUP(A9099,'Banco de Funcionários'!$A$2:$D$1048576,2,0),0)","v":0},null,null,null,null,null,"00:00:00",null,"00:00:00","00:00:00"]
[null,{"$f":"IFERROR(VLOOKUP(A9105,'Banco de Funcionários'!$A$2:$D$1048576,2,0),0)","v":0},null,null,null,null,null,"00:00:00",null,"00:00:00","00:00:00"]
[null,{"$f":"IFERROR(VLOOKUP(A9110,'Banco de Funcionários'!$A$2:$D$1048576,2,0),0)","v":0},null,null,null,null,null,"00:00:00",null,"00:00:00","00:00:00"]
[null,{"$f":"IFERROR(VLOOKUP(A9116,'Banco de Funcionários'!$A$2:$D$1048576,2,0),0)","v":0},null,null,null,null,null,"00:00:00",null,"00:00:00","00:00:00"]
[null,{"$f":"IFERROR(VLOOKUP(A9121,'Banco de Funcionários'!$A$2:$D$1048576,2,0),0)","v":0},null,null,null,null,null,"00:00:00",null,"00:00:00","00:00:00"]
[null,{"$f":"IFERROR(VLOOKUP(A9126,'Banco de Funcionários'!$A$2:$D$1048576,2,0),0)","v":0},null,null,null,null,null,"00:00:00",null,"00:00:00","00:00:00"]
[null,{"$f":"IFERROR(VLOOKUP(A9130,'Banco de Funcionários'!$A$2:$D$1048576,2,0),0)","v":0},null,null,null,null,null,"00:00:00",null,"00:00:00","00:00:00"]
[null,{"$f":"IFERROR(VLOOKUP(A9131,'Banco de Funcionários'!$A$2:$D$1048576,2,0),0)","v":0},null,null,null,null,null,"00:00:00",null,"00:00:00","00:00:00"]
[null,{"$f":"IFERROR(VLOOKUP(A9137,'Banco de Funcionários'!$A$2:$D$1048576,2,0),0)","v":0},null,null,null,null,null,"00:00:00",null,"00:00:00","00:00:00"]
[null,{"$f":"IFERROR(VLOOKUP(A9142,'Banco de Funcionários'!$A$2:$D$1048576,2,0),0)","v":0},null,null,null,null,null,"00:00:00",null,"00:00:00","00:00:00"]
[null,{"$f":"IFERROR(VLOOKUP(A9147,'Banco de Funcionários'!$A$2:$D$1048576,2,0),0)","v":0},null,null,null,null,null,"00:00:00",null,"00:00:00","00:00:00"]
[null,{"$f":"IFERROR(VLOOKUP(A9153,'Banco de Funcionários'!$A$2:$D$1048576,2,0),0)","v":0},null,null,null,null,null,"00:00:00",null,"00:00:00","00:00:00"]
[null,{"$f":"IFERROR(VLOOKUP(A9158,'Banco de Funcionários'!$A$2:$D$1048576,2,0),0)","v":0},null,null,null,null,null,"00:00:00",null,"00:00:00","00:00:00"]
[null,{"$f":"IFERROR(VLOOKUP(A9163,'Banco de Funcionários'!$A$2:$D$1048576,2,0),0)","v":0},null,null,null,null,null,"00:00:00",null,"00:00:00","00:00:00"]
[null,{"$f":"IFERROR(VLOOKUP(A9169,'Banco de Funcionários'!$A$2:$D$1048576,2,0),0)","v":0},null,null,null,null,null,"00:00:00",null,"00:00:00","00:00:00"]
[null,{"$f":"IFERROR(VLOOKUP(A9174,'Banco de Funcionários'!$A$2:$D$1048576,2,0),0)","v":0},null,null,null,null,null,"00:00:00",null,"00:00:00","00:00:00"]
[null,{"$f":"IFERROR(VLOOKUP(A9180,'Banco de Funcionários'!$A$2:$D$1048576,2,0),0)","v":0},null,null,null,null,null,"00:00:00",null,"00:00:00","00:00:00"]
[null,{"$f":"IFERROR(VLOOKUP(A9185,'Banco de Funcionários'!$A$2:$D$1048576,2,0),0)","v":0},null,null,null,null,null,"00:00:00",null,"00:00:00","00:00:00"]
[null,{"$f":"IFERROR(VLOOKUP(A9190,'Banco de Funcionários'!$A$2:$D$1048576,2,0),0)","v":0},null,null,null,null,null,"00:00:00",null,"00:00:00","00:00:00"]
[null,{"$f":"IFERROR(VLOOKUP(A9191,'Banco de Funcionários'!$A$2:$D$1048576,2,0),0)","v":0},null,null,null,null,null,"00:00:00",null,"00:00:00","00:00:00"]
[null,{"$f":"IFERROR(VLOOKUP(A9196,'Banco de Funcionários'!$A$2:$D$1048576,2,0),0)","v":0},null,null,null,null,null,"00:00:00",null,"00:00:00","00:00:00"]
[null,{"$f":"IFERROR(VLOOKUP(A9201,'Banco de Funcionários'!$A$2:$D$1048576,2,0),0)","v":0},null,null,null,null,null,"00:00:00",null,"00:00:00","00:00:00"]
[null,{"$f":"IFERROR(VLOOKUP(A9207,'Banco de Funcionários'!$A$2:$D$1048576,2,0),0)","v":0},null,null,null,null,null,"00:00:00",null,"00:00:00","00:00:00"]
[null,{"$f":"IFERROR(VLOOKUP(A9212,'Banco de Funcionários'!$A$2:$D$1048576,2,0),0)","v":0},null,null,null,null,null,"00:00:00",null,"00:00:00","00:00:00"]
[null,{"$f":"IFERROR(VLOOKUP(A9218,'Banco de Funcionários'!$A$2:$D$1048576,2,0),0)","v":0},null,null,null,null,null,"00:00:00",null,"00:00:00","00:00:00"]
[null,{"$f":"IFERROR(VLOOKUP(A9223,'Banco de Funcionários'!$A$2:$D$1048576,2,0),0)","v":0},null,null,null,null,null,"00:00:00",null,"00:00:00","00:00:00"]
[null,{"$f":"IFERROR(VLOOKUP(A9228,'Banco de Funcionários'!$A$2:$D$1048576,2,0),0)","v":0},null,null,null,null,null,"00:00:00",null,"00:00:00","00:00:00"]
[null,{"$f":"IFERROR(VLOOKUP(A9234,'Banco de Funcionários'!$A$2:$D$1048576,2,0),0)","v":0},null,null,null,null,null,"00:00:00",null,"00:00:00","00:00:00"]
[null,{"$f":"IFERROR(VLOOKUP(A9237,'Banco de Funcionários'!$A$2:$D$1048576,2,0),0)","v":0},null,null,null,null,null,"00:00:00",null,"00:00:00","00:00:00"]
[null,{"$f":"IFERROR(VLOOKUP(A9244,'Banco de Funcionários'!$A$2:$D$1048576,2,0),0)","v":0},null,null,null,null,null,"00:00:00",null,"00:00:00","00:00:00"]
[null,{"$f":"IFERROR(VLOOKUP(A9249,'Banco de Funcionários'!$A$2:$D$1048576,2,0),0)","v":0},null,null,null,null,null,"00:00:00",null,"00:00:00","00:00:00"]
[null,{"$f":"IFERROR(VLOOKUP(A9254,'Banco de Funcionários'!$A$2:$D$1048576,2,0),0)","v":0},null,null,null,null,null,"00:00:00",null,"00:00:00","00:00:00"]
[null,{"$f":"IFERROR(VLOOKUP(A9255,'Banco de Funcionários'!$A$2:$D$1048576,2,0),0)","v":0},null,null,null,null,null,"00:00:00",null,"00:00:00","00:00:00"]
[null,{"$f":"IFERROR(VLOOKUP(A9260,'Banco de Funcionários'!$A$2:$D$1048576,2,0),0)","v":0},null,null,null,null,null,"00:00:00",null,"00:00:00","00:00:00"]
[null,{"$f":"IFERROR(VLOOKUP(A9265,'Banco de Funcionários'!$A$2:$D$1048576,2,0),0)","v":0},null,null,null,null,null,"00:00:00",null,"00:00:00","00:00:00"]
[null,{"$f":"IFERROR(VLOOKUP(A9271,'Banco de Funcionários'!$A$2:$D$1048576,2,0),0)","v":0},null,null,null,null,null,"00:00:00",null,"00:00:00","00:00:00"]
[null,{"$f":"IFERROR(VLOOKUP(A9276,'Banco de Funcionários'!$A$2:$D$1048576,2,0),0)","v":0},null,null,null,null,null,"00:00:00",null,"00:00:00","00:00:00"]
[null,{"$f":"IFERROR(VLOOKUP(A9282,'Banco de Funcionários'!$A$2:$D$1048576,2,0),0)","v":0},null,null,null,null,null,"00:00:00",null,"00:00:00","00:00:00"]
[null,{"$f":"IFERROR(VLOOKUP(A9287,'Banco de Funcionários'!$A$2:$D$1048576,2,0),0)","v":0},null,null,null,null,null,"00:00:00",null,"00:00:00","00:00:00"]
[null,{"$f":"IFERROR(VLOOKUP(A9292,'Banco de Funcionários'!$A$2:$D$1048576,2,0),0)","v":0},null,null,null,null,null,"00:00:00",null,"00:00:00","00:00:00"]
[null,{"$f":"IFERROR(VLOOKUP(A9298,'Banco de Funcionários'!$A$2:$D$1048576,2,0),0)","v":0},null,null,null,null,null,"00:00:00",null,"00:00:00","00:00:00"]
[null,{"$f":"IFERROR(VLOOKUP(A9303,'Banco de Funcionários'!$A$2:$D$1048576,2,0),0)","v":0},null,null,null,null,null,"00:00:00",null,"00:00:00","00:00:00"]
[null,{"$f":"IFERROR(VLOOKUP(A9309,'Banco de Funcionários'!$A$2:$D$1048576,2,0),0)","v":0},null,null,null,null,null,"00:00:00",null,"00:00:00","00:00:00"]
[null,{"$f":"IFERROR(VLOOKUP(A9314,'Banco de Funcionários'!$A$2:$D$1048576,2,0),0)","v":0},null,null,null,null,null,"00:00:00",null,"00:00:00","00:00:00"]
[null,{"$f":"IFERROR(VLOOKUP(A9319,'Banco de Funcionários'!$A$2:$D$1048576,2,0),0)","v":0},null,null,null,null,null,"00:00:00",null,"00:00:00","00:00:00"]
[null,{"$f":"IFERROR(VLOOKUP(A9320,'Banco de Funcionários'!$A$2:$D$1048576,2,0),0)","v":0},null,null,null,null,null,"00:00:00",null,"00:00:00","00:00:00"]
[null,{"$f":"IFERROR(VLOOKUP(A9325,'Banco de Funcionários'!$A$2:$D$1048576,2,0),0)","v":0},null,null,null,null,null,"00:00:00",null,"00:00:00","00:00:00"]
[null,{"$f":"IFERROR(VLOOKUP(A9330,'Banco de Funcionários'!$A$2:$D$1048576,2,0),0)","v":0},null,null,null,null,null,"00:00:00",null,"00:00:00","00:00:00"]
[null,{"$f":"IFERROR(VLOOKUP(A9336,'Banco de Funcionários'!$A$2:$D$1048576,2,0),0)","v":0},null,null,null,null,null,"00:00:00",null,"00:00:00","00:00:00"]
[null,{"$f":"IFERROR(VLOOKUP(A9341,'Banco de Funcionários'!$A$2:$D$1048576,2,0),0)","v":0},null,null,null,null,null,"00:00:00",null,"00:00:00","00:00:00"]
[null,{"$f":"IFERROR(VLOOKUP(A9347,'Banco de Funcionários'!$A$2:$D$1048576,2,0),0)","v":0},null,null,null,null,null,{"$f":"(F9347-E9347)-G9347","v":"00:00:00"},null,{"$f":"IFERROR(H9347-I9347,\"\")","v":"00:00:00"},{"$f":"IFERROR(H9347+J9347,0)","v":"00:00:00"}]
[null,{"$f":"IFERROR(VLOOKUP(A9350,'Banco de Funcionários'!$A$2:$D$1048576,2,0),0)","v":0},null,null,null,null,null,"00:00:00",null,"00:00:00","00:00:00"]
[null,{"$f":"IFERROR(VLOOKUP(A9356,'Banco de Funcionários'!$A$2:$D$1048576,2,0),0)","v":0},null,null,null,null,null,"00:00:00",null,"00:00:00","00:00:00"]
[null,{"$f":"IFERROR(VLOOKUP(A9362,'Banco de Funcionários'!$A$2:$D$1048576,2,0),0)","v":0},null,null,null,null,null,"00:00:00",null,"00:00:00","00:00:00"]
[null,{"$f":"IFERROR(VLOOKUP(A9367,'Banco de Funcionários'!$A$2:$D$1048576,2,0),0)","v":0},null,null,null,null,null,"00:00:00",null,"00:00:00","00:00:00"]
[null,{"$f":"IFERROR(VLOOKUP(A9372,'Banco de Funcionários'!$A$2:$D$1048576,2,0),0)","v":0},null,null,null,null,null,"00:00:00",null,"00:00:00","00:00:00"]
[null,{"$f":"IFERROR(VLOOKUP(A9378,'Banco de Funcionários'!$A$2:$D$1048576,2,0),0)","v":0},null,null,null,null,null,"00:00:00",null,"00:00:00","00:00:00"]
[null,{"$f":"IFERROR(VLOOKUP(A9383,'Banco de Funcionários'!$A$2:$D$1048576,2,0),0)","v":0},null,null,null,null,null,"00:00:00",null,"00:00:00","00:00:00"]
[null,{"$f":"IFERROR(VLOOKUP(A9384,'Banco de Funcionários'!$A$2:$D$1048576,2,0),0)","v":0},null,null,null,null,null,"00:00:00",null,"00:00:00","00:00:00"]
[null,{"$f":"IFERROR(VLOOKUP(A9389,'Banco de Funcionários'!$A$2:$D$1048576,2,0),0)","v":0},null,null,null,null,null,"00:00:00",null,"00:00:00","00:00:00"]
[null,{"$f":"IFERROR(VLOOKUP(A9394,'Banco de Funcionários'!$A$2:$D$1048576,2,0),0)","v":0},null,null,null,null,null,"00:00:00",null,"00:00:00","00:00:00"]
[null,{"$f":"IFERROR(VLOOKUP(A9400,'Banco de Funcionários'!$A$2:$D$1048576,2,0),0)","v":0},null,null,null,null,null,"00:00:00",null,"00:00:00","00:00:00"]
[null,{"$f":"IFERROR(VLOOKUP(A9405,'Banco de Funcionários'!$A$2:$D$1048576,2,0),0)","v":0},null,null,null,null,null,"00:00:00",null,"00:00:00","00:00:00"]
[null,{"$f":"IFERROR(VLOOKUP(A9411,'Banco de Funcionários'!$A$2:$D$1048576,2,0),0)","v":0},null,null,null,null,null,{"$f":"(F9411-E9411)-G9411","v":"00:00:00"},null,{"$f":"IFERROR(H9411-I9411,\"\")","v":"00:00:00"},{"$f":"IFERROR(H9411+J9411,0)","v":"00:00:00"}]
[null,{"$f":"IFERROR(VLOOKUP(A9416,'Banco de Funcionários'!$A$2:$D$1048576,2,0),0)","v":0},null,null,null,null,null,"00:00:00",null,"00:00:00","00:00:00"]
[null,{"$f":"IFERROR(VLOOKUP(A9421,'Banco de Funcionários'!$A$2:$D$1048576,2,0),0)","v":0},null,null,null,null,null,"00:00:00",null,"00:00:00","00:00:00"]
[null,{"$f":"IFERROR(VLOOKUP(A9427,'Banco de Funcionários'!$A$2:$D$1048576,2,0),0)","v":0},null,null,null,null,null,"00:00:00",null,"00:00:00","00:00:00"]
[null,{"$f":"IFERROR(VLOOKUP(A9432,'Banco de Funcionários'!$A$2:$D$1048576,2,0),0)","v":0},null,null,null,null,null,"00:00:00",null,"00:00:00","00:00:00"]
[null,{"$f":"IFERROR(VLOOKUP(A9437,'Banco de Funcionários'!$A$2:$D$1048576,2,0),0)","v":0},null,null,null,null,null,"00:00:00",null,"00:00:00","00:00:00"]
[null,{"$f":"IFERROR(VLOOKUP(A9443,'Banco de Funcionários'!$A$2:$D$1048576,2,0),0)","v":0},null,null,null,null,null,"00:00:00",null,"00:00:00","00:00:00"]
[null,{"$f":"IFERROR(VLOOKUP(A9448,'Banco de Funcionários'!$A$2:$D$1048576,2,0),0)","v":0},null,null,null,null,null,"00:00:00",null,"00:00:00","00:00:00"]
[null,{"$f":"IFERROR(VLOOKUP(A9449,'Banco de Funcionários'!$A$2:$D$1048576,2,0),0)","v":0},null,null,null,null,null,"00:00:00",null,"00:00:00","00:00:00"]
[null,{"$f":"IFERROR(VLOOKUP(A9454,'Banco de Funcionários'!$A$2:$D$1048576,2,0),0)","v":0},null,null,null,null,null,"00:00:00",null,"00:00:00","00:00:00"]
[null,{"$f":"IFERROR(VLOOKUP(A9461,'Banco de Funcionários'!$A$2:$D$1048576,2,0),0)","v":0},null,null,null,null,null,"00:00:00",null,"00:00:00","00:00:00"]
[null,{"$f":"IFERROR(VLOOKUP(A9464,'Banco de Funcionários'!$A$2:$D$1048576,2,0),0)","v":0},null,null,null,null,null,"00:00:00",null,"00:00:00","00:00:00"]
[null,{"$f":"IFERROR(VLOOKUP(A9469,'Banco de Funcionários'!$A$2:$D$1048576,2,0),0)","v":0},null,null,null,null,null,"00:00:00",null,"00:00:00","00:00:00"]
[null,{"$f":"IFERROR(VLOOKUP(A9475,'Banco de Funcionários'!$A$2:$D$1048576,2,0),0)","v":0},null,null,null,null,null,{"$f":"(F9475-E9475)-G9475","v":"00:00:00"},null,{"$f":"IFERROR(H9475-I9475,\"\")","v":"00:00:00"},{"$f":"IFERROR(H9475+J9475,0)","v":"00:00:00"}]
[null,{"$f":"IFERROR(VLOOKUP(A9480,'Banco de Funcionários'!$A$2:$D$1048576,2,0),0)","v":0},null,null,null,null,null,"00:00:00",null,"00:00:00","00:00:00"]
[null,{"$f":"IFERROR(VLOOKUP(A9485,'Banco de Funcionários'!$A$2:$D$1048576,2,0),0)","v":0},null,null,null,null,null,"00:00:00",null,"00:00:00","00:00:00"]
[null,{"$f":"IFERROR(VLOOKUP(A9491,'Banco de Funcionários'!$A$2:$D$1048576,2,0),0)","v":0},null,null,null,null,null,"00:00:00",null,"00:00:00","00:00:00"]
[null,{"$f":"IFERROR(VLOOKUP(A9496,'Banco de Funcionários'!$A$2:$D$1048576,2,0),0)","v":0},null,null,null,null,null,"00:00:00",null,"00:00:00","00:00:00"]
[null,{"$f":"IFERROR(VLOOKUP(A9501,'Banco de Funcionários'!$A$2:$D$1048576,2,0),0)","v":0},null,null,null,null,null,"00:00:00",null,"00:00:00","00:00:00"]
[null,{"$f":"IFERROR(VLOOKUP(A9507,'Banco de Funcionários'!$A$2:$D$1048576,2,0),0)","v":0},null,null,null,null,null,"00:00:00",null,"00:00:00","00:00:00"]
[null,{"$f":"IFERROR(VLOOKUP(A9512,'Banco de Funcionários'!$A$2:$D$1048576,2,0),0)","v":0},null,null,null,null,null,"00:00:00",null,"00:00:00","00:00:00"]
[null,{"$f":"IFERROR(VLOOKUP(A9513,'Banco de Funcionários'!$A$2:$D$1048576,2,0),0)","v":0},null,null,null,null,null,"00:00:00",null,"00:00:00","00:00:00"]
[null,{"$f":"IFERROR(VLOOKUP(A9518,'Banco de Funcionários'!$A$2:$D$1048576,2,0),0)","v":0},null,null,null,null,null,"00:00:00",null,"00:00:00","00:00:00"]
[null,{"$f":"IFERROR(VLOOKUP(A9523,'Banco de Funcionários'!$A$2:$D$1048576,2,0),0)","v":0},null,null,null,null,null,"00:00:00",null,"00:00:00","00:00:00"]
[null,{"$f":"IFERROR(VLOOKUP(A9529,'Banco de Funcionários'!$A$2:$D$1048576,2,0),0)","v":0},null,null,null,null,null,"00:00:00",null,"00:00:00","00:00:00"]
[null,{"$f":"IFERROR(VLOOKUP(A9534,'Banco de Funcionários'!$A$2:$D$1048576,2,0),0)","v":0},null,null,null,null,null,"00:00:00",null,"00:00:00","00:00:00"]
[null,{"$f":"IFERROR(VLOOKUP(A9539,'Banco de Funcionários'!$A$2:$D$1048576,2,0),0)","v":0},null,null,null,null,null,{"$f":"(F9539-E9539)-G9539","v":"00:00:00"},null,{"$f":"IFERROR(H9539-I9539,\"\")","v":"00:00:00"},{"$f":"IFERROR(H9539+J9539,0)","v":"00:00:00"}]
[null,{"$f":"IFERROR(VLOOKUP(A9545,'Banco de Funcionários'!$A$2:$D$1048576,2,0),0)","v":0},null,null,null,null,null,"00:00:00",null,"00:00:00","00:00:00"]
[null,{"$f":"IFERROR(VLOOKUP(A9550,'Banco de Funcionários'!$A$2:$D$1048576,2,0),0)","v":0},null,null,null,null,null,"00:00:00",null,"00:00:00","00:00:00"]
[null,{"$f":"IFERROR(VLOOKUP(A9556,'Banco de Funcionários'!$A$2:$D$1048576,2,0),0)","v":0},null,null,null,null,null,"00:00:00",null,"00:00:00","00:00:00"]
[null,{"$f":"IFERROR(VLOOKUP(A9561,'Banco de Funcionários'!$A$2:$D$1048576,2,0),0)","v":0},null,null,null,null,null,"00:00:00",null,"00:00:00","00:00:00"]
[null,{"$f":"IFERROR(VLOOKUP(A9566,'Banco de Funcionários'!$A$2:$D$1048576,2,0),0)","v":0},null,null,null,null,null,"00:00:00",null,"00:00:00","00:00:00"]
[null,{"$f":"IFERROR(VLOOKUP(A9572,'Banco de Funcionários'!$A$2:$D$1048576,2,0),0)","v":0},null,null,null,null,null,"00:00:00",null,"00:00:00","00:00:00"]
[null,{"$f":"IFERROR(VLOOKUP(A9574,'Banco de Funcionários'!$A$2:$D$1048576,2,0),0)","v":0},null,null,null,null,null,"00:00:00",null,"00:00:00","00:00:00"]
[null,{"$f":"IFERROR(VLOOKUP(A9577,'Banco de Funcionários'!$A$2:$D$1048576,2,0),0)","v":0},null,null,null,null,null,"00:00:00",null,"00:00:00","00:00:00"]
[null,{"$f":"IFERROR(VLOOKUP(A9582,'Banco de Funcionários'!$A$2:$D$1048576,2,0),0)","v":0},null,null,null,null,null,"00:00:00",null,"00:00:00","00:00:00"]
[null,{"$f":"IFERROR(VLOOKUP(A9587,'Banco de Funcionários'!$A$2:$D$1048576,2,0),0)","v":0},null,null,null,null,null,"00:00:00",null,"00:00:00","00:00:00"]
[null,{"$f":"IFERROR(VLOOKUP(A9593,'Banco de Funcionários'!$A$2:$D$1048576,2,0),0)","v":0},null,null,null,null,null,"00:00:00",null,"00:00:00","00:00:00"]
[null,{"$f":"IFERROR(VLOOKUP(A9598,'Banco de Funcionários'!$A$2:$D$1048576,2,0),0)","v":0},null,null,null,null,null,"00:00:00",null,"00:00:00","00:00:00"]
[null,{"$f":"IFERROR(VLOOKUP(A9603,'Banco de Funcionários'!$A$2:$D$1048576,2,0),0)","v":0},null,null,null,null,null,{"$f":"(F9603-E9603)-G9603","v":"00:00:00"},null,{"$f":"IFERROR(H9603-I9603,\"\")","v":"00:00:00"},{"$f":"IFERROR(H9603+J9603,0)","v":"00:00:00"}]
[null,{"$f":"IFERROR(VLOOKUP(A9609,'Banco de Funcionários'!$A$2:$D$1048576,2,0),0)","v":0},null,null,null,null,null,"00:00:00",null,"00:00:00","00:00:00"]
[null,{"$f":"IFERROR(VLOOKUP(A9614,'Banco de Funcionários'!$A$2:$D$1048576,2,0),0)","v":0},null,null,null,null,null,"00:00:00",null,"00:00:00","00:00:00"]
[null,{"$f":"IFERROR(VLOOKUP(A9620,'Banco de Funcionários'!$A$2:$D$1048576,2,0),0)","v":0},null,null,null,null,null,"00:00:00",null,"00:00:00","00:00:00"]
[null,{"$f":"IFERROR(VLOOKUP(A9625,'Banco de Funcionários'!$A$2:$D$1048576,2,0),0)","v":0},null,null,null,null,null,"00:00:00",null,"00:00:00","00:00:00"]
[null,{"$f":"IFERROR(VLOOKUP(A9630,'Banco de Funcionários'!$A$2:$D$1048576,2,0),0)","v":0},null,null,null,null,null,"00:00:00",null,"00:00:00","00:00:00"]
[null,{"$f":"IFERROR(VLOOKUP(A9636,'Banco de Funcionários'!$A$2:$D$1048576,2,0),0)","v":0},null,null,null,null,null,"00:00:00",null,"00:00:00","00:00:00"]
[null,{"$f":"IFERROR(VLOOKUP(A9641,'Banco de Funcionários'!$A$2:$D$1048576,2,0),0)","v":0},null,null,null,null,null,"00:00:00",null,"00:00:00","00:00:00"]
[null,{"$f":"IFERROR(VLOOKUP(A9646,'Banco de Funcionários'!$A$2:$D$1048576,2,0),0)","v":0},null,null,null,null,null,"00:00:00",null,"00:00:00","00:00:00"]
[null,{"$f":"IFERROR(VLOOKUP(A9647,'Banco de Funcionários'!$A$2:$D$1048576,2,0),0)","v":0},null,null,null,null,null,"00:00:00",null,"00:00:00","00:00:00"]
[null,{"$f":"IFERROR(VLOOKUP(A9652,'Banco de Funcionários'!$A$2:$D$1048576,2,0),0)","v":0},null,null,null,null,null,"00:00:00",null,"00:00:00","00:00:00"]
[null,{"$f":"IFERROR(VLOOKUP(A9658,'Banco de Funcionários'!$A$2:$D$1048576,2,0),0)","v":0},null,null,null,null,null,"00:00:00",null,"00:00:00","00:00:00"]
[null,{"$f":"IFERROR(VLOOKUP(A9663,'Banco de Funcionários'!$A$2:$D$1048576,2,0),0)","v":0},null,null,null,null,null,"00:00:00",null,"00:00:00","00:00:00"]
[null,{"$f":"IFERROR(VLOOKUP(A9668,'Banco de Funcionários'!$A$2:$D$1048576,2,0),0)","v":0},null,null,null,null,null,"00:00:00",null,"00:00:00","00:00:00"]
[null,{"$f":"IFERROR(VLOOKUP(A9674,'Banco de Funcionários'!$A$2:$D$1048576,2,0),0)","v":0},null,null,null,null,null,"00:00:00",null,"00:00:00","00:00:00"]
[null,{"$f":"IFERROR(VLOOKUP(A9679,'Banco de Funcionários'!$A$2:$D$1048576,2,0),0)","v":0},null,null,null,null,null,"00:00:00",null,"00:00:00","00:00:00"]
[null,{"$f":"IFERROR(VLOOKUP(A9685,'Banco de Funcionários'!$A$2:$D$1048576,2,0),0)","v":0},null,null,null,null,null,"00:00:00",null,"00:00:00","00:00:00"]
[null,{"$f":"IFERROR(VLOOKUP(A9689,'Banco de Funcionários'!$A$2:$D$1048576,2,0),0)","v":0},null,null,null,null,null,"00:00:00",null,"00:00:00","00:00:00"]
[null,{"$f":"IFERROR(VLOOKUP(A9694,'Banco de Funcionários'!$A$2:$D$1048576,2,0),0)","v":0},null,null,null,null,null,"00:00:00",null,"00:00:00","00:00:00"]
[null,{"$f":"IFERROR(VLOOKUP(A9700,'Banco de Funcionários'!$A$2:$D$1048576,2,0),0)","v":0},null,null,null,null,null,"00:00:00",null,"00:00:00","00:00:00"]
[null,{"$f":"IFERROR(VLOOKUP(A9705,'Banco de Funcionários'!$A$2:$D$1048576,2,0),0)","v":0},null,null,null,null,null,"00:00:00",null,"00:00:00","00:00:00"]
[null,{"$f":"IFERROR(VLOOKUP(A9710,'Banco de Funcionários'!$A$2:$D$1048576,2,0),0)","v":0},null,null,null,null,null,"00:00:00",null,"00:00:00","00:00:00"]
[null,{"$f":"IFERROR(VLOOKUP(A9711,'Banco de Funcionários'!$A$2:$D$1048576,2,0),0)","v":0},null,null,null,null,null,"00:00:00",null,"00:00:00","00:00:00"]
[null,{"$f":"IFERROR(VLOOKUP(A9716,'Banco de Funcionários'!$A$2:$D$1048576,2,0),0)","v":0},null,null,null,null,null,"00:00:00",null,"00:00:00","00:00:00"]
[null,{"$f":"IFERROR(VLOOKUP(A9722,'Banco de Funcionários'!$A$2:$D$1048576,2,0),0)","v":0},null,null,null,null,null,"00:00:00",null,"00:00:00","00:00:00"]
[null,{"$f":"IFERROR(VLOOKUP(A9727,'Banco de Funcionários'!$A$2:$D$1048576,2,0),0)","v":0},null,null,null,null,null,"00:00:00",null,"00:00:00","00:00:00"]
[null,{"$f":"IFERROR(VLOOKUP(A9732,'Banco de Funcionários'!$A$2:$D$1048576,2,0),0)","v":0},null,null,null,null,null,"00:00:00",null,"00:00:00","00:00:00"]
[null,{"$f":"IFERROR(VLOOKUP(A9738,'Banco de Funcionários'!$A$2:$D$1048576,2,0),0)","v":0},null,null,null,null,null,"00:00:00",null,"00:00:00","00:00:00"]
[null,{"$f":"IFERROR(VLOOKUP(A9743,'Banco de Funcionários'!$A$2:$D$1048576,2,0),0)","v":0},null,null,null,null,null,"00:00:00",null,"00:00:00","00:00:00"]
[null,{"$f":"IFERROR(VLOOKUP(A9749,'Banco de Funcionários'!$A$2:$D$1048576,2,0),0)","v":0},null,null,null,null,null,"00:00:00",null,"00:00:00","00:00:00"]
[null,{"$f":"IFERROR(VLOOKUP(A9754,'Banco de Funcionários'!$A$2:$D$1048576,2,0),0)","v":0},null,null,null,null,null,"00:00:00",null,"00:00:00","00:00:00"]
[null,{"$f":"IFERROR(VLOOKUP(A9759,'Banco de Funcionários'!$A$2:$D$1048576,2,0),0)","v":0},null,null,null,null,null,"00:00:00",null,"00:00:00","00:00:00"]
[null,{"$f":"IFERROR(VLOOKUP(A9765,'Banco de Funcionários'!$A$2:$D$1048576,2,0),0)","v":0},null,null,null,null,null,"00:00:00",null,"00:00:00","00:00:00"]
[null,{"$f":"IFERROR(VLOOKUP(A9770,'Banco de Funcionários'!$A$2:$D$1048576,2,0),0)","v":0},null,null,null,null,null,"00:00:00",null,"00:00:00","00:00:00"]
[null,{"$f":"IFERROR(VLOOKUP(A9775,'Banco de Funcionários'!$A$2:$D$1048576,2,0),0)","v":0},null,null,null,null,null,"00:00:00",null,"00:00:00","00:00:00"]
[null,{"$f":"IFERROR(VLOOKUP(A9776,'Banco de Funcionários'!$A$2:$D$1048576,2,0),0)","v":0},null,null,null,null,null,"00:00:00",null,"00:00:00","00:00:00"]
[null,{"$f":"IFERROR(VLOOKUP(A9781,'Banco de Funcionários'!$A$2:$D$1048576,2,0),0)","v":0},null,null,null,null,null,"00:00:00",null,"00:00:00","00:00:00"]
[null,{"$f":"IFERROR(VLOOKUP(A9787,'Banco de Funcionários'!$A$2:$D$1048576,2,0),0)","v":0},null,null,null,null,null,"00:00:00",null,"00:00:00","00:00:00"]
[null,{"$f":"IFERROR(VLOOKUP(A9792,'Banco de Funcionários'!$A$2:$D$1048576,2,0),0)","v":0},null,null,null,null,null,"00:00:00",null,"00:00:00","00:00:00"]
[null,{"$f":"IFERROR(VLOOKUP(A9798,'Banco de Funcionários'!$A$2:$D$1048576,2,0),0)","v":0},null,null,null,null,null,"00:00:00",null,"00:00:00","00:00:00"]
[null,{"$f":"IFERROR(VLOOKUP(A9802,'Banco de Funcionários'!$A$2:$D$1048576,2,0),0)","v":0},null,null,null,null,null,"00:00:00",null,"00:00:00","00:00:00"]
[null,{"$f":"IFERROR(VLOOKUP(A9807,'Banco de Funcionários'!$A$2:$D$1048576,2,0),0)","v":0},null,null,null,null,null,"00:00:00",null,"00:00:00","00:00:00"]
[null,{"$f":"IFERROR(VLOOKUP(A9812,'Banco de Funcionários'!$A$2:$D$1048576,2,0),0)","v":0},null,null,null,null,null,"00:00:00",null,"00:00:00","00:00:00"]
[null,{"$f":"IFERROR(VLOOKUP(A9818,'Banco de Funcionários'!$A$2:$D$1048576,2,0),0)","v":0},null,null,null,null,null,"00:00:00",null,"00:00:00","00:00:00"]
[null,{"$f":"IFERROR(VLOOKUP(A9823,'Banco de Funcionários'!$A$2:$D$1048576,2,0),0)","v":0},null,null,null,null,null,"00:00:00",null,"00:00:00","00:00:00"]
[null,{"$f":"IFERROR(VLOOKUP(A9829,'Banco de Funcionários'!$A$2:$D$1048576,2,0),0)","v":0},null,null,null,null,null,"00:00:00",null,"00:00:00","00:00:00"]
[null,{"$f":"IFERROR(VLOOKUP(A9834,'Banco de Funcionários'!$A$2:$D$1048576,2,0),0)","v":0},null,null,null,null,null,"00:00:00",null,"00:00:00","00:00:00"]
[null,{"$f":"IFERROR(VLOOKUP(A9839,'Banco de Funcionários'!$A$2:$D$1048576,2,0),0)","v":0},null,null,null,null,null,"00:00:00",null,"00:00:00","00:00:00"]
[null,{"$f":"IFERROR(VLOOKUP(A9840,'Banco de Funcionários'!$A$2:$D$1048576,2,0),0)","v":0},null,null,null,null,null,"00:00:00",null,"00:00:00","00:00:00"]
[null,{"$f":"IFERROR(VLOOKUP(A9845,'Banco de Funcionários'!$A$2:$D$1048576,2,0),0)","v":0},null,null,null,null,null,"00:00:00",null,"00:00:00","00:00:00"]
[null,{"$f":"IFERROR(VLOOKUP(A9851,'Banco de Funcionários'!$A$2:$D$1048576,2,0),0)","v":0},null,null,null,null,null,"00:00:00",null,"00:00:00","00:00:00"]
[null,{"$f":"IFERROR(VLOOKUP(A9856,'Banco de Funcionários'!$A$2:$D$1048576,2,0),0)","v":0},null,null,null,null,null,"00:00:00",null,"00:00:00","00:00:00"]
[null,{"$f":"IFERROR(VLOOKUP(A9861,'Banco de Funcionários'!$A$2:$D$1048576,2,0),0)","v":0},null,null,null,null,null,"00:00:00",null,"00:00:00","00:00:00"]
[null,{"$f":"IFERROR(VLOOKUP(A9867,'Banco de Funcionários'!$A$2:$D$1048576,2,0),0)","v":0},null,null,null,null,null,"00:00:00",null,"00:00:00","00:00:00"]
[null,{"$f":"IFERROR(VLOOKUP(A9872,'Banco de Funcionários'!$A$2:$D$1048576,2,0),0)","v":0},null,null,null,null,null,"00:00:00",null,"00:00:00","00:00:00"]
[null,{"$f":"IFERROR(VLOOKUP(A9877,'Banco de Funcionários'!$A$2:$D$1048576,2,0),0)","v":0},null,null,null,null,null,"00:00:00",null,"00:00:00","00:00:00"]
[null,{"$f":"IFERROR(VLOOKUP(A9883,'Banco de Funcionários'!$A$2:$D$1048576,2,0),0)","v":0},null,null,null,null,null,"00:00:00",null,"00:00:00","00:00:00"]
[null,{"$f":"IFERROR(VLOOKUP(A9888,'Banco de Funcionários'!$A$2:$D$1048576,2,0),0)","v":0},null,null,null,null,null,"00:00:00",null,"00:00:00","00:00:00"]
[null,{"$f":"IFERROR(VLOOKUP(A9894,'Banco de Funcionários'!$A$2:$D$1048576,2,0),0)","v":0},null,null,null,null,null,"00:00:00",null,"00:00:00","00:00:00"]
[null,{"$f":"IFERROR(VLOOKUP(A9899,'Banco de Funcionários'!$A$2:$D$1048576,2,0),0)","v":0},null,null,null,null,null,"00:00:00",null,"00:00:00","00:00:00"]
[null,{"$f":"IFERROR(VLOOKUP(A9904,'Banco de Funcionários'!$A$2:$D$1048576,2,0),0)","v":0},null,null,null,null,null,"00:00:00",null,"00:00:00","00:00:00"]
[null,{"$f":"IFERROR(VLOOKUP(A9905,'Banco de Funcionários'!$A$2:$D$1048576,2,0),0)","v":0},null,null,null,null,null,"00:00:00",null,"00:00:00","00:00:00"]
[null,{"$f":"IFERROR(VLOOKUP(A9909,'Banco de Funcionários'!$A$2:$D$1048576,2,0),0)","v":0},null,null,null,null,null,"00:00:00",null,"00:00:00","00:00:00"]
[null,{"$f":"IFERROR(VLOOKUP(A9914,'Banco de Funcionários'!$A$2:$D$1048576,2,0),0)","v":0},null,null,null,null,null,"00:00:00",null,"00:00:00","00:00:00"]
[null,{"$f":"IFERROR(VLOOKUP(A9920,'Banco de Funcionários'!$A$2:$D$1048576,2,0),0)","v":0},null,null,null,null,null,"00:00:00",null,"00:00:00","00:00:00"]
[null,{"$f":"IFERROR(VLOOKUP(A9925,'Banco de Funcionários'!$A$2:$D$1048576,2,0),0)","v":0},null,null,null,null,null,"00:00:00",null,"00:00:00","00:00:00"]
[null,{"$f":"IFERROR(VLOOKUP(A9931,'Banco de Funcionários'!$A$2:$D$1048576,2,0),0)","v":0},null,null,null,null,null,"00:00:00",null,"00:00:00","00:00:00"]
[null,{"$f":"IFERROR(VLOOKUP(A9936,'Banco de Funcionários'!$A$2:$D$1048576,2,0),0)","v":0},null,null,null,null,null,"00:00:00",null,"00:00:00","00:00:00"]
[null,{"$f":"IFERROR(VLOOKUP(A9941,'Banco de Funcionários'!$A$2:$D$1048576,2,0),0)","v":0},null,null,null,null,null,"00:00:00",null,"00:00:00","00:00:00"]
[null,{"$f":"IFERROR(VLOOKUP(A9947,'Banco de Funcionários'!$A$2:$D$1048576,2,0),0)","v":0},null,null,null,null,null,"00:00:00",null,"00:00:00","00:00:00"]
[null,{"$f":"IFERROR(VLOOKUP(A9952,'Banco de Funcionários'!$A$2:$D$1048576,2,0),0)","v":0},null,null,null,null,null,"00:00:00",null,"00:00:00","00:00:00"]
[null,{"$f":"IFERROR(VLOOKUP(A9958,'Banco de Funcionários'!$A$2:$D$1048576,2,0),0)","v":0},null,null,null,null,null,"00:00:00",null,"00:00:00","00:00:00"]
[null,{"$f":"IFERROR(VLOOKUP(A9963,'Banco de Funcionários'!$A$2:$D$1048576,2,0),0)","v":0},null,null,null,null,null,"00:00:00",null,"00:00:00","00:00:00"]
[null,{"$f":"IFERROR(VLOOKUP(A9968,'Banco de Funcionários'!$A$2:$D$1048576,2,0),0)","v":0},null,null,null,null,null,"00:00:00",null,"00:00:00","00:00:00"]
[null,{"$f":"IFERROR(VLOOKUP(A9969,'Banco de Funcionários'!$A$2:$D$1048576,2,0),0)","v":0},null,null,null,null,null,"00:00:00",null,"00:00:00","00:00:00"]
[null,{"$f":"IFERROR(VLOOKUP(A9974,'Banco de Funcionários'!$A$2:$D$1048576,2,0),0)","v":0},null,null,null,null,null,"00:00:00",null,"00:00:00","00:00:00"]
[null,{"$f":"IFERROR(VLOOKUP(A9979,'Banco de Funcionários'!$A$2:$D$1048576,2,0),0)","v":0},null,null,null,null,null,"00:00:00",null,"00:00:00","00:00:00"]
[null,{"$f":"IFERROR(VLOOKUP(A9985,'Banco de Funcionários'!$A$2:$D$1048576,2,0),0)","v":0},null,null,null,null,null,"00:00:00",null,"00:00:00","00:00:00"]
[null,{"$f":"IFERROR(VLOOKUP(A9990,'Banco de Funcionários'!$A$2:$D$1048576,2,0),0)","v":0},null,null,null,null,null,"00:00:00",null,"00:00:00","00:00:00"]
[null,{"$f":"IFERROR(VLOOKUP(A9996,'Banco de Funcionários'!$A$2:$D$1048576,2,0),0)","v":0},null,null,null,null,null,"00:00:00",null,"00:00:00","00:00:00"]
[null,{"$f":"IFERROR(VLOOKUP(A10001,'Banco de Funcionários'!$A$2:$D$1048576,2,0),0)","v":0},null,null,null,null,null,"00:00:00",null,"00:00:00","00:00:00"]
[null,{"$f":"IFERROR(VLOOKUP(A10006,'Banco de Funcionários'!$A$2:$D$1048576,2,0),0)","v":0},null,null,null,null,null,"00:00:00",null,"00:00:00","00:00:00"]
[null,{"$f":"IFERROR(VLOOKUP(A10012,'Banco de Funcionários'!$A$2:$D$1048576,2,0),0)","v":0},null,null,null,null,null,"00:00:00",null,"00:00:00","00:00:00"]
[null,{"$f":"IFERROR(VLOOKUP(A10016,'Banco de Funcionários'!$A$2:$D$1048576,2,0),0)","v":0},null,null,null,null,null,"00:00:00",null,"00:00:00","00:00:00"]
[null,{"$f":"IFERROR(VLOOKUP(A10022,'Banco de Funcionários'!$A$2:$D$1048576,2,0),0)","v":0},null,null,null,null,null,"00:00:00",null,"00:00:00","00:00:00"]
[null,{"$f":"IFERROR(VLOOKUP(A10027,'Banco de Funcionários'!$A$2:$D$1048576,2,0),0)","v":0},null,null,null,null,null,"00:00:00",null,"00:00:00","00:00:00"]
[null,{"$f":"IFERROR(VLOOKUP(A10032,'Banco de Funcionários'!$A$2:$D$1048576,2,0),0)","v":0},null,null,null,null,null,"00:00:00",null,"00:00:00","00:00:00"]
[null,{"$f":"IFERROR(VLOOKUP(A10033,'Banco de Funcionários'!$A$2:$D$1048576,2,0),0)","v":0},null,null,null,null,null,"00:00:00",null,"00:00:00","00:00:00"]
[null,{"$f":"IFERROR(VLOOKUP(A10038,'Banco de Funcionários'!$A$2:$D$1048576,2,0),0)","v":0},null,null,null,null,null,"00:00:00",null,"00:00:00","00:00:00"]
[null,{"$f":"IFERROR(VLOOKUP(A10043,'Banco de Funcionários'!$A$2:$D$1048576,2,0),0)","v":0},null,null,null,null,null,"00:00:00",null,"00:00:00","00:00:00"]
[null,{"$f":"IFERROR(VLOOKUP(A10049,'Banco de Funcionários'!$A$2:$D$1048576,2,0),0)","v":0},null,null,null,null,null,"00:00:00",null,"00:00:00","00:00:00"]
[null,{"$f":"IFERROR(VLOOKUP(A10054,'Banco de Funcionários'!$A$2:$D$1048576,2,0),0)","v":0},null,null,null,null,null,"00:00:00",null,"00:00:00","00:00:00"]
[null,{"$f":"IFERROR(VLOOKUP(A10060,'Banco de Funcionários'!$A$2:$D$1048576,2,0),0)","v":0},null,null,null,null,null,"00:00:00",null,"00:00:00","00:00:00"]
[null,{"$f":"IFERROR(VLOOKUP(A10065,'Banco de Funcionários'!$A$2:$D$1048576,2,0),0)","v":0},null,null,null,null,null,"00:00:00",null,"00:00:00","00:00:00"]
[null,{"$f":"IFERROR(VLOOKUP(A10070,'Banco de Funcionários'!$A$2:$D$1048576,2,0),0)","v":0},null,null,null,null,null,"00:00:00",null,"00:00:00","00:00:00"]
[null,{"$f":"IFERROR(VLOOKUP(A10076,'Banco de Funcionários'!$A$2:$D$1048576,2,0),0)","v":0},null,null,null,null,null,"00:00:00",null,"00:00:00","00:00:00"]
[null,{"$f":"IFERROR(VLOOKUP(A10081,'Banco de Funcionários'!$A$2:$D$1048576,2,0),0)","v":0},null,null,null,null,null,"00:00:00",null,"00:00:00","00:00:00"]
[null,{"$f":"IFERROR(VLOOKUP(A10086,'Banco de Funcionários'!$A$2:$D$1048576,2,0),0)","v":0},null,null,null,null,null,"00:00:00",null,"00:00:00","00:00:00"]
[null,{"$f":"IFERROR(VLOOKUP(A10092,'Banco de Funcionários'!$A$2:$D$1048576,2,0),0)","v":0},null,null,null,null,null,"00:00:00",null,"00:00:00","00:00:00"]
[null,{"$f":"IFERROR(VLOOKUP(A10097,'Banco de Funcionários'!$A$2:$D$1048576,2,0),0)","v":0},null,null,null,null,null,"00:00:00",null,"00:00:00","00:00:00"]
[null,{"$f":"IFERROR(VLOOKUP(A10098,'Banco de Funcionários'!$A$2:$D$1048576,2,0),0)","v":0},null,null,null,null,null,"00:00:00",null,"00:00:00","00:00:00"]
[null,{"$f":"IFERROR(VLOOKUP(A10103,'Banco de Funcionários'!$A$2:$D$1048576,2,0),0)","v":0},null,null,null,null,null,"00:00:00",null,"00:00:00","00:00:00"]
[null,{"$f":"IFERROR(VLOOKUP(A10108,'Banco de Funcionários'!$A$2:$D$1048576,2,0),0)","v":0},null,null,null,null,null,"00:00:00",null,"00:00:00","00:00:00"]
[null,{"$f":"IFERROR(VLOOKUP(A10114,'Banco de Funcionários'!$A$2:$D$1048576,2,0),0)","v":0},null,null,null,null,null,"00:00:00",null,"00:00:00","00:00:00"]
[null,{"$f":"IFERROR(VLOOKUP(A10119,'Banco de Funcionários'!$A$2:$D$1048576,2,0),0)","v":0},null,null,null,null,null,"00:00:00",null,"00:00:00","00:00:00"]
[null,{"$f":"IFERROR(VLOOKUP(A10125,'Banco de Funcionários'!$A$2:$D$1048576,2,0),0)","v":0},null,null,null,null,null,"00:00:00",null,"00:00:00","00:00:00"]
[null,{"$f":"IFERROR(VLOOKUP(A10129,'Banco de Funcionários'!$A$2:$D$1048576,2,0),0)","v":0},null,null,null,null,null,"00:00:00",null,"00:00:00","00:00:00"]
[null,{"$f":"IFERROR(VLOOKUP(A10134,'Banco de Funcionários'!$A$2:$D$1048576,2,0),0)","v":0},null,null,null,null,null,"00:00:00",null,"00:00:00","00:00:00"]
[null,{"$f":"IFERROR(VLOOKUP(A10140,'Banco de Funcionários'!$A$2:$D$1048576,2,0),0)","v":0},null,null,null,null,null,"00:00:00",null,"00:00:00","00:00:00"]
[null,{"$f":"IFERROR(VLOOKUP(A10145,'Banco de Funcionários'!$A$2:$D$1048576,2,0),0)","v":0},null,null,null,null,null,"00:00:00",null,"00:00:00","00:00:00"]
[null,{"$f":"IFERROR(VLOOKUP(A10150,'Banco de Funcionários'!$A$2:$D$1048576,2,0),0)","v":0},null,null,null,null,null,"00:00:00",null,"00:00:00","00:00:00"]
[null,{"$f":"IFERROR(VLOOKUP(A10156,'Banco de Funcionários'!$A$2:$D$1048576,2,0),0)","v":0},null,null,null,null,null,"00:00:00",null,"00:00:00","00:00:00"]
[null,{"$f":"IFERROR(VLOOKUP(A10161,'Banco de Funcionários'!$A$2:$D$1048576,2,0),0)","v":0},null,null,null,null,null,"00:00:00",null,"00:00:00","00:00:00"]
[null,{"$f":"IFERROR(VLOOKUP(A10162,'Banco de Funcionários'!$A$2:$D$1048576,2,0),0)","v":0},null,null,null,null,null,"00:00:00",null,"00:00:00","00:00:00"]
[null,{"$f":"IFERROR(VLOOKUP(A10167,'Banco de Funcionários'!$A$2:$D$1048576,2,0),0)","v":0},null,null,null,null,null,"00:00:00",null,"00:00:00","00:00:00"]
[null,{"$f":"IFERROR(VLOOKUP(A10172,'Banco de Funcionários'!$A$2:$D$1048576,2,0),0)","v":0},null,null,null,null,null,"00:00:00",null,"00:00:00","00:00:00"]
[null,{"$f":"IFERROR(VLOOKUP(A10178,'Banco de Funcionários'!$A$2:$D$1048576,2,0),0)","v":0},null,null,null,null,null,"00:00:00",null,"00:00:00","00:00:00"]
[null,{"$f":"IFERROR(VLOOKUP(A10183,'Banco de Funcionários'!$A$2:$D$1048576,2,0),0)","v":0},null,null,null,null,null,"00:00:00",null,"00:00:00","00:00:00"]
[null,{"$f":"IFERROR(VLOOKUP(A10189,'Banco de Funcionários'!$A$2:$D$1048576,2,0),0)","v":0},null,null,null,null,null,"00:00:00",null,"00:00:00","00:00:00"]
[null,{"$f":"IFERROR(VLOOKUP(A10194,'Banco de Funcionários'!$A$2:$D$1048576,2,0),0)","v":0},null,null,null,null,null,"00:00:00",null,"00:00:00","00:00:00"]
[null,{"$f":"IFERROR(VLOOKUP(A10199,'Banco de Funcionários'!$A$2:$D$1048576,2,0),0)","v":0},null,null,null,null,null,"00:00:00",null,"00:00:00","00:00:00"]
[null,{"$f":"IFERROR(VLOOKUP(A10205,'Banco de Funcionários'!$A$2:$D$1048576,2,0),0)","v":0},null,null,null,null,null,"00:00:00",null,"00:00:00","00:00:00"]
[null,{"$f":"IFERROR(VLOOKUP(A10210,'Banco de Funcionários'!$A$2:$D$1048576,2,0),0)","v":0},null,null,null,null,null,"00:00:00",null,"00:00:00","00:00:00"]
[null,{"$f":"IFERROR(VLOOKUP(A10215,'Banco de Funcionários'!$A$2:$D$1048576,2,0),0)","v":0},null,null,null,null,null,"00:00:00",null,"00:00:00","00:00:00"]
[null,{"$f":"IFERROR(VLOOKUP(A10221,'Banco de Funcionários'!$A$2:$D$1048576,2,0),0)","v":0},null,null,null,null,null,"00:00:00",null,"00:00:00","00:00:00"]
[null,{"$f":"IFERROR(VLOOKUP(A10226,'Banco de Funcionários'!$A$2:$D$1048576,2,0),0)","v":0},null,null,null,null,null,"00:00:00",null,"00:00:00","00:00:00"]
[null,{"$f":"IFERROR(VLOOKUP(A10227,'Banco de Funcionários'!$A$2:$D$1048576,2,0),0)","v":0},null,null,null,null,null,"00:00:00",null,"00:00:00","00:00:00"]
[null,{"$f":"IFERROR(VLOOKUP(A10232,'Banco de Funcionários'!$A$2:$D$1048576,2,0),0)","v":0},null,null,null,null,null,"00:00:00",null,"00:00:00","00:00:00"]
[null,{"$f":"IFERROR(VLOOKUP(A10240,'Banco de Funcionários'!$A$2:$D$1048576,2,0),0)","v":0},null,null,null,null,null,"00:00:00",null,"00:00:00","00:00:00"]
[null,{"$f":"IFERROR(VLOOKUP(A10242,'Banco de Funcionários'!$A$2:$D$1048576,2,0),0)","v":0},null,null,null,null,null,"00:00:00",null,"00:00:00","00:00:00"]
[null,{"$f":"IFERROR(VLOOKUP(A10247,'Banco de Funcionários'!$A$2:$D$1048576,2,0),0)","v":0},null,null,null,null,null,"00:00:00",null,"00:00:00","00:00:00"]
[null,{"$f":"IFERROR(VLOOKUP(A10252,'Banco de Funcionários'!$A$2:$D$1048576,2,0),0)","v":0},null,null,null,null,null,"00:00:00",null,"00:00:00","00:00:00"]
[null,{"$f":"IFERROR(VLOOKUP(A10258,'Banco de Funcionários'!$A$2:$D$1048576,2,0),0)","v":0},null,null,null,null,null,"00:00:00",null,"00:00:00","00:00:00"]
[null,{"$f":"IFERROR(VLOOKUP(A10263,'Banco de Funcionários'!$A$2:$D$1048576,2,0),0)","v":0},null,null,null,null,null,"00:00:00",null,"00:00:00","00:00:00"]
[null,{"$f":"IFERROR(VLOOKUP(A10269,'Banco de Funcionários'!$A$2:$D$1048576,2,0),0)","v":0},null,null,null,null,null,"00:00:00",null,"00:00:00","00:00:00"]
[null,{"$f":"IFERROR(VLOOKUP(A10274,'Banco de Funcionários'!$A$2:$D$1048576,2,0),0)","v":0},null,null,null,null,null,"00:00:00",null,"00:00:00","00:00:00"]
[null,{"$f":"IFERROR(VLOOKUP(A10279,'Banco de Funcionários'!$A$2:$D$1048576,2,0),0)","v":0},null,null,null,null,null,"00:00:00",null,"00:00:00","00:00:00"]
[null,{"$f":"IFERROR(VLOOKUP(A10285,'Banco de Funcionários'!$A$2:$D$1048576,2,0),0)","v":0},null,null,null,null,null,"00:00:00",null,"00:00:00","00:00:00"]
[null,{"$f":"IFERROR(VLOOKUP(A10290,'Banco de Funcionários'!$A$2:$D$1048576,2,0),0)","v":0},null,null,null,null,null,"00:00:00",null,"00:00:00","00:00:00"]
[null,{"$f":"IFERROR(VLOOKUP(A10291,'Banco de Funcionários'!$A$2:$D$1048576,2,0),0)","v":0},null,null,null,null,null,"00:00:00",null,"00:00:00","00:00:00"]
[null,{"$f":"IFERROR(VLOOKUP(A10296,'Banco de Funcionários'!$A$2:$D$1048576,2,0),0)","v":0},null,null,null,null,null,"00:00:00",null,"00:00:00","00:00:00"]
[null,{"$f":"IFERROR(VLOOKUP(A10301,'Banco de Funcionários'!$A$2:$D$1048576,2,0),0)","v":0},null,null,null,null,null,"00:00:00",null,"00:00:00","00:00:00"]
[null,{"$f":"IFERROR(VLOOKUP(A10307,'Banco de Funcionários'!$A$2:$D$1048576,2,0),0)","v":0},null,null,null,null,null,{"$f":"(F10307-E10307)-G10307","v":"00:00:00"},null,{"$f":"IFERROR(H10307-I10307,\"\")","v":"00:00:00"},{"$f":"IFERROR(H10307+J10307,0)","v":"00:00:00"}]
[null,{"$f":"IFERROR(VLOOKUP(A10312,'Banco de Funcionários'!$A$2:$D$1048576,2,0),0)","v":0},null,null,null,null,null,"00:00:00",null,"00:00:00","00:00:00"]
[null,{"$f":"IFERROR(VLOOKUP(A10317,'Banco de Funcionários'!$A$2:$D$1048576,2,0),0)","v":0},null,null,null,null,null,"00:00:00",null,"00:00:00","00:00:00"]
[null,{"$f":"IFERROR(VLOOKUP(A10323,'Banco de Funcionários'!$A$2:$D$1048576,2,0),0)","v":0},null,null,null,null,null,"00:00:00",null,"00:00:00","00:00:00"]
[null,{"$f":"IFERROR(VLOOKUP(A10328,'Banco de Funcionários'!$A$2:$D$1048576,2,0),0)","v":0},null,null,null,null,null,"00:00:00",null,"00:00:00","00:00:00"]
[null,{"$f":"IFERROR(VLOOKUP(A10334,'Banco de Funcionários'!$A$2:$D$1048576,2,0),0)","v":0},null,null,null,null,null,"00:00:00",null,"00:00:00","00:00:00"]
[null,{"$f":"IFERROR(VLOOKUP(A10339,'Banco de Funcionários'!$A$2:$D$1048576,2,0),0)","v":0},null,null,null,null,null,"00:00:00",null,"00:00:00","00:00:00"]
[null,{"$f":"IFERROR(VLOOKUP(A10344,'Banco de Funcionários'!$A$2:$D$1048576,2,0),0)","v":0},null,null,null,null,null,"00:00:00",null,"00:00:00","00:00:00"]
[null,{"$f":"IFERROR(VLOOKUP(A10350,'Banco de Funcionários'!$A$2:$D$1048576,2,0),0)","v":0},null,null,null,null,null,"00:00:00",null,"00:00:00","00:00:00"]
[null,{"$f":"IFERROR(VLOOKUP(A10353,'Banco de Funcionários'!$A$2:$D$1048576,2,0),0)","v":0},null,null,null,null,null,"00:00:00",null,"00:00:00","00:00:00"]
[null,{"$f":"IFERROR(VLOOKUP(A10359,'Banco de Funcionários'!$A$2:$D$1048576,2,0),0)","v":0},null,null,null,null,null,"00:00:00",null,"00:00:00","00:00:00"]
[null,{"$f":"IFERROR(VLOOKUP(A10360,'Banco de Funcionários'!$A$2:$D$1048576,2,0),0)","v":0},null,null,null,null,null,"00:00:00",null,"00:00:00","00:00:00"]
[null,{"$f":"IFERROR(VLOOKUP(A10365,'Banco de Funcionários'!$A$2:$D$1048576,2,0),0)","v":0},null,null,null,null,null,"00:00:00",null,"00:00:00","00:00:00"]
[null,{"$f":"IFERROR(VLOOKUP(A10371,'Banco de Funcionários'!$A$2:$D$1048576,2,0),0)","v":0},null,null,null,null,null,{"$f":"(F10371-E10371)-G10371","v":"00:00:00"},null,{"$f":"IFERROR(H10371-I10371,\"\")","v":"00:00:00"},{"$f":"IFERROR(H10371+J10371,0)","v":"00:00:00"}]
[null,{"$f":"IFERROR(VLOOKUP(A10376,'Banco de Funcionários'!$A$2:$D$1048576,2,0),0)","v":0},null,null,null,null,null,"00:00:00",null,"00:00:00","00:00:00"]
[null,{"$f":"IFERROR(VLOOKUP(A10381,'Banco de Funcionários'!$A$2:$D$1048576,2,0),0)","v":0},null,null,null,null,null,"00:00:00",null,"00:00:00","00:00:00"]
[null,{"$f":"IFERROR(VLOOKUP(A10387,'Banco de Funcionários'!$A$2:$D$1048576,2,0),0)","v":0},null,null,null,null,null,"00:00:00",null,"00:00:00","00:00:00"]
[null,{"$f":"IFERROR(VLOOKUP(A10392,'Banco de Funcionários'!$A$2:$D$1048576,2,0),0)","v":0},null,null,null,null,null,"00:00:00",null,"00:00:00","00:00:00"]
[null,{"$f":"IFERROR(VLOOKUP(A10398,'Banco de Funcionários'!$A$2:$D$1048576,2,0),0)","v":0},null,null,null,null,null,"00:00:00",null,"00:00:00","00:00:00"]
[null,{"$f":"IFERROR(VLOOKUP(A10403,'Banco de Funcionários'!$A$2:$D$1048576,2,0),0)","v":0},null,null,null,null,null,"00:00:00",null,"00:00:00","00:00:00"]
[null,{"$f":"IFERROR(VLOOKUP(A10408,'Banco de Funcionários'!$A$2:$D$1048576,2,0),0)","v":0},null,null,null,null,null,"00:00:00",null,"00:00:00","00:00:00"]
[null,{"$f":"IFERROR(VLOOKUP(A10414,'Banco de Funcionários'!$A$2:$D$1048576,2,0),0)","v":0},null,null,null,null,null,"00:00:00",null,"00:00:00","00:00:00"]
[null,{"$f":"IFERROR(VLOOKUP(A10419,'Banco de Funcionários'!$A$2:$D$1048576,2,0),0)","v":0},null,null,null,null,null,"00:00:00",null,"00:00:00","00:00:00"]
[null,{"$f":"IFERROR(VLOOKUP(A10424,'Banco de Funcionários'!$A$2:$D$1048576,2,0),0)","v":0},null,null,null,null,null,"00:00:00",null,"00:00:00","00:00:00"]
[null,{"$f":"IFERROR(VLOOKUP(A10425,'Banco de Funcionários'!$A$2:$D$1048576,2,0),0)","v":0},null,null,null,null,null,"00:00:00",null,"00:00:00","00:00:00"]
[null,{"$f":"IFERROR(VLOOKUP(A10430,'Banco de Funcionários'!$A$2:$D$1048576,2,0),0)","v":0},null,null,null,null,null,"00:00:00",null,"00:00:00","00:00:00"]
[null,{"$f":"IFERROR(VLOOKUP(A10436,'Banco de Funcionários'!$A$2:$D$1048576,2,0),0)","v":0},null,null,null,null,null,"00:00:00",null,"00:00:00","00:00:00"]
[null,{"$f":"IFERROR(VLOOKUP(A10441,'Banco de Funcionários'!$A$2:$D$1048576,2,0),0)","v":0},null,null,null,null,null,"00:00:00",null,"00:00:00","00:00:00"]
[null,{"$f":"IFERROR(VLOOKUP(A10446,'Banco de Funcionários'!$A$2:$D$1048576,2,0),0)","v":0},null,null,null,null,null,"00:00:00",null,"00:00:00","00:00:00"]
[null,{"$f":"IFERROR(VLOOKUP(A10452,'Banco de Funcionários'!$A$2:$D$1048576,2,0),0)","v":0},null,null,null,null,null,"00:00:00",null,"00:00:00","00:00:00"]
[null,{"$f":"IFERROR(VLOOKUP(A10457,'Banco de Funcionários'!$A$2:$D$1048576,2,0),0)","v":0},null,null,null,null,null,"00:00:00",null,"00:00:00","00:00:00"]
[null,{"$f":"IFERROR(VLOOKUP(A10460,'Banco de Funcionários'!$A$2:$D$1048576,2,0),0)","v":0},null,null,null,null,null,"00:00:00",null,"00:00:00","00:00:00"]
[null,{"$f":"IFERROR(VLOOKUP(A10467,'Banco de Funcionários'!$A$2:$D$1048576,2,0),0)","v":0},null,null,null,null,null,"00:00:00",null,"00:00:00","00:00:00"]
[null,{"$f":"IFERROR(VLOOKUP(A10472,'Banco de Funcionários'!$A$2:$D$1048576,2,0),0)","v":0},null,null,null,null,null,"00:00:00",null,"00:00:00","00:00:00"]
[null,{"$f":"IFERROR(VLOOKUP(A10478,'Banco de Funcionários'!$A$2:$D$1048576,2,0),0)","v":0},null,null,null,null,null,"00:00:00",null,"00:00:00","00:00:00"]
[null,{"$f":"IFERROR(VLOOKUP(A10483,'Banco de Funcionários'!$A$2:$D$1048576,2,0),0)","v":0},null,null,null,null,null,"00:00:00",null,"00:00:00","00:00:00"]
[null,{"$f":"IFERROR(VLOOKUP(A10488,'Banco de Funcionários'!$A$2:$D$1048576,2,0),0)","v":0},null,null,null,null,null,"00:00:00",null,"00:00:00","00:00:00"]
[null,{"$f":"IFERROR(VLOOKUP(A10489,'Banco de Funcionários'!$A$2:$D$1048576,2,0),0)","v":0},null,null,null,null,null,"00:00:00",null,"00:00:00","00:00:00"]
[null,{"$f":"IFERROR(VLOOKUP(A10494,'Banco de Funcionários'!$A$2:$D$1048576,2,0),0)","v":0},null,null,null,null,null,"00:00:00",null,"00:00:00","00:00:00"]
[null,{"$f":"IFERROR(VLOOKUP(A10500,'Banco de Funcionários'!$A$2:$D$1048576,2,0),0)","v":0},null,null,null,null,null,"00:00:00",null,"00:00:00","00:00:00"]
[null,{"$f":"IFERROR(VLOOKUP(A10505,'Banco de Funcionários'!$A$2:$D$1048576,2,0),0)","v":0},null,null,null,null,null,"00:00:00",null,"00:00:00","00:00:00"]
[null,{"$f":"IFERROR(VLOOKUP(A10510,'Banco de Funcionários'!$A$2:$D$1048576,2,0),0)","v":0},null,null,null,null,null,"00:00:00",null,"00:00:00","00:00:00"]
[null,{"$f":"IFERROR(VLOOKUP(A10516,'Banco de Funcionários'!$A$2:$D$1048576,2,0),0)","v":0},null,null,null,null,null,"00:00:00",null,"00:00:00","00:00:00"]
[null,{"$f":"IFERROR(VLOOKUP(A10521,'Banco de Funcionários'!$A$2:$D$1048576,2,0),0)","v":0},null,null,null,null,null,"00:00:00",null,"00:00:00","00:00:00"]
[null,{"$f":"IFERROR(VLOOKUP(A10526,'Banco de Funcionários'!$A$2:$D$1048576,2,0),0)","v":0},null,null,null,null,null,"00:00:00",null,"00:00:00","00:00:00"]
[null,{"$f":"IFERROR(VLOOKUP(A10532,'Banco de Funcionários'!$A$2:$D$1048576,2,0),0)","v":0},null,null,null,null,null,"00:00:00",null,"00:00:00","00:00:00"]
[null,{"$f":"IFERROR(VLOOKUP(A10537,'Banco de Funcionários'!$A$2:$D$1048576,2,0),0)","v":0},null,null,null,null,null,"00:00:00",null,"00:00:00","00:00:00"]
[null,{"$f":"IFERROR(VLOOKUP(A10543,'Banco de Funcionários'!$A$2:$D$1048576,2,0),0)","v":0},null,null,null,null,null,"00:00:00",null,"00:00:00","00:00:00"]
[null,{"$f":"IFERROR(VLOOKUP(A10548,'Banco de Funcionários'!$A$2:$D$1048576,2,0),0)","v":0},null,null,null,null,null,"00:00:00",null,"00:00:00","00:00:00"]
[null,{"$f":"IFERROR(VLOOKUP(A10553,'Banco de Funcionários'!$A$2:$D$1048576,2,0),0)","v":0},null,null,null,null,null,"00:00:00",null,"00:00:00","00:00:00"]
[null,{"$f":"IFERROR(VLOOKUP(A10554,'Banco de Funcionários'!$A$2:$D$1048576,2,0),0)","v":0},null,null,null,null,null,"00:00:00",null,"00:00:00","00:00:00"]
[null,{"$f":"IFERROR(VLOOKUP(A10559,'Banco de Funcionários'!$A$2:$D$1048576,2,0),0)","v":0},null,null,null,null,null,"00:00:00",null,"00:00:00","00:00:00"]
[null,{"$f":"IFERROR(VLOOKUP(A10565,'Banco de Funcionários'!$A$2:$D$1048576,2,0),0)","v":0},null,null,null,null,null,"00:00:00",null,"00:00:00","00:00:00"]
[null,{"$f":"IFERROR(VLOOKUP(A10570,'Banco de Funcionários'!$A$2:$D$1048576,2,0),0)","v":0},null,null,null,null,null,"00:00:00",null,"00:00:00","00:00:00"]
[null,{"$f":"IFERROR(VLOOKUP(A10577,'Banco de Funcionários'!$A$2:$D$1048576,2,0),0)","v":0},null,null,null,null,null,"00:00:00",null,"00:00:00","00:00:00"]
[null,{"$f":"IFERROR(VLOOKUP(A10580,'Banco de Funcionários'!$A$2:$D$1048576,2,0),0)","v":0},null,null,null,null,null,"00:00:00",null,"00:00:00","00:00:00"]
[null,{"$f":"IFERROR(VLOOKUP(A10585,'Banco de Funcionários'!$A$2:$D$1048576,2,0),0)","v":0},null,null,null,null,null,"00:00:00",null,"00:00:00","00:00:00"]
[null,{"$f":"IFERROR(VLOOKUP(A10590,'Banco de Funcionários'!$A$2:$D$1048576,2,0),0)","v":0},null,null,null,null,null,"00:00:00",null,"00:00:00","00:00:00"]
[null,{"$f":"IFERROR(VLOOKUP(A10596,'Banco de Funcionários'!$A$2:$D$1048576,2,0),0)","v":0},null,null,null,null,null,"00:00:00",null,"00:00:00","00:00:00"]
[null,{"$f":"IFERROR(VLOOKUP(A10601,'Banco de Funcionários'!$A$2:$D$1048576,2,0),0)","v":0},null,null,null,null,null,"00:00:00",null,"00:00:00","00:00:00"]
[null,{"$f":"IFERROR(VLOOKUP(A10607,'Banco de Funcionários'!$A$2:$D$1048576,2,0),0)","v":0},null,null,null,null,null,"00:00:00",null,"00:00:00","00:00:00"]
[null,{"$f":"IFERROR(VLOOKUP(A10612,'Banco de Funcionários'!$A$2:$D$1048576,2,0),0)","v":0},null,null,null,null,null,"00:00:00",null,"00:00:00","00:00:00"]
[null,{"$f":"IFERROR(VLOOKUP(A10617,'Banco de Funcionários'!$A$2:$D$1048576,2,0),0)","v":0},null,null,null,null,null,"00:00:00",null,"00:00:00","00:00:00"]
[null,{"$f":"IFERROR(VLOOKUP(A10618,'Banco de Funcionários'!$A$2:$D$1048576,2,0),0)","v":0},null,null,null,null,null,"00:00:00",null,"00:00:00","00:00:00"]
[null,{"$f":"IFERROR(VLOOKUP(A10623,'Banco de Funcionários'!$A$2:$D$1048576,2,0),0)","v":0},null,null,null,null,null,"00:00:00",null,"00:00:00","00:00:00"]
[null,{"$f":"IFERROR(VLOOKUP(A10629,'Banco de Funcionários'!$A$2:$D$1048576,2,0),0)","v":0},null,null,null,null,null,"00:00:00",null,"00:00:00","00:00:00"]
[null,{"$f":"IFERROR(VLOOKUP(A10634,'Banco de Funcionários'!$A$2:$D$1048576,2,0),0)","v":0},null,null,null,null,null,"00:00:00",null,"00:00:00","00:00:00"]
[null,{"$f":"IFERROR(VLOOKUP(A10639,'Banco de Funcionários'!$A$2:$D$1048576,2,0),0)","v":0},null,null,null,null,null,"00:00:00",null,"00:00:00","00:00:00"]
[null,{"$f":"IFERROR(VLOOKUP(A10645,'Banco de Funcionários'!$A$2:$D$1048576,2,0),0)","v":0},null,null,null,null,null,"00:00:00",null,"00:00:00","00:00:00"]
[null,{"$f":"IFERROR(VLOOKUP(A10650,'Banco de Funcionários'!$A$2:$D$1048576,2,0),0)","v":0},null,null,null,null,null,"00:00:00",null,"00:00:00","00:00:00"]
[null,{"$f":"IFERROR(VLOOKUP(A10655,'Banco de Funcionários'!$A$2:$D$1048576,2,0),0)","v":0},null,null,null,null,null,"00:00:00",null,"00:00:00","00:00:00"]
[null,{"$f":"IFERROR(VLOOKUP(A10661,'Banco de Funcionários'!$A$2:$D$1048576,2,0),0)","v":0},null,null,null,null,null,"00:00:00",null,"00:00:00","00:00:00"]
[null,{"$f":"IFERROR(VLOOKUP(A10666,'Banco de Funcionários'!$A$2:$D$1048576,2,0),0)","v":0},null,null,null,null,null,"00:00:00",null,"00:00:00","00:00:00"]
[null,{"$f":"IFERROR(VLOOKUP(A10672,'Banco de Funcionários'!$A$2:$D$1048576,2,0),0)","v":0},null,null,null,null,null,"00:00:00",null,"00:00:00","00:00:00"]
[null,{"$f":"IFERROR(VLOOKUP(A10677,'Banco de Funcionários'!$A$2:$D$1048576,2,0),0)","v":0},null,null,null,null,null,"00:00:00",null,"00:00:00","00:00:00"]
[null,{"$f":"IFERROR(VLOOKUP(A10682,'Banco de Funcionários'!$A$2:$D$1048576,2,0),0)","v":0},null,null,null,null,null,"00:00:00",null,"00:00:00","00:00:00"]
[null,{"$f":"IFERROR(VLOOKUP(A10684,'Banco de Funcionários'!$A$2:$D$1048576,2,0),0)","v":0},null,null,null,null,null,"00:00:00",null,"00:00:00","00:00:00"]
[null,{"$f":"IFERROR(VLOOKUP(A10687,'Banco de Funcionários'!$A$2:$D$1048576,2,0),0)","v":0},null,null,null,null,null,"00:00:00",null,"00:00:00","00:00:00"]
[null,{"$f":"IFERROR(VLOOKUP(A10692,'Banco de Funcionários'!$A$2:$D$1048576,2,0),0)","v":0},null,null,null,null,null,"00:00:00",null,"00:00:00","00:00:00"]
[null,{"$f":"IFERROR(VLOOKUP(A10698,'Banco de Funcionários'!$A$2:$D$1048576,2,0),0)","v":0},null,null,null,null,null,"00:00:00",null,"00:00:00","00:00:00"]
[null,{"$f":"IFERROR(VLOOKUP(A10703,'Banco de Funcionários'!$A$2:$D$1048576,2,0),0)","v":0},null,null,null,null,null,"00:00:00",null,"00:00:00","00:00:00"]
[null,{"$f":"IFERROR(VLOOKUP(A10709,'Banco de Funcionários'!$A$2:$D$1048576,2,0),0)","v":0},null,null,null,null,null,"00:00:00",null,"00:00:00","00:00:00"]
[null,{"$f":"IFERROR(VLOOKUP(A10714,'Banco de Funcionários'!$A$2:$D$1048576,2,0),0)","v":0},null,null,null,null,null,"00:00:00",null,"00:00:00","00:00:00"]
[null,{"$f":"IFERROR(VLOOKUP(A10719,'Banco de Funcionários'!$A$2:$D$1048576,2,0),0)","v":0},null,null,null,null,null,"00:00:00",null,"00:00:00","00:00:00"]
[null,{"$f":"IFERROR(VLOOKUP(A10725,'Banco de Funcionários'!$A$2:$D$1048576,2,0),0)","v":0},null,null,null,null,null,"00:00:00",null,"00:00:00","00:00:00"]
[null,{"$f":"IFERROR(VLOOKUP(A10730,'Banco de Funcionários'!$A$2:$D$1048576,2,0),0)","v":0},null,null,null,null,null,"00:00:00",null,"00:00:00","00:00:00"]
[null,{"$f":"IFERROR(VLOOKUP(A10736,'Banco de Funcionários'!$A$2:$D$1048576,2,0),0)","v":0},null,null,null,null,null,"00:00:00",null,"00:00:00","00:00:00"]
[null,{"$f":"IFERROR(VLOOKUP(A10741,'Banco de Funcionários'!$A$2:$D$1048576,2,0),0)","v":0},null,null,null,null,null,"00:00:00",null,"00:00:00","00:00:00"]
[null,{"$f":"IFERROR(VLOOKUP(A10746,'Banco de Funcionários'!$A$2:$D$1048576,2,0),0)","v":0},null,null,null,null,null,"00:00:00",null,"00:00:00","00:00:00"]
[null,{"$f":"IFERROR(VLOOKUP(A10747,'Banco de Funcionários'!$A$2:$D$1048576,2,0),0)","v":0},null,null,null,null,null,"00:00:00",null,"00:00:00","00:00:00"]
[null,{"$f":"IFERROR(VLOOKUP(A10752,'Banco de Funcionários'!$A$2:$D$1048576,2,0),0)","v":0},null,null,null,null,null,"00:00:00",null,"00:00:00","00:00:00"]
[null,{"$f":"IFERROR(VLOOKUP(A10757,'Banco de Funcionários'!$A$2:$D$1048576,2,0),0)","v":0},null,null,null,null,null,"00:00:00",null,"00:00:00","00:00:00"]
[null,{"$f":"IFERROR(VLOOKUP(A10763,'Banco de Funcionários'!$A$2:$D$1048576,2,0),0)","v":0},null,null,null,null,null,"00:00:00",null,"00:00:00","00:00:00"]
[null,{"$f":"IFERROR(VLOOKUP(A10768,'Banco de Funcionários'!$A$2:$D$1048576,2,0),0)","v":0},null,null,null,null,null,"00:00:00",null,"00:00:00","00:00:00"]
[null,{"$f":"IFERROR(VLOOKUP(A10774,'Banco de Funcionários'!$A$2:$D$1048576,2,0),0)","v":0},null,null,null,null,null,"00:00:00",null,"00:00:00","00:00:00"]
[null,{"$f":"IFERROR(VLOOKUP(A10779,'Banco de Funcionários'!$A$2:$D$1048576,2,0),0)","v":0},null,null,null,null,null,"00:00:00",null,"00:00:00","00:00:00"]
[null,{"$f":"IFERROR(VLOOKUP(A10784,'Banco de Funcionários'!$A$2:$D$1048576,2,0),0)","v":0},null,null,null,null,null,"00:00:00",null,"00:00:00","00:00:00"]
[null,{"$f":"IFERROR(VLOOKUP(A10790,'Banco de Funcionários'!$A$2:$D$1048576,2,0),0)","v":0},null,null,null,null,null,"00:00:00",null,"00:00:00","00:00:00"]
[null,{"$f":"IFERROR(VLOOKUP(A10795,'Banco de Funcionários'!$A$2:$D$1048576,2,0),0)","v":0},null,null,null,null,null,"00:00:00",null,"00:00:00","00:00:00"]
[null,{"$f":"IFERROR(VLOOKUP(A10797,'Banco de Funcionários'!$A$2:$D$1048576,2,0),0)","v":0},null,null,null,null,null,"00:00:00",null,"00:00:00","00:00:00"]
[null,{"$f":"IFERROR(VLOOKUP(A10805,'Banco de Funcionários'!$A$2:$D$1048576,2,0),0)","v":0},null,null,null,null,null,"00:00:00",null,"00:00:00","00:00:00"]
[null,{"$f":"IFERROR(VLOOKUP(A10810,'Banco de Funcionários'!$A$2:$D$1048576,2,0),0)","v":0},null,null,null,null,null,"00:00:00",null,"00:00:00","00:00:00"]
[null,{"$f":"IFERROR(VLOOKUP(A10811,'Banco de Funcionários'!$A$2:$D$1048576,2,0),0)","v":0},null,null,null,null,null,"00:00:00",null,"00:00:00","00:00:00"]
[null,{"$f":"IFERROR(VLOOKUP(A10816,'Banco de Funcionários'!$A$2:$D$1048576,2,0),0)","v":0},null,null,null,null,null,"00:00:00",null,"00:00:00","00:00:00"]
[null,{"$f":"IFERROR(VLOOKUP(A10821,'Banco de Funcionários'!$A$2:$D$1048576,2,0),0)","v":0},null,null,null,null,null,"00:00:00",null,"00:00:00","00:00:00"]
[null,{"$f":"IFERROR(VLOOKUP(A10827,'Banco de Funcionários'!$A$2:$D$1048576,2,0),0)","v":0},null,null,null,null,null,"00:00:00",null,"00:00:00","00:00:00"]
[null,{"$f":"IFERROR(VLOOKUP(A10832,'Banco de Funcionários'!$A$2:$D$1048576,2,0),0)","v":0},null,null,null,null,null,"00:00:00",null,"00:00:00","00:00:00"]
[null,{"$f":"IFERROR(VLOOKUP(A10838,'Banco de Funcionários'!$A$2:$D$1048576,2,0),0)","v":0},null,null,null,null,null,"00:00:00",null,"00:00:00","00:00:00"]
[null,{"$f":"IFERROR(VLOOKUP(A10843,'Banco de Funcionários'!$A$2:$D$1048576,2,0),0)","v":0},null,null,null,null,null,"00:00:00",null,"00:00:00","00:00:00"]
[null,{"$f":"IFERROR(VLOOKUP(A10848,'Banco de Funcionários'!$A$2:$D$1048576,2,0),0)","v":0},null,null,null,null,null,"00:00:00",null,"00:00:00","00:00:00"]
[null,{"$f":"IFERROR(VLOOKUP(A10854,'Banco de Funcionários'!$A$2:$D$1048576,2,0),0)","v":0},null,null,null,null,null,"00:00:00",null,"00:00:00","00:00:00"]
[null,{"$f":"IFERROR(VLOOKUP(A10859,'Banco de Funcionários'!$A$2:$D$1048576,2,0),0)","v":0},null,null,null,null,null,"00:00:00",null,"00:00:00","00:00:00"]
[null,{"$f":"IFERROR(VLOOKUP(A10864,'Banco de Funcionários'!$A$2:$D$1048576,2,0),0)","v":0},null,null,null,null,null,"00:00:00",null,"00:00:00","00:00:00"]
[null,{"$f":"IFERROR(VLOOKUP(A10870,'Banco de Funcionários'!$A$2:$D$1048576,2,0),0)","v":0},null,null,null,null,null,"00:00:00",null,"00:00:00","00:00:00"]
[null,{"$f":"IFERROR(VLOOKUP(A10875,'Banco de Funcionários'!$A$2:$D$1048576,2,0),0)","v":0},null,null,null,null,null,"00:00:00",null,"00:00:00","00:00:00"]
[null,{"$f":"IFERROR(VLOOKUP(A10876,'Banco de Funcionários'!$A$2:$D$1048576,2,0),0)","v":0},null,null,null,null,null,"00:00:00",null,"00:00:00","00:00:00"]
[null,{"$f":"IFERROR(VLOOKUP(A10881,'Banco de Funcionários'!$A$2:$D$1048576,2,0),0)","v":0},null,null,null,null,null,"00:00:00",null,"00:00:00","00:00:00"]
[null,{"$f":"IFERROR(VLOOKUP(A10886,'Banco de Funcionários'!$A$2:$D$1048576,2,0),0)","v":0},null,null,null,null,null,"00:00:00",null,"00:00:00","00:00:00"]
[null,{"$f":"IFERROR(VLOOKUP(A10892,'Banco de Funcionários'!$A$2:$D$1048576,2,0),0)","v":0},null,null,null,null,null,"00:00:00",null,"00:00:00","00:00:00"]
[null,{"$f":"IFERROR(VLOOKUP(A10897,'Banco de Funcionários'!$A$2:$D$1048576,2,0),0)","v":0},null,null,null,null,null,"00:00:00",null,"00:00:00","00:00:00"]
[null,{"$f":"IFERROR(VLOOKUP(A10903,'Banco de Funcionários'!$A$2:$D$1048576,2,0),0)","v":0},null,null,null,null,null,"00:00:00",null,"00:00:00","00:00:00"]
[null,{"$f":"IFERROR(VLOOKUP(A10908,'Banco de Funcionários'!$A$2:$D$1048576,2,0),0)","v":0},null,null,null,null,null,"00:00:00",null,"00:00:00","00:00:00"]
[null,{"$f":"IFERROR(VLOOKUP(A10912,'Banco de Funcionários'!$A$2:$D$1048576,2,0),0)","v":0},null,null,null,null,null,"00:00:00",null,"00:00:00","00:00:00"]
[null,{"$f":"IFERROR(VLOOKUP(A10918,'Banco de Funcionários'!$A$2:$D$1048576,2,0),0)","v":0},null,null,null,null,null,"00:00:00",null,"00:00:00","00:00:00"]
[null,{"$f":"IFERROR(VLOOKUP(A10923,'Banco de Funcionários'!$A$2:$D$1048576,2,0),0)","v":0},null,null,null,null,null,"00:00:00",null,"00:00:00","00:00:00"]
[null,{"$f":"IFERROR(VLOOKUP(A10928,'Banco de Funcionários'!$A$2:$D$1048576,2,0),0)","v":0},null,null,null,null,null,"00:00:00",null,"00:00:00","00:00:00"]
[null,{"$f":"IFERROR(VLOOKUP(A10934,'Banco de Funcionários'!$A$2:$D$1048576,2,0),0)","v":0},null,null,null,null,null,"00:00:00",null,"00:00:00","00:00:00"]
[null,{"$f":"IFERROR(VLOOKUP(A10939,'Banco de Funcionários'!$A$2:$D$1048576,2,0),0)","v":0},null,null,null,null,null,"00:00:00",null,"00:00:00","00:00:00"]
[null,{"$f":"IFERROR(VLOOKUP(A10940,'Banco de Funcionários'!$A$2:$D$1048576,2,0),0)","v":0},null,null,null,null,null,"00:00:00",null,"00:00:00","00:00:00"]
[null,{"$f":"IFERROR(VLOOKUP(A10945,'Banco de Funcionários'!$A$2:$D$1048576,2,0),0)","v":0},null,null,null,null,null,"00:00:00",null,"00:00:00","00:00:00"]
[null,{"$f":"IFERROR(VLOOKUP(A10950,'Banco de Funcionários'!$A$2:$D$1048576,2,0),0)","v":0},null,null,null,null,null,"00:00:00",null,"00:00:00","00:00:00"]
[null,{"$f":"IFERROR(VLOOKUP(A10956,'Banco de Funcionários'!$A$2:$D$1048576,2,0),0)","v":0},null,null,null,null,null,"00:00:00",null,"00:00:00","00:00:00"]
[null,{"$f":"IFERROR(VLOOKUP(A10961,'Banco de Funcionários'!$A$2:$D$1048576,2,0),0)","v":0},null,null,null,null,null,"00:00:00",null,"00:00:00","00:00:00"]
[null,{"$f":"IFERROR(VLOOKUP(A10966,'Banco de Funcionários'!$A$2:$D$1048576,2,0),0)","v":0},null,null,null,null,null,"00:00:00",null,"00:00:00","00:00:00"]
[null,{"$f":"IFERROR(VLOOKUP(A10972,'Banco de Funcionários'!$A$2:$D$1048576,2,0),0)","v":0},null,null,null,null,null,"00:00:00",null,"00:00:00","00:00:00"]
[null,{"$f":"IFERROR(VLOOKUP(A10977,'Banco de Funcionários'!$A$2:$D$1048576,2,0),0)","v":0},null,null,null,null,null,"00:00:00",null,"00:00:00","00:00:00"]
[null,{"$f":"IFERROR(VLOOKUP(A10983,'Banco de Funcionários'!$A$2:$D$1048576,2,0),0)","v":0},null,null,null,null,null,"00:00:00",null,"00:00:00","00:00:00"]
[null,{"$f":"IFERROR(VLOOKUP(A10988,'Banco de Funcionários'!$A$2:$D$1048576,2,0),0)","v":0},null,null,null,null,null,"00:00:00",null,"00:00:00","00:00:00"]
[null,{"$f":"IFERROR(VLOOKUP(A10993,'Banco de Funcionários'!$A$2:$D$1048576,2,0),0)","v":0},null,null,null,null,null,"00:00:00",null,"00:00:00","00:00:00"]
[null,{"$f":"IFERROR(VLOOKUP(A10999,'Banco de Funcionários'!$A$2:$D$1048576,2,0),0)","v":0},null,null,null,null,null,"00:00:00",null,"00:00:00","00:00:00"]
[null,{"$f":"IFERROR(VLOOKUP(A11004,'Banco de Funcionários'!$A$2:$D$1048576,2,0),0)","v":0},null,null,null,null,null,"00:00:00",null,"00:00:00","00:00:00"]
[null,{"$f":"IFERROR(VLOOKUP(A11005,'Banco de Funcionários'!$A$2:$D$1048576,2,0),0)","v":0},null,null,null,null,null,"00:00:00",null,"00:00:00","00:00:00"]
[null,{"$f":"IFERROR(VLOOKUP(A11010,'Banco de Funcionários'!$A$2:$D$1048576,2,0),0)","v":0},null,null,null,null,null,"00:00:00",null,"00:00:00","00:00:00"]
[null,{"$f":"IFERROR(VLOOKUP(A11015,'Banco de Funcionários'!$A$2:$D$1048576,2,0),0)","v":0},null,null,null,null,null,"00:00:00",null,"00:00:00","00:00:00"]
[null,{"$f":"IFERROR(VLOOKUP(A11021,'Banco de Funcionários'!$A$2:$D$1048576,2,0),0)","v":0},null,null,null,null,null,"00:00:00",null,"00:00:00","00:00:00"]
[null,{"$f":"IFERROR(VLOOKUP(A11025,'Banco de Funcionários'!$A$2:$D$1048576,2,0),0)","v":0},null,null,null,null,null,"00:00:00",null,"00:00:00","00:00:00"]
[null,{"$f":"IFERROR(VLOOKUP(A11030,'Banco de Funcionários'!$A$2:$D$1048576,2,0),0)","v":0},null,null,null,null,null,"00:00:00",null,"00:00:00","00:00:00"]
[null,{"$f":"IFERROR(VLOOKUP(A11036,'Banco de Funcionários'!$A$2:$D$1048576,2,0),0)","v":0},null,null,null,null,null,"00:00:00",null,"00:00:00","00:00:00"]
[null,{"$f":"IFERROR(VLOOKUP(A11041,'Banco de Funcionários'!$A$2:$D$1048576,2,0),0)","v":0},null,null,null,null,null,"00:00:00",null,"00:00:00","00:00:00"]
[null,{"$f":"IFERROR(VLOOKUP(A11047,'Banco de Funcionários'!$A$2:$D$1048576,2,0),0)","v":0},null,null,null,null,null,"00:00:00",null,"00:00:00","00:00:00"]
[null,{"$f":"IFERROR(VLOOKUP(A11052,'Banco de Funcionários'!$A$2:$D$1048576,2,0),0)","v":0},null,null,null,null,null,"00:00:00",null,"00:00:00","00:00:00"]
[null,{"$f":"IFERROR(VLOOKUP(A11057,'Banco de Funcionários'!$A$2:$D$1048576,2,0),0)","v":0},null,null,null,null,null,"00:00:00",null,"00:00:00","00:00:00"]
[null,{"$f":"IFERROR(VLOOKUP(A11063,'Banco de Funcionários'!$A$2:$D$1048576,2,0),0)","v":0},null,null,null,null,null,"00:00:00",null,"00:00:00","00:00:00"]
[null,{"$f":"IFERROR(VLOOKUP(A11068,'Banco de Funcionários'!$A$2:$D$1048576,2,0),0)","v":0},null,null,null,null,null,"00:00:00",null,"00:00:00","00:00:00"]
[null,{"$f":"IFERROR(VLOOKUP(A11073,'Banco de Funcionários'!$A$2:$D$1048576,2,0),0)","v":0},null,null,null,null,null,"00:00:00",null,"00:00:00","00:00:00"]
[null,{"$f":"IFERROR(VLOOKUP(A11074,'Banco de Funcionários'!$A$2:$D$1048576,2,0),0)","v":0},null,null,null,null,null,"00:00:00",null,"00:00:00","00:00:00"]
[null,{"$f":"IFERROR(VLOOKUP(A11079,'Banco de Funcionários'!$A$2:$D$1048576,2,0),0)","v":0},null,null,null,null,null,"00:00:00",null,"00:00:00","00:00:00"]
[null,{"$f":"IFERROR(VLOOKUP(A11085,'Banco de Funcionários'!$A$2:$D$1048576,2,0),0)","v":0},null,null,null,null,null,"00:00:00",null,"00:00:00","00:00:00"]
[null,{"$f":"IFERROR(VLOOKUP(A11090,'Banco de Funcionários'!$A$2:$D$1048576,2,0),0)","v":0},null,null,null,null,null,"00:00:00",null,"00:00:00","00:00:00"]
[null,{"$f":"IFERROR(VLOOKUP(A11095,'Banco de Funcionários'!$A$2:$D$1048576,2,0),0)","v":0},null,null,null,null,null,"00:00:00",null,"00:00:00","00:00:00"]
[null,{"$f":"IFERROR(VLOOKUP(A11101,'Banco de Funcionários'!$A$2:$D$1048576,2,0),0)","v":0},null,null,null,null,null,"00:00:00",null,"00:00:00","00:00:00"]
[null,{"$f":"IFERROR(VLOOKUP(A11106,'Banco de Funcionários'!$A$2:$D$1048576,2,0),0)","v":0},null,null,null,null,null,"00:00:00",null,"00:00:00","00:00:00"]
[null,{"$f":"IFERROR(VLOOKUP(A11112,'Banco de Funcionários'!$A$2:$D$1048576,2,0),0)","v":0},null,null,null,null,null,"00:00:00",null,"00:00:00","00:00:00"]
[null,{"$f":"IFERROR(VLOOKUP(A11117,'Banco de Funcionários'!$A$2:$D$1048576,2,0),0)","v":0},null,null,null,null,null,"00:00:00",null,"00:00:00","00:00:00"]
[null,{"$f":"IFERROR(VLOOKUP(A11122,'Banco de Funcionários'!$A$2:$D$1048576,2,0),0)","v":0},null,null,null,null,null,"00:00:00",null,"00:00:00","00:00:00"]
[null,{"$f":"IFERROR(VLOOKUP(A11128,'Banco de Funcionários'!$A$2:$D$1048576,2,0),0)","v":0},null,null,null,null,null,"00:00:00",null,"00:00:00","00:00:00"]
[null,{"$f":"IFERROR(VLOOKUP(A11132,'Banco de Funcionários'!$A$2:$D$1048576,2,0),0)","v":0},null,null,null,null,null,"00:00:00",null,"00:00:00","00:00:00"]
[null,{"$f":"IFERROR(VLOOKUP(A11137,'Banco de Funcionários'!$A$2:$D$1048576,2,0),0)","v":0},null,null,null,null,null,"00:00:00",null,"00:00:00","00:00:00"]
[null,{"$f":"IFERROR(VLOOKUP(A11138,'Banco de Funcionários'!$A$2:$D$1048576,2,0),0)","v":0},null,null,null,null,null,"00:00:00",null,"00:00:00","00:00:00"]
[null,{"$f":"IFERROR(VLOOKUP(A11143,'Banco de Funcionários'!$A$2:$D$1048576,2,0),0)","v":0},null,null,null,null,null,"00:00:00",null,"00:00:00","00:00:00"]
[null,{"$f":"IFERROR(VLOOKUP(A11149,'Banco de Funcionários'!$A$2:$D$1048576,2,0),0)","v":0},null,null,null,null,null,"00:00:00",null,"00:00:00","00:00:00"]
[null,{"$f":"IFERROR(VLOOKUP(A11154,'Banco de Funcionários'!$A$2:$D$1048576,2,0),0)","v":0},null,null,null,null,null,"00:00:00",null,"00:00:00","00:00:00"]
[null,{"$f":"IFERROR(VLOOKUP(A11159,'Banco de Funcionários'!$A$2:$D$1048576,2,0),0)","v":0},null,null,null,null,null,"00:00:00",null,"00:00:00","00:00:00"]
[null,{"$f":"IFERROR(VLOOKUP(A11165,'Banco de Funcionários'!$A$2:$D$1048576,2,0),0)","v":0},null,null,null,null,null,"00:00:00",null,"00:00:00","00:00:00"]
[null,{"$f":"IFERROR(VLOOKUP(A11170,'Banco de Funcionários'!$A$2:$D$1048576,2,0),0)","v":0},null,null,null,null,null,"00:00:00",null,"00:00:00","00:00:00"]
[null,{"$f":"IFERROR(VLOOKUP(A11176,'Banco de Funcionários'!$A$2:$D$1048576,2,0),0)","v":0},null,null,null,null,null,"00:00:00",null,"00:00:00","00:00:00"]
[null,{"$f":"IFERROR(VLOOKUP(A11181,'Banco de Funcionários'!$A$2:$D$1048576,2,0),0)","v":0},null,null,null,null,null,"00:00:00",null,"00:00:00","00:00:00"]
[null,{"$f":"IFERROR(VLOOKUP(A11186,'Banco de Funcionários'!$A$2:$D$1048576,2,0),0)","v":0},null,null,null,null,null,"00:00:00",null,"00:00:00","00:00:00"]
[null,{"$f":"IFERROR(VLOOKUP(A11192,'Banco de Funcionários'!$A$2:$D$1048576,2,0),0)","v":0},null,null,null,null,null,"00:00:00",null,"00:00:00","00:00:00"]
[null,{"$f":"IFERROR(VLOOKUP(A11197,'Banco de Funcionários'!$A$2:$D$1048576,2,0),0)","v":0},null,null,null,null,null,"00:00:00",null,"00:00:00","00:00:00"]
[null,{"$f":"IFERROR(VLOOKUP(A11202,'Banco de Funcionários'!$A$2:$D$1048576,2,0),0)","v":0},null,null,null,null,null,"00:00:00",null,"00:00:00","00:00:00"]
[null,{"$f":"IFERROR(VLOOKUP(A11203,'Banco de Funcionários'!$A$2:$D$1048576,2,0),0)","v":0},null,null,null,null,null,{"$f":"(F11203-E11203)-G11203","v":"00:00:00"},null,{"$f":"IFERROR(H11203-I11203,\"\")","v":"00:00:00"},{"$f":"IFERROR(H11203+J11203,0)","v":"00:00:00"}]
[null,{"$f":"IFERROR(VLOOKUP(A11208,'Banco de Funcionários'!$A$2:$D$1048576,2,0),0)","v":0},null,null,null,null,null,"00:00:00",null,"00:00:00","00:00:00"]
[null,{"$f":"IFERROR(VLOOKUP(A11214,'Banco de Funcionários'!$A$2:$D$1048576,2,0),0)","v":0},null,null,null,null,null,"00:00:00",null,"00:00:00","00:00:00"]
[null,{"$f":"IFERROR(VLOOKUP(A11219,'Banco de Funcionários'!$A$2:$D$1048576,2,0),0)","v":0},null,null,null,null,null,"00:00:00",null,"00:00:00","00:00:00"]
[null,{"$f":"IFERROR(VLOOKUP(A11224,'Banco de Funcionários'!$A$2:$D$1048576,2,0),0)","v":0},null,null,null,null,null,"00:00:00",null,"00:00:00","00:00:00"]
[null,{"$f":"IFERROR(VLOOKUP(A11230,'Banco de Funcionários'!$A$2:$D$1048576,2,0),0)","v":0},null,null,null,null,null,"00:00:00",null,"00:00:00","00:00:00"]
[null,{"$f":"IFERROR(VLOOKUP(A11235,'Banco de Funcionários'!$A$2:$D$1048576,2,0),0)","v":0},null,null,null,null,null,"00:00:00",null,"00:00:00","00:00:00"]
[null,{"$f":"IFERROR(VLOOKUP(A11240,'Banco de Funcionários'!$A$2:$D$1048576,2,0),0)","v":0},null,null,null,null,null,"00:00:00",null,"00:00:00","00:00:00"]
[null,{"$f":"IFERROR(VLOOKUP(A11245,'Banco de Funcionários'!$A$2:$D$1048576,2,0),0)","v":0},null,null,null,null,null,"00:00:00",null,"00:00:00","00:00:00"]
[null,{"$f":"IFERROR(VLOOKUP(A11250,'Banco de Funcionários'!$A$2:$D$1048576,2,0),0)","v":0},null,null,null,null,null,"00:00:00",null,"00:00:00","00:00:00"]
[null,{"$f":"IFERROR(VLOOKUP(A11256,'Banco de Funcionários'!$A$2:$D$1048576,2,0),0)","v":0},null,null,null,null,null,"00:00:00",null,"00:00:00","00:00:00"]
[null,{"$f":"IFERROR(VLOOKUP(A11261,'Banco de Funcionários'!$A$2:$D$1048576,2,0),0)","v":0},null,null,null,null,null,"00:00:00",null,"00:00:00","00:00:00"]
[null,{"$f":"IFERROR(VLOOKUP(A11266,'Banco de Funcionários'!$A$2:$D$1048576,2,0),0)","v":0},null,null,null,null,null,"00:00:00",null,"00:00:00","00:00:00"]
[null,{"$f":"IFERROR(VLOOKUP(A11267,'Banco de Funcionários'!$A$2:$D$1048576,2,0),0)","v":0},null,null,null,null,null,{"$f":"(F11267-E11267)-G11267","v":"00:00:00"},null,{"$f":"IFERROR(H11267-I11267,\"\")","v":"00:00:00"},{"$f":"IFERROR(H11267+J11267,0)","v":"00:00:00"}]
[null,{"$f":"IFERROR(VLOOKUP(A11272,'Banco de Funcionários'!$A$2:$D$1048576,2,0),0)","v":0},null,null,null,null,null,"00:00:00",null,"00:00:00","00:00:00"]
[null,{"$f":"IFERROR(VLOOKUP(A11278,'Banco de Funcionários'!$A$2:$D$1048576,2,0),0)","v":0},null,null,null,null,null,"00:00:00",null,"00:00:00","00:00:00"]
[null,{"$f":"IFERROR(VLOOKUP(A11283,'Banco de Funcionários'!$A$2:$D$1048576,2,0),0)","v":0},null,null,null,null,null,"00:00:00",null,"00:00:00","00:00:00"]
[null,{"$f":"IFERROR(VLOOKUP(A11288,'Banco de Funcionários'!$A$2:$D$1048576,2,0),0)","v":0},null,null,null,null,null,"00:00:00",null,"00:00:00","00:00:00"]
[null,{"$f":"IFERROR(VLOOKUP(A11294,'Banco de Funcionários'!$A$2:$D$1048576,2,0),0)","v":0},null,null,null,null,null,"00:00:00",null,"00:00:00","00:00:00"]
[null,{"$f":"IFERROR(VLOOKUP(A11299,'Banco de Funcionários'!$A$2:$D$1048576,2,0),0)","v":0},null,null,null,null,null,"00:00:00",null,"00:00:00","00:00:00"]
[null,{"$f":"IFERROR(VLOOKUP(A11304,'Banco de Funcionários'!$A$2:$D$1048576,2,0),0)","v":0},null,null,null,null,null,"00:00:00",null,"00:00:00","00:00:00"]
[null,{"$f":"IFERROR(VLOOKUP(A11310,'Banco de Funcionários'!$A$2:$D$1048576,2,0),0)","v":0},null,null,null,null,null,"00:00:00",null,"00:00:00","00:00:00"]
[null,{"$f":"IFERROR(VLOOKUP(A11315,'Banco de Funcionários'!$A$2:$D$1048576,2,0),0)","v":0},null,null,null,null,null,"00:00:00",null,"00:00:00","00:00:00"]
[null,{"$f":"IFERROR(VLOOKUP(A11321,'Banco de Funcionários'!$A$2:$D$1048576,2,0),0)","v":0},null,null,null,null,null,"00:00:00",null,"00:00:00","00:00:00"]
[null,{"$f":"IFERROR(VLOOKUP(A11326,'Banco de Funcionários'!$A$2:$D$1048576,2,0),0)","v":0},null,null,null,null,null,"00:00:00",null,"00:00:00","00:00:00"]
[null,{"$f":"IFERROR(VLOOKUP(A11331,'Banco de Funcionários'!$A$2:$D$1048576,2,0),0)","v":0},null,null,null,null,null,{"$f":"(F11331-E11331)-G11331","v":"00:00:00"},null,{"$f":"IFERROR(H11331-I11331,\"\")","v":"00:00:00"},{"$f":"IFERROR(H11331+J11331,0)","v":"00:00:00"}]
[null,{"$f":"IFERROR(VLOOKUP(A11332,'Banco de Funcionários'!$A$2:$D$1048576,2,0),0)","v":0},null,null,null,null,null,"00:00:00",null,"00:00:00","00:00:00"]
[null,{"$f":"IFERROR(VLOOKUP(A11337,'Banco de Funcionários'!$A$2:$D$1048576,2,0),0)","v":0},null,null,null,null,null,"00:00:00",null,"00:00:00","00:00:00"]
[null,{"$f":"IFERROR(VLOOKUP(A11343,'Banco de Funcionários'!$A$2:$D$1048576,2,0),0)","v":0},null,null,null,null,null,"00:00:00",null,"00:00:00","00:00:00"]
[null,{"$f":"IFERROR(VLOOKUP(A11348,'Banco de Funcionários'!$A$2:$D$1048576,2,0),0)","v":0},null,null,null,null,null,"00:00:00",null,"00:00:00","00:00:00"]
[null,{"$f":"IFERROR(VLOOKUP(A11352,'Banco de Funcionários'!$A$2:$D$1048576,2,0),0)","v":0},null,null,null,null,null,"00:00:00",null,"00:00:00","00:00:00"]
[null,{"$f":"IFERROR(VLOOKUP(A11358,'Banco de Funcionários'!$A$2:$D$1048576,2,0),0)","v":0},null,null,null,null,null,"00:00:00",null,"00:00:00","00:00:00"]
[null,{"$f":"IFERROR(VLOOKUP(A11363,'Banco de Funcionários'!$A$2:$D$1048576,2,0),0)","v":0},null,null,null,null,null,"00:00:00",null,"00:00:00","00:00:00"]
[null,{"$f":"IFERROR(VLOOKUP(A11368,'Banco de Funcionários'!$A$2:$D$1048576,2,0),0)","v":0},null,null,null,null,null,"00:00:00",null,"00:00:00","00:00:00"]
[null,{"$f":"IFERROR(VLOOKUP(A11374,'Banco de Funcionários'!$A$2:$D$1048576,2,0),0)","v":0},null,null,null,null,null,"00:00:00",null,"00:00:00","00:00:00"]
[null,{"$f":"IFERROR(VLOOKUP(A11379,'Banco de Funcionários'!$A$2:$D$1048576,2,0),0)","v":0},null,null,null,null,null,"00:00:00",null,"00:00:00","00:00:00"]
[null,{"$f":"IFERROR(VLOOKUP(A11385,'Banco de Funcionários'!$A$2:$D$1048576,2,0),0)","v":0},null,null,null,null,null,"00:00:00",null,"00:00:00","00:00:00"]
[null,{"$f":"IFERROR(VLOOKUP(A11390,'Banco de Funcionários'!$A$2:$D$1048576,2,0),0)","v":0},null,null,null,null,null,"00:00:00",null,"00:00:00","00:00:00"]
[null,{"$f":"IFERROR(VLOOKUP(A11395,'Banco de Funcionários'!$A$2:$D$1048576,2,0),0)","v":0},null,null,null,null,null,{"$f":"(F11395-E11395)-G11395","v":"00:00:00"},null,{"$f":"IFERROR(H11395-I11395,\"\")","v":"00:00:00"},{"$f":"IFERROR(H11395+J11395,0)","v":"00:00:00"}]
[null,{"$f":"IFERROR(VLOOKUP(A11396,'Banco de Funcionários'!$A$2:$D$1048576,2,0),0)","v":0},null,null,null,null,null,"00:00:00",null,"00:00:00","00:00:00"]
[null,{"$f":"IFERROR(VLOOKUP(A11401,'Banco de Funcionários'!$A$2:$D$1048576,2,0),0)","v":0},null,null,null,null,null,"00:00:00",null,"00:00:00","00:00:00"]
[null,{"$f":"IFERROR(VLOOKUP(A11406,'Banco de Funcionários'!$A$2:$D$1048576,2,0),0)","v":0},null,null,null,null,null,"00:00:00",null,"00:00:00","00:00:00"]
[null,{"$f":"IFERROR(VLOOKUP(A11412,'Banco de Funcionários'!$A$2:$D$1048576,2,0),0)","v":0},null,null,null,null,null,"00:00:00",null,"00:00:00","00:00:00"]
[null,{"$f":"IFERROR(VLOOKUP(A11417,'Banco de Funcionários'!$A$2:$D$1048576,2,0),0)","v":0},null,null,null,null,null,"00:00:00",null,"00:00:00","00:00:00"]
[null,{"$f":"IFERROR(VLOOKUP(A11423,'Banco de Funcionários'!$A$2:$D$1048576,2,0),0)","v":0},null,null,null,null,null,"00:00:00",null,"00:00:00","00:00:00"]
[null,{"$f":"IFERROR(VLOOKUP(A11428,'Banco de Funcionários'!$A$2:$D$1048576,2,0),0)","v":0},null,null,null,null,null,"00:00:00",null,"00:00:00","00:00:00"]
[null,{"$f":"IFERROR(VLOOKUP(A11433,'Banco de Funcionários'!$A$2:$D$1048576,2,0),0)","v":0},null,null,null,null,null,"00:00:00",null,"00:00:00","00:00:00"]
[null,{"$f":"IFERROR(VLOOKUP(A11439,'Banco de Funcionários'!$A$2:$D$1048576,2,0),0)","v":0},null,null,null,null,null,"00:00:00",null,"00:00:00","00:00:00"]
[null,{"$f":"IFERROR(VLOOKUP(A11444,'Banco de Funcionários'!$A$2:$D$1048576,2,0),0)","v":0},null,null,null,null,null,"00:00:00",null,"00:00:00","00:00:00"]
[null,{"$f":"IFERROR(VLOOKUP(A11450,'Banco de Funcionários'!$A$2:$D$1048576,2,0),0)","v":0},null,null,null,null,null,"00:00:00",null,"00:00:00","00:00:00"]
[null,{"$f":"IFERROR(VLOOKUP(A11455,'Banco de Funcionários'!$A$2:$D$1048576,2,0),0)","v":0},null,null,null,null,null,"00:00:00",null,"00:00:00","00:00:00"]
[null,{"$f":"IFERROR(VLOOKUP(A11460,'Banco de Funcionários'!$A$2:$D$1048576,2,0),0)","v":0},null,null,null,null,null,"00:00:00",null,"00:00:00","00:00:00"]
[null,{"$f":"IFERROR(VLOOKUP(A11461,'Banco de Funcionários'!$A$2:$D$1048576,2,0),0)","v":0},null,null,null,null,null,"00:00:00",null,"00:00:00","00:00:00"]
[null,{"$f":"IFERROR(VLOOKUP(A11469,'Banco de Funcionários'!$A$2:$D$1048576,2,0),0)","v":0},null,null,null,null,null,"00:00:00",null,"00:00:00","00:00:00"]
[null,{"$f":"IFERROR(VLOOKUP(A11470,'Banco de Funcionários'!$A$2:$D$1048576,2,0),0)","v":0},null,null,null,null,null,"00:00:00",null,"00:00:00","00:00:00"]
[null,{"$f":"IFERROR(VLOOKUP(A11476,'Banco de Funcionários'!$A$2:$D$1048576,2,0),0)","v":0},null,null,null,null,null,"00:00:00",null,"00:00:00","00:00:00"]
[null,{"$f":"IFERROR(VLOOKUP(A11481,'Banco de Funcionários'!$A$2:$D$1048576,2,0),0)","v":0},null,null,null,null,null,"00:00:00",null,"00:00:00","00:00:00"]
[null,{"$f":"IFERROR(VLOOKUP(A11487,'Banco de Funcionários'!$A$2:$D$1048576,2,0),0)","v":0},null,null,null,null,null,"00:00:00",null,"00:00:00","00:00:00"]
[null,{"$f":"IFERROR(VLOOKUP(A11492,'Banco de Funcionários'!$A$2:$D$1048576,2,0),0)","v":0},null,null,null,null,null,"00:00:00",null,"00:00:00","00:00:00"]
[null,{"$f":"IFERROR(VLOOKUP(A11497,'Banco de Funcionários'!$A$2:$D$1048576,2,0),0)","v":0},null,null,null,null,null,"00:00:00",null,"00:00:00","00:00:00"]
[null,{"$f":"IFERROR(VLOOKUP(A11503,'Banco de Funcionários'!$A$2:$D$1048576,2,0),0)","v":0},null,null,null,null,null,"00:00:00",null,"00:00:00","00:00:00"]
[null,{"$f":"IFERROR(VLOOKUP(A11508,'Banco de Funcionários'!$A$2:$D$1048576,2,0),0)","v":0},null,null,null,null,null,"00:00:00",null,"00:00:00","00:00:00"]
[null,{"$f":"IFERROR(VLOOKUP(A11513,'Banco de Funcionários'!$A$2:$D$1048576,2,0),0)","v":0},null,null,null,null,null,"00:00:00",null,"00:00:00","00:00:00"]
[null,{"$f":"IFERROR(VLOOKUP(A11519,'Banco de Funcionários'!$A$2:$D$1048576,2,0),0)","v":0},null,null,null,null,null,"00:00:00",null,"00:00:00","00:00:00"]
[null,{"$f":"IFERROR(VLOOKUP(A11524,'Banco de Funcionários'!$A$2:$D$1048576,2,0),0)","v":0},null,null,null,null,null,"00:00:00",null,"00:00:00","00:00:00"]
[null,{"$f":"IFERROR(VLOOKUP(A11525,'Banco de Funcionários'!$A$2:$D$1048576,2,0),0)","v":0},null,null,null,null,null,"00:00:00",null,"00:00:00","00:00:00"]
[null,{"$f":"IFERROR(VLOOKUP(A11530,'Banco de Funcionários'!$A$2:$D$1048576,2,0),0)","v":0},null,null,null,null,null,"00:00:00",null,"00:00:00","00:00:00"]
[null,{"$f":"IFERROR(VLOOKUP(A11535,'Banco de Funcionários'!$A$2:$D$1048576,2,0),0)","v":0},null,null,null,null,null,"00:00:00",null,"00:00:00","00:00:00"]
[null,{"$f":"IFERROR(VLOOKUP(A11541,'Banco de Funcionários'!$A$2:$D$1048576,2,0),0)","v":0},null,null,null,null,null,"00:00:00",null,"00:00:00","00:00:00"]
[null,{"$f":"IFERROR(VLOOKUP(A11546,'Banco de Funcionários'!$A$2:$D$1048576,2,0),0)","v":0},null,null,null,null,null,"00:00:00",null,"00:00:00","00:00:00"]
[null,{"$f":"IFERROR(VLOOKUP(A11552,'Banco de Funcionários'!$A$2:$D$1048576,2,0),0)","v":0},null,null,null,null,null,"00:00:00",null,"00:00:00","00:00:00"]
[null,{"$f":"IFERROR(VLOOKUP(A11557,'Banco de Funcionários'!$A$2:$D$1048576,2,0),0)","v":0},null,null,null,null,null,"00:00:00",null,"00:00:00","00:00:00"]
[null,{"$f":"IFERROR(VLOOKUP(A11562,'Banco de Funcionários'!$A$2:$D$1048576,2,0),0)","v":0},null,null,null,null,null,"00:00:00",null,"00:00:00","00:00:00"]
[null,{"$f":"IFERROR(VLOOKUP(A11568,'Banco de Funcionários'!$A$2:$D$1048576,2,0),0)","v":0},null,null,null,null,null,"00:00:00",null,"00:00:00","00:00:00"]
[null,{"$f":"IFERROR(VLOOKUP(A11573,'Banco de Funcionários'!$A$2:$D$1048576,2,0),0)","v":0},null,null,null,null,null,"00:00:00",null,"00:00:00","00:00:00"]
[null,{"$f":"IFERROR(VLOOKUP(A11576,'Banco de Funcionários'!$A$2:$D$1048576,2,0),0)","v":0},null,null,null,null,null,"00:00:00",null,"00:00:00","00:00:00"]
[null,{"$f":"IFERROR(VLOOKUP(A11583,'Banco de Funcionários'!$A$2:$D$1048576,2,0),0)","v":0},null,null,null,null,null,"00:00:00",null,"00:00:00","00:00:00"]
[null,{"$f":"IFERROR(VLOOKUP(A11588,'Banco de Funcionários'!$A$2:$D$1048576,2,0),0)","v":0},null,null,null,null,null,"00:00:00",null,"00:00:00","00:00:00"]
[null,{"$f":"IFERROR(VLOOKUP(A11589,'Banco de Funcionários'!$A$2:$D$1048576,2,0),0)","v":0},null,null,null,null,null,"00:00:00",null,"00:00:00","00:00:00"]
[null,{"$f":"IFERROR(VLOOKUP(A11594,'Banco de Funcionários'!$A$2:$D$1048576,2,0),0)","v":0},null,null,null,null,null,"00:00:00",null,"00:00:00","00:00:00"]
[null,{"$f":"IFERROR(VLOOKUP(A11599,'Banco de Funcionários'!$A$2:$D$1048576,2,0),0)","v":0},null,null,null,null,null,"00:00:00",null,"00:00:00","00:00:00"]
[null,{"$f":"IFERROR(VLOOKUP(A11605,'Banco de Funcionários'!$A$2:$D$1048576,2,0),0)","v":0},null,null,null,null,null,"00:00:00",null,"00:00:00","00:00:00"]
[null,{"$f":"IFERROR(VLOOKUP(A11610,'Banco de Funcionários'!$A$2:$D$1048576,2,0),0)","v":0},null,null,null,null,null,"00:00:00",null,"00:00:00","00:00:00"]
[null,{"$f":"IFERROR(VLOOKUP(A11616,'Banco de Funcionários'!$A$2:$D$1048576,2,0),0)","v":0},null,null,null,null,null,"00:00:00",null,"00:00:00","00:00:00"]
[null,{"$f":"IFERROR(VLOOKUP(A11621,'Banco de Funcionários'!$A$2:$D$1048576,2,0),0)","v":0},null,null,null,null,null,"00:00:00",null,"00:00:00","00:00:00"]
[null,{"$f":"IFERROR(VLOOKUP(A11626,'Banco de Funcionários'!$A$2:$D$1048576,2,0),0)","v":0},null,null,null,null,null,"00:00:00",null,"00:00:00","00:00:00"]
[null,{"$f":"IFERROR(VLOOKUP(A11632,'Banco de Funcionários'!$A$2:$D$1048576,2,0),0)","v":0},null,null,null,null,null,"00:00:00",null,"00:00:00","00:00:00"]
[null,{"$f":"IFERROR(VLOOKUP(A11637,'Banco de Funcionários'!$A$2:$D$1048576,2,0),0)","v":0},null,null,null,null,null,"00:00:00",null,"00:00:00","00:00:00"]
[null,{"$f":"IFERROR(VLOOKUP(A11642,'Banco de Funcionários'!$A$2:$D$1048576,2,0),0)","v":0},null,null,null,null,null,"00:00:00",null,"00:00:00","00:00:00"]
[null,{"$f":"IFERROR(VLOOKUP(A11648,'Banco de Funcionários'!$A$2:$D$1048576,2,0),0)","v":0},null,null,null,null,null,"00:00:00",null,"00:00:00","00:00:00"]
[null,{"$f":"IFERROR(VLOOKUP(A11653,'Banco de Funcionários'!$A$2:$D$1048576,2,0),0)","v":0},null,null,null,null,null,"00:00:00",null,"00:00:00","00:00:00"]
[null,{"$f":"IFERROR(VLOOKUP(A11654,'Banco de Funcionários'!$A$2:$D$1048576,2,0),0)","v":0},null,null,null,null,null,"00:00:00",null,"00:00:00","00:00:00"]
[null,{"$f":"IFERROR(VLOOKUP(A11659,'Banco de Funcionários'!$A$2:$D$1048576,2,0),0)","v":0},null,null,null,null,null,"00:00:00",null,"00:00:00","00:00:00"]
[null,{"$f":"IFERROR(VLOOKUP(A11664,'Banco de Funcionários'!$A$2:$D$1048576,2,0),0)","v":0},null,null,null,null,null,"00:00:00",null,"00:00:00","00:00:00"]
[null,{"$f":"IFERROR(VLOOKUP(A11670,'Banco de Funcionários'!$A$2:$D$1048576,2,0),0)","v":0},null,null,null,null,null,"00:00:00",null,"00:00:00","00:00:00"]
[null,{"$f":"IFERROR(VLOOKUP(A11675,'Banco de Funcionários'!$A$2:$D$1048576,2,0),0)","v":0},null,null,null,null,null,"00:00:00",null,"00:00:00","00:00:00"]
[null,{"$f":"IFERROR(VLOOKUP(A11680,'Banco de Funcionários'!$A$2:$D$1048576,2,0),0)","v":0},null,null,null,null,null,"00:00:00",null,"00:00:00","00:00:00"]
[null,{"$f":"IFERROR(VLOOKUP(A11686,'Banco de Funcionários'!$A$2:$D$1048576,2,0),0)","v":0},null,null,null,null,null,"00:00:00",null,"00:00:00","00:00:00"]
[null,{"$f":"IFERROR(VLOOKUP(A11689,'Banco de Funcionários'!$A$2:$D$1048576,2,0),0)","v":0},null,null,null,null,null,"00:00:00",null,"00:00:00","00:00:00"]
[null,{"$f":"IFERROR(VLOOKUP(A11696,'Banco de Funcionários'!$A$2:$D$1048576,2,0),0)","v":0},null,null,null,null,null,"00:00:00",null,"00:00:00","00:00:00"]
[null,{"$f":"IFERROR(VLOOKUP(A11701,'Banco de Funcionários'!$A$2:$D$1048576,2,0),0)","v":0},null,null,null,null,null,"00:00:00",null,"00:00:00","00:00:00"]
[null,{"$f":"IFERROR(VLOOKUP(A11706,'Banco de Funcionários'!$A$2:$D$1048576,2,0),0)","v":0},null,null,null,null,null,"00:00:00",null,"00:00:00","00:00:00"]
[null,{"$f":"IFERROR(VLOOKUP(A11712,'Banco de Funcionários'!$A$2:$D$1048576,2,0),0)","v":0},null,null,null,null,null,"00:00:00",null,"00:00:00","00:00:00"]
[null,{"$f":"IFERROR(VLOOKUP(A11717,'Banco de Funcionários'!$A$2:$D$1048576,2,0),0)","v":0},null,null,null,null,null,"00:00:00",null,"00:00:00","00:00:00"]
[null,{"$f":"IFERROR(VLOOKUP(A11718,'Banco de Funcionários'!$A$2:$D$1048576,2,0),0)","v":0},null,null,null,null,null,"00:00:00",null,"00:00:00","00:00:00"]
[null,{"$f":"IFERROR(VLOOKUP(A11723,'Banco de Funcionários'!$A$2:$D$1048576,2,0),0)","v":0},null,null,null,null,null,"00:00:00",null,"00:00:00","00:00:00"]
[null,{"$f":"IFERROR(VLOOKUP(A11728,'Banco de Funcionários'!$A$2:$D$1048576,2,0),0)","v":0},null,null,null,null,null,"00:00:00",null,"00:00:00","00:00:00"]
[null,{"$f":"IFERROR(VLOOKUP(A11734,'Banco de Funcionários'!$A$2:$D$1048576,2,0),0)","v":0},null,null,null,null,null,"00:00:00",null,"00:00:00","00:00:00"]
[null,{"$f":"IFERROR(VLOOKUP(A11739,'Banco de Funcionários'!$A$2:$D$1048576,2,0),0)","v":0},null,null,null,null,null,"00:00:00",null,"00:00:00","00:00:00"]
[null,{"$f":"IFERROR(VLOOKUP(A11744,'Banco de Funcionários'!$A$2:$D$1048576,2,0),0)","v":0},null,null,null,null,null,"00:00:00",null,"00:00:00","00:00:00"]
[null,{"$f":"IFERROR(VLOOKUP(A11750,'Banco de Funcionários'!$A$2:$D$1048576,2,0),0)","v":0},null,null,null,null,null,"00:00:00",null,"00:00:00","00:00:00"]
[null,{"$f":"IFERROR(VLOOKUP(A11755,'Banco de Funcionários'!$A$2:$D$1048576,2,0),0)","v":0},null,null,null,null,null,"00:00:00",null,"00:00:00","00:00:00"]
[null,{"$f":"IFERROR(VLOOKUP(A11761,'Banco de Funcionários'!$A$2:$D$1048576,2,0),0)","v":0},null,null,null,null,null,"00:00:00",null,"00:00:00","00:00:00"]
[null,{"$f":"IFERROR(VLOOKUP(A11766,'Banco de Funcionários'!$A$2:$D$1048576,2,0),0)","v":0},null,null,null,null,null,"00:00:00",null,"00:00:00","00:00:00"]
[null,{"$f":"IFERROR(VLOOKUP(A11771,'Banco de Funcionários'!$A$2:$D$1048576,2,0),0)","v":0},null,null,null,null,null,"00:00:00",null,"00:00:00","00:00:00"]
[null,{"$f":"IFERROR(VLOOKUP(A11777,'Banco de Funcionários'!$A$2:$D$1048576,2,0),0)","v":0},null,null,null,null,null,"00:00:00",null,"00:00:00","00:00:00"]
[null,{"$f":"IFERROR(VLOOKUP(A11782,'Banco de Funcionários'!$A$2:$D$1048576,2,0),0)","v":0},null,null,null,null,null,"00:00:00",null,"00:00:00","00:00:00"]
[null,{"$f":"IFERROR(VLOOKUP(A11783,'Banco de Funcionários'!$A$2:$D$1048576,2,0),0)","v":0},null,null,null,null,null,"00:00:00",null,"00:00:00","00:00:00"]
[null,{"$f":"IFERROR(VLOOKUP(A11788,'Banco de Funcionários'!$A$2:$D$1048576,2,0),0)","v":0},null,null,null,null,null,"00:00:00",null,"00:00:00","00:00:00"]
[null,{"$f":"IFERROR(VLOOKUP(A11793,'Banco de Funcionários'!$A$2:$D$1048576,2,0),0)","v":0},null,null,null,null,null,"00:00:00",null,"00:00:00","00:00:00"]
[null,{"$f":"IFERROR(VLOOKUP(A11800,'Banco de Funcionários'!$A$2:$D$1048576,2,0),0)","v":0},null,null,null,null,null,"00:00:00",null,"00:00:00","00:00:00"]
[null,{"$f":"IFERROR(VLOOKUP(A11803,'Banco de Funcionários'!$A$2:$D$1048576,2,0),0)","v":0},null,null,null,null,null,"00:00:00",null,"00:00:00","00:00:00"]
[null,{"$f":"IFERROR(VLOOKUP(A11808,'Banco de Funcionários'!$A$2:$D$1048576,2,0),0)","v":0},null,null,null,null,null,"00:00:00",null,"00:00:00","00:00:00"]
[null,{"$f":"IFERROR(VLOOKUP(A11814,'Banco de Funcionários'!$A$2:$D$1048576,2,0),0)","v":0},null,null,null,null,null,"00:00:00",null,"00:00:00","00:00:00"]
[null,{"$f":"IFERROR(VLOOKUP(A11819,'Banco de Funcionários'!$A$2:$D$1048576,2,0),0)","v":0},null,null,null,null,null,"00:00:00",null,"00:00:00","00:00:00"]
[null,{"$f":"IFERROR(VLOOKUP(A11825,'Banco de Funcionários'!$A$2:$D$1048576,2,0),0)","v":0},null,null,null,null,null,"00:00:00",null,"00:00:00","00:00:00"]
[null,{"$f":"IFERROR(VLOOKUP(A11830,'Banco de Funcionários'!$A$2:$D$1048576,2,0),0)","v":0},null,null,null,null,null,"00:00:00",null,"00:00:00","00:00:00"]
[null,{"$f":"IFERROR(VLOOKUP(A11835,'Banco de Funcionários'!$A$2:$D$1048576,2,0),0)","v":0},null,null,null,null,null,"00:00:00",null,"00:00:00","00:00:00"]
[null,{"$f":"IFERROR(VLOOKUP(A11841,'Banco de Funcionários'!$A$2:$D$1048576,2,0),0)","v":0},null,null,null,null,null,"00:00:00",null,"00:00:00","00:00:00"]
[null,{"$f":"IFERROR(VLOOKUP(A11846,'Banco de Funcionários'!$A$2:$D$1048576,2,0),0)","v":0},null,null,null,null,null,"00:00:00",null,"00:00:00","00:00:00"]
[null,{"$f":"IFERROR(VLOOKUP(A11851,'Banco de Funcionários'!$A$2:$D$1048576,2,0),0)","v":0},null,null,null,null,null,"00:00:00",null,"00:00:00","00:00:00"]
[null,{"$f":"IFERROR(VLOOKUP(A11852,'Banco de Funcionários'!$A$2:$D$1048576,2,0),0)","v":0},null,null,null,null,null,"00:00:00",null,"00:00:00","00:00:00"]
[null,{"$f":"IFERROR(VLOOKUP(A11857,'Banco de Funcionários'!$A$2:$D$1048576,2,0),0)","v":0},null,null,null,null,null,"00:00:00",null,"00:00:00","00:00:00"]
[null,{"$f":"IFERROR(VLOOKUP(A11863,'Banco de Funcionários'!$A$2:$D$1048576,2,0),0)","v":0},null,null,null,null,null,"00:00:00",null,"00:00:00","00:00:00"]
[null,{"$f":"IFERROR(VLOOKUP(A11868,'Banco de Funcionários'!$A$2:$D$1048576,2,0),0)","v":0},null,null,null,null,null,"00:00:00",null,"00:00:00","00:00:00"]
[null,{"$f":"IFERROR(VLOOKUP(A11873,'Banco de Funcionários'!$A$2:$D$1048576,2,0),0)","v":0},null,null,null,null,null,"00:00:00",null,"00:00:00","00:00:00"]
[null,{"$f":"IFERROR(VLOOKUP(A11879,'Banco de Funcionários'!$A$2:$D$1048576,2,0),0)","v":0},null,null,null,null,null,"00:00:00",null,"00:00:00","00:00:00"]
[null,{"$f":"IFERROR(VLOOKUP(A11884,'Banco de Funcionários'!$A$2:$D$1048576,2,0),0)","v":0},null,null,null,null,null,"00:00:00",null,"00:00:00","00:00:00"]
[null,{"$f":"IFERROR(VLOOKUP(A11890,'Banco de Funcionários'!$A$2:$D$1048576,2,0),0)","v":0},null,null,null,null,null,"00:00:00",null,"00:00:00","00:00:00"]
[null,{"$f":"IFERROR(VLOOKUP(A11895,'Banco de Funcionários'!$A$2:$D$1048576,2,0),0)","v":0},null,null,null,null,null,"00:00:00",null,"00:00:00","00:00:00"]
[null,{"$f":"IFERROR(VLOOKUP(A11900,'Banco de Funcionários'!$A$2:$D$1048576,2,0),0)","v":0},null,null,null,null,null,"00:00:00",null,"00:00:00","00:00:00"]
[null,{"$f":"IFERROR(VLOOKUP(A11906,'Banco de Funcionários'!$A$2:$D$1048576,2,0),0)","v":0},null,null,null,null,null,"00:00:00",null,"00:00:00","00:00:00"]
[null,{"$f":"IFERROR(VLOOKUP(A11911,'Banco de Funcionários'!$A$2:$D$1048576,2,0),0)","v":0},null,null,null,null,null,"00:00:00",null,"00:00:00","00:00:00"]
[null,{"$f":"IFERROR(VLOOKUP(A11912,'Banco de Funcionários'!$A$2:$D$1048576,2,0),0)","v":0},null,null,null,null,null,"00:00:00",null,"00:00:00","00:00:00"]
[null,{"$f":"IFERROR(VLOOKUP(A11913,'Banco de Funcionários'!$A$2:$D$1048576,2,0),0)","v":0},null,null,null,null,null,"00:00:00",null,"00:00:00","00:00:00"]
[null,{"$f":"IFERROR(VLOOKUP(A11914,'Banco de Funcionários'!$A$2:$D$1048576,2,0),0)","v":0},null,null,null,null,null,"00:00:00",null,"00:00:00","00:00:00"]
[null,{"$f":"IFERROR(VLOOKUP(A11915,'Banco de Funcionários'!$A$2:$D$1048576,2,0),0)","v":0},null,null,null,null,null,"00:00:00",null,"00:00:00","00:00:00"]
[null,{"$f":"IFERROR(VLOOKUP(A11916,'Banco de Funcionários'!$A$2:$D$1048576,2,0),0)","v":0},null,null,null,null,null,"00:00:00",null,"00:00:00","00:00:00"]
[null,{"$f":"IFERROR(VLOOKUP(A11917,'Banco de Funcionários'!$A$2:$D$1048576,2,0),0)","v":0},null,null,null,null,null,"00:00:00",null,"00:00:00","00:00:00"]
[null,{"$f":"IFERROR(VLOOKUP(A11918,'Banco de Funcionários'!$A$2:$D$1048576,2,0),0)","v":0},null,null,null,null,null,"00:00:00",null,"00:00:00","00:00:00"]
[null,{"$f":"IFERROR(VLOOKUP(A11919,'Banco de Funcionários'!$A$2:$D$1048576,2,0),0)","v":0},null,null,null,null,null,"00:00:00",null,"00:00:00","00:00:00"]
[null,{"$f":"IFERROR(VLOOKUP(A11920,'Banco de Funcionários'!$A$2:$D$1048576,2,0),0)","v":0},null,null,null,null,null,"00:00:00",null,"00:00:00","00:00:00"]
[null,{"$f":"IFERROR(VLOOKUP(A11921,'Banco de Funcionários'!$A$2:$D$1048576,2,0),0)","v":0},null,null,null,null,null,"00:00:00",null,"00:00:00","00:00:00"]
[null,{"$f":"IFERROR(VLOOKUP(A11922,'Banco de Funcionários'!$A$2:$D$1048576,2,0),0)","v":0},null,null,null,null,null,"00:00:00",null,"00:00:00","00:00:00"]
[null,{"$f":"IFERROR(VLOOKUP(A11923,'Banco de Funcionários'!$A$2:$D$1048576,2,0),0)","v":0},null,null,null,null,null,"00:00:00",null,"00:00:00","00:00:00"]
[null,{"$f":"IFERROR(VLOOKUP(A11924,'Banco de Funcionários'!$A$2:$D$1048576,2,0),0)","v":0},null,null,null,null,null,"00:00:00",null,"00:00:00","00:00:00"]
[null,{"$f":"IFERROR(VLOOKUP(A11925,'Banco de Funcionários'!$A$2:$D$1048576,2,0),0)","v":0},null,null,null,null,null,"00:00:00",null,"00:00:00","00:00:00"]
[null,{"$f":"IFERROR(VLOOKUP(A11926,'Banco de Funcionários'!$A$2:$D$1048576,2,0),0)","v":0},null,null,null,null,null,"00:00:00",null,"00:00:00","00:00:00"]
[null,{"$f":"IFERROR(VLOOKUP(A11927,'Banco de Funcionários'!$A$2:$D$1048576,2,0),0)","v":0},null,null,null,null,null,"00:00:00",null,"00:00:00","00:00:00"]
[null,{"$f":"IFERROR(VLOOKUP(A11928,'Banco de Funcionários'!$A$2:$D$1048576,2,0),0)","v":0},null,null,null,null,null,"00:00:00",null,"00:00:00","00:00:00"]
[null,{"$f":"IFERROR(VLOOKUP(A11929,'Banco de Funcionários'!$A$2:$D$1048576,2,0),0)","v":0},null,null,null,null,null,"00:00:00",null,"00:00:00","00:00:00"]
[null,{"$f":"IFERROR(VLOOKUP(A11930,'Banco de Funcionários'!$A$2:$D$1048576,2,0),0)","v":0},null,null,null,null,null,"00:00:00",null,"00:00:00","00:00:00"]
[null,{"$f":"IFERROR(VLOOKUP(A11931,'Banco de Funcionários'!$A$2:$D$1048576,2,0),0)","v":0},null,null,null,null,null,"00:00:00",null,"00:00:00","00:00:00"]
[null,{"$f":"IFERROR(VLOOKUP(A11932,'Banco de Funcionários'!$A$2:$D$1048576,2,0),0)","v":0},null,null,null,null,null,"00:00:00",null,"00:00:00","00:00:00"]
[null,{"$f":"IFERROR(VLOOKUP(A11933,'Banco de Funcionários'!$A$2:$D$1048576,2,0),0)","v":0},null,null,null,null,null,"00:00:00",null,"00:00:00","00:00:00"]
[null,{"$f":"IFERROR(VLOOKUP(A11934,'Banco de Funcionários'!$A$2:$D$1048576,2,0),0)","v":0},null,null,null,null,null,"00:00:00",null,"00:00:00","00:00:00"]
[null,{"$f":"IFERROR(VLOOKUP(A11935,'Banco de Funcionários'!$A$2:$D$1048576,2,0),0)","v":0},null,null,null,null,null,"00:00:00",null,"00:00:00","00:00:00"]
[null,{"$f":"IFERROR(VLOOKUP(A11936,'Banco de Funcionários'!$A$2:$D$1048576,2,0),0)","v":0},null,null,null,null,null,"00:00:00",null,"00:00:00","00:00:00"]
[null,{"$f":"IFERROR(VLOOKUP(A11937,'Banco de Funcionários'!$A$2:$D$1048576,2,0),0)","v":0},null,null,null,null,null,"00:00:00",null,"00:00:00","00:00:00"]
[null,{"$f":"IFERROR(VLOOKUP(A11938,'Banco de Funcionários'!$A$2:$D$1048576,2,0),0)","v":0},null,null,null,null,null,"00:00:00",null,"00:00:00","00:00:00"]
[null,{"$f":"IFERROR(VLOOKUP(A11939,'Banco de Funcionários'!$A$2:$D$1048576,2,0),0)","v":0},null,null,null,null,null,"00:00:00",null,"00:00:00","00:00:00"]
[null,{"$f":"IFERROR(VLOOKUP(A11940,'Banco de Funcionários'!$A$2:$D$1048576,2,0),0)","v":0},null,null,null,null,null,"00:00:00",null,"00:00:00","00:00:00"]
[null,{"$f":"IFERROR(VLOOKUP(A11941,'Banco de Funcionários'!$A$2:$D$1048576,2,0),0)","v":0},null,null,null,null,null,"00:00:00",null,"00:00:00","00:00:00"]
[null,{"$f":"IFERROR(VLOOKUP(A11942,'Banco de Funcionários'!$A$2:$D$1048576,2,0),0)","v":0},null,null,null,null,null,"00:00:00",null,"00:00:00","00:00:00"]
[null,{"$f":"IFERROR(VLOOKUP(A11943,'Banco de Funcionários'!$A$2:$D$1048576,2,0),0)","v":0},null,null,null,null,null,"00:00:00",null,"00:00:00","00:00:00"]
[null,{"$f":"IFERROR(VLOOKUP(A11944,'Banco de Funcionários'!$A$2:$D$1048576,2,0),0)","v":0},null,null,null,null,null,"00:00:00",null,"00:00:00","00:00:00"]
[null,{"$f":"IFERROR(VLOOKUP(A11945,'Banco de Funcionários'!$A$2:$D$1048576,2,0),0)","v":0},null,null,null,null,null,"00:00:00",null,"00:00:00","00:00:00"]
[null,{"$f":"IFERROR(VLOOKUP(A11946,'Banco de Funcionários'!$A$2:$D$1048576,2,0),0)","v":0},null,null,null,null,null,"00:00:00",null,"00:00:00","00:00:00"]
[null,{"$f":"IFERROR(VLOOKUP(A11947,'Banco de Funcionários'!$A$2:$D$1048576,2,0),0)","v":0},null,null,null,null,null,"00:00:00",null,"00:00:00","00:00:00"]
[null,{"$f":"IFERROR(VLOOKUP(A11948,'Banco de Funcionários'!$A$2:$D$1048576,2,0),0)","v":0},null,null,null,null,null,"00:00:00",null,"00:00:00","00:00:00"]
[null,{"$f":"IFERROR(VLOOKUP(A11949,'Banco de Funcionários'!$A$2:$D$1048576,2,0),0)","v":0},null,null,null,null,null,"00:00:00",null,"00:00:00","00:00:00"]
[null,{"$f":"IFERROR(VLOOKUP(A11950,'Banco de Funcionários'!$A$2:$D$1048576,2,0),0)","v":0},null,null,null,null,null,"00:00:00",null,"00:00:00","00:00:00"]
[null,{"$f":"IFERROR(VLOOKUP(A11951,'Banco de Funcionários'!$A$2:$D$1048576,2,0),0)","v":0},null,null,null,null,null,"00:00:00",null,"00:00:00","00:00:00"]
[null,{"$f":"IFERROR(VLOOKUP(A11952,'Banco de Funcionários'!$A$2:$D$1048576,2,0),0)","v":0},null,null,null,null,null,"00:00:00",null,"00:00:00","00:00:00"]
[null,{"$f":"IFERROR(VLOOKUP(A11953,'Banco de Funcionários'!$A$2:$D$1048576,2,0),0)","v":0},null,null,null,null,null,"00:00:00",null,"00:00:00","00:00:00"]
[null,{"$f":"IFERROR(VLOOKUP(A11954,'Banco de Funcionários'!$A$2:$D$1048576,2,0),0)","v":0},null,null,null,null,null,"00:00:00",null,"00:00:00","00:00:00"]
[null,{"$f":"IFERROR(VLOOKUP(A11955,'Banco de Funcionários'!$A$2:$D$1048576,2,0),0)","v":0},null,null,null,null,null,"00:00:00",null,"00:00:00","00:00:00"]
[null,{"$f":"IFERROR(VLOOKUP(A11956,'Banco de Funcionários'!$A$2:$D$1048576,2,0),0)","v":0},null,null,null,null,null,"00:00:00",null,"00:00:00","00:00:00"]
[null,{"$f":"IFERROR(VLOOKUP(A11957,'Banco de Funcionários'!$A$2:$D$1048576,2,0),0)","v":0},null,null,null,null,null,"00:00:00",null,"00:00:00","00:00:00"]
[null,{"$f":"IFERROR(VLOOKUP(A11958,'Banco de Funcionários'!$A$2:$D$1048576,2,0),0)","v":0},null,null,null,null,null,"00:00:00",null,"00:00:00","00:00:00"]
[null,{"$f":"IFERROR(VLOOKUP(A11959,'Banco de Funcionários'!$A$2:$D$1048576,2,0),0)","v":0},null,null,null,null,null,"00:00:00",null,"00:00:00","00:00:00"]
[null,{"$f":"IFERROR(VLOOKUP(A11960,'Banco de Funcionários'!$A$2:$D$1048576,2,0),0)","v":0},null,null,null,null,null,"00:00:00",null,"00:00:00","00:00:00"]
[null,{"$f":"IFERROR(VLOOKUP(A11961,'Banco de Funcionários'!$A$2:$D$1048576,2,0),0)","v":0},null,null,null,null,null,"00:00:00",null,"00:00:00","00:00:00"]
[null,{"$f":"IFERROR(VLOOKUP(A11962,'Banco de Funcionários'!$A$2:$D$1048576,2,0),0)","v":0},null,null,null,null,null,"00:00:00",null,"00:00:00","00:00:00"]
[null,{"$f":"IFERROR(VLOOKUP(A11963,'Banco de Funcionários'!$A$2:$D$1048576,2,0),0)","v":0},null,null,null,null,null,"00:00:00",null,"00:00:00","00:00:00"]
[null,{"$f":"IFERROR(VLOOKUP(A11964,'Banco de Funcionários'!$A$2:$D$1048576,2,0),0)","v":0},null,null,null,null,null,"00:00:00",null,"00:00:00","00:00:00"]
[null,{"$f":"IFERROR(VLOOKUP(A11965,'Banco de Funcionários'!$A$2:$D$1048576,2,0),0)","v":0},null,null,null,null,null,"00:00:00",null,"00:00:00","00:00:00"]
[null,{"$f":"IFERROR(VLOOKUP(A11966,'Banco de Funcionários'!$A$2:$D$1048576,2,0),0)","v":0},null,null,null,null,null,"00:00:00",null,"00:00:00","00:00:00"]
[null,{"$f":"IFERROR(VLOOKUP(A11967,'Banco de Funcionários'!$A$2:$D$1048576,2,0),0)","v":0},null,null,null,null,null,"00:00:00",null,"00:00:00","00:00:00"]
[null,{"$f":"IFERROR(VLOOKUP(A11968,'Banco de Funcionários'!$A$2:$D$1048576,2,0),0)","v":0},null,null,null,null,null,"00:00:00",null,"00:00:00","00:00:00"]
[null,{"$f":"IFERROR(VLOOKUP(A11969,'Banco de Funcionários'!$A$2:$D$1048576,2,0),0)","v":0},null,null,null,null,null,"00:00:00",null,"00:00:00","00:00:00"]
[null,{"$f":"IFERROR(VLOOKUP(A11970,'Banco de Funcionários'!$A$2:$D$1048576,2,0),0)","v":0},null,null,null,null,null,"00:00:00",null,"00:00:00","00:00:00"]
[null,{"$f":"IFERROR(VLOOKUP(A11971,'Banco de Funcionários'!$A$2:$D$1048576,2,0),0)","v":0},null,null,null,null,null,{"$f":"(F11971-E11971)-G11971","v":"00:00:00"},null,{"$f":"IFERROR(H11971-I11971,\"\")","v":"00:00:00"},{"$f":"IFERROR(H11971+J11971,0)","v":"00:00:00"}]
[null,{"$f":"IFERROR(VLOOKUP(A11972,'Banco de Funcionários'!$A$2:$D$1048576,2,0),0)","v":0},null,null,null,null,null,"00:00:00",null,"00:00:00","00:00:00"]
[null,{"$f":"IFERROR(VLOOKUP(A11973,'Banco de Funcionários'!$A$2:$D$1048576,2,0),0)","v":0},null,null,null,null,null,"00:00:00",null,"00:00:00","00:00:00"]
[null,{"$f":"IFERROR(VLOOKUP(A11974,'Banco de Funcionários'!$A$2:$D$1048576,2,0),0)","v":0},null,null,null,null,null,"00:00:00",null,"00:00:00","00:00:00"]
[null,{"$f":"IFERROR(VLOOKUP(A11975,'Banco de Funcionários'!$A$2:$D$1048576,2,0),0)","v":0},null,null,null,null,null,"00:00:00",null,"00:00:00","00:00:00"]
[null,{"$f":"IFERROR(VLOOKUP(A11976,'Banco de Funcionários'!$A$2:$D$1048576,2,0),0)","v":0},null,null,null,null,null,"00:00:00",null,"00:00:00","00:00:00"]
[null,{"$f":"IFERROR(VLOOKUP(A11977,'Banco de Funcionários'!$A$2:$D$1048576,2,0),0)","v":0},null,null,null,null,null,"00:00:00",null,"00:00:00","00:00:00"]
[null,{"$f":"IFERROR(VLOOKUP(A11978,'Banco de Funcionários'!$A$2:$D$1048576,2,0),0)","v":0},null,null,null,null,null,"00:00:00",null,"00:00:00","00:00:00"]
[null,{"$f":"IFERROR(VLOOKUP(A11979,'Banco de Funcionários'!$A$2:$D$1048576,2,0),0)","v":0},null,null,null,null,null,"00:00:00",null,"00:00:00","00:00:00"]
[null,{"$f":"IFERROR(VLOOKUP(A11980,'Banco de Funcionários'!$A$2:$D$1048576,2,0),0)","v":0},null,null,null,null,null,"00:00:00",null,"00:00:00","00:00:00"]
[null,{"$f":"IFERROR(VLOOKUP(A11981,'Banco de Funcionários'!$A$2:$D$1048576,2,0),0)","v":0},null,null,null,null,null,"00:00:00",null,"00:00:00","00:00:00"]
[null,{"$f":"IFERROR(VLOOKUP(A11982,'Banco de Funcionários'!$A$2:$D$1048576,2,0),0)","v":0},null,null,null,null,null,"00:00:00",null,"00:00:00","00:00:00"]
[null,{"$f":"IFERROR(VLOOKUP(A11983,'Banco de Funcionários'!$A$2:$D$1048576,2,0),0)","v":0},null,null,null,null,null,"00:00:00",null,"00:00:00","00:00:00"]
[null,{"$f":"IFERROR(VLOOKUP(A11984,'Banco de Funcionários'!$A$2:$D$1048576,2,0),0)","v":0},null,null,null,null,null,"00:00:00",null,"00:00:00","00:00:00"]
[null,{"$f":"IFERROR(VLOOKUP(A11985,'Banco de Funcionários'!$A$2:$D$1048576,2,0),0)","v":0},null,null,null,null,null,"00:00:00",null,"00:00:00","00:00:00"]
[null,{"$f":"IFERROR(VLOOKUP(A11986,'Banco de Funcionários'!$A$2:$D$1048576,2,0),0)","v":0},null,null,null,null,null,"00:00:00",null,"00:00:00","00:00:00"]
[null,{"$f":"IFERROR(VLOOKUP(A11987,'Banco de Funcionários'!$A$2:$D$1048576,2,0),0)","v":0},null,null,null,null,null,"00:00:00",null,"00:00:00","00:00:00"]
[null,{"$f":"IFERROR(VLOOKUP(A11988,'Banco de Funcionários'!$A$2:$D$1048576,2,0),0)","v":0},null,null,null,null,null,"00:00:00",null,"00:00:00","00:00:00"]
[null,{"$f":"IFERROR(VLOOKUP(A11989,'Banco de Funcionários'!$A$2:$D$1048576,2,0),0)","v":0},null,null,null,null,null,"00:00:00",null,"00:00:00","00:00:00"]
[null,{"$f":"IFERROR(VLOOKUP(A11990,'Banco de Funcionários'!$A$2:$D$1048576,2,0),0)","v":0},null,null,null,null,null,"00:00:00",null,"00:00:00","00:00:00"]
[null,{"$f":"IFERROR(VLOOKUP(A11991,'Banco de Funcionários'!$A$2:$D$1048576,2,0),0)","v":0},null,null,null,null,null,"00:00:00",null,"00:00:00","00:00:00"]
[null,{"$f":"IFERROR(VLOOKUP(A11992,'Banco de Funcionários'!$A$2:$D$1048576,2,0),0)","v":0},null,null,null,null,null,"00:00:00",null,"00:00:00","00:00:00"]
[null,{"$f":"IFERROR(VLOOKUP(A11993,'Banco de Funcionários'!$A$2:$D$1048576,2,0),0)","v":0},null,null,null,null,null,"00:00:00",null,"00:00:00","00:00:00"]
[null,{"$f":"IFERROR(VLOOKUP(A11994,'Banco de Funcionários'!$A$2:$D$1048576,2,0),0)","v":0},null,null,null,null,null,"00:00:00",null,"00:00:00","00:00:00"]
[null,{"$f":"IFERROR(VLOOKUP(A11995,'Banco de Funcionários'!$A$2:$D$1048576,2,0),0)","v":0},null,null,null,null,null,"00:00:00",null,"00:00:00","00:00:00"]
[null,{"$f":"IFERROR(VLOOKUP(A11996,'Banco de Funcionários'!$A$2:$D$1048576,2,0),0)","v":0},null,null,null,null,null,"00:00:00",null,"00:00:00","00:00:00"]
[null,{"$f":"IFERROR(VLOOKUP(A11997,'Banco de Funcionários'!$A$2:$D$1048576,2,0),0)","v":0},null,null,null,null,null,"00:00:00",null,"00:00:00","00:00:00"]
[null,{"$f":"IFERROR(VLOOKUP(A11998,'Banco de Funcionários'!$A$2:$D$1048576,2,0),0)","v":0},null,null,null,null,null,"00:00:00",null,"00:00:00","00:00:00"]
[null,{"$f":"IFERROR(VLOOKUP(A11999,'Banco de Funcionários'!$A$2:$D$1048576,2,0),0)","v":0},null,null,null,null,null,"00:00:00",null,"00:00:00","00:00:00"]
[null,{"$f":"IFERROR(VLOOKUP(A12000,'Banco de Funcionários'!$A$2:$D$1048576,2,0),0)","v":0},null,null,null,null,null,"00:00:00",null,"00:00:00","00:00:00"]
[null,{"$f":"IFERROR(VLOOKUP(A12001,'Banco de Funcionários'!$A$2:$D$1048576,2,0),0)","v":0},null,null,null,null,null,"00:00:00",null,"00:00:00","00:00:00"]
[null,{"$f":"IFERROR(VLOOKUP(A12002,'Banco de Funcionários'!$A$2:$D$1048576,2,0),0)","v":0},null,null,null,null,null,"00:00:00",null,"00:00:00","00:00:00"]
[null,{"$f":"IFERROR(VLOOKUP(A12003,'Banco de Funcionários'!$A$2:$D$1048576,2,0),0)","v":0},null,null,null,null,null,"00:00:00",null,"00:00:00","00:00:00"]
[null,{"$f":"IFERROR(VLOOKUP(A12004,'Banco de Funcionários'!$A$2:$D$1048576,2,0),0)","v":0},null,null,null,null,null,"00:00:00",null,"00:00:00","00:00:00"]
[null,{"$f":"IFERROR(VLOOKUP(A12005,'Banco de Funcionários'!$A$2:$D$1048576,2,0),0)","v":0},null,null,null,null,null,"00:00:00",null,"00:00:00","00:00:00"]
[null,{"$f":"IFERROR(VLOOKUP(A12006,'Banco de Funcionários'!$A$2:$D$1048576,2,0),0)","v":0},null,null,null,null,null,"00:00:00",null,"00:00:00","00:00:00"]
[null,{"$f":"IFERROR(VLOOKUP(A12007,'Banco de Funcionários'!$A$2:$D$1048576,2,0),0)","v":0},null,null,null,null,null,"00:00:00",null,"00:00:00","00:00:00"]
[null,{"$f":"IFERROR(VLOOKUP(A12008,'Banco de Funcionários'!$A$2:$D$1048576,2,0),0)","v":0},null,null,null,null,null,"00:00:00",null,"00:00:00","00:00:00"]
[null,{"$f":"IFERROR(VLOOKUP(A12009,'Banco de Funcionários'!$A$2:$D$1048576,2,0),0)","v":0},null,null,null,null,null,"00:00:00",null,"00:00:00","00:00:00"]
[null,{"$f":"IFERROR(VLOOKUP(A12010,'Banco de Funcionários'!$A$2:$D$1048576,2,0),0)","v":0},null,null,null,null,null,"00:00:00",null,"00:00:00","00:00:00"]
[null,{"$f":"IFERROR(VLOOKUP(A12011,'Banco de Funcionários'!$A$2:$D$1048576,2,0),0)","v":0},null,null,null,null,null,"00:00:00",null,"00:00:00","00:00:00"]
[null,{"$f":"IFERROR(VLOOKUP(A12012,'Banco de Funcionários'!$A$2:$D$1048576,2,0),0)","v":0},null,null,null,null,null,"00:00:00",null,"00:00:00","00:00:00"]
[null,{"$f":"IFERROR(VLOOKUP(A12013,'Banco de Funcionários'!$A$2:$D$1048576,2,0),0)","v":0},null,null,null,null,null,"00:00:00",null,"00:00:00","00:00:00"]
[null,{"$f":"IFERROR(VLOOKUP(A12014,'Banco de Funcionários'!$A$2:$D$1048576,2,0),0)","v":0},null,null,null,null,null,"00:00:00",null,"00:00:00","00:00:00"]
[null,{"$f":"IFERROR(VLOOKUP(A12015,'Banco de Funcionários'!$A$2:$D$1048576,2,0),0)","v":0},null,null,null,null,null,"00:00:00",null,"00:00:00","00:00:00"]
[null,{"$f":"IFERROR(VLOOKUP(A12016,'Banco de Funcionários'!$A$2:$D$1048576,2,0),0)","v":0},null,null,null,null,null,"00:00:00",null,"00:00:00","00:00:00"]
[null,{"$f":"IFERROR(VLOOKUP(A12017,'Banco de Funcionários'!$A$2:$D$1048576,2,0),0)","v":0},null,null,null,null,null,"00:00:00",null,"00:00:00","00:00:00"]
[null,{"$f":"IFERROR(VLOOKUP(A12018,'Banco de Funcionários'!$A$2:$D$1048576,2,0),0)","v":0},null,null,null,null,null,"00:00:00",null,"00:00:00","00:00:00"]
[null,{"$f":"IFERROR(VLOOKUP(A12019,'Banco de Funcionários'!$A$2:$D$1048576,2,0),0)","v":0},null,null,null,null,null,"00:00:00",null,"00:00:00","00:00:00"]
[null,{"$f":"IFERROR(VLOOKUP(A12020,'Banco de Funcionários'!$A$2:$D$1048576,2,0),0)","v":0},null,null,null,null,null,"00:00:00",null,"00:00:00","00:00:00"]
[null,{"$f":"IFERROR(VLOOKUP(A12021,'Banco de Funcionários'!$A$2:$D$1048576,2,0),0)","v":0},null,null,null,null,null,"00:00:00",null,"00:00:00","00:00:00"]
[null,{"$f":"IFERROR(VLOOKUP(A12022,'Banco de Funcionários'!$A$2:$D$1048576,2,0),0)","v":0},null,null,null,null,null,"00:00:00",null,"00:00:00","00:00:00"]
[null,{"$f":"IFERROR(VLOOKUP(A12023,'Banco de Funcionários'!$A$2:$D$1048576,2,0),0)","v":0},null,null,null,null,null,"00:00:00",null,"00:00:00","00:00:00"]
[null,{"$f":"IFERROR(VLOOKUP(A12024,'Banco de Funcionários'!$A$2:$D$1048576,2,0),0)","v":0},null,null,null,null,null,"00:00:00",null,"00:00:00","00:00:00"]
[null,{"$f":"IFERROR(VLOOKUP(A12025,'Banco de Funcionários'!$A$2:$D$1048576,2,0),0)","v":0},null,null,null,null,null,"00:00:00",null,"00:00:00","00:00:00"]
[null,{"$f":"IFERROR(VLOOKUP(A12026,'Banco de Funcionários'!$A$2:$D$1048576,2,0),0)","v":0},null,null,null,null,null,"00:00:00",null,"00:00:00","00:00:00"]
[null,{"$f":"IFERROR(VLOOKUP(A12027,'Banco de Funcionários'!$A$2:$D$1048576,2,0),0)","v":0},null,null,null,null,null,"00:00:00",null,"00:00:00","00:00:00"]
[null,{"$f":"IFERROR(VLOOKUP(A12028,'Banco de Funcionários'!$A$2:$D$1048576,2,0),0)","v":0},null,null,null,null,null,"00:00:00",null,"00:00:00","00:00:00"]
[null,{"$f":"IFERROR(VLOOKUP(A12029,'Banco de Funcionários'!$A$2:$D$1048576,2,0),0)","v":0},null,null,null,null,null,"00:00:00",null,"00:00:00","00:00:00"]
[null,{"$f":"IFERROR(VLOOKUP(A12030,'Banco de Funcionários'!$A$2:$D$1048576,2,0),0)","v":0},null,null,null,null,null,"00:00:00",null,"00:00:00","00:00:00"]
[null,{"$f":"IFERROR(VLOOKUP(A12031,'Banco de Funcionários'!$A$2:$D$1048576,2,0),0)","v":0},null,null,null,null,null,"00:00:00",null,"00:00:00","00:00:00"]
[null,{"$f":"IFERROR(VLOOKUP(A12032,'Banco de Funcionários'!$A$2:$D$1048576,2,0),0)","v":0},null,null,null,null,null,"00:00:00",null,"00:00:00","00:00:00"]
[null,{"$f":"IFERROR(VLOOKUP(A12033,'Banco de Funcionários'!$A$2:$D$1048576,2,0),0)","v":0},null,null,null,null,null,"00:00:00",null,"00:00:00","00:00:00"]
[null,{"$f":"IFERROR(VLOOKUP(A12034,'Banco de Funcionários'!$A$2:$D$1048576,2,0),0)","v":0},null,null,null,null,null,"00:00:00",null,"00:00:00","00:00:00"]
[null,{"$f":"IFERROR(VLOOKUP(A12035,'Banco de Funcionários'!$A$2:$D$1048576,2,0),0)","v":0},null,null,null,null,null,{"$f":"(F12035-E12035)-G12035","v":"00:00:00"},null,{"$f":"IFERROR(H12035-I12035,\"\")","v":"00:00:00"},{"$f":"IFERROR(H12035+J12035,0)","v":"00:00:00"}]
[null,{"$f":"IFERROR(VLOOKUP(A12036,'Banco de Funcionários'!$A$2:$D$1048576,2,0),0)","v":0},null,null,null,null,null,"00:00:00",null,"00:00:00","00:00:00"]
[null,{"$f":"IFERROR(VLOOKUP(A12037,'Banco de Funcionários'!$A$2:$D$1048576,2,0),0)","v":0},null,null,null,null,null,"00:00:00",null,"00:00:00","00:00:00"]
[null,{"$f":"IFERROR(VLOOKUP(A12038,'Banco de Funcionários'!$A$2:$D$1048576,2,0),0)","v":0},null,null,null,null,null,"00:00:00",null,"00:00:00","00:00:00"]
[null,{"$f":"IFERROR(VLOOKUP(A12039,'Banco de Funcionários'!$A$2:$D$1048576,2,0),0)","v":0},null,null,null,null,null,"00:00:00",null,"00:00:00","00:00:00"]
[null,{"$f":"IFERROR(VLOOKUP(A12040,'Banco de Funcionários'!$A$2:$D$1048576,2,0),0)","v":0},null,null,null,null,null,"00:00:00",null,"00:00:00","00:00:00"]
[null,{"$f":"IFERROR(VLOOKUP(A12041,'Banco de Funcionários'!$A$2:$D$1048576,2,0),0)","v":0},null,null,null,null,null,"00:00:00",null,"00:00:00","00:00:00"]
[null,{"$f":"IFERROR(VLOOKUP(A12042,'Banco de Funcionários'!$A$2:$D$1048576,2,0),0)","v":0},null,null,null,null,null,"00:00:00",null,"00:00:00","00:00:00"]
[null,{"$f":"IFERROR(VLOOKUP(A12043,'Banco de Funcionários'!$A$2:$D$1048576,2,0),0)","v":0},null,null,null,null,null,"00:00:00",null,"00:00:00","00:00:00"]
[null,{"$f":"IFERROR(VLOOKUP(A12044,'Banco de Funcionários'!$A$2:$D$1048576,2,0),0)","v":0},null,null,null,null,null,"00:00:00",null,"00:00:00","00:00:00"]
[null,{"$f":"IFERROR(VLOOKUP(A12045,'Banco de Funcionários'!$A$2:$D$1048576,2,0),0)","v":0},null,null,null,null,null,"00:00:00",null,"00:00:00","00:00:00"]
[null,{"$f":"IFERROR(VLOOKUP(A12046,'Banco de Funcionários'!$A$2:$D$1048576,2,0),0)","v":0},null,null,null,null,null,"00:00:00",null,"00:00:00","00:00:00"]
[null,{"$f":"IFERROR(VLOOKUP(A12047,'Banco de Funcionários'!$A$2:$D$1048576,2,0),0)","v":0},null,null,null,null,null,"00:00:00",null,"00:00:00","00:00:00"]
[null,{"$f":"IFERROR(VLOOKUP(A12048,'Banco de Funcionários'!$A$2:$D$1048576,2,0),0)","v":0},null,null,null,null,null,"00:00:00",null,"00:00:00","00:00:00"]
[null,{"$f":"IFERROR(VLOOKUP(A12049,'Banco de Funcionários'!$A$2:$D$1048576,2,0),0)","v":0},null,null,null,null,null,"00:00:00",null,"00:00:00","00:00:00"]
[null,{"$f":"IFERROR(VLOOKUP(A12050,'Banco de Funcionários'!$A$2:$D$1048576,2,0),0)","v":0},null,null,null,null,null,"00:00:00",null,"00:00:00","00:00:00"]
[null,{"$f":"IFERROR(VLOOKUP(A12051,'Banco de Funcionários'!$A$2:$D$1048576,2,0),0)","v":0},null,null,null,null,null,"00:00:00",null,"00:00:00","00:00:00"]
[null,{"$f":"IFERROR(VLOOKUP(A12052,'Banco de Funcionários'!$A$2:$D$1048576,2,0),0)","v":0},null,null,null,null,null,"00:00:00",null,"00:00:00","00:00:00"]
[null,{"$f":"IFERROR(VLOOKUP(A12053,'Banco de Funcionários'!$A$2:$D$1048576,2,0),0)","v":0},null,null,null,null,null,"00:00:00",null,"00:00:00","00:00:00"]
[null,{"$f":"IFERROR(VLOOKUP(A12054,'Banco de Funcionários'!$A$2:$D$1048576,2,0),0)","v":0},null,null,null,null,null,"00:00:00",null,"00:00:00","00:00:00"]
[null,{"$f":"IFERROR(VLOOKUP(A12055,'Banco de Funcionários'!$A$2:$D$1048576,2,0),0)","v":0},null,null,null,null,null,"00:00:00",null,"00:00:00","00:00:00"]
[null,{"$f":"IFERROR(VLOOKUP(A12056,'Banco de Funcionários'!$A$2:$D$1048576,2,0),0)","v":0},null,null,null,null,null,"00:00:00",null,"00:00:00","00:00:00"]
[null,{"$f":"IFERROR(VLOOKUP(A12057,'Banco de Funcionários'!$A$2:$D$1048576,2,0),0)","v":0},null,null,null,null,null,"00:00:00",null,"00:00:00","00:00:00"]
[null,{"$f":"IFERROR(VLOOKUP(A12058,'Banco de Funcionários'!$A$2:$D$1048576,2,0),0)","v":0},null,null,null,null,null,"00:00:00",null,"00:00:00","00:00:00"]
[null,{"$f":"IFERROR(VLOOKUP(A12059,'Banco de Funcionários'!$A$2:$D$1048576,2,0),0)","v":0},null,null,null,null,null,"00:00:00",null,"00:00:00","00:00:00"]
[null,{"$f":"IFERROR(VLOOKUP(A12060,'Banco de Funcionários'!$A$2:$D$1048576,2,0),0)","v":0},null,null,null,null,null,"00:00:00",null,"00:00:00","00:00:00"]
[null,{"$f":"IFERROR(VLOOKUP(A12061,'Banco de Funcionários'!$A$2:$D$1048576,2,0),0)","v":0},null,null,null,null,null,"00:00:00",null,"00:00:00","00:00:00"]
[null,{"$f":"IFERROR(VLOOKUP(A12062,'Banco de Funcionários'!$A$2:$D$1048576,2,0),0)","v":0},null,null,null,null,null,"00:00:00",null,"00:00:00","00:00:00"]
[null,{"$f":"IFERROR(VLOOKUP(A12063,'Banco de Funcionários'!$A$2:$D$1048576,2,0),0)","v":0},null,null,null,null,null,"00:00:00",null,"00:00:00","00:00:00"]
[null,{"$f":"IFERROR(VLOOKUP(A12064,'Banco de Funcionários'!$A$2:$D$1048576,2,0),0)","v":0},null,null,null,null,null,"00:00:00",null,"00:00:00","00:00:00"]
[null,{"$f":"IFERROR(VLOOKUP(A12065,'Banco de Funcionários'!$A$2:$D$1048576,2,0),0)","v":0},null,null,null,null,null,"00:00:00",null,"00:00:00","00:00:00"]
[null,{"$f":"IFERROR(VLOOKUP(A12066,'Banco de Funcionários'!$A$2:$D$1048576,2,0),0)","v":0},null,null,null,null,null,"00:00:00",null,"00:00:00","00:00:00"]
[null,{"$f":"IFERROR(VLOOKUP(A12067,'Banco de Funcionários'!$A$2:$D$1048576,2,0),0)","v":0},null,null,null,null,null,"00:00:00",null,"00:00:00","00:00:00"]
[null,{"$f":"IFERROR(VLOOKUP(A12068,'Banco de Funcionários'!$A$2:$D$1048576,2,0),0)","v":0},null,null,null,null,null,"00:00:00",null,"00:00:00","00:00:00"]
[null,{"$f":"IFERROR(VLOOKUP(A12069,'Banco de Funcionários'!$A$2:$D$1048576,2,0),0)","v":0},null,null,null,null,null,"00:00:00",null,"00:00:00","00:00:00"]
[null,{"$f":"IFERROR(VLOOKUP(A12070,'Banco de Funcionários'!$A$2:$D$1048576,2,0),0)","v":0},null,null,null,null,null,"00:00:00",null,"00:00:00","00:00:00"]
[null,{"$f":"IFERROR(VLOOKUP(A12071,'Banco de Funcionários'!$A$2:$D$1048576,2,0),0)","v":0},null,null,null,null,null,"00:00:00",null,"00:00:00","00:00:00"]
[null,{"$f":"IFERROR(VLOOKUP(A12072,'Banco de Funcionários'!$A$2:$D$1048576,2,0),0)","v":0},null,null,null,null,null,"00:00:00",null,"00:00:00","00:00:00"]
[null,{"$f":"IFERROR(VLOOKUP(A12073,'Banco de Funcionários'!$A$2:$D$1048576,2,0),0)","v":0},null,null,null,null,null,"00:00:00",null,"00:00:00","00:00:00"]
[null,{"$f":"IFERROR(VLOOKUP(A12074,'Banco de Funcionários'!$A$2:$D$1048576,2,0),0)","v":0},null,null,null,null,null,"00:00:00",null,"00:00:00","00:00:00"]
[null,{"$f":"IFERROR(VLOOKUP(A12075,'Banco de Funcionários'!$A$2:$D$1048576,2,0),0)","v":0},null,null,null,null,null,"00:00:00",null,"00:00:00","00:00:00"]
[null,{"$f":"IFERROR(VLOOKUP(A12076,'Banco de Funcionários'!$A$2:$D$1048576,2,0),0)","v":0},null,null,null,null,null,"00:00:00",null,"00:00:00","00:00:00"]
[null,{"$f":"IFERROR(VLOOKUP(A12077,'Banco de Funcionários'!$A$2:$D$1048576,2,0),0)","v":0},null,null,null,null,null,"00:00:00",null,"00:00:00","00:00:00"]
[null,{"$f":"IFERROR(VLOOKUP(A12078,'Banco de Funcionários'!$A$2:$D$1048576,2,0),0)","v":0},null,null,null,null,null,"00:00:00",null,"00:00:00","00:00:00"]
[null,{"$f":"IFERROR(VLOOKUP(A12079,'Banco de Funcionários'!$A$2:$D$1048576,2,0),0)","v":0},null,null,null,null,null,"00:00:00",null,"00:00:00","00:00:00"]
[null,{"$f":"IFERROR(VLOOKUP(A12080,'Banco de Funcionários'!$A$2:$D$1048576,2,0),0)","v":0},null,null,null,null,null,"00:00:00",null,"00:00:00","00:00:00"]
[null,{"$f":"IFERROR(VLOOKUP(A12081,'Banco de Funcionários'!$A$2:$D$1048576,2,0),0)","v":0},null,null,null,null,null,"00:00:00",null,"00:00:00","00:00:00"]
[null,{"$f":"IFERROR(VLOOKUP(A12082,'Banco de Funcionários'!$A$2:$D$1048576,2,0),0)","v":0},null,null,null,null,null,"00:00:00",null,"00:00:00","00:00:00"]
[null,{"$f":"IFERROR(VLOOKUP(A12083,'Banco de Funcionários'!$A$2:$D$1048576,2,0),0)","v":0},null,null,null,null,null,"00:00:00",null,"00:00:00","00:00:00"]
[null,{"$f":"IFERROR(VLOOKUP(A12084,'Banco de Funcionários'!$A$2:$D$1048576,2,0),0)","v":0},null,null,null,null,null,"00:00:00",null,"00:00:00","00:00:00"]
[null,{"$f":"IFERROR(VLOOKUP(A12085,'Banco de Funcionários'!$A$2:$D$1048576,2,0),0)","v":0},null,null,null,null,null,"00:00:00",null,"00:00:00","00:00:00"]
[null,{"$f":"IFERROR(VLOOKUP(A12086,'Banco de Funcionários'!$A$2:$D$1048576,2,0),0)","v":0},null,null,null,null,null,"00:00:00",null,"00:00:00","00:00:00"]
[null,{"$f":"IFERROR(VLOOKUP(A12087,'Banco de Funcionários'!$A$2:$D$1048576,2,0),0)","v":0},null,null,null,null,null,"00:00:00",null,"00:00:00","00:00:00"]
[null,{"$f":"IFERROR(VLOOKUP(A12088,'Banco de Funcionários'!$A$2:$D$1048576,2,0),0)","v":0},null,null,null,null,null,"00:00:00",null,"00:00:00","00:00:00"]
[null,{"$f":"IFERROR(VLOOKUP(A12089,'Banco de Funcionários'!$A$2:$D$1048576,2,0),0)","v":0},null,null,null,null,null,"00:00:00",null,"00:00:00","00:00:00"]
[null,{"$f":"IFERROR(VLOOKUP(A12090,'Banco de Funcionários'!$A$2:$D$1048576,2,0),0)","v":0},null,null,null,null,null,"00:00:00",null,"00:00:00","00:00:00"]
[null,{"$f":"IFERROR(VLOOKUP(A12091,'Banco de Funcionários'!$A$2:$D$1048576,2,0),0)","v":0},null,null,null,null,null,"00:00:00",null,"00:00:00","00:00:00"]
[null,{"$f":"IFERROR(VLOOKUP(A12092,'Banco de Funcionários'!$A$2:$D$1048576,2,0),0)","v":0},null,null,null,null,null,"00:00:00",null,"00:00:00","00:00:00"]
[null,{"$f":"IFERROR(VLOOKUP(A12093,'Banco de Funcionários'!$A$2:$D$1048576,2,0),0)","v":0},null,null,null,null,null,"00:00:00",null,"00:00:00","00:00:00"]
[null,{"$f":"IFERROR(VLOOKUP(A12094,'Banco de Funcionários'!$A$2:$D$1048576,2,0),0)","v":0},null,null,null,null,null,"00:00:00",null,"00:00:00","00:00:00"]
[null,{"$f":"IFERROR(VLOOKUP(A12095,'Banco de Funcionários'!$A$2:$D$1048576,2,0),0)","v":0},null,null,null,null,null,"00:00:00",null,"00:00:00","00:00:00"]
[null,{"$f":"IFERROR(VLOOKUP(A12096,'Banco de Funcionários'!$A$2:$D$1048576,2,0),0)","v":0},null,null,null,null,null,"00:00:00",null,"00:00:00","00:00:00"]
[null,{"$f":"IFERROR(VLOOKUP(A12097,'Banco de Funcionários'!$A$2:$D$1048576,2,0),0)","v":0},null,null,null,null,null,"00:00:00",null,"00:00:00","00:00:00"]
[null,{"$f":"IFERROR(VLOOKUP(A12098,'Banco de Funcionários'!$A$2:$D$1048576,2,0),0)","v":0},null,null,null,null,null,"00:00:00",null,"00:00:00","00:00:00"]
[null,{"$f":"IFERROR(VLOOKUP(A12099,'Banco de Funcionários'!$A$2:$D$1048576,2,0),0)","v":0},null,null,null,null,null,{"$f":"(F12099-E12099)-G12099","v":"00:00:00"},null,{"$f":"IFERROR(H12099-I12099,\"\")","v":"00:00:00"},{"$f":"IFERROR(H12099+J12099,0)","v":"00:00:00"}]
[null,{"$f":"IFERROR(VLOOKUP(A12100,'Banco de Funcionários'!$A$2:$D$1048576,2,0),0)","v":0},null,null,null,null,null,"00:00:00",null,"00:00:00","00:00:00"]
[null,{"$f":"IFERROR(VLOOKUP(A12101,'Banco de Funcionários'!$A$2:$D$1048576,2,0),0)","v":0},null,null,null,null,null,"00:00:00",null,"00:00:00","00:00:00"]
[null,{"$f":"IFERROR(VLOOKUP(A12102,'Banco de Funcionários'!$A$2:$D$1048576,2,0),0)","v":0},null,null,null,null,null,"00:00:00",null,"00:00:00","00:00:00"]
[null,{"$f":"IFERROR(VLOOKUP(A12103,'Banco de Funcionários'!$A$2:$D$1048576,2,0),0)","v":0},null,null,null,null,null,"00:00:00",null,"00:00:00","00:00:00"]
[null,{"$f":"IFERROR(VLOOKUP(A12104,'Banco de Funcionários'!$A$2:$D$1048576,2,0),0)","v":0},null,null,null,null,null,"00:00:00",null,"00:00:00","00:00:00"]
[null,{"$f":"IFERROR(VLOOKUP(A12105,'Banco de Funcionários'!$A$2:$D$1048576,2,0),0)","v":0},null,null,null,null,null,"00:00:00",null,"00:00:00","00:00:00"]
[null,{"$f":"IFERROR(VLOOKUP(A12106,'Banco de Funcionários'!$A$2:$D$1048576,2,0),0)","v":0},null,null,null,null,null,"00:00:00",null,"00:00:00","00:00:00"]
[null,{"$f":"IFERROR(VLOOKUP(A12107,'Banco de Funcionários'!$A$2:$D$1048576,2,0),0)","v":0},null,null,null,null,null,"00:00:00",null,"00:00:00","00:00:00"]
[null,{"$f":"IFERROR(VLOOKUP(A12108,'Banco de Funcionários'!$A$2:$D$1048576,2,0),0)","v":0},null,null,null,null,null,"00:00:00",null,"00:00:00","00:00:00"]
[null,{"$f":"IFERROR(VLOOKUP(A12109,'Banco de Funcionários'!$A$2:$D$1048576,2,0),0)","v":0},null,null,null,null,null,"00:00:00",null,"00:00:00","00:00:00"]
[null,{"$f":"IFERROR(VLOOKUP(A12110,'Banco de Funcionários'!$A$2:$D$1048576,2,0),0)","v":0},null,null,null,null,null,"00:00:00",null,"00:00:00","00:00:00"]
[null,{"$f":"IFERROR(VLOOKUP(A12111,'Banco de Funcionários'!$A$2:$D$1048576,2,0),0)","v":0},null,null,null,null,null,"00:00:00",null,"00:00:00","00:00:00"]
[null,{"$f":"IFERROR(VLOOKUP(A12112,'Banco de Funcionários'!$A$2:$D$1048576,2,0),0)","v":0},null,null,null,null,null,"00:00:00",null,"00:00:00","00:00:00"]
[null,{"$f":"IFERROR(VLOOKUP(A12113,'Banco de Funcionários'!$A$2:$D$1048576,2,0),0)","v":0},null,null,null,null,null,"00:00:00",null,"00:00:00","00:00:00"]
[null,{"$f":"IFERROR(VLOOKUP(A12114,'Banco de Funcionários'!$A$2:$D$1048576,2,0),0)","v":0},null,null,null,null,null,"00:00:00",null,"00:00:00","00:00:00"]
[null,{"$f":"IFERROR(VLOOKUP(A12115,'Banco de Funcionários'!$A$2:$D$1048576,2,0),0)","v":0},null,null,null,null,null,"00:00:00",null,"00:00:00","00:00:00"]
[null,{"$f":"IFERROR(VLOOKUP(A12116,'Banco de Funcionários'!$A$2:$D$1048576,2,0),0)","v":0},null,null,null,null,null,"00:00:00",null,"00:00:00","00:00:00"]
[null,{"$f":"IFERROR(VLOOKUP(A12117,'Banco de Funcionários'!$A$2:$D$1048576,2,0),0)","v":0},null,null,null,null,null,"00:00:00",null,"00:00:00","00:00:00"]
[null,{"$f":"IFERROR(VLOOKUP(A12118,'Banco de Funcionários'!$A$2:$D$1048576,2,0),0)","v":0},null,null,null,null,null,"00:00:00",null,"00:00:00","00:00:00"]
[null,{"$f":"IFERROR(VLOOKUP(A12119,'Banco de Funcionários'!$A$2:$D$1048576,2,0),0)","v":0},null,null,null,null,null,"00:00:00",null,"00:00:00","00:00:00"]
[null,{"$f":"IFERROR(VLOOKUP(A12120,'Banco de Funcionários'!$A$2:$D$1048576,2,0),0)","v":0},null,null,null,null,null,"00:00:00",null,"00:00:00","00:00:00"]
[null,{"$f":"IFERROR(VLOOKUP(A12121,'Banco de Funcionários'!$A$2:$D$1048576,2,0),0)","v":0},null,null,null,null,null,"00:00:00",null,"00:00:00","00:00:00"]
[null,{"$f":"IFERROR(VLOOKUP(A12122,'Banco de Funcionários'!$A$2:$D$1048576,2,0),0)","v":0},null,null,null,null,null,"00:00:00",null,"00:00:00","00:00:00"]
[null,{"$f":"IFERROR(VLOOKUP(A12123,'Banco de Funcionários'!$A$2:$D$1048576,2,0),0)","v":0},null,null,null,null,null,"00:00:00",null,"00:00:00","00:00:00"]
[null,{"$f":"IFERROR(VLOOKUP(A12124,'Banco de Funcionários'!$A$2:$D$1048576,2,0),0)","v":0},null,null,null,null,null,"00:00:00",null,"00:00:00","00:00:00"]
[null,{"$f":"IFERROR(VLOOKUP(A12125,'Banco de Funcionários'!$A$2:$D$1048576,2,0),0)","v":0},null,null,null,null,null,"00:00:00",null,"00:00:00","00:00:00"]
[null,{"$f":"IFERROR(VLOOKUP(A12126,'Banco de Funcionários'!$A$2:$D$1048576,2,0),0)","v":0},null,null,null,null,null,"00:00:00",null,"00:00:00","00:00:00"]
[null,{"$f":"IFERROR(VLOOKUP(A12127,'Banco de Funcionários'!$A$2:$D$1048576,2,0),0)","v":0},null,null,null,null,null,"00:00:00",null,"00:00:00","00:00:00"]
[null,{"$f":"IFERROR(VLOOKUP(A12128,'Banco de Funcionários'!$A$2:$D$1048576,2,0),0)","v":0},null,null,null,null,null,"00:00:00",null,"00:00:00","00:00:00"]
[null,{"$f":"IFERROR(VLOOKUP(A12129,'Banco de Funcionários'!$A$2:$D$1048576,2,0),0)","v":0},null,null,null,null,null,"00:00:00",null,"00:00:00","00:00:00"]
[null,{"$f":"IFERROR(VLOOKUP(A12130,'Banco de Funcionários'!$A$2:$D$1048576,2,0),0)","v":0},null,null,null,null,null,"00:00:00",null,"00:00:00","00:00:00"]
[null,{"$f":"IFERROR(VLOOKUP(A12131,'Banco de Funcionários'!$A$2:$D$1048576,2,0),0)","v":0},null,null,null,null,null,"00:00:00",null,"00:00:00","00:00:00"]
[null,{"$f":"IFERROR(VLOOKUP(A12132,'Banco de Funcionários'!$A$2:$D$1048576,2,0),0)","v":0},null,null,null,null,null,"00:00:00",null,"00:00:00","00:00:00"]
[null,{"$f":"IFERROR(VLOOKUP(A12133,'Banco de Funcionários'!$A$2:$D$1048576,2,0),0)","v":0},null,null,null,null,null,"00:00:00",null,"00:00:00","00:00:00"]
[null,{"$f":"IFERROR(VLOOKUP(A12134,'Banco de Funcionários'!$A$2:$D$1048576,2,0),0)","v":0},null,null,null,null,null,"00:00:00",null,"00:00:00","00:00:00"]
[null,{"$f":"IFERROR(VLOOKUP(A12135,'Banco de Funcionários'!$A$2:$D$1048576,2,0),0)","v":0},null,null,null,null,null,"00:00:00",null,"00:00:00","00:00:00"]
[null,{"$f":"IFERROR(VLOOKUP(A12136,'Banco de Funcionários'!$A$2:$D$1048576,2,0),0)","v":0},null,null,null,null,null,"00:00:00",null,"00:00:00","00:00:00"]
[null,{"$f":"IFERROR(VLOOKUP(A12137,'Banco de Funcionários'!$A$2:$D$1048576,2,0),0)","v":0},null,null,null,null,null,"00:00:00",null,"00:00:00","00:00:00"]
[null,{"$f":"IFERROR(VLOOKUP(A12138,'Banco de Funcionários'!$A$2:$D$1048576,2,0),0)","v":0},null,null,null,null,null,"00:00:00",null,"00:00:00","00:00:00"]
[null,{"$f":"IFERROR(VLOOKUP(A12139,'Banco de Funcionários'!$A$2:$D$1048576,2,0),0)","v":0},null,null,null,null,null,"00:00:00",null,"00:00:00","00:00:00"]
[null,{"$f":"IFERROR(VLOOKUP(A12140,'Banco de Funcionários'!$A$2:$D$1048576,2,0),0)","v":0},null,null,null,null,null,"00:00:00",null,"00:00:00","00:00:00"]
[null,{"$f":"IFERROR(VLOOKUP(A12141,'Banco de Funcionários'!$A$2:$D$1048576,2,0),0)","v":0},null,null,null,null,null,"00:00:00",null,"00:00:00","00:00:00"]
[null,{"$f":"IFERROR(VLOOKUP(A12142,'Banco de Funcionários'!$A$2:$D$1048576,2,0),0)","v":0},null,null,null,null,null,"00:00:00",null,"00:00:00","00:00:00"]
[null,{"$f":"IFERROR(VLOOKUP(A12143,'Banco de Funcionários'!$A$2:$D$1048576,2,0),0)","v":0},null,null,null,null,null,"00:00:00",null,"00:00:00","00:00:00"]
[null,{"$f":"IFERROR(VLOOKUP(A12144,'Banco de Funcionários'!$A$2:$D$1048576,2,0),0)","v":0},null,null,null,null,null,"00:00:00",null,"00:00:00","00:00:00"]
[null,{"$f":"IFERROR(VLOOKUP(A12145,'Banco de Funcionários'!$A$2:$D$1048576,2,0),0)","v":0},null,null,null,null,null,"00:00:00",null,"00:00:00","00:00:00"]
[null,{"$f":"IFERROR(VLOOKUP(A12146,'Banco de Funcionários'!$A$2:$D$1048576,2,0),0)","v":0},null,null,null,null,null,"00:00:00",null,"00:00:00","00:00:00"]
[null,{"$f":"IFERROR(VLOOKUP(A12147,'Banco de Funcionários'!$A$2:$D$1048576,2,0),0)","v":0},null,null,null,null,null,"00:00:00",null,"00:00:00","00:00:00"]
[null,{"$f":"IFERROR(VLOOKUP(A12148,'Banco de Funcionários'!$A$2:$D$1048576,2,0),0)","v":0},null,null,null,null,null,"00:00:00",null,"00:00:00","00:00:00"]
[null,{"$f":"IFERROR(VLOOKUP(A12149,'Banco de Funcionários'!$A$2:$D$1048576,2,0),0)","v":0},null,null,null,null,null,"00:00:00",null,"00:00:00","00:00:00"]
[null,{"$f":"IFERROR(VLOOKUP(A12150,'Banco de Funcionários'!$A$2:$D$1048576,2,0),0)","v":0},null,null,null,null,null,"00:00:00",null,"00:00:00","00:00:00"]
[null,{"$f":"IFERROR(VLOOKUP(A12151,'Banco de Funcionários'!$A$2:$D$1048576,2,0),0)","v":0},null,null,null,null,null,"00:00:00",null,"00:00:00","00:00:00"]
[null,{"$f":"IFERROR(VLOOKUP(A12152,'Banco de Funcionários'!$A$2:$D$1048576,2,0),0)","v":0},null,null,null,null,null,"00:00:00",null,"00:00:00","00:00:00"]
[null,{"$f":"IFERROR(VLOOKUP(A12153,'Banco de Funcionários'!$A$2:$D$1048576,2,0),0)","v":0},null,null,null,null,null,"00:00:00",null,"00:00:00","00:00:00"]
[null,{"$f":"IFERROR(VLOOKUP(A12154,'Banco de Funcionários'!$A$2:$D$1048576,2,0),0)","v":0},null,null,null,null,null,"00:00:00",null,"00:00:00","00:00:00"]
[null,{"$f":"IFERROR(VLOOKUP(A12155,'Banco de Funcionários'!$A$2:$D$1048576,2,0),0)","v":0},null,null,null,null,null,"00:00:00",null,"00:00:00","00:00:00"]
[null,{"$f":"IFERROR(VLOOKUP(A12156,'Banco de Funcionários'!$A$2:$D$1048576,2,0),0)","v":0},null,null,null,null,null,"00:00:00",null,"00:00:00","00:00:00"]
[null,{"$f":"IFERROR(VLOOKUP(A12157,'Banco de Funcionários'!$A$2:$D$1048576,2,0),0)","v":0},null,null,null,null,null,"00:00:00",null,"00:00:00","00:00:00"]
[null,{"$f":"IFERROR(VLOOKUP(A12158,'Banco de Funcionários'!$A$2:$D$1048576,2,0),0)","v":0},null,null,null,null,null,"00:00:00",null,"00:00:00","00:00:00"]
[null,{"$f":"IFERROR(VLOOKUP(A12159,'Banco de Funcionários'!$A$2:$D$1048576,2,0),0)","v":0},null,null,null,null,null,"00:00:00",null,"00:00:00","00:00:00"]
[null,{"$f":"IFERROR(VLOOKUP(A12160,'Banco de Funcionários'!$A$2:$D$1048576,2,0),0)","v":0},null,null,null,null,null,"00:00:00",null,"00:00:00","00:00:00"]
[null,{"$f":"IFERROR(VLOOKUP(A12161,'Banco de Funcionários'!$A$2:$D$1048576,2,0),0)","v":0},null,null,null,null,null,"00:00:00",null,"00:00:00","00:00:00"]
[null,{"$f":"IFERROR(VLOOKUP(A12162,'Banco de Funcionários'!$A$2:$D$1048576,2,0),0)","v":0},null,null,null,null,null,"00:00:00",null,"00:00:00","00:00:00"]
[null,{"$f":"IFERROR(VLOOKUP(A12163,'Banco de Funcionários'!$A$2:$D$1048576,2,0),0)","v":0},null,null,null,null,null,{"$f":"(F12163-E12163)-G12163","v":"00:00:00"},null,{"$f":"IFERROR(H12163-I12163,\"\")","v":"00:00:00"},{"$f":"IFERROR(H12163+J12163,0)","v":"00:00:00"}]
[null,{"$f":"IFERROR(VLOOKUP(A12164,'Banco de Funcionários'!$A$2:$D$1048576,2,0),0)","v":0},null,null,null,null,null,"00:00:00",null,"00:00:00","00:00:00"]
[null,{"$f":"IFERROR(VLOOKUP(A12165,'Banco de Funcionários'!$A$2:$D$1048576,2,0),0)","v":0},null,null,null,null,null,"00:00:00",null,"00:00:00","00:00:00"]
[null,{"$f":"IFERROR(VLOOKUP(A12166,'Banco de Funcionários'!$A$2:$D$1048576,2,0),0)","v":0},null,null,null,null,null,"00:00:00",null,"00:00:00","00:00:00"]
[null,{"$f":"IFERROR(VLOOKUP(A12167,'Banco de Funcionários'!$A$2:$D$1048576,2,0),0)","v":0},null,null,null,null,null,"00:00:00",null,"00:00:00","00:00:00"]
[null,{"$f":"IFERROR(VLOOKUP(A12168,'Banco de Funcionários'!$A$2:$D$1048576,2,0),0)","v":0},null,null,null,null,null,"00:00:00",null,"00:00:00","00:00:00"]
[null,{"$f":"IFERROR(VLOOKUP(A12169,'Banco de Funcionários'!$A$2:$D$1048576,2,0),0)","v":0},null,null,null,null,null,"00:00:00",null,"00:00:00","00:00:00"]
[null,{"$f":"IFERROR(VLOOKUP(A12170,'Banco de Funcionários'!$A$2:$D$1048576,2,0),0)","v":0},null,null,null,null,null,"00:00:00",null,"00:00:00","00:00:00"]
[null,{"$f":"IFERROR(VLOOKUP(A12171,'Banco de Funcionários'!$A$2:$D$1048576,2,0),0)","v":0},null,null,null,null,null,"00:00:00",null,"00:00:00","00:00:00"]
[null,{"$f":"IFERROR(VLOOKUP(A12172,'Banco de Funcionários'!$A$2:$D$1048576,2,0),0)","v":0},null,null,null,null,null,"00:00:00",null,"00:00:00","00:00:00"]
[null,{"$f":"IFERROR(VLOOKUP(A12173,'Banco de Funcionários'!$A$2:$D$1048576,2,0),0)","v":0},null,null,null,null,null,"00:00:00",null,"00:00:00","00:00:00"]
[null,{"$f":"IFERROR(VLOOKUP(A12174,'Banco de Funcionários'!$A$2:$D$1048576,2,0),0)","v":0},null,null,null,null,null,"00:00:00",null,"00:00:00","00:00:00"]
[null,{"$f":"IFERROR(VLOOKUP(A12175,'Banco de Funcionários'!$A$2:$D$1048576,2,0),0)","v":0},null,null,null,null,null,"00:00:00",null,"00:00:00","00:00:00"]
[null,{"$f":"IFERROR(VLOOKUP(A12176,'Banco de Funcionários'!$A$2:$D$1048576,2,0),0)","v":0},null,null,null,null,null,"00:00:00",null,"00:00:00","00:00:00"]
[null,{"$f":"IFERROR(VLOOKUP(A12177,'Banco de Funcionários'!$A$2:$D$1048576,2,0),0)","v":0},null,null,null,null,null,"00:00:00",null,"00:00:00","00:00:00"]
[null,{"$f":"IFERROR(VLOOKUP(A12178,'Banco de Funcionários'!$A$2:$D$1048576,2,0),0)","v":0},null,null,null,null,null,"00:00:00",null,"00:00:00","00:00:00"]
[null,{"$f":"IFERROR(VLOOKUP(A12179,'Banco de Funcionários'!$A$2:$D$1048576,2,0),0)","v":0},null,null,null,null,null,"00:00:00",null,"00:00:00","00:00:00"]
[null,{"$f":"IFERROR(VLOOKUP(A12180,'Banco de Funcionários'!$A$2:$D$1048576,2,0),0)","v":0},null,null,null,null,null,"00:00:00",null,"00:00:00","00:00:00"]
[null,{"$f":"IFERROR(VLOOKUP(A12181,'Banco de Funcionários'!$A$2:$D$1048576,2,0),0)","v":0},null,null,null,null,null,"00:00:00",null,"00:00:00","00:00:00"]
[null,{"$f":"IFERROR(VLOOKUP(A12182,'Banco de Funcionários'!$A$2:$D$1048576,2,0),0)","v":0},null,null,null,null,null,"00:00:00",null,"00:00:00","00:00:00"]
[null,{"$f":"IFERROR(VLOOKUP(A12183,'Banco de Funcionários'!$A$2:$D$1048576,2,0),0)","v":0},null,null,null,null,null,"00:00:00",null,"00:00:00","00:00:00"]
[null,{"$f":"IFERROR(VLOOKUP(A12184,'Banco de Funcionários'!$A$2:$D$1048576,2,0),0)","v":0},null,null,null,null,null,"00:00:00",null,"00:00:00","00:00:00"]
[null,{"$f":"IFERROR(VLOOKUP(A12185,'Banco de Funcionários'!$A$2:$D$1048576,2,0),0)","v":0},null,null,null,null,null,"00:00:00",null,"00:00:00","00:00:00"]
[null,{"$f":"IFERROR(VLOOKUP(A12186,'Banco de Funcionários'!$A$2:$D$1048576,2,0),0)","v":0},null,null,null,null,null,"00:00:00",null,"00:00:00","00:00:00"]
[null,{"$f":"IFERROR(VLOOKUP(A12187,'Banco de Funcionários'!$A$2:$D$1048576,2,0),0)","v":0},null,null,null,null,null,"00:00:00",null,"00:00:00","00:00:00"]
[null,{"$f":"IFERROR(VLOOKUP(A12188,'Banco de Funcionários'!$A$2:$D$1048576,2,0),0)","v":0},null,null,null,null,null,"00:00:00",null,"00:00:00","00:00:00"]
[null,{"$f":"IFERROR(VLOOKUP(A12189,'Banco de Funcionários'!$A$2:$D$1048576,2,0),0)","v":0},null,null,null,null,null,"00:00:00",null,"00:00:00","00:00:00"]
[null,{"$f":"IFERROR(VLOOKUP(A12190,'Banco de Funcionários'!$A$2:$D$1048576,2,0),0)","v":0},null,null,null,null,null,"00:00:00",null,"00:00:00","00:00:00"]
[null,{"$f":"IFERROR(VLOOKUP(A12191,'Banco de Funcionários'!$A$2:$D$1048576,2,0),0)","v":0},null,null,null,null,null,"00:00:00",null,"00:00:00","00:00:00"]
[null,{"$f":"IFERROR(VLOOKUP(A12192,'Banco de Funcionários'!$A$2:$D$1048576,2,0),0)","v":0},null,null,null,null,null,"00:00:00",null,"00:00:00","00:00:00"]
[null,{"$f":"IFERROR(VLOOKUP(A12193,'Banco de Funcionários'!$A$2:$D$1048576,2,0),0)","v":0},null,null,null,null,null,"00:00:00",null,"00:00:00","00:00:00"]
[null,{"$f":"IFERROR(VLOOKUP(A12194,'Banco de Funcionários'!$A$2:$D$1048576,2,0),0)","v":0},null,null,null,null,null,"00:00:00",null,"00:00:00","00:00:00"]
[null,{"$f":"IFERROR(VLOOKUP(A12195,'Banco de Funcionários'!$A$2:$D$1048576,2,0),0)","v":0},null,null,null,null,null,"00:00:00",null,"00:00:00","00:00:00"]
[null,{"$f":"IFERROR(VLOOKUP(A12196,'Banco de Funcionários'!$A$2:$D$1048576,2,0),0)","v":0},null,null,null,null,null,"00:00:00",null,"00:00:00","00:00:00"]
[null,{"$f":"IFERROR(VLOOKUP(A12197,'Banco de Funcionários'!$A$2:$D$1048576,2,0),0)","v":0},null,null,null,null,null,"00:00:00",null,"00:00:00","00:00:00"]
[null,{"$f":"IFERROR(VLOOKUP(A12198,'Banco de Funcionários'!$A$2:$D$1048576,2,0),0)","v":0},null,null,null,null,null,"00:00:00",null,"00:00:00","00:00:00"]
[null,{"$f":"IFERROR(VLOOKUP(A12199,'Banco de Funcionários'!$A$2:$D$1048576,2,0),0)","v":0},null,null,null,null,null,"00:00:00",null,"00:00:00","00:00:00"]
[null,{"$f":"IFERROR(VLOOKUP(A12200,'Banco de Funcionários'!$A$2:$D$1048576,2,0),0)","v":0},null,null,null,null,null,"00:00:00",null,"00:00:00","00:00:00"]
[null,{"$f":"IFERROR(VLOOKUP(A12201,'Banco de Funcionários'!$A$2:$D$1048576,2,0),0)","v":0},null,null,null,null,null,"00:00:00",null,"00:00:00","00:00:00"]
[null,{"$f":"IFERROR(VLOOKUP(A12202,'Banco de Funcionários'!$A$2:$D$1048576,2,0),0)","v":0},null,null,null,null,null,"00:00:00",null,"00:00:00","00:00:00"]
[null,{"$f":"IFERROR(VLOOKUP(A12203,'Banco de Funcionários'!$A$2:$D$1048576,2,0),0)","v":0},null,null,null,null,null,"00:00:00",null,"00:00:00","00:00:00"]
[null,{"$f":"IFERROR(VLOOKUP(A12204,'Banco de Funcionários'!$A$2:$D$1048576,2,0),0)","v":0},null,null,null,null,null,"00:00:00",null,"00:00:00","00:00:00"]
[null,{"$f":"IFERROR(VLOOKUP(A12205,'Banco de Funcionários'!$A$2:$D$1048576,2,0),0)","v":0},null,null,null,null,null,"00:00:00",null,"00:00:00","00:00:00"]
[null,{"$f":"IFERROR(VLOOKUP(A12206,'Banco de Funcionários'!$A$2:$D$1048576,2,0),0)","v":0},null,null,null,null,null,"00:00:00",null,"00:00:00","00:00:00"]
[null,{"$f":"IFERROR(VLOOKUP(A12207,'Banco de Funcionários'!$A$2:$D$1048576,2,0),0)","v":0},null,null,null,null,null,"00:00:00",null,"00:00:00","00:00:00"]
[null,{"$f":"IFERROR(VLOOKUP(A12208,'Banco de Funcionários'!$A$2:$D$1048576,2,0),0)","v":0},null,null,null,null,null,"00:00:00",null,"00:00:00","00:00:00"]
[null,{"$f":"IFERROR(VLOOKUP(A12209,'Banco de Funcionários'!$A$2:$D$1048576,2,0),0)","v":0},null,null,null,null,null,"00:00:00",null,"00:00:00","00:00:00"]
[null,{"$f":"IFERROR(VLOOKUP(A12210,'Banco de Funcionários'!$A$2:$D$1048576,2,0),0)","v":0},null,null,null,null,null,"00:00:00",null,"00:00:00","00:00:00"]
[null,{"$f":"IFERROR(VLOOKUP(A12211,'Banco de Funcionários'!$A$2:$D$1048576,2,0),0)","v":0},null,null,null,null,null,"00:00:00",null,"00:00:00","00:00:00"]
[null,{"$f":"IFERROR(VLOOKUP(A12212,'Banco de Funcionários'!$A$2:$D$1048576,2,0),0)","v":0},null,null,null,null,null,"00:00:00",null,"00:00:00","00:00:00"]
[null,{"$f":"IFERROR(VLOOKUP(A12213,'Banco de Funcionários'!$A$2:$D$1048576,2,0),0)","v":0},null,null,null,null,null,"00:00:00",null,"00:00:00","00:00:00"]
[null,{"$f":"IFERROR(VLOOKUP(A12214,'Banco de Funcionários'!$A$2:$D$1048576,2,0),0)","v":0},null,null,null,null,null,"00:00:00",null,"00:00:00","00:00:00"]
[null,{"$f":"IFERROR(VLOOKUP(A12215,'Banco de Funcionários'!$A$2:$D$1048576,2,0),0)","v":0},null,null,null,null,null,"00:00:00",null,"00:00:00","00:00:00"]
[null,{"$f":"IFERROR(VLOOKUP(A12216,'Banco de Funcionários'!$A$2:$D$1048576,2,0),0)","v":0},null,null,null,null,null,"00:00:00",null,"00:00:00","00:00:00"]
[null,{"$f":"IFERROR(VLOOKUP(A12217,'Banco de Funcionários'!$A$2:$D$1048576,2,0),0)","v":0},null,null,null,null,null,"00:00:00",null,"00:00:00","00:00:00"]
[null,{"$f":"IFERROR(VLOOKUP(A12218,'Banco de Funcionários'!$A$2:$D$1048576,2,0),0)","v":0},null,null,null,null,null,"00:00:00",null,"00:00:00","00:00:00"]
[null,{"$f":"IFERROR(VLOOKUP(A12219,'Banco de Funcionários'!$A$2:$D$1048576,2,0),0)","v":0},null,null,null,null,null,"00:00:00",null,"00:00:00","00:00:00"]
[null,{"$f":"IFERROR(VLOOKUP(A12220,'Banco de Funcionários'!$A$2:$D$1048576,2,0),0)","v":0},null,null,null,null,null,"00:00:00",null,"00:00:00","00:00:00"]
[null,{"$f":"IFERROR(VLOOKUP(A12221,'Banco de Funcionários'!$A$2:$D$1048576,2,0),0)","v":0},null,null,null,null,null,"00:00:00",null,"00:00:00","00:00:00"]
[null,{"$f":"IFERROR(VLOOKUP(A12222,'Banco de Funcionários'!$A$2:$D$1048576,2,0),0)","v":0},null,null,null,null,null,"00:00:00",null,"00:00:00","00:00:00"]
[null,{"$f":"IFERROR(VLOOKUP(A12223,'Banco de Funcionários'!$A$2:$D$1048576,2,0),0)","v":0},null,null,null,null,null,"00:00:00",null,"00:00:00","00:00:00"]
[null,{"$f":"IFERROR(VLOOKUP(A12224,'Banco de Funcionários'!$A$2:$D$1048576,2,0),0)","v":0},null,null,null,null,null,"00:00:00",null,"00:00:00","00:00:00"]
[null,{"$f":"IFERROR(VLOOKUP(A12225,'Banco de Funcionários'!$A$2:$D$1048576,2,0),0)","v":0},null,null,null,null,null,"00:00:00",null,"00:00:00","00:00:00"]
[null,{"$f":"IFERROR(VLOOKUP(A12226,'Banco de Funcionários'!$A$2:$D$1048576,2,0),0)","v":0},null,null,null,null,null,"00:00:00",null,"00:00:00","00:00:00"]
[null,{"$f":"IFERROR(VLOOKUP(A12227,'Banco de Funcionários'!$A$2:$D$1048576,2,0),0)","v":0},null,null,null,null,null,{"$f":"(F12227-E12227)-G12227","v":"00:00:00"},null,{"$f":"IFERROR(H12227-I12227,\"\")","v":"00:00:00"},{"$f":"IFERROR(H12227+J12227,0)","v":"00:00:00"}]
[null,{"$f":"IFERROR(VLOOKUP(A12228,'Banco de Funcionários'!$A$2:$D$1048576,2,0),0)","v":0},null,null,null,null,null,"00:00:00",null,"00:00:00","00:00:00"]
[null,{"$f":"IFERROR(VLOOKUP(A12229,'Banco de Funcionários'!$A$2:$D$1048576,2,0),0)","v":0},null,null,null,null,null,"00:00:00",null,"00:00:00","00:00:00"]
[null,{"$f":"IFERROR(VLOOKUP(A12230,'Banco de Funcionários'!$A$2:$D$1048576,2,0),0)","v":0},null,null,null,null,null,"00:00:00",null,"00:00:00","00:00:00"]
[null,{"$f":"IFERROR(VLOOKUP(A12231,'Banco de Funcionários'!$A$2:$D$1048576,2,0),0)","v":0},null,null,null,null,null,"00:00:00",null,"00:00:00","00:00:00"]
[null,{"$f":"IFERROR(VLOOKUP(A12232,'Banco de Funcionários'!$A$2:$D$1048576,2,0),0)","v":0},null,null,null,null,null,"00:00:00",null,"00:00:00","00:00:00"]
[null,{"$f":"IFERROR(VLOOKUP(A12233,'Banco de Funcionários'!$A$2:$D$1048576,2,0),0)","v":0},null,null,null,null,null,"00:00:00",null,"00:00:00","00:00:00"]
[null,{"$f":"IFERROR(VLOOKUP(A12234,'Banco de Funcionários'!$A$2:$D$1048576,2,0),0)","v":0},null,null,null,null,null,"00:00:00",null,"00:00:00","00:00:00"]
[null,{"$f":"IFERROR(VLOOKUP(A12235,'Banco de Funcionários'!$A$2:$D$1048576,2,0),0)","v":0},null,null,null,null,null,"00:00:00",null,"00:00:00","00:00:00"]
[null,{"$f":"IFERROR(VLOOKUP(A12236,'Banco de Funcionários'!$A$2:$D$1048576,2,0),0)","v":0},null,null,null,null,null,"00:00:00",null,"00:00:00","00:00:00"]
[null,{"$f":"IFERROR(VLOOKUP(A12237,'Banco de Funcionários'!$A$2:$D$1048576,2,0),0)","v":0},null,null,null,null,null,"00:00:00",null,"00:00:00","00:00:00"]
[null,{"$f":"IFERROR(VLOOKUP(A12238,'Banco de Funcionários'!$A$2:$D$1048576,2,0),0)","v":0},null,null,null,null,null,"00:00:00",null,"00:00:00","00:00:00"]
[null,{"$f":"IFERROR(VLOOKUP(A12239,'Banco de Funcionários'!$A$2:$D$1048576,2,0),0)","v":0},null,null,null,null,null,"00:00:00",null,"00:00:00","00:00:00"]
[null,{"$f":"IFERROR(VLOOKUP(A12240,'Banco de Funcionários'!$A$2:$D$1048576,2,0),0)","v":0},null,null,null,null,null,"00:00:00",null,"00:00:00","00:00:00"]
[null,{"$f":"IFERROR(VLOOKUP(A12241,'Banco de Funcionários'!$A$2:$D$1048576,2,0),0)","v":0},null,null,null,null,null,"00:00:00",null,"00:00:00","00:00:00"]
[null,{"$f":"IFERROR(VLOOKUP(A12242,'Banco de Funcionários'!$A$2:$D$1048576,2,0),0)","v":0},null,null,null,null,null,"00:00:00",null,"00:00:00","00:00:00"]
[null,{"$f":"IFERROR(VLOOKUP(A12243,'Banco de Funcionários'!$A$2:$D$1048576,2,0),0)","v":0},null,null,null,null,null,"00:00:00",null,"00:00:00","00:00:00"]
[null,{"$f":"IFERROR(VLOOKUP(A12244,'Banco de Funcionários'!$A$2:$D$1048576,2,0),0)","v":0},null,null,null,null,null,"00:00:00",null,"00:00:00","00:00:00"]
[null,{"$f":"IFERROR(VLOOKUP(A12245,'Banco de Funcionários'!$A$2:$D$1048576,2,0),0)","v":0},null,null,null,null,null,"00:00:00",null,"00:00:00","00:00:00"]
[null,{"$f":"IFERROR(VLOOKUP(A12246,'Banco de Funcionários'!$A$2:$D$1048576,2,0),0)","v":0},null,null,null,null,null,"00:00:00",null,"00:00:00","00:00:00"]
[null,{"$f":"IFERROR(VLOOKUP(A12247,'Banco de Funcionários'!$A$2:$D$1048576,2,0),0)","v":0},null,null,null,null,null,"00:00:00",null,"00:00:00","00:00:00"]
[null,{"$f":"IFERROR(VLOOKUP(A12248,'Banco de Funcionários'!$A$2:$D$1048576,2,0),0)","v":0},null,null,null,null,null,"00:00:00",null,"00:00:00","00:00:00"]
[null,{"$f":"IFERROR(VLOOKUP(A12249,'Banco de Funcionários'!$A$2:$D$1048576,2,0),0)","v":0},null,null,null,null,null,"00:00:00",null,"00:00:00","00:00:00"]
[null,{"$f":"IFERROR(VLOOKUP(A12250,'Banco de Funcionários'!$A$2:$D$1048576,2,0),0)","v":0},null,null,null,null,null,"00:00:00",null,"00:00:00","00:00:00"]
[null,{"$f":"IFERROR(VLOOKUP(A12251,'Banco de Funcionários'!$A$2:$D$1048576,2,0),0)","v":0},null,null,null,null,null,"00:00:00",null,"00:00:00","00:00:00"]
[null,{"$f":"IFERROR(VLOOKUP(A12252,'Banco de Funcionários'!$A$2:$D$1048576,2,0),0)","v":0},null,null,null,null,null,"00:00:00",null,"00:00:00","00:00:00"]
[null,{"$f":"IFERROR(VLOOKUP(A12253,'Banco de Funcionários'!$A$2:$D$1048576,2,0),0)","v":0},null,null,null,null,null,"00:00:00",null,"00:00:00","00:00:00"]
[null,{"$f":"IFERROR(VLOOKUP(A12254,'Banco de Funcionários'!$A$2:$D$1048576,2,0),0)","v":0},null,null,null,null,null,"00:00:00",null,"00:00:00","00:00:00"]
[null,{"$f":"IFERROR(VLOOKUP(A12255,'Banco de Funcionários'!$A$2:$D$1048576,2,0),0)","v":0},null,null,null,null,null,"00:00:00",null,"00:00:00","00:00:00"]
[null,{"$f":"IFERROR(VLOOKUP(A12256,'Banco de Funcionários'!$A$2:$D$1048576,2,0),0)","v":0},null,null,null,null,null,"00:00:00",null,"00:00:00","00:00:00"]
[null,{"$f":"IFERROR(VLOOKUP(A12257,'Banco de Funcionários'!$A$2:$D$1048576,2,0),0)","v":0},null,null,null,null,null,"00:00:00",null,"00:00:00","00:00:00"]
[null,{"$f":"IFERROR(VLOOKUP(A12258,'Banco de Funcionários'!$A$2:$D$1048576,2,0),0)","v":0},null,null,null,null,null,"00:00:00",null,"00:00:00","00:00:00"]
[null,{"$f":"IFERROR(VLOOKUP(A12259,'Banco de Funcionários'!$A$2:$D$1048576,2,0),0)","v":0},null,null,null,null,null,"00:00:00",null,"00:00:00","00:00:00"]
[null,{"$f":"IFERROR(VLOOKUP(A12260,'Banco de Funcionários'!$A$2:$D$1048576,2,0),0)","v":0},null,null,null,null,null,"00:00:00",null,"00:00:00","00:00:00"]
[null,{"$f":"IFERROR(VLOOKUP(A12261,'Banco de Funcionários'!$A$2:$D$1048576,2,0),0)","v":0},null,null,null,null,null,"00:00:00",null,"00:00:00","00:00:00"]
[null,{"$f":"IFERROR(VLOOKUP(A12262,'Banco de Funcionários'!$A$2:$D$1048576,2,0),0)","v":0},null,null,null,null,null,"00:00:00",null,"00:00:00","00:00:00"]
[null,{"$f":"IFERROR(VLOOKUP(A12263,'Banco de Funcionários'!$A$2:$D$1048576,2,0),0)","v":0},null,null,null,null,null,"00:00:00",null,"00:00:00","00:00:00"]
[null,{"$f":"IFERROR(VLOOKUP(A12264,'Banco de Funcionários'!$A$2:$D$1048576,2,0),0)","v":0},null,null,null,null,null,"00:00:00",null,"00:00:00","00:00:00"]
[null,{"$f":"IFERROR(VLOOKUP(A12265,'Banco de Funcionários'!$A$2:$D$1048576,2,0),0)","v":0},null,null,null,null,null,"00:00:00",null,"00:00:00","00:00:00"]
[null,{"$f":"IFERROR(VLOOKUP(A12266,'Banco de Funcionários'!$A$2:$D$1048576,2,0),0)","v":0},null,null,null,null,null,"00:00:00",null,"00:00:00","00:00:00"]
[null,{"$f":"IFERROR(VLOOKUP(A12267,'Banco de Funcionários'!$A$2:$D$1048576,2,0),0)","v":0},null,null,null,null,null,"00:00:00",null,"00:00:00","00:00:00"]
[null,{"$f":"IFERROR(VLOOKUP(A12268,'Banco de Funcionários'!$A$2:$D$1048576,2,0),0)","v":0},null,null,null,null,null,"00:00:00",null,"00:00:00","00:00:00"]
[null,{"$f":"IFERROR(VLOOKUP(A12269,'Banco de Funcionários'!$A$2:$D$1048576,2,0),0)","v":0},null,null,null,null,null,"00:00:00",null,"00:00:00","00:00:00"]
[null,{"$f":"IFERROR(VLOOKUP(A12270,'Banco de Funcionários'!$A$2:$D$1048576,2,0),0)","v":0},null,null,null,null,null,"00:00:00",null,"00:00:00","00:00:00"]
[null,{"$f":"IFERROR(VLOOKUP(A12271,'Banco de Funcionários'!$A$2:$D$1048576,2,0),0)","v":0},null,null,null,null,null,"00:00:00",null,"00:00:00","00:00:00"]
[null,{"$f":"IFERROR(VLOOKUP(A12272,'Banco de Funcionários'!$A$2:$D$1048576,2,0),0)","v":0},null,null,null,null,null,"00:00:00",null,"00:00:00","00:00:00"]
[null,{"$f":"IFERROR(VLOOKUP(A12273,'Banco de Funcionários'!$A$2:$D$1048576,2,0),0)","v":0},null,null,null,null,null,"00:00:00",null,"00:00:00","00:00:00"]
[null,{"$f":"IFERROR(VLOOKUP(A12274,'Banco de Funcionários'!$A$2:$D$1048576,2,0),0)","v":0},null,null,null,null,null,"00:00:00",null,"00:00:00","00:00:00"]
[null,{"$f":"IFERROR(VLOOKUP(A12275,'Banco de Funcionários'!$A$2:$D$1048576,2,0),0)","v":0},null,null,null,null,null,"00:00:00",null,"00:00:00","00:00:00"]
[null,{"$f":"IFERROR(VLOOKUP(A12276,'Banco de Funcionários'!$A$2:$D$1048576,2,0),0)","v":0},null,null,null,null,null,"00:00:00",null,"00:00:00","00:00:00"]
[null,{"$f":"IFERROR(VLOOKUP(A12277,'Banco de Funcionários'!$A$2:$D$1048576,2,0),0)","v":0},null,null,null,null,null,"00:00:00",null,"00:00:00","00:00:00"]
[null,{"$f":"IFERROR(VLOOKUP(A12278,'Banco de Funcionários'!$A$2:$D$1048576,2,0),0)","v":0},null,null,null,null,null,"00:00:00",null,"00:00:00","00:00:00"]
[null,{"$f":"IFERROR(VLOOKUP(A12279,'Banco de Funcionários'!$A$2:$D$1048576,2,0),0)","v":0},null,null,null,null,null,"00:00:00",null,"00:00:00","00:00:00"]
[null,{"$f":"IFERROR(VLOOKUP(A12280,'Banco de Funcionários'!$A$2:$D$1048576,2,0),0)","v":0},null,null,null,null,null,"00:00:00",null,"00:00:00","00:00:00"]
[null,{"$f":"IFERROR(VLOOKUP(A12281,'Banco de Funcionários'!$A$2:$D$1048576,2,0),0)","v":0},null,null,null,null,null,"00:00:00",null,"00:00:00","00:00:00"]
[null,{"$f":"IFERROR(VLOOKUP(A12282,'Banco de Funcionários'!$A$2:$D$1048576,2,0),0)","v":0},null,null,null,null,null,"00:00:00",null,"00:00:00","00:00:00"]
[null,{"$f":"IFERROR(VLOOKUP(A12283,'Banco de Funcionários'!$A$2:$D$1048576,2,0),0)","v":0},null,null,null,null,null,"00:00:00",null,"00:00:00","00:00:00"]
[null,{"$f":"IFERROR(VLOOKUP(A12284,'Banco de Funcionários'!$A$2:$D$1048576,2,0),0)","v":0},null,null,null,null,null,"00:00:00",null,"00:00:00","00:00:00"]
[null,{"$f":"IFERROR(VLOOKUP(A12285,'Banco de Funcionários'!$A$2:$D$1048576,2,0),0)","v":0},null,null,null,null,null,"00:00:00",null,"00:00:00","00:00:00"]
[null,{"$f":"IFERROR(VLOOKUP(A12286,'Banco de Funcionários'!$A$2:$D$1048576,2,0),0)","v":0},null,null,null,null,null,"00:00:00",null,"00:00:00","00:00:00"]
[null,{"$f":"IFERROR(VLOOKUP(A12287,'Banco de Funcionários'!$A$2:$D$1048576,2,0),0)","v":0},null,null,null,null,null,"00:00:00",null,"00:00:00","00:00:00"]
[null,{"$f":"IFERROR(VLOOKUP(A12288,'Banco de Funcionários'!$A$2:$D$1048576,2,0),0)","v":0},null,null,null,null,null,"00:00:00",null,"00:00:00","00:00:00"]
[null,{"$f":"IFERROR(VLOOKUP(A12289,'Banco de Funcionários'!$A$2:$D$1048576,2,0),0)","v":0},null,null,null,null,null,"00:00:00",null,"00:00:00","00:00:00"]
[null,{"$f":"IFERROR(VLOOKUP(A12290,'Banco de Funcionários'!$A$2:$D$1048576,2,0),0)","v":0},null,null,null,null,null,"00:00:00",null,"00:00:00","00:00:00"]
[null,{"$f":"IFERROR(VLOOKUP(A12291,'Banco de Funcionários'!$A$2:$D$1048576,2,0),0)","v":0},null,null,null,null,null,{"$f":"(F12291-E12291)-G12291","v":"00:00:00"},null,{"$f":"IFERROR(H12291-I12291,\"\")","v":"00:00:00"},{"$f":"IFERROR(H12291+J12291,0)","v":"00:00:00"}]
[null,{"$f":"IFERROR(VLOOKUP(A12292,'Banco de Funcionários'!$A$2:$D$1048576,2,0),0)","v":0},null,null,null,null,null,"00:00:00",null,"00:00:00","00:00:00"]
[null,{"$f":"IFERROR(VLOOKUP(A12293,'Banco de Funcionários'!$A$2:$D$1048576,2,0),0)","v":0},null,null,null,null,null,"00:00:00",null,"00:00:00","00:00:00"]
[null,{"$f":"IFERROR(VLOOKUP(A12294,'Banco de Funcionários'!$A$2:$D$1048576,2,0),0)","v":0},null,null,null,null,null,"00:00:00",null,"00:00:00","00:00:00"]
[null,{"$f":"IFERROR(VLOOKUP(A12295,'Banco de Funcionários'!$A$2:$D$1048576,2,0),0)","v":0},null,null,null,null,null,"00:00:00",null,"00:00:00","00:00:00"]
[null,{"$f":"IFERROR(VLOOKUP(A12296,'Banco de Funcionários'!$A$2:$D$1048576,2,0),0)","v":0},null,null,null,null,null,"00:00:00",null,"00:00:00","00:00:00"]
[null,{"$f":"IFERROR(VLOOKUP(A12297,'Banco de Funcionários'!$A$2:$D$1048576,2,0),0)","v":0},null,null,null,null,null,"00:00:00",null,"00:00:00","00:00:00"]
[null,{"$f":"IFERROR(VLOOKUP(A12298,'Banco de Funcionários'!$A$2:$D$1048576,2,0),0)","v":0},null,null,null,null,null,"00:00:00",null,"00:00:00","00:00:00"]
[null,{"$f":"IFERROR(VLOOKUP(A12299,'Banco de Funcionários'!$A$2:$D$1048576,2,0),0)","v":0},null,null,null,null,null,"00:00:00",null,"00:00:00","00:00:00"]
[null,{"$f":"IFERROR(VLOOKUP(A12300,'Banco de Funcionários'!$A$2:$D$1048576,2,0),0)","v":0},null,null,null,null,null,"00:00:00",null,"00:00:00","00:00:00"]
[null,{"$f":"IFERROR(VLOOKUP(A12301,'Banco de Funcionários'!$A$2:$D$1048576,2,0),0)","v":0},null,null,null,null,null,"00:00:00",null,"00:00:00","00:00:00"]
[null,{"$f":"IFERROR(VLOOKUP(A12302,'Banco de Funcionários'!$A$2:$D$1048576,2,0),0)","v":0},null,null,null,null,null,"00:00:00",null,"00:00:00","00:00:00"]
[null,{"$f":"IFERROR(VLOOKUP(A12303,'Banco de Funcionários'!$A$2:$D$1048576,2,0),0)","v":0},null,null,null,null,null,"00:00:00",null,"00:00:00","00:00:00"]
[null,{"$f":"IFERROR(VLOOKUP(A12304,'Banco de Funcionários'!$A$2:$D$1048576,2,0),0)","v":0},null,null,null,null,null,"00:00:00",null,"00:00:00","00:00:00"]
[null,{"$f":"IFERROR(VLOOKUP(A12305,'Banco de Funcionários'!$A$2:$D$1048576,2,0),0)","v":0},null,null,null,null,null,"00:00:00",null,"00:00:00","00:00:00"]
[null,{"$f":"IFERROR(VLOOKUP(A12306,'Banco de Funcionários'!$A$2:$D$1048576,2,0),0)","v":0},null,null,null,null,null,"00:00:00",null,"00:00:00","00:00:00"]
[null,{"$f":"IFERROR(VLOOKUP(A12307,'Banco de Funcionários'!$A$2:$D$1048576,2,0),0)","v":0},null,null,null,null,null,"00:00:00",null,"00:00:00","00:00:00"]
[null,{"$f":"IFERROR(VLOOKUP(A12308,'Banco de Funcionários'!$A$2:$D$1048576,2,0),0)","v":0},null,null,null,null,null,"00:00:00",null,"00:00:00","00:00:00"]
[null,{"$f":"IFERROR(VLOOKUP(A12309,'Banco de Funcionários'!$A$2:$D$1048576,2,0),0)","v":0},null,null,null,null,null,"00:00:00",null,"00:00:00","00:00:00"]
[null,{"$f":"IFERROR(VLOOKUP(A12310,'Banco de Funcionários'!$A$2:$D$1048576,2,0),0)","v":0},null,null,null,null,null,"00:00:00",null,"00:00:00","00:00:00"]
[null,{"$f":"IFERROR(VLOOKUP(A12311,'Banco de Funcionários'!$A$2:$D$1048576,2,0),0)","v":0},null,null,null,null,null,"00:00:00",null,"00:00:00","00:00:00"]
[null,{"$f":"IFERROR(VLOOKUP(A12312,'Banco de Funcionários'!$A$2:$D$1048576,2,0),0)","v":0},null,null,null,null,null,"00:00:00",null,"00:00:00","00:00:00"]
[null,{"$f":"IFERROR(VLOOKUP(A12313,'Banco de Funcionários'!$A$2:$D$1048576,2,0),0)","v":0},null,null,null,null,null,"00:00:00",null,"00:00:00","00:00:00"]
[null,{"$f":"IFERROR(VLOOKUP(A12314,'Banco de Funcionários'!$A$2:$D$1048576,2,0),0)","v":0},null,null,null,null,null,"00:00:00",null,"00:00:00","00:00:00"]
[null,{"$f":"IFERROR(VLOOKUP(A12315,'Banco de Funcionários'!$A$2:$D$1048576,2,0),0)","v":0},null,null,null,null,null,"00:00:00",null,"00:00:00","00:00:00"]
[null,{"$f":"IFERROR(VLOOKUP(A12316,'Banco de Funcionários'!$A$2:$D$1048576,2,0),0)","v":0},null,null,null,null,null,"00:00:00",null,"00:00:00","00:00:00"]
[null,{"$f":"IFERROR(VLOOKUP(A12317,'Banco de Funcionários'!$A$2:$D$1048576,2,0),0)","v":0},null,null,null,null,null,"00:00:00",null,"00:00:00","00:00:00"]
[null,{"$f":"IFERROR(VLOOKUP(A12318,'Banco de Funcionários'!$A$2:$D$1048576,2,0),0)","v":0},null,null,null,null,null,"00:00:00",null,"00:00:00","00:00:00"]
[null,{"$f":"IFERROR(VLOOKUP(A12319,'Banco de Funcionários'!$A$2:$D$1048576,2,0),0)","v":0},null,null,null,null,null,"00:00:00",null,"00:00:00","00:00:00"]
[null,{"$f":"IFERROR(VLOOKUP(A12320,'Banco de Funcionários'!$A$2:$D$1048576,2,0),0)","v":0},null,null,null,null,null,"00:00:00",null,"00:00:00","00:00:00"]
[null,{"$f":"IFERROR(VLOOKUP(A12321,'Banco de Funcionários'!$A$2:$D$1048576,2,0),0)","v":0},null,null,null,null,null,"00:00:00",null,"00:00:00","00:00:00"]
[null,{"$f":"IFERROR(VLOOKUP(A12322,'Banco de Funcionários'!$A$2:$D$1048576,2,0),0)","v":0},null,null,null,null,null,"00:00:00",null,"00:00:00","00:00:00"]
[null,{"$f":"IFERROR(VLOOKUP(A12323,'Banco de Funcionários'!$A$2:$D$1048576,2,0),0)","v":0},null,null,null,null,null,"00:00:00",null,"00:00:00","00:00:00"]
[null,{"$f":"IFERROR(VLOOKUP(A12324,'Banco de Funcionários'!$A$2:$D$1048576,2,0),0)","v":0},null,null,null,null,null,"00:00:00",null,"00:00:00","00:00:00"]
[null,{"$f":"IFERROR(VLOOKUP(A12325,'Banco de Funcionários'!$A$2:$D$1048576,2,0),0)","v":0},null,null,null,null,null,"00:00:00",null,"00:00:00","00:00:00"]
[null,{"$f":"IFERROR(VLOOKUP(A12326,'Banco de Funcionários'!$A$2:$D$1048576,2,0),0)","v":0},null,null,null,null,null,"00:00:00",null,"00:00:00","00:00:00"]
[null,{"$f":"IFERROR(VLOOKUP(A12327,'Banco de Funcionários'!$A$2:$D$1048576,2,0),0)","v":0},null,null,null,null,null,"00:00:00",null,"00:00:00","00:00:00"]
[null,{"$f":"IFERROR(VLOOKUP(A12328,'Banco de Funcionários'!$A$2:$D$1048576,2,0),0)","v":0},null,null,null,null,null,"00:00:00",null,"00:00:00","00:00:00"]
[null,{"$f":"IFERROR(VLOOKUP(A12329,'Banco de Funcionários'!$A$2:$D$1048576,2,0),0)","v":0},null,null,null,null,null,"00:00:00",null,"00:00:00","00:00:00"]
[null,{"$f":"IFERROR(VLOOKUP(A12330,'Banco de Funcionários'!$A$2:$D$1048576,2,0),0)","v":0},null,null,null,null,null,"00:00:00",null,"00:00:00","00:00:00"]
[null,{"$f":"IFERROR(VLOOKUP(A12331,'Banco de Funcionários'!$A$2:$D$1048576,2,0),0)","v":0},null,null,null,null,null,"00:00:00",null,"00:00:00","00:00:00"]
[null,{"$f":"IFERROR(VLOOKUP(A12332,'Banco de Funcionários'!$A$2:$D$1048576,2,0),0)","v":0},null,null,null,null,null,"00:00:00",null,"00:00:00","00:00:00"]
[null,{"$f":"IFERROR(VLOOKUP(A12333,'Banco de Funcionários'!$A$2:$D$1048576,2,0),0)","v":0},null,null,null,null,null,"00:00:00",null,"00:00:00","00:00:00"]
[null,{"$f":"IFERROR(VLOOKUP(A12334,'Banco de Funcionários'!$A$2:$D$1048576,2,0),0)","v":0},null,null,null,null,null,"00:00:00",null,"00:00:00","00:00:00"]
[null,{"$f":"IFERROR(VLOOKUP(A12335,'Banco de Funcionários'!$A$2:$D$1048576,2,0),0)","v":0},null,null,null,null,null,"00:00:00",null,"00:00:00","00:00:00"]
[null,{"$f":"IFERROR(VLOOKUP(A12336,'Banco de Funcionários'!$A$2:$D$1048576,2,0),0)","v":0},null,null,null,null,null,"00:00:00",null,"00:00:00","00:00:00"]
[null,{"$f":"IFERROR(VLOOKUP(A12337,'Banco de Funcionários'!$A$2:$D$1048576,2,0),0)","v":0},null,null,null,null,null,"00:00:00",null,"00:00:00","00:00:00"]
[null,{"$f":"IFERROR(VLOOKUP(A12338,'Banco de Funcionários'!$A$2:$D$1048576,2,0),0)","v":0},null,null,null,null,null,"00:00:00",null,"00:00:00","00:00:00"]
[null,{"$f":"IFERROR(VLOOKUP(A12339,'Banco de Funcionários'!$A$2:$D$1048576,2,0),0)","v":0},null,null,null,null,null,"00:00:00",null,"00:00:00","00:00:00"]
[null,{"$f":"IFERROR(VLOOKUP(A12340,'Banco de Funcionários'!$A$2:$D$1048576,2,0),0)","v":0},null,null,null,null,null,"00:00:00",null,"00:00:00","00:00:00"]
[null,{"$f":"IFERROR(VLOOKUP(A12341,'Banco de Funcionários'!$A$2:$D$1048576,2,0),0)","v":0},null,null,null,null,null,"00:00:00",null,"00:00:00","00:00:00"]
[null,{"$f":"IFERROR(VLOOKUP(A12342,'Banco de Funcionários'!$A$2:$D$1048576,2,0),0)","v":0},null,null,null,null,null,"00:00:00",null,"00:00:00","00:00:00"]
[null,{"$f":"IFERROR(VLOOKUP(A12343,'Banco de Funcionários'!$A$2:$D$1048576,2,0),0)","v":0},null,null,null,null,null,"00:00:00",null,"00:00:00","00:00:00"]
[null,{"$f":"IFERROR(VLOOKUP(A12344,'Banco de Funcionários'!$A$2:$D$1048576,2,0),0)","v":0},null,null,null,null,null,"00:00:00",null,"00:00:00","00:00:00"]
[null,{"$f":"IFERROR(VLOOKUP(A12345,'Banco de Funcionários'!$A$2:$D$1048576,2,0),0)","v":0},null,null,null,null,null,"00:00:00",null,"00:00:00","00:00:00"]
[null,{"$f":"IFERROR(VLOOKUP(A12346,'Banco de Funcionários'!$A$2:$D$1048576,2,0),0)","v":0},null,null,null,null,null,"00:00:00",null,"00:00:00","00:00:00"]
[null,{"$f":"IFERROR(VLOOKUP(A12347,'Banco de Funcionários'!$A$2:$D$1048576,2,0),0)","v":0},null,null,null,null,null,"00:00:00",null,"00:00:00","00:00:00"]
[null,{"$f":"IFERROR(VLOOKUP(A12348,'Banco de Funcionários'!$A$2:$D$1048576,2,0),0)","v":0},null,null,null,null,null,"00:00:00",null,"00:00:00","00:00:00"]
[null,{"$f":"IFERROR(VLOOKUP(A12349,'Banco de Funcionários'!$A$2:$D$1048576,2,0),0)","v":0},null,null,null,null,null,"00:00:00",null,"00:00:00","00:00:00"]
[null,{"$f":"IFERROR(VLOOKUP(A12350,'Banco de Funcionários'!$A$2:$D$1048576,2,0),0)","v":0},null,null,null,null,null,"00:00:00",null,"00:00:00","00:00:00"]
[null,{"$f":"IFERROR(VLOOKUP(A12351,'Banco de Funcionários'!$A$2:$D$1048576,2,0),0)","v":0},null,null,null,null,null,"00:00:00",null,"00:00:00","00:00:00"]
[null,{"$f":"IFERROR(VLOOKUP(A12352,'Banco de Funcionários'!$A$2:$D$1048576,2,0),0)","v":0},null,null,null,null,null,"00:00:00",null,"00:00:00","00:00:00"]
[null,{"$f":"IFERROR(VLOOKUP(A12353,'Banco de Funcionários'!$A$2:$D$1048576,2,0),0)","v":0},null,null,null,null,null,"00:00:00",null,"00:00:00","00:00:00"]
[null,{"$f":"IFERROR(VLOOKUP(A12354,'Banco de Funcionários'!$A$2:$D$1048576,2,0),0)","v":0},null,null,null,null,null,"00:00:00",null,"00:00:00","00:00:00"]
[null,{"$f":"IFERROR(VLOOKUP(A12355,'Banco de Funcionários'!$A$2:$D$1048576,2,0),0)","v":0},null,null,null,null,null,{"$f":"(F12355-E12355)-G12355","v":"00:00:00"},null,{"$f":"IFERROR(H12355-I12355,\"\")","v":"00:00:00"},{"$f":"IFERROR(H12355+J12355,0)","v":"00:00:00"}]
[null,{"$f":"IFERROR(VLOOKUP(A12356,'Banco de Funcionários'!$A$2:$D$1048576,2,0),0)","v":0},null,null,null,null,null,"00:00:00",null,"00:00:00","00:00:00"]
[null,{"$f":"IFERROR(VLOOKUP(A12357,'Banco de Funcionários'!$A$2:$D$1048576,2,0),0)","v":0},null,null,null,null,null,"00:00:00",null,"00:00:00","00:00:00"]
[null,{"$f":"IFERROR(VLOOKUP(A12358,'Banco de Funcionários'!$A$2:$D$1048576,2,0),0)","v":0},null,null,null,null,null,"00:00:00",null,"00:00:00","00:00:00"]
[null,{"$f":"IFERROR(VLOOKUP(A12359,'Banco de Funcionários'!$A$2:$D$1048576,2,0),0)","v":0},null,null,null,null,null,"00:00:00",null,"00:00:00","00:00:00"]
[null,{"$f":"IFERROR(VLOOKUP(A12360,'Banco de Funcionários'!$A$2:$D$1048576,2,0),0)","v":0},null,null,null,null,null,"00:00:00",null,"00:00:00","00:00:00"]
[null,{"$f":"IFERROR(VLOOKUP(A12361,'Banco de Funcionários'!$A$2:$D$1048576,2,0),0)","v":0},null,null,null,null,null,"00:00:00",null,"00:00:00","00:00:00"]
[null,{"$f":"IFERROR(VLOOKUP(A12362,'Banco de Funcionários'!$A$2:$D$1048576,2,0),0)","v":0},null,null,null,null,null,"00:00:00",null,"00:00:00","00:00:00"]
[null,{"$f":"IFERROR(VLOOKUP(A12363,'Banco de Funcionários'!$A$2:$D$1048576,2,0),0)","v":0},null,null,null,null,null,"00:00:00",null,"00:00:00","00:00:00"]
[null,{"$f":"IFERROR(VLOOKUP(A12364,'Banco de Funcionários'!$A$2:$D$1048576,2,0),0)","v":0},null,null,null,null,null,"00:00:00",null,"00:00:00","00:00:00"]
[null,{"$f":"IFERROR(VLOOKUP(A12365,'Banco de Funcionários'!$A$2:$D$1048576,2,0),0)","v":0},null,null,null,null,null,"00:00:00",null,"00:00:00","00:00:00"]
[null,{"$f":"IFERROR(VLOOKUP(A12366,'Banco de Funcionários'!$A$2:$D$1048576,2,0),0)","v":0},null,null,null,null,null,"00:00:00",null,"00:00:00","00:00:00"]
[null,{"$f":"IFERROR(VLOOKUP(A12367,'Banco de Funcionários'!$A$2:$D$1048576,2,0),0)","v":0},null,null,null,null,null,"00:00:00",null,"00:00:00","00:00:00"]
[null,{"$f":"IFERROR(VLOOKUP(A12368,'Banco de Funcionários'!$A$2:$D$1048576,2,0),0)","v":0},null,null,null,null,null,"00:00:00",null,"00:00:00","00:00:00"]
[null,{"$f":"IFERROR(VLOOKUP(A12369,'Banco de Funcionários'!$A$2:$D$1048576,2,0),0)","v":0},null,null,null,null,null,"00:00:00",null,"00:00:00","00:00:00"]
[null,{"$f":"IFERROR(VLOOKUP(A12370,'Banco de Funcionários'!$A$2:$D$1048576,2,0),0)","v":0},null,null,null,null,null,"00:00:00",null,"00:00:00","00:00:00"]
[null,{"$f":"IFERROR(VLOOKUP(A12371,'Banco de Funcionários'!$A$2:$D$1048576,2,0),0)","v":0},null,null,null,null,null,"00:00:00",null,"00:00:00","00:00:00"]
[null,{"$f":"IFERROR(VLOOKUP(A12372,'Banco de Funcionários'!$A$2:$D$1048576,2,0),0)","v":0},null,null,null,null,null,"00:00:00",null,"00:00:00","00:00:00"]
[null,{"$f":"IFERROR(VLOOKUP(A12373,'Banco de Funcionários'!$A$2:$D$1048576,2,0),0)","v":0},null,null,null,null,null,"00:00:00",null,"00:00:00","00:00:00"]
[null,{"$f":"IFERROR(VLOOKUP(A12374,'Banco de Funcionários'!$A$2:$D$1048576,2,0),0)","v":0},null,null,null,null,null,"00:00:00",null,"00:00:00","00:00:00"]
[null,{"$f":"IFERROR(VLOOKUP(A12375,'Banco de Funcionários'!$A$2:$D$1048576,2,0),0)","v":0},null,null,null,null,null,"00:00:00",null,"00:00:00","00:00:00"]
[null,{"$f":"IFERROR(VLOOKUP(A12376,'Banco de Funcionários'!$A$2:$D$1048576,2,0),0)","v":0},null,null,null,null,null,"00:00:00",null,"00:00:00","00:00:00"]
[null,{"$f":"IFERROR(VLOOKUP(A12377,'Banco de Funcionários'!$A$2:$D$1048576,2,0),0)","v":0},null,null,null,null,null,"00:00:00",null,"00:00:00","00:00:00"]
[null,{"$f":"IFERROR(VLOOKUP(A12378,'Banco de Funcionários'!$A$2:$D$1048576,2,0),0)","v":0},null,null,null,null,null,"00:00:00",null,"00:00:00","00:00:00"]
[null,{"$f":"IFERROR(VLOOKUP(A12379,'Banco de Funcionários'!$A$2:$D$1048576,2,0),0)","v":0},null,null,null,null,null,"00:00:00",null,"00:00:00","00:00:00"]
[null,{"$f":"IFERROR(VLOOKUP(A12380,'Banco de Funcionários'!$A$2:$D$1048576,2,0),0)","v":0},null,null,null,null,null,"00:00:00",null,"00:00:00","00:00:00"]
[null,{"$f":"IFERROR(VLOOKUP(A12381,'Banco de Funcionários'!$A$2:$D$1048576,2,0),0)","v":0},null,null,null,null,null,"00:00:00",null,"00:00:00","00:00:00"]
[null,{"$f":"IFERROR(VLOOKUP(A12382,'Banco de Funcionários'!$A$2:$D$1048576,2,0),0)","v":0},null,null,null,null,null,"00:00:00",null,"00:00:00","00:00:00"]
[null,{"$f":"IFERROR(VLOOKUP(A12383,'Banco de Funcionários'!$A$2:$D$1048576,2,0),0)","v":0},null,null,null,null,null,"00:00:00",null,"00:00:00","00:00:00"]
[null,{"$f":"IFERROR(VLOOKUP(A12384,'Banco de Funcionários'!$A$2:$D$1048576,2,0),0)","v":0},null,null,null,null,null,"00:00:00",null,"00:00:00","00:00:00"]
[null,{"$f":"IFERROR(VLOOKUP(A12385,'Banco de Funcionários'!$A$2:$D$1048576,2,0),0)","v":0},null,null,null,null,null,"00:00:00",null,"00:00:00","00:00:00"]
[null,{"$f":"IFERROR(VLOOKUP(A12386,'Banco de Funcionários'!$A$2:$D$1048576,2,0),0)","v":0},null,null,null,null,null,"00:00:00",null,"00:00:00","00:00:00"]
[null,{"$f":"IFERROR(VLOOKUP(A12387,'Banco de Funcionários'!$A$2:$D$1048576,2,0),0)","v":0},null,null,null,null,null,"00:00:00",null,"00:00:00","00:00:00"]
[null,{"$f":"IFERROR(VLOOKUP(A12388,'Banco de Funcionários'!$A$2:$D$1048576,2,0),0)","v":0},null,null,null,null,null,"00:00:00",null,"00:00:00","00:00:00"]
[null,{"$f":"IFERROR(VLOOKUP(A12389,'Banco de Funcionários'!$A$2:$D$1048576,2,0),0)","v":0},null,null,null,null,null,"00:00:00",null,"00:00:00","00:00:00"]
[null,{"$f":"IFERROR(VLOOKUP(A12390,'Banco de Funcionários'!$A$2:$D$1048576,2,0),0)","v":0},null,null,null,null,null,"00:00:00",null,"00:00:00","00:00:00"]
[null,{"$f":"IFERROR(VLOOKUP(A12391,'Banco de Funcionários'!$A$2:$D$1048576,2,0),0)","v":0},null,null,null,null,null,"00:00:00",null,"00:00:00","00:00:00"]
[null,{"$f":"IFERROR(VLOOKUP(A12392,'Banco de Funcionários'!$A$2:$D$1048576,2,0),0)","v":0},null,null,null,null,null,"00:00:00",null,"00:00:00","00:00:00"]
[null,{"$f":"IFERROR(VLOOKUP(A12393,'Banco de Funcionários'!$A$2:$D$1048576,2,0),0)","v":0},null,null,null,null,null,"00:00:00",null,"00:00:00","00:00:00"]
[null,{"$f":"IFERROR(VLOOKUP(A12394,'Banco de Funcionários'!$A$2:$D$1048576,2,0),0)","v":0},null,null,null,null,null,"00:00:00",null,"00:00:00","00:00:00"]
[null,{"$f":"IFERROR(VLOOKUP(A12395,'Banco de Funcionários'!$A$2:$D$1048576,2,0),0)","v":0},null,null,null,null,null,"00:00:00",null,"00:00:00","00:00:00"]
[null,{"$f":"IFERROR(VLOOKUP(A12396,'Banco de Funcionários'!$A$2:$D$1048576,2,0),0)","v":0},null,null,null,null,null,"00:00:00",null,"00:00:00","00:00:00"]
[null,{"$f":"IFERROR(VLOOKUP(A12397,'Banco de Funcionários'!$A$2:$D$1048576,2,0),0)","v":0},null,null,null,null,null,"00:00:00",null,"00:00:00","00:00:00"]
[null,{"$f":"IFERROR(VLOOKUP(A12398,'Banco de Funcionários'!$A$2:$D$1048576,2,0),0)","v":0},null,null,null,null,null,"00:00:00",null,"00:00:00","00:00:00"]
[null,{"$f":"IFERROR(VLOOKUP(A12399,'Banco de Funcionários'!$A$2:$D$1048576,2,0),0)","v":0},null,null,null,null,null,"00:00:00",null,"00:00:00","00:00:00"]
[null,{"$f":"IFERROR(VLOOKUP(A12400,'Banco de Funcionários'!$A$2:$D$1048576,2,0),0)","v":0},null,null,null,null,null,"00:00:00",null,"00:00:00","00:00:00"]
[null,{"$f":"IFERROR(VLOOKUP(A12401,'Banco de Funcionários'!$A$2:$D$1048576,2,0),0)","v":0},null,null,null,null,null,"00:00:00",null,"00:00:00","00:00:00"]
[null,{"$f":"IFERROR(VLOOKUP(A12402,'Banco de Funcionários'!$A$2:$D$1048576,2,0),0)","v":0},null,null,null,null,null,"00:00:00",null,"00:00:00","00:00:00"]
[null,{"$f":"IFERROR(VLOOKUP(A12403,'Banco de Funcionários'!$A$2:$D$1048576,2,0),0)","v":0},null,null,null,null,null,"00:00:00",null,"00:00:00","00:00:00"]
[null,{"$f":"IFERROR(VLOOKUP(A12404,'Banco de Funcionários'!$A$2:$D$1048576,2,0),0)","v":0},null,null,null,null,null,"00:00:00",null,"00:00:00","00:00:00"]
[null,{"$f":"IFERROR(VLOOKUP(A12405,'Banco de Funcionários'!$A$2:$D$1048576,2,0),0)","v":0},null,null,null,null,null,"00:00:00",null,"00:00:00","00:00:00"]
[null,{"$f":"IFERROR(VLOOKUP(A12406,'Banco de Funcionários'!$A$2:$D$1048576,2,0),0)","v":0},null,null,null,null,null,"00:00:00",null,"00:00:00","00:00:00"]
[null,{"$f":"IFERROR(VLOOKUP(A12407,'Banco de Funcionários'!$A$2:$D$1048576,2,0),0)","v":0},null,null,null,null,null,"00:00:00",null,"00:00:00","00:00:00"]
[null,{"$f":"IFERROR(VLOOKUP(A12408,'Banco de Funcionários'!$A$2:$D$1048576,2,0),0)","v":0},null,null,null,null,null,"00:00:00",null,"00:00:00","00:00:00"]
[null,{"$f":"IFERROR(VLOOKUP(A12409,'Banco de Funcionários'!$A$2:$D$1048576,2,0),0)","v":0},null,null,null,null,null,"00:00:00",null,"00:00:00","00:00:00"]
[null,{"$f":"IFERROR(VLOOKUP(A12410,'Banco de Funcionários'!$A$2:$D$1048576,2,0),0)","v":0},null,null,null,null,null,"00:00:00",null,"00:00:00","00:00:00"]
[null,{"$f":"IFERROR(VLOOKUP(A12411,'Banco de Funcionários'!$A$2:$D$1048576,2,0),0)","v":0},null,null,null,null,null,null,null,"00:00:00","00:00:00"]

{"sheet":"Folha de Ponto","index":4,"n_rows":12,"n_cols":15,"rows_kept":12,"cut":false,"hidden":false,"merged":[[0,3,2,4],[5,4,5,5],[5,9,5,10],[6,4,6,7],[6,9,6,10],[4,4,4,5],[0,5,2,9]]}
[null,null,null,"Logamarca da empresa aqui",null,"Folha de Ponto Mensal"]
[]
[]
[]
[null,null,null,"Nome",{"$f":"VLOOKUP(M10,'Banco de Funcionários'!A:D,2,0)","v":"João da Silva"},null,"Matrícula",{"$f":"M10","v":"000156"}]
[null,null,null,"Função",{"$f":"VLOOKUP(M10,'Banco de Funcionários'!A:D,3,0)","v":"Mecânico"},null,"Data Admissão",{"$f":"VLOOKUP(M10,'Banco de Funcionários'!A:D,4,0)","v":"2015-07-05"}]
[null,null,null,"Assinatura"]
[]
["Matrícula","Nome","Mês","Data","Entrada","Saída","Intervalo","Horas trabalhadas","Carga Horária / Diaria","Hora Extra","Total de horas",null,"Matrícula","Nome","Mês"]
["000156","João da Silva","Julho",5,"08:00:00","17:00:00","01:00:00","08:00:00","08:00:00","00:00:00","08:00:00",null,"000156",{"$f":"VLOOKUP(M10,'Banco de Funcionários'!A:D,2,0)","v":"João da Silva"},"Julho"]
["000156","João da Silva","Julho",6,"08:00:00","17:30:00","00:00:00","09:30:00","08:00:00","01:30:00","11:00:00"]
["000156","João da Silva","Julho",7,"08:00:00","18:00:00","03:00:00","07:00:00","08:00:00",-4.166666666666663E-2,"06:00:00"]

{"sheet":"Plan1","index":5,"n_rows":14,"n_cols":2,"rows_kept":14,"cut":false,"hidden":false,"merged":[]}
[]
[]
[null,"Janeiro"]
[null,"Fevereiro"]
[null,"Março"]
[null,"Abril"]
[null,"Maio"]
[null,"Junho"]
[null,"Julho"]
[null,"Agosto"]
[null,"Setembro"]
[null,"Outubro"]
[null,"Novembro"]
[null,"Dezembro"]