{"text_format":"1","workbook":"xlsx","n_sheets":6,"sheets":["Início","Instruções","Cadastro","Funcionários","Registro de Horas","Folha de Ponto"],"not_rendered":{"charts":0,"images":3,"macros":1,"external_links":0,"defined_names":5,"comments":0,"pivot_tables":0},"unopened":[],"bounds":{"document_bytes":16777216,"sheet_cells":100000,"rows_first":2000,"rows_last":500,"rows_between":2000,"halvings":0,"cell_chars":16384,"cell_head_chars":4096},"cells_cut":0,"cells_raw":0,"read":"whole","date_system":"1900"}

{"sheet":"Início","index":0,"n_rows":2,"n_cols":2,"rows_kept":2,"cut":false,"hidden":false,"merged":[[1,1,1,3],[2,1,2,3]]}
[]
[null,"Controle de Horas / Folha de Ponto"]

{"sheet":"Instruções","index":1,"n_rows":51,"n_cols":1,"rows_kept":51,"cut":false,"hidden":false,"merged":[[50,0,53,14],[0,0,0,14],[4,0,4,14],[6,0,9,14],[2,0,2,14],[16,0,22,14],[24,0,24,14],[11,0,13,14],[25,0,33,14],[35,0,35,14],[36,0,43,14],[15,0,15,14],[45,0,48,14]]}
["INSTRUÇÕES DE USO (LEIA ANTES DE USAR PLANILHA)"]
[]
["ATENÇÃO!"]
["Antes de utilizar a planilha, é necessário habilitar as macros. Para isto, siga as etapas apresentadas neste vídeo:"]
["https://youtu.be/nOrhtwX-Oac"]
[]
["A planilha é compatível apenas com o Microsoft Excel 2010 para Windows e versões superiores.\nA planilha não é compatível com Excel Online, Google Planilhas, Excel para celular, Excel para tablet ou qualquer outro software de planilha que não seja o Microsoft Excel 2010 para Windows e versões superiores."]
[]
[]
[]
[]
["A Planilha Controle de Horas e Folha de Ponto não realiza cálculos de salários nem diferencia horas extras de horas normais para plantonistas."]
[]
[]
[]
["Passo 1: Cadastro de Funcionários"]
["1. Acesse a guia \"Cadastro\" ou clique no botão \"Cadastrar funcionários\" no menu inicial.\n2. Preencha os campo: Matrícula, Nome, Departamento, Função, Carga Horária Diária e Data de admissão.\n* Todos os campos são de preenchimento obrigatório.\n3. Clique no botão \"Salvar cadastro\" para enviar os dados do funcionário para a guia \"Funcionários.\n4. Se precisar editar um cadastro, clique no botão \"Editar cadastro\" ou acesse a guia \"Funcionários\"."]
[]
[]
[]
[]
[]
[]
[]
["Passo 2: Registro de Horas trabalhadas"]
["1. Acesse a guia \"Registro de Horas\" ou clique no botão \"Registro de Horas\" no menu inicial.\n2. Selecione a matrícula do funcionário na lista. A planilha mostrará automaticamente o funcionário na coluna B e a carga horária diária do funcionário na coluna I.\n3. Insira a data em que deseja registrar as horas trabalhadas (Formato DD/MM/AAAA).\n4. Insira a Hora de Entrada, Horário de Saída p/ Intervalo, Horário de retorno do Intervalo e Horário de Saída. Todos os horários devem estar no formato HH:MM.\n\n*Após preencher os campos acima, a planilha mostrará as Horas Trabalhadas na coluna H e o saldo do Dia na coluna J.\n*Não deixe linhas em branco entre os registros de horas, pois isto poderá gerar erros na planilha."]
[]
[]
[]
[]
[]
[]
[]
[]
[]
["Passo 3: Gerando a folha de ponto"]
["1. Acesse a guia \"Folha de Ponto\" ou clique no botão \"Gerar Folha de Ponto\" no menu inicial.\n2. Selecione a matrícula do funcionário na célula C3. Os dados do funcionário serão mostrados automaticamente no cabeçalho da folha de ponto.\n3. Preencha os campos \"Data Inicial\" e \"Data Final\" com as datas em que deseja gerar a folha de ponto. Para gerar a folha de ponto do mês de janeiro, por exemplo, basta inserir 01/01/2024 no campo \"Data Inicial\" e 31/01/2024 no campo de \"Data final\".\n4. Após preencher os campos Matrícula, Data inicial e Data final, clique no botão \"Gerar Folha de Ponto\". A planilha mostrará todos os registros de horas trabalhadas do funcionário selecionando, dentro do período escolhido.\n5. Para imprimir a folha de ponto, clique no botão \"Imprimir Folha de Ponto\"."]
[]
[]
[]
[]
[]
[]
[]
[]
["A Planilha é bloqueada para edição em sua estrutura por questões de direitos autorais. Não fornecemos senhas da planilha.\nImportante: Não realizamos alterações na planilha."]
[]
[]
[]
[]
["A Planilha é disponibilizada exclusivamente no site oficial do desenvolvedor. O download de modelo não lhe garante o direito de comercializá-lo ou distribuí-lo em outros sites. Qualquer violação de direitos autorais será respondida judicialmente."]

{"sheet":"Cadastro","index":2,"n_rows":16,"n_cols":5,"rows_kept":16,"cut":false,"hidden":false,"merged":[]}
[]
[]
[]
[null,null,null,null,"Cadastrar Funcionários"]
[]
[null,null,null,"Matrícula"]
[]
[null,null,null,"Nome"]
[]
[null,null,null,"Departamento"]
[]
[null,null,null,"Função"]
[]
[null,null,null,"Carga Horária Diária"]
[]
[null,null,null,"Data de admissão"]

{"sheet":"Funcionários","index":3,"n_rows":1,"n_cols":6,"rows_kept":1,"cut":false,"hidden":false,"merged":[]}
["Matrícula","Nome","Departamento","Função","Carga Horária Diária","Data de Admissão"]

{"sheet":"Registro de Horas","index":4,"n_rows":2001,"n_cols":10,"rows_kept":2001,"cut":false,"hidden":false,"merged":[]}
["Matrícula","Nome","Data","Horário de Entrada","Horário de Saída p/ Intervalo","Horário de retorno do Intervalo","Horário de Saída","Horas Trabalhadas","Carga Horária / Diaria","Saldo do Dia"]
[null,{"$f":"IFERROR(IF(A2=\"\",\"\",VLOOKUP(A2,Funcionários!$A$2:$F$299,2,0)),\"Funcionário não encontrado\")","v":""},null,null,null,null,null,{"$f":"IF(OR(D2=\"\",E2=\"\",F2=\"\"),\"\",MOD((E2-D2)+(G2-F2),1))","v":""},{"$f":"IFERROR(IF(A2=\"\",\"\",VLOOKUP(A2,Funcionários!$A$2:$F$299,5,0)),\"\")","v":""},{"$f":"IF(H2=\"\",\"\",H2-I2)","v":""}]
[null,{"$f":"IFERROR(IF(A3=\"\",\"\",VLOOKUP(A3,Funcionários!$A$2:$F$299,2,0)),\"Funcionário não encontrado\")","v":""},null,null,null,null,null,{"$f":"IF(OR(D3=\"\",E3=\"\",F3=\"\"),\"\",MOD((E3-D3)+(G3-F3),1))","v":""},{"$f":"IFERROR(IF(A3=\"\",\"\",VLOOKUP(A3,Funcionários!$A$2:$F$299,5,0)),\"\")","v":""},{"$f":"IF(H3=\"\",\"\",H3-I3)","v":""}]
[null,{"$f":"IFERROR(IF(A4=\"\",\"\",VLOOKUP(A4,Funcionários!$A$2:$F$299,2,0)),\"Funcionário não encontrado\")","v":""},null,null,null,null,null,"",{"$f":"IFERROR(IF(A4=\"\",\"\",VLOOKUP(A4,Funcionários!$A$2:$F$299,5,0)),\"\")","v":""},""]
[null,{"$f":"IFERROR(IF(A5=\"\",\"\",VLOOKUP(A5,Funcionários!$A$2:$F$299,2,0)),\"Funcionário não encontrado\")","v":""},null,null,null,null,null,"",{"$f":"IFERROR(IF(A5=\"\",\"\",VLOOKUP(A5,Funcionários!$A$2:$F$299,5,0)),\"\")","v":""},""]
[null,{"$f":"IFERROR(IF(A6=\"\",\"\",VLOOKUP(A6,Funcionários!$A$2:$F$299,2,0)),\"Funcionário não encontrado\")","v":""},null,null,null,null,null,"",{"$f":"IFERROR(IF(A6=\"\",\"\",VLOOKUP(A6,Funcionários!$A$2:$F$299,5,0)),\"\")","v":""},""]
[null,{"$f":"IFERROR(IF(A7=\"\",\"\",VLOOKUP(A7,Funcionários!$A$2:$F$299,2,0)),\"Funcionário não encontrado\")","v":""},null,null,null,null,null,"",{"$f":"IFERROR(IF(A7=\"\",\"\",VLOOKUP(A7,Funcionários!$A$2:$F$299,5,0)),\"\")","v":""},""]
[null,{"$f":"IFERROR(IF(A8=\"\",\"\",VLOOKUP(A8,Funcionários!$A$2:$F$299,2,0)),\"Funcionário não encontrado\")","v":""},null,null,null,null,null,"",{"$f":"IFERROR(IF(A8=\"\",\"\",VLOOKUP(A8,Funcionários!$A$2:$F$299,5,0)),\"\")","v":""},""]
[null,{"$f":"IFERROR(IF(A9=\"\",\"\",VLOOKUP(A9,Funcionários!$A$2:$F$299,2,0)),\"Funcionário não encontrado\")","v":""},null,null,null,null,null,"",{"$f":"IFERROR(IF(A9=\"\",\"\",VLOOKUP(A9,Funcionários!$A$2:$F$299,5,0)),\"\")","v":""},""]
[null,{"$f":"IFERROR(IF(A10=\"\",\"\",VLOOKUP(A10,Funcionários!$A$2:$F$299,2,0)),\"Funcionário não encontrado\")","v":""},null,null,null,null,null,"",{"$f":"IFERROR(IF(A10=\"\",\"\",VLOOKUP(A10,Funcionários!$A$2:$F$299,5,0)),\"\")","v":""},""]
[null,{"$f":"IFERROR(IF(A11=\"\",\"\",VLOOKUP(A11,Funcionários!$A$2:$F$299,2,0)),\"Funcionário não encontrado\")","v":""},null,null,null,null,null,"",{"$f":"IFERROR(IF(A11=\"\",\"\",VLOOKUP(A11,Funcionários!$A$2:$F$299,5,0)),\"\")","v":""},""]
[null,{"$f":"IFERROR(IF(A12=\"\",\"\",VLOOKUP(A12,Funcionários!$A$2:$F$299,2,0)),\"Funcionário não encontrado\")","v":""},null,null,null,null,null,"",{"$f":"IFERROR(IF(A12=\"\",\"\",VLOOKUP(A12,Funcionários!$A$2:$F$299,5,0)),\"\")","v":""},""]
[null,{"$f":"IFERROR(IF(A13=\"\",\"\",VLOOKUP(A13,Funcionários!$A$2:$F$299,2,0)),\"Funcionário não encontrado\")","v":""},null,null,null,null,null,"",{"$f":"IFERROR(IF(A13=\"\",\"\",VLOOKUP(A13,Funcionários!$A$2:$F$299,5,0)),\"\")","v":""},""]
[null,{"$f":"IFERROR(IF(A14=\"\",\"\",VLOOKUP(A14,Funcionários!$A$2:$F$299,2,0)),\"Funcionário não encontrado\")","v":""},null,null,null,null,null,"",{"$f":"IFERROR(IF(A14=\"\",\"\",VLOOKUP(A14,Funcionários!$A$2:$F$299,5,0)),\"\")","v":""},""]
[null,{"$f":"IFERROR(IF(A15=\"\",\"\",VLOOKUP(A15,Funcionários!$A$2:$F$299,2,0)),\"Funcionário não encontrado\")","v":""},null,null,null,null,null,"",{"$f":"IFERROR(IF(A15=\"\",\"\",VLOOKUP(A15,Funcionários!$A$2:$F$299,5,0)),\"\")","v":""},""]
[null,{"$f":"IFERROR(IF(A16=\"\",\"\",VLOOKUP(A16,Funcionários!$A$2:$F$299,2,0)),\"Funcionário não encontrado\")","v":""},null,null,null,null,null,"",{"$f":"IFERROR(IF(A16=\"\",\"\",VLOOKUP(A16,Funcionários!$A$2:$F$299,5,0)),\"\")","v":""},""]
[null,{"$f":"IFERROR(IF(A17=\"\",\"\",VLOOKUP(A17,Funcionários!$A$2:$F$299,2,0)),\"Funcionário não encontrado\")","v":""},null,null,null,null,null,"",{"$f":"IFERROR(IF(A17=\"\",\"\",VLOOKUP(A17,Funcionários!$A$2:$F$299,5,0)),\"\")","v":""},""]
[null,{"$f":"IFERROR(IF(A18=\"\",\"\",VLOOKUP(A18,Funcionários!$A$2:$F$299,2,0)),\"Funcionário não encontrado\")","v":""},null,null,null,null,null,"",{"$f":"IFERROR(IF(A18=\"\",\"\",VLOOKUP(A18,Funcionários!$A$2:$F$299,5,0)),\"\")","v":""},""]
[null,{"$f":"IFERROR(IF(A19=\"\",\"\",VLOOKUP(A19,Funcionários!$A$2:$F$299,2,0)),\"Funcionário não encontrado\")","v":""},null,null,null,null,null,"",{"$f":"IFERROR(IF(A19=\"\",\"\",VLOOKUP(A19,Funcionários!$A$2:$F$299,5,0)),\"\")","v":""},""]
[null,{"$f":"IFERROR(IF(A20=\"\",\"\",VLOOKUP(A20,Funcionários!$A$2:$F$299,2,0)),\"Funcionário não encontrado\")","v":""},null,null,null,null,null,"",{"$f":"IFERROR(IF(A20=\"\",\"\",VLOOKUP(A20,Funcionários!$A$2:$F$299,5,0)),\"\")","v":""},""]
[null,{"$f":"IFERROR(IF(A21=\"\",\"\",VLOOKUP(A21,Funcionários!$A$2:$F$299,2,0)),\"Funcionário não encontrado\")","v":""},null,null,null,null,null,"",{"$f":"IFERROR(IF(A21=\"\",\"\",VLOOKUP(A21,Funcionários!$A$2:$F$299,5,0)),\"\")","v":""},""]
[null,{"$f":"IFERROR(IF(A22=\"\",\"\",VLOOKUP(A22,Funcionários!$A$2:$F$299,2,0)),\"Funcionário não encontrado\")","v":""},null,null,null,null,null,"",{"$f":"IFERROR(IF(A22=\"\",\"\",VLOOKUP(A22,Funcionários!$A$2:$F$299,5,0)),\"\")","v":""},""]
[null,{"$f":"IFERROR(IF(A23=\"\",\"\",VLOOKUP(A23,Funcionários!$A$2:$F$299,2,0)),\"Funcionário não encontrado\")","v":""},null,null,null,null,null,"",{"$f":"IFERROR(IF(A23=\"\",\"\",VLOOKUP(A23,Funcionários!$A$2:$F$299,5,0)),\"\")","v":""},""]
[null,{"$f":"IFERROR(IF(A24=\"\",\"\",VLOOKUP(A24,Funcionários!$A$2:$F$299,2,0)),\"Funcionário não encontrado\")","v":""},null,null,null,null,null,"",{"$f":"IFERROR(IF(A24=\"\",\"\",VLOOKUP(A24,Funcionários!$A$2:$F$299,5,0)),\"\")","v":""},""]
[null,{"$f":"IFERROR(IF(A25=\"\",\"\",VLOOKUP(A25,Funcionários!$A$2:$F$299,2,0)),\"Funcionário não encontrado\")","v":""},null,null,null,null,null,"",{"$f":"IFERROR(IF(A25=\"\",\"\",VLOOKUP(A25,Funcionários!$A$2:$F$299,5,0)),\"\")","v":""},""]
[null,{"$f":"IFERROR(IF(A26=\"\",\"\",VLOOKUP(A26,Funcionários!$A$2:$F$299,2,0)),\"Funcionário não encontrado\")","v":""},null,null,null,null,null,"",{"$f":"IFERROR(IF(A26=\"\",\"\",VLOOKUP(A26,Funcionários!$A$2:$F$299,5,0)),\"\")","v":""},""]
[null,{"$f":"IFERROR(IF(A27=\"\",\"\",VLOOKUP(A27,Funcionários!$A$2:$F$299,2,0)),\"Funcionário não encontrado\")","v":""},null,null,null,null,null,"",{"$f":"IFERROR(IF(A27=\"\",\"\",VLOOKUP(A27,Funcionários!$A$2:$F$299,5,0)),\"\")","v":""},""]
[null,{"$f":"IFERROR(IF(A28=\"\",\"\",VLOOKUP(A28,Funcionários!$A$2:$F$299,2,0)),\"Funcionário não encontrado\")","v":""},null,null,null,null,null,"",{"$f":"IFERROR(IF(A28=\"\",\"\",VLOOKUP(A28,Funcionários!$A$2:$F$299,5,0)),\"\")","v":""},""]
[null,{"$f":"IFERROR(IF(A29=\"\",\"\",VLOOKUP(A29,Funcionários!$A$2:$F$299,2,0)),\"Funcionário não encontrado\")","v":""},null,null,null,null,null,"",{"$f":"IFERROR(IF(A29=\"\",\"\",VLOOKUP(A29,Funcionários!$A$2:$F$299,5,0)),\"\")","v":""},""]
[null,{"$f":"IFERROR(IF(A30=\"\",\"\",VLOOKUP(A30,Funcionários!$A$2:$F$299,2,0)),\"Funcionário não encontrado\")","v":""},null,null,null,null,null,"",{"$f":"IFERROR(IF(A30=\"\",\"\",VLOOKUP(A30,Funcionários!$A$2:$F$299,5,0)),\"\")","v":""},""]
[null,{"$f":"IFERROR(IF(A31=\"\",\"\",VLOOKUP(A31,Funcionários!$A$2:$F$299,2,0)),\"Funcionário não encontrado\")","v":""},null,null,null,null,null,"",{"$f":"IFERROR(IF(A31=\"\",\"\",VLOOKUP(A31,Funcionários!$A$2:$F$299,5,0)),\"\")","v":""},""]
[null,{"$f":"IFERROR(IF(A32=\"\",\"\",VLOOKUP(A32,Funcionários!$A$2:$F$299,2,0)),\"Funcionário não encontrado\")","v":""},null,null,null,null,null,"",{"$f":"IFERROR(IF(A32=\"\",\"\",VLOOKUP(A32,Funcionários!$A$2:$F$299,5,0)),\"\")","v":""},""]
[null,{"$f":"IFERROR(IF(A33=\"\",\"\",VLOOKUP(A33,Funcionários!$A$2:$F$299,2,0)),\"Funcionário não encontrado\")","v":""},null,null,null,null,null,"",{"$f":"IFERROR(IF(A33=\"\",\"\",VLOOKUP(A33,Funcionários!$A$2:$F$299,5,0)),\"\")","v":""},""]
[null,{"$f":"IFERROR(IF(A34=\"\",\"\",VLOOKUP(A34,Funcionários!$A$2:$F$299,2,0)),\"Funcionário não encontrado\")","v":""},null,null,null,null,null,"",{"$f":"IFERROR(IF(A34=\"\",\"\",VLOOKUP(A34,Funcionários!$A$2:$F$299,5,0)),\"\")","v":""},""]
[null,{"$f":"IFERROR(IF(A35=\"\",\"\",VLOOKUP(A35,Funcionários!$A$2:$F$299,2,0)),\"Funcionário não encontrado\")","v":""},null,null,null,null,null,"",{"$f":"IFERROR(IF(A35=\"\",\"\",VLOOKUP(A35,Funcionários!$A$2:$F$299,5,0)),\"\")","v":""},""]
[null,{"$f":"IFERROR(IF(A36=\"\",\"\",VLOOKUP(A36,Funcionários!$A$2:$F$299,2,0)),\"Funcionário não encontrado\")","v":""},null,null,null,null,null,"",{"$f":"IFERROR(IF(A36=\"\",\"\",VLOOKUP(A36,Funcionários!$A$2:$F$299,5,0)),\"\")","v":""},""]
[null,{"$f":"IFERROR(IF(A37=\"\",\"\",VLOOKUP(A37,Funcionários!$A$2:$F$299,2,0)),\"Funcionário não encontrado\")","v":""},null,null,null,null,null,"",{"$f":"IFERROR(IF(A37=\"\",\"\",VLOOKUP(A37,Funcionários!$A$2:$F$299,5,0)),\"\")","v":""},""]
[null,{"$f":"IFERROR(IF(A38=\"\",\"\",VLOOKUP(A38,Funcionários!$A$2:$F$299,2,0)),\"Funcionário não encontrado\")","v":""},null,null,null,null,null,"",{"$f":"IFERROR(IF(A38=\"\",\"\",VLOOKUP(A38,Funcionários!$A$2:$F$299,5,0)),\"\")","v":""},""]
[null,{"$f":"IFERROR(IF(A39=\"\",\"\",VLOOKUP(A39,Funcionários!$A$2:$F$299,2,0)),\"Funcionário não encontrado\")","v":""},null,null,null,null,null,"",{"$f":"IFERROR(IF(A39=\"\",\"\",VLOOKUP(A39,Funcionários!$A$2:$F$299,5,0)),\"\")","v":""},""]
[null,{"$f":"IFERROR(IF(A40=\"\",\"\",VLOOKUP(A40,Funcionários!$A$2:$F$299,2,0)),\"Funcionário não encontrado\")","v":""},null,null,null,null,null,"",{"$f":"IFERROR(IF(A40=\"\",\"\",VLOOKUP(A40,Funcionários!$A$2:$F$299,5,0)),\"\")","v":""},""]
[null,{"$f":"IFERROR(IF(A41=\"\",\"\",VLOOKUP(A41,Funcionários!$A$2:$F$299,2,0)),\"Funcionário não encontrado\")","v":""},null,null,null,null,null,"",{"$f":"IFERROR(IF(A41=\"\",\"\",VLOOKUP(A41,Funcionários!$A$2:$F$299,5,0)),\"\")","v":""},""]
[null,{"$f":"IFERROR(IF(A42=\"\",\"\",VLOOKUP(A42,Funcionários!$A$2:$F$299,2,0)),\"Funcionário não encontrado\")","v":""},null,null,null,null,null,"",{"$f":"IFERROR(IF(A42=\"\",\"\",VLOOKUP(A42,Funcionários!$A$2:$F$299,5,0)),\"\")","v":""},""]
[null,{"$f":"IFERROR(IF(A43=\"\",\"\",VLOOKUP(A43,Funcionários!$A$2:$F$299,2,0)),\"Funcionário não encontrado\")","v":""},null,null,null,null,null,"",{"$f":"IFERROR(IF(A43=\"\",\"\",VLOOKUP(A43,Funcionários!$A$2:$F$299,5,0)),\"\")","v":""},""]
[null,{"$f":"IFERROR(IF(A44=\"\",\"\",VLOOKUP(A44,Funcionários!$A$2:$F$299,2,0)),\"Funcionário não encontrado\")","v":""},null,null,null,null,null,"",{"$f":"IFERROR(IF(A44=\"\",\"\",VLOOKUP(A44,Funcionários!$A$2:$F$299,5,0)),\"\")","v":""},""]
[null,{"$f":"IFERROR(IF(A45=\"\",\"\",VLOOKUP(A45,Funcionários!$A$2:$F$299,2,0)),\"Funcionário não encontrado\")","v":""},null,null,null,null,null,"",{"$f":"IFERROR(IF(A45=\"\",\"\",VLOOKUP(A45,Funcionários!$A$2:$F$299,5,0)),\"\")","v":""},""]
[null,{"$f":"IFERROR(IF(A46=\"\",\"\",VLOOKUP(A46,Funcionários!$A$2:$F$299,2,0)),\"Funcionário não encontrado\")","v":""},null,null,null,null,null,"",{"$f":"IFERROR(IF(A46=\"\",\"\",VLOOKUP(A46,Funcionários!$A$2:$F$299,5,0)),\"\")","v":""},""]
[null,{"$f":"IFERROR(IF(A47=\"\",\"\",VLOOKUP(A47,Funcionários!$A$2:$F$299,2,0)),\"Funcionário não encontrado\")","v":""},null,null,null,null,null,"",{"$f":"IFERROR(IF(A47=\"\",\"\",VLOOKUP(A47,Funcionários!$A$2:$F$299,5,0)),\"\")","v":""},""]
[null,{"$f":"IFERROR(IF(A48=\"\",\"\",VLOOKUP(A48,Funcionários!$A$2:$F$299,2,0)),\"Funcionário não encontrado\")","v":""},null,null,null,null,null,"",{"$f":"IFERROR(IF(A48=\"\",\"\",VLOOKUP(A48,Funcionários!$A$2:$F$299,5,0)),\"\")","v":""},""]
[null,{"$f":"IFERROR(IF(A49=\"\",\"\",VLOOKUP(A49,Funcionários!$A$2:$F$299,2,0)),\"Funcionário não encontrado\")","v":""},null,null,null,null,null,"",{"$f":"IFERROR(IF(A49=\"\",\"\",VLOOKUP(A49,Funcionários!$A$2:$F$299,5,0)),\"\")","v":""},""]
[null,{"$f":"IFERROR(IF(A50=\"\",\"\",VLOOKUP(A50,Funcionários!$A$2:$F$299,2,0)),\"Funcionário não encontrado\")","v":""},null,null,null,null,null,"",{"$f":"IFERROR(IF(A50=\"\",\"\",VLOOKUP(A50,Funcionários!$A$2:$F$299,5,0)),\"\")","v":""},""]
[null,{"$f":"IFERROR(IF(A51=\"\",\"\",VLOOKUP(A51,Funcionários!$A$2:$F$299,2,0)),\"Funcionário não encontrado\")","v":""},null,null,null,null,null,"",{"$f":"IFERROR(IF(A51=\"\",\"\",VLOOKUP(A51,Funcionários!$A$2:$F$299,5,0)),\"\")","v":""},""]
[null,{"$f":"IFERROR(IF(A52=\"\",\"\",VLOOKUP(A52,Funcionários!$A$2:$F$299,2,0)),\"Funcionário não encontrado\")","v":""},null,null,null,null,null,"",{"$f":"IFERROR(IF(A52=\"\",\"\",VLOOKUP(A52,Funcionários!$A$2:$F$299,5,0)),\"\")","v":""},""]
[null,{"$f":"IFERROR(IF(A53=\"\",\"\",VLOOKUP(A53,Funcionários!$A$2:$F$299,2,0)),\"Funcionário não encontrado\")","v":""},null,null,null,null,null,"",{"$f":"IFERROR(IF(A53=\"\",\"\",VLOOKUP(A53,Funcionários!$A$2:$F$299,5,0)),\"\")","v":""},""]
[null,{"$f":"IFERROR(IF(A54=\"\",\"\",VLOOKUP(A54,Funcionários!$A$2:$F$299,2,0)),\"Funcionário não encontrado\")","v":""},null,null,null,null,null,"",{"$f":"IFERROR(IF(A54=\"\",\"\",VLOOKUP(A54,Funcionários!$A$2:$F$299,5,0)),\"\")","v":""},""]
[null,{"$f":"IFERROR(IF(A55=\"\",\"\",VLOOKUP(A55,Funcionários!$A$2:$F$299,2,0)),\"Funcionário não encontrado\")","v":""},null,null,null,null,null,"",{"$f":"IFERROR(IF(A55=\"\",\"\",VLOOKUP(A55,Funcionários!$A$2:$F$299,5,0)),\"\")","v":""},""]
[null,{"$f":"IFERROR(IF(A56=\"\",\"\",VLOOKUP(A56,Funcionários!$A$2:$F$299,2,0)),\"Funcionário não encontrado\")","v":""},null,null,null,null,null,"",{"$f":"IFERROR(IF(A56=\"\",\"\",VLOOKUP(A56,Funcionários!$A$2:$F$299,5,0)),\"\")","v":""},""]
[null,{"$f":"IFERROR(IF(A57=\"\",\"\",VLOOKUP(A57,Funcionários!$A$2:$F$299,2,0)),\"Funcionário não encontrado\")","v":""},null,null,null,null,null,"",{"$f":"IFERROR(IF(A57=\"\",\"\",VLOOKUP(A57,Funcionários!$A$2:$F$299,5,0)),\"\")","v":""},""]
[null,{"$f":"IFERROR(IF(A58=\"\",\"\",VLOOKUP(A58,Funcionários!$A$2:$F$299,2,0)),\"Funcionário não encontrado\")","v":""},null,null,null,null,null,"",{"$f":"IFERROR(IF(A58=\"\",\"\",VLOOKUP(A58,Funcionários!$A$2:$F$299,5,0)),\"\")","v":""},""]
[null,{"$f":"IFERROR(IF(A59=\"\",\"\",VLOOKUP(A59,Funcionários!$A$2:$F$299,2,0)),\"Funcionário não encontrado\")","v":""},null,null,null,null,null,"",{"$f":"IFERROR(IF(A59=\"\",\"\",VLOOKUP(A59,Funcionários!$A$2:$F$299,5,0)),\"\")","v":""},""]
[null,{"$f":"IFERROR(IF(A60=\"\",\"\",VLOOKUP(A60,Funcionários!$A$2:$F$299,2,0)),\"Funcionário não encontrado\")","v":""},null,null,null,null,null,"",{"$f":"IFERROR(IF(A60=\"\",\"\",VLOOKUP(A60,Funcionários!$A$2:$F$299,5,0)),\"\")","v":""},""]
[null,{"$f":"IFERROR(IF(A61=\"\",\"\",VLOOKUP(A61,Funcionários!$A$2:$F$299,2,0)),\"Funcionário não encontrado\")","v":""},null,null,null,null,null,"",{"$f":"IFERROR(IF(A61=\"\",\"\",VLOOKUP(A61,Funcionários!$A$2:$F$299,5,0)),\"\")","v":""},""]
[null,{"$f":"IFERROR(IF(A62=\"\",\"\",VLOOKUP(A62,Funcionários!$A$2:$F$299,2,0)),\"Funcionário não encontrado\")","v":""},null,null,null,null,null,"",{"$f":"IFERROR(IF(A62=\"\",\"\",VLOOKUP(A62,Funcionários!$A$2:$F$299,5,0)),\"\")","v":""},""]
[null,{"$f":"IFERROR(IF(A63=\"\",\"\",VLOOKUP(A63,Funcionários!$A$2:$F$299,2,0)),\"Funcionário não encontrado\")","v":""},null,null,null,null,null,"",{"$f":"IFERROR(IF(A63=\"\",\"\",VLOOKUP(A63,Funcionários!$A$2:$F$299,5,0)),\"\")","v":""},""]
[null,{"$f":"IFERROR(IF(A64=\"\",\"\",VLOOKUP(A64,Funcionários!$A$2:$F$299,2,0)),\"Funcionário não encontrado\")","v":""},null,null,null,null,null,"",{"$f":"IFERROR(IF(A64=\"\",\"\",VLOOKUP(A64,Funcionários!$A$2:$F$299,5,0)),\"\")","v":""},""]
[null,{"$f":"IFERROR(IF(A65=\"\",\"\",VLOOKUP(A65,Funcionários!$A$2:$F$299,2,0)),\"Funcionário não encontrado\")","v":""},null,null,null,null,null,"",{"$f":"IFERROR(IF(A65=\"\",\"\",VLOOKUP(A65,Funcionários!$A$2:$F$299,5,0)),\"\")","v":""},""]
[null,{"$f":"IFERROR(IF(A66=\"\",\"\",VLOOKUP(A66,Funcionários!$A$2:$F$299,2,0)),\"Funcionário não encontrado\")","v":""},null,null,null,null,null,"",{"$f":"IFERROR(IF(A66=\"\",\"\",VLOOKUP(A66,Funcionários!$A$2:$F$299,5,0)),\"\")","v":""},""]
[null,{"$f":"IFERROR(IF(A67=\"\",\"\",VLOOKUP(A67,Funcionários!$A$2:$F$299,2,0)),\"Funcionário não encontrado\")","v":""},null,null,null,null,null,{"$f":"IF(OR(D67=\"\",E67=\"\",F67=\"\"),\"\",MOD((E67-D67)+(G67-F67),1))","v":""},{"$f":"IFERROR(IF(A67=\"\",\"\",VLOOKUP(A67,Funcionários!$A$2:$F$299,5,0)),\"\")","v":""},{"$f":"IF(H67=\"\",\"\",H67-I67)","v":""}]
[null,{"$f":"IFERROR(IF(A68=\"\",\"\",VLOOKUP(A68,Funcionários!$A$2:$F$299,2,0)),\"Funcionário não encontrado\")","v":""},null,null,null,null,null,"",{"$f":"IFERROR(IF(A68=\"\",\"\",VLOOKUP(A68,Funcionários!$A$2:$F$299,5,0)),\"\")","v":""},""]
[null,{"$f":"IFERROR(IF(A69=\"\",\"\",VLOOKUP(A69,Funcionários!$A$2:$F$299,2,0)),\"Funcionário não encontrado\")","v":""},null,null,null,null,null,"",{"$f":"IFERROR(IF(A69=\"\",\"\",VLOOKUP(A69,Funcionários!$A$2:$F$299,5,0)),\"\")","v":""},""]
[null,{"$f":"IFERROR(IF(A70=\"\",\"\",VLOOKUP(A70,Funcionários!$A$2:$F$299,2,0)),\"Funcionário não encontrado\")","v":""},null,null,null,null,null,"",{"$f":"IFERROR(IF(A70=\"\",\"\",VLOOKUP(A70,Funcionários!$A$2:$F$299,5,0)),\"\")","v":""},""]
[null,{"$f":"IFERROR(IF(A71=\"\",\"\",VLOOKUP(A71,Funcionários!$A$2:$F$299,2,0)),\"Funcionário não encontrado\")","v":""},null,null,null,null,null,"",{"$f":"IFERROR(IF(A71=\"\",\"\",VLOOKUP(A71,Funcionários!$A$2:$F$299,5,0)),\"\")","v":""},""]
[null,{"$f":"IFERROR(IF(A72=\"\",\"\",VLOOKUP(A72,Funcionários!$A$2:$F$299,2,0)),\"Funcionário não encontrado\")","v":""},null,null,null,null,null,"",{"$f":"IFERROR(IF(A72=\"\",\"\",VLOOKUP(A72,Funcionários!$A$2:$F$299,5,0)),\"\")","v":""},""]
[null,{"$f":"IFERROR(IF(A73=\"\",\"\",VLOOKUP(A73,Funcionários!$A$2:$F$299,2,0)),\"Funcionário não encontrado\")","v":""},null,null,null,null,null,"",{"$f":"IFERROR(IF(A73=\"\",\"\",VLOOKUP(A73,Funcionários!$A$2:$F$299,5,0)),\"\")","v":""},""]
[null,{"$f":"IFERROR(IF(A74=\"\",\"\",VLOOKUP(A74,Funcionários!$A$2:$F$299,2,0)),\"Funcionário não encontrado\")","v":""},null,null,null,null,null,"",{"$f":"IFERROR(IF(A74=\"\",\"\",VLOOKUP(A74,Funcionários!$A$2:$F$299,5,0)),\"\")","v":""},""]
[null,{"$f":"IFERROR(IF(A75=\"\",\"\",VLOOKUP(A75,Funcionários!$A$2:$F$299,2,0)),\"Funcionário não encontrado\")","v":""},null,null,null,null,null,"",{"$f":"IFERROR(IF(A75=\"\",\"\",VLOOKUP(A75,Funcionários!$A$2:$F$299,5,0)),\"\")","v":""},""]
[null,{"$f":"IFERROR(IF(A76=\"\",\"\",VLOOKUP(A76,Funcionários!$A$2:$F$299,2,0)),\"Funcionário não encontrado\")","v":""},null,null,null,null,null,"",{"$f":"IFERROR(IF(A76=\"\",\"\",VLOOKUP(A76,Funcionários!$A$2:$F$299,5,0)),\"\")","v":""},""]
[null,{"$f":"IFERROR(IF(A77=\"\",\"\",VLOOKUP(A77,Funcionários!$A$2:$F$299,2,0)),\"Funcionário não encontrado\")","v":""},null,null,null,null,null,"",{"$f":"IFERROR(IF(A77=\"\",\"\",VLOOKUP(A77,Funcionários!$A$2:$F$299,5,0)),\"\")","v":""},""]
[null,{"$f":"IFERROR(IF(A78=\"\",\"\",VLOOKUP(A78,Funcionários!$A$2:$F$299,2,0)),\"Funcionário não encontrado\")","v":""},null,null,null,null,null,"",{"$f":"IFERROR(IF(A78=\"\",\"\",VLOOKUP(A78,Funcionários!$A$2:$F$299,5,0)),\"\")","v":""},""]
[null,{"$f":"IFERROR(IF(A79=\"\",\"\",VLOOKUP(A79,Funcionários!$A$2:$F$299,2,0)),\"Funcionário não encontrado\")","v":""},null,null,null,null,null,"",{"$f":"IFERROR(IF(A79=\"\",\"\",VLOOKUP(A79,Funcionários!$A$2:$F$299,5,0)),\"\")","v":""},""]
[null,{"$f":"IFERROR(IF(A80=\"\",\"\",VLOOKUP(A80,Funcionários!$A$2:$F$299,2,0)),\"Funcionário não encontrado\")","v":""},null,null,null,null,null,"",{"$f":"IFERROR(IF(A80=\"\",\"\",VLOOKUP(A80,Funcionários!$A$2:$F$299,5,0)),\"\")","v":""},""]
[null,{"$f":"IFERROR(IF(A81=\"\",\"\",VLOOKUP(A81,Funcionários!$A$2:$F$299,2,0)),\"Funcionário não encontrado\")","v":""},null,null,null,null,null,"",{"$f":"IFERROR(IF(A81=\"\",\"\",VLOOKUP(A81,Funcionários!$A$2:$F$299,5,0)),\"\")","v":""},""]
[null,{"$f":"IFERROR(IF(A82=\"\",\"\",VLOOKUP(A82,Funcionários!$A$2:$F$299,2,0)),\"Funcionário não encontrado\")","v":""},null,null,null,null,null,"",{"$f":"IFERROR(IF(A82=\"\",\"\",VLOOKUP(A82,Funcionários!$A$2:$F$299,5,0)),\"\")","v":""},""]
[null,{"$f":"IFERROR(IF(A83=\"\",\"\",VLOOKUP(A83,Funcionários!$A$2:$F$299,2,0)),\"Funcionário não encontrado\")","v":""},null,null,null,null,null,"",{"$f":"IFERROR(IF(A83=\"\",\"\",VLOOKUP(A83,Funcionários!$A$2:$F$299,5,0)),\"\")","v":""},""]
[null,{"$f":"IFERROR(IF(A84=\"\",\"\",VLOOKUP(A84,Funcionários!$A$2:$F$299,2,0)),\"Funcionário não encontrado\")","v":""},null,null,null,null,null,"",{"$f":"IFERROR(IF(A84=\"\",\"\",VLOOKUP(A84,Funcionários!$A$2:$F$299,5,0)),\"\")","v":""},""]
[null,{"$f":"IFERROR(IF(A85=\"\",\"\",VLOOKUP(A85,Funcionários!$A$2:$F$299,2,0)),\"Funcionário não encontrado\")","v":""},null,null,null,null,null,"",{"$f":"IFERROR(IF(A85=\"\",\"\",VLOOKUP(A85,Funcionários!$A$2:$F$299,5,0)),\"\")","v":""},""]
[null,{"$f":"IFERROR(IF(A86=\"\",\"\",VLOOKUP(A86,Funcionários!$A$2:$F$299,2,0)),\"Funcionário não encontrado\")","v":""},null,null,null,null,null,"",{"$f":"IFERROR(IF(A86=\"\",\"\",VLOOKUP(A86,Funcionários!$A$2:$F$299,5,0)),\"\")","v":""},""]
[null,{"$f":"IFERROR(IF(A87=\"\",\"\",VLOOKUP(A87,Funcionários!$A$2:$F$299,2,0)),\"Funcionário não encontrado\")","v":""},null,null,null,null,null,"",{"$f":"IFERROR(IF(A87=\"\",\"\",VLOOKUP(A87,Funcionários!$A$2:$F$299,5,0)),\"\")","v":""},""]
[null,{"$f":"IFERROR(IF(A88=\"\",\"\",VLOOKUP(A88,Funcionários!$A$2:$F$299,2,0)),\"Funcionário não encontrado\")","v":""},null,null,null,null,null,"",{"$f":"IFERROR(IF(A88=\"\",\"\",VLOOKUP(A88,Funcionários!$A$2:$F$299,5,0)),\"\")","v":""},""]
[null,{"$f":"IFERROR(IF(A89=\"\",\"\",VLOOKUP(A89,Funcionários!$A$2:$F$299,2,0)),\"Funcionário não encontrado\")","v":""},null,null,null,null,null,"",{"$f":"IFERROR(IF(A89=\"\",\"\",VLOOKUP(A89,Funcionários!$A$2:$F$299,5,0)),\"\")","v":""},""]
[null,{"$f":"IFERROR(IF(A90=\"\",\"\",VLOOKUP(A90,Funcionários!$A$2:$F$299,2,0)),\"Funcionário não encontrado\")","v":""},null,null,null,null,null,"",{"$f":"IFERROR(IF(A90=\"\",\"\",VLOOKUP(A90,Funcionários!$A$2:$F$299,5,0)),\"\")","v":""},""]
[null,{"$f":"IFERROR(IF(A91=\"\",\"\",VLOOKUP(A91,Funcionários!$A$2:$F$299,2,0)),\"Funcionário não encontrado\")","v":""},null,null,null,null,null,"",{"$f":"IFERROR(IF(A91=\"\",\"\",VLOOKUP(A91,Funcionários!$A$2:$F$299,5,0)),\"\")","v":""},""]
[null,{"$f":"IFERROR(IF(A92=\"\",\"\",VLOOKUP(A92,Funcionários!$A$2:$F$299,2,0)),\"Funcionário não encontrado\")","v":""},null,null,null,null,null,"",{"$f":"IFERROR(IF(A92=\"\",\"\",VLOOKUP(A92,Funcionários!$A$2:$F$299,5,0)),\"\")","v":""},""]
[null,{"$f":"IFERROR(IF(A93=\"\",\"\",VLOOKUP(A93,Funcionários!$A$2:$F$299,2,0)),\"Funcionário não encontrado\")","v":""},null,null,null,null,null,"",{"$f":"IFERROR(IF(A93=\"\",\"\",VLOOKUP(A93,Funcionários!$A$2:$F$299,5,0)),\"\")","v":""},""]
[null,{"$f":"IFERROR(IF(A94=\"\",\"\",VLOOKUP(A94,Funcionários!$A$2:$F$299,2,0)),\"Funcionário não encontrado\")","v":""},null,null,null,null,null,"",{"$f":"IFERROR(IF(A94=\"\",\"\",VLOOKUP(A94,Funcionários!$A$2:$F$299,5,0)),\"\")","v":""},""]
[null,{"$f":"IFERROR(IF(A95=\"\",\"\",VLOOKUP(A95,Funcionários!$A$2:$F$299,2,0)),\"Funcionário não encontrado\")","v":""},null,null,null,null,null,"",{"$f":"IFERROR(IF(A95=\"\",\"\",VLOOKUP(A95,Funcionários!$A$2:$F$299,5,0)),\"\")","v":""},""]
[null,{"$f":"IFERROR(IF(A96=\"\",\"\",VLOOKUP(A96,Funcionários!$A$2:$F$299,2,0)),\"Funcionário não encontrado\")","v":""},null,null,null,null,null,"",{"$f":"IFERROR(IF(A96=\"\",\"\",VLOOKUP(A96,Funcionários!$A$2:$F$299,5,0)),\"\")","v":""},""]
[null,{"$f":"IFERROR(IF(A97=\"\",\"\",VLOOKUP(A97,Funcionários!$A$2:$F$299,2,0)),\"Funcionário não encontrado\")","v":""},null,null,null,null,null,"",{"$f":"IFERROR(IF(A97=\"\",\"\",VLOOKUP(A97,Funcionários!$A$2:$F$299,5,0)),\"\")","v":""},""]
[null,{"$f":"IFERROR(IF(A98=\"\",\"\",VLOOKUP(A98,Funcionários!$A$2:$F$299,2,0)),\"Funcionário não encontrado\")","v":""},null,null,null,null,null,"",{"$f":"IFERROR(IF(A98=\"\",\"\",VLOOKUP(A98,Funcionários!$A$2:$F$299,5,0)),\"\")","v":""},""]
[null,{"$f":"IFERROR(IF(A99=\"\",\"\",VLOOKUP(A99,Funcionários!$A$2:$F$299,2,0)),\"Funcionário não encontrado\")","v":""},null,null,null,null,null,"",{"$f":"IFERROR(IF(A99=\"\",\"\",VLOOKUP(A99,Funcionários!$A$2:$F$299,5,0)),\"\")","v":""},""]
[null,{"$f":"IFERROR(IF(A100=\"\",\"\",VLOOKUP(A100,Funcionários!$A$2:$F$299,2,0)),\"Funcionário não encontrado\")","v":""},null,null,null,null,null,"",{"$f":"IFERROR(IF(A100=\"\",\"\",VLOOKUP(A100,Funcionários!$A$2:$F$299,5,0)),\"\")","v":""},""]
[null,{"$f":"IFERROR(IF(A101=\"\",\"\",VLOOKUP(A101,Funcionários!$A$2:$F$299,2,0)),\"Funcionário não encontrado\")","v":""},null,null,null,null,null,"",{"$f":"IFERROR(IF(A101=\"\",\"\",VLOOKUP(A101,Funcionários!$A$2:$F$299,5,0)),\"\")","v":""},""]
[null,{"$f":"IFERROR(IF(A102=\"\",\"\",VLOOKUP(A102,Funcionários!$A$2:$F$299,2,0)),\"Funcionário não encontrado\")","v":""},null,null,null,null,null,"",{"$f":"IFERROR(IF(A102=\"\",\"\",VLOOKUP(A102,Funcionários!$A$2:$F$299,5,0)),\"\")","v":""},""]
[null,{"$f":"IFERROR(IF(A103=\"\",\"\",VLOOKUP(A103,Funcionários!$A$2:$F$299,2,0)),\"Funcionário não encontrado\")","v":""},null,null,null,null,null,"",{"$f":"IFERROR(IF(A103=\"\",\"\",VLOOKUP(A103,Funcionários!$A$2:$F$299,5,0)),\"\")","v":""},""]
[null,{"$f":"IFERROR(IF(A104=\"\",\"\",VLOOKUP(A104,Funcionários!$A$2:$F$299,2,0)),\"Funcionário não encontrado\")","v":""},null,null,null,null,null,"",{"$f":"IFERROR(IF(A104=\"\",\"\",VLOOKUP(A104,Funcionários!$A$2:$F$299,5,0)),\"\")","v":""},""]
[null,{"$f":"IFERROR(IF(A105=\"\",\"\",VLOOKUP(A105,Funcionários!$A$2:$F$299,2,0)),\"Funcionário não encontrado\")","v":""},null,null,null,null,null,"",{"$f":"IFERROR(IF(A105=\"\",\"\",VLOOKUP(A105,Funcionários!$A$2:$F$299,5,0)),\"\")","v":""},""]
[null,{"$f":"IFERROR(IF(A106=\"\",\"\",VLOOKUP(A106,Funcionários!$A$2:$F$299,2,0)),\"Funcionário não encontrado\")","v":""},null,null,null,null,null,"",{"$f":"IFERROR(IF(A106=\"\",\"\",VLOOKUP(A106,Funcionários!$A$2:$F$299,5,0)),\"\")","v":""},""]
[null,{"$f":"IFERROR(IF(A107=\"\",\"\",VLOOKUP(A107,Funcionários!$A$2:$F$299,2,0)),\"Funcionário não encontrado\")","v":""},null,null,null,null,null,"",{"$f":"IFERROR(IF(A107=\"\",\"\",VLOOKUP(A107,Funcionários!$A$2:$F$299,5,0)),\"\")","v":""},""]
[null,{"$f":"IFERROR(IF(A108=\"\",\"\",VLOOKUP(A108,Funcionários!$A$2:$F$299,2,0)),\"Funcionário não encontrado\")","v":""},null,null,null,null,null,"",{"$f":"IFERROR(IF(A108=\"\",\"\",VLOOKUP(A108,Funcionários!$A$2:$F$299,5,0)),\"\")","v":""},""]
[null,{"$f":"IFERROR(IF(A109=\"\",\"\",VLOOKUP(A109,Funcionários!$A$2:$F$299,2,0)),\"Funcionário não encontrado\")","v":""},null,null,null,null,null,"",{"$f":"IFERROR(IF(A109=\"\",\"\",VLOOKUP(A109,Funcionários!$A$2:$F$299,5,0)),\"\")","v":""},""]
[null,{"$f":"IFERROR(IF(A110=\"\",\"\",VLOOKUP(A110,Funcionários!$A$2:$F$299,2,0)),\"Funcionário não encontrado\")","v":""},null,null,null,null,null,"",{"$f":"IFERROR(IF(A110=\"\",\"\",VLOOKUP(A110,Funcionários!$A$2:$F$299,5,0)),\"\")","v":""},""]
[null,{"$f":"IFERROR(IF(A111=\"\",\"\",VLOOKUP(A111,Funcionários!$A$2:$F$299,2,0)),\"Funcionário não encontrado\")","v":""},null,null,null,null,null,"",{"$f":"IFERROR(IF(A111=\"\",\"\",VLOOKUP(A111,Funcionários!$A$2:$F$299,5,0)),\"\")","v":""},""]
[null,{"$f":"IFERROR(IF(A112=\"\",\"\",VLOOKUP(A112,Funcionários!$A$2:$F$299,2,0)),\"Funcionário não encontrado\")","v":""},null,null,null,null,null,"",{"$f":"IFERROR(IF(A112=\"\",\"\",VLOOKUP(A112,Funcionários!$A$2:$F$299,5,0)),\"\")","v":""},""]
[null,{"$f":"IFERROR(IF(A113=\"\",\"\",VLOOKUP(A113,Funcionários!$A$2:$F$299,2,0)),\"Funcionário não encontrado\")","v":""},null,null,null,null,null,"",{"$f":"IFERROR(IF(A113=\"\",\"\",VLOOKUP(A113,Funcionários!$A$2:$F$299,5,0)),\"\")","v":""},""]
[null,{"$f":"IFERROR(IF(A114=\"\",\"\",VLOOKUP(A114,Funcionários!$A$2:$F$299,2,0)),\"Funcionário não encontrado\")","v":""},null,null,null,null,null,"",{"$f":"IFERROR(IF(A114=\"\",\"\",VLOOKUP(A114,Funcionários!$A$2:$F$299,5,0)),\"\")","v":""},""]
[null,{"$f":"IFERROR(IF(A115=\"\",\"\",VLOOKUP(A115,Funcionários!$A$2:$F$299,2,0)),\"Funcionário não encontrado\")","v":""},null,null,null,null,null,"",{"$f":"IFERROR(IF(A115=\"\",\"\",VLOOKUP(A115,Funcionários!$A$2:$F$299,5,0)),\"\")","v":""},""]
[null,{"$f":"IFERROR(IF(A116=\"\",\"\",VLOOKUP(A116,Funcionários!$A$2:$F$299,2,0)),\"Funcionário não encontrado\")","v":""},null,null,null,null,null,"",{"$f":"IFERROR(IF(A116=\"\",\"\",VLOOKUP(A116,Funcionários!$A$2:$F$299,5,0)),\"\")","v":""},""]
[null,{"$f":"IFERROR(IF(A117=\"\",\"\",VLOOKUP(A117,Funcionários!$A$2:$F$299,2,0)),\"Funcionário não encontrado\")","v":""},null,null,null,null,null,"",{"$f":"IFERROR(IF(A117=\"\",\"\",VLOOKUP(A117,Funcionários!$A$2:$F$299,5,0)),\"\")","v":""},""]
[null,{"$f":"IFERROR(IF(A118=\"\",\"\",VLOOKUP(A118,Funcionários!$A$2:$F$299,2,0)),\"Funcionário não encontrado\")","v":""},null,null,null,null,null,"",{"$f":"IFERROR(IF(A118=\"\",\"\",VLOOKUP(A118,Funcionários!$A$2:$F$299,5,0)),\"\")","v":""},""]
[null,{"$f":"IFERROR(IF(A119=\"\",\"\",VLOOKUP(A119,Funcionários!$A$2:$F$299,2,0)),\"Funcionário não encontrado\")","v":""},null,null,null,null,null,"",{"$f":"IFERROR(IF(A119=\"\",\"\",VLOOKUP(A119,Funcionários!$A$2:$F$299,5,0)),\"\")","v":""},""]
[null,{"$f":"IFERROR(IF(A120=\"\",\"\",VLOOKUP(A120,Funcionários!$A$2:$F$299,2,0)),\"Funcionário não encontrado\")","v":""},null,null,null,null,null,"",{"$f":"IFERROR(IF(A120=\"\",\"\",VLOOKUP(A120,Funcionários!$A$2:$F$299,5,0)),\"\")","v":""},""]
[null,{"$f":"IFERROR(IF(A121=\"\",\"\",VLOOKUP(A121,Funcionários!$A$2:$F$299,2,0)),\"Funcionário não encontrado\")","v":""},null,null,null,null,null,"",{"$f":"IFERROR(IF(A121=\"\",\"\",VLOOKUP(A121,Funcionários!$A$2:$F$299,5,0)),\"\")","v":""},""]
[null,{"$f":"IFERROR(IF(A122=\"\",\"\",VLOOKUP(A122,Funcionários!$A$2:$F$299,2,0)),\"Funcionário não encontrado\")","v":""},null,null,null,null,null,"",{"$f":"IFERROR(IF(A122=\"\",\"\",VLOOKUP(A122,Funcionários!$A$2:$F$299,5,0)),\"\")","v":""},""]
[null,{"$f":"IFERROR(IF(A123=\"\",\"\",VLOOKUP(A123,Funcionários!$A$2:$F$299,2,0)),\"Funcionário não encontrado\")","v":""},null,null,null,null,null,"",{"$f":"IFERROR(IF(A123=\"\",\"\",VLOOKUP(A123,Funcionários!$A$2:$F$299,5,0)),\"\")","v":""},""]
[null,{"$f":"IFERROR(IF(A124=\"\",\"\",VLOOKUP(A124,Funcionários!$A$2:$F$299,2,0)),\"Funcionário não encontrado\")","v":""},null,null,null,null,null,"",{"$f":"IFERROR(IF(A124=\"\",\"\",VLOOKUP(A124,Funcionários!$A$2:$F$299,5,0)),\"\")","v":""},""]
[null,{"$f":"IFERROR(IF(A125=\"\",\"\",VLOOKUP(A125,Funcionários!$A$2:$F$299,2,0)),\"Funcionário não encontrado\")","v":""},null,null,null,null,null,"",{"$f":"IFERROR(IF(A125=\"\",\"\",VLOOKUP(A125,Funcionários!$A$2:$F$299,5,0)),\"\")","v":""},""]
[null,{"$f":"IFERROR(IF(A126=\"\",\"\",VLOOKUP(A126,Funcionários!$A$2:$F$299,2,0)),\"Funcionário não encontrado\")","v":""},null,null,null,null,null,"",{"$f":"IFERROR(IF(A126=\"\",\"\",VLOOKUP(A126,Funcionários!$A$2:$F$299,5,0)),\"\")","v":""},""]
[null,{"$f":"IFERROR(IF(A127=\"\",\"\",VLOOKUP(A127,Funcionários!$A$2:$F$299,2,0)),\"Funcionário não encontrado\")","v":""},null,null,null,null,null,"",{"$f":"IFERROR(IF(A127=\"\",\"\",VLOOKUP(A127,Funcionários!$A$2:$F$299,5,0)),\"\")","v":""},""]
[null,{"$f":"IFERROR(IF(A128=\"\",\"\",VLOOKUP(A128,Funcionários!$A$2:$F$299,2,0)),\"Funcionário não encontrado\")","v":""},null,null,null,null,null,"",{"$f":"IFERROR(IF(A128=\"\",\"\",VLOOKUP(A128,Funcionários!$A$2:$F$299,5,0)),\"\")","v":""},""]
[null,{"$f":"IFERROR(IF(A129=\"\",\"\",VLOOKUP(A129,Funcionários!$A$2:$F$299,2,0)),\"Funcionário não encontrado\")","v":""},null,null,null,null,null,"",{"$f":"IFERROR(IF(A129=\"\",\"\",VLOOKUP(A129,Funcionários!$A$2:$F$299,5,0)),\"\")","v":""},""]
[null,{"$f":"IFERROR(IF(A130=\"\",\"\",VLOOKUP(A130,Funcionários!$A$2:$F$299,2,0)),\"Funcionário não encontrado\")","v":""},null,null,null,null,null,"",{"$f":"IFERROR(IF(A130=\"\",\"\",VLOOKUP(A130,Funcionários!$A$2:$F$299,5,0)),\"\")","v":""},""]
[null,{"$f":"IFERROR(IF(A131=\"\",\"\",VLOOKUP(A131,Funcionários!$A$2:$F$299,2,0)),\"Funcionário não encontrado\")","v":""},null,null,null,null,null,{"$f":"IF(OR(D131=\"\",E131=\"\",F131=\"\"),\"\",MOD((E131-D131)+(G131-F131),1))","v":""},{"$f":"IFERROR(IF(A131=\"\",\"\",VLOOKUP(A131,Funcionários!$A$2:$F$299,5,0)),\"\")","v":""},{"$f":"IF(H131=\"\",\"\",H131-I131)","v":""}]
[null,{"$f":"IFERROR(IF(A132=\"\",\"\",VLOOKUP(A132,Funcionários!$A$2:$F$299,2,0)),\"Funcionário não encontrado\")","v":""},null,null,null,null,null,"",{"$f":"IFERROR(IF(A132=\"\",\"\",VLOOKUP(A132,Funcionários!$A$2:$F$299,5,0)),\"\")","v":""},""]
[null,{"$f":"IFERROR(IF(A133=\"\",\"\",VLOOKUP(A133,Funcionários!$A$2:$F$299,2,0)),\"Funcionário não encontrado\")","v":""},null,null,null,null,null,"",{"$f":"IFERROR(IF(A133=\"\",\"\",VLOOKUP(A133,Funcionários!$A$2:$F$299,5,0)),\"\")","v":""},""]
[null,{"$f":"IFERROR(IF(A134=\"\",\"\",VLOOKUP(A134,Funcionários!$A$2:$F$299,2,0)),\"Funcionário não encontrado\")","v":""},null,null,null,null,null,"",{"$f":"IFERROR(IF(A134=\"\",\"\",VLOOKUP(A134,Funcionários!$A$2:$F$299,5,0)),\"\")","v":""},""]
[null,{"$f":"IFERROR(IF(A135=\"\",\"\",VLOOKUP(A135,Funcionários!$A$2:$F$299,2,0)),\"Funcionário não encontrado\")","v":""},null,null,null,null,null,"",{"$f":"IFERROR(IF(A135=\"\",\"\",VLOOKUP(A135,Funcionários!$A$2:$F$299,5,0)),\"\")","v":""},""]
[null,{"$f":"IFERROR(IF(A136=\"\",\"\",VLOOKUP(A136,Funcionários!$A$2:$F$299,2,0)),\"Funcionário não encontrado\")","v":""},null,null,null,null,null,"",{"$f":"IFERROR(IF(A136=\"\",\"\",VLOOKUP(A136,Funcionários!$A$2:$F$299,5,0)),\"\")","v":""},""]
[null,{"$f":"IFERROR(IF(A137=\"\",\"\",VLOOKUP(A137,Funcionários!$A$2:$F$299,2,0)),\"Funcionário não encontrado\")","v":""},null,null,null,null,null,"",{"$f":"IFERROR(IF(A137=\"\",\"\",VLOOKUP(A137,Funcionários!$A$2:$F$299,5,0)),\"\")","v":""},""]
[null,{"$f":"IFERROR(IF(A138=\"\",\"\",VLOOKUP(A138,Funcionários!$A$2:$F$299,2,0)),\"Funcionário não encontrado\")","v":""},null,null,null,null,null,"",{"$f":"IFERROR(IF(A138=\"\",\"\",VLOOKUP(A138,Funcionários!$A$2:$F$299,5,0)),\"\")","v":""},""]
[null,{"$f":"IFERROR(IF(A139=\"\",\"\",VLOOKUP(A139,Funcionários!$A$2:$F$299,2,0)),\"Funcionário não encontrado\")","v":""},null,null,null,null,null,"",{"$f":"IFERROR(IF(A139=\"\",\"\",VLOOKUP(A139,Funcionários!$A$2:$F$299,5,0)),\"\")","v":""},""]
[null,{"$f":"IFERROR(IF(A140=\"\",\"\",VLOOKUP(A140,Funcionários!$A$2:$F$299,2,0)),\"Funcionário não encontrado\")","v":""},null,null,null,null,null,"",{"$f":"IFERROR(IF(A140=\"\",\"\",VLOOKUP(A140,Funcionários!$A$2:$F$299,5,0)),\"\")","v":""},""]
[null,{"$f":"IFERROR(IF(A141=\"\",\"\",VLOOKUP(A141,Funcionários!$A$2:$F$299,2,0)),\"Funcionário não encontrado\")","v":""},null,null,null,null,null,"",{"$f":"IFERROR(IF(A141=\"\",\"\",VLOOKUP(A141,Funcionários!$A$2:$F$299,5,0)),\"\")","v":""},""]
[null,{"$f":"IFERROR(IF(A142=\"\",\"\",VLOOKUP(A142,Funcionários!$A$2:$F$299,2,0)),\"Funcionário não encontrado\")","v":""},null,null,null,null,null,"",{"$f":"IFERROR(IF(A142=\"\",\"\",VLOOKUP(A142,Funcionários!$A$2:$F$299,5,0)),\"\")","v":""},""]
[null,{"$f":"IFERROR(IF(A143=\"\",\"\",VLOOKUP(A143,Funcionários!$A$2:$F$299,2,0)),\"Funcionário não encontrado\")","v":""},null,null,null,null,null,"",{"$f":"IFERROR(IF(A143=\"\",\"\",VLOOKUP(A143,Funcionários!$A$2:$F$299,5,0)),\"\")","v":""},""]
[null,{"$f":"IFERROR(IF(A144=\"\",\"\",VLOOKUP(A144,Funcionários!$A$2:$F$299,2,0)),\"Funcionário não encontrado\")","v":""},null,null,null,null,null,"",{"$f":"IFERROR(IF(A144=\"\",\"\",VLOOKUP(A144,Funcionários!$A$2:$F$299,5,0)),\"\")","v":""},""]
[null,{"$f":"IFERROR(IF(A145=\"\",\"\",VLOOKUP(A145,Funcionários!$A$2:$F$299,2,0)),\"Funcionário não encontrado\")","v":""},null,null,null,null,null,"",{"$f":"IFERROR(IF(A145=\"\",\"\",VLOOKUP(A145,Funcionários!$A$2:$F$299,5,0)),\"\")","v":""},""]
[null,{"$f":"IFERROR(IF(A146=\"\",\"\",VLOOKUP(A146,Funcionários!$A$2:$F$299,2,0)),\"Funcionário não encontrado\")","v":""},null,null,null,null,null,"",{"$f":"IFERROR(IF(A146=\"\",\"\",VLOOKUP(A146,Funcionários!$A$2:$F$299,5,0)),\"\")","v":""},""]
[null,{"$f":"IFERROR(IF(A147=\"\",\"\",VLOOKUP(A147,Funcionários!$A$2:$F$299,2,0)),\"Funcionário não encontrado\")","v":""},null,null,null,null,null,"",{"$f":"IFERROR(IF(A147=\"\",\"\",VLOOKUP(A147,Funcionários!$A$2:$F$299,5,0)),\"\")","v":""},""]
[null,{"$f":"IFERROR(IF(A148=\"\",\"\",VLOOKUP(A148,Funcionários!$A$2:$F$299,2,0)),\"Funcionário não encontrado\")","v":""},null,null,null,null,null,"",{"$f":"IFERROR(IF(A148=\"\",\"\",VLOOKUP(A148,Funcionários!$A$2:$F$299,5,0)),\"\")","v":""},""]
[null,{"$f":"IFERROR(IF(A149=\"\",\"\",VLOOKUP(A149,Funcionários!$A$2:$F$299,2,0)),\"Funcionário não encontrado\")","v":""},null,null,null,null,null,"",{"$f":"IFERROR(IF(A149=\"\",\"\",VLOOKUP(A149,Funcionários!$A$2:$F$299,5,0)),\"\")","v":""},""]
[null,{"$f":"IFERROR(IF(A150=\"\",\"\",VLOOKUP(A150,Funcionários!$A$2:$F$299,2,0)),\"Funcionário não encontrado\")","v":""},null,null,null,null,null,"",{"$f":"IFERROR(IF(A150=\"\",\"\",VLOOKUP(A150,Funcionários!$A$2:$F$299,5,0)),\"\")","v":""},""]
[null,{"$f":"IFERROR(IF(A151=\"\",\"\",VLOOKUP(A151,Funcionários!$A$2:$F$299,2,0)),\"Funcionário não encontrado\")","v":""},null,null,null,null,null,"",{"$f":"IFERROR(IF(A151=\"\",\"\",VLOOKUP(A151,Funcionários!$A$2:$F$299,5,0)),\"\")","v":""},""]
[null,{"$f":"IFERROR(IF(A152=\"\",\"\",VLOOKUP(A152,Funcionários!$A$2:$F$299,2,0)),\"Funcionário não encontrado\")","v":""},null,null,null,null,null,"",{"$f":"IFERROR(IF(A152=\"\",\"\",VLOOKUP(A152,Funcionários!$A$2:$F$299,5,0)),\"\")","v":""},""]
[null,{"$f":"IFERROR(IF(A153=\"\",\"\",VLOOKUP(A153,Funcionários!$A$2:$F$299,2,0)),\"Funcionário não encontrado\")","v":""},null,null,null,null,null,"",{"$f":"IFERROR(IF(A153=\"\",\"\",VLOOKUP(A153,Funcionários!$A$2:$F$299,5,0)),\"\")","v":""},""]
[null,{"$f":"IFERROR(IF(A154=\"\",\"\",VLOOKUP(A154,Funcionários!$A$2:$F$299,2,0)),\"Funcionário não encontrado\")","v":""},null,null,null,null,null,"",{"$f":"IFERROR(IF(A154=\"\",\"\",VLOOKUP(A154,Funcionários!$A$2:$F$299,5,0)),\"\")","v":""},""]
[null,{"$f":"IFERROR(IF(A155=\"\",\"\",VLOOKUP(A155,Funcionários!$A$2:$F$299,2,0)),\"Funcionário não encontrado\")","v":""},null,null,null,null,null,"",{"$f":"IFERROR(IF(A155=\"\",\"\",VLOOKUP(A155,Funcionários!$A$2:$F$299,5,0)),\"\")","v":""},""]
[null,{"$f":"IFERROR(IF(A156=\"\",\"\",VLOOKUP(A156,Funcionários!$A$2:$F$299,2,0)),\"Funcionário não encontrado\")","v":""},null,null,null,null,null,"",{"$f":"IFERROR(IF(A156=\"\",\"\",VLOOKUP(A156,Funcionários!$A$2:$F$299,5,0)),\"\")","v":""},""]
[null,{"$f":"IFERROR(IF(A157=\"\",\"\",VLOOKUP(A157,Funcionários!$A$2:$F$299,2,0)),\"Funcionário não encontrado\")","v":""},null,null,null,null,null,"",{"$f":"IFERROR(IF(A157=\"\",\"\",VLOOKUP(A157,Funcionários!$A$2:$F$299,5,0)),\"\")","v":""},""]
[null,{"$f":"IFERROR(IF(A158=\"\",\"\",VLOOKUP(A158,Funcionários!$A$2:$F$299,2,0)),\"Funcionário não encontrado\")","v":""},null,null,null,null,null,"",{"$f":"IFERROR(IF(A158=\"\",\"\",VLOOKUP(A158,Funcionários!$A$2:$F$299,5,0)),\"\")","v":""},""]
[null,{"$f":"IFERROR(IF(A159=\"\",\"\",VLOOKUP(A159,Funcionários!$A$2:$F$299,2,0)),\"Funcionário não encontrado\")","v":""},null,null,null,null,null,"",{"$f":"IFERROR(IF(A159=\"\",\"\",VLOOKUP(A159,Funcionários!$A$2:$F$299,5,0)),\"\")","v":""},""]
[null,{"$f":"IFERROR(IF(A160=\"\",\"\",VLOOKUP(A160,Funcionários!$A$2:$F$299,2,0)),\"Funcionário não encontrado\")","v":""},null,null,null,null,null,"",{"$f":"IFERROR(IF(A160=\"\",\"\",VLOOKUP(A160,Funcionários!$A$2:$F$299,5,0)),\"\")","v":""},""]
[null,{"$f":"IFERROR(IF(A161=\"\",\"\",VLOOKUP(A161,Funcionários!$A$2:$F$299,2,0)),\"Funcionário não encontrado\")","v":""},null,null,null,null,null,"",{"$f":"IFERROR(IF(A161=\"\",\"\",VLOOKUP(A161,Funcionários!$A$2:$F$299,5,0)),\"\")","v":""},""]
[null,{"$f":"IFERROR(IF(A162=\"\",\"\",VLOOKUP(A162,Funcionários!$A$2:$F$299,2,0)),\"Funcionário não encontrado\")","v":""},null,null,null,null,null,"",{"$f":"IFERROR(IF(A162=\"\",\"\",VLOOKUP(A162,Funcionários!$A$2:$F$299,5,0)),\"\")","v":""},""]
[null,{"$f":"IFERROR(IF(A163=\"\",\"\",VLOOKUP(A163,Funcionários!$A$2:$F$299,2,0)),\"Funcionário não encontrado\")","v":""},null,null,null,null,null,"",{"$f":"IFERROR(IF(A163=\"\",\"\",VLOOKUP(A163,Funcionários!$A$2:$F$299,5,0)),\"\")","v":""},""]
[null,{"$f":"IFERROR(IF(A164=\"\",\"\",VLOOKUP(A164,Funcionários!$A$2:$F$299,2,0)),\"Funcionário não encontrado\")","v":""},null,null,null,null,null,"",{"$f":"IFERROR(IF(A164=\"\",\"\",VLOOKUP(A164,Funcionários!$A$2:$F$299,5,0)),\"\")","v":""},""]
[null,{"$f":"IFERROR(IF(A165=\"\",\"\",VLOOKUP(A165,Funcionários!$A$2:$F$299,2,0)),\"Funcionário não encontrado\")","v":""},null,null,null,null,null,"",{"$f":"IFERROR(IF(A165=\"\",\"\",VLOOKUP(A165,Funcionários!$A$2:$F$299,5,0)),\"\")","v":""},""]
[null,{"$f":"IFERROR(IF(A166=\"\",\"\",VLOOKUP(A166,Funcionários!$A$2:$F$299,2,0)),\"Funcionário não encontrado\")","v":""},null,null,null,null,null,"",{"$f":"IFERROR(IF(A166=\"\",\"\",VLOOKUP(A166,Funcionários!$A$2:$F$299,5,0)),\"\")","v":""},""]
[null,{"$f":"IFERROR(IF(A167=\"\",\"\",VLOOKUP(A167,Funcionários!$A$2:$F$299,2,0)),\"Funcionário não encontrado\")","v":""},null,null,null,null,null,"",{"$f":"IFERROR(IF(A167=\"\",\"\",VLOOKUP(A167,Funcionários!$A$2:$F$299,5,0)),\"\")","v":""},""]
[null,{"$f":"IFERROR(IF(A168=\"\",\"\",VLOOKUP(A168,Funcionários!$A$2:$F$299,2,0)),\"Funcionário não encontrado\")","v":""},null,null,null,null,null,"",{"$f":"IFERROR(IF(A168=\"\",\"\",VLOOKUP(A168,Funcionários!$A$2:$F$299,5,0)),\"\")","v":""},""]
[null,{"$f":"IFERROR(IF(A169=\"\",\"\",VLOOKUP(A169,Funcionários!$A$2:$F$299,2,0)),\"Funcionário não encontrado\")","v":""},null,null,null,null,null,"",{"$f":"IFERROR(IF(A169=\"\",\"\",VLOOKUP(A169,Funcionários!$A$2:$F$299,5,0)),\"\")","v":""},""]
[null,{"$f":"IFERROR(IF(A170=\"\",\"\",VLOOKUP(A170,Funcionários!$A$2:$F$299,2,0)),\"Funcionário não encontrado\")","v":""},null,null,null,null,null,"",{"$f":"IFERROR(IF(A170=\"\",\"\",VLOOKUP(A170,Funcionários!$A$2:$F$299,5,0)),\"\")","v":""},""]
[null,{"$f":"IFERROR(IF(A171=\"\",\"\",VLOOKUP(A171,Funcionários!$A$2:$F$299,2,0)),\"Funcionário não encontrado\")","v":""},null,null,null,null,null,"",{"$f":"IFERROR(IF(A171=\"\",\"\",VLOOKUP(A171,Funcionários!$A$2:$F$299,5,0)),\"\")","v":""},""]
[null,{"$f":"IFERROR(IF(A172=\"\",\"\",VLOOKUP(A172,Funcionários!$A$2:$F$299,2,0)),\"Funcionário não encontrado\")","v":""},null,null,null,null,null,"",{"$f":"IFERROR(IF(A172=\"\",\"\",VLOOKUP(A172,Funcionários!$A$2:$F$299,5,0)),\"\")","v":""},""]
[null,{"$f":"IFERROR(IF(A173=\"\",\"\",VLOOKUP(A173,Funcionários!$A$2:$F$299,2,0)),\"Funcionário não encontrado\")","v":""},null,null,null,null,null,"",{"$f":"IFERROR(IF(A173=\"\",\"\",VLOOKUP(A173,Funcionários!$A$2:$F$299,5,0)),\"\")","v":""},""]
[null,{"$f":"IFERROR(IF(A174=\"\",\"\",VLOOKUP(A174,Funcionários!$A$2:$F$299,2,0)),\"Funcionário não encontrado\")","v":""},null,null,null,null,null,"",{"$f":"IFERROR(IF(A174=\"\",\"\",VLOOKUP(A174,Funcionários!$A$2:$F$299,5,0)),\"\")","v":""},""]
[null,{"$f":"IFERROR(IF(A175=\"\",\"\",VLOOKUP(A175,Funcionários!$A$2:$F$299,2,0)),\"Funcionário não encontrado\")","v":""},null,null,null,null,null,"",{"$f":"IFERROR(IF(A175=\"\",\"\",VLOOKUP(A175,Funcionários!$A$2:$F$299,5,0)),\"\")","v":""},""]
[null,{"$f":"IFERROR(IF(A176=\"\",\"\",VLOOKUP(A176,Funcionários!$A$2:$F$299,2,0)),\"Funcionário não encontrado\")","v":""},null,null,null,null,null,"",{"$f":"IFERROR(IF(A176=\"\",\"\",VLOOKUP(A176,Funcionários!$A$2:$F$299,5,0)),\"\")","v":""},""]
[null,{"$f":"IFERROR(IF(A177=\"\",\"\",VLOOKUP(A177,Funcionários!$A$2:$F$299,2,0)),\"Funcionário não encontrado\")","v":""},null,null,null,null,null,"",{"$f":"IFERROR(IF(A177=\"\",\"\",VLOOKUP(A177,Funcionários!$A$2:$F$299,5,0)),\"\")","v":""},""]
[null,{"$f":"IFERROR(IF(A178=\"\",\"\",VLOOKUP(A178,Funcionários!$A$2:$F$299,2,0)),\"Funcionário não encontrado\")","v":""},null,null,null,null,null,"",{"$f":"IFERROR(IF(A178=\"\",\"\",VLOOKUP(A178,Funcionários!$A$2:$F$299,5,0)),\"\")","v":""},""]
[null,{"$f":"IFERROR(IF(A179=\"\",\"\",VLOOKUP(A179,Funcionários!$A$2:$F$299,2,0)),\"Funcionário não encontrado\")","v":""},null,null,null,null,null,"",{"$f":"IFERROR(IF(A179=\"\",\"\",VLOOKUP(A179,Funcionários!$A$2:$F$299,5,0)),\"\")","v":""},""]
[null,{"$f":"IFERROR(IF(A180=\"\",\"\",VLOOKUP(A180,Funcionários!$A$2:$F$299,2,0)),\"Funcionário não encontrado\")","v":""},null,null,null,null,null,"",{"$f":"IFERROR(IF(A180=\"\",\"\",VLOOKUP(A180,Funcionários!$A$2:$F$299,5,0)),\"\")","v":""},""]
[null,{"$f":"IFERROR(IF(A181=\"\",\"\",VLOOKUP(A181,Funcionários!$A$2:$F$299,2,0)),\"Funcionário não encontrado\")","v":""},null,null,null,null,null,"",{"$f":"IFERROR(IF(A181=\"\",\"\",VLOOKUP(A181,Funcionários!$A$2:$F$299,5,0)),\"\")","v":""},""]
[null,{"$f":"IFERROR(IF(A182=\"\",\"\",VLOOKUP(A182,Funcionários!$A$2:$F$299,2,0)),\"Funcionário não encontrado\")","v":""},null,null,null,null,null,"",{"$f":"IFERROR(IF(A182=\"\",\"\",VLOOKUP(A182,Funcionários!$A$2:$F$299,5,0)),\"\")","v":""},""]
[null,{"$f":"IFERROR(IF(A183=\"\",\"\",VLOOKUP(A183,Funcionários!$A$2:$F$299,2,0)),\"Funcionário não encontrado\")","v":""},null,null,null,null,null,"",{"$f":"IFERROR(IF(A183=\"\",\"\",VLOOKUP(A183,Funcionários!$A$2:$F$299,5,0)),\"\")","v":""},""]
[null,{"$f":"IFERROR(IF(A184=\"\",\"\",VLOOKUP(A184,Funcionários!$A$2:$F$299,2,0)),\"Funcionário não encontrado\")","v":""},null,null,null,null,null,"",{"$f":"IFERROR(IF(A184=\"\",\"\",VLOOKUP(A184,Funcionários!$A$2:$F$299,5,0)),\"\")","v":""},""]
[null,{"$f":"IFERROR(IF(A185=\"\",\"\",VLOOKUP(A185,Funcionários!$A$2:$F$299,2,0)),\"Funcionário não encontrado\")","v":""},null,null,null,null,null,"",{"$f":"IFERROR(IF(A185=\"\",\"\",VLOOKUP(A185,Funcionários!$A$2:$F$299,5,0)),\"\")","v":""},""]
[null,{"$f":"IFERROR(IF(A186=\"\",\"\",VLOOKUP(A186,Funcionários!$A$2:$F$299,2,0)),\"Funcionário não encontrado\")","v":""},null,null,null,null,null,"",{"$f":"IFERROR(IF(A186=\"\",\"\",VLOOKUP(A186,Funcionários!$A$2:$F$299,5,0)),\"\")","v":""},""]
[null,{"$f":"IFERROR(IF(A187=\"\",\"\",VLOOKUP(A187,Funcionários!$A$2:$F$299,2,0)),\"Funcionário não encontrado\")","v":""},null,null,null,null,null,"",{"$f":"IFERROR(IF(A187=\"\",\"\",VLOOKUP(A187,Funcionários!$A$2:$F$299,5,0)),\"\")","v":""},""]
[null,{"$f":"IFERROR(IF(A188=\"\",\"\",VLOOKUP(A188,Funcionários!$A$2:$F$299,2,0)),\"Funcionário não encontrado\")","v":""},null,null,null,null,null,"",{"$f":"IFERROR(IF(A188=\"\",\"\",VLOOKUP(A188,Funcionários!$A$2:$F$299,5,0)),\"\")","v":""},""]
[null,{"$f":"IFERROR(IF(A189=\"\",\"\",VLOOKUP(A189,Funcionários!$A$2:$F$299,2,0)),\"Funcionário não encontrado\")","v":""},null,null,null,null,null,"",{"$f":"IFERROR(IF(A189=\"\",\"\",VLOOKUP(A189,Funcionários!$A$2:$F$299,5,0)),\"\")","v":""},""]
[null,{"$f":"IFERROR(IF(A190=\"\",\"\",VLOOKUP(A190,Funcionários!$A$2:$F$299,2,0)),\"Funcionário não encontrado\")","v":""},null,null,null,null,null,"",{"$f":"IFERROR(IF(A190=\"\",\"\",VLOOKUP(A190,Funcionários!$A$2:$F$299,5,0)),\"\")","v":""},""]
[null,{"$f":"IFERROR(IF(A191=\"\",\"\",VLOOKUP(A191,Funcionários!$A$2:$F$299,2,0)),\"Funcionário não encontrado\")","v":""},null,null,null,null,null,"",{"$f":"IFERROR(IF(A191=\"\",\"\",VLOOKUP(A191,Funcionários!$A$2:$F$299,5,0)),\"\")","v":""},""]
[null,{"$f":"IFERROR(IF(A192=\"\",\"\",VLOOKUP(A192,Funcionários!$A$2:$F$299,2,0)),\"Funcionário não encontrado\")","v":""},null,null,null,null,null,"",{"$f":"IFERROR(IF(A192=\"\",\"\",VLOOKUP(A192,Funcionários!$A$2:$F$299,5,0)),\"\")","v":""},""]
[null,{"$f":"IFERROR(IF(A193=\"\",\"\",VLOOKUP(A193,Funcionários!$A$2:$F$299,2,0)),\"Funcionário não encontrado\")","v":""},null,null,null,null,null,"",{"$f":"IFERROR(IF(A193=\"\",\"\",VLOOKUP(A193,Funcionários!$A$2:$F$299,5,0)),\"\")","v":""},""]
[null,{"$f":"IFERROR(IF(A194=\"\",\"\",VLOOKUP(A194,Funcionários!$A$2:$F$299,2,0)),\"Funcionário não encontrado\")","v":""},null,null,null,null,null,"",{"$f":"IFERROR(IF(A194=\"\",\"\",VLOOKUP(A194,Funcionários!$A$2:$F$299,5,0)),\"\")","v":""},""]
[null,{"$f":"IFERROR(IF(A195=\"\",\"\",VLOOKUP(A195,Funcionários!$A$2:$F$299,2,0)),\"Funcionário não encontrado\")","v":""},null,null,null,null,null,{"$f":"IF(OR(D195=\"\",E195=\"\",F195=\"\"),\"\",MOD((E195-D195)+(G195-F195),1))","v":""},{"$f":"IFERROR(IF(A195=\"\",\"\",VLOOKUP(A195,Funcionários!$A$2:$F$299,5,0)),\"\")","v":""},{"$f":"IF(H195=\"\",\"\",H195-I195)","v":""}]
[null,{"$f":"IFERROR(IF(A196=\"\",\"\",VLOOKUP(A196,Funcionários!$A$2:$F$299,2,0)),\"Funcionário não encontrado\")","v":""},null,null,null,null,null,"",{"$f":"IFERROR(IF(A196=\"\",\"\",VLOOKUP(A196,Funcionários!$A$2:$F$299,5,0)),\"\")","v":""},""]
[null,{"$f":"IFERROR(IF(A197=\"\",\"\",VLOOKUP(A197,Funcionários!$A$2:$F$299,2,0)),\"Funcionário não encontrado\")","v":""},null,null,null,null,null,"",{"$f":"IFERROR(IF(A197=\"\",\"\",VLOOKUP(A197,Funcionários!$A$2:$F$299,5,0)),\"\")","v":""},""]
[null,{"$f":"IFERROR(IF(A198=\"\",\"\",VLOOKUP(A198,Funcionários!$A$2:$F$299,2,0)),\"Funcionário não encontrado\")","v":""},null,null,null,null,null,"",{"$f":"IFERROR(IF(A198=\"\",\"\",VLOOKUP(A198,Funcionários!$A$2:$F$299,5,0)),\"\")","v":""},""]
[null,{"$f":"IFERROR(IF(A199=\"\",\"\",VLOOKUP(A199,Funcionários!$A$2:$F$299,2,0)),\"Funcionário não encontrado\")","v":""},null,null,null,null,null,"",{"$f":"IFERROR(IF(A199=\"\",\"\",VLOOKUP(A199,Funcionários!$A$2:$F$299,5,0)),\"\")","v":""},""]
[null,{"$f":"IFERROR(IF(A200=\"\",\"\",VLOOKUP(A200,Funcionários!$A$2:$F$299,2,0)),\"Funcionário não encontrado\")","v":""},null,null,null,null,null,"",{"$f":"IFERROR(IF(A200=\"\",\"\",VLOOKUP(A200,Funcionários!$A$2:$F$299,5,0)),\"\")","v":""},""]
[null,{"$f":"IFERROR(IF(A201=\"\",\"\",VLOOKUP(A201,Funcionários!$A$2:$F$299,2,0)),\"Funcionário não encontrado\")","v":""},null,null,null,null,null,"",{"$f":"IFERROR(IF(A201=\"\",\"\",VLOOKUP(A201,Funcionários!$A$2:$F$299,5,0)),\"\")","v":""},""]
[null,{"$f":"IFERROR(IF(A202=\"\",\"\",VLOOKUP(A202,Funcionários!$A$2:$F$299,2,0)),\"Funcionário não encontrado\")","v":""},null,null,null,null,null,"",{"$f":"IFERROR(IF(A202=\"\",\"\",VLOOKUP(A202,Funcionários!$A$2:$F$299,5,0)),\"\")","v":""},""]
[null,{"$f":"IFERROR(IF(A203=\"\",\"\",VLOOKUP(A203,Funcionários!$A$2:$F$299,2,0)),\"Funcionário não encontrado\")","v":""},null,null,null,null,null,"",{"$f":"IFERROR(IF(A203=\"\",\"\",VLOOKUP(A203,Funcionários!$A$2:$F$299,5,0)),\"\")","v":""},""]
[null,{"$f":"IFERROR(IF(A204=\"\",\"\",VLOOKUP(A204,Funcionários!$A$2:$F$299,2,0)),\"Funcionário não encontrado\")","v":""},null,null,null,null,null,"",{"$f":"IFERROR(IF(A204=\"\",\"\",VLOOKUP(A204,Funcionários!$A$2:$F$299,5,0)),\"\")","v":""},""]
[null,{"$f":"IFERROR(IF(A205=\"\",\"\",VLOOKUP(A205,Funcionários!$A$2:$F$299,2,0)),\"Funcionário não encontrado\")","v":""},null,null,null,null,null,"",{"$f":"IFERROR(IF(A205=\"\",\"\",VLOOKUP(A205,Funcionários!$A$2:$F$299,5,0)),\"\")","v":""},""]
[null,{"$f":"IFERROR(IF(A206=\"\",\"\",VLOOKUP(A206,Funcionários!$A$2:$F$299,2,0)),\"Funcionário não encontrado\")","v":""},null,null,null,null,null,"",{"$f":"IFERROR(IF(A206=\"\",\"\",VLOOKUP(A206,Funcionários!$A$2:$F$299,5,0)),\"\")","v":""},""]
[null,{"$f":"IFERROR(IF(A207=\"\",\"\",VLOOKUP(A207,Funcionários!$A$2:$F$299,2,0)),\"Funcionário não encontrado\")","v":""},null,null,null,null,null,"",{"$f":"IFERROR(IF(A207=\"\",\"\",VLOOKUP(A207,Funcionários!$A$2:$F$299,5,0)),\"\")","v":""},""]
[null,{"$f":"IFERROR(IF(A208=\"\",\"\",VLOOKUP(A208,Funcionários!$A$2:$F$299,2,0)),\"Funcionário não encontrado\")","v":""},null,null,null,null,null,"",{"$f":"IFERROR(IF(A208=\"\",\"\",VLOOKUP(A208,Funcionários!$A$2:$F$299,5,0)),\"\")","v":""},""]
[null,{"$f":"IFERROR(IF(A209=\"\",\"\",VLOOKUP(A209,Funcionários!$A$2:$F$299,2,0)),\"Funcionário não encontrado\")","v":""},null,null,null,null,null,"",{"$f":"IFERROR(IF(A209=\"\",\"\",VLOOKUP(A209,Funcionários!$A$2:$F$299,5,0)),\"\")","v":""},""]
[null,{"$f":"IFERROR(IF(A210=\"\",\"\",VLOOKUP(A210,Funcionários!$A$2:$F$299,2,0)),\"Funcionário não encontrado\")","v":""},null,null,null,null,null,"",{"$f":"IFERROR(IF(A210=\"\",\"\",VLOOKUP(A210,Funcionários!$A$2:$F$299,5,0)),\"\")","v":""},""]
[null,{"$f":"IFERROR(IF(A211=\"\",\"\",VLOOKUP(A211,Funcionários!$A$2:$F$299,2,0)),\"Funcionário não encontrado\")","v":""},null,null,null,null,null,"",{"$f":"IFERROR(IF(A211=\"\",\"\",VLOOKUP(A211,Funcionários!$A$2:$F$299,5,0)),\"\")","v":""},""]
[null,{"$f":"IFERROR(IF(A212=\"\",\"\",VLOOKUP(A212,Funcionários!$A$2:$F$299,2,0)),\"Funcionário não encontrado\")","v":""},null,null,null,null,null,"",{"$f":"IFERROR(IF(A212=\"\",\"\",VLOOKUP(A212,Funcionários!$A$2:$F$299,5,0)),\"\")","v":""},""]
[null,{"$f":"IFERROR(IF(A213=\"\",\"\",VLOOKUP(A213,Funcionários!$A$2:$F$299,2,0)),\"Funcionário não encontrado\")","v":""},null,null,null,null,null,"",{"$f":"IFERROR(IF(A213=\"\",\"\",VLOOKUP(A213,Funcionários!$A$2:$F$299,5,0)),\"\")","v":""},""]
[null,{"$f":"IFERROR(IF(A214=\"\",\"\",VLOOKUP(A214,Funcionários!$A$2:$F$299,2,0)),\"Funcionário não encontrado\")","v":""},null,null,null,null,null,"",{"$f":"IFERROR(IF(A214=\"\",\"\",VLOOKUP(A214,Funcionários!$A$2:$F$299,5,0)),\"\")","v":""},""]
[null,{"$f":"IFERROR(IF(A215=\"\",\"\",VLOOKUP(A215,Funcionários!$A$2:$F$299,2,0)),\"Funcionário não encontrado\")","v":""},null,null,null,null,null,"",{"$f":"IFERROR(IF(A215=\"\",\"\",VLOOKUP(A215,Funcionários!$A$2:$F$299,5,0)),\"\")","v":""},""]
[null,{"$f":"IFERROR(IF(A216=\"\",\"\",VLOOKUP(A216,Funcionários!$A$2:$F$299,2,0)),\"Funcionário não encontrado\")","v":""},null,null,null,null,null,"",{"$f":"IFERROR(IF(A216=\"\",\"\",VLOOKUP(A216,Funcionários!$A$2:$F$299,5,0)),\"\")","v":""},""]
[null,{"$f":"IFERROR(IF(A217=\"\",\"\",VLOOKUP(A217,Funcionários!$A$2:$F$299,2,0)),\"Funcionário não encontrado\")","v":""},null,null,null,null,null,"",{"$f":"IFERROR(IF(A217=\"\",\"\",VLOOKUP(A217,Funcionários!$A$2:$F$299,5,0)),\"\")","v":""},""]
[null,{"$f":"IFERROR(IF(A218=\"\",\"\",VLOOKUP(A218,Funcionários!$A$2:$F$299,2,0)),\"Funcionário não encontrado\")","v":""},null,null,null,null,null,"",{"$f":"IFERROR(IF(A218=\"\",\"\",VLOOKUP(A218,Funcionários!$A$2:$F$299,5,0)),\"\")","v":""},""]
[null,{"$f":"IFERROR(IF(A219=\"\",\"\",VLOOKUP(A219,Funcionários!$A$2:$F$299,2,0)),\"Funcionário não encontrado\")","v":""},null,null,null,null,null,"",{"$f":"IFERROR(IF(A219=\"\",\"\",VLOOKUP(A219,Funcionários!$A$2:$F$299,5,0)),\"\")","v":""},""]
[null,{"$f":"IFERROR(IF(A220=\"\",\"\",VLOOKUP(A220,Funcionários!$A$2:$F$299,2,0)),\"Funcionário não encontrado\")","v":""},null,null,null,null,null,"",{"$f":"IFERROR(IF(A220=\"\",\"\",VLOOKUP(A220,Funcionários!$A$2:$F$299,5,0)),\"\")","v":""},""]
[null,{"$f":"IFERROR(IF(A221=\"\",\"\",VLOOKUP(A221,Funcionários!$A$2:$F$299,2,0)),\"Funcionário não encontrado\")","v":""},null,null,null,null,null,"",{"$f":"IFERROR(IF(A221=\"\",\"\",VLOOKUP(A221,Funcionários!$A$2:$F$299,5,0)),\"\")","v":""},""]
[null,{"$f":"IFERROR(IF(A222=\"\",\"\",VLOOKUP(A222,Funcionários!$A$2:$F$299,2,0)),\"Funcionário não encontrado\")","v":""},null,null,null,null,null,"",{"$f":"IFERROR(IF(A222=\"\",\"\",VLOOKUP(A222,Funcionários!$A$2:$F$299,5,0)),\"\")","v":""},""]
[null,{"$f":"IFERROR(IF(A223=\"\",\"\",VLOOKUP(A223,Funcionários!$A$2:$F$299,2,0)),\"Funcionário não encontrado\")","v":""},null,null,null,null,null,"",{"$f":"IFERROR(IF(A223=\"\",\"\",VLOOKUP(A223,Funcionários!$A$2:$F$299,5,0)),\"\")","v":""},""]
[null,{"$f":"IFERROR(IF(A224=\"\",\"\",VLOOKUP(A224,Funcionários!$A$2:$F$299,2,0)),\"Funcionário não encontrado\")","v":""},null,null,null,null,null,"",{"$f":"IFERROR(IF(A224=\"\",\"\",VLOOKUP(A224,Funcionários!$A$2:$F$299,5,0)),\"\")","v":""},""]
[null,{"$f":"IFERROR(IF(A225=\"\",\"\",VLOOKUP(A225,Funcionários!$A$2:$F$299,2,0)),\"Funcionário não encontrado\")","v":""},null,null,null,null,null,"",{"$f":"IFERROR(IF(A225=\"\",\"\",VLOOKUP(A225,Funcionários!$A$2:$F$299,5,0)),\"\")","v":""},""]
[null,{"$f":"IFERROR(IF(A226=\"\",\"\",VLOOKUP(A226,Funcionários!$A$2:$F$299,2,0)),\"Funcionário não encontrado\")","v":""},null,null,null,null,null,"",{"$f":"IFERROR(IF(A226=\"\",\"\",VLOOKUP(A226,Funcionários!$A$2:$F$299,5,0)),\"\")","v":""},""]
[null,{"$f":"IFERROR(IF(A227=\"\",\"\",VLOOKUP(A227,Funcionários!$A$2:$F$299,2,0)),\"Funcionário não encontrado\")","v":""},null,null,null,null,null,"",{"$f":"IFERROR(IF(A227=\"\",\"\",VLOOKUP(A227,Funcionários!$A$2:$F$299,5,0)),\"\")","v":""},""]
[null,{"$f":"IFERROR(IF(A228=\"\",\"\",VLOOKUP(A228,Funcionários!$A$2:$F$299,2,0)),\"Funcionário não encontrado\")","v":""},null,null,null,null,null,"",{"$f":"IFERROR(IF(A228=\"\",\"\",VLOOKUP(A228,Funcionários!$A$2:$F$299,5,0)),\"\")","v":""},""]
[null,{"$f":"IFERROR(IF(A229=\"\",\"\",VLOOKUP(A229,Funcionários!$A$2:$F$299,2,0)),\"Funcionário não encontrado\")","v":""},null,null,null,null,null,"",{"$f":"IFERROR(IF(A229=\"\",\"\",VLOOKUP(A229,Funcionários!$A$2:$F$299,5,0)),\"\")","v":""},""]
[null,{"$f":"IFERROR(IF(A230=\"\",\"\",VLOOKUP(A230,Funcionários!$A$2:$F$299,2,0)),\"Funcionário não encontrado\")","v":""},null,null,null,null,null,"",{"$f":"IFERROR(IF(A230=\"\",\"\",VLOOKUP(A230,Funcionários!$A$2:$F$299,5,0)),\"\")","v":""},""]
[null,{"$f":"IFERROR(IF(A231=\"\",\"\",VLOOKUP(A231,Funcionários!$A$2:$F$299,2,0)),\"Funcionário não encontrado\")","v":""},null,null,null,null,null,"",{"$f":"IFERROR(IF(A231=\"\",\"\",VLOOKUP(A231,Funcionários!$A$2:$F$299,5,0)),\"\")","v":""},""]
[null,{"$f":"IFERROR(IF(A232=\"\",\"\",VLOOKUP(A232,Funcionários!$A$2:$F$299,2,0)),\"Funcionário não encontrado\")","v":""},null,null,null,null,null,"",{"$f":"IFERROR(IF(A232=\"\",\"\",VLOOKUP(A232,Funcionários!$A$2:$F$299,5,0)),\"\")","v":""},""]
[null,{"$f":"IFERROR(IF(A233=\"\",\"\",VLOOKUP(A233,Funcionários!$A$2:$F$299,2,0)),\"Funcionário não encontrado\")","v":""},null,null,null,null,null,"",{"$f":"IFERROR(IF(A233=\"\",\"\",VLOOKUP(A233,Funcionários!$A$2:$F$299,5,0)),\"\")","v":""},""]
[null,{"$f":"IFERROR(IF(A234=\"\",\"\",VLOOKUP(A234,Funcionários!$A$2:$F$299,2,0)),\"Funcionário não encontrado\")","v":""},null,null,null,null,null,"",{"$f":"IFERROR(IF(A234=\"\",\"\",VLOOKUP(A234,Funcionários!$A$2:$F$299,5,0)),\"\")","v":""},""]
[null,{"$f":"IFERROR(IF(A235=\"\",\"\",VLOOKUP(A235,Funcionários!$A$2:$F$299,2,0)),\"Funcionário não encontrado\")","v":""},null,null,null,null,null,"",{"$f":"IFERROR(IF(A235=\"\",\"\",VLOOKUP(A235,Funcionários!$A$2:$F$299,5,0)),\"\")","v":""},""]
[null,{"$f":"IFERROR(IF(A236=\"\",\"\",VLOOKUP(A236,Funcionários!$A$2:$F$299,2,0)),\"Funcionário não encontrado\")","v":""},null,null,null,null,null,"",{"$f":"IFERROR(IF(A236=\"\",\"\",VLOOKUP(A236,Funcionários!$A$2:$F$299,5,0)),\"\")","v":""},""]
[null,{"$f":"IFERROR(IF(A237=\"\",\"\",VLOOKUP(A237,Funcionários!$A$2:$F$299,2,0)),\"Funcionário não encontrado\")","v":""},null,null,null,null,null,"",{"$f":"IFERROR(IF(A237=\"\",\"\",VLOOKUP(A237,Funcionários!$A$2:$F$299,5,0)),\"\")","v":""},""]
[null,{"$f":"IFERROR(IF(A238=\"\",\"\",VLOOKUP(A238,Funcionários!$A$2:$F$299,2,0)),\"Funcionário não encontrado\")","v":""},null,null,null,null,null,"",{"$f":"IFERROR(IF(A238=\"\",\"\",VLOOKUP(A238,Funcionários!$A$2:$F$299,5,0)),\"\")","v":""},""]
[null,{"$f":"IFERROR(IF(A239=\"\",\"\",VLOOKUP(A239,Funcionários!$A$2:$F$299,2,0)),\"Funcionário não encontrado\")","v":""},null,null,null,null,null,"",{"$f":"IFERROR(IF(A239=\"\",\"\",VLOOKUP(A239,Funcionários!$A$2:$F$299,5,0)),\"\")","v":""},""]
[null,{"$f":"IFERROR(IF(A240=\"\",\"\",VLOOKUP(A240,Funcionários!$A$2:$F$299,2,0)),\"Funcionário não encontrado\")","v":""},null,null,null,null,null,"",{"$f":"IFERROR(IF(A240=\"\",\"\",VLOOKUP(A240,Funcionários!$A$2:$F$299,5,0)),\"\")","v":""},""]
[null,{"$f":"IFERROR(IF(A241=\"\",\"\",VLOOKUP(A241,Funcionários!$A$2:$F$299,2,0)),\"Funcionário não encontrado\")","v":""},null,null,null,null,null,"",{"$f":"IFERROR(IF(A241=\"\",\"\",VLOOKUP(A241,Funcionários!$A$2:$F$299,5,0)),\"\")","v":""},""]
[null,{"$f":"IFERROR(IF(A242=\"\",\"\",VLOOKUP(A242,Funcionários!$A$2:$F$299,2,0)),\"Funcionário não encontrado\")","v":""},null,null,null,null,null,"",{"$f":"IFERROR(IF(A242=\"\",\"\",VLOOKUP(A242,Funcionários!$A$2:$F$299,5,0)),\"\")","v":""},""]
[null,{"$f":"IFERROR(IF(A243=\"\",\"\",VLOOKUP(A243,Funcionários!$A$2:$F$299,2,0)),\"Funcionário não encontrado\")","v":""},null,null,null,null,null,"",{"$f":"IFERROR(IF(A243=\"\",\"\",VLOOKUP(A243,Funcionários!$A$2:$F$299,5,0)),\"\")","v":""},""]
[null,{"$f":"IFERROR(IF(A244=\"\",\"\",VLOOKUP(A244,Funcionários!$A$2:$F$299,2,0)),\"Funcionário não encontrado\")","v":""},null,null,null,null,null,"",{"$f":"IFERROR(IF(A244=\"\",\"\",VLOOKUP(A244,Funcionários!$A$2:$F$299,5,0)),\"\")","v":""},""]
[null,{"$f":"IFERROR(IF(A245=\"\",\"\",VLOOKUP(A245,Funcionários!$A$2:$F$299,2,0)),\"Funcionário não encontrado\")","v":""},null,null,null,null,null,"",{"$f":"IFERROR(IF(A245=\"\",\"\",VLOOKUP(A245,Funcionários!$A$2:$F$299,5,0)),\"\")","v":""},""]
[null,{"$f":"IFERROR(IF(A246=\"\",\"\",VLOOKUP(A246,Funcionários!$A$2:$F$299,2,0)),\"Funcionário não encontrado\")","v":""},null,null,null,null,null,"",{"$f":"IFERROR(IF(A246=\"\",\"\",VLOOKUP(A246,Funcionários!$A$2:$F$299,5,0)),\"\")","v":""},""]
[null,{"$f":"IFERROR(IF(A247=\"\",\"\",VLOOKUP(A247,Funcionários!$A$2:$F$299,2,0)),\"Funcionário não encontrado\")","v":""},null,null,null,null,null,"",{"$f":"IFERROR(IF(A247=\"\",\"\",VLOOKUP(A247,Funcionários!$A$2:$F$299,5,0)),\"\")","v":""},""]
[null,{"$f":"IFERROR(IF(A248=\"\",\"\",VLOOKUP(A248,Funcionários!$A$2:$F$299,2,0)),\"Funcionário não encontrado\")","v":""},null,null,null,null,null,"",{"$f":"IFERROR(IF(A248=\"\",\"\",VLOOKUP(A248,Funcionários!$A$2:$F$299,5,0)),\"\")","v":""},""]
[null,{"$f":"IFERROR(IF(A249=\"\",\"\",VLOOKUP(A249,Funcionários!$A$2:$F$299,2,0)),\"Funcionário não encontrado\")","v":""},null,null,null,null,null,"",{"$f":"IFERROR(IF(A249=\"\",\"\",VLOOKUP(A249,Funcionários!$A$2:$F$299,5,0)),\"\")","v":""},""]
[null,{"$f":"IFERROR(IF(A250=\"\",\"\",VLOOKUP(A250,Funcionários!$A$2:$F$299,2,0)),\"Funcionário não encontrado\")","v":""},null,null,null,null,null,"",{"$f":"IFERROR(IF(A250=\"\",\"\",VLOOKUP(A250,Funcionários!$A$2:$F$299,5,0)),\"\")","v":""},""]
[null,{"$f":"IFERROR(IF(A251=\"\",\"\",VLOOKUP(A251,Funcionários!$A$2:$F$299,2,0)),\"Funcionário não encontrado\")","v":""},null,null,null,null,null,"",{"$f":"IFERROR(IF(A251=\"\",\"\",VLOOKUP(A251,Funcionários!$A$2:$F$299,5,0)),\"\")","v":""},""]
[null,{"$f":"IFERROR(IF(A252=\"\",\"\",VLOOKUP(A252,Funcionários!$A$2:$F$299,2,0)),\"Funcionário não encontrado\")","v":""},null,null,null,null,null,"",{"$f":"IFERROR(IF(A252=\"\",\"\",VLOOKUP(A252,Funcionários!$A$2:$F$299,5,0)),\"\")","v":""},""]
[null,{"$f":"IFERROR(IF(A253=\"\",\"\",VLOOKUP(A253,Funcionários!$A$2:$F$299,2,0)),\"Funcionário não encontrado\")","v":""},null,null,null,null,null,"",{"$f":"IFERROR(IF(A253=\"\",\"\",VLOOKUP(A253,Funcionários!$A$2:$F$299,5,0)),\"\")","v":""},""]
[null,{"$f":"IFERROR(IF(A254=\"\",\"\",VLOOKUP(A254,Funcionários!$A$2:$F$299,2,0)),\"Funcionário não encontrado\")","v":""},null,null,null,null,null,"",{"$f":"IFERROR(IF(A254=\"\",\"\",VLOOKUP(A254,Funcionários!$A$2:$F$299,5,0)),\"\")","v":""},""]
[null,{"$f":"IFERROR(IF(A255=\"\",\"\",VLOOKUP(A255,Funcionários!$A$2:$F$299,2,0)),\"Funcionário não encontrado\")","v":""},null,null,null,null,null,"",{"$f":"IFERROR(IF(A255=\"\",\"\",VLOOKUP(A255,Funcionários!$A$2:$F$299,5,0)),\"\")","v":""},""]
[null,{"$f":"IFERROR(IF(A256=\"\",\"\",VLOOKUP(A256,Funcionários!$A$2:$F$299,2,0)),\"Funcionário não encontrado\")","v":""},null,null,null,null,null,"",{"$f":"IFERROR(IF(A256=\"\",\"\",VLOOKUP(A256,Funcionários!$A$2:$F$299,5,0)),\"\")","v":""},""]
[null,{"$f":"IFERROR(IF(A257=\"\",\"\",VLOOKUP(A257,Funcionários!$A$2:$F$299,2,0)),\"Funcionário não encontrado\")","v":""},null,null,null,null,null,"",{"$f":"IFERROR(IF(A257=\"\",\"\",VLOOKUP(A257,Funcionários!$A$2:$F$299,5,0)),\"\")","v":""},""]
[null,{"$f":"IFERROR(IF(A258=\"\",\"\",VLOOKUP(A258,Funcionários!$A$2:$F$299,2,0)),\"Funcionário não encontrado\")","v":""},null,null,null,null,null,"",{"$f":"IFERROR(IF(A258=\"\",\"\",VLOOKUP(A258,Funcionários!$A$2:$F$299,5,0)),\"\")","v":""},""]
[null,{"$f":"IFERROR(IF(A259=\"\",\"\",VLOOKUP(A259,Funcionários!$A$2:$F$299,2,0)),\"Funcionário não encontrado\")","v":""},null,null,null,null,null,{"$f":"IF(OR(D259=\"\",E259=\"\",F259=\"\"),\"\",MOD((E259-D259)+(G259-F259),1))","v":""},{"$f":"IFERROR(IF(A259=\"\",\"\",VLOOKUP(A259,Funcionários!$A$2:$F$299,5,0)),\"\")","v":""},{"$f":"IF(H259=\"\",\"\",H259-I259)","v":""}]
[null,{"$f":"IFERROR(IF(A260=\"\",\"\",VLOOKUP(A260,Funcionários!$A$2:$F$299,2,0)),\"Funcionário não encontrado\")","v":""},null,null,null,null,null,"",{"$f":"IFERROR(IF(A260=\"\",\"\",VLOOKUP(A260,Funcionários!$A$2:$F$299,5,0)),\"\")","v":""},""]
[null,{"$f":"IFERROR(IF(A261=\"\",\"\",VLOOKUP(A261,Funcionários!$A$2:$F$299,2,0)),\"Funcionário não encontrado\")","v":""},null,null,null,null,null,"",{"$f":"IFERROR(IF(A261=\"\",\"\",VLOOKUP(A261,Funcionários!$A$2:$F$299,5,0)),\"\")","v":""},""]
[null,{"$f":"IFERROR(IF(A262=\"\",\"\",VLOOKUP(A262,Funcionários!$A$2:$F$299,2,0)),\"Funcionário não encontrado\")","v":""},null,null,null,null,null,"",{"$f":"IFERROR(IF(A262=\"\",\"\",VLOOKUP(A262,Funcionários!$A$2:$F$299,5,0)),\"\")","v":""},""]
[null,{"$f":"IFERROR(IF(A263=\"\",\"\",VLOOKUP(A263,Funcionários!$A$2:$F$299,2,0)),\"Funcionário não encontrado\")","v":""},null,null,null,null,null,"",{"$f":"IFERROR(IF(A263=\"\",\"\",VLOOKUP(A263,Funcionários!$A$2:$F$299,5,0)),\"\")","v":""},""]
[null,{"$f":"IFERROR(IF(A264=\"\",\"\",VLOOKUP(A264,Funcionários!$A$2:$F$299,2,0)),\"Funcionário não encontrado\")","v":""},null,null,null,null,null,"",{"$f":"IFERROR(IF(A264=\"\",\"\",VLOOKUP(A264,Funcionários!$A$2:$F$299,5,0)),\"\")","v":""},""]
[null,{"$f":"IFERROR(IF(A265=\"\",\"\",VLOOKUP(A265,Funcionários!$A$2:$F$299,2,0)),\"Funcionário não encontrado\")","v":""},null,null,null,null,null,"",{"$f":"IFERROR(IF(A265=\"\",\"\",VLOOKUP(A265,Funcionários!$A$2:$F$299,5,0)),\"\")","v":""},""]
[null,{"$f":"IFERROR(IF(A266=\"\",\"\",VLOOKUP(A266,Funcionários!$A$2:$F$299,2,0)),\"Funcionário não encontrado\")","v":""},null,null,null,null,null,"",{"$f":"IFERROR(IF(A266=\"\",\"\",VLOOKUP(A266,Funcionários!$A$2:$F$299,5,0)),\"\")","v":""},""]
[null,{"$f":"IFERROR(IF(A267=\"\",\"\",VLOOKUP(A267,Funcionários!$A$2:$F$299,2,0)),\"Funcionário não encontrado\")","v":""},null,null,null,null,null,"",{"$f":"IFERROR(IF(A267=\"\",\"\",VLOOKUP(A267,Funcionários!$A$2:$F$299,5,0)),\"\")","v":""},""]
[null,{"$f":"IFERROR(IF(A268=\"\",\"\",VLOOKUP(A268,Funcionários!$A$2:$F$299,2,0)),\"Funcionário não encontrado\")","v":""},null,null,null,null,null,"",{"$f":"IFERROR(IF(A268=\"\",\"\",VLOOKUP(A268,Funcionários!$A$2:$F$299,5,0)),\"\")","v":""},""]
[null,{"$f":"IFERROR(IF(A269=\"\",\"\",VLOOKUP(A269,Funcionários!$A$2:$F$299,2,0)),\"Funcionário não encontrado\")","v":""},null,null,null,null,null,"",{"$f":"IFERROR(IF(A269=\"\",\"\",VLOOKUP(A269,Funcionários!$A$2:$F$299,5,0)),\"\")","v":""},""]
[null,{"$f":"IFERROR(IF(A270=\"\",\"\",VLOOKUP(A270,Funcionários!$A$2:$F$299,2,0)),\"Funcionário não encontrado\")","v":""},null,null,null,null,null,"",{"$f":"IFERROR(IF(A270=\"\",\"\",VLOOKUP(A270,Funcionários!$A$2:$F$299,5,0)),\"\")","v":""},""]
[null,{"$f":"IFERROR(IF(A271=\"\",\"\",VLOOKUP(A271,Funcionários!$A$2:$F$299,2,0)),\"Funcionário não encontrado\")","v":""},null,null,null,null,null,"",{"$f":"IFERROR(IF(A271=\"\",\"\",VLOOKUP(A271,Funcionários!$A$2:$F$299,5,0)),\"\")","v":""},""]
[null,{"$f":"IFERROR(IF(A272=\"\",\"\",VLOOKUP(A272,Funcionários!$A$2:$F$299,2,0)),\"Funcionário não encontrado\")","v":""},null,null,null,null,null,"",{"$f":"IFERROR(IF(A272=\"\",\"\",VLOOKUP(A272,Funcionários!$A$2:$F$299,5,0)),\"\")","v":""},""]
[null,{"$f":"IFERROR(IF(A273=\"\",\"\",VLOOKUP(A273,Funcionários!$A$2:$F$299,2,0)),\"Funcionário não encontrado\")","v":""},null,null,null,null,null,"",{"$f":"IFERROR(IF(A273=\"\",\"\",VLOOKUP(A273,Funcionários!$A$2:$F$299,5,0)),\"\")","v":""},""]
[null,{"$f":"IFERROR(IF(A274=\"\",\"\",VLOOKUP(A274,Funcionários!$A$2:$F$299,2,0)),\"Funcionário não encontrado\")","v":""},null,null,null,null,null,"",{"$f":"IFERROR(IF(A274=\"\",\"\",VLOOKUP(A274,Funcionários!$A$2:$F$299,5,0)),\"\")","v":""},""]
[null,{"$f":"IFERROR(IF(A275=\"\",\"\",VLOOKUP(A275,Funcionários!$A$2:$F$299,2,0)),\"Funcionário não encontrado\")","v":""},null,null,null,null,null,"",{"$f":"IFERROR(IF(A275=\"\",\"\",VLOOKUP(A275,Funcionários!$A$2:$F$299,5,0)),\"\")","v":""},""]
[null,{"$f":"IFERROR(IF(A276=\"\",\"\",VLOOKUP(A276,Funcionários!$A$2:$F$299,2,0)),\"Funcionário não encontrado\")","v":""},null,null,null,null,null,"",{"$f":"IFERROR(IF(A276=\"\",\"\",VLOOKUP(A276,Funcionários!$A$2:$F$299,5,0)),\"\")","v":""},""]
[null,{"$f":"IFERROR(IF(A277=\"\",\"\",VLOOKUP(A277,Funcionários!$A$2:$F$299,2,0)),\"Funcionário não encontrado\")","v":""},null,null,null,null,null,"",{"$f":"IFERROR(IF(A277=\"\",\"\",VLOOKUP(A277,Funcionários!$A$2:$F$299,5,0)),\"\")","v":""},""]
[null,{"$f":"IFERROR(IF(A278=\"\",\"\",VLOOKUP(A278,Funcionários!$A$2:$F$299,2,0)),\"Funcionário não encontrado\")","v":""},null,null,null,null,null,"",{"$f":"IFERROR(IF(A278=\"\",\"\",VLOOKUP(A278,Funcionários!$A$2:$F$299,5,0)),\"\")","v":""},""]
[null,{"$f":"IFERROR(IF(A279=\"\",\"\",VLOOKUP(A279,Funcionários!$A$2:$F$299,2,0)),\"Funcionário não encontrado\")","v":""},null,null,null,null,null,"",{"$f":"IFERROR(IF(A279=\"\",\"\",VLOOKUP(A279,Funcionários!$A$2:$F$299,5,0)),\"\")","v":""},""]
[null,{"$f":"IFERROR(IF(A280=\"\",\"\",VLOOKUP(A280,Funcionários!$A$2:$F$299,2,0)),\"Funcionário não encontrado\")","v":""},null,null,null,null,null,"",{"$f":"IFERROR(IF(A280=\"\",\"\",VLOOKUP(A280,Funcionários!$A$2:$F$299,5,0)),\"\")","v":""},""]
[null,{"$f":"IFERROR(IF(A281=\"\",\"\",VLOOKUP(A281,Funcionários!$A$2:$F$299,2,0)),\"Funcionário não encontrado\")","v":""},null,null,null,null,null,"",{"$f":"IFERROR(IF(A281=\"\",\"\",VLOOKUP(A281,Funcionários!$A$2:$F$299,5,0)),\"\")","v":""},""]
[null,{"$f":"IFERROR(IF(A282=\"\",\"\",VLOOKUP(A282,Funcionários!$A$2:$F$299,2,0)),\"Funcionário não encontrado\")","v":""},null,null,null,null,null,"",{"$f":"IFERROR(IF(A282=\"\",\"\",VLOOKUP(A282,Funcionários!$A$2:$F$299,5,0)),\"\")","v":""},""]
[null,{"$f":"IFERROR(IF(A283=\"\",\"\",VLOOKUP(A283,Funcionários!$A$2:$F$299,2,0)),\"Funcionário não encontrado\")","v":""},null,null,null,null,null,"",{"$f":"IFERROR(IF(A283=\"\",\"\",VLOOKUP(A283,Funcionários!$A$2:$F$299,5,0)),\"\")","v":""},""]
[null,{"$f":"IFERROR(IF(A284=\"\",\"\",VLOOKUP(A284,Funcionários!$A$2:$F$299,2,0)),\"Funcionário não encontrado\")","v":""},null,null,null,null,null,"",{"$f":"IFERROR(IF(A284=\"\",\"\",VLOOKUP(A284,Funcionários!$A$2:$F$299,5,0)),\"\")","v":""},""]
[null,{"$f":"IFERROR(IF(A285=\"\",\"\",VLOOKUP(A285,Funcionários!$A$2:$F$299,2,0)),\"Funcionário não encontrado\")","v":""},null,null,null,null,null,"",{"$f":"IFERROR(IF(A285=\"\",\"\",VLOOKUP(A285,Funcionários!$A$2:$F$299,5,0)),\"\")","v":""},""]
[null,{"$f":"IFERROR(IF(A286=\"\",\"\",VLOOKUP(A286,Funcionários!$A$2:$F$299,2,0)),\"Funcionário não encontrado\")","v":""},null,null,null,null,null,"",{"$f":"IFERROR(IF(A286=\"\",\"\",VLOOKUP(A286,Funcionários!$A$2:$F$299,5,0)),\"\")","v":""},""]
[null,{"$f":"IFERROR(IF(A287=\"\",\"\",VLOOKUP(A287,Funcionários!$A$2:$F$299,2,0)),\"Funcionário não encontrado\")","v":""},null,null,null,null,null,"",{"$f":"IFERROR(IF(A287=\"\",\"\",VLOOKUP(A287,Funcionários!$A$2:$F$299,5,0)),\"\")","v":""},""]
[null,{"$f":"IFERROR(IF(A288=\"\",\"\",VLOOKUP(A288,Funcionários!$A$2:$F$299,2,0)),\"Funcionário não encontrado\")","v":""},null,null,null,null,null,"",{"$f":"IFERROR(IF(A288=\"\",\"\",VLOOKUP(A288,Funcionários!$A$2:$F$299,5,0)),\"\")","v":""},""]
[null,{"$f":"IFERROR(IF(A289=\"\",\"\",VLOOKUP(A289,Funcionários!$A$2:$F$299,2,0)),\"Funcionário não encontrado\")","v":""},null,null,null,null,null,"",{"$f":"IFERROR(IF(A289=\"\",\"\",VLOOKUP(A289,Funcionários!$A$2:$F$299,5,0)),\"\")","v":""},""]
[null,{"$f":"IFERROR(IF(A290=\"\",\"\",VLOOKUP(A290,Funcionários!$A$2:$F$299,2,0)),\"Funcionário não encontrado\")","v":""},null,null,null,null,null,"",{"$f":"IFERROR(IF(A290=\"\",\"\",VLOOKUP(A290,Funcionários!$A$2:$F$299,5,0)),\"\")","v":""},""]
[null,{"$f":"IFERROR(IF(A291=\"\",\"\",VLOOKUP(A291,Funcionários!$A$2:$F$299,2,0)),\"Funcionário não encontrado\")","v":""},null,null,null,null,null,"",{"$f":"IFERROR(IF(A291=\"\",\"\",VLOOKUP(A291,Funcionários!$A$2:$F$299,5,0)),\"\")","v":""},""]
[null,{"$f":"IFERROR(IF(A292=\"\",\"\",VLOOKUP(A292,Funcionários!$A$2:$F$299,2,0)),\"Funcionário não encontrado\")","v":""},null,null,null,null,null,"",{"$f":"IFERROR(IF(A292=\"\",\"\",VLOOKUP(A292,Funcionários!$A$2:$F$299,5,0)),\"\")","v":""},""]
[null,{"$f":"IFERROR(IF(A293=\"\",\"\",VLOOKUP(A293,Funcionários!$A$2:$F$299,2,0)),\"Funcionário não encontrado\")","v":""},null,null,null,null,null,"",{"$f":"IFERROR(IF(A293=\"\",\"\",VLOOKUP(A293,Funcionários!$A$2:$F$299,5,0)),\"\")","v":""},""]
[null,{"$f":"IFERROR(IF(A294=\"\",\"\",VLOOKUP(A294,Funcionários!$A$2:$F$299,2,0)),\"Funcionário não encontrado\")","v":""},null,null,null,null,null,"",{"$f":"IFERROR(IF(A294=\"\",\"\",VLOOKUP(A294,Funcionários!$A$2:$F$299,5,0)),\"\")","v":""},""]
[null,{"$f":"IFERROR(IF(A295=\"\",\"\",VLOOKUP(A295,Funcionários!$A$2:$F$299,2,0)),\"Funcionário não encontrado\")","v":""},null,null,null,null,null,"",{"$f":"IFERROR(IF(A295=\"\",\"\",VLOOKUP(A295,Funcionários!$A$2:$F$299,5,0)),\"\")","v":""},""]
[null,{"$f":"IFERROR(IF(A296=\"\",\"\",VLOOKUP(A296,Funcionários!$A$2:$F$299,2,0)),\"Funcionário não encontrado\")","v":""},null,null,null,null,null,"",{"$f":"IFERROR(IF(A296=\"\",\"\",VLOOKUP(A296,Funcionários!$A$2:$F$299,5,0)),\"\")","v":""},""]
[null,{"$f":"IFERROR(IF(A297=\"\",\"\",VLOOKUP(A297,Funcionários!$A$2:$F$299,2,0)),\"Funcionário não encontrado\")","v":""},null,null,null,null,null,"",{"$f":"IFERROR(IF(A297=\"\",\"\",VLOOKUP(A297,Funcionários!$A$2:$F$299,5,0)),\"\")","v":""},""]
[null,{"$f":"IFERROR(IF(A298=\"\",\"\",VLOOKUP(A298,Funcionários!$A$2:$F$299,2,0)),\"Funcionário não encontrado\")","v":""},null,null,null,null,null,"",{"$f":"IFERROR(IF(A298=\"\",\"\",VLOOKUP(A298,Funcionários!$A$2:$F$299,5,0)),\"\")","v":""},""]
[null,{"$f":"IFERROR(IF(A299=\"\",\"\",VLOOKUP(A299,Funcionários!$A$2:$F$299,2,0)),\"Funcionário não encontrado\")","v":""},null,null,null,null,null,"",{"$f":"IFERROR(IF(A299=\"\",\"\",VLOOKUP(A299,Funcionários!$A$2:$F$299,5,0)),\"\")","v":""},""]
[null,{"$f":"IFERROR(IF(A300=\"\",\"\",VLOOKUP(A300,Funcionários!$A$2:$F$299,2,0)),\"Funcionário não encontrado\")","v":""},null,null,null,null,null,"",{"$f":"IFERROR(IF(A300=\"\",\"\",VLOOKUP(A300,Funcionários!$A$2:$F$299,5,0)),\"\")","v":""},""]
[null,{"$f":"IFERROR(IF(A301=\"\",\"\",VLOOKUP(A301,Funcionários!$A$2:$F$299,2,0)),\"Funcionário não encontrado\")","v":""},null,null,null,null,null,"",{"$f":"IFERROR(IF(A301=\"\",\"\",VLOOKUP(A301,Funcionários!$A$2:$F$299,5,0)),\"\")","v":""},""]
[null,{"$f":"IFERROR(IF(A302=\"\",\"\",VLOOKUP(A302,Funcionários!$A$2:$F$299,2,0)),\"Funcionário não encontrado\")","v":""},null,null,null,null,null,"",{"$f":"IFERROR(IF(A302=\"\",\"\",VLOOKUP(A302,Funcionários!$A$2:$F$299,5,0)),\"\")","v":""},""]
[null,{"$f":"IFERROR(IF(A303=\"\",\"\",VLOOKUP(A303,Funcionários!$A$2:$F$299,2,0)),\"Funcionário não encontrado\")","v":""},null,null,null,null,null,"",{"$f":"IFERROR(IF(A303=\"\",\"\",VLOOKUP(A303,Funcionários!$A$2:$F$299,5,0)),\"\")","v":""},""]
[null,{"$f":"IFERROR(IF(A304=\"\",\"\",VLOOKUP(A304,Funcionários!$A$2:$F$299,2,0)),\"Funcionário não encontrado\")","v":""},null,null,null,null,null,"",{"$f":"IFERROR(IF(A304=\"\",\"\",VLOOKUP(A304,Funcionários!$A$2:$F$299,5,0)),\"\")","v":""},""]
[null,{"$f":"IFERROR(IF(A305=\"\",\"\",VLOOKUP(A305,Funcionários!$A$2:$F$299,2,0)),\"Funcionário não encontrado\")","v":""},null,null,null,null,null,"",{"$f":"IFERROR(IF(A305=\"\",\"\",VLOOKUP(A305,Funcionários!$A$2:$F$299,5,0)),\"\")","v":""},""]
[null,{"$f":"IFERROR(IF(A306=\"\",\"\",VLOOKUP(A306,Funcionários!$A$2:$F$299,2,0)),\"Funcionário não encontrado\")","v":""},null,null,null,null,null,"",{"$f":"IFERROR(IF(A306=\"\",\"\",VLOOKUP(A306,Funcionários!$A$2:$F$299,5,0)),\"\")","v":""},""]
[null,{"$f":"IFERROR(IF(A307=\"\",\"\",VLOOKUP(A307,Funcionários!$A$2:$F$299,2,0)),\"Funcionário não encontrado\")","v":""},null,null,null,null,null,"",{"$f":"IFERROR(IF(A307=\"\",\"\",VLOOKUP(A307,Funcionários!$A$2:$F$299,5,0)),\"\")","v":""},""]
[null,{"$f":"IFERROR(IF(A308=\"\",\"\",VLOOKUP(A308,Funcionários!$A$2:$F$299,2,0)),\"Funcionário não encontrado\")","v":""},null,null,null,null,null,"",{"$f":"IFERROR(IF(A308=\"\",\"\",VLOOKUP(A308,Funcionários!$A$2:$F$299,5,0)),\"\")","v":""},""]
[null,{"$f":"IFERROR(IF(A309=\"\",\"\",VLOOKUP(A309,Funcionários!$A$2:$F$299,2,0)),\"Funcionário não encontrado\")","v":""},null,null,null,null,null,"",{"$f":"IFERROR(IF(A309=\"\",\"\",VLOOKUP(A309,Funcionários!$A$2:$F$299,5,0)),\"\")","v":""},""]
[null,{"$f":"IFERROR(IF(A310=\"\",\"\",VLOOKUP(A310,Funcionários!$A$2:$F$299,2,0)),\"Funcionário não encontrado\")","v":""},null,null,null,null,null,"",{"$f":"IFERROR(IF(A310=\"\",\"\",VLOOKUP(A310,Funcionários!$A$2:$F$299,5,0)),\"\")","v":""},""]
[null,{"$f":"IFERROR(IF(A311=\"\",\"\",VLOOKUP(A311,Funcionários!$A$2:$F$299,2,0)),\"Funcionário não encontrado\")","v":""},null,null,null,null,null,"",{"$f":"IFERROR(IF(A311=\"\",\"\",VLOOKUP(A311,Funcionários!$A$2:$F$299,5,0)),\"\")","v":""},""]
[null,{"$f":"IFERROR(IF(A312=\"\",\"\",VLOOKUP(A312,Funcionários!$A$2:$F$299,2,0)),\"Funcionário não encontrado\")","v":""},null,null,null,null,null,"",{"$f":"IFERROR(IF(A312=\"\",\"\",VLOOKUP(A312,Funcionários!$A$2:$F$299,5,0)),\"\")","v":""},""]
[null,{"$f":"IFERROR(IF(A313=\"\",\"\",VLOOKUP(A313,Funcionários!$A$2:$F$299,2,0)),\"Funcionário não encontrado\")","v":""},null,null,null,null,null,"",{"$f":"IFERROR(IF(A313=\"\",\"\",VLOOKUP(A313,Funcionários!$A$2:$F$299,5,0)),\"\")","v":""},""]
[null,{"$f":"IFERROR(IF(A314=\"\",\"\",VLOOKUP(A314,Funcionários!$A$2:$F$299,2,0)),\"Funcionário não encontrado\")","v":""},null,null,null,null,null,"",{"$f":"IFERROR(IF(A314=\"\",\"\",VLOOKUP(A314,Funcionários!$A$2:$F$299,5,0)),\"\")","v":""},""]
[null,{"$f":"IFERROR(IF(A315=\"\",\"\",VLOOKUP(A315,Funcionários!$A$2:$F$299,2,0)),\"Funcionário não encontrado\")","v":""},null,null,null,null,null,"",{"$f":"IFERROR(IF(A315=\"\",\"\",VLOOKUP(A315,Funcionários!$A$2:$F$299,5,0)),\"\")","v":""},""]
[null,{"$f":"IFERROR(IF(A316=\"\",\"\",VLOOKUP(A316,Funcionários!$A$2:$F$299,2,0)),\"Funcionário não encontrado\")","v":""},null,null,null,null,null,"",{"$f":"IFERROR(IF(A316=\"\",\"\",VLOOKUP(A316,Funcionários!$A$2:$F$299,5,0)),\"\")","v":""},""]
[null,{"$f":"IFERROR(IF(A317=\"\",\"\",VLOOKUP(A317,Funcionários!$A$2:$F$299,2,0)),\"Funcionário não encontrado\")","v":""},null,null,null,null,null,"",{"$f":"IFERROR(IF(A317=\"\",\"\",VLOOKUP(A317,Funcionários!$A$2:$F$299,5,0)),\"\")","v":""},""]
[null,{"$f":"IFERROR(IF(A318=\"\",\"\",VLOOKUP(A318,Funcionários!$A$2:$F$299,2,0)),\"Funcionário não encontrado\")","v":""},null,null,null,null,null,"",{"$f":"IFERROR(IF(A318=\"\",\"\",VLOOKUP(A318,Funcionários!$A$2:$F$299,5,0)),\"\")","v":""},""]
[null,{"$f":"IFERROR(IF(A319=\"\",\"\",VLOOKUP(A319,Funcionários!$A$2:$F$299,2,0)),\"Funcionário não encontrado\")","v":""},null,null,null,null,null,"",{"$f":"IFERROR(IF(A319=\"\",\"\",VLOOKUP(A319,Funcionários!$A$2:$F$299,5,0)),\"\")","v":""},""]
[null,{"$f":"IFERROR(IF(A320=\"\",\"\",VLOOKUP(A320,Funcionários!$A$2:$F$299,2,0)),\"Funcionário não encontrado\")","v":""},null,null,null,null,null,"",{"$f":"IFERROR(IF(A320=\"\",\"\",VLOOKUP(A320,Funcionários!$A$2:$F$299,5,0)),\"\")","v":""},""]
[null,{"$f":"IFERROR(IF(A321=\"\",\"\",VLOOKUP(A321,Funcionários!$A$2:$F$299,2,0)),\"Funcionário não encontrado\")","v":""},null,null,null,null,null,"",{"$f":"IFERROR(IF(A321=\"\",\"\",VLOOKUP(A321,Funcionários!$A$2:$F$299,5,0)),\"\")","v":""},""]
[null,{"$f":"IFERROR(IF(A322=\"\",\"\",VLOOKUP(A322,Funcionários!$A$2:$F$299,2,0)),\"Funcionário não encontrado\")","v":""},null,null,null,null,null,"",{"$f":"IFERROR(IF(A322=\"\",\"\",VLOOKUP(A322,Funcionários!$A$2:$F$299,5,0)),\"\")","v":""},""]
[null,{"$f":"IFERROR(IF(A323=\"\",\"\",VLOOKUP(A323,Funcionários!$A$2:$F$299,2,0)),\"Funcionário não encontrado\")","v":""},null,null,null,null,null,{"$f":"IF(OR(D323=\"\",E323=\"\",F323=\"\"),\"\",MOD((E323-D323)+(G323-F323),1))","v":""},{"$f":"IFERROR(IF(A323=\"\",\"\",VLOOKUP(A323,Funcionários!$A$2:$F$299,5,0)),\"\")","v":""},{"$f":"IF(H323=\"\",\"\",H323-I323)","v":""}]
[null,{"$f":"IFERROR(IF(A324=\"\",\"\",VLOOKUP(A324,Funcionários!$A$2:$F$299,2,0)),\"Funcionário não encontrado\")","v":""},null,null,null,null,null,"",{"$f":"IFERROR(IF(A324=\"\",\"\",VLOOKUP(A324,Funcionários!$A$2:$F$299,5,0)),\"\")","v":""},""]
[null,{"$f":"IFERROR(IF(A325=\"\",\"\",VLOOKUP(A325,Funcionários!$A$2:$F$299,2,0)),\"Funcionário não encontrado\")","v":""},null,null,null,null,null,"",{"$f":"IFERROR(IF(A325=\"\",\"\",VLOOKUP(A325,Funcionários!$A$2:$F$299,5,0)),\"\")","v":""},""]
[null,{"$f":"IFERROR(IF(A326=\"\",\"\",VLOOKUP(A326,Funcionários!$A$2:$F$299,2,0)),\"Funcionário não encontrado\")","v":""},null,null,null,null,null,"",{"$f":"IFERROR(IF(A326=\"\",\"\",VLOOKUP(A326,Funcionários!$A$2:$F$299,5,0)),\"\")","v":""},""]
[null,{"$f":"IFERROR(IF(A327=\"\",\"\",VLOOKUP(A327,Funcionários!$A$2:$F$299,2,0)),\"Funcionário não encontrado\")","v":""},null,null,null,null,null,"",{"$f":"IFERROR(IF(A327=\"\",\"\",VLOOKUP(A327,Funcionários!$A$2:$F$299,5,0)),\"\")","v":""},""]
[null,{"$f":"IFERROR(IF(A328=\"\",\"\",VLOOKUP(A328,Funcionários!$A$2:$F$299,2,0)),\"Funcionário não encontrado\")","v":""},null,null,null,null,null,"",{"$f":"IFERROR(IF(A328=\"\",\"\",VLOOKUP(A328,Funcionários!$A$2:$F$299,5,0)),\"\")","v":""},""]
[null,{"$f":"IFERROR(IF(A329=\"\",\"\",VLOOKUP(A329,Funcionários!$A$2:$F$299,2,0)),\"Funcionário não encontrado\")","v":""},null,null,null,null,null,"",{"$f":"IFERROR(IF(A329=\"\",\"\",VLOOKUP(A329,Funcionários!$A$2:$F$299,5,0)),\"\")","v":""},""]
[null,{"$f":"IFERROR(IF(A330=\"\",\"\",VLOOKUP(A330,Funcionários!$A$2:$F$299,2,0)),\"Funcionário não encontrado\")","v":""},null,null,null,null,null,"",{"$f":"IFERROR(IF(A330=\"\",\"\",VLOOKUP(A330,Funcionários!$A$2:$F$299,5,0)),\"\")","v":""},""]
[null,{"$f":"IFERROR(IF(A331=\"\",\"\",VLOOKUP(A331,Funcionários!$A$2:$F$299,2,0)),\"Funcionário não encontrado\")","v":""},null,null,null,null,null,"",{"$f":"IFERROR(IF(A331=\"\",\"\",VLOOKUP(A331,Funcionários!$A$2:$F$299,5,0)),\"\")","v":""},""]
[null,{"$f":"IFERROR(IF(A332=\"\",\"\",VLOOKUP(A332,Funcionários!$A$2:$F$299,2,0)),\"Funcionário não encontrado\")","v":""},null,null,null,null,null,"",{"$f":"IFERROR(IF(A332=\"\",\"\",VLOOKUP(A332,Funcionários!$A$2:$F$299,5,0)),\"\")","v":""},""]
[null,{"$f":"IFERROR(IF(A333=\"\",\"\",VLOOKUP(A333,Funcionários!$A$2:$F$299,2,0)),\"Funcionário não encontrado\")","v":""},null,null,null,null,null,"",{"$f":"IFERROR(IF(A333=\"\",\"\",VLOOKUP(A333,Funcionários!$A$2:$F$299,5,0)),\"\")","v":""},""]
[null,{"$f":"IFERROR(IF(A334=\"\",\"\",VLOOKUP(A334,Funcionários!$A$2:$F$299,2,0)),\"Funcionário não encontrado\")","v":""},null,null,null,null,null,"",{"$f":"IFERROR(IF(A334=\"\",\"\",VLOOKUP(A334,Funcionários!$A$2:$F$299,5,0)),\"\")","v":""},""]
[null,{"$f":"IFERROR(IF(A335=\"\",\"\",VLOOKUP(A335,Funcionários!$A$2:$F$299,2,0)),\"Funcionário não encontrado\")","v":""},null,null,null,null,null,"",{"$f":"IFERROR(IF(A335=\"\",\"\",VLOOKUP(A335,Funcionários!$A$2:$F$299,5,0)),\"\")","v":""},""]
[null,{"$f":"IFERROR(IF(A336=\"\",\"\",VLOOKUP(A336,Funcionários!$A$2:$F$299,2,0)),\"Funcionário não encontrado\")","v":""},null,null,null,null,null,"",{"$f":"IFERROR(IF(A336=\"\",\"\",VLOOKUP(A336,Funcionários!$A$2:$F$299,5,0)),\"\")","v":""},""]
[null,{"$f":"IFERROR(IF(A337=\"\",\"\",VLOOKUP(A337,Funcionários!$A$2:$F$299,2,0)),\"Funcionário não encontrado\")","v":""},null,null,null,null,null,"",{"$f":"IFERROR(IF(A337=\"\",\"\",VLOOKUP(A337,Funcionários!$A$2:$F$299,5,0)),\"\")","v":""},""]
[null,{"$f":"IFERROR(IF(A338=\"\",\"\",VLOOKUP(A338,Funcionários!$A$2:$F$299,2,0)),\"Funcionário não encontrado\")","v":""},null,null,null,null,null,"",{"$f":"IFERROR(IF(A338=\"\",\"\",VLOOKUP(A338,Funcionários!$A$2:$F$299,5,0)),\"\")","v":""},""]
[null,{"$f":"IFERROR(IF(A339=\"\",\"\",VLOOKUP(A339,Funcionários!$A$2:$F$299,2,0)),\"Funcionário não encontrado\")","v":""},null,null,null,null,null,"",{"$f":"IFERROR(IF(A339=\"\",\"\",VLOOKUP(A339,Funcionários!$A$2:$F$299,5,0)),\"\")","v":""},""]
[null,{"$f":"IFERROR(IF(A340=\"\",\"\",VLOOKUP(A340,Funcionários!$A$2:$F$299,2,0)),\"Funcionário não encontrado\")","v":""},null,null,null,null,null,"",{"$f":"IFERROR(IF(A340=\"\",\"\",VLOOKUP(A340,Funcionários!$A$2:$F$299,5,0)),\"\")","v":""},""]
[null,{"$f":"IFERROR(IF(A341=\"\",\"\",VLOOKUP(A341,Funcionários!$A$2:$F$299,2,0)),\"Funcionário não encontrado\")","v":""},null,null,null,null,null,"",{"$f":"IFERROR(IF(A341=\"\",\"\",VLOOKUP(A341,Funcionários!$A$2:$F$299,5,0)),\"\")","v":""},""]
[null,{"$f":"IFERROR(IF(A342=\"\",\"\",VLOOKUP(A342,Funcionários!$A$2:$F$299,2,0)),\"Funcionário não encontrado\")","v":""},null,null,null,null,null,"",{"$f":"IFERROR(IF(A342=\"\",\"\",VLOOKUP(A342,Funcionários!$A$2:$F$299,5,0)),\"\")","v":""},""]
[null,{"$f":"IFERROR(IF(A343=\"\",\"\",VLOOKUP(A343,Funcionários!$A$2:$F$299,2,0)),\"Funcionário não encontrado\")","v":""},null,null,null,null,null,"",{"$f":"IFERROR(IF(A343=\"\",\"\",VLOOKUP(A343,Funcionários!$A$2:$F$299,5,0)),\"\")","v":""},""]
[null,{"$f":"IFERROR(IF(A344=\"\",\"\",VLOOKUP(A344,Funcionários!$A$2:$F$299,2,0)),\"Funcionário não encontrado\")","v":""},null,null,null,null,null,"",{"$f":"IFERROR(IF(A344=\"\",\"\",VLOOKUP(A344,Funcionários!$A$2:$F$299,5,0)),\"\")","v":""},""]
[null,{"$f":"IFERROR(IF(A345=\"\",\"\",VLOOKUP(A345,Funcionários!$A$2:$F$299,2,0)),\"Funcionário não encontrado\")","v":""},null,null,null,null,null,"",{"$f":"IFERROR(IF(A345=\"\",\"\",VLOOKUP(A345,Funcionários!$A$2:$F$299,5,0)),\"\")","v":""},""]
[null,{"$f":"IFERROR(IF(A346=\"\",\"\",VLOOKUP(A346,Funcionários!$A$2:$F$299,2,0)),\"Funcionário não encontrado\")","v":""},null,null,null,null,null,"",{"$f":"IFERROR(IF(A346=\"\",\"\",VLOOKUP(A346,Funcionários!$A$2:$F$299,5,0)),\"\")","v":""},""]
[null,{"$f":"IFERROR(IF(A347=\"\",\"\",VLOOKUP(A347,Funcionários!$A$2:$F$299,2,0)),\"Funcionário não encontrado\")","v":""},null,null,null,null,null,"",{"$f":"IFERROR(IF(A347=\"\",\"\",VLOOKUP(A347,Funcionários!$A$2:$F$299,5,0)),\"\")","v":""},""]
[null,{"$f":"IFERROR(IF(A348=\"\",\"\",VLOOKUP(A348,Funcionários!$A$2:$F$299,2,0)),\"Funcionário não encontrado\")","v":""},null,null,null,null,null,"",{"$f":"IFERROR(IF(A348=\"\",\"\",VLOOKUP(A348,Funcionários!$A$2:$F$299,5,0)),\"\")","v":""},""]
[null,{"$f":"IFERROR(IF(A349=\"\",\"\",VLOOKUP(A349,Funcionários!$A$2:$F$299,2,0)),\"Funcionário não encontrado\")","v":""},null,null,null,null,null,"",{"$f":"IFERROR(IF(A349=\"\",\"\",VLOOKUP(A349,Funcionários!$A$2:$F$299,5,0)),\"\")","v":""},""]
[null,{"$f":"IFERROR(IF(A350=\"\",\"\",VLOOKUP(A350,Funcionários!$A$2:$F$299,2,0)),\"Funcionário não encontrado\")","v":""},null,null,null,null,null,"",{"$f":"IFERROR(IF(A350=\"\",\"\",VLOOKUP(A350,Funcionários!$A$2:$F$299,5,0)),\"\")","v":""},""]
[null,{"$f":"IFERROR(IF(A351=\"\",\"\",VLOOKUP(A351,Funcionários!$A$2:$F$299,2,0)),\"Funcionário não encontrado\")","v":""},null,null,null,null,null,"",{"$f":"IFERROR(IF(A351=\"\",\"\",VLOOKUP(A351,Funcionários!$A$2:$F$299,5,0)),\"\")","v":""},""]
[null,{"$f":"IFERROR(IF(A352=\"\",\"\",VLOOKUP(A352,Funcionários!$A$2:$F$299,2,0)),\"Funcionário não encontrado\")","v":""},null,null,null,null,null,"",{"$f":"IFERROR(IF(A352=\"\",\"\",VLOOKUP(A352,Funcionários!$A$2:$F$299,5,0)),\"\")","v":""},""]
[null,{"$f":"IFERROR(IF(A353=\"\",\"\",VLOOKUP(A353,Funcionários!$A$2:$F$299,2,0)),\"Funcionário não encontrado\")","v":""},null,null,null,null,null,"",{"$f":"IFERROR(IF(A353=\"\",\"\",VLOOKUP(A353,Funcionários!$A$2:$F$299,5,0)),\"\")","v":""},""]
[null,{"$f":"IFERROR(IF(A354=\"\",\"\",VLOOKUP(A354,Funcionários!$A$2:$F$299,2,0)),\"Funcionário não encontrado\")","v":""},null,null,null,null,null,"",{"$f":"IFERROR(IF(A354=\"\",\"\",VLOOKUP(A354,Funcionários!$A$2:$F$299,5,0)),\"\")","v":""},""]
[null,{"$f":"IFERROR(IF(A355=\"\",\"\",VLOOKUP(A355,Funcionários!$A$2:$F$299,2,0)),\"Funcionário não encontrado\")","v":""},null,null,null,null,null,"",{"$f":"IFERROR(IF(A355=\"\",\"\",VLOOKUP(A355,Funcionários!$A$2:$F$299,5,0)),\"\")","v":""},""]
[null,{"$f":"IFERROR(IF(A356=\"\",\"\",VLOOKUP(A356,Funcionários!$A$2:$F$299,2,0)),\"Funcionário não encontrado\")","v":""},null,null,null,null,null,"",{"$f":"IFERROR(IF(A356=\"\",\"\",VLOOKUP(A356,Funcionários!$A$2:$F$299,5,0)),\"\")","v":""},""]
[null,{"$f":"IFERROR(IF(A357=\"\",\"\",VLOOKUP(A357,Funcionários!$A$2:$F$299,2,0)),\"Funcionário não encontrado\")","v":""},null,null,null,null,null,"",{"$f":"IFERROR(IF(A357=\"\",\"\",VLOOKUP(A357,Funcionários!$A$2:$F$299,5,0)),\"\")","v":""},""]
[null,{"$f":"IFERROR(IF(A358=\"\",\"\",VLOOKUP(A358,Funcionários!$A$2:$F$299,2,0)),\"Funcionário não encontrado\")","v":""},null,null,null,null,null,"",{"$f":"IFERROR(IF(A358=\"\",\"\",VLOOKUP(A358,Funcionários!$A$2:$F$299,5,0)),\"\")","v":""},""]
[null,{"$f":"IFERROR(IF(A359=\"\",\"\",VLOOKUP(A359,Funcionários!$A$2:$F$299,2,0)),\"Funcionário não encontrado\")","v":""},null,null,null,null,null,"",{"$f":"IFERROR(IF(A359=\"\",\"\",VLOOKUP(A359,Funcionários!$A$2:$F$299,5,0)),\"\")","v":""},""]
[null,{"$f":"IFERROR(IF(A360=\"\",\"\",VLOOKUP(A360,Funcionários!$A$2:$F$299,2,0)),\"Funcionário não encontrado\")","v":""},null,null,null,null,null,"",{"$f":"IFERROR(IF(A360=\"\",\"\",VLOOKUP(A360,Funcionários!$A$2:$F$299,5,0)),\"\")","v":""},""]
[null,{"$f":"IFERROR(IF(A361=\"\",\"\",VLOOKUP(A361,Funcionários!$A$2:$F$299,2,0)),\"Funcionário não encontrado\")","v":""},null,null,null,null,null,"",{"$f":"IFERROR(IF(A361=\"\",\"\",VLOOKUP(A361,Funcionários!$A$2:$F$299,5,0)),\"\")","v":""},""]
[null,{"$f":"IFERROR(IF(A362=\"\",\"\",VLOOKUP(A362,Funcionários!$A$2:$F$299,2,0)),\"Funcionário não encontrado\")","v":""},null,null,null,null,null,"",{"$f":"IFERROR(IF(A362=\"\",\"\",VLOOKUP(A362,Funcionários!$A$2:$F$299,5,0)),\"\")","v":""},""]
[null,{"$f":"IFERROR(IF(A363=\"\",\"\",VLOOKUP(A363,Funcionários!$A$2:$F$299,2,0)),\"Funcionário não encontrado\")","v":""},null,null,null,null,null,"",{"$f":"IFERROR(IF(A363=\"\",\"\",VLOOKUP(A363,Funcionários!$A$2:$F$299,5,0)),\"\")","v":""},""]
[null,{"$f":"IFERROR(IF(A364=\"\",\"\",VLOOKUP(A364,Funcionários!$A$2:$F$299,2,0)),\"Funcionário não encontrado\")","v":""},null,null,null,null,null,"",{"$f":"IFERROR(IF(A364=\"\",\"\",VLOOKUP(A364,Funcionários!$A$2:$F$299,5,0)),\"\")","v":""},""]
[null,{"$f":"IFERROR(IF(A365=\"\",\"\",VLOOKUP(A365,Funcionários!$A$2:$F$299,2,0)),\"Funcionário não encontrado\")","v":""},null,null,null,null,null,"",{"$f":"IFERROR(IF(A365=\"\",\"\",VLOOKUP(A365,Funcionários!$A$2:$F$299,5,0)),\"\")","v":""},""]
[null,{"$f":"IFERROR(IF(A366=\"\",\"\",VLOOKUP(A366,Funcionários!$A$2:$F$299,2,0)),\"Funcionário não encontrado\")","v":""},null,null,null,null,null,"",{"$f":"IFERROR(IF(A366=\"\",\"\",VLOOKUP(A366,Funcionários!$A$2:$F$299,5,0)),\"\")","v":""},""]
[null,{"$f":"IFERROR(IF(A367=\"\",\"\",VLOOKUP(A367,Funcionários!$A$2:$F$299,2,0)),\"Funcionário não encontrado\")","v":""},null,null,null,null,null,"",{"$f":"IFERROR(IF(A367=\"\",\"\",VLOOKUP(A367,Funcionários!$A$2:$F$299,5,0)),\"\")","v":""},""]
[null,{"$f":"IFERROR(IF(A368=\"\",\"\",VLOOKUP(A368,Funcionários!$A$2:$F$299,2,0)),\"Funcionário não encontrado\")","v":""},null,null,null,null,null,"",{"$f":"IFERROR(IF(A368=\"\",\"\",VLOOKUP(A368,Funcionários!$A$2:$F$299,5,0)),\"\")","v":""},""]
[null,{"$f":"IFERROR(IF(A369=\"\",\"\",VLOOKUP(A369,Funcionários!$A$2:$F$299,2,0)),\"Funcionário não encontrado\")","v":""},null,null,null,null,null,"",{"$f":"IFERROR(IF(A369=\"\",\"\",VLOOKUP(A369,Funcionários!$A$2:$F$299,5,0)),\"\")","v":""},""]
[null,{"$f":"IFERROR(IF(A370=\"\",\"\",VLOOKUP(A370,Funcionários!$A$2:$F$299,2,0)),\"Funcionário não encontrado\")","v":""},null,null,null,null,null,"",{"$f":"IFERROR(IF(A370=\"\",\"\",VLOOKUP(A370,Funcionários!$A$2:$F$299,5,0)),\"\")","v":""},""]
[null,{"$f":"IFERROR(IF(A371=\"\",\"\",VLOOKUP(A371,Funcionários!$A$2:$F$299,2,0)),\"Funcionário não encontrado\")","v":""},null,null,null,null,null,"",{"$f":"IFERROR(IF(A371=\"\",\"\",VLOOKUP(A371,Funcionários!$A$2:$F$299,5,0)),\"\")","v":""},""]
[null,{"$f":"IFERROR(IF(A372=\"\",\"\",VLOOKUP(A372,Funcionários!$A$2:$F$299,2,0)),\"Funcionário não encontrado\")","v":""},null,null,null,null,null,"",{"$f":"IFERROR(IF(A372=\"\",\"\",VLOOKUP(A372,Funcionários!$A$2:$F$299,5,0)),\"\")","v":""},""]
[null,{"$f":"IFERROR(IF(A373=\"\",\"\",VLOOKUP(A373,Funcionários!$A$2:$F$299,2,0)),\"Funcionário não encontrado\")","v":""},null,null,null,null,null,"",{"$f":"IFERROR(IF(A373=\"\",\"\",VLOOKUP(A373,Funcionários!$A$2:$F$299,5,0)),\"\")","v":""},""]
[null,{"$f":"IFERROR(IF(A374=\"\",\"\",VLOOKUP(A374,Funcionários!$A$2:$F$299,2,0)),\"Funcionário não encontrado\")","v":""},null,null,null,null,null,"",{"$f":"IFERROR(IF(A374=\"\",\"\",VLOOKUP(A374,Funcionários!$A$2:$F$299,5,0)),\"\")","v":""},""]
[null,{"$f":"IFERROR(IF(A375=\"\",\"\",VLOOKUP(A375,Funcionários!$A$2:$F$299,2,0)),\"Funcionário não encontrado\")","v":""},null,null,null,null,null,"",{"$f":"IFERROR(IF(A375=\"\",\"\",VLOOKUP(A375,Funcionários!$A$2:$F$299,5,0)),\"\")","v":""},""]
[null,{"$f":"IFERROR(IF(A376=\"\",\"\",VLOOKUP(A376,Funcionários!$A$2:$F$299,2,0)),\"Funcionário não encontrado\")","v":""},null,null,null,null,null,"",{"$f":"IFERROR(IF(A376=\"\",\"\",VLOOKUP(A376,Funcionários!$A$2:$F$299,5,0)),\"\")","v":""},""]
[null,{"$f":"IFERROR(IF(A377=\"\",\"\",VLOOKUP(A377,Funcionários!$A$2:$F$299,2,0)),\"Funcionário não encontrado\")","v":""},null,null,null,null,null,"",{"$f":"IFERROR(IF(A377=\"\",\"\",VLOOKUP(A377,Funcionários!$A$2:$F$299,5,0)),\"\")","v":""},""]
[null,{"$f":"IFERROR(IF(A378=\"\",\"\",VLOOKUP(A378,Funcionários!$A$2:$F$299,2,0)),\"Funcionário não encontrado\")","v":""},null,null,null,null,null,"",{"$f":"IFERROR(IF(A378=\"\",\"\",VLOOKUP(A378,Funcionários!$A$2:$F$299,5,0)),\"\")","v":""},""]
[null,{"$f":"IFERROR(IF(A379=\"\",\"\",VLOOKUP(A379,Funcionários!$A$2:$F$299,2,0)),\"Funcionário não encontrado\")","v":""},null,null,null,null,null,"",{"$f":"IFERROR(IF(A379=\"\",\"\",VLOOKUP(A379,Funcionários!$A$2:$F$299,5,0)),\"\")","v":""},""]
[null,{"$f":"IFERROR(IF(A380=\"\",\"\",VLOOKUP(A380,Funcionários!$A$2:$F$299,2,0)),\"Funcionário não encontrado\")","v":""},null,null,null,null,null,"",{"$f":"IFERROR(IF(A380=\"\",\"\",VLOOKUP(A380,Funcionários!$A$2:$F$299,5,0)),\"\")","v":""},""]
[null,{"$f":"IFERROR(IF(A381=\"\",\"\",VLOOKUP(A381,Funcionários!$A$2:$F$299,2,0)),\"Funcionário não encontrado\")","v":""},null,null,null,null,null,"",{"$f":"IFERROR(IF(A381=\"\",\"\",VLOOKUP(A381,Funcionários!$A$2:$F$299,5,0)),\"\")","v":""},""]
[null,{"$f":"IFERROR(IF(A382=\"\",\"\",VLOOKUP(A382,Funcionários!$A$2:$F$299,2,0)),\"Funcionário não encontrado\")","v":""},null,null,null,null,null,"",{"$f":"IFERROR(IF(A382=\"\",\"\",VLOOKUP(A382,Funcionários!$A$2:$F$299,5,0)),\"\")","v":""},""]
[null,{"$f":"IFERROR(IF(A383=\"\",\"\",VLOOKUP(A383,Funcionários!$A$2:$F$299,2,0)),\"Funcionário não encontrado\")","v":""},null,null,null,null,null,"",{"$f":"IFERROR(IF(A383=\"\",\"\",VLOOKUP(A383,Funcionários!$A$2:$F$299,5,0)),\"\")","v":""},""]
[null,{"$f":"IFERROR(IF(A384=\"\",\"\",VLOOKUP(A384,Funcionários!$A$2:$F$299,2,0)),\"Funcionário não encontrado\")","v":""},null,null,null,null,null,"",{"$f":"IFERROR(IF(A384=\"\",\"\",VLOOKUP(A384,Funcionários!$A$2:$F$299,5,0)),\"\")","v":""},""]
[null,{"$f":"IFERROR(IF(A385=\"\",\"\",VLOOKUP(A385,Funcionários!$A$2:$F$299,2,0)),\"Funcionário não encontrado\")","v":""},null,null,null,null,null,"",{"$f":"IFERROR(IF(A385=\"\",\"\",VLOOKUP(A385,Funcionários!$A$2:$F$299,5,0)),\"\")","v":""},""]
[null,{"$f":"IFERROR(IF(A386=\"\",\"\",VLOOKUP(A386,Funcionários!$A$2:$F$299,2,0)),\"Funcionário não encontrado\")","v":""},null,null,null,null,null,"",{"$f":"IFERROR(IF(A386=\"\",\"\",VLOOKUP(A386,Funcionários!$A$2:$F$299,5,0)),\"\")","v":""},""]
[null,{"$f":"IFERROR(IF(A387=\"\",\"\",VLOOKUP(A387,Funcionários!$A$2:$F$299,2,0)),\"Funcionário não encontrado\")","v":""},null,null,null,null,null,{"$f":"IF(OR(D387=\"\",E387=\"\",F387=\"\"),\"\",MOD((E387-D387)+(G387-F387),1))","v":""},{"$f":"IFERROR(IF(A387=\"\",\"\",VLOOKUP(A387,Funcionários!$A$2:$F$299,5,0)),\"\")","v":""},{"$f":"IF(H387=\"\",\"\",H387-I387)","v":""}]
[null,{"$f":"IFERROR(IF(A388=\"\",\"\",VLOOKUP(A388,Funcionários!$A$2:$F$299,2,0)),\"Funcionário não encontrado\")","v":""},null,null,null,null,null,"",{"$f":"IFERROR(IF(A388=\"\",\"\",VLOOKUP(A388,Funcionários!$A$2:$F$299,5,0)),\"\")","v":""},""]
[null,{"$f":"IFERROR(IF(A389=\"\",\"\",VLOOKUP(A389,Funcionários!$A$2:$F$299,2,0)),\"Funcionário não encontrado\")","v":""},null,null,null,null,null,"",{"$f":"IFERROR(IF(A389=\"\",\"\",VLOOKUP(A389,Funcionários!$A$2:$F$299,5,0)),\"\")","v":""},""]
[null,{"$f":"IFERROR(IF(A390=\"\",\"\",VLOOKUP(A390,Funcionários!$A$2:$F$299,2,0)),\"Funcionário não encontrado\")","v":""},null,null,null,null,null,"",{"$f":"IFERROR(IF(A390=\"\",\"\",VLOOKUP(A390,Funcionários!$A$2:$F$299,5,0)),\"\")","v":""},""]
[null,{"$f":"IFERROR(IF(A391=\"\",\"\",VLOOKUP(A391,Funcionários!$A$2:$F$299,2,0)),\"Funcionário não encontrado\")","v":""},null,null,null,null,null,"",{"$f":"IFERROR(IF(A391=\"\",\"\",VLOOKUP(A391,Funcionários!$A$2:$F$299,5,0)),\"\")","v":""},""]
[null,{"$f":"IFERROR(IF(A392=\"\",\"\",VLOOKUP(A392,Funcionários!$A$2:$F$299,2,0)),\"Funcionário não encontrado\")","v":""},null,null,null,null,null,"",{"$f":"IFERROR(IF(A392=\"\",\"\",VLOOKUP(A392,Funcionários!$A$2:$F$299,5,0)),\"\")","v":""},""]
[null,{"$f":"IFERROR(IF(A393=\"\",\"\",VLOOKUP(A393,Funcionários!$A$2:$F$299,2,0)),\"Funcionário não encontrado\")","v":""},null,null,null,null,null,"",{"$f":"IFERROR(IF(A393=\"\",\"\",VLOOKUP(A393,Funcionários!$A$2:$F$299,5,0)),\"\")","v":""},""]
[null,{"$f":"IFERROR(IF(A394=\"\",\"\",VLOOKUP(A394,Funcionários!$A$2:$F$299,2,0)),\"Funcionário não encontrado\")","v":""},null,null,null,null,null,"",{"$f":"IFERROR(IF(A394=\"\",\"\",VLOOKUP(A394,Funcionários!$A$2:$F$299,5,0)),\"\")","v":""},""]
[null,{"$f":"IFERROR(IF(A395=\"\",\"\",VLOOKUP(A395,Funcionários!$A$2:$F$299,2,0)),\"Funcionário não encontrado\")","v":""},null,null,null,null,null,"",{"$f":"IFERROR(IF(A395=\"\",\"\",VLOOKUP(A395,Funcionários!$A$2:$F$299,5,0)),\"\")","v":""},""]
[null,{"$f":"IFERROR(IF(A396=\"\",\"\",VLOOKUP(A396,Funcionários!$A$2:$F$299,2,0)),\"Funcionário não encontrado\")","v":""},null,null,null,null,null,"",{"$f":"IFERROR(IF(A396=\"\",\"\",VLOOKUP(A396,Funcionários!$A$2:$F$299,5,0)),\"\")","v":""},""]
[null,{"$f":"IFERROR(IF(A397=\"\",\"\",VLOOKUP(A397,Funcionários!$A$2:$F$299,2,0)),\"Funcionário não encontrado\")","v":""},null,null,null,null,null,"",{"$f":"IFERROR(IF(A397=\"\",\"\",VLOOKUP(A397,Funcionários!$A$2:$F$299,5,0)),\"\")","v":""},""]
[null,{"$f":"IFERROR(IF(A398=\"\",\"\",VLOOKUP(A398,Funcionários!$A$2:$F$299,2,0)),\"Funcionário não encontrado\")","v":""},null,null,null,null,null,"",{"$f":"IFERROR(IF(A398=\"\",\"\",VLOOKUP(A398,Funcionários!$A$2:$F$299,5,0)),\"\")","v":""},""]
[null,{"$f":"IFERROR(IF(A399=\"\",\"\",VLOOKUP(A399,Funcionários!$A$2:$F$299,2,0)),\"Funcionário não encontrado\")","v":""},null,null,null,null,null,"",{"$f":"IFERROR(IF(A399=\"\",\"\",VLOOKUP(A399,Funcionários!$A$2:$F$299,5,0)),\"\")","v":""},""]
[null,{"$f":"IFERROR(IF(A400=\"\",\"\",VLOOKUP(A400,Funcionários!$A$2:$F$299,2,0)),\"Funcionário não encontrado\")","v":""},null,null,null,null,null,"",{"$f":"IFERROR(IF(A400=\"\",\"\",VLOOKUP(A400,Funcionários!$A$2:$F$299,5,0)),\"\")","v":""},""]
[null,{"$f":"IFERROR(IF(A401=\"\",\"\",VLOOKUP(A401,Funcionários!$A$2:$F$299,2,0)),\"Funcionário não encontrado\")","v":""},null,null,null,null,null,"",{"$f":"IFERROR(IF(A401=\"\",\"\",VLOOKUP(A401,Funcionários!$A$2:$F$299,5,0)),\"\")","v":""},""]
[null,{"$f":"IFERROR(IF(A402=\"\",\"\",VLOOKUP(A402,Funcionários!$A$2:$F$299,2,0)),\"Funcionário não encontrado\")","v":""},null,null,null,null,null,"",{"$f":"IFERROR(IF(A402=\"\",\"\",VLOOKUP(A402,Funcionários!$A$2:$F$299,5,0)),\"\")","v":""},""]
[null,{"$f":"IFERROR(IF(A403=\"\",\"\",VLOOKUP(A403,Funcionários!$A$2:$F$299,2,0)),\"Funcionário não encontrado\")","v":""},null,null,null,null,null,"",{"$f":"IFERROR(IF(A403=\"\",\"\",VLOOKUP(A403,Funcionários!$A$2:$F$299,5,0)),\"\")","v":""},""]
[null,{"$f":"IFERROR(IF(A404=\"\",\"\",VLOOKUP(A404,Funcionários!$A$2:$F$299,2,0)),\"Funcionário não encontrado\")","v":""},null,null,null,null,null,"",{"$f":"IFERROR(IF(A404=\"\",\"\",VLOOKUP(A404,Funcionários!$A$2:$F$299,5,0)),\"\")","v":""},""]
[null,{"$f":"IFERROR(IF(A405=\"\",\"\",VLOOKUP(A405,Funcionários!$A$2:$F$299,2,0)),\"Funcionário não encontrado\")","v":""},null,null,null,null,null,"",{"$f":"IFERROR(IF(A405=\"\",\"\",VLOOKUP(A405,Funcionários!$A$2:$F$299,5,0)),\"\")","v":""},""]
[null,{"$f":"IFERROR(IF(A406=\"\",\"\",VLOOKUP(A406,Funcionários!$A$2:$F$299,2,0)),\"Funcionário não encontrado\")","v":""},null,null,null,null,null,"",{"$f":"IFERROR(IF(A406=\"\",\"\",VLOOKUP(A406,Funcionários!$A$2:$F$299,5,0)),\"\")","v":""},""]
[null,{"$f":"IFERROR(IF(A407=\"\",\"\",VLOOKUP(A407,Funcionários!$A$2:$F$299,2,0)),\"Funcionário não encontrado\")","v":""},null,null,null,null,null,"",{"$f":"IFERROR(IF(A407=\"\",\"\",VLOOKUP(A407,Funcionários!$A$2:$F$299,5,0)),\"\")","v":""},""]
[null,{"$f":"IFERROR(IF(A408=\"\",\"\",VLOOKUP(A408,Funcionários!$A$2:$F$299,2,0)),\"Funcionário não encontrado\")","v":""},null,null,null,null,null,"",{"$f":"IFERROR(IF(A408=\"\",\"\",VLOOKUP(A408,Funcionários!$A$2:$F$299,5,0)),\"\")","v":""},""]
[null,{"$f":"IFERROR(IF(A409=\"\",\"\",VLOOKUP(A409,Funcionários!$A$2:$F$299,2,0)),\"Funcionário não encontrado\")","v":""},null,null,null,null,null,"",{"$f":"IFERROR(IF(A409=\"\",\"\",VLOOKUP(A409,Funcionários!$A$2:$F$299,5,0)),\"\")","v":""},""]
[null,{"$f":"IFERROR(IF(A410=\"\",\"\",VLOOKUP(A410,Funcionários!$A$2:$F$299,2,0)),\"Funcionário não encontrado\")","v":""},null,null,null,null,null,"",{"$f":"IFERROR(IF(A410=\"\",\"\",VLOOKUP(A410,Funcionários!$A$2:$F$299,5,0)),\"\")","v":""},""]
[null,{"$f":"IFERROR(IF(A411=\"\",\"\",VLOOKUP(A411,Funcionários!$A$2:$F$299,2,0)),\"Funcionário não encontrado\")","v":""},null,null,null,null,null,"",{"$f":"IFERROR(IF(A411=\"\",\"\",VLOOKUP(A411,Funcionários!$A$2:$F$299,5,0)),\"\")","v":""},""]
[null,{"$f":"IFERROR(IF(A412=\"\",\"\",VLOOKUP(A412,Funcionários!$A$2:$F$299,2,0)),\"Funcionário não encontrado\")","v":""},null,null,null,null,null,"",{"$f":"IFERROR(IF(A412=\"\",\"\",VLOOKUP(A412,Funcionários!$A$2:$F$299,5,0)),\"\")","v":""},""]
[null,{"$f":"IFERROR(IF(A413=\"\",\"\",VLOOKUP(A413,Funcionários!$A$2:$F$299,2,0)),\"Funcionário não encontrado\")","v":""},null,null,null,null,null,"",{"$f":"IFERROR(IF(A413=\"\",\"\",VLOOKUP(A413,Funcionários!$A$2:$F$299,5,0)),\"\")","v":""},""]
[null,{"$f":"IFERROR(IF(A414=\"\",\"\",VLOOKUP(A414,Funcionários!$A$2:$F$299,2,0)),\"Funcionário não encontrado\")","v":""},null,null,null,null,null,"",{"$f":"IFERROR(IF(A414=\"\",\"\",VLOOKUP(A414,Funcionários!$A$2:$F$299,5,0)),\"\")","v":""},""]
[null,{"$f":"IFERROR(IF(A415=\"\",\"\",VLOOKUP(A415,Funcionários!$A$2:$F$299,2,0)),\"Funcionário não encontrado\")","v":""},null,null,null,null,null,"",{"$f":"IFERROR(IF(A415=\"\",\"\",VLOOKUP(A415,Funcionários!$A$2:$F$299,5,0)),\"\")","v":""},""]
[null,{"$f":"IFERROR(IF(A416=\"\",\"\",VLOOKUP(A416,Funcionários!$A$2:$F$299,2,0)),\"Funcionário não encontrado\")","v":""},null,null,null,null,null,"",{"$f":"IFERROR(IF(A416=\"\",\"\",VLOOKUP(A416,Funcionários!$A$2:$F$299,5,0)),\"\")","v":""},""]
[null,{"$f":"IFERROR(IF(A417=\"\",\"\",VLOOKUP(A417,Funcionários!$A$2:$F$299,2,0)),\"Funcionário não encontrado\")","v":""},null,null,null,null,null,"",{"$f":"IFERROR(IF(A417=\"\",\"\",VLOOKUP(A417,Funcionários!$A$2:$F$299,5,0)),\"\")","v":""},""]
[null,{"$f":"IFERROR(IF(A418=\"\",\"\",VLOOKUP(A418,Funcionários!$A$2:$F$299,2,0)),\"Funcionário não encontrado\")","v":""},null,null,null,null,null,"",{"$f":"IFERROR(IF(A418=\"\",\"\",VLOOKUP(A418,Funcionários!$A$2:$F$299,5,0)),\"\")","v":""},""]
[null,{"$f":"IFERROR(IF(A419=\"\",\"\",VLOOKUP(A419,Funcionários!$A$2:$F$299,2,0)),\"Funcionário não encontrado\")","v":""},null,null,null,null,null,"",{"$f":"IFERROR(IF(A419=\"\",\"\",VLOOKUP(A419,Funcionários!$A$2:$F$299,5,0)),\"\")","v":""},""]
[null,{"$f":"IFERROR(IF(A420=\"\",\"\",VLOOKUP(A420,Funcionários!$A$2:$F$299,2,0)),\"Funcionário não encontrado\")","v":""},null,null,null,null,null,"",{"$f":"IFERROR(IF(A420=\"\",\"\",VLOOKUP(A420,Funcionários!$A$2:$F$299,5,0)),\"\")","v":""},""]
[null,{"$f":"IFERROR(IF(A421=\"\",\"\",VLOOKUP(A421,Funcionários!$A$2:$F$299,2,0)),\"Funcionário não encontrado\")","v":""},null,null,null,null,null,"",{"$f":"IFERROR(IF(A421=\"\",\"\",VLOOKUP(A421,Funcionários!$A$2:$F$299,5,0)),\"\")","v":""},""]
[null,{"$f":"IFERROR(IF(A422=\"\",\"\",VLOOKUP(A422,Funcionários!$A$2:$F$299,2,0)),\"Funcionário não encontrado\")","v":""},null,null,null,null,null,"",{"$f":"IFERROR(IF(A422=\"\",\"\",VLOOKUP(A422,Funcionários!$A$2:$F$299,5,0)),\"\")","v":""},""]
[null,{"$f":"IFERROR(IF(A423=\"\",\"\",VLOOKUP(A423,Funcionários!$A$2:$F$299,2,0)),\"Funcionário não encontrado\")","v":""},null,null,null,null,null,"",{"$f":"IFERROR(IF(A423=\"\",\"\",VLOOKUP(A423,Funcionários!$A$2:$F$299,5,0)),\"\")","v":""},""]
[null,{"$f":"IFERROR(IF(A424=\"\",\"\",VLOOKUP(A424,Funcionários!$A$2:$F$299,2,0)),\"Funcionário não encontrado\")","v":""},null,null,null,null,null,"",{"$f":"IFERROR(IF(A424=\"\",\"\",VLOOKUP(A424,Funcionários!$A$2:$F$299,5,0)),\"\")","v":""},""]
[null,{"$f":"IFERROR(IF(A425=\"\",\"\",VLOOKUP(A425,Funcionários!$A$2:$F$299,2,0)),\"Funcionário não encontrado\")","v":""},null,null,null,null,null,"",{"$f":"IFERROR(IF(A425=\"\",\"\",VLOOKUP(A425,Funcionários!$A$2:$F$299,5,0)),\"\")","v":""},""]
[null,{"$f":"IFERROR(IF(A426=\"\",\"\",VLOOKUP(A426,Funcionários!$A$2:$F$299,2,0)),\"Funcionário não encontrado\")","v":""},null,null,null,null,null,"",{"$f":"IFERROR(IF(A426=\"\",\"\",VLOOKUP(A426,Funcionários!$A$2:$F$299,5,0)),\"\")","v":""},""]
[null,{"$f":"IFERROR(IF(A427=\"\",\"\",VLOOKUP(A427,Funcionários!$A$2:$F$299,2,0)),\"Funcionário não encontrado\")","v":""},null,null,null,null,null,"",{"$f":"IFERROR(IF(A427=\"\",\"\",VLOOKUP(A427,Funcionários!$A$2:$F$299,5,0)),\"\")","v":""},""]
[null,{"$f":"IFERROR(IF(A428=\"\",\"\",VLOOKUP(A428,Funcionários!$A$2:$F$299,2,0)),\"Funcionário não encontrado\")","v":""},null,null,null,null,null,"",{"$f":"IFERROR(IF(A428=\"\",\"\",VLOOKUP(A428,Funcionários!$A$2:$F$299,5,0)),\"\")","v":""},""]
[null,{"$f":"IFERROR(IF(A429=\"\",\"\",VLOOKUP(A429,Funcionários!$A$2:$F$299,2,0)),\"Funcionário não encontrado\")","v":""},null,null,null,null,null,"",{"$f":"IFERROR(IF(A429=\"\",\"\",VLOOKUP(A429,Funcionários!$A$2:$F$299,5,0)),\"\")","v":""},""]
[null,{"$f":"IFERROR(IF(A430=\"\",\"\",VLOOKUP(A430,Funcionários!$A$2:$F$299,2,0)),\"Funcionário não encontrado\")","v":""},null,null,null,null,null,"",{"$f":"IFERROR(IF(A430=\"\",\"\",VLOOKUP(A430,Funcionários!$A$2:$F$299,5,0)),\"\")","v":""},""]
[null,{"$f":"IFERROR(IF(A431=\"\",\"\",VLOOKUP(A431,Funcionários!$A$2:$F$299,2,0)),\"Funcionário não encontrado\")","v":""},null,null,null,null,null,"",{"$f":"IFERROR(IF(A431=\"\",\"\",VLOOKUP(A431,Funcionários!$A$2:$F$299,5,0)),\"\")","v":""},""]
[null,{"$f":"IFERROR(IF(A432=\"\",\"\",VLOOKUP(A432,Funcionários!$A$2:$F$299,2,0)),\"Funcionário não encontrado\")","v":""},null,null,null,null,null,"",{"$f":"IFERROR(IF(A432=\"\",\"\",VLOOKUP(A432,Funcionários!$A$2:$F$299,5,0)),\"\")","v":""},""]
[null,{"$f":"IFERROR(IF(A433=\"\",\"\",VLOOKUP(A433,Funcionários!$A$2:$F$299,2,0)),\"Funcionário não encontrado\")","v":""},null,null,null,null,null,"",{"$f":"IFERROR(IF(A433=\"\",\"\",VLOOKUP(A433,Funcionários!$A$2:$F$299,5,0)),\"\")","v":""},""]
[null,{"$f":"IFERROR(IF(A434=\"\",\"\",VLOOKUP(A434,Funcionários!$A$2:$F$299,2,0)),\"Funcionário não encontrado\")","v":""},null,null,null,null,null,"",{"$f":"IFERROR(IF(A434=\"\",\"\",VLOOKUP(A434,Funcionários!$A$2:$F$299,5,0)),\"\")","v":""},""]
[null,{"$f":"IFERROR(IF(A435=\"\",\"\",VLOOKUP(A435,Funcionários!$A$2:$F$299,2,0)),\"Funcionário não encontrado\")","v":""},null,null,null,null,null,"",{"$f":"IFERROR(IF(A435=\"\",\"\",VLOOKUP(A435,Funcionários!$A$2:$F$299,5,0)),\"\")","v":""},""]
[null,{"$f":"IFERROR(IF(A436=\"\",\"\",VLOOKUP(A436,Funcionários!$A$2:$F$299,2,0)),\"Funcionário não encontrado\")","v":""},null,null,null,null,null,"",{"$f":"IFERROR(IF(A436=\"\",\"\",VLOOKUP(A436,Funcionários!$A$2:$F$299,5,0)),\"\")","v":""},""]
[null,{"$f":"IFERROR(IF(A437=\"\",\"\",VLOOKUP(A437,Funcionários!$A$2:$F$299,2,0)),\"Funcionário não encontrado\")","v":""},null,null,null,null,null,"",{"$f":"IFERROR(IF(A437=\"\",\"\",VLOOKUP(A437,Funcionários!$A$2:$F$299,5,0)),\"\")","v":""},""]
[null,{"$f":"IFERROR(IF(A438=\"\",\"\",VLOOKUP(A438,Funcionários!$A$2:$F$299,2,0)),\"Funcionário não encontrado\")","v":""},null,null,null,null,null,"",{"$f":"IFERROR(IF(A438=\"\",\"\",VLOOKUP(A438,Funcionários!$A$2:$F$299,5,0)),\"\")","v":""},""]
[null,{"$f":"IFERROR(IF(A439=\"\",\"\",VLOOKUP(A439,Funcionários!$A$2:$F$299,2,0)),\"Funcionário não encontrado\")","v":""},null,null,null,null,null,"",{"$f":"IFERROR(IF(A439=\"\",\"\",VLOOKUP(A439,Funcionários!$A$2:$F$299,5,0)),\"\")","v":""},""]
[null,{"$f":"IFERROR(IF(A440=\"\",\"\",VLOOKUP(A440,Funcionários!$A$2:$F$299,2,0)),\"Funcionário não encontrado\")","v":""},null,null,null,null,null,"",{"$f":"IFERROR(IF(A440=\"\",\"\",VLOOKUP(A440,Funcionários!$A$2:$F$299,5,0)),\"\")","v":""},""]
[null,{"$f":"IFERROR(IF(A441=\"\",\"\",VLOOKUP(A441,Funcionários!$A$2:$F$299,2,0)),\"Funcionário não encontrado\")","v":""},null,null,null,null,null,"",{"$f":"IFERROR(IF(A441=\"\",\"\",VLOOKUP(A441,Funcionários!$A$2:$F$299,5,0)),\"\")","v":""},""]
[null,{"$f":"IFERROR(IF(A442=\"\",\"\",VLOOKUP(A442,Funcionários!$A$2:$F$299,2,0)),\"Funcionário não encontrado\")","v":""},null,null,null,null,null,"",{"$f":"IFERROR(IF(A442=\"\",\"\",VLOOKUP(A442,Funcionários!$A$2:$F$299,5,0)),\"\")","v":""},""]
[null,{"$f":"IFERROR(IF(A443=\"\",\"\",VLOOKUP(A443,Funcionários!$A$2:$F$299,2,0)),\"Funcionário não encontrado\")","v":""},null,null,null,null,null,"",{"$f":"IFERROR(IF(A443=\"\",\"\",VLOOKUP(A443,Funcionários!$A$2:$F$299,5,0)),\"\")","v":""},""]
[null,{"$f":"IFERROR(IF(A444=\"\",\"\",VLOOKUP(A444,Funcionários!$A$2:$F$299,2,0)),\"Funcionário não encontrado\")","v":""},null,null,null,null,null,"",{"$f":"IFERROR(IF(A444=\"\",\"\",VLOOKUP(A444,Funcionários!$A$2:$F$299,5,0)),\"\")","v":""},""]
[null,{"$f":"IFERROR(IF(A445=\"\",\"\",VLOOKUP(A445,Funcionários!$A$2:$F$299,2,0)),\"Funcionário não encontrado\")","v":""},null,null,null,null,null,"",{"$f":"IFERROR(IF(A445=\"\",\"\",VLOOKUP(A445,Funcionários!$A$2:$F$299,5,0)),\"\")","v":""},""]
[null,{"$f":"IFERROR(IF(A446=\"\",\"\",VLOOKUP(A446,Funcionários!$A$2:$F$299,2,0)),\"Funcionário não encontrado\")","v":""},null,null,null,null,null,"",{"$f":"IFERROR(IF(A446=\"\",\"\",VLOOKUP(A446,Funcionários!$A$2:$F$299,5,0)),\"\")","v":""},""]
[null,{"$f":"IFERROR(IF(A447=\"\",\"\",VLOOKUP(A447,Funcionários!$A$2:$F$299,2,0)),\"Funcionário não encontrado\")","v":""},null,null,null,null,null,"",{"$f":"IFERROR(IF(A447=\"\",\"\",VLOOKUP(A447,Funcionários!$A$2:$F$299,5,0)),\"\")","v":""},""]
[null,{"$f":"IFERROR(IF(A448=\"\",\"\",VLOOKUP(A448,Funcionários!$A$2:$F$299,2,0)),\"Funcionário não encontrado\")","v":""},null,null,null,null,null,"",{"$f":"IFERROR(IF(A448=\"\",\"\",VLOOKUP(A448,Funcionários!$A$2:$F$299,5,0)),\"\")","v":""},""]
[null,{"$f":"IFERROR(IF(A449=\"\",\"\",VLOOKUP(A449,Funcionários!$A$2:$F$299,2,0)),\"Funcionário não encontrado\")","v":""},null,null,null,null,null,"",{"$f":"IFERROR(IF(A449=\"\",\"\",VLOOKUP(A449,Funcionários!$A$2:$F$299,5,0)),\"\")","v":""},""]
[null,{"$f":"IFERROR(IF(A450=\"\",\"\",VLOOKUP(A450,Funcionários!$A$2:$F$299,2,0)),\"Funcionário não encontrado\")","v":""},null,null,null,null,null,"",{"$f":"IFERROR(IF(A450=\"\",\"\",VLOOKUP(A450,Funcionários!$A$2:$F$299,5,0)),\"\")","v":""},""]
[null,{"$f":"IFERROR(IF(A451=\"\",\"\",VLOOKUP(A451,Funcionários!$A$2:$F$299,2,0)),\"Funcionário não encontrado\")","v":""},null,null,null,null,null,{"$f":"IF(OR(D451=\"\",E451=\"\",F451=\"\"),\"\",MOD((E451-D451)+(G451-F451),1))","v":""},{"$f":"IFERROR(IF(A451=\"\",\"\",VLOOKUP(A451,Funcionários!$A$2:$F$299,5,0)),\"\")","v":""},{"$f":"IF(H451=\"\",\"\",H451-I451)","v":""}]
[null,{"$f":"IFERROR(IF(A452=\"\",\"\",VLOOKUP(A452,Funcionários!$A$2:$F$299,2,0)),\"Funcionário não encontrado\")","v":""},null,null,null,null,null,"",{"$f":"IFERROR(IF(A452=\"\",\"\",VLOOKUP(A452,Funcionários!$A$2:$F$299,5,0)),\"\")","v":""},""]
[null,{"$f":"IFERROR(IF(A453=\"\",\"\",VLOOKUP(A453,Funcionários!$A$2:$F$299,2,0)),\"Funcionário não encontrado\")","v":""},null,null,null,null,null,"",{"$f":"IFERROR(IF(A453=\"\",\"\",VLOOKUP(A453,Funcionários!$A$2:$F$299,5,0)),\"\")","v":""},""]
[null,{"$f":"IFERROR(IF(A454=\"\",\"\",VLOOKUP(A454,Funcionários!$A$2:$F$299,2,0)),\"Funcionário não encontrado\")","v":""},null,null,null,null,null,"",{"$f":"IFERROR(IF(A454=\"\",\"\",VLOOKUP(A454,Funcionários!$A$2:$F$299,5,0)),\"\")","v":""},""]
[null,{"$f":"IFERROR(IF(A455=\"\",\"\",VLOOKUP(A455,Funcionários!$A$2:$F$299,2,0)),\"Funcionário não encontrado\")","v":""},null,null,null,null,null,"",{"$f":"IFERROR(IF(A455=\"\",\"\",VLOOKUP(A455,Funcionários!$A$2:$F$299,5,0)),\"\")","v":""},""]
[null,{"$f":"IFERROR(IF(A456=\"\",\"\",VLOOKUP(A456,Funcionários!$A$2:$F$299,2,0)),\"Funcionário não encontrado\")","v":""},null,null,null,null,null,"",{"$f":"IFERROR(IF(A456=\"\",\"\",VLOOKUP(A456,Funcionários!$A$2:$F$299,5,0)),\"\")","v":""},""]
[null,{"$f":"IFERROR(IF(A457=\"\",\"\",VLOOKUP(A457,Funcionários!$A$2:$F$299,2,0)),\"Funcionário não encontrado\")","v":""},null,null,null,null,null,"",{"$f":"IFERROR(IF(A457=\"\",\"\",VLOOKUP(A457,Funcionários!$A$2:$F$299,5,0)),\"\")","v":""},""]
[null,{"$f":"IFERROR(IF(A458=\"\",\"\",VLOOKUP(A458,Funcionários!$A$2:$F$299,2,0)),\"Funcionário não encontrado\")","v":""},null,null,null,null,null,"",{"$f":"IFERROR(IF(A458=\"\",\"\",VLOOKUP(A458,Funcionários!$A$2:$F$299,5,0)),\"\")","v":""},""]
[null,{"$f":"IFERROR(IF(A459=\"\",\"\",VLOOKUP(A459,Funcionários!$A$2:$F$299,2,0)),\"Funcionário não encontrado\")","v":""},null,null,null,null,null,"",{"$f":"IFERROR(IF(A459=\"\",\"\",VLOOKUP(A459,Funcionários!$A$2:$F$299,5,0)),\"\")","v":""},""]
[null,{"$f":"IFERROR(IF(A460=\"\",\"\",VLOOKUP(A460,Funcionários!$A$2:$F$299,2,0)),\"Funcionário não encontrado\")","v":""},null,null,null,null,null,"",{"$f":"IFERROR(IF(A460=\"\",\"\",VLOOKUP(A460,Funcionários!$A$2:$F$299,5,0)),\"\")","v":""},""]
[null,{"$f":"IFERROR(IF(A461=\"\",\"\",VLOOKUP(A461,Funcionários!$A$2:$F$299,2,0)),\"Funcionário não encontrado\")","v":""},null,null,null,null,null,"",{"$f":"IFERROR(IF(A461=\"\",\"\",VLOOKUP(A461,Funcionários!$A$2:$F$299,5,0)),\"\")","v":""},""]
[null,{"$f":"IFERROR(IF(A462=\"\",\"\",VLOOKUP(A462,Funcionários!$A$2:$F$299,2,0)),\"Funcionário não encontrado\")","v":""},null,null,null,null,null,"",{"$f":"IFERROR(IF(A462=\"\",\"\",VLOOKUP(A462,Funcionários!$A$2:$F$299,5,0)),\"\")","v":""},""]
[null,{"$f":"IFERROR(IF(A463=\"\",\"\",VLOOKUP(A463,Funcionários!$A$2:$F$299,2,0)),\"Funcionário não encontrado\")","v":""},null,null,null,null,null,"",{"$f":"IFERROR(IF(A463=\"\",\"\",VLOOKUP(A463,Funcionários!$A$2:$F$299,5,0)),\"\")","v":""},""]
[null,{"$f":"IFERROR(IF(A464=\"\",\"\",VLOOKUP(A464,Funcionários!$A$2:$F$299,2,0)),\"Funcionário não encontrado\")","v":""},null,null,null,null,null,"",{"$f":"IFERROR(IF(A464=\"\",\"\",VLOOKUP(A464,Funcionários!$A$2:$F$299,5,0)),\"\")","v":""},""]
[null,{"$f":"IFERROR(IF(A465=\"\",\"\",VLOOKUP(A465,Funcionários!$A$2:$F$299,2,0)),\"Funcionário não encontrado\")","v":""},null,null,null,null,null,"",{"$f":"IFERROR(IF(A465=\"\",\"\",VLOOKUP(A465,Funcionários!$A$2:$F$299,5,0)),\"\")","v":""},""]
[null,{"$f":"IFERROR(IF(A466=\"\",\"\",VLOOKUP(A466,Funcionários!$A$2:$F$299,2,0)),\"Funcionário não encontrado\")","v":""},null,null,null,null,null,"",{"$f":"IFERROR(IF(A466=\"\",\"\",VLOOKUP(A466,Funcionários!$A$2:$F$299,5,0)),\"\")","v":""},""]
[null,{"$f":"IFERROR(IF(A467=\"\",\"\",VLOOKUP(A467,Funcionários!$A$2:$F$299,2,0)),\"Funcionário não encontrado\")","v":""},null,null,null,null,null,"",{"$f":"IFERROR(IF(A467=\"\",\"\",VLOOKUP(A467,Funcionários!$A$2:$F$299,5,0)),\"\")","v":""},""]
[null,{"$f":"IFERROR(IF(A468=\"\",\"\",VLOOKUP(A468,Funcionários!$A$2:$F$299,2,0)),\"Funcionário não encontrado\")","v":""},null,null,null,null,null,"",{"$f":"IFERROR(IF(A468=\"\",\"\",VLOOKUP(A468,Funcionários!$A$2:$F$299,5,0)),\"\")","v":""},""]
[null,{"$f":"IFERROR(IF(A469=\"\",\"\",VLOOKUP(A469,Funcionários!$A$2:$F$299,2,0)),\"Funcionário não encontrado\")","v":""},null,null,null,null,null,"",{"$f":"IFERROR(IF(A469=\"\",\"\",VLOOKUP(A469,Funcionários!$A$2:$F$299,5,0)),\"\")","v":""},""]
[null,{"$f":"IFERROR(IF(A470=\"\",\"\",VLOOKUP(A470,Funcionários!$A$2:$F$299,2,0)),\"Funcionário não encontrado\")","v":""},null,null,null,null,null,"",{"$f":"IFERROR(IF(A470=\"\",\"\",VLOOKUP(A470,Funcionários!$A$2:$F$299,5,0)),\"\")","v":""},""]
[null,{"$f":"IFERROR(IF(A471=\"\",\"\",VLOOKUP(A471,Funcionários!$A$2:$F$299,2,0)),\"Funcionário não encontrado\")","v":""},null,null,null,null,null,"",{"$f":"IFERROR(IF(A471=\"\",\"\",VLOOKUP(A471,Funcionários!$A$2:$F$299,5,0)),\"\")","v":""},""]
[null,{"$f":"IFERROR(IF(A472=\"\",\"\",VLOOKUP(A472,Funcionários!$A$2:$F$299,2,0)),\"Funcionário não encontrado\")","v":""},null,null,null,null,null,"",{"$f":"IFERROR(IF(A472=\"\",\"\",VLOOKUP(A472,Funcionários!$A$2:$F$299,5,0)),\"\")","v":""},""]
[null,{"$f":"IFERROR(IF(A473=\"\",\"\",VLOOKUP(A473,Funcionários!$A$2:$F$299,2,0)),\"Funcionário não encontrado\")","v":""},null,null,null,null,null,"",{"$f":"IFERROR(IF(A473=\"\",\"\",VLOOKUP(A473,Funcionários!$A$2:$F$299,5,0)),\"\")","v":""},""]
[null,{"$f":"IFERROR(IF(A474=\"\",\"\",VLOOKUP(A474,Funcionários!$A$2:$F$299,2,0)),\"Funcionário não encontrado\")","v":""},null,null,null,null,null,"",{"$f":"IFERROR(IF(A474=\"\",\"\",VLOOKUP(A474,Funcionários!$A$2:$F$299,5,0)),\"\")","v":""},""]
[null,{"$f":"IFERROR(IF(A475=\"\",\"\",VLOOKUP(A475,Funcionários!$A$2:$F$299,2,0)),\"Funcionário não encontrado\")","v":""},null,null,null,null,null,"",{"$f":"IFERROR(IF(A475=\"\",\"\",VLOOKUP(A475,Funcionários!$A$2:$F$299,5,0)),\"\")","v":""},""]
[null,{"$f":"IFERROR(IF(A476=\"\",\"\",VLOOKUP(A476,Funcionários!$A$2:$F$299,2,0)),\"Funcionário não encontrado\")","v":""},null,null,null,null,null,"",{"$f":"IFERROR(IF(A476=\"\",\"\",VLOOKUP(A476,Funcionários!$A$2:$F$299,5,0)),\"\")","v":""},""]
[null,{"$f":"IFERROR(IF(A477=\"\",\"\",VLOOKUP(A477,Funcionários!$A$2:$F$299,2,0)),\"Funcionário não encontrado\")","v":""},null,null,null,null,null,"",{"$f":"IFERROR(IF(A477=\"\",\"\",VLOOKUP(A477,Funcionários!$A$2:$F$299,5,0)),\"\")","v":""},""]
[null,{"$f":"IFERROR(IF(A478=\"\",\"\",VLOOKUP(A478,Funcionários!$A$2:$F$299,2,0)),\"Funcionário não encontrado\")","v":""},null,null,null,null,null,"",{"$f":"IFERROR(IF(A478=\"\",\"\",VLOOKUP(A478,Funcionários!$A$2:$F$299,5,0)),\"\")","v":""},""]
[null,{"$f":"IFERROR(IF(A479=\"\",\"\",VLOOKUP(A479,Funcionários!$A$2:$F$299,2,0)),\"Funcionário não encontrado\")","v":""},null,null,null,null,null,"",{"$f":"IFERROR(IF(A479=\"\",\"\",VLOOKUP(A479,Funcionários!$A$2:$F$299,5,0)),\"\")","v":""},""]
[null,{"$f":"IFERROR(IF(A480=\"\",\"\",VLOOKUP(A480,Funcionários!$A$2:$F$299,2,0)),\"Funcionário não encontrado\")","v":""},null,null,null,null,null,"",{"$f":"IFERROR(IF(A480=\"\",\"\",VLOOKUP(A480,Funcionários!$A$2:$F$299,5,0)),\"\")","v":""},""]
[null,{"$f":"IFERROR(IF(A481=\"\",\"\",VLOOKUP(A481,Funcionários!$A$2:$F$299,2,0)),\"Funcionário não encontrado\")","v":""},null,null,null,null,null,"",{"$f":"IFERROR(IF(A481=\"\",\"\",VLOOKUP(A481,Funcionários!$A$2:$F$299,5,0)),\"\")","v":""},""]
[null,{"$f":"IFERROR(IF(A482=\"\",\"\",VLOOKUP(A482,Funcionários!$A$2:$F$299,2,0)),\"Funcionário não encontrado\")","v":""},null,null,null,null,null,"",{"$f":"IFERROR(IF(A482=\"\",\"\",VLOOKUP(A482,Funcionários!$A$2:$F$299,5,0)),\"\")","v":""},""]
[null,{"$f":"IFERROR(IF(A483=\"\",\"\",VLOOKUP(A483,Funcionários!$A$2:$F$299,2,0)),\"Funcionário não encontrado\")","v":""},null,null,null,null,null,"",{"$f":"IFERROR(IF(A483=\"\",\"\",VLOOKUP(A483,Funcionários!$A$2:$F$299,5,0)),\"\")","v":""},""]
[null,{"$f":"IFERROR(IF(A484=\"\",\"\",VLOOKUP(A484,Funcionários!$A$2:$F$299,2,0)),\"Funcionário não encontrado\")","v":""},null,null,null,null,null,"",{"$f":"IFERROR(IF(A484=\"\",\"\",VLOOKUP(A484,Funcionários!$A$2:$F$299,5,0)),\"\")","v":""},""]
[null,{"$f":"IFERROR(IF(A485=\"\",\"\",VLOOKUP(A485,Funcionários!$A$2:$F$299,2,0)),\"Funcionário não encontrado\")","v":""},null,null,null,null,null,"",{"$f":"IFERROR(IF(A485=\"\",\"\",VLOOKUP(A485,Funcionários!$A$2:$F$299,5,0)),\"\")","v":""},""]
[null,{"$f":"IFERROR(IF(A486=\"\",\"\",VLOOKUP(A486,Funcionários!$A$2:$F$299,2,0)),\"Funcionário não encontrado\")","v":""},null,null,null,null,null,"",{"$f":"IFERROR(IF(A486=\"\",\"\",VLOOKUP(A486,Funcionários!$A$2:$F$299,5,0)),\"\")","v":""},""]
[null,{"$f":"IFERROR(IF(A487=\"\",\"\",VLOOKUP(A487,Funcionários!$A$2:$F$299,2,0)),\"Funcionário não encontrado\")","v":""},null,null,null,null,null,"",{"$f":"IFERROR(IF(A487=\"\",\"\",VLOOKUP(A487,Funcionários!$A$2:$F$299,5,0)),\"\")","v":""},""]
[null,{"$f":"IFERROR(IF(A488=\"\",\"\",VLOOKUP(A488,Funcionários!$A$2:$F$299,2,0)),\"Funcionário não encontrado\")","v":""},null,null,null,null,null,"",{"$f":"IFERROR(IF(A488=\"\",\"\",VLOOKUP(A488,Funcionários!$A$2:$F$299,5,0)),\"\")","v":""},""]
[null,{"$f":"IFERROR(IF(A489=\"\",\"\",VLOOKUP(A489,Funcionários!$A$2:$F$299,2,0)),\"Funcionário não encontrado\")","v":""},null,null,null,null,null,"",{"$f":"IFERROR(IF(A489=\"\",\"\",VLOOKUP(A489,Funcionários!$A$2:$F$299,5,0)),\"\")","v":""},""]
[null,{"$f":"IFERROR(IF(A490=\"\",\"\",VLOOKUP(A490,Funcionários!$A$2:$F$299,2,0)),\"Funcionário não encontrado\")","v":""},null,null,null,null,null,"",{"$f":"IFERROR(IF(A490=\"\",\"\",VLOOKUP(A490,Funcionários!$A$2:$F$299,5,0)),\"\")","v":""},""]
[null,{"$f":"IFERROR(IF(A491=\"\",\"\",VLOOKUP(A491,Funcionários!$A$2:$F$299,2,0)),\"Funcionário não encontrado\")","v":""},null,null,null,null,null,"",{"$f":"IFERROR(IF(A491=\"\",\"\",VLOOKUP(A491,Funcionários!$A$2:$F$299,5,0)),\"\")","v":""},""]
[null,{"$f":"IFERROR(IF(A492=\"\",\"\",VLOOKUP(A492,Funcionários!$A$2:$F$299,2,0)),\"Funcionário não encontrado\")","v":""},null,null,null,null,null,"",{"$f":"IFERROR(IF(A492=\"\",\"\",VLOOKUP(A492,Funcionários!$A$2:$F$299,5,0)),\"\")","v":""},""]
[null,{"$f":"IFERROR(IF(A493=\"\",\"\",VLOOKUP(A493,Funcionários!$A$2:$F$299,2,0)),\"Funcionário não encontrado\")","v":""},null,null,null,null,null,"",{"$f":"IFERROR(IF(A493=\"\",\"\",VLOOKUP(A493,Funcionários!$A$2:$F$299,5,0)),\"\")","v":""},""]
[null,{"$f":"IFERROR(IF(A494=\"\",\"\",VLOOKUP(A494,Funcionários!$A$2:$F$299,2,0)),\"Funcionário não encontrado\")","v":""},null,null,null,null,null,"",{"$f":"IFERROR(IF(A494=\"\",\"\",VLOOKUP(A494,Funcionários!$A$2:$F$299,5,0)),\"\")","v":""},""]
[null,{"$f":"IFERROR(IF(A495=\"\",\"\",VLOOKUP(A495,Funcionários!$A$2:$F$299,2,0)),\"Funcionário não encontrado\")","v":""},null,null,null,null,null,"",{"$f":"IFERROR(IF(A495=\"\",\"\",VLOOKUP(A495,Funcionários!$A$2:$F$299,5,0)),\"\")","v":""},""]
[null,{"$f":"IFERROR(IF(A496=\"\",\"\",VLOOKUP(A496,Funcionários!$A$2:$F$299,2,0)),\"Funcionário não encontrado\")","v":""},null,null,null,null,null,"",{"$f":"IFERROR(IF(A496=\"\",\"\",VLOOKUP(A496,Funcionários!$A$2:$F$299,5,0)),\"\")","v":""},""]
[null,{"$f":"IFERROR(IF(A497=\"\",\"\",VLOOKUP(A497,Funcionários!$A$2:$F$299,2,0)),\"Funcionário não encontrado\")","v":""},null,null,null,null,null,"",{"$f":"IFERROR(IF(A497=\"\",\"\",VLOOKUP(A497,Funcionários!$A$2:$F$299,5,0)),\"\")","v":""},""]
[null,{"$f":"IFERROR(IF(A498=\"\",\"\",VLOOKUP(A498,Funcionários!$A$2:$F$299,2,0)),\"Funcionário não encontrado\")","v":""},null,null,null,null,null,"",{"$f":"IFERROR(IF(A498=\"\",\"\",VLOOKUP(A498,Funcionários!$A$2:$F$299,5,0)),\"\")","v":""},""]
[null,{"$f":"IFERROR(IF(A499=\"\",\"\",VLOOKUP(A499,Funcionários!$A$2:$F$299,2,0)),\"Funcionário não encontrado\")","v":""},null,null,null,null,null,"",{"$f":"IFERROR(IF(A499=\"\",\"\",VLOOKUP(A499,Funcionários!$A$2:$F$299,5,0)),\"\")","v":""},""]
[null,{"$f":"IFERROR(IF(A500=\"\",\"\",VLOOKUP(A500,Funcionários!$A$2:$F$299,2,0)),\"Funcionário não encontrado\")","v":""},null,null,null,null,null,"",{"$f":"IFERROR(IF(A500=\"\",\"\",VLOOKUP(A500,Funcionários!$A$2:$F$299,5,0)),\"\")","v":""},""]
[null,{"$f":"IFERROR(IF(A501=\"\",\"\",VLOOKUP(A501,Funcionários!$A$2:$F$299,2,0)),\"Funcionário não encontrado\")","v":""},null,null,null,null,null,"",{"$f":"IFERROR(IF(A501=\"\",\"\",VLOOKUP(A501,Funcionários!$A$2:$F$299,5,0)),\"\")","v":""},""]
[null,{"$f":"IFERROR(IF(A502=\"\",\"\",VLOOKUP(A502,Funcionários!$A$2:$F$299,2,0)),\"Funcionário não encontrado\")","v":""},null,null,null,null,null,"",{"$f":"IFERROR(IF(A502=\"\",\"\",VLOOKUP(A502,Funcionários!$A$2:$F$299,5,0)),\"\")","v":""},""]
[null,{"$f":"IFERROR(IF(A503=\"\",\"\",VLOOKUP(A503,Funcionários!$A$2:$F$299,2,0)),\"Funcionário não encontrado\")","v":""},null,null,null,null,null,"",{"$f":"IFERROR(IF(A503=\"\",\"\",VLOOKUP(A503,Funcionários!$A$2:$F$299,5,0)),\"\")","v":""},""]
[null,{"$f":"IFERROR(IF(A504=\"\",\"\",VLOOKUP(A504,Funcionários!$A$2:$F$299,2,0)),\"Funcionário não encontrado\")","v":""},null,null,null,null,null,"",{"$f":"IFERROR(IF(A504=\"\",\"\",VLOOKUP(A504,Funcionários!$A$2:$F$299,5,0)),\"\")","v":""},""]
[null,{"$f":"IFERROR(IF(A505=\"\",\"\",VLOOKUP(A505,Funcionários!$A$2:$F$299,2,0)),\"Funcionário não encontrado\")","v":""},null,null,null,null,null,"",{"$f":"IFERROR(IF(A505=\"\",\"\",VLOOKUP(A505,Funcionários!$A$2:$F$299,5,0)),\"\")","v":""},""]
[null,{"$f":"IFERROR(IF(A506=\"\",\"\",VLOOKUP(A506,Funcionários!$A$2:$F$299,2,0)),\"Funcionário não encontrado\")","v":""},null,null,null,null,null,"",{"$f":"IFERROR(IF(A506=\"\",\"\",VLOOKUP(A506,Funcionários!$A$2:$F$299,5,0)),\"\")","v":""},""]
[null,{"$f":"IFERROR(IF(A507=\"\",\"\",VLOOKUP(A507,Funcionários!$A$2:$F$299,2,0)),\"Funcionário não encontrado\")","v":""},null,null,null,null,null,"",{"$f":"IFERROR(IF(A507=\"\",\"\",VLOOKUP(A507,Funcionários!$A$2:$F$299,5,0)),\"\")","v":""},""]
[null,{"$f":"IFERROR(IF(A508=\"\",\"\",VLOOKUP(A508,Funcionários!$A$2:$F$299,2,0)),\"Funcionário não encontrado\")","v":""},null,null,null,null,null,"",{"$f":"IFERROR(IF(A508=\"\",\"\",VLOOKUP(A508,Funcionários!$A$2:$F$299,5,0)),\"\")","v":""},""]
[null,{"$f":"IFERROR(IF(A509=\"\",\"\",VLOOKUP(A509,Funcionários!$A$2:$F$299,2,0)),\"Funcionário não encontrado\")","v":""},null,null,null,null,null,"",{"$f":"IFERROR(IF(A509=\"\",\"\",VLOOKUP(A509,Funcionários!$A$2:$F$299,5,0)),\"\")","v":""},""]
[null,{"$f":"IFERROR(IF(A510=\"\",\"\",VLOOKUP(A510,Funcionários!$A$2:$F$299,2,0)),\"Funcionário não encontrado\")","v":""},null,null,null,null,null,"",{"$f":"IFERROR(IF(A510=\"\",\"\",VLOOKUP(A510,Funcionários!$A$2:$F$299,5,0)),\"\")","v":""},""]
[null,{"$f":"IFERROR(IF(A511=\"\",\"\",VLOOKUP(A511,Funcionários!$A$2:$F$299,2,0)),\"Funcionário não encontrado\")","v":""},null,null,null,null,null,"",{"$f":"IFERROR(IF(A511=\"\",\"\",VLOOKUP(A511,Funcionários!$A$2:$F$299,5,0)),\"\")","v":""},""]
[null,{"$f":"IFERROR(IF(A512=\"\",\"\",VLOOKUP(A512,Funcionários!$A$2:$F$299,2,0)),\"Funcionário não encontrado\")","v":""},null,null,null,null,null,"",{"$f":"IFERROR(IF(A512=\"\",\"\",VLOOKUP(A512,Funcionários!$A$2:$F$299,5,0)),\"\")","v":""},""]
[null,{"$f":"IFERROR(IF(A513=\"\",\"\",VLOOKUP(A513,Funcionários!$A$2:$F$299,2,0)),\"Funcionário não encontrado\")","v":""},null,null,null,null,null,"",{"$f":"IFERROR(IF(A513=\"\",\"\",VLOOKUP(A513,Funcionários!$A$2:$F$299,5,0)),\"\")","v":""},""]
[null,{"$f":"IFERROR(IF(A514=\"\",\"\",VLOOKUP(A514,Funcionários!$A$2:$F$299,2,0)),\"Funcionário não encontrado\")","v":""},null,null,null,null,null,"",{"$f":"IFERROR(IF(A514=\"\",\"\",VLOOKUP(A514,Funcionários!$A$2:$F$299,5,0)),\"\")","v":""},""]
[null,{"$f":"IFERROR(IF(A515=\"\",\"\",VLOOKUP(A515,Funcionários!$A$2:$F$299,2,0)),\"Funcionário não encontrado\")","v":""},null,null,null,null,null,{"$f":"IF(OR(D515=\"\",E515=\"\",F515=\"\"),\"\",MOD((E515-D515)+(G515-F515),1))","v":""},{"$f":"IFERROR(IF(A515=\"\",\"\",VLOOKUP(A515,Funcionários!$A$2:$F$299,5,0)),\"\")","v":""},{"$f":"IF(H515=\"\",\"\",H515-I515)","v":""}]
[null,{"$f":"IFERROR(IF(A516=\"\",\"\",VLOOKUP(A516,Funcionários!$A$2:$F$299,2,0)),\"Funcionário não encontrado\")","v":""},null,null,null,null,null,"",{"$f":"IFERROR(IF(A516=\"\",\"\",VLOOKUP(A516,Funcionários!$A$2:$F$299,5,0)),\"\")","v":""},""]
[null,{"$f":"IFERROR(IF(A517=\"\",\"\",VLOOKUP(A517,Funcionários!$A$2:$F$299,2,0)),\"Funcionário não encontrado\")","v":""},null,null,null,null,null,"",{"$f":"IFERROR(IF(A517=\"\",\"\",VLOOKUP(A517,Funcionários!$A$2:$F$299,5,0)),\"\")","v":""},""]
[null,{"$f":"IFERROR(IF(A518=\"\",\"\",VLOOKUP(A518,Funcionários!$A$2:$F$299,2,0)),\"Funcionário não encontrado\")","v":""},null,null,null,null,null,"",{"$f":"IFERROR(IF(A518=\"\",\"\",VLOOKUP(A518,Funcionários!$A$2:$F$299,5,0)),\"\")","v":""},""]
[null,{"$f":"IFERROR(IF(A519=\"\",\"\",VLOOKUP(A519,Funcionários!$A$2:$F$299,2,0)),\"Funcionário não encontrado\")","v":""},null,null,null,null,null,"",{"$f":"IFERROR(IF(A519=\"\",\"\",VLOOKUP(A519,Funcionários!$A$2:$F$299,5,0)),\"\")","v":""},""]
[null,{"$f":"IFERROR(IF(A520=\"\",\"\",VLOOKUP(A520,Funcionários!$A$2:$F$299,2,0)),\"Funcionário não encontrado\")","v":""},null,null,null,null,null,"",{"$f":"IFERROR(IF(A520=\"\",\"\",VLOOKUP(A520,Funcionários!$A$2:$F$299,5,0)),\"\")","v":""},""]
[null,{"$f":"IFERROR(IF(A521=\"\",\"\",VLOOKUP(A521,Funcionários!$A$2:$F$299,2,0)),\"Funcionário não encontrado\")","v":""},null,null,null,null,null,"",{"$f":"IFERROR(IF(A521=\"\",\"\",VLOOKUP(A521,Funcionários!$A$2:$F$299,5,0)),\"\")","v":""},""]
[null,{"$f":"IFERROR(IF(A522=\"\",\"\",VLOOKUP(A522,Funcionários!$A$2:$F$299,2,0)),\"Funcionário não encontrado\")","v":""},null,null,null,null,null,"",{"$f":"IFERROR(IF(A522=\"\",\"\",VLOOKUP(A522,Funcionários!$A$2:$F$299,5,0)),\"\")","v":""},""]
[null,{"$f":"IFERROR(IF(A523=\"\",\"\",VLOOKUP(A523,Funcionários!$A$2:$F$299,2,0)),\"Funcionário não encontrado\")","v":""},null,null,null,null,null,"",{"$f":"IFERROR(IF(A523=\"\",\"\",VLOOKUP(A523,Funcionários!$A$2:$F$299,5,0)),\"\")","v":""},""]
[null,{"$f":"IFERROR(IF(A524=\"\",\"\",VLOOKUP(A524,Funcionários!$A$2:$F$299,2,0)),\"Funcionário não encontrado\")","v":""},null,null,null,null,null,"",{"$f":"IFERROR(IF(A524=\"\",\"\",VLOOKUP(A524,Funcionários!$A$2:$F$299,5,0)),\"\")","v":""},""]
[null,{"$f":"IFERROR(IF(A525=\"\",\"\",VLOOKUP(A525,Funcionários!$A$2:$F$299,2,0)),\"Funcionário não encontrado\")","v":""},null,null,null,null,null,"",{"$f":"IFERROR(IF(A525=\"\",\"\",VLOOKUP(A525,Funcionários!$A$2:$F$299,5,0)),\"\")","v":""},""]
[null,{"$f":"IFERROR(IF(A526=\"\",\"\",VLOOKUP(A526,Funcionários!$A$2:$F$299,2,0)),\"Funcionário não encontrado\")","v":""},null,null,null,null,null,"",{"$f":"IFERROR(IF(A526=\"\",\"\",VLOOKUP(A526,Funcionários!$A$2:$F$299,5,0)),\"\")","v":""},""]
[null,{"$f":"IFERROR(IF(A527=\"\",\"\",VLOOKUP(A527,Funcionários!$A$2:$F$299,2,0)),\"Funcionário não encontrado\")","v":""},null,null,null,null,null,"",{"$f":"IFERROR(IF(A527=\"\",\"\",VLOOKUP(A527,Funcionários!$A$2:$F$299,5,0)),\"\")","v":""},""]
[null,{"$f":"IFERROR(IF(A528=\"\",\"\",VLOOKUP(A528,Funcionários!$A$2:$F$299,2,0)),\"Funcionário não encontrado\")","v":""},null,null,null,null,null,"",{"$f":"IFERROR(IF(A528=\"\",\"\",VLOOKUP(A528,Funcionários!$A$2:$F$299,5,0)),\"\")","v":""},""]
[null,{"$f":"IFERROR(IF(A529=\"\",\"\",VLOOKUP(A529,Funcionários!$A$2:$F$299,2,0)),\"Funcionário não encontrado\")","v":""},null,null,null,null,null,"",{"$f":"IFERROR(IF(A529=\"\",\"\",VLOOKUP(A529,Funcionários!$A$2:$F$299,5,0)),\"\")","v":""},""]
[null,{"$f":"IFERROR(IF(A530=\"\",\"\",VLOOKUP(A530,Funcionários!$A$2:$F$299,2,0)),\"Funcionário não encontrado\")","v":""},null,null,null,null,null,"",{"$f":"IFERROR(IF(A530=\"\",\"\",VLOOKUP(A530,Funcionários!$A$2:$F$299,5,0)),\"\")","v":""},""]
[null,{"$f":"IFERROR(IF(A531=\"\",\"\",VLOOKUP(A531,Funcionários!$A$2:$F$299,2,0)),\"Funcionário não encontrado\")","v":""},null,null,null,null,null,"",{"$f":"IFERROR(IF(A531=\"\",\"\",VLOOKUP(A531,Funcionários!$A$2:$F$299,5,0)),\"\")","v":""},""]
[null,{"$f":"IFERROR(IF(A532=\"\",\"\",VLOOKUP(A532,Funcionários!$A$2:$F$299,2,0)),\"Funcionário não encontrado\")","v":""},null,null,null,null,null,"",{"$f":"IFERROR(IF(A532=\"\",\"\",VLOOKUP(A532,Funcionários!$A$2:$F$299,5,0)),\"\")","v":""},""]
[null,{"$f":"IFERROR(IF(A533=\"\",\"\",VLOOKUP(A533,Funcionários!$A$2:$F$299,2,0)),\"Funcionário não encontrado\")","v":""},null,null,null,null,null,"",{"$f":"IFERROR(IF(A533=\"\",\"\",VLOOKUP(A533,Funcionários!$A$2:$F$299,5,0)),\"\")","v":""},""]
[null,{"$f":"IFERROR(IF(A534=\"\",\"\",VLOOKUP(A534,Funcionários!$A$2:$F$299,2,0)),\"Funcionário não encontrado\")","v":""},null,null,null,null,null,"",{"$f":"IFERROR(IF(A534=\"\",\"\",VLOOKUP(A534,Funcionários!$A$2:$F$299,5,0)),\"\")","v":""},""]
[null,{"$f":"IFERROR(IF(A535=\"\",\"\",VLOOKUP(A535,Funcionários!$A$2:$F$299,2,0)),\"Funcionário não encontrado\")","v":""},null,null,null,null,null,"",{"$f":"IFERROR(IF(A535=\"\",\"\",VLOOKUP(A535,Funcionários!$A$2:$F$299,5,0)),\"\")","v":""},""]
[null,{"$f":"IFERROR(IF(A536=\"\",\"\",VLOOKUP(A536,Funcionários!$A$2:$F$299,2,0)),\"Funcionário não encontrado\")","v":""},null,null,null,null,null,"",{"$f":"IFERROR(IF(A536=\"\",\"\",VLOOKUP(A536,Funcionários!$A$2:$F$299,5,0)),\"\")","v":""},""]
[null,{"$f":"IFERROR(IF(A537=\"\",\"\",VLOOKUP(A537,Funcionários!$A$2:$F$299,2,0)),\"Funcionário não encontrado\")","v":""},null,null,null,null,null,"",{"$f":"IFERROR(IF(A537=\"\",\"\",VLOOKUP(A537,Funcionários!$A$2:$F$299,5,0)),\"\")","v":""},""]
[null,{"$f":"IFERROR(IF(A538=\"\",\"\",VLOOKUP(A538,Funcionários!$A$2:$F$299,2,0)),\"Funcionário não encontrado\")","v":""},null,null,null,null,null,"",{"$f":"IFERROR(IF(A538=\"\",\"\",VLOOKUP(A538,Funcionários!$A$2:$F$299,5,0)),\"\")","v":""},""]
[null,{"$f":"IFERROR(IF(A539=\"\",\"\",VLOOKUP(A539,Funcionários!$A$2:$F$299,2,0)),\"Funcionário não encontrado\")","v":""},null,null,null,null,null,"",{"$f":"IFERROR(IF(A539=\"\",\"\",VLOOKUP(A539,Funcionários!$A$2:$F$299,5,0)),\"\")","v":""},""]
[null,{"$f":"IFERROR(IF(A540=\"\",\"\",VLOOKUP(A540,Funcionários!$A$2:$F$299,2,0)),\"Funcionário não encontrado\")","v":""},null,null,null,null,null,"",{"$f":"IFERROR(IF(A540=\"\",\"\",VLOOKUP(A540,Funcionários!$A$2:$F$299,5,0)),\"\")","v":""},""]
[null,{"$f":"IFERROR(IF(A541=\"\",\"\",VLOOKUP(A541,Funcionários!$A$2:$F$299,2,0)),\"Funcionário não encontrado\")","v":""},null,null,null,null,null,"",{"$f":"IFERROR(IF(A541=\"\",\"\",VLOOKUP(A541,Funcionários!$A$2:$F$299,5,0)),\"\")","v":""},""]
[null,{"$f":"IFERROR(IF(A542=\"\",\"\",VLOOKUP(A542,Funcionários!$A$2:$F$299,2,0)),\"Funcionário não encontrado\")","v":""},null,null,null,null,null,"",{"$f":"IFERROR(IF(A542=\"\",\"\",VLOOKUP(A542,Funcionários!$A$2:$F$299,5,0)),\"\")","v":""},""]
[null,{"$f":"IFERROR(IF(A543=\"\",\"\",VLOOKUP(A543,Funcionários!$A$2:$F$299,2,0)),\"Funcionário não encontrado\")","v":""},null,null,null,null,null,"",{"$f":"IFERROR(IF(A543=\"\",\"\",VLOOKUP(A543,Funcionários!$A$2:$F$299,5,0)),\"\")","v":""},""]
[null,{"$f":"IFERROR(IF(A544=\"\",\"\",VLOOKUP(A544,Funcionários!$A$2:$F$299,2,0)),\"Funcionário não encontrado\")","v":""},null,null,null,null,null,"",{"$f":"IFERROR(IF(A544=\"\",\"\",VLOOKUP(A544,Funcionários!$A$2:$F$299,5,0)),\"\")","v":""},""]
[null,{"$f":"IFERROR(IF(A545=\"\",\"\",VLOOKUP(A545,Funcionários!$A$2:$F$299,2,0)),\"Funcionário não encontrado\")","v":""},null,null,null,null,null,"",{"$f":"IFERROR(IF(A545=\"\",\"\",VLOOKUP(A545,Funcionários!$A$2:$F$299,5,0)),\"\")","v":""},""]
[null,{"$f":"IFERROR(IF(A546=\"\",\"\",VLOOKUP(A546,Funcionários!$A$2:$F$299,2,0)),\"Funcionário não encontrado\")","v":""},null,null,null,null,null,"",{"$f":"IFERROR(IF(A546=\"\",\"\",VLOOKUP(A546,Funcionários!$A$2:$F$299,5,0)),\"\")","v":""},""]
[null,{"$f":"IFERROR(IF(A547=\"\",\"\",VLOOKUP(A547,Funcionários!$A$2:$F$299,2,0)),\"Funcionário não encontrado\")","v":""},null,null,null,null,null,"",{"$f":"IFERROR(IF(A547=\"\",\"\",VLOOKUP(A547,Funcionários!$A$2:$F$299,5,0)),\"\")","v":""},""]
[null,{"$f":"IFERROR(IF(A548=\"\",\"\",VLOOKUP(A548,Funcionários!$A$2:$F$299,2,0)),\"Funcionário não encontrado\")","v":""},null,null,null,null,null,"",{"$f":"IFERROR(IF(A548=\"\",\"\",VLOOKUP(A548,Funcionários!$A$2:$F$299,5,0)),\"\")","v":""},""]
[null,{"$f":"IFERROR(IF(A549=\"\",\"\",VLOOKUP(A549,Funcionários!$A$2:$F$299,2,0)),\"Funcionário não encontrado\")","v":""},null,null,null,null,null,"",{"$f":"IFERROR(IF(A549=\"\",\"\",VLOOKUP(A549,Funcionários!$A$2:$F$299,5,0)),\"\")","v":""},""]
[null,{"$f":"IFERROR(IF(A550=\"\",\"\",VLOOKUP(A550,Funcionários!$A$2:$F$299,2,0)),\"Funcionário não encontrado\")","v":""},null,null,null,null,null,"",{"$f":"IFERROR(IF(A550=\"\",\"\",VLOOKUP(A550,Funcionários!$A$2:$F$299,5,0)),\"\")","v":""},""]
[null,{"$f":"IFERROR(IF(A551=\"\",\"\",VLOOKUP(A551,Funcionários!$A$2:$F$299,2,0)),\"Funcionário não encontrado\")","v":""},null,null,null,null,null,"",{"$f":"IFERROR(IF(A551=\"\",\"\",VLOOKUP(A551,Funcionários!$A$2:$F$299,5,0)),\"\")","v":""},""]
[null,{"$f":"IFERROR(IF(A552=\"\",\"\",VLOOKUP(A552,Funcionários!$A$2:$F$299,2,0)),\"Funcionário não encontrado\")","v":""},null,null,null,null,null,"",{"$f":"IFERROR(IF(A552=\"\",\"\",VLOOKUP(A552,Funcionários!$A$2:$F$299,5,0)),\"\")","v":""},""]
[null,{"$f":"IFERROR(IF(A553=\"\",\"\",VLOOKUP(A553,Funcionários!$A$2:$F$299,2,0)),\"Funcionário não encontrado\")","v":""},null,null,null,null,null,"",{"$f":"IFERROR(IF(A553=\"\",\"\",VLOOKUP(A553,Funcionários!$A$2:$F$299,5,0)),\"\")","v":""},""]
[null,{"$f":"IFERROR(IF(A554=\"\",\"\",VLOOKUP(A554,Funcionários!$A$2:$F$299,2,0)),\"Funcionário não encontrado\")","v":""},null,null,null,null,null,"",{"$f":"IFERROR(IF(A554=\"\",\"\",VLOOKUP(A554,Funcionários!$A$2:$F$299,5,0)),\"\")","v":""},""]
[null,{"$f":"IFERROR(IF(A555=\"\",\"\",VLOOKUP(A555,Funcionários!$A$2:$F$299,2,0)),\"Funcionário não encontrado\")","v":""},null,null,null,null,null,"",{"$f":"IFERROR(IF(A555=\"\",\"\",VLOOKUP(A555,Funcionários!$A$2:$F$299,5,0)),\"\")","v":""},""]
[null,{"$f":"IFERROR(IF(A556=\"\",\"\",VLOOKUP(A556,Funcionários!$A$2:$F$299,2,0)),\"Funcionário não encontrado\")","v":""},null,null,null,null,null,"",{"$f":"IFERROR(IF(A556=\"\",\"\",VLOOKUP(A556,Funcionários!$A$2:$F$299,5,0)),\"\")","v":""},""]
[null,{"$f":"IFERROR(IF(A557=\"\",\"\",VLOOKUP(A557,Funcionários!$A$2:$F$299,2,0)),\"Funcionário não encontrado\")","v":""},null,null,null,null,null,"",{"$f":"IFERROR(IF(A557=\"\",\"\",VLOOKUP(A557,Funcionários!$A$2:$F$299,5,0)),\"\")","v":""},""]
[null,{"$f":"IFERROR(IF(A558=\"\",\"\",VLOOKUP(A558,Funcionários!$A$2:$F$299,2,0)),\"Funcionário não encontrado\")","v":""},null,null,null,null,null,"",{"$f":"IFERROR(IF(A558=\"\",\"\",VLOOKUP(A558,Funcionários!$A$2:$F$299,5,0)),\"\")","v":""},""]
[null,{"$f":"IFERROR(IF(A559=\"\",\"\",VLOOKUP(A559,Funcionários!$A$2:$F$299,2,0)),\"Funcionário não encontrado\")","v":""},null,null,null,null,null,"",{"$f":"IFERROR(IF(A559=\"\",\"\",VLOOKUP(A559,Funcionários!$A$2:$F$299,5,0)),\"\")","v":""},""]
[null,{"$f":"IFERROR(IF(A560=\"\",\"\",VLOOKUP(A560,Funcionários!$A$2:$F$299,2,0)),\"Funcionário não encontrado\")","v":""},null,null,null,null,null,"",{"$f":"IFERROR(IF(A560=\"\",\"\",VLOOKUP(A560,Funcionários!$A$2:$F$299,5,0)),\"\")","v":""},""]
[null,{"$f":"IFERROR(IF(A561=\"\",\"\",VLOOKUP(A561,Funcionários!$A$2:$F$299,2,0)),\"Funcionário não encontrado\")","v":""},null,null,null,null,null,"",{"$f":"IFERROR(IF(A561=\"\",\"\",VLOOKUP(A561,Funcionários!$A$2:$F$299,5,0)),\"\")","v":""},""]
[null,{"$f":"IFERROR(IF(A562=\"\",\"\",VLOOKUP(A562,Funcionários!$A$2:$F$299,2,0)),\"Funcionário não encontrado\")","v":""},null,null,null,null,null,"",{"$f":"IFERROR(IF(A562=\"\",\"\",VLOOKUP(A562,Funcionários!$A$2:$F$299,5,0)),\"\")","v":""},""]
[null,{"$f":"IFERROR(IF(A563=\"\",\"\",VLOOKUP(A563,Funcionários!$A$2:$F$299,2,0)),\"Funcionário não encontrado\")","v":""},null,null,null,null,null,"",{"$f":"IFERROR(IF(A563=\"\",\"\",VLOOKUP(A563,Funcionários!$A$2:$F$299,5,0)),\"\")","v":""},""]
[null,{"$f":"IFERROR(IF(A564=\"\",\"\",VLOOKUP(A564,Funcionários!$A$2:$F$299,2,0)),\"Funcionário não encontrado\")","v":""},null,null,null,null,null,"",{"$f":"IFERROR(IF(A564=\"\",\"\",VLOOKUP(A564,Funcionários!$A$2:$F$299,5,0)),\"\")","v":""},""]
[null,{"$f":"IFERROR(IF(A565=\"\",\"\",VLOOKUP(A565,Funcionários!$A$2:$F$299,2,0)),\"Funcionário não encontrado\")","v":""},null,null,null,null,null,"",{"$f":"IFERROR(IF(A565=\"\",\"\",VLOOKUP(A565,Funcionários!$A$2:$F$299,5,0)),\"\")","v":""},""]
[null,{"$f":"IFERROR(IF(A566=\"\",\"\",VLOOKUP(A566,Funcionários!$A$2:$F$299,2,0)),\"Funcionário não encontrado\")","v":""},null,null,null,null,null,"",{"$f":"IFERROR(IF(A566=\"\",\"\",VLOOKUP(A566,Funcionários!$A$2:$F$299,5,0)),\"\")","v":""},""]
[null,{"$f":"IFERROR(IF(A567=\"\",\"\",VLOOKUP(A567,Funcionários!$A$2:$F$299,2,0)),\"Funcionário não encontrado\")","v":""},null,null,null,null,null,"",{"$f":"IFERROR(IF(A567=\"\",\"\",VLOOKUP(A567,Funcionários!$A$2:$F$299,5,0)),\"\")","v":""},""]
[null,{"$f":"IFERROR(IF(A568=\"\",\"\",VLOOKUP(A568,Funcionários!$A$2:$F$299,2,0)),\"Funcionário não encontrado\")","v":""},null,null,null,null,null,"",{"$f":"IFERROR(IF(A568=\"\",\"\",VLOOKUP(A568,Funcionários!$A$2:$F$299,5,0)),\"\")","v":""},""]
[null,{"$f":"IFERROR(IF(A569=\"\",\"\",VLOOKUP(A569,Funcionários!$A$2:$F$299,2,0)),\"Funcionário não encontrado\")","v":""},null,null,null,null,null,"",{"$f":"IFERROR(IF(A569=\"\",\"\",VLOOKUP(A569,Funcionários!$A$2:$F$299,5,0)),\"\")","v":""},""]
[null,{"$f":"IFERROR(IF(A570=\"\",\"\",VLOOKUP(A570,Funcionários!$A$2:$F$299,2,0)),\"Funcionário não encontrado\")","v":""},null,null,null,null,null,"",{"$f":"IFERROR(IF(A570=\"\",\"\",VLOOKUP(A570,Funcionários!$A$2:$F$299,5,0)),\"\")","v":""},""]
[null,{"$f":"IFERROR(IF(A571=\"\",\"\",VLOOKUP(A571,Funcionários!$A$2:$F$299,2,0)),\"Funcionário não encontrado\")","v":""},null,null,null,null,null,"",{"$f":"IFERROR(IF(A571=\"\",\"\",VLOOKUP(A571,Funcionários!$A$2:$F$299,5,0)),\"\")","v":""},""]
[null,{"$f":"IFERROR(IF(A572=\"\",\"\",VLOOKUP(A572,Funcionários!$A$2:$F$299,2,0)),\"Funcionário não encontrado\")","v":""},null,null,null,null,null,"",{"$f":"IFERROR(IF(A572=\"\",\"\",VLOOKUP(A572,Funcionários!$A$2:$F$299,5,0)),\"\")","v":""},""]
[null,{"$f":"IFERROR(IF(A573=\"\",\"\",VLOOKUP(A573,Funcionários!$A$2:$F$299,2,0)),\"Funcionário não encontrado\")","v":""},null,null,null,null,null,"",{"$f":"IFERROR(IF(A573=\"\",\"\",VLOOKUP(A573,Funcionários!$A$2:$F$299,5,0)),\"\")","v":""},""]
[null,{"$f":"IFERROR(IF(A574=\"\",\"\",VLOOKUP(A574,Funcionários!$A$2:$F$299,2,0)),\"Funcionário não encontrado\")","v":""},null,null,null,null,null,"",{"$f":"IFERROR(IF(A574=\"\",\"\",VLOOKUP(A574,Funcionários!$A$2:$F$299,5,0)),\"\")","v":""},""]
[null,{"$f":"IFERROR(IF(A575=\"\",\"\",VLOOKUP(A575,Funcionários!$A$2:$F$299,2,0)),\"Funcionário não encontrado\")","v":""},null,null,null,null,null,"",{"$f":"IFERROR(IF(A575=\"\",\"\",VLOOKUP(A575,Funcionários!$A$2:$F$299,5,0)),\"\")","v":""},""]
[null,{"$f":"IFERROR(IF(A576=\"\",\"\",VLOOKUP(A576,Funcionários!$A$2:$F$299,2,0)),\"Funcionário não encontrado\")","v":""},null,null,null,null,null,"",{"$f":"IFERROR(IF(A576=\"\",\"\",VLOOKUP(A576,Funcionários!$A$2:$F$299,5,0)),\"\")","v":""},""]
[null,{"$f":"IFERROR(IF(A577=\"\",\"\",VLOOKUP(A577,Funcionários!$A$2:$F$299,2,0)),\"Funcionário não encontrado\")","v":""},null,null,null,null,null,"",{"$f":"IFERROR(IF(A577=\"\",\"\",VLOOKUP(A577,Funcionários!$A$2:$F$299,5,0)),\"\")","v":""},""]
[null,{"$f":"IFERROR(IF(A578=\"\",\"\",VLOOKUP(A578,Funcionários!$A$2:$F$299,2,0)),\"Funcionário não encontrado\")","v":""},null,null,null,null,null,"",{"$f":"IFERROR(IF(A578=\"\",\"\",VLOOKUP(A578,Funcionários!$A$2:$F$299,5,0)),\"\")","v":""},""]
[null,{"$f":"IFERROR(IF(A579=\"\",\"\",VLOOKUP(A579,Funcionários!$A$2:$F$299,2,0)),\"Funcionário não encontrado\")","v":""},null,null,null,null,null,{"$f":"IF(OR(D579=\"\",E579=\"\",F579=\"\"),\"\",MOD((E579-D579)+(G579-F579),1))","v":""},{"$f":"IFERROR(IF(A579=\"\",\"\",VLOOKUP(A579,Funcionários!$A$2:$F$299,5,0)),\"\")","v":""},{"$f":"IF(H579=\"\",\"\",H579-I579)","v":""}]
[null,{"$f":"IFERROR(IF(A580=\"\",\"\",VLOOKUP(A580,Funcionários!$A$2:$F$299,2,0)),\"Funcionário não encontrado\")","v":""},null,null,null,null,null,"",{"$f":"IFERROR(IF(A580=\"\",\"\",VLOOKUP(A580,Funcionários!$A$2:$F$299,5,0)),\"\")","v":""},""]
[null,{"$f":"IFERROR(IF(A581=\"\",\"\",VLOOKUP(A581,Funcionários!$A$2:$F$299,2,0)),\"Funcionário não encontrado\")","v":""},null,null,null,null,null,"",{"$f":"IFERROR(IF(A581=\"\",\"\",VLOOKUP(A581,Funcionários!$A$2:$F$299,5,0)),\"\")","v":""},""]
[null,{"$f":"IFERROR(IF(A582=\"\",\"\",VLOOKUP(A582,Funcionários!$A$2:$F$299,2,0)),\"Funcionário não encontrado\")","v":""},null,null,null,null,null,"",{"$f":"IFERROR(IF(A582=\"\",\"\",VLOOKUP(A582,Funcionários!$A$2:$F$299,5,0)),\"\")","v":""},""]
[null,{"$f":"IFERROR(IF(A583=\"\",\"\",VLOOKUP(A583,Funcionários!$A$2:$F$299,2,0)),\"Funcionário não encontrado\")","v":""},null,null,null,null,null,"",{"$f":"IFERROR(IF(A583=\"\",\"\",VLOOKUP(A583,Funcionários!$A$2:$F$299,5,0)),\"\")","v":""},""]
[null,{"$f":"IFERROR(IF(A584=\"\",\"\",VLOOKUP(A584,Funcionários!$A$2:$F$299,2,0)),\"Funcionário não encontrado\")","v":""},null,null,null,null,null,"",{"$f":"IFERROR(IF(A584=\"\",\"\",VLOOKUP(A584,Funcionários!$A$2:$F$299,5,0)),\"\")","v":""},""]
[null,{"$f":"IFERROR(IF(A585=\"\",\"\",VLOOKUP(A585,Funcionários!$A$2:$F$299,2,0)),\"Funcionário não encontrado\")","v":""},null,null,null,null,null,"",{"$f":"IFERROR(IF(A585=\"\",\"\",VLOOKUP(A585,Funcionários!$A$2:$F$299,5,0)),\"\")","v":""},""]
[null,{"$f":"IFERROR(IF(A586=\"\",\"\",VLOOKUP(A586,Funcionários!$A$2:$F$299,2,0)),\"Funcionário não encontrado\")","v":""},null,null,null,null,null,"",{"$f":"IFERROR(IF(A586=\"\",\"\",VLOOKUP(A586,Funcionários!$A$2:$F$299,5,0)),\"\")","v":""},""]
[null,{"$f":"IFERROR(IF(A587=\"\",\"\",VLOOKUP(A587,Funcionários!$A$2:$F$299,2,0)),\"Funcionário não encontrado\")","v":""},null,null,null,null,null,"",{"$f":"IFERROR(IF(A587=\"\",\"\",VLOOKUP(A587,Funcionários!$A$2:$F$299,5,0)),\"\")","v":""},""]
[null,{"$f":"IFERROR(IF(A588=\"\",\"\",VLOOKUP(A588,Funcionários!$A$2:$F$299,2,0)),\"Funcionário não encontrado\")","v":""},null,null,null,null,null,"",{"$f":"IFERROR(IF(A588=\"\",\"\",VLOOKUP(A588,Funcionários!$A$2:$F$299,5,0)),\"\")","v":""},""]
[null,{"$f":"IFERROR(IF(A589=\"\",\"\",VLOOKUP(A589,Funcionários!$A$2:$F$299,2,0)),\"Funcionário não encontrado\")","v":""},null,null,null,null,null,"",{"$f":"IFERROR(IF(A589=\"\",\"\",VLOOKUP(A589,Funcionários!$A$2:$F$299,5,0)),\"\")","v":""},""]
[null,{"$f":"IFERROR(IF(A590=\"\",\"\",VLOOKUP(A590,Funcionários!$A$2:$F$299,2,0)),\"Funcionário não encontrado\")","v":""},null,null,null,null,null,"",{"$f":"IFERROR(IF(A590=\"\",\"\",VLOOKUP(A590,Funcionários!$A$2:$F$299,5,0)),\"\")","v":""},""]
[null,{"$f":"IFERROR(IF(A591=\"\",\"\",VLOOKUP(A591,Funcionários!$A$2:$F$299,2,0)),\"Funcionário não encontrado\")","v":""},null,null,null,null,null,"",{"$f":"IFERROR(IF(A591=\"\",\"\",VLOOKUP(A591,Funcionários!$A$2:$F$299,5,0)),\"\")","v":""},""]
[null,{"$f":"IFERROR(IF(A592=\"\",\"\",VLOOKUP(A592,Funcionários!$A$2:$F$299,2,0)),\"Funcionário não encontrado\")","v":""},null,null,null,null,null,"",{"$f":"IFERROR(IF(A592=\"\",\"\",VLOOKUP(A592,Funcionários!$A$2:$F$299,5,0)),\"\")","v":""},""]
[null,{"$f":"IFERROR(IF(A593=\"\",\"\",VLOOKUP(A593,Funcionários!$A$2:$F$299,2,0)),\"Funcionário não encontrado\")","v":""},null,null,null,null,null,"",{"$f":"IFERROR(IF(A593=\"\",\"\",VLOOKUP(A593,Funcionários!$A$2:$F$299,5,0)),\"\")","v":""},""]
[null,{"$f":"IFERROR(IF(A594=\"\",\"\",VLOOKUP(A594,Funcionários!$A$2:$F$299,2,0)),\"Funcionário não encontrado\")","v":""},null,null,null,null,null,"",{"$f":"IFERROR(IF(A594=\"\",\"\",VLOOKUP(A594,Funcionários!$A$2:$F$299,5,0)),\"\")","v":""},""]
[null,{"$f":"IFERROR(IF(A595=\"\",\"\",VLOOKUP(A595,Funcionários!$A$2:$F$299,2,0)),\"Funcionário não encontrado\")","v":""},null,null,null,null,null,"",{"$f":"IFERROR(IF(A595=\"\",\"\",VLOOKUP(A595,Funcionários!$A$2:$F$299,5,0)),\"\")","v":""},""]
[null,{"$f":"IFERROR(IF(A596=\"\",\"\",VLOOKUP(A596,Funcionários!$A$2:$F$299,2,0)),\"Funcionário não encontrado\")","v":""},null,null,null,null,null,"",{"$f":"IFERROR(IF(A596=\"\",\"\",VLOOKUP(A596,Funcionários!$A$2:$F$299,5,0)),\"\")","v":""},""]
[null,{"$f":"IFERROR(IF(A597=\"\",\"\",VLOOKUP(A597,Funcionários!$A$2:$F$299,2,0)),\"Funcionário não encontrado\")","v":""},null,null,null,null,null,"",{"$f":"IFERROR(IF(A597=\"\",\"\",VLOOKUP(A597,Funcionários!$A$2:$F$299,5,0)),\"\")","v":""},""]
[null,{"$f":"IFERROR(IF(A598=\"\",\"\",VLOOKUP(A598,Funcionários!$A$2:$F$299,2,0)),\"Funcionário não encontrado\")","v":""},null,null,null,null,null,"",{"$f":"IFERROR(IF(A598=\"\",\"\",VLOOKUP(A598,Funcionários!$A$2:$F$299,5,0)),\"\")","v":""},""]
[null,{"$f":"IFERROR(IF(A599=\"\",\"\",VLOOKUP(A599,Funcionários!$A$2:$F$299,2,0)),\"Funcionário não encontrado\")","v":""},null,null,null,null,null,"",{"$f":"IFERROR(IF(A599=\"\",\"\",VLOOKUP(A599,Funcionários!$A$2:$F$299,5,0)),\"\")","v":""},""]
[null,{"$f":"IFERROR(IF(A600=\"\",\"\",VLOOKUP(A600,Funcionários!$A$2:$F$299,2,0)),\"Funcionário não encontrado\")","v":""},null,null,null,null,null,"",{"$f":"IFERROR(IF(A600=\"\",\"\",VLOOKUP(A600,Funcionários!$A$2:$F$299,5,0)),\"\")","v":""},""]
[null,{"$f":"IFERROR(IF(A601=\"\",\"\",VLOOKUP(A601,Funcionários!$A$2:$F$299,2,0)),\"Funcionário não encontrado\")","v":""},null,null,null,null,null,"",{"$f":"IFERROR(IF(A601=\"\",\"\",VLOOKUP(A601,Funcionários!$A$2:$F$299,5,0)),\"\")","v":""},""]
[null,{"$f":"IFERROR(IF(A602=\"\",\"\",VLOOKUP(A602,Funcionários!$A$2:$F$299,2,0)),\"Funcionário não encontrado\")","v":""},null,null,null,null,null,"",{"$f":"IFERROR(IF(A602=\"\",\"\",VLOOKUP(A602,Funcionários!$A$2:$F$299,5,0)),\"\")","v":""},""]
[null,{"$f":"IFERROR(IF(A603=\"\",\"\",VLOOKUP(A603,Funcionários!$A$2:$F$299,2,0)),\"Funcionário não encontrado\")","v":""},null,null,null,null,null,"",{"$f":"IFERROR(IF(A603=\"\",\"\",VLOOKUP(A603,Funcionários!$A$2:$F$299,5,0)),\"\")","v":""},""]
[null,{"$f":"IFERROR(IF(A604=\"\",\"\",VLOOKUP(A604,Funcionários!$A$2:$F$299,2,0)),\"Funcionário não encontrado\")","v":""},null,null,null,null,null,"",{"$f":"IFERROR(IF(A604=\"\",\"\",VLOOKUP(A604,Funcionários!$A$2:$F$299,5,0)),\"\")","v":""},""]
[null,{"$f":"IFERROR(IF(A605=\"\",\"\",VLOOKUP(A605,Funcionários!$A$2:$F$299,2,0)),\"Funcionário não encontrado\")","v":""},null,null,null,null,null,"",{"$f":"IFERROR(IF(A605=\"\",\"\",VLOOKUP(A605,Funcionários!$A$2:$F$299,5,0)),\"\")","v":""},""]
[null,{"$f":"IFERROR(IF(A606=\"\",\"\",VLOOKUP(A606,Funcionários!$A$2:$F$299,2,0)),\"Funcionário não encontrado\")","v":""},null,null,null,null,null,"",{"$f":"IFERROR(IF(A606=\"\",\"\",VLOOKUP(A606,Funcionários!$A$2:$F$299,5,0)),\"\")","v":""},""]
[null,{"$f":"IFERROR(IF(A607=\"\",\"\",VLOOKUP(A607,Funcionários!$A$2:$F$299,2,0)),\"Funcionário não encontrado\")","v":""},null,null,null,null,null,"",{"$f":"IFERROR(IF(A607=\"\",\"\",VLOOKUP(A607,Funcionários!$A$2:$F$299,5,0)),\"\")","v":""},""]
[null,{"$f":"IFERROR(IF(A608=\"\",\"\",VLOOKUP(A608,Funcionários!$A$2:$F$299,2,0)),\"Funcionário não encontrado\")","v":""},null,null,null,null,null,"",{"$f":"IFERROR(IF(A608=\"\",\"\",VLOOKUP(A608,Funcionários!$A$2:$F$299,5,0)),\"\")","v":""},""]
[null,{"$f":"IFERROR(IF(A609=\"\",\"\",VLOOKUP(A609,Funcionários!$A$2:$F$299,2,0)),\"Funcionário não encontrado\")","v":""},null,null,null,null,null,"",{"$f":"IFERROR(IF(A609=\"\",\"\",VLOOKUP(A609,Funcionários!$A$2:$F$299,5,0)),\"\")","v":""},""]
[null,{"$f":"IFERROR(IF(A610=\"\",\"\",VLOOKUP(A610,Funcionários!$A$2:$F$299,2,0)),\"Funcionário não encontrado\")","v":""},null,null,null,null,null,"",{"$f":"IFERROR(IF(A610=\"\",\"\",VLOOKUP(A610,Funcionários!$A$2:$F$299,5,0)),\"\")","v":""},""]
[null,{"$f":"IFERROR(IF(A611=\"\",\"\",VLOOKUP(A611,Funcionários!$A$2:$F$299,2,0)),\"Funcionário não encontrado\")","v":""},null,null,null,null,null,"",{"$f":"IFERROR(IF(A611=\"\",\"\",VLOOKUP(A611,Funcionários!$A$2:$F$299,5,0)),\"\")","v":""},""]
[null,{"$f":"IFERROR(IF(A612=\"\",\"\",VLOOKUP(A612,Funcionários!$A$2:$F$299,2,0)),\"Funcionário não encontrado\")","v":""},null,null,null,null,null,"",{"$f":"IFERROR(IF(A612=\"\",\"\",VLOOKUP(A612,Funcionários!$A$2:$F$299,5,0)),\"\")","v":""},""]
[null,{"$f":"IFERROR(IF(A613=\"\",\"\",VLOOKUP(A613,Funcionários!$A$2:$F$299,2,0)),\"Funcionário não encontrado\")","v":""},null,null,null,null,null,"",{"$f":"IFERROR(IF(A613=\"\",\"\",VLOOKUP(A613,Funcionários!$A$2:$F$299,5,0)),\"\")","v":""},""]
[null,{"$f":"IFERROR(IF(A614=\"\",\"\",VLOOKUP(A614,Funcionários!$A$2:$F$299,2,0)),\"Funcionário não encontrado\")","v":""},null,null,null,null,null,"",{"$f":"IFERROR(IF(A614=\"\",\"\",VLOOKUP(A614,Funcionários!$A$2:$F$299,5,0)),\"\")","v":""},""]
[null,{"$f":"IFERROR(IF(A615=\"\",\"\",VLOOKUP(A615,Funcionários!$A$2:$F$299,2,0)),\"Funcionário não encontrado\")","v":""},null,null,null,null,null,"",{"$f":"IFERROR(IF(A615=\"\",\"\",VLOOKUP(A615,Funcionários!$A$2:$F$299,5,0)),\"\")","v":""},""]
[null,{"$f":"IFERROR(IF(A616=\"\",\"\",VLOOKUP(A616,Funcionários!$A$2:$F$299,2,0)),\"Funcionário não encontrado\")","v":""},null,null,null,null,null,"",{"$f":"IFERROR(IF(A616=\"\",\"\",VLOOKUP(A616,Funcionários!$A$2:$F$299,5,0)),\"\")","v":""},""]
[null,{"$f":"IFERROR(IF(A617=\"\",\"\",VLOOKUP(A617,Funcionários!$A$2:$F$299,2,0)),\"Funcionário não encontrado\")","v":""},null,null,null,null,null,"",{"$f":"IFERROR(IF(A617=\"\",\"\",VLOOKUP(A617,Funcionários!$A$2:$F$299,5,0)),\"\")","v":""},""]
[null,{"$f":"IFERROR(IF(A618=\"\",\"\",VLOOKUP(A618,Funcionários!$A$2:$F$299,2,0)),\"Funcionário não encontrado\")","v":""},null,null,null,null,null,"",{"$f":"IFERROR(IF(A618=\"\",\"\",VLOOKUP(A618,Funcionários!$A$2:$F$299,5,0)),\"\")","v":""},""]
[null,{"$f":"IFERROR(IF(A619=\"\",\"\",VLOOKUP(A619,Funcionários!$A$2:$F$299,2,0)),\"Funcionário não encontrado\")","v":""},null,null,null,null,null,"",{"$f":"IFERROR(IF(A619=\"\",\"\",VLOOKUP(A619,Funcionários!$A$2:$F$299,5,0)),\"\")","v":""},""]
[null,{"$f":"IFERROR(IF(A620=\"\",\"\",VLOOKUP(A620,Funcionários!$A$2:$F$299,2,0)),\"Funcionário não encontrado\")","v":""},null,null,null,null,null,"",{"$f":"IFERROR(IF(A620=\"\",\"\",VLOOKUP(A620,Funcionários!$A$2:$F$299,5,0)),\"\")","v":""},""]
[null,{"$f":"IFERROR(IF(A621=\"\",\"\",VLOOKUP(A621,Funcionários!$A$2:$F$299,2,0)),\"Funcionário não encontrado\")","v":""},null,null,null,null,null,"",{"$f":"IFERROR(IF(A621=\"\",\"\",VLOOKUP(A621,Funcionários!$A$2:$F$299,5,0)),\"\")","v":""},""]
[null,{"$f":"IFERROR(IF(A622=\"\",\"\",VLOOKUP(A622,Funcionários!$A$2:$F$299,2,0)),\"Funcionário não encontrado\")","v":""},null,null,null,null,null,"",{"$f":"IFERROR(IF(A622=\"\",\"\",VLOOKUP(A622,Funcionários!$A$2:$F$299,5,0)),\"\")","v":""},""]
[null,{"$f":"IFERROR(IF(A623=\"\",\"\",VLOOKUP(A623,Funcionários!$A$2:$F$299,2,0)),\"Funcionário não encontrado\")","v":""},null,null,null,null,null,"",{"$f":"IFERROR(IF(A623=\"\",\"\",VLOOKUP(A623,Funcionários!$A$2:$F$299,5,0)),\"\")","v":""},""]
[null,{"$f":"IFERROR(IF(A624=\"\",\"\",VLOOKUP(A624,Funcionários!$A$2:$F$299,2,0)),\"Funcionário não encontrado\")","v":""},null,null,null,null,null,"",{"$f":"IFERROR(IF(A624=\"\",\"\",VLOOKUP(A624,Funcionários!$A$2:$F$299,5,0)),\"\")","v":""},""]
[null,{"$f":"IFERROR(IF(A625=\"\",\"\",VLOOKUP(A625,Funcionários!$A$2:$F$299,2,0)),\"Funcionário não encontrado\")","v":""},null,null,null,null,null,"",{"$f":"IFERROR(IF(A625=\"\",\"\",VLOOKUP(A625,Funcionários!$A$2:$F$299,5,0)),\"\")","v":""},""]
[null,{"$f":"IFERROR(IF(A626=\"\",\"\",VLOOKUP(A626,Funcionários!$A$2:$F$299,2,0)),\"Funcionário não encontrado\")","v":""},null,null,null,null,null,"",{"$f":"IFERROR(IF(A626=\"\",\"\",VLOOKUP(A626,Funcionários!$A$2:$F$299,5,0)),\"\")","v":""},""]
[null,{"$f":"IFERROR(IF(A627=\"\",\"\",VLOOKUP(A627,Funcionários!$A$2:$F$299,2,0)),\"Funcionário não encontrado\")","v":""},null,null,null,null,null,"",{"$f":"IFERROR(IF(A627=\"\",\"\",VLOOKUP(A627,Funcionários!$A$2:$F$299,5,0)),\"\")","v":""},""]
[null,{"$f":"IFERROR(IF(A628=\"\",\"\",VLOOKUP(A628,Funcionários!$A$2:$F$299,2,0)),\"Funcionário não encontrado\")","v":""},null,null,null,null,null,"",{"$f":"IFERROR(IF(A628=\"\",\"\",VLOOKUP(A628,Funcionários!$A$2:$F$299,5,0)),\"\")","v":""},""]
[null,{"$f":"IFERROR(IF(A629=\"\",\"\",VLOOKUP(A629,Funcionários!$A$2:$F$299,2,0)),\"Funcionário não encontrado\")","v":""},null,null,null,null,null,"",{"$f":"IFERROR(IF(A629=\"\",\"\",VLOOKUP(A629,Funcionários!$A$2:$F$299,5,0)),\"\")","v":""},""]
[null,{"$f":"IFERROR(IF(A630=\"\",\"\",VLOOKUP(A630,Funcionários!$A$2:$F$299,2,0)),\"Funcionário não encontrado\")","v":""},null,null,null,null,null,"",{"$f":"IFERROR(IF(A630=\"\",\"\",VLOOKUP(A630,Funcionários!$A$2:$F$299,5,0)),\"\")","v":""},""]
[null,{"$f":"IFERROR(IF(A631=\"\",\"\",VLOOKUP(A631,Funcionários!$A$2:$F$299,2,0)),\"Funcionário não encontrado\")","v":""},null,null,null,null,null,"",{"$f":"IFERROR(IF(A631=\"\",\"\",VLOOKUP(A631,Funcionários!$A$2:$F$299,5,0)),\"\")","v":""},""]
[null,{"$f":"IFERROR(IF(A632=\"\",\"\",VLOOKUP(A632,Funcionários!$A$2:$F$299,2,0)),\"Funcionário não encontrado\")","v":""},null,null,null,null,null,"",{"$f":"IFERROR(IF(A632=\"\",\"\",VLOOKUP(A632,Funcionários!$A$2:$F$299,5,0)),\"\")","v":""},""]
[null,{"$f":"IFERROR(IF(A633=\"\",\"\",VLOOKUP(A633,Funcionários!$A$2:$F$299,2,0)),\"Funcionário não encontrado\")","v":""},null,null,null,null,null,"",{"$f":"IFERROR(IF(A633=\"\",\"\",VLOOKUP(A633,Funcionários!$A$2:$F$299,5,0)),\"\")","v":""},""]
[null,{"$f":"IFERROR(IF(A634=\"\",\"\",VLOOKUP(A634,Funcionários!$A$2:$F$299,2,0)),\"Funcionário não encontrado\")","v":""},null,null,null,null,null,"",{"$f":"IFERROR(IF(A634=\"\",\"\",VLOOKUP(A634,Funcionários!$A$2:$F$299,5,0)),\"\")","v":""},""]
[null,{"$f":"IFERROR(IF(A635=\"\",\"\",VLOOKUP(A635,Funcionários!$A$2:$F$299,2,0)),\"Funcionário não encontrado\")","v":""},null,null,null,null,null,"",{"$f":"IFERROR(IF(A635=\"\",\"\",VLOOKUP(A635,Funcionários!$A$2:$F$299,5,0)),\"\")","v":""},""]
[null,{"$f":"IFERROR(IF(A636=\"\",\"\",VLOOKUP(A636,Funcionários!$A$2:$F$299,2,0)),\"Funcionário não encontrado\")","v":""},null,null,null,null,null,"",{"$f":"IFERROR(IF(A636=\"\",\"\",VLOOKUP(A636,Funcionários!$A$2:$F$299,5,0)),\"\")","v":""},""]
[null,{"$f":"IFERROR(IF(A637=\"\",\"\",VLOOKUP(A637,Funcionários!$A$2:$F$299,2,0)),\"Funcionário não encontrado\")","v":""},null,null,null,null,null,"",{"$f":"IFERROR(IF(A637=\"\",\"\",VLOOKUP(A637,Funcionários!$A$2:$F$299,5,0)),\"\")","v":""},""]
[null,{"$f":"IFERROR(IF(A638=\"\",\"\",VLOOKUP(A638,Funcionários!$A$2:$F$299,2,0)),\"Funcionário não encontrado\")","v":""},null,null,null,null,null,"",{"$f":"IFERROR(IF(A638=\"\",\"\",VLOOKUP(A638,Funcionários!$A$2:$F$299,5,0)),\"\")","v":""},""]
[null,{"$f":"IFERROR(IF(A639=\"\",\"\",VLOOKUP(A639,Funcionários!$A$2:$F$299,2,0)),\"Funcionário não encontrado\")","v":""},null,null,null,null,null,"",{"$f":"IFERROR(IF(A639=\"\",\"\",VLOOKUP(A639,Funcionários!$A$2:$F$299,5,0)),\"\")","v":""},""]
[null,{"$f":"IFERROR(IF(A640=\"\",\"\",VLOOKUP(A640,Funcionários!$A$2:$F$299,2,0)),\"Funcionário não encontrado\")","v":""},null,null,null,null,null,"",{"$f":"IFERROR(IF(A640=\"\",\"\",VLOOKUP(A640,Funcionários!$A$2:$F$299,5,0)),\"\")","v":""},""]
[null,{"$f":"IFERROR(IF(A641=\"\",\"\",VLOOKUP(A641,Funcionários!$A$2:$F$299,2,0)),\"Funcionário não encontrado\")","v":""},null,null,null,null,null,"",{"$f":"IFERROR(IF(A641=\"\",\"\",VLOOKUP(A641,Funcionários!$A$2:$F$299,5,0)),\"\")","v":""},""]
[null,{"$f":"IFERROR(IF(A642=\"\",\"\",VLOOKUP(A642,Funcionários!$A$2:$F$299,2,0)),\"Funcionário não encontrado\")","v":""},null,null,null,null,null,"",{"$f":"IFERROR(IF(A642=\"\",\"\",VLOOKUP(A642,Funcionários!$A$2:$F$299,5,0)),\"\")","v":""},""]
[null,{"$f":"IFERROR(IF(A643=\"\",\"\",VLOOKUP(A643,Funcionários!$A$2:$F$299,2,0)),\"Funcionário não encontrado\")","v":""},null,null,null,null,null,{"$f":"IF(OR(D643=\"\",E643=\"\",F643=\"\"),\"\",MOD((E643-D643)+(G643-F643),1))","v":""},{"$f":"IFERROR(IF(A643=\"\",\"\",VLOOKUP(A643,Funcionários!$A$2:$F$299,5,0)),\"\")","v":""},{"$f":"IF(H643=\"\",\"\",H643-I643)","v":""}]
[null,{"$f":"IFERROR(IF(A644=\"\",\"\",VLOOKUP(A644,Funcionários!$A$2:$F$299,2,0)),\"Funcionário não encontrado\")","v":""},null,null,null,null,null,"",{"$f":"IFERROR(IF(A644=\"\",\"\",VLOOKUP(A644,Funcionários!$A$2:$F$299,5,0)),\"\")","v":""},""]
[null,{"$f":"IFERROR(IF(A645=\"\",\"\",VLOOKUP(A645,Funcionários!$A$2:$F$299,2,0)),\"Funcionário não encontrado\")","v":""},null,null,null,null,null,"",{"$f":"IFERROR(IF(A645=\"\",\"\",VLOOKUP(A645,Funcionários!$A$2:$F$299,5,0)),\"\")","v":""},""]
[null,{"$f":"IFERROR(IF(A646=\"\",\"\",VLOOKUP(A646,Funcionários!$A$2:$F$299,2,0)),\"Funcionário não encontrado\")","v":""},null,null,null,null,null,"",{"$f":"IFERROR(IF(A646=\"\",\"\",VLOOKUP(A646,Funcionários!$A$2:$F$299,5,0)),\"\")","v":""},""]
[null,{"$f":"IFERROR(IF(A647=\"\",\"\",VLOOKUP(A647,Funcionários!$A$2:$F$299,2,0)),\"Funcionário não encontrado\")","v":""},null,null,null,null,null,"",{"$f":"IFERROR(IF(A647=\"\",\"\",VLOOKUP(A647,Funcionários!$A$2:$F$299,5,0)),\"\")","v":""},""]
[null,{"$f":"IFERROR(IF(A648=\"\",\"\",VLOOKUP(A648,Funcionários!$A$2:$F$299,2,0)),\"Funcionário não encontrado\")","v":""},null,null,null,null,null,"",{"$f":"IFERROR(IF(A648=\"\",\"\",VLOOKUP(A648,Funcionários!$A$2:$F$299,5,0)),\"\")","v":""},""]
[null,{"$f":"IFERROR(IF(A649=\"\",\"\",VLOOKUP(A649,Funcionários!$A$2:$F$299,2,0)),\"Funcionário não encontrado\")","v":""},null,null,null,null,null,"",{"$f":"IFERROR(IF(A649=\"\",\"\",VLOOKUP(A649,Funcionários!$A$2:$F$299,5,0)),\"\")","v":""},""]
[null,{"$f":"IFERROR(IF(A650=\"\",\"\",VLOOKUP(A650,Funcionários!$A$2:$F$299,2,0)),\"Funcionário não encontrado\")","v":""},null,null,null,null,null,"",{"$f":"IFERROR(IF(A650=\"\",\"\",VLOOKUP(A650,Funcionários!$A$2:$F$299,5,0)),\"\")","v":""},""]
[null,{"$f":"IFERROR(IF(A651=\"\",\"\",VLOOKUP(A651,Funcionários!$A$2:$F$299,2,0)),\"Funcionário não encontrado\")","v":""},null,null,null,null,null,"",{"$f":"IFERROR(IF(A651=\"\",\"\",VLOOKUP(A651,Funcionários!$A$2:$F$299,5,0)),\"\")","v":""},""]
[null,{"$f":"IFERROR(IF(A652=\"\",\"\",VLOOKUP(A652,Funcionários!$A$2:$F$299,2,0)),\"Funcionário não encontrado\")","v":""},null,null,null,null,null,"",{"$f":"IFERROR(IF(A652=\"\",\"\",VLOOKUP(A652,Funcionários!$A$2:$F$299,5,0)),\"\")","v":""},""]
[null,{"$f":"IFERROR(IF(A653=\"\",\"\",VLOOKUP(A653,Funcionários!$A$2:$F$299,2,0)),\"Funcionário não encontrado\")","v":""},null,null,null,null,null,"",{"$f":"IFERROR(IF(A653=\"\",\"\",VLOOKUP(A653,Funcionários!$A$2:$F$299,5,0)),\"\")","v":""},""]
[null,{"$f":"IFERROR(IF(A654=\"\",\"\",VLOOKUP(A654,Funcionários!$A$2:$F$299,2,0)),\"Funcionário não encontrado\")","v":""},null,null,null,null,null,"",{"$f":"IFERROR(IF(A654=\"\",\"\",VLOOKUP(A654,Funcionários!$A$2:$F$299,5,0)),\"\")","v":""},""]
[null,{"$f":"IFERROR(IF(A655=\"\",\"\",VLOOKUP(A655,Funcionários!$A$2:$F$299,2,0)),\"Funcionário não encontrado\")","v":""},null,null,null,null,null,"",{"$f":"IFERROR(IF(A655=\"\",\"\",VLOOKUP(A655,Funcionários!$A$2:$F$299,5,0)),\"\")","v":""},""]
[null,{"$f":"IFERROR(IF(A656=\"\",\"\",VLOOKUP(A656,Funcionários!$A$2:$F$299,2,0)),\"Funcionário não encontrado\")","v":""},null,null,null,null,null,"",{"$f":"IFERROR(IF(A656=\"\",\"\",VLOOKUP(A656,Funcionários!$A$2:$F$299,5,0)),\"\")","v":""},""]
[null,{"$f":"IFERROR(IF(A657=\"\",\"\",VLOOKUP(A657,Funcionários!$A$2:$F$299,2,0)),\"Funcionário não encontrado\")","v":""},null,null,null,null,null,"",{"$f":"IFERROR(IF(A657=\"\",\"\",VLOOKUP(A657,Funcionários!$A$2:$F$299,5,0)),\"\")","v":""},""]
[null,{"$f":"IFERROR(IF(A658=\"\",\"\",VLOOKUP(A658,Funcionários!$A$2:$F$299,2,0)),\"Funcionário não encontrado\")","v":""},null,null,null,null,null,"",{"$f":"IFERROR(IF(A658=\"\",\"\",VLOOKUP(A658,Funcionários!$A$2:$F$299,5,0)),\"\")","v":""},""]
[null,{"$f":"IFERROR(IF(A659=\"\",\"\",VLOOKUP(A659,Funcionários!$A$2:$F$299,2,0)),\"Funcionário não encontrado\")","v":""},null,null,null,null,null,"",{"$f":"IFERROR(IF(A659=\"\",\"\",VLOOKUP(A659,Funcionários!$A$2:$F$299,5,0)),\"\")","v":""},""]
[null,{"$f":"IFERROR(IF(A660=\"\",\"\",VLOOKUP(A660,Funcionários!$A$2:$F$299,2,0)),\"Funcionário não encontrado\")","v":""},null,null,null,null,null,"",{"$f":"IFERROR(IF(A660=\"\",\"\",VLOOKUP(A660,Funcionários!$A$2:$F$299,5,0)),\"\")","v":""},""]
[null,{"$f":"IFERROR(IF(A661=\"\",\"\",VLOOKUP(A661,Funcionários!$A$2:$F$299,2,0)),\"Funcionário não encontrado\")","v":""},null,null,null,null,null,"",{"$f":"IFERROR(IF(A661=\"\",\"\",VLOOKUP(A661,Funcionários!$A$2:$F$299,5,0)),\"\")","v":""},""]
[null,{"$f":"IFERROR(IF(A662=\"\",\"\",VLOOKUP(A662,Funcionários!$A$2:$F$299,2,0)),\"Funcionário não encontrado\")","v":""},null,null,null,null,null,"",{"$f":"IFERROR(IF(A662=\"\",\"\",VLOOKUP(A662,Funcionários!$A$2:$F$299,5,0)),\"\")","v":""},""]
[null,{"$f":"IFERROR(IF(A663=\"\",\"\",VLOOKUP(A663,Funcionários!$A$2:$F$299,2,0)),\"Funcionário não encontrado\")","v":""},null,null,null,null,null,"",{"$f":"IFERROR(IF(A663=\"\",\"\",VLOOKUP(A663,Funcionários!$A$2:$F$299,5,0)),\"\")","v":""},""]
[null,{"$f":"IFERROR(IF(A664=\"\",\"\",VLOOKUP(A664,Funcionários!$A$2:$F$299,2,0)),\"Funcionário não encontrado\")","v":""},null,null,null,null,null,"",{"$f":"IFERROR(IF(A664=\"\",\"\",VLOOKUP(A664,Funcionários!$A$2:$F$299,5,0)),\"\")","v":""},""]
[null,{"$f":"IFERROR(IF(A665=\"\",\"\",VLOOKUP(A665,Funcionários!$A$2:$F$299,2,0)),\"Funcionário não encontrado\")","v":""},null,null,null,null,null,"",{"$f":"IFERROR(IF(A665=\"\",\"\",VLOOKUP(A665,Funcionários!$A$2:$F$299,5,0)),\"\")","v":""},""]
[null,{"$f":"IFERROR(IF(A666=\"\",\"\",VLOOKUP(A666,Funcionários!$A$2:$F$299,2,0)),\"Funcionário não encontrado\")","v":""},null,null,null,null,null,"",{"$f":"IFERROR(IF(A666=\"\",\"\",VLOOKUP(A666,Funcionários!$A$2:$F$299,5,0)),\"\")","v":""},""]
[null,{"$f":"IFERROR(IF(A667=\"\",\"\",VLOOKUP(A667,Funcionários!$A$2:$F$299,2,0)),\"Funcionário não encontrado\")","v":""},null,null,null,null,null,"",{"$f":"IFERROR(IF(A667=\"\",\"\",VLOOKUP(A667,Funcionários!$A$2:$F$299,5,0)),\"\")","v":""},""]
[null,{"$f":"IFERROR(IF(A668=\"\",\"\",VLOOKUP(A668,Funcionários!$A$2:$F$299,2,0)),\"Funcionário não encontrado\")","v":""},null,null,null,null,null,"",{"$f":"IFERROR(IF(A668=\"\",\"\",VLOOKUP(A668,Funcionários!$A$2:$F$299,5,0)),\"\")","v":""},""]
[null,{"$f":"IFERROR(IF(A669=\"\",\"\",VLOOKUP(A669,Funcionários!$A$2:$F$299,2,0)),\"Funcionário não encontrado\")","v":""},null,null,null,null,null,"",{"$f":"IFERROR(IF(A669=\"\",\"\",VLOOKUP(A669,Funcionários!$A$2:$F$299,5,0)),\"\")","v":""},""]
[null,{"$f":"IFERROR(IF(A670=\"\",\"\",VLOOKUP(A670,Funcionários!$A$2:$F$299,2,0)),\"Funcionário não encontrado\")","v":""},null,null,null,null,null,"",{"$f":"IFERROR(IF(A670=\"\",\"\",VLOOKUP(A670,Funcionários!$A$2:$F$299,5,0)),\"\")","v":""},""]
[null,{"$f":"IFERROR(IF(A671=\"\",\"\",VLOOKUP(A671,Funcionários!$A$2:$F$299,2,0)),\"Funcionário não encontrado\")","v":""},null,null,null,null,null,"",{"$f":"IFERROR(IF(A671=\"\",\"\",VLOOKUP(A671,Funcionários!$A$2:$F$299,5,0)),\"\")","v":""},""]
[null,{"$f":"IFERROR(IF(A672=\"\",\"\",VLOOKUP(A672,Funcionários!$A$2:$F$299,2,0)),\"Funcionário não encontrado\")","v":""},null,null,null,null,null,"",{"$f":"IFERROR(IF(A672=\"\",\"\",VLOOKUP(A672,Funcionários!$A$2:$F$299,5,0)),\"\")","v":""},""]
[null,{"$f":"IFERROR(IF(A673=\"\",\"\",VLOOKUP(A673,Funcionários!$A$2:$F$299,2,0)),\"Funcionário não encontrado\")","v":""},null,null,null,null,null,"",{"$f":"IFERROR(IF(A673=\"\",\"\",VLOOKUP(A673,Funcionários!$A$2:$F$299,5,0)),\"\")","v":""},""]
[null,{"$f":"IFERROR(IF(A674=\"\",\"\",VLOOKUP(A674,Funcionários!$A$2:$F$299,2,0)),\"Funcionário não encontrado\")","v":""},null,null,null,null,null,"",{"$f":"IFERROR(IF(A674=\"\",\"\",VLOOKUP(A674,Funcionários!$A$2:$F$299,5,0)),\"\")","v":""},""]
[null,{"$f":"IFERROR(IF(A675=\"\",\"\",VLOOKUP(A675,Funcionários!$A$2:$F$299,2,0)),\"Funcionário não encontrado\")","v":""},null,null,null,null,null,"",{"$f":"IFERROR(IF(A675=\"\",\"\",VLOOKUP(A675,Funcionários!$A$2:$F$299,5,0)),\"\")","v":""},""]
[null,{"$f":"IFERROR(IF(A676=\"\",\"\",VLOOKUP(A676,Funcionários!$A$2:$F$299,2,0)),\"Funcionário não encontrado\")","v":""},null,null,null,null,null,"",{"$f":"IFERROR(IF(A676=\"\",\"\",VLOOKUP(A676,Funcionários!$A$2:$F$299,5,0)),\"\")","v":""},""]
[null,{"$f":"IFERROR(IF(A677=\"\",\"\",VLOOKUP(A677,Funcionários!$A$2:$F$299,2,0)),\"Funcionário não encontrado\")","v":""},null,null,null,null,null,"",{"$f":"IFERROR(IF(A677=\"\",\"\",VLOOKUP(A677,Funcionários!$A$2:$F$299,5,0)),\"\")","v":""},""]
[null,{"$f":"IFERROR(IF(A678=\"\",\"\",VLOOKUP(A678,Funcionários!$A$2:$F$299,2,0)),\"Funcionário não encontrado\")","v":""},null,null,null,null,null,"",{"$f":"IFERROR(IF(A678=\"\",\"\",VLOOKUP(A678,Funcionários!$A$2:$F$299,5,0)),\"\")","v":""},""]
[null,{"$f":"IFERROR(IF(A679=\"\",\"\",VLOOKUP(A679,Funcionários!$A$2:$F$299,2,0)),\"Funcionário não encontrado\")","v":""},null,null,null,null,null,"",{"$f":"IFERROR(IF(A679=\"\",\"\",VLOOKUP(A679,Funcionários!$A$2:$F$299,5,0)),\"\")","v":""},""]
[null,{"$f":"IFERROR(IF(A680=\"\",\"\",VLOOKUP(A680,Funcionários!$A$2:$F$299,2,0)),\"Funcionário não encontrado\")","v":""},null,null,null,null,null,"",{"$f":"IFERROR(IF(A680=\"\",\"\",VLOOKUP(A680,Funcionários!$A$2:$F$299,5,0)),\"\")","v":""},""]
[null,{"$f":"IFERROR(IF(A681=\"\",\"\",VLOOKUP(A681,Funcionários!$A$2:$F$299,2,0)),\"Funcionário não encontrado\")","v":""},null,null,null,null,null,"",{"$f":"IFERROR(IF(A681=\"\",\"\",VLOOKUP(A681,Funcionários!$A$2:$F$299,5,0)),\"\")","v":""},""]
[null,{"$f":"IFERROR(IF(A682=\"\",\"\",VLOOKUP(A682,Funcionários!$A$2:$F$299,2,0)),\"Funcionário não encontrado\")","v":""},null,null,null,null,null,"",{"$f":"IFERROR(IF(A682=\"\",\"\",VLOOKUP(A682,Funcionários!$A$2:$F$299,5,0)),\"\")","v":""},""]
[null,{"$f":"IFERROR(IF(A683=\"\",\"\",VLOOKUP(A683,Funcionários!$A$2:$F$299,2,0)),\"Funcionário não encontrado\")","v":""},null,null,null,null,null,"",{"$f":"IFERROR(IF(A683=\"\",\"\",VLOOKUP(A683,Funcionários!$A$2:$F$299,5,0)),\"\")","v":""},""]
[null,{"$f":"IFERROR(IF(A684=\"\",\"\",VLOOKUP(A684,Funcionários!$A$2:$F$299,2,0)),\"Funcionário não encontrado\")","v":""},null,null,null,null,null,"",{"$f":"IFERROR(IF(A684=\"\",\"\",VLOOKUP(A684,Funcionários!$A$2:$F$299,5,0)),\"\")","v":""},""]
[null,{"$f":"IFERROR(IF(A685=\"\",\"\",VLOOKUP(A685,Funcionários!$A$2:$F$299,2,0)),\"Funcionário não encontrado\")","v":""},null,null,null,null,null,"",{"$f":"IFERROR(IF(A685=\"\",\"\",VLOOKUP(A685,Funcionários!$A$2:$F$299,5,0)),\"\")","v":""},""]
[null,{"$f":"IFERROR(IF(A686=\"\",\"\",VLOOKUP(A686,Funcionários!$A$2:$F$299,2,0)),\"Funcionário não encontrado\")","v":""},null,null,null,null,null,"",{"$f":"IFERROR(IF(A686=\"\",\"\",VLOOKUP(A686,Funcionários!$A$2:$F$299,5,0)),\"\")","v":""},""]
[null,{"$f":"IFERROR(IF(A687=\"\",\"\",VLOOKUP(A687,Funcionários!$A$2:$F$299,2,0)),\"Funcionário não encontrado\")","v":""},null,null,null,null,null,"",{"$f":"IFERROR(IF(A687=\"\",\"\",VLOOKUP(A687,Funcionários!$A$2:$F$299,5,0)),\"\")","v":""},""]
[null,{"$f":"IFERROR(IF(A688=\"\",\"\",VLOOKUP(A688,Funcionários!$A$2:$F$299,2,0)),\"Funcionário não encontrado\")","v":""},null,null,null,null,null,"",{"$f":"IFERROR(IF(A688=\"\",\"\",VLOOKUP(A688,Funcionários!$A$2:$F$299,5,0)),\"\")","v":""},""]
[null,{"$f":"IFERROR(IF(A689=\"\",\"\",VLOOKUP(A689,Funcionários!$A$2:$F$299,2,0)),\"Funcionário não encontrado\")","v":""},null,null,null,null,null,"",{"$f":"IFERROR(IF(A689=\"\",\"\",VLOOKUP(A689,Funcionários!$A$2:$F$299,5,0)),\"\")","v":""},""]
[null,{"$f":"IFERROR(IF(A690=\"\",\"\",VLOOKUP(A690,Funcionários!$A$2:$F$299,2,0)),\"Funcionário não encontrado\")","v":""},null,null,null,null,null,"",{"$f":"IFERROR(IF(A690=\"\",\"\",VLOOKUP(A690,Funcionários!$A$2:$F$299,5,0)),\"\")","v":""},""]
[null,{"$f":"IFERROR(IF(A691=\"\",\"\",VLOOKUP(A691,Funcionários!$A$2:$F$299,2,0)),\"Funcionário não encontrado\")","v":""},null,null,null,null,null,"",{"$f":"IFERROR(IF(A691=\"\",\"\",VLOOKUP(A691,Funcionários!$A$2:$F$299,5,0)),\"\")","v":""},""]
[null,{"$f":"IFERROR(IF(A692=\"\",\"\",VLOOKUP(A692,Funcionários!$A$2:$F$299,2,0)),\"Funcionário não encontrado\")","v":""},null,null,null,null,null,"",{"$f":"IFERROR(IF(A692=\"\",\"\",VLOOKUP(A692,Funcionários!$A$2:$F$299,5,0)),\"\")","v":""},""]
[null,{"$f":"IFERROR(IF(A693=\"\",\"\",VLOOKUP(A693,Funcionários!$A$2:$F$299,2,0)),\"Funcionário não encontrado\")","v":""},null,null,null,null,null,"",{"$f":"IFERROR(IF(A693=\"\",\"\",VLOOKUP(A693,Funcionários!$A$2:$F$299,5,0)),\"\")","v":""},""]
[null,{"$f":"IFERROR(IF(A694=\"\",\"\",VLOOKUP(A694,Funcionários!$A$2:$F$299,2,0)),\"Funcionário não encontrado\")","v":""},null,null,null,null,null,"",{"$f":"IFERROR(IF(A694=\"\",\"\",VLOOKUP(A694,Funcionários!$A$2:$F$299,5,0)),\"\")","v":""},""]
[null,{"$f":"IFERROR(IF(A695=\"\",\"\",VLOOKUP(A695,Funcionários!$A$2:$F$299,2,0)),\"Funcionário não encontrado\")","v":""},null,null,null,null,null,"",{"$f":"IFERROR(IF(A695=\"\",\"\",VLOOKUP(A695,Funcionários!$A$2:$F$299,5,0)),\"\")","v":""},""]
[null,{"$f":"IFERROR(IF(A696=\"\",\"\",VLOOKUP(A696,Funcionários!$A$2:$F$299,2,0)),\"Funcionário não encontrado\")","v":""},null,null,null,null,null,"",{"$f":"IFERROR(IF(A696=\"\",\"\",VLOOKUP(A696,Funcionários!$A$2:$F$299,5,0)),\"\")","v":""},""]
[null,{"$f":"IFERROR(IF(A697=\"\",\"\",VLOOKUP(A697,Funcionários!$A$2:$F$299,2,0)),\"Funcionário não encontrado\")","v":""},null,null,null,null,null,"",{"$f":"IFERROR(IF(A697=\"\",\"\",VLOOKUP(A697,Funcionários!$A$2:$F$299,5,0)),\"\")","v":""},""]
[null,{"$f":"IFERROR(IF(A698=\"\",\"\",VLOOKUP(A698,Funcionários!$A$2:$F$299,2,0)),\"Funcionário não encontrado\")","v":""},null,null,null,null,null,"",{"$f":"IFERROR(IF(A698=\"\",\"\",VLOOKUP(A698,Funcionários!$A$2:$F$299,5,0)),\"\")","v":""},""]
[null,{"$f":"IFERROR(IF(A699=\"\",\"\",VLOOKUP(A699,Funcionários!$A$2:$F$299,2,0)),\"Funcionário não encontrado\")","v":""},null,null,null,null,null,"",{"$f":"IFERROR(IF(A699=\"\",\"\",VLOOKUP(A699,Funcionários!$A$2:$F$299,5,0)),\"\")","v":""},""]
[null,{"$f":"IFERROR(IF(A700=\"\",\"\",VLOOKUP(A700,Funcionários!$A$2:$F$299,2,0)),\"Funcionário não encontrado\")","v":""},null,null,null,null,null,"",{"$f":"IFERROR(IF(A700=\"\",\"\",VLOOKUP(A700,Funcionários!$A$2:$F$299,5,0)),\"\")","v":""},""]
[null,{"$f":"IFERROR(IF(A701=\"\",\"\",VLOOKUP(A701,Funcionários!$A$2:$F$299,2,0)),\"Funcionário não encontrado\")","v":""},null,null,null,null,null,"",{"$f":"IFERROR(IF(A701=\"\",\"\",VLOOKUP(A701,Funcionários!$A$2:$F$299,5,0)),\"\")","v":""},""]
[null,{"$f":"IFERROR(IF(A702=\"\",\"\",VLOOKUP(A702,Funcionários!$A$2:$F$299,2,0)),\"Funcionário não encontrado\")","v":""},null,null,null,null,null,"",{"$f":"IFERROR(IF(A702=\"\",\"\",VLOOKUP(A702,Funcionários!$A$2:$F$299,5,0)),\"\")","v":""},""]
[null,{"$f":"IFERROR(IF(A703=\"\",\"\",VLOOKUP(A703,Funcionários!$A$2:$F$299,2,0)),\"Funcionário não encontrado\")","v":""},null,null,null,null,null,"",{"$f":"IFERROR(IF(A703=\"\",\"\",VLOOKUP(A703,Funcionários!$A$2:$F$299,5,0)),\"\")","v":""},""]
[null,{"$f":"IFERROR(IF(A704=\"\",\"\",VLOOKUP(A704,Funcionários!$A$2:$F$299,2,0)),\"Funcionário não encontrado\")","v":""},null,null,null,null,null,"",{"$f":"IFERROR(IF(A704=\"\",\"\",VLOOKUP(A704,Funcionários!$A$2:$F$299,5,0)),\"\")","v":""},""]
[null,{"$f":"IFERROR(IF(A705=\"\",\"\",VLOOKUP(A705,Funcionários!$A$2:$F$299,2,0)),\"Funcionário não encontrado\")","v":""},null,null,null,null,null,"",{"$f":"IFERROR(IF(A705=\"\",\"\",VLOOKUP(A705,Funcionários!$A$2:$F$299,5,0)),\"\")","v":""},""]
[null,{"$f":"IFERROR(IF(A706=\"\",\"\",VLOOKUP(A706,Funcionários!$A$2:$F$299,2,0)),\"Funcionário não encontrado\")","v":""},null,null,null,null,null,"",{"$f":"IFERROR(IF(A706=\"\",\"\",VLOOKUP(A706,Funcionários!$A$2:$F$299,5,0)),\"\")","v":""},""]
[null,{"$f":"IFERROR(IF(A707=\"\",\"\",VLOOKUP(A707,Funcionários!$A$2:$F$299,2,0)),\"Funcionário não encontrado\")","v":""},null,null,null,null,null,{"$f":"IF(OR(D707=\"\",E707=\"\",F707=\"\"),\"\",MOD((E707-D707)+(G707-F707),1))","v":""},{"$f":"IFERROR(IF(A707=\"\",\"\",VLOOKUP(A707,Funcionários!$A$2:$F$299,5,0)),\"\")","v":""},{"$f":"IF(H707=\"\",\"\",H707-I707)","v":""}]
[null,{"$f":"IFERROR(IF(A708=\"\",\"\",VLOOKUP(A708,Funcionários!$A$2:$F$299,2,0)),\"Funcionário não encontrado\")","v":""},null,null,null,null,null,"",{"$f":"IFERROR(IF(A708=\"\",\"\",VLOOKUP(A708,Funcionários!$A$2:$F$299,5,0)),\"\")","v":""},""]
[null,{"$f":"IFERROR(IF(A709=\"\",\"\",VLOOKUP(A709,Funcionários!$A$2:$F$299,2,0)),\"Funcionário não encontrado\")","v":""},null,null,null,null,null,"",{"$f":"IFERROR(IF(A709=\"\",\"\",VLOOKUP(A709,Funcionários!$A$2:$F$299,5,0)),\"\")","v":""},""]
[null,{"$f":"IFERROR(IF(A710=\"\",\"\",VLOOKUP(A710,Funcionários!$A$2:$F$299,2,0)),\"Funcionário não encontrado\")","v":""},null,null,null,null,null,"",{"$f":"IFERROR(IF(A710=\"\",\"\",VLOOKUP(A710,Funcionários!$A$2:$F$299,5,0)),\"\")","v":""},""]
[null,{"$f":"IFERROR(IF(A711=\"\",\"\",VLOOKUP(A711,Funcionários!$A$2:$F$299,2,0)),\"Funcionário não encontrado\")","v":""},null,null,null,null,null,"",{"$f":"IFERROR(IF(A711=\"\",\"\",VLOOKUP(A711,Funcionários!$A$2:$F$299,5,0)),\"\")","v":""},""]
[null,{"$f":"IFERROR(IF(A712=\"\",\"\",VLOOKUP(A712,Funcionários!$A$2:$F$299,2,0)),\"Funcionário não encontrado\")","v":""},null,null,null,null,null,"",{"$f":"IFERROR(IF(A712=\"\",\"\",VLOOKUP(A712,Funcionários!$A$2:$F$299,5,0)),\"\")","v":""},""]
[null,{"$f":"IFERROR(IF(A713=\"\",\"\",VLOOKUP(A713,Funcionários!$A$2:$F$299,2,0)),\"Funcionário não encontrado\")","v":""},null,null,null,null,null,"",{"$f":"IFERROR(IF(A713=\"\",\"\",VLOOKUP(A713,Funcionários!$A$2:$F$299,5,0)),\"\")","v":""},""]
[null,{"$f":"IFERROR(IF(A714=\"\",\"\",VLOOKUP(A714,Funcionários!$A$2:$F$299,2,0)),\"Funcionário não encontrado\")","v":""},null,null,null,null,null,"",{"$f":"IFERROR(IF(A714=\"\",\"\",VLOOKUP(A714,Funcionários!$A$2:$F$299,5,0)),\"\")","v":""},""]
[null,{"$f":"IFERROR(IF(A715=\"\",\"\",VLOOKUP(A715,Funcionários!$A$2:$F$299,2,0)),\"Funcionário não encontrado\")","v":""},null,null,null,null,null,"",{"$f":"IFERROR(IF(A715=\"\",\"\",VLOOKUP(A715,Funcionários!$A$2:$F$299,5,0)),\"\")","v":""},""]
[null,{"$f":"IFERROR(IF(A716=\"\",\"\",VLOOKUP(A716,Funcionários!$A$2:$F$299,2,0)),\"Funcionário não encontrado\")","v":""},null,null,null,null,null,"",{"$f":"IFERROR(IF(A716=\"\",\"\",VLOOKUP(A716,Funcionários!$A$2:$F$299,5,0)),\"\")","v":""},""]
[null,{"$f":"IFERROR(IF(A717=\"\",\"\",VLOOKUP(A717,Funcionários!$A$2:$F$299,2,0)),\"Funcionário não encontrado\")","v":""},null,null,null,null,null,"",{"$f":"IFERROR(IF(A717=\"\",\"\",VLOOKUP(A717,Funcionários!$A$2:$F$299,5,0)),\"\")","v":""},""]
[null,{"$f":"IFERROR(IF(A718=\"\",\"\",VLOOKUP(A718,Funcionários!$A$2:$F$299,2,0)),\"Funcionário não encontrado\")","v":""},null,null,null,null,null,"",{"$f":"IFERROR(IF(A718=\"\",\"\",VLOOKUP(A718,Funcionários!$A$2:$F$299,5,0)),\"\")","v":""},""]
[null,{"$f":"IFERROR(IF(A719=\"\",\"\",VLOOKUP(A719,Funcionários!$A$2:$F$299,2,0)),\"Funcionário não encontrado\")","v":""},null,null,null,null,null,"",{"$f":"IFERROR(IF(A719=\"\",\"\",VLOOKUP(A719,Funcionários!$A$2:$F$299,5,0)),\"\")","v":""},""]
[null,{"$f":"IFERROR(IF(A720=\"\",\"\",VLOOKUP(A720,Funcionários!$A$2:$F$299,2,0)),\"Funcionário não encontrado\")","v":""},null,null,null,null,null,"",{"$f":"IFERROR(IF(A720=\"\",\"\",VLOOKUP(A720,Funcionários!$A$2:$F$299,5,0)),\"\")","v":""},""]
[null,{"$f":"IFERROR(IF(A721=\"\",\"\",VLOOKUP(A721,Funcionários!$A$2:$F$299,2,0)),\"Funcionário não encontrado\")","v":""},null,null,null,null,null,"",{"$f":"IFERROR(IF(A721=\"\",\"\",VLOOKUP(A721,Funcionários!$A$2:$F$299,5,0)),\"\")","v":""},""]
[null,{"$f":"IFERROR(IF(A722=\"\",\"\",VLOOKUP(A722,Funcionários!$A$2:$F$299,2,0)),\"Funcionário não encontrado\")","v":""},null,null,null,null,null,"",{"$f":"IFERROR(IF(A722=\"\",\"\",VLOOKUP(A722,Funcionários!$A$2:$F$299,5,0)),\"\")","v":""},""]
[null,{"$f":"IFERROR(IF(A723=\"\",\"\",VLOOKUP(A723,Funcionários!$A$2:$F$299,2,0)),\"Funcionário não encontrado\")","v":""},null,null,null,null,null,"",{"$f":"IFERROR(IF(A723=\"\",\"\",VLOOKUP(A723,Funcionários!$A$2:$F$299,5,0)),\"\")","v":""},""]
[null,{"$f":"IFERROR(IF(A724=\"\",\"\",VLOOKUP(A724,Funcionários!$A$2:$F$299,2,0)),\"Funcionário não encontrado\")","v":""},null,null,null,null,null,"",{"$f":"IFERROR(IF(A724=\"\",\"\",VLOOKUP(A724,Funcionários!$A$2:$F$299,5,0)),\"\")","v":""},""]
[null,{"$f":"IFERROR(IF(A725=\"\",\"\",VLOOKUP(A725,Funcionários!$A$2:$F$299,2,0)),\"Funcionário não encontrado\")","v":""},null,null,null,null,null,"",{"$f":"IFERROR(IF(A725=\"\",\"\",VLOOKUP(A725,Funcionários!$A$2:$F$299,5,0)),\"\")","v":""},""]
[null,{"$f":"IFERROR(IF(A726=\"\",\"\",VLOOKUP(A726,Funcionários!$A$2:$F$299,2,0)),\"Funcionário não encontrado\")","v":""},null,null,null,null,null,"",{"$f":"IFERROR(IF(A726=\"\",\"\",VLOOKUP(A726,Funcionários!$A$2:$F$299,5,0)),\"\")","v":""},""]
[null,{"$f":"IFERROR(IF(A727=\"\",\"\",VLOOKUP(A727,Funcionários!$A$2:$F$299,2,0)),\"Funcionário não encontrado\")","v":""},null,null,null,null,null,"",{"$f":"IFERROR(IF(A727=\"\",\"\",VLOOKUP(A727,Funcionários!$A$2:$F$299,5,0)),\"\")","v":""},""]
[null,{"$f":"IFERROR(IF(A728=\"\",\"\",VLOOKUP(A728,Funcionários!$A$2:$F$299,2,0)),\"Funcionário não encontrado\")","v":""},null,null,null,null,null,"",{"$f":"IFERROR(IF(A728=\"\",\"\",VLOOKUP(A728,Funcionários!$A$2:$F$299,5,0)),\"\")","v":""},""]
[null,{"$f":"IFERROR(IF(A729=\"\",\"\",VLOOKUP(A729,Funcionários!$A$2:$F$299,2,0)),\"Funcionário não encontrado\")","v":""},null,null,null,null,null,"",{"$f":"IFERROR(IF(A729=\"\",\"\",VLOOKUP(A729,Funcionários!$A$2:$F$299,5,0)),\"\")","v":""},""]
[null,{"$f":"IFERROR(IF(A730=\"\",\"\",VLOOKUP(A730,Funcionários!$A$2:$F$299,2,0)),\"Funcionário não encontrado\")","v":""},null,null,null,null,null,"",{"$f":"IFERROR(IF(A730=\"\",\"\",VLOOKUP(A730,Funcionários!$A$2:$F$299,5,0)),\"\")","v":""},""]
[null,{"$f":"IFERROR(IF(A731=\"\",\"\",VLOOKUP(A731,Funcionários!$A$2:$F$299,2,0)),\"Funcionário não encontrado\")","v":""},null,null,null,null,null,"",{"$f":"IFERROR(IF(A731=\"\",\"\",VLOOKUP(A731,Funcionários!$A$2:$F$299,5,0)),\"\")","v":""},""]
[null,{"$f":"IFERROR(IF(A732=\"\",\"\",VLOOKUP(A732,Funcionários!$A$2:$F$299,2,0)),\"Funcionário não encontrado\")","v":""},null,null,null,null,null,"",{"$f":"IFERROR(IF(A732=\"\",\"\",VLOOKUP(A732,Funcionários!$A$2:$F$299,5,0)),\"\")","v":""},""]
[null,{"$f":"IFERROR(IF(A733=\"\",\"\",VLOOKUP(A733,Funcionários!$A$2:$F$299,2,0)),\"Funcionário não encontrado\")","v":""},null,null,null,null,null,"",{"$f":"IFERROR(IF(A733=\"\",\"\",VLOOKUP(A733,Funcionários!$A$2:$F$299,5,0)),\"\")","v":""},""]
[null,{"$f":"IFERROR(IF(A734=\"\",\"\",VLOOKUP(A734,Funcionários!$A$2:$F$299,2,0)),\"Funcionário não encontrado\")","v":""},null,null,null,null,null,"",{"$f":"IFERROR(IF(A734=\"\",\"\",VLOOKUP(A734,Funcionários!$A$2:$F$299,5,0)),\"\")","v":""},""]
[null,{"$f":"IFERROR(IF(A735=\"\",\"\",VLOOKUP(A735,Funcionários!$A$2:$F$299,2,0)),\"Funcionário não encontrado\")","v":""},null,null,null,null,null,"",{"$f":"IFERROR(IF(A735=\"\",\"\",VLOOKUP(A735,Funcionários!$A$2:$F$299,5,0)),\"\")","v":""},""]
[null,{"$f":"IFERROR(IF(A736=\"\",\"\",VLOOKUP(A736,Funcionários!$A$2:$F$299,2,0)),\"Funcionário não encontrado\")","v":""},null,null,null,null,null,"",{"$f":"IFERROR(IF(A736=\"\",\"\",VLOOKUP(A736,Funcionários!$A$2:$F$299,5,0)),\"\")","v":""},""]
[null,{"$f":"IFERROR(IF(A737=\"\",\"\",VLOOKUP(A737,Funcionários!$A$2:$F$299,2,0)),\"Funcionário não encontrado\")","v":""},null,null,null,null,null,"",{"$f":"IFERROR(IF(A737=\"\",\"\",VLOOKUP(A737,Funcionários!$A$2:$F$299,5,0)),\"\")","v":""},""]
[null,{"$f":"IFERROR(IF(A738=\"\",\"\",VLOOKUP(A738,Funcionários!$A$2:$F$299,2,0)),\"Funcionário não encontrado\")","v":""},null,null,null,null,null,"",{"$f":"IFERROR(IF(A738=\"\",\"\",VLOOKUP(A738,Funcionários!$A$2:$F$299,5,0)),\"\")","v":""},""]
[null,{"$f":"IFERROR(IF(A739=\"\",\"\",VLOOKUP(A739,Funcionários!$A$2:$F$299,2,0)),\"Funcionário não encontrado\")","v":""},null,null,null,null,null,"",{"$f":"IFERROR(IF(A739=\"\",\"\",VLOOKUP(A739,Funcionários!$A$2:$F$299,5,0)),\"\")","v":""},""]
[null,{"$f":"IFERROR(IF(A740=\"\",\"\",VLOOKUP(A740,Funcionários!$A$2:$F$299,2,0)),\"Funcionário não encontrado\")","v":""},null,null,null,null,null,"",{"$f":"IFERROR(IF(A740=\"\",\"\",VLOOKUP(A740,Funcionários!$A$2:$F$299,5,0)),\"\")","v":""},""]
[null,{"$f":"IFERROR(IF(A741=\"\",\"\",VLOOKUP(A741,Funcionários!$A$2:$F$299,2,0)),\"Funcionário não encontrado\")","v":""},null,null,null,null,null,"",{"$f":"IFERROR(IF(A741=\"\",\"\",VLOOKUP(A741,Funcionários!$A$2:$F$299,5,0)),\"\")","v":""},""]
[null,{"$f":"IFERROR(IF(A742=\"\",\"\",VLOOKUP(A742,Funcionários!$A$2:$F$299,2,0)),\"Funcionário não encontrado\")","v":""},null,null,null,null,null,"",{"$f":"IFERROR(IF(A742=\"\",\"\",VLOOKUP(A742,Funcionários!$A$2:$F$299,5,0)),\"\")","v":""},""]
[null,{"$f":"IFERROR(IF(A743=\"\",\"\",VLOOKUP(A743,Funcionários!$A$2:$F$299,2,0)),\"Funcionário não encontrado\")","v":""},null,null,null,null,null,"",{"$f":"IFERROR(IF(A743=\"\",\"\",VLOOKUP(A743,Funcionários!$A$2:$F$299,5,0)),\"\")","v":""},""]
[null,{"$f":"IFERROR(IF(A744=\"\",\"\",VLOOKUP(A744,Funcionários!$A$2:$F$299,2,0)),\"Funcionário não encontrado\")","v":""},null,null,null,null,null,"",{"$f":"IFERROR(IF(A744=\"\",\"\",VLOOKUP(A744,Funcionários!$A$2:$F$299,5,0)),\"\")","v":""},""]
[null,{"$f":"IFERROR(IF(A745=\"\",\"\",VLOOKUP(A745,Funcionários!$A$2:$F$299,2,0)),\"Funcionário não encontrado\")","v":""},null,null,null,null,null,"",{"$f":"IFERROR(IF(A745=\"\",\"\",VLOOKUP(A745,Funcionários!$A$2:$F$299,5,0)),\"\")","v":""},""]
[null,{"$f":"IFERROR(IF(A746=\"\",\"\",VLOOKUP(A746,Funcionários!$A$2:$F$299,2,0)),\"Funcionário não encontrado\")","v":""},null,null,null,null,null,"",{"$f":"IFERROR(IF(A746=\"\",\"\",VLOOKUP(A746,Funcionários!$A$2:$F$299,5,0)),\"\")","v":""},""]
[null,{"$f":"IFERROR(IF(A747=\"\",\"\",VLOOKUP(A747,Funcionários!$A$2:$F$299,2,0)),\"Funcionário não encontrado\")","v":""},null,null,null,null,null,"",{"$f":"IFERROR(IF(A747=\"\",\"\",VLOOKUP(A747,Funcionários!$A$2:$F$299,5,0)),\"\")","v":""},""]
[null,{"$f":"IFERROR(IF(A748=\"\",\"\",VLOOKUP(A748,Funcionários!$A$2:$F$299,2,0)),\"Funcionário não encontrado\")","v":""},null,null,null,null,null,"",{"$f":"IFERROR(IF(A748=\"\",\"\",VLOOKUP(A748,Funcionários!$A$2:$F$299,5,0)),\"\")","v":""},""]
[null,{"$f":"IFERROR(IF(A749=\"\",\"\",VLOOKUP(A749,Funcionários!$A$2:$F$299,2,0)),\"Funcionário não encontrado\")","v":""},null,null,null,null,null,"",{"$f":"IFERROR(IF(A749=\"\",\"\",VLOOKUP(A749,Funcionários!$A$2:$F$299,5,0)),\"\")","v":""},""]
[null,{"$f":"IFERROR(IF(A750=\"\",\"\",VLOOKUP(A750,Funcionários!$A$2:$F$299,2,0)),\"Funcionário não encontrado\")","v":""},null,null,null,null,null,"",{"$f":"IFERROR(IF(A750=\"\",\"\",VLOOKUP(A750,Funcionários!$A$2:$F$299,5,0)),\"\")","v":""},""]
[null,{"$f":"IFERROR(IF(A751=\"\",\"\",VLOOKUP(A751,Funcionários!$A$2:$F$299,2,0)),\"Funcionário não encontrado\")","v":""},null,null,null,null,null,"",{"$f":"IFERROR(IF(A751=\"\",\"\",VLOOKUP(A751,Funcionários!$A$2:$F$299,5,0)),\"\")","v":""},""]
[null,{"$f":"IFERROR(IF(A752=\"\",\"\",VLOOKUP(A752,Funcionários!$A$2:$F$299,2,0)),\"Funcionário não encontrado\")","v":""},null,null,null,null,null,"",{"$f":"IFERROR(IF(A752=\"\",\"\",VLOOKUP(A752,Funcionários!$A$2:$F$299,5,0)),\"\")","v":""},""]
[null,{"$f":"IFERROR(IF(A753=\"\",\"\",VLOOKUP(A753,Funcionários!$A$2:$F$299,2,0)),\"Funcionário não encontrado\")","v":""},null,null,null,null,null,"",{"$f":"IFERROR(IF(A753=\"\",\"\",VLOOKUP(A753,Funcionários!$A$2:$F$299,5,0)),\"\")","v":""},""]
[null,{"$f":"IFERROR(IF(A754=\"\",\"\",VLOOKUP(A754,Funcionários!$A$2:$F$299,2,0)),\"Funcionário não encontrado\")","v":""},null,null,null,null,null,"",{"$f":"IFERROR(IF(A754=\"\",\"\",VLOOKUP(A754,Funcionários!$A$2:$F$299,5,0)),\"\")","v":""},""]
[null,{"$f":"IFERROR(IF(A755=\"\",\"\",VLOOKUP(A755,Funcionários!$A$2:$F$299,2,0)),\"Funcionário não encontrado\")","v":""},null,null,null,null,null,"",{"$f":"IFERROR(IF(A755=\"\",\"\",VLOOKUP(A755,Funcionários!$A$2:$F$299,5,0)),\"\")","v":""},""]
[null,{"$f":"IFERROR(IF(A756=\"\",\"\",VLOOKUP(A756,Funcionários!$A$2:$F$299,2,0)),\"Funcionário não encontrado\")","v":""},null,null,null,null,null,"",{"$f":"IFERROR(IF(A756=\"\",\"\",VLOOKUP(A756,Funcionários!$A$2:$F$299,5,0)),\"\")","v":""},""]
[null,{"$f":"IFERROR(IF(A757=\"\",\"\",VLOOKUP(A757,Funcionários!$A$2:$F$299,2,0)),\"Funcionário não encontrado\")","v":""},null,null,null,null,null,"",{"$f":"IFERROR(IF(A757=\"\",\"\",VLOOKUP(A757,Funcionários!$A$2:$F$299,5,0)),\"\")","v":""},""]
[null,{"$f":"IFERROR(IF(A758=\"\",\"\",VLOOKUP(A758,Funcionários!$A$2:$F$299,2,0)),\"Funcionário não encontrado\")","v":""},null,null,null,null,null,"",{"$f":"IFERROR(IF(A758=\"\",\"\",VLOOKUP(A758,Funcionários!$A$2:$F$299,5,0)),\"\")","v":""},""]
[null,{"$f":"IFERROR(IF(A759=\"\",\"\",VLOOKUP(A759,Funcionários!$A$2:$F$299,2,0)),\"Funcionário não encontrado\")","v":""},null,null,null,null,null,"",{"$f":"IFERROR(IF(A759=\"\",\"\",VLOOKUP(A759,Funcionários!$A$2:$F$299,5,0)),\"\")","v":""},""]
[null,{"$f":"IFERROR(IF(A760=\"\",\"\",VLOOKUP(A760,Funcionários!$A$2:$F$299,2,0)),\"Funcionário não encontrado\")","v":""},null,null,null,null,null,"",{"$f":"IFERROR(IF(A760=\"\",\"\",VLOOKUP(A760,Funcionários!$A$2:$F$299,5,0)),\"\")","v":""},""]
[null,{"$f":"IFERROR(IF(A761=\"\",\"\",VLOOKUP(A761,Funcionários!$A$2:$F$299,2,0)),\"Funcionário não encontrado\")","v":""},null,null,null,null,null,"",{"$f":"IFERROR(IF(A761=\"\",\"\",VLOOKUP(A761,Funcionários!$A$2:$F$299,5,0)),\"\")","v":""},""]
[null,{"$f":"IFERROR(IF(A762=\"\",\"\",VLOOKUP(A762,Funcionários!$A$2:$F$299,2,0)),\"Funcionário não encontrado\")","v":""},null,null,null,null,null,"",{"$f":"IFERROR(IF(A762=\"\",\"\",VLOOKUP(A762,Funcionários!$A$2:$F$299,5,0)),\"\")","v":""},""]
[null,{"$f":"IFERROR(IF(A763=\"\",\"\",VLOOKUP(A763,Funcionários!$A$2:$F$299,2,0)),\"Funcionário não encontrado\")","v":""},null,null,null,null,null,"",{"$f":"IFERROR(IF(A763=\"\",\"\",VLOOKUP(A763,Funcionários!$A$2:$F$299,5,0)),\"\")","v":""},""]
[null,{"$f":"IFERROR(IF(A764=\"\",\"\",VLOOKUP(A764,Funcionários!$A$2:$F$299,2,0)),\"Funcionário não encontrado\")","v":""},null,null,null,null,null,"",{"$f":"IFERROR(IF(A764=\"\",\"\",VLOOKUP(A764,Funcionários!$A$2:$F$299,5,0)),\"\")","v":""},""]
[null,{"$f":"IFERROR(IF(A765=\"\",\"\",VLOOKUP(A765,Funcionários!$A$2:$F$299,2,0)),\"Funcionário não encontrado\")","v":""},null,null,null,null,null,"",{"$f":"IFERROR(IF(A765=\"\",\"\",VLOOKUP(A765,Funcionários!$A$2:$F$299,5,0)),\"\")","v":""},""]
[null,{"$f":"IFERROR(IF(A766=\"\",\"\",VLOOKUP(A766,Funcionários!$A$2:$F$299,2,0)),\"Funcionário não encontrado\")","v":""},null,null,null,null,null,"",{"$f":"IFERROR(IF(A766=\"\",\"\",VLOOKUP(A766,Funcionários!$A$2:$F$299,5,0)),\"\")","v":""},""]
[null,{"$f":"IFERROR(IF(A767=\"\",\"\",VLOOKUP(A767,Funcionários!$A$2:$F$299,2,0)),\"Funcionário não encontrado\")","v":""},null,null,null,null,null,"",{"$f":"IFERROR(IF(A767=\"\",\"\",VLOOKUP(A767,Funcionários!$A$2:$F$299,5,0)),\"\")","v":""},""]
[null,{"$f":"IFERROR(IF(A768=\"\",\"\",VLOOKUP(A768,Funcionários!$A$2:$F$299,2,0)),\"Funcionário não encontrado\")","v":""},null,null,null,null,null,"",{"$f":"IFERROR(IF(A768=\"\",\"\",VLOOKUP(A768,Funcionários!$A$2:$F$299,5,0)),\"\")","v":""},""]
[null,{"$f":"IFERROR(IF(A769=\"\",\"\",VLOOKUP(A769,Funcionários!$A$2:$F$299,2,0)),\"Funcionário não encontrado\")","v":""},null,null,null,null,null,"",{"$f":"IFERROR(IF(A769=\"\",\"\",VLOOKUP(A769,Funcionários!$A$2:$F$299,5,0)),\"\")","v":""},""]
[null,{"$f":"IFERROR(IF(A770=\"\",\"\",VLOOKUP(A770,Funcionários!$A$2:$F$299,2,0)),\"Funcionário não encontrado\")","v":""},null,null,null,null,null,"",{"$f":"IFERROR(IF(A770=\"\",\"\",VLOOKUP(A770,Funcionários!$A$2:$F$299,5,0)),\"\")","v":""},""]
[null,{"$f":"IFERROR(IF(A771=\"\",\"\",VLOOKUP(A771,Funcionários!$A$2:$F$299,2,0)),\"Funcionário não encontrado\")","v":""},null,null,null,null,null,{"$f":"IF(OR(D771=\"\",E771=\"\",F771=\"\"),\"\",MOD((E771-D771)+(G771-F771),1))","v":""},{"$f":"IFERROR(IF(A771=\"\",\"\",VLOOKUP(A771,Funcionários!$A$2:$F$299,5,0)),\"\")","v":""},{"$f":"IF(H771=\"\",\"\",H771-I771)","v":""}]
[null,{"$f":"IFERROR(IF(A772=\"\",\"\",VLOOKUP(A772,Funcionários!$A$2:$F$299,2,0)),\"Funcionário não encontrado\")","v":""},null,null,null,null,null,"",{"$f":"IFERROR(IF(A772=\"\",\"\",VLOOKUP(A772,Funcionários!$A$2:$F$299,5,0)),\"\")","v":""},""]
[null,{"$f":"IFERROR(IF(A773=\"\",\"\",VLOOKUP(A773,Funcionários!$A$2:$F$299,2,0)),\"Funcionário não encontrado\")","v":""},null,null,null,null,null,"",{"$f":"IFERROR(IF(A773=\"\",\"\",VLOOKUP(A773,Funcionários!$A$2:$F$299,5,0)),\"\")","v":""},""]
[null,{"$f":"IFERROR(IF(A774=\"\",\"\",VLOOKUP(A774,Funcionários!$A$2:$F$299,2,0)),\"Funcionário não encontrado\")","v":""},null,null,null,null,null,"",{"$f":"IFERROR(IF(A774=\"\",\"\",VLOOKUP(A774,Funcionários!$A$2:$F$299,5,0)),\"\")","v":""},""]
[null,{"$f":"IFERROR(IF(A775=\"\",\"\",VLOOKUP(A775,Funcionários!$A$2:$F$299,2,0)),\"Funcionário não encontrado\")","v":""},null,null,null,null,null,"",{"$f":"IFERROR(IF(A775=\"\",\"\",VLOOKUP(A775,Funcionários!$A$2:$F$299,5,0)),\"\")","v":""},""]
[null,{"$f":"IFERROR(IF(A776=\"\",\"\",VLOOKUP(A776,Funcionários!$A$2:$F$299,2,0)),\"Funcionário não encontrado\")","v":""},null,null,null,null,null,"",{"$f":"IFERROR(IF(A776=\"\",\"\",VLOOKUP(A776,Funcionários!$A$2:$F$299,5,0)),\"\")","v":""},""]
[null,{"$f":"IFERROR(IF(A777=\"\",\"\",VLOOKUP(A777,Funcionários!$A$2:$F$299,2,0)),\"Funcionário não encontrado\")","v":""},null,null,null,null,null,"",{"$f":"IFERROR(IF(A777=\"\",\"\",VLOOKUP(A777,Funcionários!$A$2:$F$299,5,0)),\"\")","v":""},""]
[null,{"$f":"IFERROR(IF(A778=\"\",\"\",VLOOKUP(A778,Funcionários!$A$2:$F$299,2,0)),\"Funcionário não encontrado\")","v":""},null,null,null,null,null,"",{"$f":"IFERROR(IF(A778=\"\",\"\",VLOOKUP(A778,Funcionários!$A$2:$F$299,5,0)),\"\")","v":""},""]
[null,{"$f":"IFERROR(IF(A779=\"\",\"\",VLOOKUP(A779,Funcionários!$A$2:$F$299,2,0)),\"Funcionário não encontrado\")","v":""},null,null,null,null,null,"",{"$f":"IFERROR(IF(A779=\"\",\"\",VLOOKUP(A779,Funcionários!$A$2:$F$299,5,0)),\"\")","v":""},""]
[null,{"$f":"IFERROR(IF(A780=\"\",\"\",VLOOKUP(A780,Funcionários!$A$2:$F$299,2,0)),\"Funcionário não encontrado\")","v":""},null,null,null,null,null,"",{"$f":"IFERROR(IF(A780=\"\",\"\",VLOOKUP(A780,Funcionários!$A$2:$F$299,5,0)),\"\")","v":""},""]
[null,{"$f":"IFERROR(IF(A781=\"\",\"\",VLOOKUP(A781,Funcionários!$A$2:$F$299,2,0)),\"Funcionário não encontrado\")","v":""},null,null,null,null,null,"",{"$f":"IFERROR(IF(A781=\"\",\"\",VLOOKUP(A781,Funcionários!$A$2:$F$299,5,0)),\"\")","v":""},""]
[null,{"$f":"IFERROR(IF(A782=\"\",\"\",VLOOKUP(A782,Funcionários!$A$2:$F$299,2,0)),\"Funcionário não encontrado\")","v":""},null,null,null,null,null,"",{"$f":"IFERROR(IF(A782=\"\",\"\",VLOOKUP(A782,Funcionários!$A$2:$F$299,5,0)),\"\")","v":""},""]
[null,{"$f":"IFERROR(IF(A783=\"\",\"\",VLOOKUP(A783,Funcionários!$A$2:$F$299,2,0)),\"Funcionário não encontrado\")","v":""},null,null,null,null,null,"",{"$f":"IFERROR(IF(A783=\"\",\"\",VLOOKUP(A783,Funcionários!$A$2:$F$299,5,0)),\"\")","v":""},""]
[null,{"$f":"IFERROR(IF(A784=\"\",\"\",VLOOKUP(A784,Funcionários!$A$2:$F$299,2,0)),\"Funcionário não encontrado\")","v":""},null,null,null,null,null,"",{"$f":"IFERROR(IF(A784=\"\",\"\",VLOOKUP(A784,Funcionários!$A$2:$F$299,5,0)),\"\")","v":""},""]
[null,{"$f":"IFERROR(IF(A785=\"\",\"\",VLOOKUP(A785,Funcionários!$A$2:$F$299,2,0)),\"Funcionário não encontrado\")","v":""},null,null,null,null,null,"",{"$f":"IFERROR(IF(A785=\"\",\"\",VLOOKUP(A785,Funcionários!$A$2:$F$299,5,0)),\"\")","v":""},""]
[null,{"$f":"IFERROR(IF(A786=\"\",\"\",VLOOKUP(A786,Funcionários!$A$2:$F$299,2,0)),\"Funcionário não encontrado\")","v":""},null,null,null,null,null,"",{"$f":"IFERROR(IF(A786=\"\",\"\",VLOOKUP(A786,Funcionários!$A$2:$F$299,5,0)),\"\")","v":""},""]
[null,{"$f":"IFERROR(IF(A787=\"\",\"\",VLOOKUP(A787,Funcionários!$A$2:$F$299,2,0)),\"Funcionário não encontrado\")","v":""},null,null,null,null,null,"",{"$f":"IFERROR(IF(A787=\"\",\"\",VLOOKUP(A787,Funcionários!$A$2:$F$299,5,0)),\"\")","v":""},""]
[null,{"$f":"IFERROR(IF(A788=\"\",\"\",VLOOKUP(A788,Funcionários!$A$2:$F$299,2,0)),\"Funcionário não encontrado\")","v":""},null,null,null,null,null,"",{"$f":"IFERROR(IF(A788=\"\",\"\",VLOOKUP(A788,Funcionários!$A$2:$F$299,5,0)),\"\")","v":""},""]
[null,{"$f":"IFERROR(IF(A789=\"\",\"\",VLOOKUP(A789,Funcionários!$A$2:$F$299,2,0)),\"Funcionário não encontrado\")","v":""},null,null,null,null,null,"",{"$f":"IFERROR(IF(A789=\"\",\"\",VLOOKUP(A789,Funcionários!$A$2:$F$299,5,0)),\"\")","v":""},""]
[null,{"$f":"IFERROR(IF(A790=\"\",\"\",VLOOKUP(A790,Funcionários!$A$2:$F$299,2,0)),\"Funcionário não encontrado\")","v":""},null,null,null,null,null,"",{"$f":"IFERROR(IF(A790=\"\",\"\",VLOOKUP(A790,Funcionários!$A$2:$F$299,5,0)),\"\")","v":""},""]
[null,{"$f":"IFERROR(IF(A791=\"\",\"\",VLOOKUP(A791,Funcionários!$A$2:$F$299,2,0)),\"Funcionário não encontrado\")","v":""},null,null,null,null,null,"",{"$f":"IFERROR(IF(A791=\"\",\"\",VLOOKUP(A791,Funcionários!$A$2:$F$299,5,0)),\"\")","v":""},""]
[null,{"$f":"IFERROR(IF(A792=\"\",\"\",VLOOKUP(A792,Funcionários!$A$2:$F$299,2,0)),\"Funcionário não encontrado\")","v":""},null,null,null,null,null,"",{"$f":"IFERROR(IF(A792=\"\",\"\",VLOOKUP(A792,Funcionários!$A$2:$F$299,5,0)),\"\")","v":""},""]
[null,{"$f":"IFERROR(IF(A793=\"\",\"\",VLOOKUP(A793,Funcionários!$A$2:$F$299,2,0)),\"Funcionário não encontrado\")","v":""},null,null,null,null,null,"",{"$f":"IFERROR(IF(A793=\"\",\"\",VLOOKUP(A793,Funcionários!$A$2:$F$299,5,0)),\"\")","v":""},""]
[null,{"$f":"IFERROR(IF(A794=\"\",\"\",VLOOKUP(A794,Funcionários!$A$2:$F$299,2,0)),\"Funcionário não encontrado\")","v":""},null,null,null,null,null,"",{"$f":"IFERROR(IF(A794=\"\",\"\",VLOOKUP(A794,Funcionários!$A$2:$F$299,5,0)),\"\")","v":""},""]
[null,{"$f":"IFERROR(IF(A795=\"\",\"\",VLOOKUP(A795,Funcionários!$A$2:$F$299,2,0)),\"Funcionário não encontrado\")","v":""},null,null,null,null,null,"",{"$f":"IFERROR(IF(A795=\"\",\"\",VLOOKUP(A795,Funcionários!$A$2:$F$299,5,0)),\"\")","v":""},""]
[null,{"$f":"IFERROR(IF(A796=\"\",\"\",VLOOKUP(A796,Funcionários!$A$2:$F$299,2,0)),\"Funcionário não encontrado\")","v":""},null,null,null,null,null,"",{"$f":"IFERROR(IF(A796=\"\",\"\",VLOOKUP(A796,Funcionários!$A$2:$F$299,5,0)),\"\")","v":""},""]
[null,{"$f":"IFERROR(IF(A797=\"\",\"\",VLOOKUP(A797,Funcionários!$A$2:$F$299,2,0)),\"Funcionário não encontrado\")","v":""},null,null,null,null,null,"",{"$f":"IFERROR(IF(A797=\"\",\"\",VLOOKUP(A797,Funcionários!$A$2:$F$299,5,0)),\"\")","v":""},""]
[null,{"$f":"IFERROR(IF(A798=\"\",\"\",VLOOKUP(A798,Funcionários!$A$2:$F$299,2,0)),\"Funcionário não encontrado\")","v":""},null,null,null,null,null,"",{"$f":"IFERROR(IF(A798=\"\",\"\",VLOOKUP(A798,Funcionários!$A$2:$F$299,5,0)),\"\")","v":""},""]
[null,{"$f":"IFERROR(IF(A799=\"\",\"\",VLOOKUP(A799,Funcionários!$A$2:$F$299,2,0)),\"Funcionário não encontrado\")","v":""},null,null,null,null,null,"",{"$f":"IFERROR(IF(A799=\"\",\"\",VLOOKUP(A799,Funcionários!$A$2:$F$299,5,0)),\"\")","v":""},""]
[null,{"$f":"IFERROR(IF(A800=\"\",\"\",VLOOKUP(A800,Funcionários!$A$2:$F$299,2,0)),\"Funcionário não encontrado\")","v":""},null,null,null,null,null,"",{"$f":"IFERROR(IF(A800=\"\",\"\",VLOOKUP(A800,Funcionários!$A$2:$F$299,5,0)),\"\")","v":""},""]
[null,{"$f":"IFERROR(IF(A801=\"\",\"\",VLOOKUP(A801,Funcionários!$A$2:$F$299,2,0)),\"Funcionário não encontrado\")","v":""},null,null,null,null,null,"",{"$f":"IFERROR(IF(A801=\"\",\"\",VLOOKUP(A801,Funcionários!$A$2:$F$299,5,0)),\"\")","v":""},""]
[null,{"$f":"IFERROR(IF(A802=\"\",\"\",VLOOKUP(A802,Funcionários!$A$2:$F$299,2,0)),\"Funcionário não encontrado\")","v":""},null,null,null,null,null,"",{"$f":"IFERROR(IF(A802=\"\",\"\",VLOOKUP(A802,Funcionários!$A$2:$F$299,5,0)),\"\")","v":""},""]
[null,{"$f":"IFERROR(IF(A803=\"\",\"\",VLOOKUP(A803,Funcionários!$A$2:$F$299,2,0)),\"Funcionário não encontrado\")","v":""},null,null,null,null,null,"",{"$f":"IFERROR(IF(A803=\"\",\"\",VLOOKUP(A803,Funcionários!$A$2:$F$299,5,0)),\"\")","v":""},""]
[null,{"$f":"IFERROR(IF(A804=\"\",\"\",VLOOKUP(A804,Funcionários!$A$2:$F$299,2,0)),\"Funcionário não encontrado\")","v":""},null,null,null,null,null,"",{"$f":"IFERROR(IF(A804=\"\",\"\",VLOOKUP(A804,Funcionários!$A$2:$F$299,5,0)),\"\")","v":""},""]
[null,{"$f":"IFERROR(IF(A805=\"\",\"\",VLOOKUP(A805,Funcionários!$A$2:$F$299,2,0)),\"Funcionário não encontrado\")","v":""},null,null,null,null,null,"",{"$f":"IFERROR(IF(A805=\"\",\"\",VLOOKUP(A805,Funcionários!$A$2:$F$299,5,0)),\"\")","v":""},""]
[null,{"$f":"IFERROR(IF(A806=\"\",\"\",VLOOKUP(A806,Funcionários!$A$2:$F$299,2,0)),\"Funcionário não encontrado\")","v":""},null,null,null,null,null,"",{"$f":"IFERROR(IF(A806=\"\",\"\",VLOOKUP(A806,Funcionários!$A$2:$F$299,5,0)),\"\")","v":""},""]
[null,{"$f":"IFERROR(IF(A807=\"\",\"\",VLOOKUP(A807,Funcionários!$A$2:$F$299,2,0)),\"Funcionário não encontrado\")","v":""},null,null,null,null,null,"",{"$f":"IFERROR(IF(A807=\"\",\"\",VLOOKUP(A807,Funcionários!$A$2:$F$299,5,0)),\"\")","v":""},""]
[null,{"$f":"IFERROR(IF(A808=\"\",\"\",VLOOKUP(A808,Funcionários!$A$2:$F$299,2,0)),\"Funcionário não encontrado\")","v":""},null,null,null,null,null,"",{"$f":"IFERROR(IF(A808=\"\",\"\",VLOOKUP(A808,Funcionários!$A$2:$F$299,5,0)),\"\")","v":""},""]
[null,{"$f":"IFERROR(IF(A809=\"\",\"\",VLOOKUP(A809,Funcionários!$A$2:$F$299,2,0)),\"Funcionário não encontrado\")","v":""},null,null,null,null,null,"",{"$f":"IFERROR(IF(A809=\"\",\"\",VLOOKUP(A809,Funcionários!$A$2:$F$299,5,0)),\"\")","v":""},""]
[null,{"$f":"IFERROR(IF(A810=\"\",\"\",VLOOKUP(A810,Funcionários!$A$2:$F$299,2,0)),\"Funcionário não encontrado\")","v":""},null,null,null,null,null,"",{"$f":"IFERROR(IF(A810=\"\",\"\",VLOOKUP(A810,Funcionários!$A$2:$F$299,5,0)),\"\")","v":""},""]
[null,{"$f":"IFERROR(IF(A811=\"\",\"\",VLOOKUP(A811,Funcionários!$A$2:$F$299,2,0)),\"Funcionário não encontrado\")","v":""},null,null,null,null,null,"",{"$f":"IFERROR(IF(A811=\"\",\"\",VLOOKUP(A811,Funcionários!$A$2:$F$299,5,0)),\"\")","v":""},""]
[null,{"$f":"IFERROR(IF(A812=\"\",\"\",VLOOKUP(A812,Funcionários!$A$2:$F$299,2,0)),\"Funcionário não encontrado\")","v":""},null,null,null,null,null,"",{"$f":"IFERROR(IF(A812=\"\",\"\",VLOOKUP(A812,Funcionários!$A$2:$F$299,5,0)),\"\")","v":""},""]
[null,{"$f":"IFERROR(IF(A813=\"\",\"\",VLOOKUP(A813,Funcionários!$A$2:$F$299,2,0)),\"Funcionário não encontrado\")","v":""},null,null,null,null,null,"",{"$f":"IFERROR(IF(A813=\"\",\"\",VLOOKUP(A813,Funcionários!$A$2:$F$299,5,0)),\"\")","v":""},""]
[null,{"$f":"IFERROR(IF(A814=\"\",\"\",VLOOKUP(A814,Funcionários!$A$2:$F$299,2,0)),\"Funcionário não encontrado\")","v":""},null,null,null,null,null,"",{"$f":"IFERROR(IF(A814=\"\",\"\",VLOOKUP(A814,Funcionários!$A$2:$F$299,5,0)),\"\")","v":""},""]
[null,{"$f":"IFERROR(IF(A815=\"\",\"\",VLOOKUP(A815,Funcionários!$A$2:$F$299,2,0)),\"Funcionário não encontrado\")","v":""},null,null,null,null,null,"",{"$f":"IFERROR(IF(A815=\"\",\"\",VLOOKUP(A815,Funcionários!$A$2:$F$299,5,0)),\"\")","v":""},""]
[null,{"$f":"IFERROR(IF(A816=\"\",\"\",VLOOKUP(A816,Funcionários!$A$2:$F$299,2,0)),\"Funcionário não encontrado\")","v":""},null,null,null,null,null,"",{"$f":"IFERROR(IF(A816=\"\",\"\",VLOOKUP(A816,Funcionários!$A$2:$F$299,5,0)),\"\")","v":""},""]
[null,{"$f":"IFERROR(IF(A817=\"\",\"\",VLOOKUP(A817,Funcionários!$A$2:$F$299,2,0)),\"Funcionário não encontrado\")","v":""},null,null,null,null,null,"",{"$f":"IFERROR(IF(A817=\"\",\"\",VLOOKUP(A817,Funcionários!$A$2:$F$299,5,0)),\"\")","v":""},""]
[null,{"$f":"IFERROR(IF(A818=\"\",\"\",VLOOKUP(A818,Funcionários!$A$2:$F$299,2,0)),\"Funcionário não encontrado\")","v":""},null,null,null,null,null,"",{"$f":"IFERROR(IF(A818=\"\",\"\",VLOOKUP(A818,Funcionários!$A$2:$F$299,5,0)),\"\")","v":""},""]
[null,{"$f":"IFERROR(IF(A819=\"\",\"\",VLOOKUP(A819,Funcionários!$A$2:$F$299,2,0)),\"Funcionário não encontrado\")","v":""},null,null,null,null,null,"",{"$f":"IFERROR(IF(A819=\"\",\"\",VLOOKUP(A819,Funcionários!$A$2:$F$299,5,0)),\"\")","v":""},""]
[null,{"$f":"IFERROR(IF(A820=\"\",\"\",VLOOKUP(A820,Funcionários!$A$2:$F$299,2,0)),\"Funcionário não encontrado\")","v":""},null,null,null,null,null,"",{"$f":"IFERROR(IF(A820=\"\",\"\",VLOOKUP(A820,Funcionários!$A$2:$F$299,5,0)),\"\")","v":""},""]
[null,{"$f":"IFERROR(IF(A821=\"\",\"\",VLOOKUP(A821,Funcionários!$A$2:$F$299,2,0)),\"Funcionário não encontrado\")","v":""},null,null,null,null,null,"",{"$f":"IFERROR(IF(A821=\"\",\"\",VLOOKUP(A821,Funcionários!$A$2:$F$299,5,0)),\"\")","v":""},""]
[null,{"$f":"IFERROR(IF(A822=\"\",\"\",VLOOKUP(A822,Funcionários!$A$2:$F$299,2,0)),\"Funcionário não encontrado\")","v":""},null,null,null,null,null,"",{"$f":"IFERROR(IF(A822=\"\",\"\",VLOOKUP(A822,Funcionários!$A$2:$F$299,5,0)),\"\")","v":""},""]
[null,{"$f":"IFERROR(IF(A823=\"\",\"\",VLOOKUP(A823,Funcionários!$A$2:$F$299,2,0)),\"Funcionário não encontrado\")","v":""},null,null,null,null,null,"",{"$f":"IFERROR(IF(A823=\"\",\"\",VLOOKUP(A823,Funcionários!$A$2:$F$299,5,0)),\"\")","v":""},""]
[null,{"$f":"IFERROR(IF(A824=\"\",\"\",VLOOKUP(A824,Funcionários!$A$2:$F$299,2,0)),\"Funcionário não encontrado\")","v":""},null,null,null,null,null,"",{"$f":"IFERROR(IF(A824=\"\",\"\",VLOOKUP(A824,Funcionários!$A$2:$F$299,5,0)),\"\")","v":""},""]
[null,{"$f":"IFERROR(IF(A825=\"\",\"\",VLOOKUP(A825,Funcionários!$A$2:$F$299,2,0)),\"Funcionário não encontrado\")","v":""},null,null,null,null,null,"",{"$f":"IFERROR(IF(A825=\"\",\"\",VLOOKUP(A825,Funcionários!$A$2:$F$299,5,0)),\"\")","v":""},""]
[null,{"$f":"IFERROR(IF(A826=\"\",\"\",VLOOKUP(A826,Funcionários!$A$2:$F$299,2,0)),\"Funcionário não encontrado\")","v":""},null,null,null,null,null,"",{"$f":"IFERROR(IF(A826=\"\",\"\",VLOOKUP(A826,Funcionários!$A$2:$F$299,5,0)),\"\")","v":""},""]
[null,{"$f":"IFERROR(IF(A827=\"\",\"\",VLOOKUP(A827,Funcionários!$A$2:$F$299,2,0)),\"Funcionário não encontrado\")","v":""},null,null,null,null,null,"",{"$f":"IFERROR(IF(A827=\"\",\"\",VLOOKUP(A827,Funcionários!$A$2:$F$299,5,0)),\"\")","v":""},""]
[null,{"$f":"IFERROR(IF(A828=\"\",\"\",VLOOKUP(A828,Funcionários!$A$2:$F$299,2,0)),\"Funcionário não encontrado\")","v":""},null,null,null,null,null,"",{"$f":"IFERROR(IF(A828=\"\",\"\",VLOOKUP(A828,Funcionários!$A$2:$F$299,5,0)),\"\")","v":""},""]
[null,{"$f":"IFERROR(IF(A829=\"\",\"\",VLOOKUP(A829,Funcionários!$A$2:$F$299,2,0)),\"Funcionário não encontrado\")","v":""},null,null,null,null,null,"",{"$f":"IFERROR(IF(A829=\"\",\"\",VLOOKUP(A829,Funcionários!$A$2:$F$299,5,0)),\"\")","v":""},""]
[null,{"$f":"IFERROR(IF(A830=\"\",\"\",VLOOKUP(A830,Funcionários!$A$2:$F$299,2,0)),\"Funcionário não encontrado\")","v":""},null,null,null,null,null,"",{"$f":"IFERROR(IF(A830=\"\",\"\",VLOOKUP(A830,Funcionários!$A$2:$F$299,5,0)),\"\")","v":""},""]
[null,{"$f":"IFERROR(IF(A831=\"\",\"\",VLOOKUP(A831,Funcionários!$A$2:$F$299,2,0)),\"Funcionário não encontrado\")","v":""},null,null,null,null,null,"",{"$f":"IFERROR(IF(A831=\"\",\"\",VLOOKUP(A831,Funcionários!$A$2:$F$299,5,0)),\"\")","v":""},""]
[null,{"$f":"IFERROR(IF(A832=\"\",\"\",VLOOKUP(A832,Funcionários!$A$2:$F$299,2,0)),\"Funcionário não encontrado\")","v":""},null,null,null,null,null,"",{"$f":"IFERROR(IF(A832=\"\",\"\",VLOOKUP(A832,Funcionários!$A$2:$F$299,5,0)),\"\")","v":""},""]
[null,{"$f":"IFERROR(IF(A833=\"\",\"\",VLOOKUP(A833,Funcionários!$A$2:$F$299,2,0)),\"Funcionário não encontrado\")","v":""},null,null,null,null,null,"",{"$f":"IFERROR(IF(A833=\"\",\"\",VLOOKUP(A833,Funcionários!$A$2:$F$299,5,0)),\"\")","v":""},""]
[null,{"$f":"IFERROR(IF(A834=\"\",\"\",VLOOKUP(A834,Funcionários!$A$2:$F$299,2,0)),\"Funcionário não encontrado\")","v":""},null,null,null,null,null,"",{"$f":"IFERROR(IF(A834=\"\",\"\",VLOOKUP(A834,Funcionários!$A$2:$F$299,5,0)),\"\")","v":""},""]
[null,{"$f":"IFERROR(IF(A835=\"\",\"\",VLOOKUP(A835,Funcionários!$A$2:$F$299,2,0)),\"Funcionário não encontrado\")","v":""},null,null,null,null,null,{"$f":"IF(OR(D835=\"\",E835=\"\",F835=\"\"),\"\",MOD((E835-D835)+(G835-F835),1))","v":""},{"$f":"IFERROR(IF(A835=\"\",\"\",VLOOKUP(A835,Funcionários!$A$2:$F$299,5,0)),\"\")","v":""},{"$f":"IF(H835=\"\",\"\",H835-I835)","v":""}]
[null,{"$f":"IFERROR(IF(A836=\"\",\"\",VLOOKUP(A836,Funcionários!$A$2:$F$299,2,0)),\"Funcionário não encontrado\")","v":""},null,null,null,null,null,"",{"$f":"IFERROR(IF(A836=\"\",\"\",VLOOKUP(A836,Funcionários!$A$2:$F$299,5,0)),\"\")","v":""},""]
[null,{"$f":"IFERROR(IF(A837=\"\",\"\",VLOOKUP(A837,Funcionários!$A$2:$F$299,2,0)),\"Funcionário não encontrado\")","v":""},null,null,null,null,null,"",{"$f":"IFERROR(IF(A837=\"\",\"\",VLOOKUP(A837,Funcionários!$A$2:$F$299,5,0)),\"\")","v":""},""]
[null,{"$f":"IFERROR(IF(A838=\"\",\"\",VLOOKUP(A838,Funcionários!$A$2:$F$299,2,0)),\"Funcionário não encontrado\")","v":""},null,null,null,null,null,"",{"$f":"IFERROR(IF(A838=\"\",\"\",VLOOKUP(A838,Funcionários!$A$2:$F$299,5,0)),\"\")","v":""},""]
[null,{"$f":"IFERROR(IF(A839=\"\",\"\",VLOOKUP(A839,Funcionários!$A$2:$F$299,2,0)),\"Funcionário não encontrado\")","v":""},null,null,null,null,null,"",{"$f":"IFERROR(IF(A839=\"\",\"\",VLOOKUP(A839,Funcionários!$A$2:$F$299,5,0)),\"\")","v":""},""]
[null,{"$f":"IFERROR(IF(A840=\"\",\"\",VLOOKUP(A840,Funcionários!$A$2:$F$299,2,0)),\"Funcionário não encontrado\")","v":""},null,null,null,null,null,"",{"$f":"IFERROR(IF(A840=\"\",\"\",VLOOKUP(A840,Funcionários!$A$2:$F$299,5,0)),\"\")","v":""},""]
[null,{"$f":"IFERROR(IF(A841=\"\",\"\",VLOOKUP(A841,Funcionários!$A$2:$F$299,2,0)),\"Funcionário não encontrado\")","v":""},null,null,null,null,null,"",{"$f":"IFERROR(IF(A841=\"\",\"\",VLOOKUP(A841,Funcionários!$A$2:$F$299,5,0)),\"\")","v":""},""]
[null,{"$f":"IFERROR(IF(A842=\"\",\"\",VLOOKUP(A842,Funcionários!$A$2:$F$299,2,0)),\"Funcionário não encontrado\")","v":""},null,null,null,null,null,"",{"$f":"IFERROR(IF(A842=\"\",\"\",VLOOKUP(A842,Funcionários!$A$2:$F$299,5,0)),\"\")","v":""},""]
[null,{"$f":"IFERROR(IF(A843=\"\",\"\",VLOOKUP(A843,Funcionários!$A$2:$F$299,2,0)),\"Funcionário não encontrado\")","v":""},null,null,null,null,null,"",{"$f":"IFERROR(IF(A843=\"\",\"\",VLOOKUP(A843,Funcionários!$A$2:$F$299,5,0)),\"\")","v":""},""]
[null,{"$f":"IFERROR(IF(A844=\"\",\"\",VLOOKUP(A844,Funcionários!$A$2:$F$299,2,0)),\"Funcionário não encontrado\")","v":""},null,null,null,null,null,"",{"$f":"IFERROR(IF(A844=\"\",\"\",VLOOKUP(A844,Funcionários!$A$2:$F$299,5,0)),\"\")","v":""},""]
[null,{"$f":"IFERROR(IF(A845=\"\",\"\",VLOOKUP(A845,Funcionários!$A$2:$F$299,2,0)),\"Funcionário não encontrado\")","v":""},null,null,null,null,null,"",{"$f":"IFERROR(IF(A845=\"\",\"\",VLOOKUP(A845,Funcionários!$A$2:$F$299,5,0)),\"\")","v":""},""]
[null,{"$f":"IFERROR(IF(A846=\"\",\"\",VLOOKUP(A846,Funcionários!$A$2:$F$299,2,0)),\"Funcionário não encontrado\")","v":""},null,null,null,null,null,"",{"$f":"IFERROR(IF(A846=\"\",\"\",VLOOKUP(A846,Funcionários!$A$2:$F$299,5,0)),\"\")","v":""},""]
[null,{"$f":"IFERROR(IF(A847=\"\",\"\",VLOOKUP(A847,Funcionários!$A$2:$F$299,2,0)),\"Funcionário não encontrado\")","v":""},null,null,null,null,null,"",{"$f":"IFERROR(IF(A847=\"\",\"\",VLOOKUP(A847,Funcionários!$A$2:$F$299,5,0)),\"\")","v":""},""]
[null,{"$f":"IFERROR(IF(A848=\"\",\"\",VLOOKUP(A848,Funcionários!$A$2:$F$299,2,0)),\"Funcionário não encontrado\")","v":""},null,null,null,null,null,"",{"$f":"IFERROR(IF(A848=\"\",\"\",VLOOKUP(A848,Funcionários!$A$2:$F$299,5,0)),\"\")","v":""},""]
[null,{"$f":"IFERROR(IF(A849=\"\",\"\",VLOOKUP(A849,Funcionários!$A$2:$F$299,2,0)),\"Funcionário não encontrado\")","v":""},null,null,null,null,null,"",{"$f":"IFERROR(IF(A849=\"\",\"\",VLOOKUP(A849,Funcionários!$A$2:$F$299,5,0)),\"\")","v":""},""]
[null,{"$f":"IFERROR(IF(A850=\"\",\"\",VLOOKUP(A850,Funcionários!$A$2:$F$299,2,0)),\"Funcionário não encontrado\")","v":""},null,null,null,null,null,"",{"$f":"IFERROR(IF(A850=\"\",\"\",VLOOKUP(A850,Funcionários!$A$2:$F$299,5,0)),\"\")","v":""},""]
[null,{"$f":"IFERROR(IF(A851=\"\",\"\",VLOOKUP(A851,Funcionários!$A$2:$F$299,2,0)),\"Funcionário não encontrado\")","v":""},null,null,null,null,null,"",{"$f":"IFERROR(IF(A851=\"\",\"\",VLOOKUP(A851,Funcionários!$A$2:$F$299,5,0)),\"\")","v":""},""]
[null,{"$f":"IFERROR(IF(A852=\"\",\"\",VLOOKUP(A852,Funcionários!$A$2:$F$299,2,0)),\"Funcionário não encontrado\")","v":""},null,null,null,null,null,"",{"$f":"IFERROR(IF(A852=\"\",\"\",VLOOKUP(A852,Funcionários!$A$2:$F$299,5,0)),\"\")","v":""},""]
[null,{"$f":"IFERROR(IF(A853=\"\",\"\",VLOOKUP(A853,Funcionários!$A$2:$F$299,2,0)),\"Funcionário não encontrado\")","v":""},null,null,null,null,null,"",{"$f":"IFERROR(IF(A853=\"\",\"\",VLOOKUP(A853,Funcionários!$A$2:$F$299,5,0)),\"\")","v":""},""]
[null,{"$f":"IFERROR(IF(A854=\"\",\"\",VLOOKUP(A854,Funcionários!$A$2:$F$299,2,0)),\"Funcionário não encontrado\")","v":""},null,null,null,null,null,"",{"$f":"IFERROR(IF(A854=\"\",\"\",VLOOKUP(A854,Funcionários!$A$2:$F$299,5,0)),\"\")","v":""},""]
[null,{"$f":"IFERROR(IF(A855=\"\",\"\",VLOOKUP(A855,Funcionários!$A$2:$F$299,2,0)),\"Funcionário não encontrado\")","v":""},null,null,null,null,null,"",{"$f":"IFERROR(IF(A855=\"\",\"\",VLOOKUP(A855,Funcionários!$A$2:$F$299,5,0)),\"\")","v":""},""]
[null,{"$f":"IFERROR(IF(A856=\"\",\"\",VLOOKUP(A856,Funcionários!$A$2:$F$299,2,0)),\"Funcionário não encontrado\")","v":""},null,null,null,null,null,"",{"$f":"IFERROR(IF(A856=\"\",\"\",VLOOKUP(A856,Funcionários!$A$2:$F$299,5,0)),\"\")","v":""},""]
[null,{"$f":"IFERROR(IF(A857=\"\",\"\",VLOOKUP(A857,Funcionários!$A$2:$F$299,2,0)),\"Funcionário não encontrado\")","v":""},null,null,null,null,null,"",{"$f":"IFERROR(IF(A857=\"\",\"\",VLOOKUP(A857,Funcionários!$A$2:$F$299,5,0)),\"\")","v":""},""]
[null,{"$f":"IFERROR(IF(A858=\"\",\"\",VLOOKUP(A858,Funcionários!$A$2:$F$299,2,0)),\"Funcionário não encontrado\")","v":""},null,null,null,null,null,"",{"$f":"IFERROR(IF(A858=\"\",\"\",VLOOKUP(A858,Funcionários!$A$2:$F$299,5,0)),\"\")","v":""},""]
[null,{"$f":"IFERROR(IF(A859=\"\",\"\",VLOOKUP(A859,Funcionários!$A$2:$F$299,2,0)),\"Funcionário não encontrado\")","v":""},null,null,null,null,null,"",{"$f":"IFERROR(IF(A859=\"\",\"\",VLOOKUP(A859,Funcionários!$A$2:$F$299,5,0)),\"\")","v":""},""]
[null,{"$f":"IFERROR(IF(A860=\"\",\"\",VLOOKUP(A860,Funcionários!$A$2:$F$299,2,0)),\"Funcionário não encontrado\")","v":""},null,null,null,null,null,"",{"$f":"IFERROR(IF(A860=\"\",\"\",VLOOKUP(A860,Funcionários!$A$2:$F$299,5,0)),\"\")","v":""},""]
[null,{"$f":"IFERROR(IF(A861=\"\",\"\",VLOOKUP(A861,Funcionários!$A$2:$F$299,2,0)),\"Funcionário não encontrado\")","v":""},null,null,null,null,null,"",{"$f":"IFERROR(IF(A861=\"\",\"\",VLOOKUP(A861,Funcionários!$A$2:$F$299,5,0)),\"\")","v":""},""]
[null,{"$f":"IFERROR(IF(A862=\"\",\"\",VLOOKUP(A862,Funcionários!$A$2:$F$299,2,0)),\"Funcionário não encontrado\")","v":""},null,null,null,null,null,"",{"$f":"IFERROR(IF(A862=\"\",\"\",VLOOKUP(A862,Funcionários!$A$2:$F$299,5,0)),\"\")","v":""},""]
[null,{"$f":"IFERROR(IF(A863=\"\",\"\",VLOOKUP(A863,Funcionários!$A$2:$F$299,2,0)),\"Funcionário não encontrado\")","v":""},null,null,null,null,null,"",{"$f":"IFERROR(IF(A863=\"\",\"\",VLOOKUP(A863,Funcionários!$A$2:$F$299,5,0)),\"\")","v":""},""]
[null,{"$f":"IFERROR(IF(A864=\"\",\"\",VLOOKUP(A864,Funcionários!$A$2:$F$299,2,0)),\"Funcionário não encontrado\")","v":""},null,null,null,null,null,"",{"$f":"IFERROR(IF(A864=\"\",\"\",VLOOKUP(A864,Funcionários!$A$2:$F$299,5,0)),\"\")","v":""},""]
[null,{"$f":"IFERROR(IF(A865=\"\",\"\",VLOOKUP(A865,Funcionários!$A$2:$F$299,2,0)),\"Funcionário não encontrado\")","v":""},null,null,null,null,null,"",{"$f":"IFERROR(IF(A865=\"\",\"\",VLOOKUP(A865,Funcionários!$A$2:$F$299,5,0)),\"\")","v":""},""]
[null,{"$f":"IFERROR(IF(A866=\"\",\"\",VLOOKUP(A866,Funcionários!$A$2:$F$299,2,0)),\"Funcionário não encontrado\")","v":""},null,null,null,null,null,"",{"$f":"IFERROR(IF(A866=\"\",\"\",VLOOKUP(A866,Funcionários!$A$2:$F$299,5,0)),\"\")","v":""},""]
[null,{"$f":"IFERROR(IF(A867=\"\",\"\",VLOOKUP(A867,Funcionários!$A$2:$F$299,2,0)),\"Funcionário não encontrado\")","v":""},null,null,null,null,null,"",{"$f":"IFERROR(IF(A867=\"\",\"\",VLOOKUP(A867,Funcionários!$A$2:$F$299,5,0)),\"\")","v":""},""]
[null,{"$f":"IFERROR(IF(A868=\"\",\"\",VLOOKUP(A868,Funcionários!$A$2:$F$299,2,0)),\"Funcionário não encontrado\")","v":""},null,null,null,null,null,"",{"$f":"IFERROR(IF(A868=\"\",\"\",VLOOKUP(A868,Funcionários!$A$2:$F$299,5,0)),\"\")","v":""},""]
[null,{"$f":"IFERROR(IF(A869=\"\",\"\",VLOOKUP(A869,Funcionários!$A$2:$F$299,2,0)),\"Funcionário não encontrado\")","v":""},null,null,null,null,null,"",{"$f":"IFERROR(IF(A869=\"\",\"\",VLOOKUP(A869,Funcionários!$A$2:$F$299,5,0)),\"\")","v":""},""]
[null,{"$f":"IFERROR(IF(A870=\"\",\"\",VLOOKUP(A870,Funcionários!$A$2:$F$299,2,0)),\"Funcionário não encontrado\")","v":""},null,null,null,null,null,"",{"$f":"IFERROR(IF(A870=\"\",\"\",VLOOKUP(A870,Funcionários!$A$2:$F$299,5,0)),\"\")","v":""},""]
[null,{"$f":"IFERROR(IF(A871=\"\",\"\",VLOOKUP(A871,Funcionários!$A$2:$F$299,2,0)),\"Funcionário não encontrado\")","v":""},null,null,null,null,null,"",{"$f":"IFERROR(IF(A871=\"\",\"\",VLOOKUP(A871,Funcionários!$A$2:$F$299,5,0)),\"\")","v":""},""]
[null,{"$f":"IFERROR(IF(A872=\"\",\"\",VLOOKUP(A872,Funcionários!$A$2:$F$299,2,0)),\"Funcionário não encontrado\")","v":""},null,null,null,null,null,"",{"$f":"IFERROR(IF(A872=\"\",\"\",VLOOKUP(A872,Funcionários!$A$2:$F$299,5,0)),\"\")","v":""},""]
[null,{"$f":"IFERROR(IF(A873=\"\",\"\",VLOOKUP(A873,Funcionários!$A$2:$F$299,2,0)),\"Funcionário não encontrado\")","v":""},null,null,null,null,null,"",{"$f":"IFERROR(IF(A873=\"\",\"\",VLOOKUP(A873,Funcionários!$A$2:$F$299,5,0)),\"\")","v":""},""]
[null,{"$f":"IFERROR(IF(A874=\"\",\"\",VLOOKUP(A874,Funcionários!$A$2:$F$299,2,0)),\"Funcionário não encontrado\")","v":""},null,null,null,null,null,"",{"$f":"IFERROR(IF(A874=\"\",\"\",VLOOKUP(A874,Funcionários!$A$2:$F$299,5,0)),\"\")","v":""},""]
[null,{"$f":"IFERROR(IF(A875=\"\",\"\",VLOOKUP(A875,Funcionários!$A$2:$F$299,2,0)),\"Funcionário não encontrado\")","v":""},null,null,null,null,null,"",{"$f":"IFERROR(IF(A875=\"\",\"\",VLOOKUP(A875,Funcionários!$A$2:$F$299,5,0)),\"\")","v":""},""]
[null,{"$f":"IFERROR(IF(A876=\"\",\"\",VLOOKUP(A876,Funcionários!$A$2:$F$299,2,0)),\"Funcionário não encontrado\")","v":""},null,null,null,null,null,"",{"$f":"IFERROR(IF(A876=\"\",\"\",VLOOKUP(A876,Funcionários!$A$2:$F$299,5,0)),\"\")","v":""},""]
[null,{"$f":"IFERROR(IF(A877=\"\",\"\",VLOOKUP(A877,Funcionários!$A$2:$F$299,2,0)),\"Funcionário não encontrado\")","v":""},null,null,null,null,null,"",{"$f":"IFERROR(IF(A877=\"\",\"\",VLOOKUP(A877,Funcionários!$A$2:$F$299,5,0)),\"\")","v":""},""]
[null,{"$f":"IFERROR(IF(A878=\"\",\"\",VLOOKUP(A878,Funcionários!$A$2:$F$299,2,0)),\"Funcionário não encontrado\")","v":""},null,null,null,null,null,"",{"$f":"IFERROR(IF(A878=\"\",\"\",VLOOKUP(A878,Funcionários!$A$2:$F$299,5,0)),\"\")","v":""},""]
[null,{"$f":"IFERROR(IF(A879=\"\",\"\",VLOOKUP(A879,Funcionários!$A$2:$F$299,2,0)),\"Funcionário não encontrado\")","v":""},null,null,null,null,null,"",{"$f":"IFERROR(IF(A879=\"\",\"\",VLOOKUP(A879,Funcionários!$A$2:$F$299,5,0)),\"\")","v":""},""]
[null,{"$f":"IFERROR(IF(A880=\"\",\"\",VLOOKUP(A880,Funcionários!$A$2:$F$299,2,0)),\"Funcionário não encontrado\")","v":""},null,null,null,null,null,"",{"$f":"IFERROR(IF(A880=\"\",\"\",VLOOKUP(A880,Funcionários!$A$2:$F$299,5,0)),\"\")","v":""},""]
[null,{"$f":"IFERROR(IF(A881=\"\",\"\",VLOOKUP(A881,Funcionários!$A$2:$F$299,2,0)),\"Funcionário não encontrado\")","v":""},null,null,null,null,null,"",{"$f":"IFERROR(IF(A881=\"\",\"\",VLOOKUP(A881,Funcionários!$A$2:$F$299,5,0)),\"\")","v":""},""]
[null,{"$f":"IFERROR(IF(A882=\"\",\"\",VLOOKUP(A882,Funcionários!$A$2:$F$299,2,0)),\"Funcionário não encontrado\")","v":""},null,null,null,null,null,"",{"$f":"IFERROR(IF(A882=\"\",\"\",VLOOKUP(A882,Funcionários!$A$2:$F$299,5,0)),\"\")","v":""},""]
[null,{"$f":"IFERROR(IF(A883=\"\",\"\",VLOOKUP(A883,Funcionários!$A$2:$F$299,2,0)),\"Funcionário não encontrado\")","v":""},null,null,null,null,null,"",{"$f":"IFERROR(IF(A883=\"\",\"\",VLOOKUP(A883,Funcionários!$A$2:$F$299,5,0)),\"\")","v":""},""]
[null,{"$f":"IFERROR(IF(A884=\"\",\"\",VLOOKUP(A884,Funcionários!$A$2:$F$299,2,0)),\"Funcionário não encontrado\")","v":""},null,null,null,null,null,"",{"$f":"IFERROR(IF(A884=\"\",\"\",VLOOKUP(A884,Funcionários!$A$2:$F$299,5,0)),\"\")","v":""},""]
[null,{"$f":"IFERROR(IF(A885=\"\",\"\",VLOOKUP(A885,Funcionários!$A$2:$F$299,2,0)),\"Funcionário não encontrado\")","v":""},null,null,null,null,null,"",{"$f":"IFERROR(IF(A885=\"\",\"\",VLOOKUP(A885,Funcionários!$A$2:$F$299,5,0)),\"\")","v":""},""]
[null,{"$f":"IFERROR(IF(A886=\"\",\"\",VLOOKUP(A886,Funcionários!$A$2:$F$299,2,0)),\"Funcionário não encontrado\")","v":""},null,null,null,null,null,"",{"$f":"IFERROR(IF(A886=\"\",\"\",VLOOKUP(A886,Funcionários!$A$2:$F$299,5,0)),\"\")","v":""},""]
[null,{"$f":"IFERROR(IF(A887=\"\",\"\",VLOOKUP(A887,Funcionários!$A$2:$F$299,2,0)),\"Funcionário não encontrado\")","v":""},null,null,null,null,null,"",{"$f":"IFERROR(IF(A887=\"\",\"\",VLOOKUP(A887,Funcionários!$A$2:$F$299,5,0)),\"\")","v":""},""]
[null,{"$f":"IFERROR(IF(A888=\"\",\"\",VLOOKUP(A888,Funcionários!$A$2:$F$299,2,0)),\"Funcionário não encontrado\")","v":""},null,null,null,null,null,"",{"$f":"IFERROR(IF(A888=\"\",\"\",VLOOKUP(A888,Funcionários!$A$2:$F$299,5,0)),\"\")","v":""},""]
[null,{"$f":"IFERROR(IF(A889=\"\",\"\",VLOOKUP(A889,Funcionários!$A$2:$F$299,2,0)),\"Funcionário não encontrado\")","v":""},null,null,null,null,null,"",{"$f":"IFERROR(IF(A889=\"\",\"\",VLOOKUP(A889,Funcionários!$A$2:$F$299,5,0)),\"\")","v":""},""]
[null,{"$f":"IFERROR(IF(A890=\"\",\"\",VLOOKUP(A890,Funcionários!$A$2:$F$299,2,0)),\"Funcionário não encontrado\")","v":""},null,null,null,null,null,"",{"$f":"IFERROR(IF(A890=\"\",\"\",VLOOKUP(A890,Funcionários!$A$2:$F$299,5,0)),\"\")","v":""},""]
[null,{"$f":"IFERROR(IF(A891=\"\",\"\",VLOOKUP(A891,Funcionários!$A$2:$F$299,2,0)),\"Funcionário não encontrado\")","v":""},null,null,null,null,null,"",{"$f":"IFERROR(IF(A891=\"\",\"\",VLOOKUP(A891,Funcionários!$A$2:$F$299,5,0)),\"\")","v":""},""]
[null,{"$f":"IFERROR(IF(A892=\"\",\"\",VLOOKUP(A892,Funcionários!$A$2:$F$299,2,0)),\"Funcionário não encontrado\")","v":""},null,null,null,null,null,"",{"$f":"IFERROR(IF(A892=\"\",\"\",VLOOKUP(A892,Funcionários!$A$2:$F$299,5,0)),\"\")","v":""},""]
[null,{"$f":"IFERROR(IF(A893=\"\",\"\",VLOOKUP(A893,Funcionários!$A$2:$F$299,2,0)),\"Funcionário não encontrado\")","v":""},null,null,null,null,null,"",{"$f":"IFERROR(IF(A893=\"\",\"\",VLOOKUP(A893,Funcionários!$A$2:$F$299,5,0)),\"\")","v":""},""]
[null,{"$f":"IFERROR(IF(A894=\"\",\"\",VLOOKUP(A894,Funcionários!$A$2:$F$299,2,0)),\"Funcionário não encontrado\")","v":""},null,null,null,null,null,"",{"$f":"IFERROR(IF(A894=\"\",\"\",VLOOKUP(A894,Funcionários!$A$2:$F$299,5,0)),\"\")","v":""},""]
[null,{"$f":"IFERROR(IF(A895=\"\",\"\",VLOOKUP(A895,Funcionários!$A$2:$F$299,2,0)),\"Funcionário não encontrado\")","v":""},null,null,null,null,null,"",{"$f":"IFERROR(IF(A895=\"\",\"\",VLOOKUP(A895,Funcionários!$A$2:$F$299,5,0)),\"\")","v":""},""]
[null,{"$f":"IFERROR(IF(A896=\"\",\"\",VLOOKUP(A896,Funcionários!$A$2:$F$299,2,0)),\"Funcionário não encontrado\")","v":""},null,null,null,null,null,"",{"$f":"IFERROR(IF(A896=\"\",\"\",VLOOKUP(A896,Funcionários!$A$2:$F$299,5,0)),\"\")","v":""},""]
[null,{"$f":"IFERROR(IF(A897=\"\",\"\",VLOOKUP(A897,Funcionários!$A$2:$F$299,2,0)),\"Funcionário não encontrado\")","v":""},null,null,null,null,null,"",{"$f":"IFERROR(IF(A897=\"\",\"\",VLOOKUP(A897,Funcionários!$A$2:$F$299,5,0)),\"\")","v":""},""]
[null,{"$f":"IFERROR(IF(A898=\"\",\"\",VLOOKUP(A898,Funcionários!$A$2:$F$299,2,0)),\"Funcionário não encontrado\")","v":""},null,null,null,null,null,"",{"$f":"IFERROR(IF(A898=\"\",\"\",VLOOKUP(A898,Funcionários!$A$2:$F$299,5,0)),\"\")","v":""},""]
[null,{"$f":"IFERROR(IF(A899=\"\",\"\",VLOOKUP(A899,Funcionários!$A$2:$F$299,2,0)),\"Funcionário não encontrado\")","v":""},null,null,null,null,null,{"$f":"IF(OR(D899=\"\",E899=\"\",F899=\"\"),\"\",MOD((E899-D899)+(G899-F899),1))","v":""},{"$f":"IFERROR(IF(A899=\"\",\"\",VLOOKUP(A899,Funcionários!$A$2:$F$299,5,0)),\"\")","v":""},{"$f":"IF(H899=\"\",\"\",H899-I899)","v":""}]
[null,{"$f":"IFERROR(IF(A900=\"\",\"\",VLOOKUP(A900,Funcionários!$A$2:$F$299,2,0)),\"Funcionário não encontrado\")","v":""},null,null,null,null,null,"",{"$f":"IFERROR(IF(A900=\"\",\"\",VLOOKUP(A900,Funcionários!$A$2:$F$299,5,0)),\"\")","v":""},""]
[null,{"$f":"IFERROR(IF(A901=\"\",\"\",VLOOKUP(A901,Funcionários!$A$2:$F$299,2,0)),\"Funcionário não encontrado\")","v":""},null,null,null,null,null,"",{"$f":"IFERROR(IF(A901=\"\",\"\",VLOOKUP(A901,Funcionários!$A$2:$F$299,5,0)),\"\")","v":""},""]
[null,{"$f":"IFERROR(IF(A902=\"\",\"\",VLOOKUP(A902,Funcionários!$A$2:$F$299,2,0)),\"Funcionário não encontrado\")","v":""},null,null,null,null,null,"",{"$f":"IFERROR(IF(A902=\"\",\"\",VLOOKUP(A902,Funcionários!$A$2:$F$299,5,0)),\"\")","v":""},""]
[null,{"$f":"IFERROR(IF(A903=\"\",\"\",VLOOKUP(A903,Funcionários!$A$2:$F$299,2,0)),\"Funcionário não encontrado\")","v":""},null,null,null,null,null,"",{"$f":"IFERROR(IF(A903=\"\",\"\",VLOOKUP(A903,Funcionários!$A$2:$F$299,5,0)),\"\")","v":""},""]
[null,{"$f":"IFERROR(IF(A904=\"\",\"\",VLOOKUP(A904,Funcionários!$A$2:$F$299,2,0)),\"Funcionário não encontrado\")","v":""},null,null,null,null,null,"",{"$f":"IFERROR(IF(A904=\"\",\"\",VLOOKUP(A904,Funcionários!$A$2:$F$299,5,0)),\"\")","v":""},""]
[null,{"$f":"IFERROR(IF(A905=\"\",\"\",VLOOKUP(A905,Funcionários!$A$2:$F$299,2,0)),\"Funcionário não encontrado\")","v":""},null,null,null,null,null,"",{"$f":"IFERROR(IF(A905=\"\",\"\",VLOOKUP(A905,Funcionários!$A$2:$F$299,5,0)),\"\")","v":""},""]
[null,{"$f":"IFERROR(IF(A906=\"\",\"\",VLOOKUP(A906,Funcionários!$A$2:$F$299,2,0)),\"Funcionário não encontrado\")","v":""},null,null,null,null,null,"",{"$f":"IFERROR(IF(A906=\"\",\"\",VLOOKUP(A906,Funcionários!$A$2:$F$299,5,0)),\"\")","v":""},""]
[null,{"$f":"IFERROR(IF(A907=\"\",\"\",VLOOKUP(A907,Funcionários!$A$2:$F$299,2,0)),\"Funcionário não encontrado\")","v":""},null,null,null,null,null,"",{"$f":"IFERROR(IF(A907=\"\",\"\",VLOOKUP(A907,Funcionários!$A$2:$F$299,5,0)),\"\")","v":""},""]
[null,{"$f":"IFERROR(IF(A908=\"\",\"\",VLOOKUP(A908,Funcionários!$A$2:$F$299,2,0)),\"Funcionário não encontrado\")","v":""},null,null,null,null,null,"",{"$f":"IFERROR(IF(A908=\"\",\"\",VLOOKUP(A908,Funcionários!$A$2:$F$299,5,0)),\"\")","v":""},""]
[null,{"$f":"IFERROR(IF(A909=\"\",\"\",VLOOKUP(A909,Funcionários!$A$2:$F$299,2,0)),\"Funcionário não encontrado\")","v":""},null,null,null,null,null,"",{"$f":"IFERROR(IF(A909=\"\",\"\",VLOOKUP(A909,Funcionários!$A$2:$F$299,5,0)),\"\")","v":""},""]
[null,{"$f":"IFERROR(IF(A910=\"\",\"\",VLOOKUP(A910,Funcionários!$A$2:$F$299,2,0)),\"Funcionário não encontrado\")","v":""},null,null,null,null,null,"",{"$f":"IFERROR(IF(A910=\"\",\"\",VLOOKUP(A910,Funcionários!$A$2:$F$299,5,0)),\"\")","v":""},""]
[null,{"$f":"IFERROR(IF(A911=\"\",\"\",VLOOKUP(A911,Funcionários!$A$2:$F$299,2,0)),\"Funcionário não encontrado\")","v":""},null,null,null,null,null,"",{"$f":"IFERROR(IF(A911=\"\",\"\",VLOOKUP(A911,Funcionários!$A$2:$F$299,5,0)),\"\")","v":""},""]
[null,{"$f":"IFERROR(IF(A912=\"\",\"\",VLOOKUP(A912,Funcionários!$A$2:$F$299,2,0)),\"Funcionário não encontrado\")","v":""},null,null,null,null,null,"",{"$f":"IFERROR(IF(A912=\"\",\"\",VLOOKUP(A912,Funcionários!$A$2:$F$299,5,0)),\"\")","v":""},""]
[null,{"$f":"IFERROR(IF(A913=\"\",\"\",VLOOKUP(A913,Funcionários!$A$2:$F$299,2,0)),\"Funcionário não encontrado\")","v":""},null,null,null,null,null,"",{"$f":"IFERROR(IF(A913=\"\",\"\",VLOOKUP(A913,Funcionários!$A$2:$F$299,5,0)),\"\")","v":""},""]
[null,{"$f":"IFERROR(IF(A914=\"\",\"\",VLOOKUP(A914,Funcionários!$A$2:$F$299,2,0)),\"Funcionário não encontrado\")","v":""},null,null,null,null,null,"",{"$f":"IFERROR(IF(A914=\"\",\"\",VLOOKUP(A914,Funcionários!$A$2:$F$299,5,0)),\"\")","v":""},""]
[null,{"$f":"IFERROR(IF(A915=\"\",\"\",VLOOKUP(A915,Funcionários!$A$2:$F$299,2,0)),\"Funcionário não encontrado\")","v":""},null,null,null,null,null,"",{"$f":"IFERROR(IF(A915=\"\",\"\",VLOOKUP(A915,Funcionários!$A$2:$F$299,5,0)),\"\")","v":""},""]
[null,{"$f":"IFERROR(IF(A916=\"\",\"\",VLOOKUP(A916,Funcionários!$A$2:$F$299,2,0)),\"Funcionário não encontrado\")","v":""},null,null,null,null,null,"",{"$f":"IFERROR(IF(A916=\"\",\"\",VLOOKUP(A916,Funcionários!$A$2:$F$299,5,0)),\"\")","v":""},""]
[null,{"$f":"IFERROR(IF(A917=\"\",\"\",VLOOKUP(A917,Funcionários!$A$2:$F$299,2,0)),\"Funcionário não encontrado\")","v":""},null,null,null,null,null,"",{"$f":"IFERROR(IF(A917=\"\",\"\",VLOOKUP(A917,Funcionários!$A$2:$F$299,5,0)),\"\")","v":""},""]
[null,{"$f":"IFERROR(IF(A918=\"\",\"\",VLOOKUP(A918,Funcionários!$A$2:$F$299,2,0)),\"Funcionário não encontrado\")","v":""},null,null,null,null,null,"",{"$f":"IFERROR(IF(A918=\"\",\"\",VLOOKUP(A918,Funcionários!$A$2:$F$299,5,0)),\"\")","v":""},""]
[null,{"$f":"IFERROR(IF(A919=\"\",\"\",VLOOKUP(A919,Funcionários!$A$2:$F$299,2,0)),\"Funcionário não encontrado\")","v":""},null,null,null,null,null,"",{"$f":"IFERROR(IF(A919=\"\",\"\",VLOOKUP(A919,Funcionários!$A$2:$F$299,5,0)),\"\")","v":""},""]
[null,{"$f":"IFERROR(IF(A920=\"\",\"\",VLOOKUP(A920,Funcionários!$A$2:$F$299,2,0)),\"Funcionário não encontrado\")","v":""},null,null,null,null,null,"",{"$f":"IFERROR(IF(A920=\"\",\"\",VLOOKUP(A920,Funcionários!$A$2:$F$299,5,0)),\"\")","v":""},""]
[null,{"$f":"IFERROR(IF(A921=\"\",\"\",VLOOKUP(A921,Funcionários!$A$2:$F$299,2,0)),\"Funcionário não encontrado\")","v":""},null,null,null,null,null,"",{"$f":"IFERROR(IF(A921=\"\",\"\",VLOOKUP(A921,Funcionários!$A$2:$F$299,5,0)),\"\")","v":""},""]
[null,{"$f":"IFERROR(IF(A922=\"\",\"\",VLOOKUP(A922,Funcionários!$A$2:$F$299,2,0)),\"Funcionário não encontrado\")","v":""},null,null,null,null,null,"",{"$f":"IFERROR(IF(A922=\"\",\"\",VLOOKUP(A922,Funcionários!$A$2:$F$299,5,0)),\"\")","v":""},""]
[null,{"$f":"IFERROR(IF(A923=\"\",\"\",VLOOKUP(A923,Funcionários!$A$2:$F$299,2,0)),\"Funcionário não encontrado\")","v":""},null,null,null,null,null,"",{"$f":"IFERROR(IF(A923=\"\",\"\",VLOOKUP(A923,Funcionários!$A$2:$F$299,5,0)),\"\")","v":""},""]
[null,{"$f":"IFERROR(IF(A924=\"\",\"\",VLOOKUP(A924,Funcionários!$A$2:$F$299,2,0)),\"Funcionário não encontrado\")","v":""},null,null,null,null,null,"",{"$f":"IFERROR(IF(A924=\"\",\"\",VLOOKUP(A924,Funcionários!$A$2:$F$299,5,0)),\"\")","v":""},""]
[null,{"$f":"IFERROR(IF(A925=\"\",\"\",VLOOKUP(A925,Funcionários!$A$2:$F$299,2,0)),\"Funcionário não encontrado\")","v":""},null,null,null,null,null,"",{"$f":"IFERROR(IF(A925=\"\",\"\",VLOOKUP(A925,Funcionários!$A$2:$F$299,5,0)),\"\")","v":""},""]
[null,{"$f":"IFERROR(IF(A926=\"\",\"\",VLOOKUP(A926,Funcionários!$A$2:$F$299,2,0)),\"Funcionário não encontrado\")","v":""},null,null,null,null,null,"",{"$f":"IFERROR(IF(A926=\"\",\"\",VLOOKUP(A926,Funcionários!$A$2:$F$299,5,0)),\"\")","v":""},""]
[null,{"$f":"IFERROR(IF(A927=\"\",\"\",VLOOKUP(A927,Funcionários!$A$2:$F$299,2,0)),\"Funcionário não encontrado\")","v":""},null,null,null,null,null,"",{"$f":"IFERROR(IF(A927=\"\",\"\",VLOOKUP(A927,Funcionários!$A$2:$F$299,5,0)),\"\")","v":""},""]
[null,{"$f":"IFERROR(IF(A928=\"\",\"\",VLOOKUP(A928,Funcionários!$A$2:$F$299,2,0)),\"Funcionário não encontrado\")","v":""},null,null,null,null,null,"",{"$f":"IFERROR(IF(A928=\"\",\"\",VLOOKUP(A928,Funcionários!$A$2:$F$299,5,0)),\"\")","v":""},""]
[null,{"$f":"IFERROR(IF(A929=\"\",\"\",VLOOKUP(A929,Funcionários!$A$2:$F$299,2,0)),\"Funcionário não encontrado\")","v":""},null,null,null,null,null,"",{"$f":"IFERROR(IF(A929=\"\",\"\",VLOOKUP(A929,Funcionários!$A$2:$F$299,5,0)),\"\")","v":""},""]
[null,{"$f":"IFERROR(IF(A930=\"\",\"\",VLOOKUP(A930,Funcionários!$A$2:$F$299,2,0)),\"Funcionário não encontrado\")","v":""},null,null,null,null,null,"",{"$f":"IFERROR(IF(A930=\"\",\"\",VLOOKUP(A930,Funcionários!$A$2:$F$299,5,0)),\"\")","v":""},""]
[null,{"$f":"IFERROR(IF(A931=\"\",\"\",VLOOKUP(A931,Funcionários!$A$2:$F$299,2,0)),\"Funcionário não encontrado\")","v":""},null,null,null,null,null,"",{"$f":"IFERROR(IF(A931=\"\",\"\",VLOOKUP(A931,Funcionários!$A$2:$F$299,5,0)),\"\")","v":""},""]
[null,{"$f":"IFERROR(IF(A932=\"\",\"\",VLOOKUP(A932,Funcionários!$A$2:$F$299,2,0)),\"Funcionário não encontrado\")","v":""},null,null,null,null,null,"",{"$f":"IFERROR(IF(A932=\"\",\"\",VLOOKUP(A932,Funcionários!$A$2:$F$299,5,0)),\"\")","v":""},""]
[null,{"$f":"IFERROR(IF(A933=\"\",\"\",VLOOKUP(A933,Funcionários!$A$2:$F$299,2,0)),\"Funcionário não encontrado\")","v":""},null,null,null,null,null,"",{"$f":"IFERROR(IF(A933=\"\",\"\",VLOOKUP(A933,Funcionários!$A$2:$F$299,5,0)),\"\")","v":""},""]
[null,{"$f":"IFERROR(IF(A934=\"\",\"\",VLOOKUP(A934,Funcionários!$A$2:$F$299,2,0)),\"Funcionário não encontrado\")","v":""},null,null,null,null,null,"",{"$f":"IFERROR(IF(A934=\"\",\"\",VLOOKUP(A934,Funcionários!$A$2:$F$299,5,0)),\"\")","v":""},""]
[null,{"$f":"IFERROR(IF(A935=\"\",\"\",VLOOKUP(A935,Funcionários!$A$2:$F$299,2,0)),\"Funcionário não encontrado\")","v":""},null,null,null,null,null,"",{"$f":"IFERROR(IF(A935=\"\",\"\",VLOOKUP(A935,Funcionários!$A$2:$F$299,5,0)),\"\")","v":""},""]
[null,{"$f":"IFERROR(IF(A936=\"\",\"\",VLOOKUP(A936,Funcionários!$A$2:$F$299,2,0)),\"Funcionário não encontrado\")","v":""},null,null,null,null,null,"",{"$f":"IFERROR(IF(A936=\"\",\"\",VLOOKUP(A936,Funcionários!$A$2:$F$299,5,0)),\"\")","v":""},""]
[null,{"$f":"IFERROR(IF(A937=\"\",\"\",VLOOKUP(A937,Funcionários!$A$2:$F$299,2,0)),\"Funcionário não encontrado\")","v":""},null,null,null,null,null,"",{"$f":"IFERROR(IF(A937=\"\",\"\",VLOOKUP(A937,Funcionários!$A$2:$F$299,5,0)),\"\")","v":""},""]
[null,{"$f":"IFERROR(IF(A938=\"\",\"\",VLOOKUP(A938,Funcionários!$A$2:$F$299,2,0)),\"Funcionário não encontrado\")","v":""},null,null,null,null,null,"",{"$f":"IFERROR(IF(A938=\"\",\"\",VLOOKUP(A938,Funcionários!$A$2:$F$299,5,0)),\"\")","v":""},""]
[null,{"$f":"IFERROR(IF(A939=\"\",\"\",VLOOKUP(A939,Funcionários!$A$2:$F$299,2,0)),\"Funcionário não encontrado\")","v":""},null,null,null,null,null,"",{"$f":"IFERROR(IF(A939=\"\",\"\",VLOOKUP(A939,Funcionários!$A$2:$F$299,5,0)),\"\")","v":""},""]
[null,{"$f":"IFERROR(IF(A940=\"\",\"\",VLOOKUP(A940,Funcionários!$A$2:$F$299,2,0)),\"Funcionário não encontrado\")","v":""},null,null,null,null,null,"",{"$f":"IFERROR(IF(A940=\"\",\"\",VLOOKUP(A940,Funcionários!$A$2:$F$299,5,0)),\"\")","v":""},""]
[null,{"$f":"IFERROR(IF(A941=\"\",\"\",VLOOKUP(A941,Funcionários!$A$2:$F$299,2,0)),\"Funcionário não encontrado\")","v":""},null,null,null,null,null,"",{"$f":"IFERROR(IF(A941=\"\",\"\",VLOOKUP(A941,Funcionários!$A$2:$F$299,5,0)),\"\")","v":""},""]
[null,{"$f":"IFERROR(IF(A942=\"\",\"\",VLOOKUP(A942,Funcionários!$A$2:$F$299,2,0)),\"Funcionário não encontrado\")","v":""},null,null,null,null,null,"",{"$f":"IFERROR(IF(A942=\"\",\"\",VLOOKUP(A942,Funcionários!$A$2:$F$299,5,0)),\"\")","v":""},""]
[null,{"$f":"IFERROR(IF(A943=\"\",\"\",VLOOKUP(A943,Funcionários!$A$2:$F$299,2,0)),\"Funcionário não encontrado\")","v":""},null,null,null,null,null,"",{"$f":"IFERROR(IF(A943=\"\",\"\",VLOOKUP(A943,Funcionários!$A$2:$F$299,5,0)),\"\")","v":""},""]
[null,{"$f":"IFERROR(IF(A944=\"\",\"\",VLOOKUP(A944,Funcionários!$A$2:$F$299,2,0)),\"Funcionário não encontrado\")","v":""},null,null,null,null,null,"",{"$f":"IFERROR(IF(A944=\"\",\"\",VLOOKUP(A944,Funcionários!$A$2:$F$299,5,0)),\"\")","v":""},""]
[null,{"$f":"IFERROR(IF(A945=\"\",\"\",VLOOKUP(A945,Funcionários!$A$2:$F$299,2,0)),\"Funcionário não encontrado\")","v":""},null,null,null,null,null,"",{"$f":"IFERROR(IF(A945=\"\",\"\",VLOOKUP(A945,Funcionários!$A$2:$F$299,5,0)),\"\")","v":""},""]
[null,{"$f":"IFERROR(IF(A946=\"\",\"\",VLOOKUP(A946,Funcionários!$A$2:$F$299,2,0)),\"Funcionário não encontrado\")","v":""},null,null,null,null,null,"",{"$f":"IFERROR(IF(A946=\"\",\"\",VLOOKUP(A946,Funcionários!$A$2:$F$299,5,0)),\"\")","v":""},""]
[null,{"$f":"IFERROR(IF(A947=\"\",\"\",VLOOKUP(A947,Funcionários!$A$2:$F$299,2,0)),\"Funcionário não encontrado\")","v":""},null,null,null,null,null,"",{"$f":"IFERROR(IF(A947=\"\",\"\",VLOOKUP(A947,Funcionários!$A$2:$F$299,5,0)),\"\")","v":""},""]
[null,{"$f":"IFERROR(IF(A948=\"\",\"\",VLOOKUP(A948,Funcionários!$A$2:$F$299,2,0)),\"Funcionário não encontrado\")","v":""},null,null,null,null,null,"",{"$f":"IFERROR(IF(A948=\"\",\"\",VLOOKUP(A948,Funcionários!$A$2:$F$299,5,0)),\"\")","v":""},""]
[null,{"$f":"IFERROR(IF(A949=\"\",\"\",VLOOKUP(A949,Funcionários!$A$2:$F$299,2,0)),\"Funcionário não encontrado\")","v":""},null,null,null,null,null,"",{"$f":"IFERROR(IF(A949=\"\",\"\",VLOOKUP(A949,Funcionários!$A$2:$F$299,5,0)),\"\")","v":""},""]
[null,{"$f":"IFERROR(IF(A950=\"\",\"\",VLOOKUP(A950,Funcionários!$A$2:$F$299,2,0)),\"Funcionário não encontrado\")","v":""},null,null,null,null,null,"",{"$f":"IFERROR(IF(A950=\"\",\"\",VLOOKUP(A950,Funcionários!$A$2:$F$299,5,0)),\"\")","v":""},""]
[null,{"$f":"IFERROR(IF(A951=\"\",\"\",VLOOKUP(A951,Funcionários!$A$2:$F$299,2,0)),\"Funcionário não encontrado\")","v":""},null,null,null,null,null,"",{"$f":"IFERROR(IF(A951=\"\",\"\",VLOOKUP(A951,Funcionários!$A$2:$F$299,5,0)),\"\")","v":""},""]
[null,{"$f":"IFERROR(IF(A952=\"\",\"\",VLOOKUP(A952,Funcionários!$A$2:$F$299,2,0)),\"Funcionário não encontrado\")","v":""},null,null,null,null,null,"",{"$f":"IFERROR(IF(A952=\"\",\"\",VLOOKUP(A952,Funcionários!$A$2:$F$299,5,0)),\"\")","v":""},""]
[null,{"$f":"IFERROR(IF(A953=\"\",\"\",VLOOKUP(A953,Funcionários!$A$2:$F$299,2,0)),\"Funcionário não encontrado\")","v":""},null,null,null,null,null,"",{"$f":"IFERROR(IF(A953=\"\",\"\",VLOOKUP(A953,Funcionários!$A$2:$F$299,5,0)),\"\")","v":""},""]
[null,{"$f":"IFERROR(IF(A954=\"\",\"\",VLOOKUP(A954,Funcionários!$A$2:$F$299,2,0)),\"Funcionário não encontrado\")","v":""},null,null,null,null,null,"",{"$f":"IFERROR(IF(A954=\"\",\"\",VLOOKUP(A954,Funcionários!$A$2:$F$299,5,0)),\"\")","v":""},""]
[null,{"$f":"IFERROR(IF(A955=\"\",\"\",VLOOKUP(A955,Funcionários!$A$2:$F$299,2,0)),\"Funcionário não encontrado\")","v":""},null,null,null,null,null,"",{"$f":"IFERROR(IF(A955=\"\",\"\",VLOOKUP(A955,Funcionários!$A$2:$F$299,5,0)),\"\")","v":""},""]
[null,{"$f":"IFERROR(IF(A956=\"\",\"\",VLOOKUP(A956,Funcionários!$A$2:$F$299,2,0)),\"Funcionário não encontrado\")","v":""},null,null,null,null,null,"",{"$f":"IFERROR(IF(A956=\"\",\"\",VLOOKUP(A956,Funcionários!$A$2:$F$299,5,0)),\"\")","v":""},""]
[null,{"$f":"IFERROR(IF(A957=\"\",\"\",VLOOKUP(A957,Funcionários!$A$2:$F$299,2,0)),\"Funcionário não encontrado\")","v":""},null,null,null,null,null,"",{"$f":"IFERROR(IF(A957=\"\",\"\",VLOOKUP(A957,Funcionários!$A$2:$F$299,5,0)),\"\")","v":""},""]
[null,{"$f":"IFERROR(IF(A958=\"\",\"\",VLOOKUP(A958,Funcionários!$A$2:$F$299,2,0)),\"Funcionário não encontrado\")","v":""},null,null,null,null,null,"",{"$f":"IFERROR(IF(A958=\"\",\"\",VLOOKUP(A958,Funcionários!$A$2:$F$299,5,0)),\"\")","v":""},""]
[null,{"$f":"IFERROR(IF(A959=\"\",\"\",VLOOKUP(A959,Funcionários!$A$2:$F$299,2,0)),\"Funcionário não encontrado\")","v":""},null,null,null,null,null,"",{"$f":"IFERROR(IF(A959=\"\",\"\",VLOOKUP(A959,Funcionários!$A$2:$F$299,5,0)),\"\")","v":""},""]
[null,{"$f":"IFERROR(IF(A960=\"\",\"\",VLOOKUP(A960,Funcionários!$A$2:$F$299,2,0)),\"Funcionário não encontrado\")","v":""},null,null,null,null,null,"",{"$f":"IFERROR(IF(A960=\"\",\"\",VLOOKUP(A960,Funcionários!$A$2:$F$299,5,0)),\"\")","v":""},""]
[null,{"$f":"IFERROR(IF(A961=\"\",\"\",VLOOKUP(A961,Funcionários!$A$2:$F$299,2,0)),\"Funcionário não encontrado\")","v":""},null,null,null,null,null,"",{"$f":"IFERROR(IF(A961=\"\",\"\",VLOOKUP(A961,Funcionários!$A$2:$F$299,5,0)),\"\")","v":""},""]
[null,{"$f":"IFERROR(IF(A962=\"\",\"\",VLOOKUP(A962,Funcionários!$A$2:$F$299,2,0)),\"Funcionário não encontrado\")","v":""},null,null,null,null,null,"",{"$f":"IFERROR(IF(A962=\"\",\"\",VLOOKUP(A962,Funcionários!$A$2:$F$299,5,0)),\"\")","v":""},""]
[null,{"$f":"IFERROR(IF(A963=\"\",\"\",VLOOKUP(A963,Funcionários!$A$2:$F$299,2,0)),\"Funcionário não encontrado\")","v":""},null,null,null,null,null,{"$f":"IF(OR(D963=\"\",E963=\"\",F963=\"\"),\"\",MOD((E963-D963)+(G963-F963),1))","v":""},{"$f":"IFERROR(IF(A963=\"\",\"\",VLOOKUP(A963,Funcionários!$A$2:$F$299,5,0)),\"\")","v":""},{"$f":"IF(H963=\"\",\"\",H963-I963)","v":""}]
[null,{"$f":"IFERROR(IF(A964=\"\",\"\",VLOOKUP(A964,Funcionários!$A$2:$F$299,2,0)),\"Funcionário não encontrado\")","v":""},null,null,null,null,null,"",{"$f":"IFERROR(IF(A964=\"\",\"\",VLOOKUP(A964,Funcionários!$A$2:$F$299,5,0)),\"\")","v":""},""]
[null,{"$f":"IFERROR(IF(A965=\"\",\"\",VLOOKUP(A965,Funcionários!$A$2:$F$299,2,0)),\"Funcionário não encontrado\")","v":""},null,null,null,null,null,"",{"$f":"IFERROR(IF(A965=\"\",\"\",VLOOKUP(A965,Funcionários!$A$2:$F$299,5,0)),\"\")","v":""},""]
[null,{"$f":"IFERROR(IF(A966=\"\",\"\",VLOOKUP(A966,Funcionários!$A$2:$F$299,2,0)),\"Funcionário não encontrado\")","v":""},null,null,null,null,null,"",{"$f":"IFERROR(IF(A966=\"\",\"\",VLOOKUP(A966,Funcionários!$A$2:$F$299,5,0)),\"\")","v":""},""]
[null,{"$f":"IFERROR(IF(A967=\"\",\"\",VLOOKUP(A967,Funcionários!$A$2:$F$299,2,0)),\"Funcionário não encontrado\")","v":""},null,null,null,null,null,"",{"$f":"IFERROR(IF(A967=\"\",\"\",VLOOKUP(A967,Funcionários!$A$2:$F$299,5,0)),\"\")","v":""},""]
[null,{"$f":"IFERROR(IF(A968=\"\",\"\",VLOOKUP(A968,Funcionários!$A$2:$F$299,2,0)),\"Funcionário não encontrado\")","v":""},null,null,null,null,null,"",{"$f":"IFERROR(IF(A968=\"\",\"\",VLOOKUP(A968,Funcionários!$A$2:$F$299,5,0)),\"\")","v":""},""]
[null,{"$f":"IFERROR(IF(A969=\"\",\"\",VLOOKUP(A969,Funcionários!$A$2:$F$299,2,0)),\"Funcionário não encontrado\")","v":""},null,null,null,null,null,"",{"$f":"IFERROR(IF(A969=\"\",\"\",VLOOKUP(A969,Funcionários!$A$2:$F$299,5,0)),\"\")","v":""},""]
[null,{"$f":"IFERROR(IF(A970=\"\",\"\",VLOOKUP(A970,Funcionários!$A$2:$F$299,2,0)),\"Funcionário não encontrado\")","v":""},null,null,null,null,null,"",{"$f":"IFERROR(IF(A970=\"\",\"\",VLOOKUP(A970,Funcionários!$A$2:$F$299,5,0)),\"\")","v":""},""]
[null,{"$f":"IFERROR(IF(A971=\"\",\"\",VLOOKUP(A971,Funcionários!$A$2:$F$299,2,0)),\"Funcionário não encontrado\")","v":""},null,null,null,null,null,"",{"$f":"IFERROR(IF(A971=\"\",\"\",VLOOKUP(A971,Funcionários!$A$2:$F$299,5,0)),\"\")","v":""},""]
[null,{"$f":"IFERROR(IF(A972=\"\",\"\",VLOOKUP(A972,Funcionários!$A$2:$F$299,2,0)),\"Funcionário não encontrado\")","v":""},null,null,null,null,null,"",{"$f":"IFERROR(IF(A972=\"\",\"\",VLOOKUP(A972,Funcionários!$A$2:$F$299,5,0)),\"\")","v":""},""]
[null,{"$f":"IFERROR(IF(A973=\"\",\"\",VLOOKUP(A973,Funcionários!$A$2:$F$299,2,0)),\"Funcionário não encontrado\")","v":""},null,null,null,null,null,"",{"$f":"IFERROR(IF(A973=\"\",\"\",VLOOKUP(A973,Funcionários!$A$2:$F$299,5,0)),\"\")","v":""},""]
[null,{"$f":"IFERROR(IF(A974=\"\",\"\",VLOOKUP(A974,Funcionários!$A$2:$F$299,2,0)),\"Funcionário não encontrado\")","v":""},null,null,null,null,null,"",{"$f":"IFERROR(IF(A974=\"\",\"\",VLOOKUP(A974,Funcionários!$A$2:$F$299,5,0)),\"\")","v":""},""]
[null,{"$f":"IFERROR(IF(A975=\"\",\"\",VLOOKUP(A975,Funcionários!$A$2:$F$299,2,0)),\"Funcionário não encontrado\")","v":""},null,null,null,null,null,"",{"$f":"IFERROR(IF(A975=\"\",\"\",VLOOKUP(A975,Funcionários!$A$2:$F$299,5,0)),\"\")","v":""},""]
[null,{"$f":"IFERROR(IF(A976=\"\",\"\",VLOOKUP(A976,Funcionários!$A$2:$F$299,2,0)),\"Funcionário não encontrado\")","v":""},null,null,null,null,null,"",{"$f":"IFERROR(IF(A976=\"\",\"\",VLOOKUP(A976,Funcionários!$A$2:$F$299,5,0)),\"\")","v":""},""]
[null,{"$f":"IFERROR(IF(A977=\"\",\"\",VLOOKUP(A977,Funcionários!$A$2:$F$299,2,0)),\"Funcionário não encontrado\")","v":""},null,null,null,null,null,"",{"$f":"IFERROR(IF(A977=\"\",\"\",VLOOKUP(A977,Funcionários!$A$2:$F$299,5,0)),\"\")","v":""},""]
[null,{"$f":"IFERROR(IF(A978=\"\",\"\",VLOOKUP(A978,Funcionários!$A$2:$F$299,2,0)),\"Funcionário não encontrado\")","v":""},null,null,null,null,null,"",{"$f":"IFERROR(IF(A978=\"\",\"\",VLOOKUP(A978,Funcionários!$A$2:$F$299,5,0)),\"\")","v":""},""]
[null,{"$f":"IFERROR(IF(A979=\"\",\"\",VLOOKUP(A979,Funcionários!$A$2:$F$299,2,0)),\"Funcionário não encontrado\")","v":""},null,null,null,null,null,"",{"$f":"IFERROR(IF(A979=\"\",\"\",VLOOKUP(A979,Funcionários!$A$2:$F$299,5,0)),\"\")","v":""},""]
[null,{"$f":"IFERROR(IF(A980=\"\",\"\",VLOOKUP(A980,Funcionários!$A$2:$F$299,2,0)),\"Funcionário não encontrado\")","v":""},null,null,null,null,null,"",{"$f":"IFERROR(IF(A980=\"\",\"\",VLOOKUP(A980,Funcionários!$A$2:$F$299,5,0)),\"\")","v":""},""]
[null,{"$f":"IFERROR(IF(A981=\"\",\"\",VLOOKUP(A981,Funcionários!$A$2:$F$299,2,0)),\"Funcionário não encontrado\")","v":""},null,null,null,null,null,"",{"$f":"IFERROR(IF(A981=\"\",\"\",VLOOKUP(A981,Funcionários!$A$2:$F$299,5,0)),\"\")","v":""},""]
[null,{"$f":"IFERROR(IF(A982=\"\",\"\",VLOOKUP(A982,Funcionários!$A$2:$F$299,2,0)),\"Funcionário não encontrado\")","v":""},null,null,null,null,null,"",{"$f":"IFERROR(IF(A982=\"\",\"\",VLOOKUP(A982,Funcionários!$A$2:$F$299,5,0)),\"\")","v":""},""]
[null,{"$f":"IFERROR(IF(A983=\"\",\"\",VLOOKUP(A983,Funcionários!$A$2:$F$299,2,0)),\"Funcionário não encontrado\")","v":""},null,null,null,null,null,"",{"$f":"IFERROR(IF(A983=\"\",\"\",VLOOKUP(A983,Funcionários!$A$2:$F$299,5,0)),\"\")","v":""},""]
[null,{"$f":"IFERROR(IF(A984=\"\",\"\",VLOOKUP(A984,Funcionários!$A$2:$F$299,2,0)),\"Funcionário não encontrado\")","v":""},null,null,null,null,null,"",{"$f":"IFERROR(IF(A984=\"\",\"\",VLOOKUP(A984,Funcionários!$A$2:$F$299,5,0)),\"\")","v":""},""]
[null,{"$f":"IFERROR(IF(A985=\"\",\"\",VLOOKUP(A985,Funcionários!$A$2:$F$299,2,0)),\"Funcionário não encontrado\")","v":""},null,null,null,null,null,"",{"$f":"IFERROR(IF(A985=\"\",\"\",VLOOKUP(A985,Funcionários!$A$2:$F$299,5,0)),\"\")","v":""},""]
[null,{"$f":"IFERROR(IF(A986=\"\",\"\",VLOOKUP(A986,Funcionários!$A$2:$F$299,2,0)),\"Funcionário não encontrado\")","v":""},null,null,null,null,null,"",{"$f":"IFERROR(IF(A986=\"\",\"\",VLOOKUP(A986,Funcionários!$A$2:$F$299,5,0)),\"\")","v":""},""]
[null,{"$f":"IFERROR(IF(A987=\"\",\"\",VLOOKUP(A987,Funcionários!$A$2:$F$299,2,0)),\"Funcionário não encontrado\")","v":""},null,null,null,null,null,"",{"$f":"IFERROR(IF(A987=\"\",\"\",VLOOKUP(A987,Funcionários!$A$2:$F$299,5,0)),\"\")","v":""},""]
[null,{"$f":"IFERROR(IF(A988=\"\",\"\",VLOOKUP(A988,Funcionários!$A$2:$F$299,2,0)),\"Funcionário não encontrado\")","v":""},null,null,null,null,null,"",{"$f":"IFERROR(IF(A988=\"\",\"\",VLOOKUP(A988,Funcionários!$A$2:$F$299,5,0)),\"\")","v":""},""]
[null,{"$f":"IFERROR(IF(A989=\"\",\"\",VLOOKUP(A989,Funcionários!$A$2:$F$299,2,0)),\"Funcionário não encontrado\")","v":""},null,null,null,null,null,"",{"$f":"IFERROR(IF(A989=\"\",\"\",VLOOKUP(A989,Funcionários!$A$2:$F$299,5,0)),\"\")","v":""},""]
[null,{"$f":"IFERROR(IF(A990=\"\",\"\",VLOOKUP(A990,Funcionários!$A$2:$F$299,2,0)),\"Funcionário não encontrado\")","v":""},null,null,null,null,null,"",{"$f":"IFERROR(IF(A990=\"\",\"\",VLOOKUP(A990,Funcionários!$A$2:$F$299,5,0)),\"\")","v":""},""]
[null,{"$f":"IFERROR(IF(A991=\"\",\"\",VLOOKUP(A991,Funcionários!$A$2:$F$299,2,0)),\"Funcionário não encontrado\")","v":""},null,null,null,null,null,"",{"$f":"IFERROR(IF(A991=\"\",\"\",VLOOKUP(A991,Funcionários!$A$2:$F$299,5,0)),\"\")","v":""},""]
[null,{"$f":"IFERROR(IF(A992=\"\",\"\",VLOOKUP(A992,Funcionários!$A$2:$F$299,2,0)),\"Funcionário não encontrado\")","v":""},null,null,null,null,null,"",{"$f":"IFERROR(IF(A992=\"\",\"\",VLOOKUP(A992,Funcionários!$A$2:$F$299,5,0)),\"\")","v":""},""]
[null,{"$f":"IFERROR(IF(A993=\"\",\"\",VLOOKUP(A993,Funcionários!$A$2:$F$299,2,0)),\"Funcionário não encontrado\")","v":""},null,null,null,null,null,"",{"$f":"IFERROR(IF(A993=\"\",\"\",VLOOKUP(A993,Funcionários!$A$2:$F$299,5,0)),\"\")","v":""},""]
[null,{"$f":"IFERROR(IF(A994=\"\",\"\",VLOOKUP(A994,Funcionários!$A$2:$F$299,2,0)),\"Funcionário não encontrado\")","v":""},null,null,null,null,null,"",{"$f":"IFERROR(IF(A994=\"\",\"\",VLOOKUP(A994,Funcionários!$A$2:$F$299,5,0)),\"\")","v":""},""]
[null,{"$f":"IFERROR(IF(A995=\"\",\"\",VLOOKUP(A995,Funcionários!$A$2:$F$299,2,0)),\"Funcionário não encontrado\")","v":""},null,null,null,null,null,"",{"$f":"IFERROR(IF(A995=\"\",\"\",VLOOKUP(A995,Funcionários!$A$2:$F$299,5,0)),\"\")","v":""},""]
[null,{"$f":"IFERROR(IF(A996=\"\",\"\",VLOOKUP(A996,Funcionários!$A$2:$F$299,2,0)),\"Funcionário não encontrado\")","v":""},null,null,null,null,null,"",{"$f":"IFERROR(IF(A996=\"\",\"\",VLOOKUP(A996,Funcionários!$A$2:$F$299,5,0)),\"\")","v":""},""]
[null,{"$f":"IFERROR(IF(A997=\"\",\"\",VLOOKUP(A997,Funcionários!$A$2:$F$299,2,0)),\"Funcionário não encontrado\")","v":""},null,null,null,null,null,"",{"$f":"IFERROR(IF(A997=\"\",\"\",VLOOKUP(A997,Funcionários!$A$2:$F$299,5,0)),\"\")","v":""},""]
[null,{"$f":"IFERROR(IF(A998=\"\",\"\",VLOOKUP(A998,Funcionários!$A$2:$F$299,2,0)),\"Funcionário não encontrado\")","v":""},null,null,null,null,null,"",{"$f":"IFERROR(IF(A998=\"\",\"\",VLOOKUP(A998,Funcionários!$A$2:$F$299,5,0)),\"\")","v":""},""]
[null,{"$f":"IFERROR(IF(A999=\"\",\"\",VLOOKUP(A999,Funcionários!$A$2:$F$299,2,0)),\"Funcionário não encontrado\")","v":""},null,null,null,null,null,"",{"$f":"IFERROR(IF(A999=\"\",\"\",VLOOKUP(A999,Funcionários!$A$2:$F$299,5,0)),\"\")","v":""},""]
[null,{"$f":"IFERROR(IF(A1000=\"\",\"\",VLOOKUP(A1000,Funcionários!$A$2:$F$299,2,0)),\"Funcionário não encontrado\")","v":""},null,null,null,null,null,"",{"$f":"IFERROR(IF(A1000=\"\",\"\",VLOOKUP(A1000,Funcionários!$A$2:$F$299,5,0)),\"\")","v":""},""]
[null,{"$f":"IFERROR(IF(A1001=\"\",\"\",VLOOKUP(A1001,Funcionários!$A$2:$F$299,2,0)),\"Funcionário não encontrado\")","v":""},null,null,null,null,null,"",{"$f":"IFERROR(IF(A1001=\"\",\"\",VLOOKUP(A1001,Funcionários!$A$2:$F$299,5,0)),\"\")","v":""},""]
[null,{"$f":"IFERROR(IF(A1002=\"\",\"\",VLOOKUP(A1002,Funcionários!$A$2:$F$299,2,0)),\"Funcionário não encontrado\")","v":""},null,null,null,null,null,"",{"$f":"IFERROR(IF(A1002=\"\",\"\",VLOOKUP(A1002,Funcionários!$A$2:$F$299,5,0)),\"\")","v":""},""]
[null,{"$f":"IFERROR(IF(A1003=\"\",\"\",VLOOKUP(A1003,Funcionários!$A$2:$F$299,2,0)),\"Funcionário não encontrado\")","v":""},null,null,null,null,null,"",{"$f":"IFERROR(IF(A1003=\"\",\"\",VLOOKUP(A1003,Funcionários!$A$2:$F$299,5,0)),\"\")","v":""},""]
[null,{"$f":"IFERROR(IF(A1004=\"\",\"\",VLOOKUP(A1004,Funcionários!$A$2:$F$299,2,0)),\"Funcionário não encontrado\")","v":""},null,null,null,null,null,"",{"$f":"IFERROR(IF(A1004=\"\",\"\",VLOOKUP(A1004,Funcionários!$A$2:$F$299,5,0)),\"\")","v":""},""]
[null,{"$f":"IFERROR(IF(A1005=\"\",\"\",VLOOKUP(A1005,Funcionários!$A$2:$F$299,2,0)),\"Funcionário não encontrado\")","v":""},null,null,null,null,null,"",{"$f":"IFERROR(IF(A1005=\"\",\"\",VLOOKUP(A1005,Funcionários!$A$2:$F$299,5,0)),\"\")","v":""},""]
[null,{"$f":"IFERROR(IF(A1006=\"\",\"\",VLOOKUP(A1006,Funcionários!$A$2:$F$299,2,0)),\"Funcionário não encontrado\")","v":""},null,null,null,null,null,"",{"$f":"IFERROR(IF(A1006=\"\",\"\",VLOOKUP(A1006,Funcionários!$A$2:$F$299,5,0)),\"\")","v":""},""]
[null,{"$f":"IFERROR(IF(A1007=\"\",\"\",VLOOKUP(A1007,Funcionários!$A$2:$F$299,2,0)),\"Funcionário não encontrado\")","v":""},null,null,null,null,null,"",{"$f":"IFERROR(IF(A1007=\"\",\"\",VLOOKUP(A1007,Funcionários!$A$2:$F$299,5,0)),\"\")","v":""},""]
[null,{"$f":"IFERROR(IF(A1008=\"\",\"\",VLOOKUP(A1008,Funcionários!$A$2:$F$299,2,0)),\"Funcionário não encontrado\")","v":""},null,null,null,null,null,"",{"$f":"IFERROR(IF(A1008=\"\",\"\",VLOOKUP(A1008,Funcionários!$A$2:$F$299,5,0)),\"\")","v":""},""]
[null,{"$f":"IFERROR(IF(A1009=\"\",\"\",VLOOKUP(A1009,Funcionários!$A$2:$F$299,2,0)),\"Funcionário não encontrado\")","v":""},null,null,null,null,null,"",{"$f":"IFERROR(IF(A1009=\"\",\"\",VLOOKUP(A1009,Funcionários!$A$2:$F$299,5,0)),\"\")","v":""},""]
[null,{"$f":"IFERROR(IF(A1010=\"\",\"\",VLOOKUP(A1010,Funcionários!$A$2:$F$299,2,0)),\"Funcionário não encontrado\")","v":""},null,null,null,null,null,"",{"$f":"IFERROR(IF(A1010=\"\",\"\",VLOOKUP(A1010,Funcionários!$A$2:$F$299,5,0)),\"\")","v":""},""]
[null,{"$f":"IFERROR(IF(A1011=\"\",\"\",VLOOKUP(A1011,Funcionários!$A$2:$F$299,2,0)),\"Funcionário não encontrado\")","v":""},null,null,null,null,null,"",{"$f":"IFERROR(IF(A1011=\"\",\"\",VLOOKUP(A1011,Funcionários!$A$2:$F$299,5,0)),\"\")","v":""},""]
[null,{"$f":"IFERROR(IF(A1012=\"\",\"\",VLOOKUP(A1012,Funcionários!$A$2:$F$299,2,0)),\"Funcionário não encontrado\")","v":""},null,null,null,null,null,"",{"$f":"IFERROR(IF(A1012=\"\",\"\",VLOOKUP(A1012,Funcionários!$A$2:$F$299,5,0)),\"\")","v":""},""]
[null,{"$f":"IFERROR(IF(A1013=\"\",\"\",VLOOKUP(A1013,Funcionários!$A$2:$F$299,2,0)),\"Funcionário não encontrado\")","v":""},null,null,null,null,null,"",{"$f":"IFERROR(IF(A1013=\"\",\"\",VLOOKUP(A1013,Funcionários!$A$2:$F$299,5,0)),\"\")","v":""},""]
[null,{"$f":"IFERROR(IF(A1014=\"\",\"\",VLOOKUP(A1014,Funcionários!$A$2:$F$299,2,0)),\"Funcionário não encontrado\")","v":""},null,null,null,null,null,"",{"$f":"IFERROR(IF(A1014=\"\",\"\",VLOOKUP(A1014,Funcionários!$A$2:$F$299,5,0)),\"\")","v":""},""]
[null,{"$f":"IFERROR(IF(A1015=\"\",\"\",VLOOKUP(A1015,Funcionários!$A$2:$F$299,2,0)),\"Funcionário não encontrado\")","v":""},null,null,null,null,null,"",{"$f":"IFERROR(IF(A1015=\"\",\"\",VLOOKUP(A1015,Funcionários!$A$2:$F$299,5,0)),\"\")","v":""},""]
[null,{"$f":"IFERROR(IF(A1016=\"\",\"\",VLOOKUP(A1016,Funcionários!$A$2:$F$299,2,0)),\"Funcionário não encontrado\")","v":""},null,null,null,null,null,"",{"$f":"IFERROR(IF(A1016=\"\",\"\",VLOOKUP(A1016,Funcionários!$A$2:$F$299,5,0)),\"\")","v":""},""]
[null,{"$f":"IFERROR(IF(A1017=\"\",\"\",VLOOKUP(A1017,Funcionários!$A$2:$F$299,2,0)),\"Funcionário não encontrado\")","v":""},null,null,null,null,null,"",{"$f":"IFERROR(IF(A1017=\"\",\"\",VLOOKUP(A1017,Funcionários!$A$2:$F$299,5,0)),\"\")","v":""},""]
[null,{"$f":"IFERROR(IF(A1018=\"\",\"\",VLOOKUP(A1018,Funcionários!$A$2:$F$299,2,0)),\"Funcionário não encontrado\")","v":""},null,null,null,null,null,"",{"$f":"IFERROR(IF(A1018=\"\",\"\",VLOOKUP(A1018,Funcionários!$A$2:$F$299,5,0)),\"\")","v":""},""]
[null,{"$f":"IFERROR(IF(A1019=\"\",\"\",VLOOKUP(A1019,Funcionários!$A$2:$F$299,2,0)),\"Funcionário não encontrado\")","v":""},null,null,null,null,null,"",{"$f":"IFERROR(IF(A1019=\"\",\"\",VLOOKUP(A1019,Funcionários!$A$2:$F$299,5,0)),\"\")","v":""},""]
[null,{"$f":"IFERROR(IF(A1020=\"\",\"\",VLOOKUP(A1020,Funcionários!$A$2:$F$299,2,0)),\"Funcionário não encontrado\")","v":""},null,null,null,null,null,"",{"$f":"IFERROR(IF(A1020=\"\",\"\",VLOOKUP(A1020,Funcionários!$A$2:$F$299,5,0)),\"\")","v":""},""]
[null,{"$f":"IFERROR(IF(A1021=\"\",\"\",VLOOKUP(A1021,Funcionários!$A$2:$F$299,2,0)),\"Funcionário não encontrado\")","v":""},null,null,null,null,null,"",{"$f":"IFERROR(IF(A1021=\"\",\"\",VLOOKUP(A1021,Funcionários!$A$2:$F$299,5,0)),\"\")","v":""},""]
[null,{"$f":"IFERROR(IF(A1022=\"\",\"\",VLOOKUP(A1022,Funcionários!$A$2:$F$299,2,0)),\"Funcionário não encontrado\")","v":""},null,null,null,null,null,"",{"$f":"IFERROR(IF(A1022=\"\",\"\",VLOOKUP(A1022,Funcionários!$A$2:$F$299,5,0)),\"\")","v":""},""]
[null,{"$f":"IFERROR(IF(A1023=\"\",\"\",VLOOKUP(A1023,Funcionários!$A$2:$F$299,2,0)),\"Funcionário não encontrado\")","v":""},null,null,null,null,null,"",{"$f":"IFERROR(IF(A1023=\"\",\"\",VLOOKUP(A1023,Funcionários!$A$2:$F$299,5,0)),\"\")","v":""},""]
[null,{"$f":"IFERROR(IF(A1024=\"\",\"\",VLOOKUP(A1024,Funcionários!$A$2:$F$299,2,0)),\"Funcionário não encontrado\")","v":""},null,null,null,null,null,"",{"$f":"IFERROR(IF(A1024=\"\",\"\",VLOOKUP(A1024,Funcionários!$A$2:$F$299,5,0)),\"\")","v":""},""]
[null,{"$f":"IFERROR(IF(A1025=\"\",\"\",VLOOKUP(A1025,Funcionários!$A$2:$F$299,2,0)),\"Funcionário não encontrado\")","v":""},null,null,null,null,null,"",{"$f":"IFERROR(IF(A1025=\"\",\"\",VLOOKUP(A1025,Funcionários!$A$2:$F$299,5,0)),\"\")","v":""},""]
[null,{"$f":"IFERROR(IF(A1026=\"\",\"\",VLOOKUP(A1026,Funcionários!$A$2:$F$299,2,0)),\"Funcionário não encontrado\")","v":""},null,null,null,null,null,"",{"$f":"IFERROR(IF(A1026=\"\",\"\",VLOOKUP(A1026,Funcionários!$A$2:$F$299,5,0)),\"\")","v":""},""]
[null,{"$f":"IFERROR(IF(A1027=\"\",\"\",VLOOKUP(A1027,Funcionários!$A$2:$F$299,2,0)),\"Funcionário não encontrado\")","v":""},null,null,null,null,null,{"$f":"IF(OR(D1027=\"\",E1027=\"\",F1027=\"\"),\"\",MOD((E1027-D1027)+(G1027-F1027),1))","v":""},{"$f":"IFERROR(IF(A1027=\"\",\"\",VLOOKUP(A1027,Funcionários!$A$2:$F$299,5,0)),\"\")","v":""},{"$f":"IF(H1027=\"\",\"\",H1027-I1027)","v":""}]
[null,{"$f":"IFERROR(IF(A1028=\"\",\"\",VLOOKUP(A1028,Funcionários!$A$2:$F$299,2,0)),\"Funcionário não encontrado\")","v":""},null,null,null,null,null,"",{"$f":"IFERROR(IF(A1028=\"\",\"\",VLOOKUP(A1028,Funcionários!$A$2:$F$299,5,0)),\"\")","v":""},""]
[null,{"$f":"IFERROR(IF(A1029=\"\",\"\",VLOOKUP(A1029,Funcionários!$A$2:$F$299,2,0)),\"Funcionário não encontrado\")","v":""},null,null,null,null,null,"",{"$f":"IFERROR(IF(A1029=\"\",\"\",VLOOKUP(A1029,Funcionários!$A$2:$F$299,5,0)),\"\")","v":""},""]
[null,{"$f":"IFERROR(IF(A1030=\"\",\"\",VLOOKUP(A1030,Funcionários!$A$2:$F$299,2,0)),\"Funcionário não encontrado\")","v":""},null,null,null,null,null,"",{"$f":"IFERROR(IF(A1030=\"\",\"\",VLOOKUP(A1030,Funcionários!$A$2:$F$299,5,0)),\"\")","v":""},""]
[null,{"$f":"IFERROR(IF(A1031=\"\",\"\",VLOOKUP(A1031,Funcionários!$A$2:$F$299,2,0)),\"Funcionário não encontrado\")","v":""},null,null,null,null,null,"",{"$f":"IFERROR(IF(A1031=\"\",\"\",VLOOKUP(A1031,Funcionários!$A$2:$F$299,5,0)),\"\")","v":""},""]
[null,{"$f":"IFERROR(IF(A1032=\"\",\"\",VLOOKUP(A1032,Funcionários!$A$2:$F$299,2,0)),\"Funcionário não encontrado\")","v":""},null,null,null,null,null,"",{"$f":"IFERROR(IF(A1032=\"\",\"\",VLOOKUP(A1032,Funcionários!$A$2:$F$299,5,0)),\"\")","v":""},""]
[null,{"$f":"IFERROR(IF(A1033=\"\",\"\",VLOOKUP(A1033,Funcionários!$A$2:$F$299,2,0)),\"Funcionário não encontrado\")","v":""},null,null,null,null,null,"",{"$f":"IFERROR(IF(A1033=\"\",\"\",VLOOKUP(A1033,Funcionários!$A$2:$F$299,5,0)),\"\")","v":""},""]
[null,{"$f":"IFERROR(IF(A1034=\"\",\"\",VLOOKUP(A1034,Funcionários!$A$2:$F$299,2,0)),\"Funcionário não encontrado\")","v":""},null,null,null,null,null,"",{"$f":"IFERROR(IF(A1034=\"\",\"\",VLOOKUP(A1034,Funcionários!$A$2:$F$299,5,0)),\"\")","v":""},""]
[null,{"$f":"IFERROR(IF(A1035=\"\",\"\",VLOOKUP(A1035,Funcionários!$A$2:$F$299,2,0)),\"Funcionário não encontrado\")","v":""},null,null,null,null,null,"",{"$f":"IFERROR(IF(A1035=\"\",\"\",VLOOKUP(A1035,Funcionários!$A$2:$F$299,5,0)),\"\")","v":""},""]
[null,{"$f":"IFERROR(IF(A1036=\"\",\"\",VLOOKUP(A1036,Funcionários!$A$2:$F$299,2,0)),\"Funcionário não encontrado\")","v":""},null,null,null,null,null,"",{"$f":"IFERROR(IF(A1036=\"\",\"\",VLOOKUP(A1036,Funcionários!$A$2:$F$299,5,0)),\"\")","v":""},""]
[null,{"$f":"IFERROR(IF(A1037=\"\",\"\",VLOOKUP(A1037,Funcionários!$A$2:$F$299,2,0)),\"Funcionário não encontrado\")","v":""},null,null,null,null,null,"",{"$f":"IFERROR(IF(A1037=\"\",\"\",VLOOKUP(A1037,Funcionários!$A$2:$F$299,5,0)),\"\")","v":""},""]
[null,{"$f":"IFERROR(IF(A1038=\"\",\"\",VLOOKUP(A1038,Funcionários!$A$2:$F$299,2,0)),\"Funcionário não encontrado\")","v":""},null,null,null,null,null,"",{"$f":"IFERROR(IF(A1038=\"\",\"\",VLOOKUP(A1038,Funcionários!$A$2:$F$299,5,0)),\"\")","v":""},""]
[null,{"$f":"IFERROR(IF(A1039=\"\",\"\",VLOOKUP(A1039,Funcionários!$A$2:$F$299,2,0)),\"Funcionário não encontrado\")","v":""},null,null,null,null,null,"",{"$f":"IFERROR(IF(A1039=\"\",\"\",VLOOKUP(A1039,Funcionários!$A$2:$F$299,5,0)),\"\")","v":""},""]
[null,{"$f":"IFERROR(IF(A1040=\"\",\"\",VLOOKUP(A1040,Funcionários!$A$2:$F$299,2,0)),\"Funcionário não encontrado\")","v":""},null,null,null,null,null,"",{"$f":"IFERROR(IF(A1040=\"\",\"\",VLOOKUP(A1040,Funcionários!$A$2:$F$299,5,0)),\"\")","v":""},""]
[null,{"$f":"IFERROR(IF(A1041=\"\",\"\",VLOOKUP(A1041,Funcionários!$A$2:$F$299,2,0)),\"Funcionário não encontrado\")","v":""},null,null,null,null,null,"",{"$f":"IFERROR(IF(A1041=\"\",\"\",VLOOKUP(A1041,Funcionários!$A$2:$F$299,5,0)),\"\")","v":""},""]
[null,{"$f":"IFERROR(IF(A1042=\"\",\"\",VLOOKUP(A1042,Funcionários!$A$2:$F$299,2,0)),\"Funcionário não encontrado\")","v":""},null,null,null,null,null,"",{"$f":"IFERROR(IF(A1042=\"\",\"\",VLOOKUP(A1042,Funcionários!$A$2:$F$299,5,0)),\"\")","v":""},""]
[null,{"$f":"IFERROR(IF(A1043=\"\",\"\",VLOOKUP(A1043,Funcionários!$A$2:$F$299,2,0)),\"Funcionário não encontrado\")","v":""},null,null,null,null,null,"",{"$f":"IFERROR(IF(A1043=\"\",\"\",VLOOKUP(A1043,Funcionários!$A$2:$F$299,5,0)),\"\")","v":""},""]
[null,{"$f":"IFERROR(IF(A1044=\"\",\"\",VLOOKUP(A1044,Funcionários!$A$2:$F$299,2,0)),\"Funcionário não encontrado\")","v":""},null,null,null,null,null,"",{"$f":"IFERROR(IF(A1044=\"\",\"\",VLOOKUP(A1044,Funcionários!$A$2:$F$299,5,0)),\"\")","v":""},""]
[null,{"$f":"IFERROR(IF(A1045=\"\",\"\",VLOOKUP(A1045,Funcionários!$A$2:$F$299,2,0)),\"Funcionário não encontrado\")","v":""},null,null,null,null,null,"",{"$f":"IFERROR(IF(A1045=\"\",\"\",VLOOKUP(A1045,Funcionários!$A$2:$F$299,5,0)),\"\")","v":""},""]
[null,{"$f":"IFERROR(IF(A1046=\"\",\"\",VLOOKUP(A1046,Funcionários!$A$2:$F$299,2,0)),\"Funcionário não encontrado\")","v":""},null,null,null,null,null,"",{"$f":"IFERROR(IF(A1046=\"\",\"\",VLOOKUP(A1046,Funcionários!$A$2:$F$299,5,0)),\"\")","v":""},""]
[null,{"$f":"IFERROR(IF(A1047=\"\",\"\",VLOOKUP(A1047,Funcionários!$A$2:$F$299,2,0)),\"Funcionário não encontrado\")","v":""},null,null,null,null,null,"",{"$f":"IFERROR(IF(A1047=\"\",\"\",VLOOKUP(A1047,Funcionários!$A$2:$F$299,5,0)),\"\")","v":""},""]
[null,{"$f":"IFERROR(IF(A1048=\"\",\"\",VLOOKUP(A1048,Funcionários!$A$2:$F$299,2,0)),\"Funcionário não encontrado\")","v":""},null,null,null,null,null,"",{"$f":"IFERROR(IF(A1048=\"\",\"\",VLOOKUP(A1048,Funcionários!$A$2:$F$299,5,0)),\"\")","v":""},""]
[null,{"$f":"IFERROR(IF(A1049=\"\",\"\",VLOOKUP(A1049,Funcionários!$A$2:$F$299,2,0)),\"Funcionário não encontrado\")","v":""},null,null,null,null,null,"",{"$f":"IFERROR(IF(A1049=\"\",\"\",VLOOKUP(A1049,Funcionários!$A$2:$F$299,5,0)),\"\")","v":""},""]
[null,{"$f":"IFERROR(IF(A1050=\"\",\"\",VLOOKUP(A1050,Funcionários!$A$2:$F$299,2,0)),\"Funcionário não encontrado\")","v":""},null,null,null,null,null,"",{"$f":"IFERROR(IF(A1050=\"\",\"\",VLOOKUP(A1050,Funcionários!$A$2:$F$299,5,0)),\"\")","v":""},""]
[null,{"$f":"IFERROR(IF(A1051=\"\",\"\",VLOOKUP(A1051,Funcionários!$A$2:$F$299,2,0)),\"Funcionário não encontrado\")","v":""},null,null,null,null,null,"",{"$f":"IFERROR(IF(A1051=\"\",\"\",VLOOKUP(A1051,Funcionários!$A$2:$F$299,5,0)),\"\")","v":""},""]
[null,{"$f":"IFERROR(IF(A1052=\"\",\"\",VLOOKUP(A1052,Funcionários!$A$2:$F$299,2,0)),\"Funcionário não encontrado\")","v":""},null,null,null,null,null,"",{"$f":"IFERROR(IF(A1052=\"\",\"\",VLOOKUP(A1052,Funcionários!$A$2:$F$299,5,0)),\"\")","v":""},""]
[null,{"$f":"IFERROR(IF(A1053=\"\",\"\",VLOOKUP(A1053,Funcionários!$A$2:$F$299,2,0)),\"Funcionário não encontrado\")","v":""},null,null,null,null,null,"",{"$f":"IFERROR(IF(A1053=\"\",\"\",VLOOKUP(A1053,Funcionários!$A$2:$F$299,5,0)),\"\")","v":""},""]
[null,{"$f":"IFERROR(IF(A1054=\"\",\"\",VLOOKUP(A1054,Funcionários!$A$2:$F$299,2,0)),\"Funcionário não encontrado\")","v":""},null,null,null,null,null,"",{"$f":"IFERROR(IF(A1054=\"\",\"\",VLOOKUP(A1054,Funcionários!$A$2:$F$299,5,0)),\"\")","v":""},""]
[null,{"$f":"IFERROR(IF(A1055=\"\",\"\",VLOOKUP(A1055,Funcionários!$A$2:$F$299,2,0)),\"Funcionário não encontrado\")","v":""},null,null,null,null,null,"",{"$f":"IFERROR(IF(A1055=\"\",\"\",VLOOKUP(A1055,Funcionários!$A$2:$F$299,5,0)),\"\")","v":""},""]
[null,{"$f":"IFERROR(IF(A1056=\"\",\"\",VLOOKUP(A1056,Funcionários!$A$2:$F$299,2,0)),\"Funcionário não encontrado\")","v":""},null,null,null,null,null,"",{"$f":"IFERROR(IF(A1056=\"\",\"\",VLOOKUP(A1056,Funcionários!$A$2:$F$299,5,0)),\"\")","v":""},""]
[null,{"$f":"IFERROR(IF(A1057=\"\",\"\",VLOOKUP(A1057,Funcionários!$A$2:$F$299,2,0)),\"Funcionário não encontrado\")","v":""},null,null,null,null,null,"",{"$f":"IFERROR(IF(A1057=\"\",\"\",VLOOKUP(A1057,Funcionários!$A$2:$F$299,5,0)),\"\")","v":""},""]
[null,{"$f":"IFERROR(IF(A1058=\"\",\"\",VLOOKUP(A1058,Funcionários!$A$2:$F$299,2,0)),\"Funcionário não encontrado\")","v":""},null,null,null,null,null,"",{"$f":"IFERROR(IF(A1058=\"\",\"\",VLOOKUP(A1058,Funcionários!$A$2:$F$299,5,0)),\"\")","v":""},""]
[null,{"$f":"IFERROR(IF(A1059=\"\",\"\",VLOOKUP(A1059,Funcionários!$A$2:$F$299,2,0)),\"Funcionário não encontrado\")","v":""},null,null,null,null,null,"",{"$f":"IFERROR(IF(A1059=\"\",\"\",VLOOKUP(A1059,Funcionários!$A$2:$F$299,5,0)),\"\")","v":""},""]
[null,{"$f":"IFERROR(IF(A1060=\"\",\"\",VLOOKUP(A1060,Funcionários!$A$2:$F$299,2,0)),\"Funcionário não encontrado\")","v":""},null,null,null,null,null,"",{"$f":"IFERROR(IF(A1060=\"\",\"\",VLOOKUP(A1060,Funcionários!$A$2:$F$299,5,0)),\"\")","v":""},""]
[null,{"$f":"IFERROR(IF(A1061=\"\",\"\",VLOOKUP(A1061,Funcionários!$A$2:$F$299,2,0)),\"Funcionário não encontrado\")","v":""},null,null,null,null,null,"",{"$f":"IFERROR(IF(A1061=\"\",\"\",VLOOKUP(A1061,Funcionários!$A$2:$F$299,5,0)),\"\")","v":""},""]
[null,{"$f":"IFERROR(IF(A1062=\"\",\"\",VLOOKUP(A1062,Funcionários!$A$2:$F$299,2,0)),\"Funcionário não encontrado\")","v":""},null,null,null,null,null,"",{"$f":"IFERROR(IF(A1062=\"\",\"\",VLOOKUP(A1062,Funcionários!$A$2:$F$299,5,0)),\"\")","v":""},""]
[null,{"$f":"IFERROR(IF(A1063=\"\",\"\",VLOOKUP(A1063,Funcionários!$A$2:$F$299,2,0)),\"Funcionário não encontrado\")","v":""},null,null,null,null,null,"",{"$f":"IFERROR(IF(A1063=\"\",\"\",VLOOKUP(A1063,Funcionários!$A$2:$F$299,5,0)),\"\")","v":""},""]
[null,{"$f":"IFERROR(IF(A1064=\"\",\"\",VLOOKUP(A1064,Funcionários!$A$2:$F$299,2,0)),\"Funcionário não encontrado\")","v":""},null,null,null,null,null,"",{"$f":"IFERROR(IF(A1064=\"\",\"\",VLOOKUP(A1064,Funcionários!$A$2:$F$299,5,0)),\"\")","v":""},""]
[null,{"$f":"IFERROR(IF(A1065=\"\",\"\",VLOOKUP(A1065,Funcionários!$A$2:$F$299,2,0)),\"Funcionário não encontrado\")","v":""},null,null,null,null,null,"",{"$f":"IFERROR(IF(A1065=\"\",\"\",VLOOKUP(A1065,Funcionários!$A$2:$F$299,5,0)),\"\")","v":""},""]
[null,{"$f":"IFERROR(IF(A1066=\"\",\"\",VLOOKUP(A1066,Funcionários!$A$2:$F$299,2,0)),\"Funcionário não encontrado\")","v":""},null,null,null,null,null,"",{"$f":"IFERROR(IF(A1066=\"\",\"\",VLOOKUP(A1066,Funcionários!$A$2:$F$299,5,0)),\"\")","v":""},""]
[null,{"$f":"IFERROR(IF(A1067=\"\",\"\",VLOOKUP(A1067,Funcionários!$A$2:$F$299,2,0)),\"Funcionário não encontrado\")","v":""},null,null,null,null,null,"",{"$f":"IFERROR(IF(A1067=\"\",\"\",VLOOKUP(A1067,Funcionários!$A$2:$F$299,5,0)),\"\")","v":""},""]
[null,{"$f":"IFERROR(IF(A1068=\"\",\"\",VLOOKUP(A1068,Funcionários!$A$2:$F$299,2,0)),\"Funcionário não encontrado\")","v":""},null,null,null,null,null,"",{"$f":"IFERROR(IF(A1068=\"\",\"\",VLOOKUP(A1068,Funcionários!$A$2:$F$299,5,0)),\"\")","v":""},""]
[null,{"$f":"IFERROR(IF(A1069=\"\",\"\",VLOOKUP(A1069,Funcionários!$A$2:$F$299,2,0)),\"Funcionário não encontrado\")","v":""},null,null,null,null,null,"",{"$f":"IFERROR(IF(A1069=\"\",\"\",VLOOKUP(A1069,Funcionários!$A$2:$F$299,5,0)),\"\")","v":""},""]
[null,{"$f":"IFERROR(IF(A1070=\"\",\"\",VLOOKUP(A1070,Funcionários!$A$2:$F$299,2,0)),\"Funcionário não encontrado\")","v":""},null,null,null,null,null,"",{"$f":"IFERROR(IF(A1070=\"\",\"\",VLOOKUP(A1070,Funcionários!$A$2:$F$299,5,0)),\"\")","v":""},""]
[null,{"$f":"IFERROR(IF(A1071=\"\",\"\",VLOOKUP(A1071,Funcionários!$A$2:$F$299,2,0)),\"Funcionário não encontrado\")","v":""},null,null,null,null,null,"",{"$f":"IFERROR(IF(A1071=\"\",\"\",VLOOKUP(A1071,Funcionários!$A$2:$F$299,5,0)),\"\")","v":""},""]
[null,{"$f":"IFERROR(IF(A1072=\"\",\"\",VLOOKUP(A1072,Funcionários!$A$2:$F$299,2,0)),\"Funcionário não encontrado\")","v":""},null,null,null,null,null,"",{"$f":"IFERROR(IF(A1072=\"\",\"\",VLOOKUP(A1072,Funcionários!$A$2:$F$299,5,0)),\"\")","v":""},""]
[null,{"$f":"IFERROR(IF(A1073=\"\",\"\",VLOOKUP(A1073,Funcionários!$A$2:$F$299,2,0)),\"Funcionário não encontrado\")","v":""},null,null,null,null,null,"",{"$f":"IFERROR(IF(A1073=\"\",\"\",VLOOKUP(A1073,Funcionários!$A$2:$F$299,5,0)),\"\")","v":""},""]
[null,{"$f":"IFERROR(IF(A1074=\"\",\"\",VLOOKUP(A1074,Funcionários!$A$2:$F$299,2,0)),\"Funcionário não encontrado\")","v":""},null,null,null,null,null,"",{"$f":"IFERROR(IF(A1074=\"\",\"\",VLOOKUP(A1074,Funcionários!$A$2:$F$299,5,0)),\"\")","v":""},""]
[null,{"$f":"IFERROR(IF(A1075=\"\",\"\",VLOOKUP(A1075,Funcionários!$A$2:$F$299,2,0)),\"Funcionário não encontrado\")","v":""},null,null,null,null,null,"",{"$f":"IFERROR(IF(A1075=\"\",\"\",VLOOKUP(A1075,Funcionários!$A$2:$F$299,5,0)),\"\")","v":""},""]
[null,{"$f":"IFERROR(IF(A1076=\"\",\"\",VLOOKUP(A1076,Funcionários!$A$2:$F$299,2,0)),\"Funcionário não encontrado\")","v":""},null,null,null,null,null,"",{"$f":"IFERROR(IF(A1076=\"\",\"\",VLOOKUP(A1076,Funcionários!$A$2:$F$299,5,0)),\"\")","v":""},""]
[null,{"$f":"IFERROR(IF(A1077=\"\",\"\",VLOOKUP(A1077,Funcionários!$A$2:$F$299,2,0)),\"Funcionário não encontrado\")","v":""},null,null,null,null,null,"",{"$f":"IFERROR(IF(A1077=\"\",\"\",VLOOKUP(A1077,Funcionários!$A$2:$F$299,5,0)),\"\")","v":""},""]
[null,{"$f":"IFERROR(IF(A1078=\"\",\"\",VLOOKUP(A1078,Funcionários!$A$2:$F$299,2,0)),\"Funcionário não encontrado\")","v":""},null,null,null,null,null,"",{"$f":"IFERROR(IF(A1078=\"\",\"\",VLOOKUP(A1078,Funcionários!$A$2:$F$299,5,0)),\"\")","v":""},""]
[null,{"$f":"IFERROR(IF(A1079=\"\",\"\",VLOOKUP(A1079,Funcionários!$A$2:$F$299,2,0)),\"Funcionário não encontrado\")","v":""},null,null,null,null,null,"",{"$f":"IFERROR(IF(A1079=\"\",\"\",VLOOKUP(A1079,Funcionários!$A$2:$F$299,5,0)),\"\")","v":""},""]
[null,{"$f":"IFERROR(IF(A1080=\"\",\"\",VLOOKUP(A1080,Funcionários!$A$2:$F$299,2,0)),\"Funcionário não encontrado\")","v":""},null,null,null,null,null,"",{"$f":"IFERROR(IF(A1080=\"\",\"\",VLOOKUP(A1080,Funcionários!$A$2:$F$299,5,0)),\"\")","v":""},""]
[null,{"$f":"IFERROR(IF(A1081=\"\",\"\",VLOOKUP(A1081,Funcionários!$A$2:$F$299,2,0)),\"Funcionário não encontrado\")","v":""},null,null,null,null,null,"",{"$f":"IFERROR(IF(A1081=\"\",\"\",VLOOKUP(A1081,Funcionários!$A$2:$F$299,5,0)),\"\")","v":""},""]
[null,{"$f":"IFERROR(IF(A1082=\"\",\"\",VLOOKUP(A1082,Funcionários!$A$2:$F$299,2,0)),\"Funcionário não encontrado\")","v":""},null,null,null,null,null,"",{"$f":"IFERROR(IF(A1082=\"\",\"\",VLOOKUP(A1082,Funcionários!$A$2:$F$299,5,0)),\"\")","v":""},""]
[null,{"$f":"IFERROR(IF(A1083=\"\",\"\",VLOOKUP(A1083,Funcionários!$A$2:$F$299,2,0)),\"Funcionário não encontrado\")","v":""},null,null,null,null,null,"",{"$f":"IFERROR(IF(A1083=\"\",\"\",VLOOKUP(A1083,Funcionários!$A$2:$F$299,5,0)),\"\")","v":""},""]
[null,{"$f":"IFERROR(IF(A1084=\"\",\"\",VLOOKUP(A1084,Funcionários!$A$2:$F$299,2,0)),\"Funcionário não encontrado\")","v":""},null,null,null,null,null,"",{"$f":"IFERROR(IF(A1084=\"\",\"\",VLOOKUP(A1084,Funcionários!$A$2:$F$299,5,0)),\"\")","v":""},""]
[null,{"$f":"IFERROR(IF(A1085=\"\",\"\",VLOOKUP(A1085,Funcionários!$A$2:$F$299,2,0)),\"Funcionário não encontrado\")","v":""},null,null,null,null,null,"",{"$f":"IFERROR(IF(A1085=\"\",\"\",VLOOKUP(A1085,Funcionários!$A$2:$F$299,5,0)),\"\")","v":""},""]
[null,{"$f":"IFERROR(IF(A1086=\"\",\"\",VLOOKUP(A1086,Funcionários!$A$2:$F$299,2,0)),\"Funcionário não encontrado\")","v":""},null,null,null,null,null,"",{"$f":"IFERROR(IF(A1086=\"\",\"\",VLOOKUP(A1086,Funcionários!$A$2:$F$299,5,0)),\"\")","v":""},""]
[null,{"$f":"IFERROR(IF(A1087=\"\",\"\",VLOOKUP(A1087,Funcionários!$A$2:$F$299,2,0)),\"Funcionário não encontrado\")","v":""},null,null,null,null,null,"",{"$f":"IFERROR(IF(A1087=\"\",\"\",VLOOKUP(A1087,Funcionários!$A$2:$F$299,5,0)),\"\")","v":""},""]
[null,{"$f":"IFERROR(IF(A1088=\"\",\"\",VLOOKUP(A1088,Funcionários!$A$2:$F$299,2,0)),\"Funcionário não encontrado\")","v":""},null,null,null,null,null,"",{"$f":"IFERROR(IF(A1088=\"\",\"\",VLOOKUP(A1088,Funcionários!$A$2:$F$299,5,0)),\"\")","v":""},""]
[null,{"$f":"IFERROR(IF(A1089=\"\",\"\",VLOOKUP(A1089,Funcionários!$A$2:$F$299,2,0)),\"Funcionário não encontrado\")","v":""},null,null,null,null,null,"",{"$f":"IFERROR(IF(A1089=\"\",\"\",VLOOKUP(A1089,Funcionários!$A$2:$F$299,5,0)),\"\")","v":""},""]
[null,{"$f":"IFERROR(IF(A1090=\"\",\"\",VLOOKUP(A1090,Funcionários!$A$2:$F$299,2,0)),\"Funcionário não encontrado\")","v":""},null,null,null,null,null,"",{"$f":"IFERROR(IF(A1090=\"\",\"\",VLOOKUP(A1090,Funcionários!$A$2:$F$299,5,0)),\"\")","v":""},""]
[null,{"$f":"IFERROR(IF(A1091=\"\",\"\",VLOOKUP(A1091,Funcionários!$A$2:$F$299,2,0)),\"Funcionário não encontrado\")","v":""},null,null,null,null,null,{"$f":"IF(OR(D1091=\"\",E1091=\"\",F1091=\"\"),\"\",MOD((E1091-D1091)+(G1091-F1091),1))","v":""},{"$f":"IFERROR(IF(A1091=\"\",\"\",VLOOKUP(A1091,Funcionários!$A$2:$F$299,5,0)),\"\")","v":""},{"$f":"IF(H1091=\"\",\"\",H1091-I1091)","v":""}]
[null,{"$f":"IFERROR(IF(A1092=\"\",\"\",VLOOKUP(A1092,Funcionários!$A$2:$F$299,2,0)),\"Funcionário não encontrado\")","v":""},null,null,null,null,null,"",{"$f":"IFERROR(IF(A1092=\"\",\"\",VLOOKUP(A1092,Funcionários!$A$2:$F$299,5,0)),\"\")","v":""},""]
[null,{"$f":"IFERROR(IF(A1093=\"\",\"\",VLOOKUP(A1093,Funcionários!$A$2:$F$299,2,0)),\"Funcionário não encontrado\")","v":""},null,null,null,null,null,"",{"$f":"IFERROR(IF(A1093=\"\",\"\",VLOOKUP(A1093,Funcionários!$A$2:$F$299,5,0)),\"\")","v":""},""]
[null,{"$f":"IFERROR(IF(A1094=\"\",\"\",VLOOKUP(A1094,Funcionários!$A$2:$F$299,2,0)),\"Funcionário não encontrado\")","v":""},null,null,null,null,null,"",{"$f":"IFERROR(IF(A1094=\"\",\"\",VLOOKUP(A1094,Funcionários!$A$2:$F$299,5,0)),\"\")","v":""},""]
[null,{"$f":"IFERROR(IF(A1095=\"\",\"\",VLOOKUP(A1095,Funcionários!$A$2:$F$299,2,0)),\"Funcionário não encontrado\")","v":""},null,null,null,null,null,"",{"$f":"IFERROR(IF(A1095=\"\",\"\",VLOOKUP(A1095,Funcionários!$A$2:$F$299,5,0)),\"\")","v":""},""]
[null,{"$f":"IFERROR(IF(A1096=\"\",\"\",VLOOKUP(A1096,Funcionários!$A$2:$F$299,2,0)),\"Funcionário não encontrado\")","v":""},null,null,null,null,null,"",{"$f":"IFERROR(IF(A1096=\"\",\"\",VLOOKUP(A1096,Funcionários!$A$2:$F$299,5,0)),\"\")","v":""},""]
[null,{"$f":"IFERROR(IF(A1097=\"\",\"\",VLOOKUP(A1097,Funcionários!$A$2:$F$299,2,0)),\"Funcionário não encontrado\")","v":""},null,null,null,null,null,"",{"$f":"IFERROR(IF(A1097=\"\",\"\",VLOOKUP(A1097,Funcionários!$A$2:$F$299,5,0)),\"\")","v":""},""]
[null,{"$f":"IFERROR(IF(A1098=\"\",\"\",VLOOKUP(A1098,Funcionários!$A$2:$F$299,2,0)),\"Funcionário não encontrado\")","v":""},null,null,null,null,null,"",{"$f":"IFERROR(IF(A1098=\"\",\"\",VLOOKUP(A1098,Funcionários!$A$2:$F$299,5,0)),\"\")","v":""},""]
[null,{"$f":"IFERROR(IF(A1099=\"\",\"\",VLOOKUP(A1099,Funcionários!$A$2:$F$299,2,0)),\"Funcionário não encontrado\")","v":""},null,null,null,null,null,"",{"$f":"IFERROR(IF(A1099=\"\",\"\",VLOOKUP(A1099,Funcionários!$A$2:$F$299,5,0)),\"\")","v":""},""]
[null,{"$f":"IFERROR(IF(A1100=\"\",\"\",VLOOKUP(A1100,Funcionários!$A$2:$F$299,2,0)),\"Funcionário não encontrado\")","v":""},null,null,null,null,null,"",{"$f":"IFERROR(IF(A1100=\"\",\"\",VLOOKUP(A1100,Funcionários!$A$2:$F$299,5,0)),\"\")","v":""},""]
[null,{"$f":"IFERROR(IF(A1101=\"\",\"\",VLOOKUP(A1101,Funcionários!$A$2:$F$299,2,0)),\"Funcionário não encontrado\")","v":""},null,null,null,null,null,"",{"$f":"IFERROR(IF(A1101=\"\",\"\",VLOOKUP(A1101,Funcionários!$A$2:$F$299,5,0)),\"\")","v":""},""]
[null,{"$f":"IFERROR(IF(A1102=\"\",\"\",VLOOKUP(A1102,Funcionários!$A$2:$F$299,2,0)),\"Funcionário não encontrado\")","v":""},null,null,null,null,null,"",{"$f":"IFERROR(IF(A1102=\"\",\"\",VLOOKUP(A1102,Funcionários!$A$2:$F$299,5,0)),\"\")","v":""},""]
[null,{"$f":"IFERROR(IF(A1103=\"\",\"\",VLOOKUP(A1103,Funcionários!$A$2:$F$299,2,0)),\"Funcionário não encontrado\")","v":""},null,null,null,null,null,"",{"$f":"IFERROR(IF(A1103=\"\",\"\",VLOOKUP(A1103,Funcionários!$A$2:$F$299,5,0)),\"\")","v":""},""]
[null,{"$f":"IFERROR(IF(A1104=\"\",\"\",VLOOKUP(A1104,Funcionários!$A$2:$F$299,2,0)),\"Funcionário não encontrado\")","v":""},null,null,null,null,null,"",{"$f":"IFERROR(IF(A1104=\"\",\"\",VLOOKUP(A1104,Funcionários!$A$2:$F$299,5,0)),\"\")","v":""},""]
[null,{"$f":"IFERROR(IF(A1105=\"\",\"\",VLOOKUP(A1105,Funcionários!$A$2:$F$299,2,0)),\"Funcionário não encontrado\")","v":""},null,null,null,null,null,"",{"$f":"IFERROR(IF(A1105=\"\",\"\",VLOOKUP(A1105,Funcionários!$A$2:$F$299,5,0)),\"\")","v":""},""]
[null,{"$f":"IFERROR(IF(A1106=\"\",\"\",VLOOKUP(A1106,Funcionários!$A$2:$F$299,2,0)),\"Funcionário não encontrado\")","v":""},null,null,null,null,null,"",{"$f":"IFERROR(IF(A1106=\"\",\"\",VLOOKUP(A1106,Funcionários!$A$2:$F$299,5,0)),\"\")","v":""},""]
[null,{"$f":"IFERROR(IF(A1107=\"\",\"\",VLOOKUP(A1107,Funcionários!$A$2:$F$299,2,0)),\"Funcionário não encontrado\")","v":""},null,null,null,null,null,"",{"$f":"IFERROR(IF(A1107=\"\",\"\",VLOOKUP(A1107,Funcionários!$A$2:$F$299,5,0)),\"\")","v":""},""]
[null,{"$f":"IFERROR(IF(A1108=\"\",\"\",VLOOKUP(A1108,Funcionários!$A$2:$F$299,2,0)),\"Funcionário não encontrado\")","v":""},null,null,null,null,null,"",{"$f":"IFERROR(IF(A1108=\"\",\"\",VLOOKUP(A1108,Funcionários!$A$2:$F$299,5,0)),\"\")","v":""},""]
[null,{"$f":"IFERROR(IF(A1109=\"\",\"\",VLOOKUP(A1109,Funcionários!$A$2:$F$299,2,0)),\"Funcionário não encontrado\")","v":""},null,null,null,null,null,"",{"$f":"IFERROR(IF(A1109=\"\",\"\",VLOOKUP(A1109,Funcionários!$A$2:$F$299,5,0)),\"\")","v":""},""]
[null,{"$f":"IFERROR(IF(A1110=\"\",\"\",VLOOKUP(A1110,Funcionários!$A$2:$F$299,2,0)),\"Funcionário não encontrado\")","v":""},null,null,null,null,null,"",{"$f":"IFERROR(IF(A1110=\"\",\"\",VLOOKUP(A1110,Funcionários!$A$2:$F$299,5,0)),\"\")","v":""},""]
[null,{"$f":"IFERROR(IF(A1111=\"\",\"\",VLOOKUP(A1111,Funcionários!$A$2:$F$299,2,0)),\"Funcionário não encontrado\")","v":""},null,null,null,null,null,"",{"$f":"IFERROR(IF(A1111=\"\",\"\",VLOOKUP(A1111,Funcionários!$A$2:$F$299,5,0)),\"\")","v":""},""]
[null,{"$f":"IFERROR(IF(A1112=\"\",\"\",VLOOKUP(A1112,Funcionários!$A$2:$F$299,2,0)),\"Funcionário não encontrado\")","v":""},null,null,null,null,null,"",{"$f":"IFERROR(IF(A1112=\"\",\"\",VLOOKUP(A1112,Funcionários!$A$2:$F$299,5,0)),\"\")","v":""},""]
[null,{"$f":"IFERROR(IF(A1113=\"\",\"\",VLOOKUP(A1113,Funcionários!$A$2:$F$299,2,0)),\"Funcionário não encontrado\")","v":""},null,null,null,null,null,"",{"$f":"IFERROR(IF(A1113=\"\",\"\",VLOOKUP(A1113,Funcionários!$A$2:$F$299,5,0)),\"\")","v":""},""]
[null,{"$f":"IFERROR(IF(A1114=\"\",\"\",VLOOKUP(A1114,Funcionários!$A$2:$F$299,2,0)),\"Funcionário não encontrado\")","v":""},null,null,null,null,null,"",{"$f":"IFERROR(IF(A1114=\"\",\"\",VLOOKUP(A1114,Funcionários!$A$2:$F$299,5,0)),\"\")","v":""},""]
[null,{"$f":"IFERROR(IF(A1115=\"\",\"\",VLOOKUP(A1115,Funcionários!$A$2:$F$299,2,0)),\"Funcionário não encontrado\")","v":""},null,null,null,null,null,"",{"$f":"IFERROR(IF(A1115=\"\",\"\",VLOOKUP(A1115,Funcionários!$A$2:$F$299,5,0)),\"\")","v":""},""]
[null,{"$f":"IFERROR(IF(A1116=\"\",\"\",VLOOKUP(A1116,Funcionários!$A$2:$F$299,2,0)),\"Funcionário não encontrado\")","v":""},null,null,null,null,null,"",{"$f":"IFERROR(IF(A1116=\"\",\"\",VLOOKUP(A1116,Funcionários!$A$2:$F$299,5,0)),\"\")","v":""},""]
[null,{"$f":"IFERROR(IF(A1117=\"\",\"\",VLOOKUP(A1117,Funcionários!$A$2:$F$299,2,0)),\"Funcionário não encontrado\")","v":""},null,null,null,null,null,"",{"$f":"IFERROR(IF(A1117=\"\",\"\",VLOOKUP(A1117,Funcionários!$A$2:$F$299,5,0)),\"\")","v":""},""]
[null,{"$f":"IFERROR(IF(A1118=\"\",\"\",VLOOKUP(A1118,Funcionários!$A$2:$F$299,2,0)),\"Funcionário não encontrado\")","v":""},null,null,null,null,null,"",{"$f":"IFERROR(IF(A1118=\"\",\"\",VLOOKUP(A1118,Funcionários!$A$2:$F$299,5,0)),\"\")","v":""},""]
[null,{"$f":"IFERROR(IF(A1119=\"\",\"\",VLOOKUP(A1119,Funcionários!$A$2:$F$299,2,0)),\"Funcionário não encontrado\")","v":""},null,null,null,null,null,"",{"$f":"IFERROR(IF(A1119=\"\",\"\",VLOOKUP(A1119,Funcionários!$A$2:$F$299,5,0)),\"\")","v":""},""]
[null,{"$f":"IFERROR(IF(A1120=\"\",\"\",VLOOKUP(A1120,Funcionários!$A$2:$F$299,2,0)),\"Funcionário não encontrado\")","v":""},null,null,null,null,null,"",{"$f":"IFERROR(IF(A1120=\"\",\"\",VLOOKUP(A1120,Funcionários!$A$2:$F$299,5,0)),\"\")","v":""},""]
[null,{"$f":"IFERROR(IF(A1121=\"\",\"\",VLOOKUP(A1121,Funcionários!$A$2:$F$299,2,0)),\"Funcionário não encontrado\")","v":""},null,null,null,null,null,"",{"$f":"IFERROR(IF(A1121=\"\",\"\",VLOOKUP(A1121,Funcionários!$A$2:$F$299,5,0)),\"\")","v":""},""]
[null,{"$f":"IFERROR(IF(A1122=\"\",\"\",VLOOKUP(A1122,Funcionários!$A$2:$F$299,2,0)),\"Funcionário não encontrado\")","v":""},null,null,null,null,null,"",{"$f":"IFERROR(IF(A1122=\"\",\"\",VLOOKUP(A1122,Funcionários!$A$2:$F$299,5,0)),\"\")","v":""},""]
[null,{"$f":"IFERROR(IF(A1123=\"\",\"\",VLOOKUP(A1123,Funcionários!$A$2:$F$299,2,0)),\"Funcionário não encontrado\")","v":""},null,null,null,null,null,"",{"$f":"IFERROR(IF(A1123=\"\",\"\",VLOOKUP(A1123,Funcionários!$A$2:$F$299,5,0)),\"\")","v":""},""]
[null,{"$f":"IFERROR(IF(A1124=\"\",\"\",VLOOKUP(A1124,Funcionários!$A$2:$F$299,2,0)),\"Funcionário não encontrado\")","v":""},null,null,null,null,null,"",{"$f":"IFERROR(IF(A1124=\"\",\"\",VLOOKUP(A1124,Funcionários!$A$2:$F$299,5,0)),\"\")","v":""},""]
[null,{"$f":"IFERROR(IF(A1125=\"\",\"\",VLOOKUP(A1125,Funcionários!$A$2:$F$299,2,0)),\"Funcionário não encontrado\")","v":""},null,null,null,null,null,"",{"$f":"IFERROR(IF(A1125=\"\",\"\",VLOOKUP(A1125,Funcionários!$A$2:$F$299,5,0)),\"\")","v":""},""]
[null,{"$f":"IFERROR(IF(A1126=\"\",\"\",VLOOKUP(A1126,Funcionários!$A$2:$F$299,2,0)),\"Funcionário não encontrado\")","v":""},null,null,null,null,null,"",{"$f":"IFERROR(IF(A1126=\"\",\"\",VLOOKUP(A1126,Funcionários!$A$2:$F$299,5,0)),\"\")","v":""},""]
[null,{"$f":"IFERROR(IF(A1127=\"\",\"\",VLOOKUP(A1127,Funcionários!$A$2:$F$299,2,0)),\"Funcionário não encontrado\")","v":""},null,null,null,null,null,"",{"$f":"IFERROR(IF(A1127=\"\",\"\",VLOOKUP(A1127,Funcionários!$A$2:$F$299,5,0)),\"\")","v":""},""]
[null,{"$f":"IFERROR(IF(A1128=\"\",\"\",VLOOKUP(A1128,Funcionários!$A$2:$F$299,2,0)),\"Funcionário não encontrado\")","v":""},null,null,null,null,null,"",{"$f":"IFERROR(IF(A1128=\"\",\"\",VLOOKUP(A1128,Funcionários!$A$2:$F$299,5,0)),\"\")","v":""},""]
[null,{"$f":"IFERROR(IF(A1129=\"\",\"\",VLOOKUP(A1129,Funcionários!$A$2:$F$299,2,0)),\"Funcionário não encontrado\")","v":""},null,null,null,null,null,"",{"$f":"IFERROR(IF(A1129=\"\",\"\",VLOOKUP(A1129,Funcionários!$A$2:$F$299,5,0)),\"\")","v":""},""]
[null,{"$f":"IFERROR(IF(A1130=\"\",\"\",VLOOKUP(A1130,Funcionários!$A$2:$F$299,2,0)),\"Funcionário não encontrado\")","v":""},null,null,null,null,null,"",{"$f":"IFERROR(IF(A1130=\"\",\"\",VLOOKUP(A1130,Funcionários!$A$2:$F$299,5,0)),\"\")","v":""},""]
[null,{"$f":"IFERROR(IF(A1131=\"\",\"\",VLOOKUP(A1131,Funcionários!$A$2:$F$299,2,0)),\"Funcionário não encontrado\")","v":""},null,null,null,null,null,"",{"$f":"IFERROR(IF(A1131=\"\",\"\",VLOOKUP(A1131,Funcionários!$A$2:$F$299,5,0)),\"\")","v":""},""]
[null,{"$f":"IFERROR(IF(A1132=\"\",\"\",VLOOKUP(A1132,Funcionários!$A$2:$F$299,2,0)),\"Funcionário não encontrado\")","v":""},null,null,null,null,null,"",{"$f":"IFERROR(IF(A1132=\"\",\"\",VLOOKUP(A1132,Funcionários!$A$2:$F$299,5,0)),\"\")","v":""},""]
[null,{"$f":"IFERROR(IF(A1133=\"\",\"\",VLOOKUP(A1133,Funcionários!$A$2:$F$299,2,0)),\"Funcionário não encontrado\")","v":""},null,null,null,null,null,"",{"$f":"IFERROR(IF(A1133=\"\",\"\",VLOOKUP(A1133,Funcionários!$A$2:$F$299,5,0)),\"\")","v":""},""]
[null,{"$f":"IFERROR(IF(A1134=\"\",\"\",VLOOKUP(A1134,Funcionários!$A$2:$F$299,2,0)),\"Funcionário não encontrado\")","v":""},null,null,null,null,null,"",{"$f":"IFERROR(IF(A1134=\"\",\"\",VLOOKUP(A1134,Funcionários!$A$2:$F$299,5,0)),\"\")","v":""},""]
[null,{"$f":"IFERROR(IF(A1135=\"\",\"\",VLOOKUP(A1135,Funcionários!$A$2:$F$299,2,0)),\"Funcionário não encontrado\")","v":""},null,null,null,null,null,"",{"$f":"IFERROR(IF(A1135=\"\",\"\",VLOOKUP(A1135,Funcionários!$A$2:$F$299,5,0)),\"\")","v":""},""]
[null,{"$f":"IFERROR(IF(A1136=\"\",\"\",VLOOKUP(A1136,Funcionários!$A$2:$F$299,2,0)),\"Funcionário não encontrado\")","v":""},null,null,null,null,null,"",{"$f":"IFERROR(IF(A1136=\"\",\"\",VLOOKUP(A1136,Funcionários!$A$2:$F$299,5,0)),\"\")","v":""},""]
[null,{"$f":"IFERROR(IF(A1137=\"\",\"\",VLOOKUP(A1137,Funcionários!$A$2:$F$299,2,0)),\"Funcionário não encontrado\")","v":""},null,null,null,null,null,"",{"$f":"IFERROR(IF(A1137=\"\",\"\",VLOOKUP(A1137,Funcionários!$A$2:$F$299,5,0)),\"\")","v":""},""]
[null,{"$f":"IFERROR(IF(A1138=\"\",\"\",VLOOKUP(A1138,Funcionários!$A$2:$F$299,2,0)),\"Funcionário não encontrado\")","v":""},null,null,null,null,null,"",{"$f":"IFERROR(IF(A1138=\"\",\"\",VLOOKUP(A1138,Funcionários!$A$2:$F$299,5,0)),\"\")","v":""},""]
[null,{"$f":"IFERROR(IF(A1139=\"\",\"\",VLOOKUP(A1139,Funcionários!$A$2:$F$299,2,0)),\"Funcionário não encontrado\")","v":""},null,null,null,null,null,"",{"$f":"IFERROR(IF(A1139=\"\",\"\",VLOOKUP(A1139,Funcionários!$A$2:$F$299,5,0)),\"\")","v":""},""]
[null,{"$f":"IFERROR(IF(A1140=\"\",\"\",VLOOKUP(A1140,Funcionários!$A$2:$F$299,2,0)),\"Funcionário não encontrado\")","v":""},null,null,null,null,null,"",{"$f":"IFERROR(IF(A1140=\"\",\"\",VLOOKUP(A1140,Funcionários!$A$2:$F$299,5,0)),\"\")","v":""},""]
[null,{"$f":"IFERROR(IF(A1141=\"\",\"\",VLOOKUP(A1141,Funcionários!$A$2:$F$299,2,0)),\"Funcionário não encontrado\")","v":""},null,null,null,null,null,"",{"$f":"IFERROR(IF(A1141=\"\",\"\",VLOOKUP(A1141,Funcionários!$A$2:$F$299,5,0)),\"\")","v":""},""]
[null,{"$f":"IFERROR(IF(A1142=\"\",\"\",VLOOKUP(A1142,Funcionários!$A$2:$F$299,2,0)),\"Funcionário não encontrado\")","v":""},null,null,null,null,null,"",{"$f":"IFERROR(IF(A1142=\"\",\"\",VLOOKUP(A1142,Funcionários!$A$2:$F$299,5,0)),\"\")","v":""},""]
[null,{"$f":"IFERROR(IF(A1143=\"\",\"\",VLOOKUP(A1143,Funcionários!$A$2:$F$299,2,0)),\"Funcionário não encontrado\")","v":""},null,null,null,null,null,"",{"$f":"IFERROR(IF(A1143=\"\",\"\",VLOOKUP(A1143,Funcionários!$A$2:$F$299,5,0)),\"\")","v":""},""]
[null,{"$f":"IFERROR(IF(A1144=\"\",\"\",VLOOKUP(A1144,Funcionários!$A$2:$F$299,2,0)),\"Funcionário não encontrado\")","v":""},null,null,null,null,null,"",{"$f":"IFERROR(IF(A1144=\"\",\"\",VLOOKUP(A1144,Funcionários!$A$2:$F$299,5,0)),\"\")","v":""},""]
[null,{"$f":"IFERROR(IF(A1145=\"\",\"\",VLOOKUP(A1145,Funcionários!$A$2:$F$299,2,0)),\"Funcionário não encontrado\")","v":""},null,null,null,null,null,"",{"$f":"IFERROR(IF(A1145=\"\",\"\",VLOOKUP(A1145,Funcionários!$A$2:$F$299,5,0)),\"\")","v":""},""]
[null,{"$f":"IFERROR(IF(A1146=\"\",\"\",VLOOKUP(A1146,Funcionários!$A$2:$F$299,2,0)),\"Funcionário não encontrado\")","v":""},null,null,null,null,null,"",{"$f":"IFERROR(IF(A1146=\"\",\"\",VLOOKUP(A1146,Funcionários!$A$2:$F$299,5,0)),\"\")","v":""},""]
[null,{"$f":"IFERROR(IF(A1147=\"\",\"\",VLOOKUP(A1147,Funcionários!$A$2:$F$299,2,0)),\"Funcionário não encontrado\")","v":""},null,null,null,null,null,"",{"$f":"IFERROR(IF(A1147=\"\",\"\",VLOOKUP(A1147,Funcionários!$A$2:$F$299,5,0)),\"\")","v":""},""]
[null,{"$f":"IFERROR(IF(A1148=\"\",\"\",VLOOKUP(A1148,Funcionários!$A$2:$F$299,2,0)),\"Funcionário não encontrado\")","v":""},null,null,null,null,null,"",{"$f":"IFERROR(IF(A1148=\"\",\"\",VLOOKUP(A1148,Funcionários!$A$2:$F$299,5,0)),\"\")","v":""},""]
[null,{"$f":"IFERROR(IF(A1149=\"\",\"\",VLOOKUP(A1149,Funcionários!$A$2:$F$299,2,0)),\"Funcionário não encontrado\")","v":""},null,null,null,null,null,"",{"$f":"IFERROR(IF(A1149=\"\",\"\",VLOOKUP(A1149,Funcionários!$A$2:$F$299,5,0)),\"\")","v":""},""]
[null,{"$f":"IFERROR(IF(A1150=\"\",\"\",VLOOKUP(A1150,Funcionários!$A$2:$F$299,2,0)),\"Funcionário não encontrado\")","v":""},null,null,null,null,null,"",{"$f":"IFERROR(IF(A1150=\"\",\"\",VLOOKUP(A1150,Funcionários!$A$2:$F$299,5,0)),\"\")","v":""},""]
[null,{"$f":"IFERROR(IF(A1151=\"\",\"\",VLOOKUP(A1151,Funcionários!$A$2:$F$299,2,0)),\"Funcionário não encontrado\")","v":""},null,null,null,null,null,"",{"$f":"IFERROR(IF(A1151=\"\",\"\",VLOOKUP(A1151,Funcionários!$A$2:$F$299,5,0)),\"\")","v":""},""]
[null,{"$f":"IFERROR(IF(A1152=\"\",\"\",VLOOKUP(A1152,Funcionários!$A$2:$F$299,2,0)),\"Funcionário não encontrado\")","v":""},null,null,null,null,null,"",{"$f":"IFERROR(IF(A1152=\"\",\"\",VLOOKUP(A1152,Funcionários!$A$2:$F$299,5,0)),\"\")","v":""},""]
[null,{"$f":"IFERROR(IF(A1153=\"\",\"\",VLOOKUP(A1153,Funcionários!$A$2:$F$299,2,0)),\"Funcionário não encontrado\")","v":""},null,null,null,null,null,"",{"$f":"IFERROR(IF(A1153=\"\",\"\",VLOOKUP(A1153,Funcionários!$A$2:$F$299,5,0)),\"\")","v":""},""]
[null,{"$f":"IFERROR(IF(A1154=\"\",\"\",VLOOKUP(A1154,Funcionários!$A$2:$F$299,2,0)),\"Funcionário não encontrado\")","v":""},null,null,null,null,null,"",{"$f":"IFERROR(IF(A1154=\"\",\"\",VLOOKUP(A1154,Funcionários!$A$2:$F$299,5,0)),\"\")","v":""},""]
[null,{"$f":"IFERROR(IF(A1155=\"\",\"\",VLOOKUP(A1155,Funcionários!$A$2:$F$299,2,0)),\"Funcionário não encontrado\")","v":""},null,null,null,null,null,{"$f":"IF(OR(D1155=\"\",E1155=\"\",F1155=\"\"),\"\",MOD((E1155-D1155)+(G1155-F1155),1))","v":""},{"$f":"IFERROR(IF(A1155=\"\",\"\",VLOOKUP(A1155,Funcionários!$A$2:$F$299,5,0)),\"\")","v":""},{"$f":"IF(H1155=\"\",\"\",H1155-I1155)","v":""}]
[null,{"$f":"IFERROR(IF(A1156=\"\",\"\",VLOOKUP(A1156,Funcionários!$A$2:$F$299,2,0)),\"Funcionário não encontrado\")","v":""},null,null,null,null,null,"",{"$f":"IFERROR(IF(A1156=\"\",\"\",VLOOKUP(A1156,Funcionários!$A$2:$F$299,5,0)),\"\")","v":""},""]
[null,{"$f":"IFERROR(IF(A1157=\"\",\"\",VLOOKUP(A1157,Funcionários!$A$2:$F$299,2,0)),\"Funcionário não encontrado\")","v":""},null,null,null,null,null,"",{"$f":"IFERROR(IF(A1157=\"\",\"\",VLOOKUP(A1157,Funcionários!$A$2:$F$299,5,0)),\"\")","v":""},""]
[null,{"$f":"IFERROR(IF(A1158=\"\",\"\",VLOOKUP(A1158,Funcionários!$A$2:$F$299,2,0)),\"Funcionário não encontrado\")","v":""},null,null,null,null,null,"",{"$f":"IFERROR(IF(A1158=\"\",\"\",VLOOKUP(A1158,Funcionários!$A$2:$F$299,5,0)),\"\")","v":""},""]
[null,{"$f":"IFERROR(IF(A1159=\"\",\"\",VLOOKUP(A1159,Funcionários!$A$2:$F$299,2,0)),\"Funcionário não encontrado\")","v":""},null,null,null,null,null,"",{"$f":"IFERROR(IF(A1159=\"\",\"\",VLOOKUP(A1159,Funcionários!$A$2:$F$299,5,0)),\"\")","v":""},""]
[null,{"$f":"IFERROR(IF(A1160=\"\",\"\",VLOOKUP(A1160,Funcionários!$A$2:$F$299,2,0)),\"Funcionário não encontrado\")","v":""},null,null,null,null,null,"",{"$f":"IFERROR(IF(A1160=\"\",\"\",VLOOKUP(A1160,Funcionários!$A$2:$F$299,5,0)),\"\")","v":""},""]
[null,{"$f":"IFERROR(IF(A1161=\"\",\"\",VLOOKUP(A1161,Funcionários!$A$2:$F$299,2,0)),\"Funcionário não encontrado\")","v":""},null,null,null,null,null,"",{"$f":"IFERROR(IF(A1161=\"\",\"\",VLOOKUP(A1161,Funcionários!$A$2:$F$299,5,0)),\"\")","v":""},""]
[null,{"$f":"IFERROR(IF(A1162=\"\",\"\",VLOOKUP(A1162,Funcionários!$A$2:$F$299,2,0)),\"Funcionário não encontrado\")","v":""},null,null,null,null,null,"",{"$f":"IFERROR(IF(A1162=\"\",\"\",VLOOKUP(A1162,Funcionários!$A$2:$F$299,5,0)),\"\")","v":""},""]
[null,{"$f":"IFERROR(IF(A1163=\"\",\"\",VLOOKUP(A1163,Funcionários!$A$2:$F$299,2,0)),\"Funcionário não encontrado\")","v":""},null,null,null,null,null,"",{"$f":"IFERROR(IF(A1163=\"\",\"\",VLOOKUP(A1163,Funcionários!$A$2:$F$299,5,0)),\"\")","v":""},""]
[null,{"$f":"IFERROR(IF(A1164=\"\",\"\",VLOOKUP(A1164,Funcionários!$A$2:$F$299,2,0)),\"Funcionário não encontrado\")","v":""},null,null,null,null,null,"",{"$f":"IFERROR(IF(A1164=\"\",\"\",VLOOKUP(A1164,Funcionários!$A$2:$F$299,5,0)),\"\")","v":""},""]
[null,{"$f":"IFERROR(IF(A1165=\"\",\"\",VLOOKUP(A1165,Funcionários!$A$2:$F$299,2,0)),\"Funcionário não encontrado\")","v":""},null,null,null,null,null,"",{"$f":"IFERROR(IF(A1165=\"\",\"\",VLOOKUP(A1165,Funcionários!$A$2:$F$299,5,0)),\"\")","v":""},""]
[null,{"$f":"IFERROR(IF(A1166=\"\",\"\",VLOOKUP(A1166,Funcionários!$A$2:$F$299,2,0)),\"Funcionário não encontrado\")","v":""},null,null,null,null,null,"",{"$f":"IFERROR(IF(A1166=\"\",\"\",VLOOKUP(A1166,Funcionários!$A$2:$F$299,5,0)),\"\")","v":""},""]
[null,{"$f":"IFERROR(IF(A1167=\"\",\"\",VLOOKUP(A1167,Funcionários!$A$2:$F$299,2,0)),\"Funcionário não encontrado\")","v":""},null,null,null,null,null,"",{"$f":"IFERROR(IF(A1167=\"\",\"\",VLOOKUP(A1167,Funcionários!$A$2:$F$299,5,0)),\"\")","v":""},""]
[null,{"$f":"IFERROR(IF(A1168=\"\",\"\",VLOOKUP(A1168,Funcionários!$A$2:$F$299,2,0)),\"Funcionário não encontrado\")","v":""},null,null,null,null,null,"",{"$f":"IFERROR(IF(A1168=\"\",\"\",VLOOKUP(A1168,Funcionários!$A$2:$F$299,5,0)),\"\")","v":""},""]
[null,{"$f":"IFERROR(IF(A1169=\"\",\"\",VLOOKUP(A1169,Funcionários!$A$2:$F$299,2,0)),\"Funcionário não encontrado\")","v":""},null,null,null,null,null,"",{"$f":"IFERROR(IF(A1169=\"\",\"\",VLOOKUP(A1169,Funcionários!$A$2:$F$299,5,0)),\"\")","v":""},""]
[null,{"$f":"IFERROR(IF(A1170=\"\",\"\",VLOOKUP(A1170,Funcionários!$A$2:$F$299,2,0)),\"Funcionário não encontrado\")","v":""},null,null,null,null,null,"",{"$f":"IFERROR(IF(A1170=\"\",\"\",VLOOKUP(A1170,Funcionários!$A$2:$F$299,5,0)),\"\")","v":""},""]
[null,{"$f":"IFERROR(IF(A1171=\"\",\"\",VLOOKUP(A1171,Funcionários!$A$2:$F$299,2,0)),\"Funcionário não encontrado\")","v":""},null,null,null,null,null,"",{"$f":"IFERROR(IF(A1171=\"\",\"\",VLOOKUP(A1171,Funcionários!$A$2:$F$299,5,0)),\"\")","v":""},""]
[null,{"$f":"IFERROR(IF(A1172=\"\",\"\",VLOOKUP(A1172,Funcionários!$A$2:$F$299,2,0)),\"Funcionário não encontrado\")","v":""},null,null,null,null,null,"",{"$f":"IFERROR(IF(A1172=\"\",\"\",VLOOKUP(A1172,Funcionários!$A$2:$F$299,5,0)),\"\")","v":""},""]
[null,{"$f":"IFERROR(IF(A1173=\"\",\"\",VLOOKUP(A1173,Funcionários!$A$2:$F$299,2,0)),\"Funcionário não encontrado\")","v":""},null,null,null,null,null,"",{"$f":"IFERROR(IF(A1173=\"\",\"\",VLOOKUP(A1173,Funcionários!$A$2:$F$299,5,0)),\"\")","v":""},""]
[null,{"$f":"IFERROR(IF(A1174=\"\",\"\",VLOOKUP(A1174,Funcionários!$A$2:$F$299,2,0)),\"Funcionário não encontrado\")","v":""},null,null,null,null,null,"",{"$f":"IFERROR(IF(A1174=\"\",\"\",VLOOKUP(A1174,Funcionários!$A$2:$F$299,5,0)),\"\")","v":""},""]
[null,{"$f":"IFERROR(IF(A1175=\"\",\"\",VLOOKUP(A1175,Funcionários!$A$2:$F$299,2,0)),\"Funcionário não encontrado\")","v":""},null,null,null,null,null,"",{"$f":"IFERROR(IF(A1175=\"\",\"\",VLOOKUP(A1175,Funcionários!$A$2:$F$299,5,0)),\"\")","v":""},""]
[null,{"$f":"IFERROR(IF(A1176=\"\",\"\",VLOOKUP(A1176,Funcionários!$A$2:$F$299,2,0)),\"Funcionário não encontrado\")","v":""},null,null,null,null,null,"",{"$f":"IFERROR(IF(A1176=\"\",\"\",VLOOKUP(A1176,Funcionários!$A$2:$F$299,5,0)),\"\")","v":""},""]
[null,{"$f":"IFERROR(IF(A1177=\"\",\"\",VLOOKUP(A1177,Funcionários!$A$2:$F$299,2,0)),\"Funcionário não encontrado\")","v":""},null,null,null,null,null,"",{"$f":"IFERROR(IF(A1177=\"\",\"\",VLOOKUP(A1177,Funcionários!$A$2:$F$299,5,0)),\"\")","v":""},""]
[null,{"$f":"IFERROR(IF(A1178=\"\",\"\",VLOOKUP(A1178,Funcionários!$A$2:$F$299,2,0)),\"Funcionário não encontrado\")","v":""},null,null,null,null,null,"",{"$f":"IFERROR(IF(A1178=\"\",\"\",VLOOKUP(A1178,Funcionários!$A$2:$F$299,5,0)),\"\")","v":""},""]
[null,{"$f":"IFERROR(IF(A1179=\"\",\"\",VLOOKUP(A1179,Funcionários!$A$2:$F$299,2,0)),\"Funcionário não encontrado\")","v":""},null,null,null,null,null,"",{"$f":"IFERROR(IF(A1179=\"\",\"\",VLOOKUP(A1179,Funcionários!$A$2:$F$299,5,0)),\"\")","v":""},""]
[null,{"$f":"IFERROR(IF(A1180=\"\",\"\",VLOOKUP(A1180,Funcionários!$A$2:$F$299,2,0)),\"Funcionário não encontrado\")","v":""},null,null,null,null,null,"",{"$f":"IFERROR(IF(A1180=\"\",\"\",VLOOKUP(A1180,Funcionários!$A$2:$F$299,5,0)),\"\")","v":""},""]
[null,{"$f":"IFERROR(IF(A1181=\"\",\"\",VLOOKUP(A1181,Funcionários!$A$2:$F$299,2,0)),\"Funcionário não encontrado\")","v":""},null,null,null,null,null,"",{"$f":"IFERROR(IF(A1181=\"\",\"\",VLOOKUP(A1181,Funcionários!$A$2:$F$299,5,0)),\"\")","v":""},""]
[null,{"$f":"IFERROR(IF(A1182=\"\",\"\",VLOOKUP(A1182,Funcionários!$A$2:$F$299,2,0)),\"Funcionário não encontrado\")","v":""},null,null,null,null,null,"",{"$f":"IFERROR(IF(A1182=\"\",\"\",VLOOKUP(A1182,Funcionários!$A$2:$F$299,5,0)),\"\")","v":""},""]
[null,{"$f":"IFERROR(IF(A1183=\"\",\"\",VLOOKUP(A1183,Funcionários!$A$2:$F$299,2,0)),\"Funcionário não encontrado\")","v":""},null,null,null,null,null,"",{"$f":"IFERROR(IF(A1183=\"\",\"\",VLOOKUP(A1183,Funcionários!$A$2:$F$299,5,0)),\"\")","v":""},""]
[null,{"$f":"IFERROR(IF(A1184=\"\",\"\",VLOOKUP(A1184,Funcionários!$A$2:$F$299,2,0)),\"Funcionário não encontrado\")","v":""},null,null,null,null,null,"",{"$f":"IFERROR(IF(A1184=\"\",\"\",VLOOKUP(A1184,Funcionários!$A$2:$F$299,5,0)),\"\")","v":""},""]
[null,{"$f":"IFERROR(IF(A1185=\"\",\"\",VLOOKUP(A1185,Funcionários!$A$2:$F$299,2,0)),\"Funcionário não encontrado\")","v":""},null,null,null,null,null,"",{"$f":"IFERROR(IF(A1185=\"\",\"\",VLOOKUP(A1185,Funcionários!$A$2:$F$299,5,0)),\"\")","v":""},""]
[null,{"$f":"IFERROR(IF(A1186=\"\",\"\",VLOOKUP(A1186,Funcionários!$A$2:$F$299,2,0)),\"Funcionário não encontrado\")","v":""},null,null,null,null,null,"",{"$f":"IFERROR(IF(A1186=\"\",\"\",VLOOKUP(A1186,Funcionários!$A$2:$F$299,5,0)),\"\")","v":""},""]
[null,{"$f":"IFERROR(IF(A1187=\"\",\"\",VLOOKUP(A1187,Funcionários!$A$2:$F$299,2,0)),\"Funcionário não encontrado\")","v":""},null,null,null,null,null,"",{"$f":"IFERROR(IF(A1187=\"\",\"\",VLOOKUP(A1187,Funcionários!$A$2:$F$299,5,0)),\"\")","v":""},""]
[null,{"$f":"IFERROR(IF(A1188=\"\",\"\",VLOOKUP(A1188,Funcionários!$A$2:$F$299,2,0)),\"Funcionário não encontrado\")","v":""},null,null,null,null,null,"",{"$f":"IFERROR(IF(A1188=\"\",\"\",VLOOKUP(A1188,Funcionários!$A$2:$F$299,5,0)),\"\")","v":""},""]
[null,{"$f":"IFERROR(IF(A1189=\"\",\"\",VLOOKUP(A1189,Funcionários!$A$2:$F$299,2,0)),\"Funcionário não encontrado\")","v":""},null,null,null,null,null,"",{"$f":"IFERROR(IF(A1189=\"\",\"\",VLOOKUP(A1189,Funcionários!$A$2:$F$299,5,0)),\"\")","v":""},""]
[null,{"$f":"IFERROR(IF(A1190=\"\",\"\",VLOOKUP(A1190,Funcionários!$A$2:$F$299,2,0)),\"Funcionário não encontrado\")","v":""},null,null,null,null,null,"",{"$f":"IFERROR(IF(A1190=\"\",\"\",VLOOKUP(A1190,Funcionários!$A$2:$F$299,5,0)),\"\")","v":""},""]
[null,{"$f":"IFERROR(IF(A1191=\"\",\"\",VLOOKUP(A1191,Funcionários!$A$2:$F$299,2,0)),\"Funcionário não encontrado\")","v":""},null,null,null,null,null,"",{"$f":"IFERROR(IF(A1191=\"\",\"\",VLOOKUP(A1191,Funcionários!$A$2:$F$299,5,0)),\"\")","v":""},""]
[null,{"$f":"IFERROR(IF(A1192=\"\",\"\",VLOOKUP(A1192,Funcionários!$A$2:$F$299,2,0)),\"Funcionário não encontrado\")","v":""},null,null,null,null,null,"",{"$f":"IFERROR(IF(A1192=\"\",\"\",VLOOKUP(A1192,Funcionários!$A$2:$F$299,5,0)),\"\")","v":""},""]
[null,{"$f":"IFERROR(IF(A1193=\"\",\"\",VLOOKUP(A1193,Funcionários!$A$2:$F$299,2,0)),\"Funcionário não encontrado\")","v":""},null,null,null,null,null,"",{"$f":"IFERROR(IF(A1193=\"\",\"\",VLOOKUP(A1193,Funcionários!$A$2:$F$299,5,0)),\"\")","v":""},""]
[null,{"$f":"IFERROR(IF(A1194=\"\",\"\",VLOOKUP(A1194,Funcionários!$A$2:$F$299,2,0)),\"Funcionário não encontrado\")","v":""},null,null,null,null,null,"",{"$f":"IFERROR(IF(A1194=\"\",\"\",VLOOKUP(A1194,Funcionários!$A$2:$F$299,5,0)),\"\")","v":""},""]
[null,{"$f":"IFERROR(IF(A1195=\"\",\"\",VLOOKUP(A1195,Funcionários!$A$2:$F$299,2,0)),\"Funcionário não encontrado\")","v":""},null,null,null,null,null,"",{"$f":"IFERROR(IF(A1195=\"\",\"\",VLOOKUP(A1195,Funcionários!$A$2:$F$299,5,0)),\"\")","v":""},""]
[null,{"$f":"IFERROR(IF(A1196=\"\",\"\",VLOOKUP(A1196,Funcionários!$A$2:$F$299,2,0)),\"Funcionário não encontrado\")","v":""},null,null,null,null,null,"",{"$f":"IFERROR(IF(A1196=\"\",\"\",VLOOKUP(A1196,Funcionários!$A$2:$F$299,5,0)),\"\")","v":""},""]
[null,{"$f":"IFERROR(IF(A1197=\"\",\"\",VLOOKUP(A1197,Funcionários!$A$2:$F$299,2,0)),\"Funcionário não encontrado\")","v":""},null,null,null,null,null,"",{"$f":"IFERROR(IF(A1197=\"\",\"\",VLOOKUP(A1197,Funcionários!$A$2:$F$299,5,0)),\"\")","v":""},""]
[null,{"$f":"IFERROR(IF(A1198=\"\",\"\",VLOOKUP(A1198,Funcionários!$A$2:$F$299,2,0)),\"Funcionário não encontrado\")","v":""},null,null,null,null,null,"",{"$f":"IFERROR(IF(A1198=\"\",\"\",VLOOKUP(A1198,Funcionários!$A$2:$F$299,5,0)),\"\")","v":""},""]
[null,{"$f":"IFERROR(IF(A1199=\"\",\"\",VLOOKUP(A1199,Funcionários!$A$2:$F$299,2,0)),\"Funcionário não encontrado\")","v":""},null,null,null,null,null,"",{"$f":"IFERROR(IF(A1199=\"\",\"\",VLOOKUP(A1199,Funcionários!$A$2:$F$299,5,0)),\"\")","v":""},""]
[null,{"$f":"IFERROR(IF(A1200=\"\",\"\",VLOOKUP(A1200,Funcionários!$A$2:$F$299,2,0)),\"Funcionário não encontrado\")","v":""},null,null,null,null,null,"",{"$f":"IFERROR(IF(A1200=\"\",\"\",VLOOKUP(A1200,Funcionários!$A$2:$F$299,5,0)),\"\")","v":""},""]
[null,{"$f":"IFERROR(IF(A1201=\"\",\"\",VLOOKUP(A1201,Funcionários!$A$2:$F$299,2,0)),\"Funcionário não encontrado\")","v":""},null,null,null,null,null,"",{"$f":"IFERROR(IF(A1201=\"\",\"\",VLOOKUP(A1201,Funcionários!$A$2:$F$299,5,0)),\"\")","v":""},""]
[null,{"$f":"IFERROR(IF(A1202=\"\",\"\",VLOOKUP(A1202,Funcionários!$A$2:$F$299,2,0)),\"Funcionário não encontrado\")","v":""},null,null,null,null,null,"",{"$f":"IFERROR(IF(A1202=\"\",\"\",VLOOKUP(A1202,Funcionários!$A$2:$F$299,5,0)),\"\")","v":""},""]
[null,{"$f":"IFERROR(IF(A1203=\"\",\"\",VLOOKUP(A1203,Funcionários!$A$2:$F$299,2,0)),\"Funcionário não encontrado\")","v":""},null,null,null,null,null,"",{"$f":"IFERROR(IF(A1203=\"\",\"\",VLOOKUP(A1203,Funcionários!$A$2:$F$299,5,0)),\"\")","v":""},""]
[null,{"$f":"IFERROR(IF(A1204=\"\",\"\",VLOOKUP(A1204,Funcionários!$A$2:$F$299,2,0)),\"Funcionário não encontrado\")","v":""},null,null,null,null,null,"",{"$f":"IFERROR(IF(A1204=\"\",\"\",VLOOKUP(A1204,Funcionários!$A$2:$F$299,5,0)),\"\")","v":""},""]
[null,{"$f":"IFERROR(IF(A1205=\"\",\"\",VLOOKUP(A1205,Funcionários!$A$2:$F$299,2,0)),\"Funcionário não encontrado\")","v":""},null,null,null,null,null,"",{"$f":"IFERROR(IF(A1205=\"\",\"\",VLOOKUP(A1205,Funcionários!$A$2:$F$299,5,0)),\"\")","v":""},""]
[null,{"$f":"IFERROR(IF(A1206=\"\",\"\",VLOOKUP(A1206,Funcionários!$A$2:$F$299,2,0)),\"Funcionário não encontrado\")","v":""},null,null,null,null,null,"",{"$f":"IFERROR(IF(A1206=\"\",\"\",VLOOKUP(A1206,Funcionários!$A$2:$F$299,5,0)),\"\")","v":""},""]
[null,{"$f":"IFERROR(IF(A1207=\"\",\"\",VLOOKUP(A1207,Funcionários!$A$2:$F$299,2,0)),\"Funcionário não encontrado\")","v":""},null,null,null,null,null,"",{"$f":"IFERROR(IF(A1207=\"\",\"\",VLOOKUP(A1207,Funcionários!$A$2:$F$299,5,0)),\"\")","v":""},""]
[null,{"$f":"IFERROR(IF(A1208=\"\",\"\",VLOOKUP(A1208,Funcionários!$A$2:$F$299,2,0)),\"Funcionário não encontrado\")","v":""},null,null,null,null,null,"",{"$f":"IFERROR(IF(A1208=\"\",\"\",VLOOKUP(A1208,Funcionários!$A$2:$F$299,5,0)),\"\")","v":""},""]
[null,{"$f":"IFERROR(IF(A1209=\"\",\"\",VLOOKUP(A1209,Funcionários!$A$2:$F$299,2,0)),\"Funcionário não encontrado\")","v":""},null,null,null,null,null,"",{"$f":"IFERROR(IF(A1209=\"\",\"\",VLOOKUP(A1209,Funcionários!$A$2:$F$299,5,0)),\"\")","v":""},""]
[null,{"$f":"IFERROR(IF(A1210=\"\",\"\",VLOOKUP(A1210,Funcionários!$A$2:$F$299,2,0)),\"Funcionário não encontrado\")","v":""},null,null,null,null,null,"",{"$f":"IFERROR(IF(A1210=\"\",\"\",VLOOKUP(A1210,Funcionários!$A$2:$F$299,5,0)),\"\")","v":""},""]
[null,{"$f":"IFERROR(IF(A1211=\"\",\"\",VLOOKUP(A1211,Funcionários!$A$2:$F$299,2,0)),\"Funcionário não encontrado\")","v":""},null,null,null,null,null,"",{"$f":"IFERROR(IF(A1211=\"\",\"\",VLOOKUP(A1211,Funcionários!$A$2:$F$299,5,0)),\"\")","v":""},""]
[null,{"$f":"IFERROR(IF(A1212=\"\",\"\",VLOOKUP(A1212,Funcionários!$A$2:$F$299,2,0)),\"Funcionário não encontrado\")","v":""},null,null,null,null,null,"",{"$f":"IFERROR(IF(A1212=\"\",\"\",VLOOKUP(A1212,Funcionários!$A$2:$F$299,5,0)),\"\")","v":""},""]
[null,{"$f":"IFERROR(IF(A1213=\"\",\"\",VLOOKUP(A1213,Funcionários!$A$2:$F$299,2,0)),\"Funcionário não encontrado\")","v":""},null,null,null,null,null,"",{"$f":"IFERROR(IF(A1213=\"\",\"\",VLOOKUP(A1213,Funcionários!$A$2:$F$299,5,0)),\"\")","v":""},""]
[null,{"$f":"IFERROR(IF(A1214=\"\",\"\",VLOOKUP(A1214,Funcionários!$A$2:$F$299,2,0)),\"Funcionário não encontrado\")","v":""},null,null,null,null,null,"",{"$f":"IFERROR(IF(A1214=\"\",\"\",VLOOKUP(A1214,Funcionários!$A$2:$F$299,5,0)),\"\")","v":""},""]
[null,{"$f":"IFERROR(IF(A1215=\"\",\"\",VLOOKUP(A1215,Funcionários!$A$2:$F$299,2,0)),\"Funcionário não encontrado\")","v":""},null,null,null,null,null,"",{"$f":"IFERROR(IF(A1215=\"\",\"\",VLOOKUP(A1215,Funcionários!$A$2:$F$299,5,0)),\"\")","v":""},""]
[null,{"$f":"IFERROR(IF(A1216=\"\",\"\",VLOOKUP(A1216,Funcionários!$A$2:$F$299,2,0)),\"Funcionário não encontrado\")","v":""},null,null,null,null,null,"",{"$f":"IFERROR(IF(A1216=\"\",\"\",VLOOKUP(A1216,Funcionários!$A$2:$F$299,5,0)),\"\")","v":""},""]
[null,{"$f":"IFERROR(IF(A1217=\"\",\"\",VLOOKUP(A1217,Funcionários!$A$2:$F$299,2,0)),\"Funcionário não encontrado\")","v":""},null,null,null,null,null,"",{"$f":"IFERROR(IF(A1217=\"\",\"\",VLOOKUP(A1217,Funcionários!$A$2:$F$299,5,0)),\"\")","v":""},""]
[null,{"$f":"IFERROR(IF(A1218=\"\",\"\",VLOOKUP(A1218,Funcionários!$A$2:$F$299,2,0)),\"Funcionário não encontrado\")","v":""},null,null,null,null,null,"",{"$f":"IFERROR(IF(A1218=\"\",\"\",VLOOKUP(A1218,Funcionários!$A$2:$F$299,5,0)),\"\")","v":""},""]
[null,{"$f":"IFERROR(IF(A1219=\"\",\"\",VLOOKUP(A1219,Funcionários!$A$2:$F$299,2,0)),\"Funcionário não encontrado\")","v":""},null,null,null,null,null,{"$f":"IF(OR(D1219=\"\",E1219=\"\",F1219=\"\"),\"\",MOD((E1219-D1219)+(G1219-F1219),1))","v":""},{"$f":"IFERROR(IF(A1219=\"\",\"\",VLOOKUP(A1219,Funcionários!$A$2:$F$299,5,0)),\"\")","v":""},{"$f":"IF(H1219=\"\",\"\",H1219-I1219)","v":""}]
[null,{"$f":"IFERROR(IF(A1220=\"\",\"\",VLOOKUP(A1220,Funcionários!$A$2:$F$299,2,0)),\"Funcionário não encontrado\")","v":""},null,null,null,null,null,"",{"$f":"IFERROR(IF(A1220=\"\",\"\",VLOOKUP(A1220,Funcionários!$A$2:$F$299,5,0)),\"\")","v":""},""]
[null,{"$f":"IFERROR(IF(A1221=\"\",\"\",VLOOKUP(A1221,Funcionários!$A$2:$F$299,2,0)),\"Funcionário não encontrado\")","v":""},null,null,null,null,null,"",{"$f":"IFERROR(IF(A1221=\"\",\"\",VLOOKUP(A1221,Funcionários!$A$2:$F$299,5,0)),\"\")","v":""},""]
[null,{"$f":"IFERROR(IF(A1222=\"\",\"\",VLOOKUP(A1222,Funcionários!$A$2:$F$299,2,0)),\"Funcionário não encontrado\")","v":""},null,null,null,null,null,"",{"$f":"IFERROR(IF(A1222=\"\",\"\",VLOOKUP(A1222,Funcionários!$A$2:$F$299,5,0)),\"\")","v":""},""]
[null,{"$f":"IFERROR(IF(A1223=\"\",\"\",VLOOKUP(A1223,Funcionários!$A$2:$F$299,2,0)),\"Funcionário não encontrado\")","v":""},null,null,null,null,null,"",{"$f":"IFERROR(IF(A1223=\"\",\"\",VLOOKUP(A1223,Funcionários!$A$2:$F$299,5,0)),\"\")","v":""},""]
[null,{"$f":"IFERROR(IF(A1224=\"\",\"\",VLOOKUP(A1224,Funcionários!$A$2:$F$299,2,0)),\"Funcionário não encontrado\")","v":""},null,null,null,null,null,"",{"$f":"IFERROR(IF(A1224=\"\",\"\",VLOOKUP(A1224,Funcionários!$A$2:$F$299,5,0)),\"\")","v":""},""]
[null,{"$f":"IFERROR(IF(A1225=\"\",\"\",VLOOKUP(A1225,Funcionários!$A$2:$F$299,2,0)),\"Funcionário não encontrado\")","v":""},null,null,null,null,null,"",{"$f":"IFERROR(IF(A1225=\"\",\"\",VLOOKUP(A1225,Funcionários!$A$2:$F$299,5,0)),\"\")","v":""},""]
[null,{"$f":"IFERROR(IF(A1226=\"\",\"\",VLOOKUP(A1226,Funcionários!$A$2:$F$299,2,0)),\"Funcionário não encontrado\")","v":""},null,null,null,null,null,"",{"$f":"IFERROR(IF(A1226=\"\",\"\",VLOOKUP(A1226,Funcionários!$A$2:$F$299,5,0)),\"\")","v":""},""]
[null,{"$f":"IFERROR(IF(A1227=\"\",\"\",VLOOKUP(A1227,Funcionários!$A$2:$F$299,2,0)),\"Funcionário não encontrado\")","v":""},null,null,null,null,null,"",{"$f":"IFERROR(IF(A1227=\"\",\"\",VLOOKUP(A1227,Funcionários!$A$2:$F$299,5,0)),\"\")","v":""},""]
[null,{"$f":"IFERROR(IF(A1228=\"\",\"\",VLOOKUP(A1228,Funcionários!$A$2:$F$299,2,0)),\"Funcionário não encontrado\")","v":""},null,null,null,null,null,"",{"$f":"IFERROR(IF(A1228=\"\",\"\",VLOOKUP(A1228,Funcionários!$A$2:$F$299,5,0)),\"\")","v":""},""]
[null,{"$f":"IFERROR(IF(A1229=\"\",\"\",VLOOKUP(A1229,Funcionários!$A$2:$F$299,2,0)),\"Funcionário não encontrado\")","v":""},null,null,null,null,null,"",{"$f":"IFERROR(IF(A1229=\"\",\"\",VLOOKUP(A1229,Funcionários!$A$2:$F$299,5,0)),\"\")","v":""},""]
[null,{"$f":"IFERROR(IF(A1230=\"\",\"\",VLOOKUP(A1230,Funcionários!$A$2:$F$299,2,0)),\"Funcionário não encontrado\")","v":""},null,null,null,null,null,"",{"$f":"IFERROR(IF(A1230=\"\",\"\",VLOOKUP(A1230,Funcionários!$A$2:$F$299,5,0)),\"\")","v":""},""]
[null,{"$f":"IFERROR(IF(A1231=\"\",\"\",VLOOKUP(A1231,Funcionários!$A$2:$F$299,2,0)),\"Funcionário não encontrado\")","v":""},null,null,null,null,null,"",{"$f":"IFERROR(IF(A1231=\"\",\"\",VLOOKUP(A1231,Funcionários!$A$2:$F$299,5,0)),\"\")","v":""},""]
[null,{"$f":"IFERROR(IF(A1232=\"\",\"\",VLOOKUP(A1232,Funcionários!$A$2:$F$299,2,0)),\"Funcionário não encontrado\")","v":""},null,null,null,null,null,"",{"$f":"IFERROR(IF(A1232=\"\",\"\",VLOOKUP(A1232,Funcionários!$A$2:$F$299,5,0)),\"\")","v":""},""]
[null,{"$f":"IFERROR(IF(A1233=\"\",\"\",VLOOKUP(A1233,Funcionários!$A$2:$F$299,2,0)),\"Funcionário não encontrado\")","v":""},null,null,null,null,null,"",{"$f":"IFERROR(IF(A1233=\"\",\"\",VLOOKUP(A1233,Funcionários!$A$2:$F$299,5,0)),\"\")","v":""},""]
[null,{"$f":"IFERROR(IF(A1234=\"\",\"\",VLOOKUP(A1234,Funcionários!$A$2:$F$299,2,0)),\"Funcionário não encontrado\")","v":""},null,null,null,null,null,"",{"$f":"IFERROR(IF(A1234=\"\",\"\",VLOOKUP(A1234,Funcionários!$A$2:$F$299,5,0)),\"\")","v":""},""]
[null,{"$f":"IFERROR(IF(A1235=\"\",\"\",VLOOKUP(A1235,Funcionários!$A$2:$F$299,2,0)),\"Funcionário não encontrado\")","v":""},null,null,null,null,null,"",{"$f":"IFERROR(IF(A1235=\"\",\"\",VLOOKUP(A1235,Funcionários!$A$2:$F$299,5,0)),\"\")","v":""},""]
[null,{"$f":"IFERROR(IF(A1236=\"\",\"\",VLOOKUP(A1236,Funcionários!$A$2:$F$299,2,0)),\"Funcionário não encontrado\")","v":""},null,null,null,null,null,"",{"$f":"IFERROR(IF(A1236=\"\",\"\",VLOOKUP(A1236,Funcionários!$A$2:$F$299,5,0)),\"\")","v":""},""]
[null,{"$f":"IFERROR(IF(A1237=\"\",\"\",VLOOKUP(A1237,Funcionários!$A$2:$F$299,2,0)),\"Funcionário não encontrado\")","v":""},null,null,null,null,null,"",{"$f":"IFERROR(IF(A1237=\"\",\"\",VLOOKUP(A1237,Funcionários!$A$2:$F$299,5,0)),\"\")","v":""},""]
[null,{"$f":"IFERROR(IF(A1238=\"\",\"\",VLOOKUP(A1238,Funcionários!$A$2:$F$299,2,0)),\"Funcionário não encontrado\")","v":""},null,null,null,null,null,"",{"$f":"IFERROR(IF(A1238=\"\",\"\",VLOOKUP(A1238,Funcionários!$A$2:$F$299,5,0)),\"\")","v":""},""]
[null,{"$f":"IFERROR(IF(A1239=\"\",\"\",VLOOKUP(A1239,Funcionários!$A$2:$F$299,2,0)),\"Funcionário não encontrado\")","v":""},null,null,null,null,null,"",{"$f":"IFERROR(IF(A1239=\"\",\"\",VLOOKUP(A1239,Funcionários!$A$2:$F$299,5,0)),\"\")","v":""},""]
[null,{"$f":"IFERROR(IF(A1240=\"\",\"\",VLOOKUP(A1240,Funcionários!$A$2:$F$299,2,0)),\"Funcionário não encontrado\")","v":""},null,null,null,null,null,"",{"$f":"IFERROR(IF(A1240=\"\",\"\",VLOOKUP(A1240,Funcionários!$A$2:$F$299,5,0)),\"\")","v":""},""]
[null,{"$f":"IFERROR(IF(A1241=\"\",\"\",VLOOKUP(A1241,Funcionários!$A$2:$F$299,2,0)),\"Funcionário não encontrado\")","v":""},null,null,null,null,null,"",{"$f":"IFERROR(IF(A1241=\"\",\"\",VLOOKUP(A1241,Funcionários!$A$2:$F$299,5,0)),\"\")","v":""},""]
[null,{"$f":"IFERROR(IF(A1242=\"\",\"\",VLOOKUP(A1242,Funcionários!$A$2:$F$299,2,0)),\"Funcionário não encontrado\")","v":""},null,null,null,null,null,"",{"$f":"IFERROR(IF(A1242=\"\",\"\",VLOOKUP(A1242,Funcionários!$A$2:$F$299,5,0)),\"\")","v":""},""]
[null,{"$f":"IFERROR(IF(A1243=\"\",\"\",VLOOKUP(A1243,Funcionários!$A$2:$F$299,2,0)),\"Funcionário não encontrado\")","v":""},null,null,null,null,null,"",{"$f":"IFERROR(IF(A1243=\"\",\"\",VLOOKUP(A1243,Funcionários!$A$2:$F$299,5,0)),\"\")","v":""},""]
[null,{"$f":"IFERROR(IF(A1244=\"\",\"\",VLOOKUP(A1244,Funcionários!$A$2:$F$299,2,0)),\"Funcionário não encontrado\")","v":""},null,null,null,null,null,"",{"$f":"IFERROR(IF(A1244=\"\",\"\",VLOOKUP(A1244,Funcionários!$A$2:$F$299,5,0)),\"\")","v":""},""]
[null,{"$f":"IFERROR(IF(A1245=\"\",\"\",VLOOKUP(A1245,Funcionários!$A$2:$F$299,2,0)),\"Funcionário não encontrado\")","v":""},null,null,null,null,null,"",{"$f":"IFERROR(IF(A1245=\"\",\"\",VLOOKUP(A1245,Funcionários!$A$2:$F$299,5,0)),\"\")","v":""},""]
[null,{"$f":"IFERROR(IF(A1246=\"\",\"\",VLOOKUP(A1246,Funcionários!$A$2:$F$299,2,0)),\"Funcionário não encontrado\")","v":""},null,null,null,null,null,"",{"$f":"IFERROR(IF(A1246=\"\",\"\",VLOOKUP(A1246,Funcionários!$A$2:$F$299,5,0)),\"\")","v":""},""]
[null,{"$f":"IFERROR(IF(A1247=\"\",\"\",VLOOKUP(A1247,Funcionários!$A$2:$F$299,2,0)),\"Funcionário não encontrado\")","v":""},null,null,null,null,null,"",{"$f":"IFERROR(IF(A1247=\"\",\"\",VLOOKUP(A1247,Funcionários!$A$2:$F$299,5,0)),\"\")","v":""},""]
[null,{"$f":"IFERROR(IF(A1248=\"\",\"\",VLOOKUP(A1248,Funcionários!$A$2:$F$299,2,0)),\"Funcionário não encontrado\")","v":""},null,null,null,null,null,"",{"$f":"IFERROR(IF(A1248=\"\",\"\",VLOOKUP(A1248,Funcionários!$A$2:$F$299,5,0)),\"\")","v":""},""]
[null,{"$f":"IFERROR(IF(A1249=\"\",\"\",VLOOKUP(A1249,Funcionários!$A$2:$F$299,2,0)),\"Funcionário não encontrado\")","v":""},null,null,null,null,null,"",{"$f":"IFERROR(IF(A1249=\"\",\"\",VLOOKUP(A1249,Funcionários!$A$2:$F$299,5,0)),\"\")","v":""},""]
[null,{"$f":"IFERROR(IF(A1250=\"\",\"\",VLOOKUP(A1250,Funcionários!$A$2:$F$299,2,0)),\"Funcionário não encontrado\")","v":""},null,null,null,null,null,"",{"$f":"IFERROR(IF(A1250=\"\",\"\",VLOOKUP(A1250,Funcionários!$A$2:$F$299,5,0)),\"\")","v":""},""]
[null,{"$f":"IFERROR(IF(A1251=\"\",\"\",VLOOKUP(A1251,Funcionários!$A$2:$F$299,2,0)),\"Funcionário não encontrado\")","v":""},null,null,null,null,null,"",{"$f":"IFERROR(IF(A1251=\"\",\"\",VLOOKUP(A1251,Funcionários!$A$2:$F$299,5,0)),\"\")","v":""},""]
[null,{"$f":"IFERROR(IF(A1252=\"\",\"\",VLOOKUP(A1252,Funcionários!$A$2:$F$299,2,0)),\"Funcionário não encontrado\")","v":""},null,null,null,null,null,"",{"$f":"IFERROR(IF(A1252=\"\",\"\",VLOOKUP(A1252,Funcionários!$A$2:$F$299,5,0)),\"\")","v":""},""]
[null,{"$f":"IFERROR(IF(A1253=\"\",\"\",VLOOKUP(A1253,Funcionários!$A$2:$F$299,2,0)),\"Funcionário não encontrado\")","v":""},null,null,null,null,null,"",{"$f":"IFERROR(IF(A1253=\"\",\"\",VLOOKUP(A1253,Funcionários!$A$2:$F$299,5,0)),\"\")","v":""},""]
[null,{"$f":"IFERROR(IF(A1254=\"\",\"\",VLOOKUP(A1254,Funcionários!$A$2:$F$299,2,0)),\"Funcionário não encontrado\")","v":""},null,null,null,null,null,"",{"$f":"IFERROR(IF(A1254=\"\",\"\",VLOOKUP(A1254,Funcionários!$A$2:$F$299,5,0)),\"\")","v":""},""]
[null,{"$f":"IFERROR(IF(A1255=\"\",\"\",VLOOKUP(A1255,Funcionários!$A$2:$F$299,2,0)),\"Funcionário não encontrado\")","v":""},null,null,null,null,null,"",{"$f":"IFERROR(IF(A1255=\"\",\"\",VLOOKUP(A1255,Funcionários!$A$2:$F$299,5,0)),\"\")","v":""},""]
[null,{"$f":"IFERROR(IF(A1256=\"\",\"\",VLOOKUP(A1256,Funcionários!$A$2:$F$299,2,0)),\"Funcionário não encontrado\")","v":""},null,null,null,null,null,"",{"$f":"IFERROR(IF(A1256=\"\",\"\",VLOOKUP(A1256,Funcionários!$A$2:$F$299,5,0)),\"\")","v":""},""]
[null,{"$f":"IFERROR(IF(A1257=\"\",\"\",VLOOKUP(A1257,Funcionários!$A$2:$F$299,2,0)),\"Funcionário não encontrado\")","v":""},null,null,null,null,null,"",{"$f":"IFERROR(IF(A1257=\"\",\"\",VLOOKUP(A1257,Funcionários!$A$2:$F$299,5,0)),\"\")","v":""},""]
[null,{"$f":"IFERROR(IF(A1258=\"\",\"\",VLOOKUP(A1258,Funcionários!$A$2:$F$299,2,0)),\"Funcionário não encontrado\")","v":""},null,null,null,null,null,"",{"$f":"IFERROR(IF(A1258=\"\",\"\",VLOOKUP(A1258,Funcionários!$A$2:$F$299,5,0)),\"\")","v":""},""]
[null,{"$f":"IFERROR(IF(A1259=\"\",\"\",VLOOKUP(A1259,Funcionários!$A$2:$F$299,2,0)),\"Funcionário não encontrado\")","v":""},null,null,null,null,null,"",{"$f":"IFERROR(IF(A1259=\"\",\"\",VLOOKUP(A1259,Funcionários!$A$2:$F$299,5,0)),\"\")","v":""},""]
[null,{"$f":"IFERROR(IF(A1260=\"\",\"\",VLOOKUP(A1260,Funcionários!$A$2:$F$299,2,0)),\"Funcionário não encontrado\")","v":""},null,null,null,null,null,"",{"$f":"IFERROR(IF(A1260=\"\",\"\",VLOOKUP(A1260,Funcionários!$A$2:$F$299,5,0)),\"\")","v":""},""]
[null,{"$f":"IFERROR(IF(A1261=\"\",\"\",VLOOKUP(A1261,Funcionários!$A$2:$F$299,2,0)),\"Funcionário não encontrado\")","v":""},null,null,null,null,null,"",{"$f":"IFERROR(IF(A1261=\"\",\"\",VLOOKUP(A1261,Funcionários!$A$2:$F$299,5,0)),\"\")","v":""},""]
[null,{"$f":"IFERROR(IF(A1262=\"\",\"\",VLOOKUP(A1262,Funcionários!$A$2:$F$299,2,0)),\"Funcionário não encontrado\")","v":""},null,null,null,null,null,"",{"$f":"IFERROR(IF(A1262=\"\",\"\",VLOOKUP(A1262,Funcionários!$A$2:$F$299,5,0)),\"\")","v":""},""]
[null,{"$f":"IFERROR(IF(A1263=\"\",\"\",VLOOKUP(A1263,Funcionários!$A$2:$F$299,2,0)),\"Funcionário não encontrado\")","v":""},null,null,null,null,null,"",{"$f":"IFERROR(IF(A1263=\"\",\"\",VLOOKUP(A1263,Funcionários!$A$2:$F$299,5,0)),\"\")","v":""},""]
[null,{"$f":"IFERROR(IF(A1264=\"\",\"\",VLOOKUP(A1264,Funcionários!$A$2:$F$299,2,0)),\"Funcionário não encontrado\")","v":""},null,null,null,null,null,"",{"$f":"IFERROR(IF(A1264=\"\",\"\",VLOOKUP(A1264,Funcionários!$A$2:$F$299,5,0)),\"\")","v":""},""]
[null,{"$f":"IFERROR(IF(A1265=\"\",\"\",VLOOKUP(A1265,Funcionários!$A$2:$F$299,2,0)),\"Funcionário não encontrado\")","v":""},null,null,null,null,null,"",{"$f":"IFERROR(IF(A1265=\"\",\"\",VLOOKUP(A1265,Funcionários!$A$2:$F$299,5,0)),\"\")","v":""},""]
[null,{"$f":"IFERROR(IF(A1266=\"\",\"\",VLOOKUP(A1266,Funcionários!$A$2:$F$299,2,0)),\"Funcionário não encontrado\")","v":""},null,null,null,null,null,"",{"$f":"IFERROR(IF(A1266=\"\",\"\",VLOOKUP(A1266,Funcionários!$A$2:$F$299,5,0)),\"\")","v":""},""]
[null,{"$f":"IFERROR(IF(A1267=\"\",\"\",VLOOKUP(A1267,Funcionários!$A$2:$F$299,2,0)),\"Funcionário não encontrado\")","v":""},null,null,null,null,null,"",{"$f":"IFERROR(IF(A1267=\"\",\"\",VLOOKUP(A1267,Funcionários!$A$2:$F$299,5,0)),\"\")","v":""},""]
[null,{"$f":"IFERROR(IF(A1268=\"\",\"\",VLOOKUP(A1268,Funcionários!$A$2:$F$299,2,0)),\"Funcionário não encontrado\")","v":""},null,null,null,null,null,"",{"$f":"IFERROR(IF(A1268=\"\",\"\",VLOOKUP(A1268,Funcionários!$A$2:$F$299,5,0)),\"\")","v":""},""]
[null,{"$f":"IFERROR(IF(A1269=\"\",\"\",VLOOKUP(A1269,Funcionários!$A$2:$F$299,2,0)),\"Funcionário não encontrado\")","v":""},null,null,null,null,null,"",{"$f":"IFERROR(IF(A1269=\"\",\"\",VLOOKUP(A1269,Funcionários!$A$2:$F$299,5,0)),\"\")","v":""},""]
[null,{"$f":"IFERROR(IF(A1270=\"\",\"\",VLOOKUP(A1270,Funcionários!$A$2:$F$299,2,0)),\"Funcionário não encontrado\")","v":""},null,null,null,null,null,"",{"$f":"IFERROR(IF(A1270=\"\",\"\",VLOOKUP(A1270,Funcionários!$A$2:$F$299,5,0)),\"\")","v":""},""]
[null,{"$f":"IFERROR(IF(A1271=\"\",\"\",VLOOKUP(A1271,Funcionários!$A$2:$F$299,2,0)),\"Funcionário não encontrado\")","v":""},null,null,null,null,null,"",{"$f":"IFERROR(IF(A1271=\"\",\"\",VLOOKUP(A1271,Funcionários!$A$2:$F$299,5,0)),\"\")","v":""},""]
[null,{"$f":"IFERROR(IF(A1272=\"\",\"\",VLOOKUP(A1272,Funcionários!$A$2:$F$299,2,0)),\"Funcionário não encontrado\")","v":""},null,null,null,null,null,"",{"$f":"IFERROR(IF(A1272=\"\",\"\",VLOOKUP(A1272,Funcionários!$A$2:$F$299,5,0)),\"\")","v":""},""]
[null,{"$f":"IFERROR(IF(A1273=\"\",\"\",VLOOKUP(A1273,Funcionários!$A$2:$F$299,2,0)),\"Funcionário não encontrado\")","v":""},null,null,null,null,null,"",{"$f":"IFERROR(IF(A1273=\"\",\"\",VLOOKUP(A1273,Funcionários!$A$2:$F$299,5,0)),\"\")","v":""},""]
[null,{"$f":"IFERROR(IF(A1274=\"\",\"\",VLOOKUP(A1274,Funcionários!$A$2:$F$299,2,0)),\"Funcionário não encontrado\")","v":""},null,null,null,null,null,"",{"$f":"IFERROR(IF(A1274=\"\",\"\",VLOOKUP(A1274,Funcionários!$A$2:$F$299,5,0)),\"\")","v":""},""]
[null,{"$f":"IFERROR(IF(A1275=\"\",\"\",VLOOKUP(A1275,Funcionários!$A$2:$F$299,2,0)),\"Funcionário não encontrado\")","v":""},null,null,null,null,null,"",{"$f":"IFERROR(IF(A1275=\"\",\"\",VLOOKUP(A1275,Funcionários!$A$2:$F$299,5,0)),\"\")","v":""},""]
[null,{"$f":"IFERROR(IF(A1276=\"\",\"\",VLOOKUP(A1276,Funcionários!$A$2:$F$299,2,0)),\"Funcionário não encontrado\")","v":""},null,null,null,null,null,"",{"$f":"IFERROR(IF(A1276=\"\",\"\",VLOOKUP(A1276,Funcionários!$A$2:$F$299,5,0)),\"\")","v":""},""]
[null,{"$f":"IFERROR(IF(A1277=\"\",\"\",VLOOKUP(A1277,Funcionários!$A$2:$F$299,2,0)),\"Funcionário não encontrado\")","v":""},null,null,null,null,null,"",{"$f":"IFERROR(IF(A1277=\"\",\"\",VLOOKUP(A1277,Funcionários!$A$2:$F$299,5,0)),\"\")","v":""},""]
[null,{"$f":"IFERROR(IF(A1278=\"\",\"\",VLOOKUP(A1278,Funcionários!$A$2:$F$299,2,0)),\"Funcionário não encontrado\")","v":""},null,null,null,null,null,"",{"$f":"IFERROR(IF(A1278=\"\",\"\",VLOOKUP(A1278,Funcionários!$A$2:$F$299,5,0)),\"\")","v":""},""]
[null,{"$f":"IFERROR(IF(A1279=\"\",\"\",VLOOKUP(A1279,Funcionários!$A$2:$F$299,2,0)),\"Funcionário não encontrado\")","v":""},null,null,null,null,null,"",{"$f":"IFERROR(IF(A1279=\"\",\"\",VLOOKUP(A1279,Funcionários!$A$2:$F$299,5,0)),\"\")","v":""},""]
[null,{"$f":"IFERROR(IF(A1280=\"\",\"\",VLOOKUP(A1280,Funcionários!$A$2:$F$299,2,0)),\"Funcionário não encontrado\")","v":""},null,null,null,null,null,"",{"$f":"IFERROR(IF(A1280=\"\",\"\",VLOOKUP(A1280,Funcionários!$A$2:$F$299,5,0)),\"\")","v":""},""]
[null,{"$f":"IFERROR(IF(A1281=\"\",\"\",VLOOKUP(A1281,Funcionários!$A$2:$F$299,2,0)),\"Funcionário não encontrado\")","v":""},null,null,null,null,null,"",{"$f":"IFERROR(IF(A1281=\"\",\"\",VLOOKUP(A1281,Funcionários!$A$2:$F$299,5,0)),\"\")","v":""},""]
[null,{"$f":"IFERROR(IF(A1282=\"\",\"\",VLOOKUP(A1282,Funcionários!$A$2:$F$299,2,0)),\"Funcionário não encontrado\")","v":""},null,null,null,null,null,"",{"$f":"IFERROR(IF(A1282=\"\",\"\",VLOOKUP(A1282,Funcionários!$A$2:$F$299,5,0)),\"\")","v":""},""]
[null,{"$f":"IFERROR(IF(A1283=\"\",\"\",VLOOKUP(A1283,Funcionários!$A$2:$F$299,2,0)),\"Funcionário não encontrado\")","v":""},null,null,null,null,null,{"$f":"IF(OR(D1283=\"\",E1283=\"\",F1283=\"\"),\"\",MOD((E1283-D1283)+(G1283-F1283),1))","v":""},{"$f":"IFERROR(IF(A1283=\"\",\"\",VLOOKUP(A1283,Funcionários!$A$2:$F$299,5,0)),\"\")","v":""},{"$f":"IF(H1283=\"\",\"\",H1283-I1283)","v":""}]
[null,{"$f":"IFERROR(IF(A1284=\"\",\"\",VLOOKUP(A1284,Funcionários!$A$2:$F$299,2,0)),\"Funcionário não encontrado\")","v":""},null,null,null,null,null,"",{"$f":"IFERROR(IF(A1284=\"\",\"\",VLOOKUP(A1284,Funcionários!$A$2:$F$299,5,0)),\"\")","v":""},""]
[null,{"$f":"IFERROR(IF(A1285=\"\",\"\",VLOOKUP(A1285,Funcionários!$A$2:$F$299,2,0)),\"Funcionário não encontrado\")","v":""},null,null,null,null,null,"",{"$f":"IFERROR(IF(A1285=\"\",\"\",VLOOKUP(A1285,Funcionários!$A$2:$F$299,5,0)),\"\")","v":""},""]
[null,{"$f":"IFERROR(IF(A1286=\"\",\"\",VLOOKUP(A1286,Funcionários!$A$2:$F$299,2,0)),\"Funcionário não encontrado\")","v":""},null,null,null,null,null,"",{"$f":"IFERROR(IF(A1286=\"\",\"\",VLOOKUP(A1286,Funcionários!$A$2:$F$299,5,0)),\"\")","v":""},""]
[null,{"$f":"IFERROR(IF(A1287=\"\",\"\",VLOOKUP(A1287,Funcionários!$A$2:$F$299,2,0)),\"Funcionário não encontrado\")","v":""},null,null,null,null,null,"",{"$f":"IFERROR(IF(A1287=\"\",\"\",VLOOKUP(A1287,Funcionários!$A$2:$F$299,5,0)),\"\")","v":""},""]
[null,{"$f":"IFERROR(IF(A1288=\"\",\"\",VLOOKUP(A1288,Funcionários!$A$2:$F$299,2,0)),\"Funcionário não encontrado\")","v":""},null,null,null,null,null,"",{"$f":"IFERROR(IF(A1288=\"\",\"\",VLOOKUP(A1288,Funcionários!$A$2:$F$299,5,0)),\"\")","v":""},""]
[null,{"$f":"IFERROR(IF(A1289=\"\",\"\",VLOOKUP(A1289,Funcionários!$A$2:$F$299,2,0)),\"Funcionário não encontrado\")","v":""},null,null,null,null,null,"",{"$f":"IFERROR(IF(A1289=\"\",\"\",VLOOKUP(A1289,Funcionários!$A$2:$F$299,5,0)),\"\")","v":""},""]
[null,{"$f":"IFERROR(IF(A1290=\"\",\"\",VLOOKUP(A1290,Funcionários!$A$2:$F$299,2,0)),\"Funcionário não encontrado\")","v":""},null,null,null,null,null,"",{"$f":"IFERROR(IF(A1290=\"\",\"\",VLOOKUP(A1290,Funcionários!$A$2:$F$299,5,0)),\"\")","v":""},""]
[null,{"$f":"IFERROR(IF(A1291=\"\",\"\",VLOOKUP(A1291,Funcionários!$A$2:$F$299,2,0)),\"Funcionário não encontrado\")","v":""},null,null,null,null,null,"",{"$f":"IFERROR(IF(A1291=\"\",\"\",VLOOKUP(A1291,Funcionários!$A$2:$F$299,5,0)),\"\")","v":""},""]
[null,{"$f":"IFERROR(IF(A1292=\"\",\"\",VLOOKUP(A1292,Funcionários!$A$2:$F$299,2,0)),\"Funcionário não encontrado\")","v":""},null,null,null,null,null,"",{"$f":"IFERROR(IF(A1292=\"\",\"\",VLOOKUP(A1292,Funcionários!$A$2:$F$299,5,0)),\"\")","v":""},""]
[null,{"$f":"IFERROR(IF(A1293=\"\",\"\",VLOOKUP(A1293,Funcionários!$A$2:$F$299,2,0)),\"Funcionário não encontrado\")","v":""},null,null,null,null,null,"",{"$f":"IFERROR(IF(A1293=\"\",\"\",VLOOKUP(A1293,Funcionários!$A$2:$F$299,5,0)),\"\")","v":""},""]
[null,{"$f":"IFERROR(IF(A1294=\"\",\"\",VLOOKUP(A1294,Funcionários!$A$2:$F$299,2,0)),\"Funcionário não encontrado\")","v":""},null,null,null,null,null,"",{"$f":"IFERROR(IF(A1294=\"\",\"\",VLOOKUP(A1294,Funcionários!$A$2:$F$299,5,0)),\"\")","v":""},""]
[null,{"$f":"IFERROR(IF(A1295=\"\",\"\",VLOOKUP(A1295,Funcionários!$A$2:$F$299,2,0)),\"Funcionário não encontrado\")","v":""},null,null,null,null,null,"",{"$f":"IFERROR(IF(A1295=\"\",\"\",VLOOKUP(A1295,Funcionários!$A$2:$F$299,5,0)),\"\")","v":""},""]
[null,{"$f":"IFERROR(IF(A1296=\"\",\"\",VLOOKUP(A1296,Funcionários!$A$2:$F$299,2,0)),\"Funcionário não encontrado\")","v":""},null,null,null,null,null,"",{"$f":"IFERROR(IF(A1296=\"\",\"\",VLOOKUP(A1296,Funcionários!$A$2:$F$299,5,0)),\"\")","v":""},""]
[null,{"$f":"IFERROR(IF(A1297=\"\",\"\",VLOOKUP(A1297,Funcionários!$A$2:$F$299,2,0)),\"Funcionário não encontrado\")","v":""},null,null,null,null,null,"",{"$f":"IFERROR(IF(A1297=\"\",\"\",VLOOKUP(A1297,Funcionários!$A$2:$F$299,5,0)),\"\")","v":""},""]
[null,{"$f":"IFERROR(IF(A1298=\"\",\"\",VLOOKUP(A1298,Funcionários!$A$2:$F$299,2,0)),\"Funcionário não encontrado\")","v":""},null,null,null,null,null,"",{"$f":"IFERROR(IF(A1298=\"\",\"\",VLOOKUP(A1298,Funcionários!$A$2:$F$299,5,0)),\"\")","v":""},""]
[null,{"$f":"IFERROR(IF(A1299=\"\",\"\",VLOOKUP(A1299,Funcionários!$A$2:$F$299,2,0)),\"Funcionário não encontrado\")","v":""},null,null,null,null,null,"",{"$f":"IFERROR(IF(A1299=\"\",\"\",VLOOKUP(A1299,Funcionários!$A$2:$F$299,5,0)),\"\")","v":""},""]
[null,{"$f":"IFERROR(IF(A1300=\"\",\"\",VLOOKUP(A1300,Funcionários!$A$2:$F$299,2,0)),\"Funcionário não encontrado\")","v":""},null,null,null,null,null,"",{"$f":"IFERROR(IF(A1300=\"\",\"\",VLOOKUP(A1300,Funcionários!$A$2:$F$299,5,0)),\"\")","v":""},""]
[null,{"$f":"IFERROR(IF(A1301=\"\",\"\",VLOOKUP(A1301,Funcionários!$A$2:$F$299,2,0)),\"Funcionário não encontrado\")","v":""},null,null,null,null,null,"",{"$f":"IFERROR(IF(A1301=\"\",\"\",VLOOKUP(A1301,Funcionários!$A$2:$F$299,5,0)),\"\")","v":""},""]
[null,{"$f":"IFERROR(IF(A1302=\"\",\"\",VLOOKUP(A1302,Funcionários!$A$2:$F$299,2,0)),\"Funcionário não encontrado\")","v":""},null,null,null,null,null,"",{"$f":"IFERROR(IF(A1302=\"\",\"\",VLOOKUP(A1302,Funcionários!$A$2:$F$299,5,0)),\"\")","v":""},""]
[null,{"$f":"IFERROR(IF(A1303=\"\",\"\",VLOOKUP(A1303,Funcionários!$A$2:$F$299,2,0)),\"Funcionário não encontrado\")","v":""},null,null,null,null,null,"",{"$f":"IFERROR(IF(A1303=\"\",\"\",VLOOKUP(A1303,Funcionários!$A$2:$F$299,5,0)),\"\")","v":""},""]
[null,{"$f":"IFERROR(IF(A1304=\"\",\"\",VLOOKUP(A1304,Funcionários!$A$2:$F$299,2,0)),\"Funcionário não encontrado\")","v":""},null,null,null,null,null,"",{"$f":"IFERROR(IF(A1304=\"\",\"\",VLOOKUP(A1304,Funcionários!$A$2:$F$299,5,0)),\"\")","v":""},""]
[null,{"$f":"IFERROR(IF(A1305=\"\",\"\",VLOOKUP(A1305,Funcionários!$A$2:$F$299,2,0)),\"Funcionário não encontrado\")","v":""},null,null,null,null,null,"",{"$f":"IFERROR(IF(A1305=\"\",\"\",VLOOKUP(A1305,Funcionários!$A$2:$F$299,5,0)),\"\")","v":""},""]
[null,{"$f":"IFERROR(IF(A1306=\"\",\"\",VLOOKUP(A1306,Funcionários!$A$2:$F$299,2,0)),\"Funcionário não encontrado\")","v":""},null,null,null,null,null,"",{"$f":"IFERROR(IF(A1306=\"\",\"\",VLOOKUP(A1306,Funcionários!$A$2:$F$299,5,0)),\"\")","v":""},""]
[null,{"$f":"IFERROR(IF(A1307=\"\",\"\",VLOOKUP(A1307,Funcionários!$A$2:$F$299,2,0)),\"Funcionário não encontrado\")","v":""},null,null,null,null,null,"",{"$f":"IFERROR(IF(A1307=\"\",\"\",VLOOKUP(A1307,Funcionários!$A$2:$F$299,5,0)),\"\")","v":""},""]
[null,{"$f":"IFERROR(IF(A1308=\"\",\"\",VLOOKUP(A1308,Funcionários!$A$2:$F$299,2,0)),\"Funcionário não encontrado\")","v":""},null,null,null,null,null,"",{"$f":"IFERROR(IF(A1308=\"\",\"\",VLOOKUP(A1308,Funcionários!$A$2:$F$299,5,0)),\"\")","v":""},""]
[null,{"$f":"IFERROR(IF(A1309=\"\",\"\",VLOOKUP(A1309,Funcionários!$A$2:$F$299,2,0)),\"Funcionário não encontrado\")","v":""},null,null,null,null,null,"",{"$f":"IFERROR(IF(A1309=\"\",\"\",VLOOKUP(A1309,Funcionários!$A$2:$F$299,5,0)),\"\")","v":""},""]
[null,{"$f":"IFERROR(IF(A1310=\"\",\"\",VLOOKUP(A1310,Funcionários!$A$2:$F$299,2,0)),\"Funcionário não encontrado\")","v":""},null,null,null,null,null,"",{"$f":"IFERROR(IF(A1310=\"\",\"\",VLOOKUP(A1310,Funcionários!$A$2:$F$299,5,0)),\"\")","v":""},""]
[null,{"$f":"IFERROR(IF(A1311=\"\",\"\",VLOOKUP(A1311,Funcionários!$A$2:$F$299,2,0)),\"Funcionário não encontrado\")","v":""},null,null,null,null,null,"",{"$f":"IFERROR(IF(A1311=\"\",\"\",VLOOKUP(A1311,Funcionários!$A$2:$F$299,5,0)),\"\")","v":""},""]
[null,{"$f":"IFERROR(IF(A1312=\"\",\"\",VLOOKUP(A1312,Funcionários!$A$2:$F$299,2,0)),\"Funcionário não encontrado\")","v":""},null,null,null,null,null,"",{"$f":"IFERROR(IF(A1312=\"\",\"\",VLOOKUP(A1312,Funcionários!$A$2:$F$299,5,0)),\"\")","v":""},""]
[null,{"$f":"IFERROR(IF(A1313=\"\",\"\",VLOOKUP(A1313,Funcionários!$A$2:$F$299,2,0)),\"Funcionário não encontrado\")","v":""},null,null,null,null,null,"",{"$f":"IFERROR(IF(A1313=\"\",\"\",VLOOKUP(A1313,Funcionários!$A$2:$F$299,5,0)),\"\")","v":""},""]
[null,{"$f":"IFERROR(IF(A1314=\"\",\"\",VLOOKUP(A1314,Funcionários!$A$2:$F$299,2,0)),\"Funcionário não encontrado\")","v":""},null,null,null,null,null,"",{"$f":"IFERROR(IF(A1314=\"\",\"\",VLOOKUP(A1314,Funcionários!$A$2:$F$299,5,0)),\"\")","v":""},""]
[null,{"$f":"IFERROR(IF(A1315=\"\",\"\",VLOOKUP(A1315,Funcionários!$A$2:$F$299,2,0)),\"Funcionário não encontrado\")","v":""},null,null,null,null,null,"",{"$f":"IFERROR(IF(A1315=\"\",\"\",VLOOKUP(A1315,Funcionários!$A$2:$F$299,5,0)),\"\")","v":""},""]
[null,{"$f":"IFERROR(IF(A1316=\"\",\"\",VLOOKUP(A1316,Funcionários!$A$2:$F$299,2,0)),\"Funcionário não encontrado\")","v":""},null,null,null,null,null,"",{"$f":"IFERROR(IF(A1316=\"\",\"\",VLOOKUP(A1316,Funcionários!$A$2:$F$299,5,0)),\"\")","v":""},""]
[null,{"$f":"IFERROR(IF(A1317=\"\",\"\",VLOOKUP(A1317,Funcionários!$A$2:$F$299,2,0)),\"Funcionário não encontrado\")","v":""},null,null,null,null,null,"",{"$f":"IFERROR(IF(A1317=\"\",\"\",VLOOKUP(A1317,Funcionários!$A$2:$F$299,5,0)),\"\")","v":""},""]
[null,{"$f":"IFERROR(IF(A1318=\"\",\"\",VLOOKUP(A1318,Funcionários!$A$2:$F$299,2,0)),\"Funcionário não encontrado\")","v":""},null,null,null,null,null,"",{"$f":"IFERROR(IF(A1318=\"\",\"\",VLOOKUP(A1318,Funcionários!$A$2:$F$299,5,0)),\"\")","v":""},""]
[null,{"$f":"IFERROR(IF(A1319=\"\",\"\",VLOOKUP(A1319,Funcionários!$A$2:$F$299,2,0)),\"Funcionário não encontrado\")","v":""},null,null,null,null,null,"",{"$f":"IFERROR(IF(A1319=\"\",\"\",VLOOKUP(A1319,Funcionários!$A$2:$F$299,5,0)),\"\")","v":""},""]
[null,{"$f":"IFERROR(IF(A1320=\"\",\"\",VLOOKUP(A1320,Funcionários!$A$2:$F$299,2,0)),\"Funcionário não encontrado\")","v":""},null,null,null,null,null,"",{"$f":"IFERROR(IF(A1320=\"\",\"\",VLOOKUP(A1320,Funcionários!$A$2:$F$299,5,0)),\"\")","v":""},""]
[null,{"$f":"IFERROR(IF(A1321=\"\",\"\",VLOOKUP(A1321,Funcionários!$A$2:$F$299,2,0)),\"Funcionário não encontrado\")","v":""},null,null,null,null,null,"",{"$f":"IFERROR(IF(A1321=\"\",\"\",VLOOKUP(A1321,Funcionários!$A$2:$F$299,5,0)),\"\")","v":""},""]
[null,{"$f":"IFERROR(IF(A1322=\"\",\"\",VLOOKUP(A1322,Funcionários!$A$2:$F$299,2,0)),\"Funcionário não encontrado\")","v":""},null,null,null,null,null,"",{"$f":"IFERROR(IF(A1322=\"\",\"\",VLOOKUP(A1322,Funcionários!$A$2:$F$299,5,0)),\"\")","v":""},""]
[null,{"$f":"IFERROR(IF(A1323=\"\",\"\",VLOOKUP(A1323,Funcionários!$A$2:$F$299,2,0)),\"Funcionário não encontrado\")","v":""},null,null,null,null,null,"",{"$f":"IFERROR(IF(A1323=\"\",\"\",VLOOKUP(A1323,Funcionários!$A$2:$F$299,5,0)),\"\")","v":""},""]
[null,{"$f":"IFERROR(IF(A1324=\"\",\"\",VLOOKUP(A1324,Funcionários!$A$2:$F$299,2,0)),\"Funcionário não encontrado\")","v":""},null,null,null,null,null,"",{"$f":"IFERROR(IF(A1324=\"\",\"\",VLOOKUP(A1324,Funcionários!$A$2:$F$299,5,0)),\"\")","v":""},""]
[null,{"$f":"IFERROR(IF(A1325=\"\",\"\",VLOOKUP(A1325,Funcionários!$A$2:$F$299,2,0)),\"Funcionário não encontrado\")","v":""},null,null,null,null,null,"",{"$f":"IFERROR(IF(A1325=\"\",\"\",VLOOKUP(A1325,Funcionários!$A$2:$F$299,5,0)),\"\")","v":""},""]
[null,{"$f":"IFERROR(IF(A1326=\"\",\"\",VLOOKUP(A1326,Funcionários!$A$2:$F$299,2,0)),\"Funcionário não encontrado\")","v":""},null,null,null,null,null,"",{"$f":"IFERROR(IF(A1326=\"\",\"\",VLOOKUP(A1326,Funcionários!$A$2:$F$299,5,0)),\"\")","v":""},""]
[null,{"$f":"IFERROR(IF(A1327=\"\",\"\",VLOOKUP(A1327,Funcionários!$A$2:$F$299,2,0)),\"Funcionário não encontrado\")","v":""},null,null,null,null,null,"",{"$f":"IFERROR(IF(A1327=\"\",\"\",VLOOKUP(A1327,Funcionários!$A$2:$F$299,5,0)),\"\")","v":""},""]
[null,{"$f":"IFERROR(IF(A1328=\"\",\"\",VLOOKUP(A1328,Funcionários!$A$2:$F$299,2,0)),\"Funcionário não encontrado\")","v":""},null,null,null,null,null,"",{"$f":"IFERROR(IF(A1328=\"\",\"\",VLOOKUP(A1328,Funcionários!$A$2:$F$299,5,0)),\"\")","v":""},""]
[null,{"$f":"IFERROR(IF(A1329=\"\",\"\",VLOOKUP(A1329,Funcionários!$A$2:$F$299,2,0)),\"Funcionário não encontrado\")","v":""},null,null,null,null,null,"",{"$f":"IFERROR(IF(A1329=\"\",\"\",VLOOKUP(A1329,Funcionários!$A$2:$F$299,5,0)),\"\")","v":""},""]
[null,{"$f":"IFERROR(IF(A1330=\"\",\"\",VLOOKUP(A1330,Funcionários!$A$2:$F$299,2,0)),\"Funcionário não encontrado\")","v":""},null,null,null,null,null,"",{"$f":"IFERROR(IF(A1330=\"\",\"\",VLOOKUP(A1330,Funcionários!$A$2:$F$299,5,0)),\"\")","v":""},""]
[null,{"$f":"IFERROR(IF(A1331=\"\",\"\",VLOOKUP(A1331,Funcionários!$A$2:$F$299,2,0)),\"Funcionário não encontrado\")","v":""},null,null,null,null,null,"",{"$f":"IFERROR(IF(A1331=\"\",\"\",VLOOKUP(A1331,Funcionários!$A$2:$F$299,5,0)),\"\")","v":""},""]
[null,{"$f":"IFERROR(IF(A1332=\"\",\"\",VLOOKUP(A1332,Funcionários!$A$2:$F$299,2,0)),\"Funcionário não encontrado\")","v":""},null,null,null,null,null,"",{"$f":"IFERROR(IF(A1332=\"\",\"\",VLOOKUP(A1332,Funcionários!$A$2:$F$299,5,0)),\"\")","v":""},""]
[null,{"$f":"IFERROR(IF(A1333=\"\",\"\",VLOOKUP(A1333,Funcionários!$A$2:$F$299,2,0)),\"Funcionário não encontrado\")","v":""},null,null,null,null,null,"",{"$f":"IFERROR(IF(A1333=\"\",\"\",VLOOKUP(A1333,Funcionários!$A$2:$F$299,5,0)),\"\")","v":""},""]
[null,{"$f":"IFERROR(IF(A1334=\"\",\"\",VLOOKUP(A1334,Funcionários!$A$2:$F$299,2,0)),\"Funcionário não encontrado\")","v":""},null,null,null,null,null,"",{"$f":"IFERROR(IF(A1334=\"\",\"\",VLOOKUP(A1334,Funcionários!$A$2:$F$299,5,0)),\"\")","v":""},""]
[null,{"$f":"IFERROR(IF(A1335=\"\",\"\",VLOOKUP(A1335,Funcionários!$A$2:$F$299,2,0)),\"Funcionário não encontrado\")","v":""},null,null,null,null,null,"",{"$f":"IFERROR(IF(A1335=\"\",\"\",VLOOKUP(A1335,Funcionários!$A$2:$F$299,5,0)),\"\")","v":""},""]
[null,{"$f":"IFERROR(IF(A1336=\"\",\"\",VLOOKUP(A1336,Funcionários!$A$2:$F$299,2,0)),\"Funcionário não encontrado\")","v":""},null,null,null,null,null,"",{"$f":"IFERROR(IF(A1336=\"\",\"\",VLOOKUP(A1336,Funcionários!$A$2:$F$299,5,0)),\"\")","v":""},""]
[null,{"$f":"IFERROR(IF(A1337=\"\",\"\",VLOOKUP(A1337,Funcionários!$A$2:$F$299,2,0)),\"Funcionário não encontrado\")","v":""},null,null,null,null,null,"",{"$f":"IFERROR(IF(A1337=\"\",\"\",VLOOKUP(A1337,Funcionários!$A$2:$F$299,5,0)),\"\")","v":""},""]
[null,{"$f":"IFERROR(IF(A1338=\"\",\"\",VLOOKUP(A1338,Funcionários!$A$2:$F$299,2,0)),\"Funcionário não encontrado\")","v":""},null,null,null,null,null,"",{"$f":"IFERROR(IF(A1338=\"\",\"\",VLOOKUP(A1338,Funcionários!$A$2:$F$299,5,0)),\"\")","v":""},""]
[null,{"$f":"IFERROR(IF(A1339=\"\",\"\",VLOOKUP(A1339,Funcionários!$A$2:$F$299,2,0)),\"Funcionário não encontrado\")","v":""},null,null,null,null,null,"",{"$f":"IFERROR(IF(A1339=\"\",\"\",VLOOKUP(A1339,Funcionários!$A$2:$F$299,5,0)),\"\")","v":""},""]
[null,{"$f":"IFERROR(IF(A1340=\"\",\"\",VLOOKUP(A1340,Funcionários!$A$2:$F$299,2,0)),\"Funcionário não encontrado\")","v":""},null,null,null,null,null,"",{"$f":"IFERROR(IF(A1340=\"\",\"\",VLOOKUP(A1340,Funcionários!$A$2:$F$299,5,0)),\"\")","v":""},""]
[null,{"$f":"IFERROR(IF(A1341=\"\",\"\",VLOOKUP(A1341,Funcionários!$A$2:$F$299,2,0)),\"Funcionário não encontrado\")","v":""},null,null,null,null,null,"",{"$f":"IFERROR(IF(A1341=\"\",\"\",VLOOKUP(A1341,Funcionários!$A$2:$F$299,5,0)),\"\")","v":""},""]
[null,{"$f":"IFERROR(IF(A1342=\"\",\"\",VLOOKUP(A1342,Funcionários!$A$2:$F$299,2,0)),\"Funcionário não encontrado\")","v":""},null,null,null,null,null,"",{"$f":"IFERROR(IF(A1342=\"\",\"\",VLOOKUP(A1342,Funcionários!$A$2:$F$299,5,0)),\"\")","v":""},""]
[null,{"$f":"IFERROR(IF(A1343=\"\",\"\",VLOOKUP(A1343,Funcionários!$A$2:$F$299,2,0)),\"Funcionário não encontrado\")","v":""},null,null,null,null,null,"",{"$f":"IFERROR(IF(A1343=\"\",\"\",VLOOKUP(A1343,Funcionários!$A$2:$F$299,5,0)),\"\")","v":""},""]
[null,{"$f":"IFERROR(IF(A1344=\"\",\"\",VLOOKUP(A1344,Funcionários!$A$2:$F$299,2,0)),\"Funcionário não encontrado\")","v":""},null,null,null,null,null,"",{"$f":"IFERROR(IF(A1344=\"\",\"\",VLOOKUP(A1344,Funcionários!$A$2:$F$299,5,0)),\"\")","v":""},""]
[null,{"$f":"IFERROR(IF(A1345=\"\",\"\",VLOOKUP(A1345,Funcionários!$A$2:$F$299,2,0)),\"Funcionário não encontrado\")","v":""},null,null,null,null,null,"",{"$f":"IFERROR(IF(A1345=\"\",\"\",VLOOKUP(A1345,Funcionários!$A$2:$F$299,5,0)),\"\")","v":""},""]
[null,{"$f":"IFERROR(IF(A1346=\"\",\"\",VLOOKUP(A1346,Funcionários!$A$2:$F$299,2,0)),\"Funcionário não encontrado\")","v":""},null,null,null,null,null,"",{"$f":"IFERROR(IF(A1346=\"\",\"\",VLOOKUP(A1346,Funcionários!$A$2:$F$299,5,0)),\"\")","v":""},""]
[null,{"$f":"IFERROR(IF(A1347=\"\",\"\",VLOOKUP(A1347,Funcionários!$A$2:$F$299,2,0)),\"Funcionário não encontrado\")","v":""},null,null,null,null,null,{"$f":"IF(OR(D1347=\"\",E1347=\"\",F1347=\"\"),\"\",MOD((E1347-D1347)+(G1347-F1347),1))","v":""},{"$f":"IFERROR(IF(A1347=\"\",\"\",VLOOKUP(A1347,Funcionários!$A$2:$F$299,5,0)),\"\")","v":""},{"$f":"IF(H1347=\"\",\"\",H1347-I1347)","v":""}]
[null,{"$f":"IFERROR(IF(A1348=\"\",\"\",VLOOKUP(A1348,Funcionários!$A$2:$F$299,2,0)),\"Funcionário não encontrado\")","v":""},null,null,null,null,null,"",{"$f":"IFERROR(IF(A1348=\"\",\"\",VLOOKUP(A1348,Funcionários!$A$2:$F$299,5,0)),\"\")","v":""},""]
[null,{"$f":"IFERROR(IF(A1349=\"\",\"\",VLOOKUP(A1349,Funcionários!$A$2:$F$299,2,0)),\"Funcionário não encontrado\")","v":""},null,null,null,null,null,"",{"$f":"IFERROR(IF(A1349=\"\",\"\",VLOOKUP(A1349,Funcionários!$A$2:$F$299,5,0)),\"\")","v":""},""]
[null,{"$f":"IFERROR(IF(A1350=\"\",\"\",VLOOKUP(A1350,Funcionários!$A$2:$F$299,2,0)),\"Funcionário não encontrado\")","v":""},null,null,null,null,null,"",{"$f":"IFERROR(IF(A1350=\"\",\"\",VLOOKUP(A1350,Funcionários!$A$2:$F$299,5,0)),\"\")","v":""},""]
[null,{"$f":"IFERROR(IF(A1351=\"\",\"\",VLOOKUP(A1351,Funcionários!$A$2:$F$299,2,0)),\"Funcionário não encontrado\")","v":""},null,null,null,null,null,"",{"$f":"IFERROR(IF(A1351=\"\",\"\",VLOOKUP(A1351,Funcionários!$A$2:$F$299,5,0)),\"\")","v":""},""]
[null,{"$f":"IFERROR(IF(A1352=\"\",\"\",VLOOKUP(A1352,Funcionários!$A$2:$F$299,2,0)),\"Funcionário não encontrado\")","v":""},null,null,null,null,null,"",{"$f":"IFERROR(IF(A1352=\"\",\"\",VLOOKUP(A1352,Funcionários!$A$2:$F$299,5,0)),\"\")","v":""},""]
[null,{"$f":"IFERROR(IF(A1353=\"\",\"\",VLOOKUP(A1353,Funcionários!$A$2:$F$299,2,0)),\"Funcionário não encontrado\")","v":""},null,null,null,null,null,"",{"$f":"IFERROR(IF(A1353=\"\",\"\",VLOOKUP(A1353,Funcionários!$A$2:$F$299,5,0)),\"\")","v":""},""]
[null,{"$f":"IFERROR(IF(A1354=\"\",\"\",VLOOKUP(A1354,Funcionários!$A$2:$F$299,2,0)),\"Funcionário não encontrado\")","v":""},null,null,null,null,null,"",{"$f":"IFERROR(IF(A1354=\"\",\"\",VLOOKUP(A1354,Funcionários!$A$2:$F$299,5,0)),\"\")","v":""},""]
[null,{"$f":"IFERROR(IF(A1355=\"\",\"\",VLOOKUP(A1355,Funcionários!$A$2:$F$299,2,0)),\"Funcionário não encontrado\")","v":""},null,null,null,null,null,"",{"$f":"IFERROR(IF(A1355=\"\",\"\",VLOOKUP(A1355,Funcionários!$A$2:$F$299,5,0)),\"\")","v":""},""]
[null,{"$f":"IFERROR(IF(A1356=\"\",\"\",VLOOKUP(A1356,Funcionários!$A$2:$F$299,2,0)),\"Funcionário não encontrado\")","v":""},null,null,null,null,null,"",{"$f":"IFERROR(IF(A1356=\"\",\"\",VLOOKUP(A1356,Funcionários!$A$2:$F$299,5,0)),\"\")","v":""},""]
[null,{"$f":"IFERROR(IF(A1357=\"\",\"\",VLOOKUP(A1357,Funcionários!$A$2:$F$299,2,0)),\"Funcionário não encontrado\")","v":""},null,null,null,null,null,"",{"$f":"IFERROR(IF(A1357=\"\",\"\",VLOOKUP(A1357,Funcionários!$A$2:$F$299,5,0)),\"\")","v":""},""]
[null,{"$f":"IFERROR(IF(A1358=\"\",\"\",VLOOKUP(A1358,Funcionários!$A$2:$F$299,2,0)),\"Funcionário não encontrado\")","v":""},null,null,null,null,null,"",{"$f":"IFERROR(IF(A1358=\"\",\"\",VLOOKUP(A1358,Funcionários!$A$2:$F$299,5,0)),\"\")","v":""},""]
[null,{"$f":"IFERROR(IF(A1359=\"\",\"\",VLOOKUP(A1359,Funcionários!$A$2:$F$299,2,0)),\"Funcionário não encontrado\")","v":""},null,null,null,null,null,"",{"$f":"IFERROR(IF(A1359=\"\",\"\",VLOOKUP(A1359,Funcionários!$A$2:$F$299,5,0)),\"\")","v":""},""]
[null,{"$f":"IFERROR(IF(A1360=\"\",\"\",VLOOKUP(A1360,Funcionários!$A$2:$F$299,2,0)),\"Funcionário não encontrado\")","v":""},null,null,null,null,null,"",{"$f":"IFERROR(IF(A1360=\"\",\"\",VLOOKUP(A1360,Funcionários!$A$2:$F$299,5,0)),\"\")","v":""},""]
[null,{"$f":"IFERROR(IF(A1361=\"\",\"\",VLOOKUP(A1361,Funcionários!$A$2:$F$299,2,0)),\"Funcionário não encontrado\")","v":""},null,null,null,null,null,"",{"$f":"IFERROR(IF(A1361=\"\",\"\",VLOOKUP(A1361,Funcionários!$A$2:$F$299,5,0)),\"\")","v":""},""]
[null,{"$f":"IFERROR(IF(A1362=\"\",\"\",VLOOKUP(A1362,Funcionários!$A$2:$F$299,2,0)),\"Funcionário não encontrado\")","v":""},null,null,null,null,null,"",{"$f":"IFERROR(IF(A1362=\"\",\"\",VLOOKUP(A1362,Funcionários!$A$2:$F$299,5,0)),\"\")","v":""},""]
[null,{"$f":"IFERROR(IF(A1363=\"\",\"\",VLOOKUP(A1363,Funcionários!$A$2:$F$299,2,0)),\"Funcionário não encontrado\")","v":""},null,null,null,null,null,"",{"$f":"IFERROR(IF(A1363=\"\",\"\",VLOOKUP(A1363,Funcionários!$A$2:$F$299,5,0)),\"\")","v":""},""]
[null,{"$f":"IFERROR(IF(A1364=\"\",\"\",VLOOKUP(A1364,Funcionários!$A$2:$F$299,2,0)),\"Funcionário não encontrado\")","v":""},null,null,null,null,null,"",{"$f":"IFERROR(IF(A1364=\"\",\"\",VLOOKUP(A1364,Funcionários!$A$2:$F$299,5,0)),\"\")","v":""},""]
[null,{"$f":"IFERROR(IF(A1365=\"\",\"\",VLOOKUP(A1365,Funcionários!$A$2:$F$299,2,0)),\"Funcionário não encontrado\")","v":""},null,null,null,null,null,"",{"$f":"IFERROR(IF(A1365=\"\",\"\",VLOOKUP(A1365,Funcionários!$A$2:$F$299,5,0)),\"\")","v":""},""]
[null,{"$f":"IFERROR(IF(A1366=\"\",\"\",VLOOKUP(A1366,Funcionários!$A$2:$F$299,2,0)),\"Funcionário não encontrado\")","v":""},null,null,null,null,null,"",{"$f":"IFERROR(IF(A1366=\"\",\"\",VLOOKUP(A1366,Funcionários!$A$2:$F$299,5,0)),\"\")","v":""},""]
[null,{"$f":"IFERROR(IF(A1367=\"\",\"\",VLOOKUP(A1367,Funcionários!$A$2:$F$299,2,0)),\"Funcionário não encontrado\")","v":""},null,null,null,null,null,"",{"$f":"IFERROR(IF(A1367=\"\",\"\",VLOOKUP(A1367,Funcionários!$A$2:$F$299,5,0)),\"\")","v":""},""]
[null,{"$f":"IFERROR(IF(A1368=\"\",\"\",VLOOKUP(A1368,Funcionários!$A$2:$F$299,2,0)),\"Funcionário não encontrado\")","v":""},null,null,null,null,null,"",{"$f":"IFERROR(IF(A1368=\"\",\"\",VLOOKUP(A1368,Funcionários!$A$2:$F$299,5,0)),\"\")","v":""},""]
[null,{"$f":"IFERROR(IF(A1369=\"\",\"\",VLOOKUP(A1369,Funcionários!$A$2:$F$299,2,0)),\"Funcionário não encontrado\")","v":""},null,null,null,null,null,"",{"$f":"IFERROR(IF(A1369=\"\",\"\",VLOOKUP(A1369,Funcionários!$A$2:$F$299,5,0)),\"\")","v":""},""]
[null,{"$f":"IFERROR(IF(A1370=\"\",\"\",VLOOKUP(A1370,Funcionários!$A$2:$F$299,2,0)),\"Funcionário não encontrado\")","v":""},null,null,null,null,null,"",{"$f":"IFERROR(IF(A1370=\"\",\"\",VLOOKUP(A1370,Funcionários!$A$2:$F$299,5,0)),\"\")","v":""},""]
[null,{"$f":"IFERROR(IF(A1371=\"\",\"\",VLOOKUP(A1371,Funcionários!$A$2:$F$299,2,0)),\"Funcionário não encontrado\")","v":""},null,null,null,null,null,"",{"$f":"IFERROR(IF(A1371=\"\",\"\",VLOOKUP(A1371,Funcionários!$A$2:$F$299,5,0)),\"\")","v":""},""]
[null,{"$f":"IFERROR(IF(A1372=\"\",\"\",VLOOKUP(A1372,Funcionários!$A$2:$F$299,2,0)),\"Funcionário não encontrado\")","v":""},null,null,null,null,null,"",{"$f":"IFERROR(IF(A1372=\"\",\"\",VLOOKUP(A1372,Funcionários!$A$2:$F$299,5,0)),\"\")","v":""},""]
[null,{"$f":"IFERROR(IF(A1373=\"\",\"\",VLOOKUP(A1373,Funcionários!$A$2:$F$299,2,0)),\"Funcionário não encontrado\")","v":""},null,null,null,null,null,"",{"$f":"IFERROR(IF(A1373=\"\",\"\",VLOOKUP(A1373,Funcionários!$A$2:$F$299,5,0)),\"\")","v":""},""]
[null,{"$f":"IFERROR(IF(A1374=\"\",\"\",VLOOKUP(A1374,Funcionários!$A$2:$F$299,2,0)),\"Funcionário não encontrado\")","v":""},null,null,null,null,null,"",{"$f":"IFERROR(IF(A1374=\"\",\"\",VLOOKUP(A1374,Funcionários!$A$2:$F$299,5,0)),\"\")","v":""},""]
[null,{"$f":"IFERROR(IF(A1375=\"\",\"\",VLOOKUP(A1375,Funcionários!$A$2:$F$299,2,0)),\"Funcionário não encontrado\")","v":""},null,null,null,null,null,"",{"$f":"IFERROR(IF(A1375=\"\",\"\",VLOOKUP(A1375,Funcionários!$A$2:$F$299,5,0)),\"\")","v":""},""]
[null,{"$f":"IFERROR(IF(A1376=\"\",\"\",VLOOKUP(A1376,Funcionários!$A$2:$F$299,2,0)),\"Funcionário não encontrado\")","v":""},null,null,null,null,null,"",{"$f":"IFERROR(IF(A1376=\"\",\"\",VLOOKUP(A1376,Funcionários!$A$2:$F$299,5,0)),\"\")","v":""},""]
[null,{"$f":"IFERROR(IF(A1377=\"\",\"\",VLOOKUP(A1377,Funcionários!$A$2:$F$299,2,0)),\"Funcionário não encontrado\")","v":""},null,null,null,null,null,"",{"$f":"IFERROR(IF(A1377=\"\",\"\",VLOOKUP(A1377,Funcionários!$A$2:$F$299,5,0)),\"\")","v":""},""]
[null,{"$f":"IFERROR(IF(A1378=\"\",\"\",VLOOKUP(A1378,Funcionários!$A$2:$F$299,2,0)),\"Funcionário não encontrado\")","v":""},null,null,null,null,null,"",{"$f":"IFERROR(IF(A1378=\"\",\"\",VLOOKUP(A1378,Funcionários!$A$2:$F$299,5,0)),\"\")","v":""},""]
[null,{"$f":"IFERROR(IF(A1379=\"\",\"\",VLOOKUP(A1379,Funcionários!$A$2:$F$299,2,0)),\"Funcionário não encontrado\")","v":""},null,null,null,null,null,"",{"$f":"IFERROR(IF(A1379=\"\",\"\",VLOOKUP(A1379,Funcionários!$A$2:$F$299,5,0)),\"\")","v":""},""]
[null,{"$f":"IFERROR(IF(A1380=\"\",\"\",VLOOKUP(A1380,Funcionários!$A$2:$F$299,2,0)),\"Funcionário não encontrado\")","v":""},null,null,null,null,null,"",{"$f":"IFERROR(IF(A1380=\"\",\"\",VLOOKUP(A1380,Funcionários!$A$2:$F$299,5,0)),\"\")","v":""},""]
[null,{"$f":"IFERROR(IF(A1381=\"\",\"\",VLOOKUP(A1381,Funcionários!$A$2:$F$299,2,0)),\"Funcionário não encontrado\")","v":""},null,null,null,null,null,"",{"$f":"IFERROR(IF(A1381=\"\",\"\",VLOOKUP(A1381,Funcionários!$A$2:$F$299,5,0)),\"\")","v":""},""]
[null,{"$f":"IFERROR(IF(A1382=\"\",\"\",VLOOKUP(A1382,Funcionários!$A$2:$F$299,2,0)),\"Funcionário não encontrado\")","v":""},null,null,null,null,null,"",{"$f":"IFERROR(IF(A1382=\"\",\"\",VLOOKUP(A1382,Funcionários!$A$2:$F$299,5,0)),\"\")","v":""},""]
[null,{"$f":"IFERROR(IF(A1383=\"\",\"\",VLOOKUP(A1383,Funcionários!$A$2:$F$299,2,0)),\"Funcionário não encontrado\")","v":""},null,null,null,null,null,"",{"$f":"IFERROR(IF(A1383=\"\",\"\",VLOOKUP(A1383,Funcionários!$A$2:$F$299,5,0)),\"\")","v":""},""]
[null,{"$f":"IFERROR(IF(A1384=\"\",\"\",VLOOKUP(A1384,Funcionários!$A$2:$F$299,2,0)),\"Funcionário não encontrado\")","v":""},null,null,null,null,null,"",{"$f":"IFERROR(IF(A1384=\"\",\"\",VLOOKUP(A1384,Funcionários!$A$2:$F$299,5,0)),\"\")","v":""},""]
[null,{"$f":"IFERROR(IF(A1385=\"\",\"\",VLOOKUP(A1385,Funcionários!$A$2:$F$299,2,0)),\"Funcionário não encontrado\")","v":""},null,null,null,null,null,"",{"$f":"IFERROR(IF(A1385=\"\",\"\",VLOOKUP(A1385,Funcionários!$A$2:$F$299,5,0)),\"\")","v":""},""]
[null,{"$f":"IFERROR(IF(A1386=\"\",\"\",VLOOKUP(A1386,Funcionários!$A$2:$F$299,2,0)),\"Funcionário não encontrado\")","v":""},null,null,null,null,null,"",{"$f":"IFERROR(IF(A1386=\"\",\"\",VLOOKUP(A1386,Funcionários!$A$2:$F$299,5,0)),\"\")","v":""},""]
[null,{"$f":"IFERROR(IF(A1387=\"\",\"\",VLOOKUP(A1387,Funcionários!$A$2:$F$299,2,0)),\"Funcionário não encontrado\")","v":""},null,null,null,null,null,"",{"$f":"IFERROR(IF(A1387=\"\",\"\",VLOOKUP(A1387,Funcionários!$A$2:$F$299,5,0)),\"\")","v":""},""]
[null,{"$f":"IFERROR(IF(A1388=\"\",\"\",VLOOKUP(A1388,Funcionários!$A$2:$F$299,2,0)),\"Funcionário não encontrado\")","v":""},null,null,null,null,null,"",{"$f":"IFERROR(IF(A1388=\"\",\"\",VLOOKUP(A1388,Funcionários!$A$2:$F$299,5,0)),\"\")","v":""},""]
[null,{"$f":"IFERROR(IF(A1389=\"\",\"\",VLOOKUP(A1389,Funcionários!$A$2:$F$299,2,0)),\"Funcionário não encontrado\")","v":""},null,null,null,null,null,"",{"$f":"IFERROR(IF(A1389=\"\",\"\",VLOOKUP(A1389,Funcionários!$A$2:$F$299,5,0)),\"\")","v":""},""]
[null,{"$f":"IFERROR(IF(A1390=\"\",\"\",VLOOKUP(A1390,Funcionários!$A$2:$F$299,2,0)),\"Funcionário não encontrado\")","v":""},null,null,null,null,null,"",{"$f":"IFERROR(IF(A1390=\"\",\"\",VLOOKUP(A1390,Funcionários!$A$2:$F$299,5,0)),\"\")","v":""},""]
[null,{"$f":"IFERROR(IF(A1391=\"\",\"\",VLOOKUP(A1391,Funcionários!$A$2:$F$299,2,0)),\"Funcionário não encontrado\")","v":""},null,null,null,null,null,"",{"$f":"IFERROR(IF(A1391=\"\",\"\",VLOOKUP(A1391,Funcionários!$A$2:$F$299,5,0)),\"\")","v":""},""]
[null,{"$f":"IFERROR(IF(A1392=\"\",\"\",VLOOKUP(A1392,Funcionários!$A$2:$F$299,2,0)),\"Funcionário não encontrado\")","v":""},null,null,null,null,null,"",{"$f":"IFERROR(IF(A1392=\"\",\"\",VLOOKUP(A1392,Funcionários!$A$2:$F$299,5,0)),\"\")","v":""},""]
[null,{"$f":"IFERROR(IF(A1393=\"\",\"\",VLOOKUP(A1393,Funcionários!$A$2:$F$299,2,0)),\"Funcionário não encontrado\")","v":""},null,null,null,null,null,"",{"$f":"IFERROR(IF(A1393=\"\",\"\",VLOOKUP(A1393,Funcionários!$A$2:$F$299,5,0)),\"\")","v":""},""]
[null,{"$f":"IFERROR(IF(A1394=\"\",\"\",VLOOKUP(A1394,Funcionários!$A$2:$F$299,2,0)),\"Funcionário não encontrado\")","v":""},null,null,null,null,null,"",{"$f":"IFERROR(IF(A1394=\"\",\"\",VLOOKUP(A1394,Funcionários!$A$2:$F$299,5,0)),\"\")","v":""},""]
[null,{"$f":"IFERROR(IF(A1395=\"\",\"\",VLOOKUP(A1395,Funcionários!$A$2:$F$299,2,0)),\"Funcionário não encontrado\")","v":""},null,null,null,null,null,"",{"$f":"IFERROR(IF(A1395=\"\",\"\",VLOOKUP(A1395,Funcionários!$A$2:$F$299,5,0)),\"\")","v":""},""]
[null,{"$f":"IFERROR(IF(A1396=\"\",\"\",VLOOKUP(A1396,Funcionários!$A$2:$F$299,2,0)),\"Funcionário não encontrado\")","v":""},null,null,null,null,null,"",{"$f":"IFERROR(IF(A1396=\"\",\"\",VLOOKUP(A1396,Funcionários!$A$2:$F$299,5,0)),\"\")","v":""},""]
[null,{"$f":"IFERROR(IF(A1397=\"\",\"\",VLOOKUP(A1397,Funcionários!$A$2:$F$299,2,0)),\"Funcionário não encontrado\")","v":""},null,null,null,null,null,"",{"$f":"IFERROR(IF(A1397=\"\",\"\",VLOOKUP(A1397,Funcionários!$A$2:$F$299,5,0)),\"\")","v":""},""]
[null,{"$f":"IFERROR(IF(A1398=\"\",\"\",VLOOKUP(A1398,Funcionários!$A$2:$F$299,2,0)),\"Funcionário não encontrado\")","v":""},null,null,null,null,null,"",{"$f":"IFERROR(IF(A1398=\"\",\"\",VLOOKUP(A1398,Funcionários!$A$2:$F$299,5,0)),\"\")","v":""},""]
[null,{"$f":"IFERROR(IF(A1399=\"\",\"\",VLOOKUP(A1399,Funcionários!$A$2:$F$299,2,0)),\"Funcionário não encontrado\")","v":""},null,null,null,null,null,"",{"$f":"IFERROR(IF(A1399=\"\",\"\",VLOOKUP(A1399,Funcionários!$A$2:$F$299,5,0)),\"\")","v":""},""]
[null,{"$f":"IFERROR(IF(A1400=\"\",\"\",VLOOKUP(A1400,Funcionários!$A$2:$F$299,2,0)),\"Funcionário não encontrado\")","v":""},null,null,null,null,null,"",{"$f":"IFERROR(IF(A1400=\"\",\"\",VLOOKUP(A1400,Funcionários!$A$2:$F$299,5,0)),\"\")","v":""},""]
[null,{"$f":"IFERROR(IF(A1401=\"\",\"\",VLOOKUP(A1401,Funcionários!$A$2:$F$299,2,0)),\"Funcionário não encontrado\")","v":""},null,null,null,null,null,"",{"$f":"IFERROR(IF(A1401=\"\",\"\",VLOOKUP(A1401,Funcionários!$A$2:$F$299,5,0)),\"\")","v":""},""]
[null,{"$f":"IFERROR(IF(A1402=\"\",\"\",VLOOKUP(A1402,Funcionários!$A$2:$F$299,2,0)),\"Funcionário não encontrado\")","v":""},null,null,null,null,null,"",{"$f":"IFERROR(IF(A1402=\"\",\"\",VLOOKUP(A1402,Funcionários!$A$2:$F$299,5,0)),\"\")","v":""},""]
[null,{"$f":"IFERROR(IF(A1403=\"\",\"\",VLOOKUP(A1403,Funcionários!$A$2:$F$299,2,0)),\"Funcionário não encontrado\")","v":""},null,null,null,null,null,"",{"$f":"IFERROR(IF(A1403=\"\",\"\",VLOOKUP(A1403,Funcionários!$A$2:$F$299,5,0)),\"\")","v":""},""]
[null,{"$f":"IFERROR(IF(A1404=\"\",\"\",VLOOKUP(A1404,Funcionários!$A$2:$F$299,2,0)),\"Funcionário não encontrado\")","v":""},null,null,null,null,null,"",{"$f":"IFERROR(IF(A1404=\"\",\"\",VLOOKUP(A1404,Funcionários!$A$2:$F$299,5,0)),\"\")","v":""},""]
[null,{"$f":"IFERROR(IF(A1405=\"\",\"\",VLOOKUP(A1405,Funcionários!$A$2:$F$299,2,0)),\"Funcionário não encontrado\")","v":""},null,null,null,null,null,"",{"$f":"IFERROR(IF(A1405=\"\",\"\",VLOOKUP(A1405,Funcionários!$A$2:$F$299,5,0)),\"\")","v":""},""]
[null,{"$f":"IFERROR(IF(A1406=\"\",\"\",VLOOKUP(A1406,Funcionários!$A$2:$F$299,2,0)),\"Funcionário não encontrado\")","v":""},null,null,null,null,null,"",{"$f":"IFERROR(IF(A1406=\"\",\"\",VLOOKUP(A1406,Funcionários!$A$2:$F$299,5,0)),\"\")","v":""},""]
[null,{"$f":"IFERROR(IF(A1407=\"\",\"\",VLOOKUP(A1407,Funcionários!$A$2:$F$299,2,0)),\"Funcionário não encontrado\")","v":""},null,null,null,null,null,"",{"$f":"IFERROR(IF(A1407=\"\",\"\",VLOOKUP(A1407,Funcionários!$A$2:$F$299,5,0)),\"\")","v":""},""]
[null,{"$f":"IFERROR(IF(A1408=\"\",\"\",VLOOKUP(A1408,Funcionários!$A$2:$F$299,2,0)),\"Funcionário não encontrado\")","v":""},null,null,null,null,null,"",{"$f":"IFERROR(IF(A1408=\"\",\"\",VLOOKUP(A1408,Funcionários!$A$2:$F$299,5,0)),\"\")","v":""},""]
[null,{"$f":"IFERROR(IF(A1409=\"\",\"\",VLOOKUP(A1409,Funcionários!$A$2:$F$299,2,0)),\"Funcionário não encontrado\")","v":""},null,null,null,null,null,"",{"$f":"IFERROR(IF(A1409=\"\",\"\",VLOOKUP(A1409,Funcionários!$A$2:$F$299,5,0)),\"\")","v":""},""]
[null,{"$f":"IFERROR(IF(A1410=\"\",\"\",VLOOKUP(A1410,Funcionários!$A$2:$F$299,2,0)),\"Funcionário não encontrado\")","v":""},null,null,null,null,null,"",{"$f":"IFERROR(IF(A1410=\"\",\"\",VLOOKUP(A1410,Funcionários!$A$2:$F$299,5,0)),\"\")","v":""},""]
[null,{"$f":"IFERROR(IF(A1411=\"\",\"\",VLOOKUP(A1411,Funcionários!$A$2:$F$299,2,0)),\"Funcionário não encontrado\")","v":""},null,null,null,null,null,{"$f":"IF(OR(D1411=\"\",E1411=\"\",F1411=\"\"),\"\",MOD((E1411-D1411)+(G1411-F1411),1))","v":""},{"$f":"IFERROR(IF(A1411=\"\",\"\",VLOOKUP(A1411,Funcionários!$A$2:$F$299,5,0)),\"\")","v":""},{"$f":"IF(H1411=\"\",\"\",H1411-I1411)","v":""}]
[null,{"$f":"IFERROR(IF(A1412=\"\",\"\",VLOOKUP(A1412,Funcionários!$A$2:$F$299,2,0)),\"Funcionário não encontrado\")","v":""},null,null,null,null,null,"",{"$f":"IFERROR(IF(A1412=\"\",\"\",VLOOKUP(A1412,Funcionários!$A$2:$F$299,5,0)),\"\")","v":""},""]
[null,{"$f":"IFERROR(IF(A1413=\"\",\"\",VLOOKUP(A1413,Funcionários!$A$2:$F$299,2,0)),\"Funcionário não encontrado\")","v":""},null,null,null,null,null,"",{"$f":"IFERROR(IF(A1413=\"\",\"\",VLOOKUP(A1413,Funcionários!$A$2:$F$299,5,0)),\"\")","v":""},""]
[null,{"$f":"IFERROR(IF(A1414=\"\",\"\",VLOOKUP(A1414,Funcionários!$A$2:$F$299,2,0)),\"Funcionário não encontrado\")","v":""},null,null,null,null,null,"",{"$f":"IFERROR(IF(A1414=\"\",\"\",VLOOKUP(A1414,Funcionários!$A$2:$F$299,5,0)),\"\")","v":""},""]
[null,{"$f":"IFERROR(IF(A1415=\"\",\"\",VLOOKUP(A1415,Funcionários!$A$2:$F$299,2,0)),\"Funcionário não encontrado\")","v":""},null,null,null,null,null,"",{"$f":"IFERROR(IF(A1415=\"\",\"\",VLOOKUP(A1415,Funcionários!$A$2:$F$299,5,0)),\"\")","v":""},""]
[null,{"$f":"IFERROR(IF(A1416=\"\",\"\",VLOOKUP(A1416,Funcionários!$A$2:$F$299,2,0)),\"Funcionário não encontrado\")","v":""},null,null,null,null,null,"",{"$f":"IFERROR(IF(A1416=\"\",\"\",VLOOKUP(A1416,Funcionários!$A$2:$F$299,5,0)),\"\")","v":""},""]
[null,{"$f":"IFERROR(IF(A1417=\"\",\"\",VLOOKUP(A1417,Funcionários!$A$2:$F$299,2,0)),\"Funcionário não encontrado\")","v":""},null,null,null,null,null,"",{"$f":"IFERROR(IF(A1417=\"\",\"\",VLOOKUP(A1417,Funcionários!$A$2:$F$299,5,0)),\"\")","v":""},""]
[null,{"$f":"IFERROR(IF(A1418=\"\",\"\",VLOOKUP(A1418,Funcionários!$A$2:$F$299,2,0)),\"Funcionário não encontrado\")","v":""},null,null,null,null,null,"",{"$f":"IFERROR(IF(A1418=\"\",\"\",VLOOKUP(A1418,Funcionários!$A$2:$F$299,5,0)),\"\")","v":""},""]
[null,{"$f":"IFERROR(IF(A1419=\"\",\"\",VLOOKUP(A1419,Funcionários!$A$2:$F$299,2,0)),\"Funcionário não encontrado\")","v":""},null,null,null,null,null,"",{"$f":"IFERROR(IF(A1419=\"\",\"\",VLOOKUP(A1419,Funcionários!$A$2:$F$299,5,0)),\"\")","v":""},""]
[null,{"$f":"IFERROR(IF(A1420=\"\",\"\",VLOOKUP(A1420,Funcionários!$A$2:$F$299,2,0)),\"Funcionário não encontrado\")","v":""},null,null,null,null,null,"",{"$f":"IFERROR(IF(A1420=\"\",\"\",VLOOKUP(A1420,Funcionários!$A$2:$F$299,5,0)),\"\")","v":""},""]
[null,{"$f":"IFERROR(IF(A1421=\"\",\"\",VLOOKUP(A1421,Funcionários!$A$2:$F$299,2,0)),\"Funcionário não encontrado\")","v":""},null,null,null,null,null,"",{"$f":"IFERROR(IF(A1421=\"\",\"\",VLOOKUP(A1421,Funcionários!$A$2:$F$299,5,0)),\"\")","v":""},""]
[null,{"$f":"IFERROR(IF(A1422=\"\",\"\",VLOOKUP(A1422,Funcionários!$A$2:$F$299,2,0)),\"Funcionário não encontrado\")","v":""},null,null,null,null,null,"",{"$f":"IFERROR(IF(A1422=\"\",\"\",VLOOKUP(A1422,Funcionários!$A$2:$F$299,5,0)),\"\")","v":""},""]
[null,{"$f":"IFERROR(IF(A1423=\"\",\"\",VLOOKUP(A1423,Funcionários!$A$2:$F$299,2,0)),\"Funcionário não encontrado\")","v":""},null,null,null,null,null,"",{"$f":"IFERROR(IF(A1423=\"\",\"\",VLOOKUP(A1423,Funcionários!$A$2:$F$299,5,0)),\"\")","v":""},""]
[null,{"$f":"IFERROR(IF(A1424=\"\",\"\",VLOOKUP(A1424,Funcionários!$A$2:$F$299,2,0)),\"Funcionário não encontrado\")","v":""},null,null,null,null,null,"",{"$f":"IFERROR(IF(A1424=\"\",\"\",VLOOKUP(A1424,Funcionários!$A$2:$F$299,5,0)),\"\")","v":""},""]
[null,{"$f":"IFERROR(IF(A1425=\"\",\"\",VLOOKUP(A1425,Funcionários!$A$2:$F$299,2,0)),\"Funcionário não encontrado\")","v":""},null,null,null,null,null,"",{"$f":"IFERROR(IF(A1425=\"\",\"\",VLOOKUP(A1425,Funcionários!$A$2:$F$299,5,0)),\"\")","v":""},""]
[null,{"$f":"IFERROR(IF(A1426=\"\",\"\",VLOOKUP(A1426,Funcionários!$A$2:$F$299,2,0)),\"Funcionário não encontrado\")","v":""},null,null,null,null,null,"",{"$f":"IFERROR(IF(A1426=\"\",\"\",VLOOKUP(A1426,Funcionários!$A$2:$F$299,5,0)),\"\")","v":""},""]
[null,{"$f":"IFERROR(IF(A1427=\"\",\"\",VLOOKUP(A1427,Funcionários!$A$2:$F$299,2,0)),\"Funcionário não encontrado\")","v":""},null,null,null,null,null,"",{"$f":"IFERROR(IF(A1427=\"\",\"\",VLOOKUP(A1427,Funcionários!$A$2:$F$299,5,0)),\"\")","v":""},""]
[null,{"$f":"IFERROR(IF(A1428=\"\",\"\",VLOOKUP(A1428,Funcionários!$A$2:$F$299,2,0)),\"Funcionário não encontrado\")","v":""},null,null,null,null,null,"",{"$f":"IFERROR(IF(A1428=\"\",\"\",VLOOKUP(A1428,Funcionários!$A$2:$F$299,5,0)),\"\")","v":""},""]
[null,{"$f":"IFERROR(IF(A1429=\"\",\"\",VLOOKUP(A1429,Funcionários!$A$2:$F$299,2,0)),\"Funcionário não encontrado\")","v":""},null,null,null,null,null,"",{"$f":"IFERROR(IF(A1429=\"\",\"\",VLOOKUP(A1429,Funcionários!$A$2:$F$299,5,0)),\"\")","v":""},""]
[null,{"$f":"IFERROR(IF(A1430=\"\",\"\",VLOOKUP(A1430,Funcionários!$A$2:$F$299,2,0)),\"Funcionário não encontrado\")","v":""},null,null,null,null,null,"",{"$f":"IFERROR(IF(A1430=\"\",\"\",VLOOKUP(A1430,Funcionários!$A$2:$F$299,5,0)),\"\")","v":""},""]
[null,{"$f":"IFERROR(IF(A1431=\"\",\"\",VLOOKUP(A1431,Funcionários!$A$2:$F$299,2,0)),\"Funcionário não encontrado\")","v":""},null,null,null,null,null,"",{"$f":"IFERROR(IF(A1431=\"\",\"\",VLOOKUP(A1431,Funcionários!$A$2:$F$299,5,0)),\"\")","v":""},""]
[null,{"$f":"IFERROR(IF(A1432=\"\",\"\",VLOOKUP(A1432,Funcionários!$A$2:$F$299,2,0)),\"Funcionário não encontrado\")","v":""},null,null,null,null,null,"",{"$f":"IFERROR(IF(A1432=\"\",\"\",VLOOKUP(A1432,Funcionários!$A$2:$F$299,5,0)),\"\")","v":""},""]
[null,{"$f":"IFERROR(IF(A1433=\"\",\"\",VLOOKUP(A1433,Funcionários!$A$2:$F$299,2,0)),\"Funcionário não encontrado\")","v":""},null,null,null,null,null,"",{"$f":"IFERROR(IF(A1433=\"\",\"\",VLOOKUP(A1433,Funcionários!$A$2:$F$299,5,0)),\"\")","v":""},""]
[null,{"$f":"IFERROR(IF(A1434=\"\",\"\",VLOOKUP(A1434,Funcionários!$A$2:$F$299,2,0)),\"Funcionário não encontrado\")","v":""},null,null,null,null,null,"",{"$f":"IFERROR(IF(A1434=\"\",\"\",VLOOKUP(A1434,Funcionários!$A$2:$F$299,5,0)),\"\")","v":""},""]
[null,{"$f":"IFERROR(IF(A1435=\"\",\"\",VLOOKUP(A1435,Funcionários!$A$2:$F$299,2,0)),\"Funcionário não encontrado\")","v":""},null,null,null,null,null,"",{"$f":"IFERROR(IF(A1435=\"\",\"\",VLOOKUP(A1435,Funcionários!$A$2:$F$299,5,0)),\"\")","v":""},""]
[null,{"$f":"IFERROR(IF(A1436=\"\",\"\",VLOOKUP(A1436,Funcionários!$A$2:$F$299,2,0)),\"Funcionário não encontrado\")","v":""},null,null,null,null,null,"",{"$f":"IFERROR(IF(A1436=\"\",\"\",VLOOKUP(A1436,Funcionários!$A$2:$F$299,5,0)),\"\")","v":""},""]
[null,{"$f":"IFERROR(IF(A1437=\"\",\"\",VLOOKUP(A1437,Funcionários!$A$2:$F$299,2,0)),\"Funcionário não encontrado\")","v":""},null,null,null,null,null,"",{"$f":"IFERROR(IF(A1437=\"\",\"\",VLOOKUP(A1437,Funcionários!$A$2:$F$299,5,0)),\"\")","v":""},""]
[null,{"$f":"IFERROR(IF(A1438=\"\",\"\",VLOOKUP(A1438,Funcionários!$A$2:$F$299,2,0)),\"Funcionário não encontrado\")","v":""},null,null,null,null,null,"",{"$f":"IFERROR(IF(A1438=\"\",\"\",VLOOKUP(A1438,Funcionários!$A$2:$F$299,5,0)),\"\")","v":""},""]
[null,{"$f":"IFERROR(IF(A1439=\"\",\"\",VLOOKUP(A1439,Funcionários!$A$2:$F$299,2,0)),\"Funcionário não encontrado\")","v":""},null,null,null,null,null,"",{"$f":"IFERROR(IF(A1439=\"\",\"\",VLOOKUP(A1439,Funcionários!$A$2:$F$299,5,0)),\"\")","v":""},""]
[null,{"$f":"IFERROR(IF(A1440=\"\",\"\",VLOOKUP(A1440,Funcionários!$A$2:$F$299,2,0)),\"Funcionário não encontrado\")","v":""},null,null,null,null,null,"",{"$f":"IFERROR(IF(A1440=\"\",\"\",VLOOKUP(A1440,Funcionários!$A$2:$F$299,5,0)),\"\")","v":""},""]
[null,{"$f":"IFERROR(IF(A1441=\"\",\"\",VLOOKUP(A1441,Funcionários!$A$2:$F$299,2,0)),\"Funcionário não encontrado\")","v":""},null,null,null,null,null,"",{"$f":"IFERROR(IF(A1441=\"\",\"\",VLOOKUP(A1441,Funcionários!$A$2:$F$299,5,0)),\"\")","v":""},""]
[null,{"$f":"IFERROR(IF(A1442=\"\",\"\",VLOOKUP(A1442,Funcionários!$A$2:$F$299,2,0)),\"Funcionário não encontrado\")","v":""},null,null,null,null,null,"",{"$f":"IFERROR(IF(A1442=\"\",\"\",VLOOKUP(A1442,Funcionários!$A$2:$F$299,5,0)),\"\")","v":""},""]
[null,{"$f":"IFERROR(IF(A1443=\"\",\"\",VLOOKUP(A1443,Funcionários!$A$2:$F$299,2,0)),\"Funcionário não encontrado\")","v":""},null,null,null,null,null,"",{"$f":"IFERROR(IF(A1443=\"\",\"\",VLOOKUP(A1443,Funcionários!$A$2:$F$299,5,0)),\"\")","v":""},""]
[null,{"$f":"IFERROR(IF(A1444=\"\",\"\",VLOOKUP(A1444,Funcionários!$A$2:$F$299,2,0)),\"Funcionário não encontrado\")","v":""},null,null,null,null,null,"",{"$f":"IFERROR(IF(A1444=\"\",\"\",VLOOKUP(A1444,Funcionários!$A$2:$F$299,5,0)),\"\")","v":""},""]
[null,{"$f":"IFERROR(IF(A1445=\"\",\"\",VLOOKUP(A1445,Funcionários!$A$2:$F$299,2,0)),\"Funcionário não encontrado\")","v":""},null,null,null,null,null,"",{"$f":"IFERROR(IF(A1445=\"\",\"\",VLOOKUP(A1445,Funcionários!$A$2:$F$299,5,0)),\"\")","v":""},""]
[null,{"$f":"IFERROR(IF(A1446=\"\",\"\",VLOOKUP(A1446,Funcionários!$A$2:$F$299,2,0)),\"Funcionário não encontrado\")","v":""},null,null,null,null,null,"",{"$f":"IFERROR(IF(A1446=\"\",\"\",VLOOKUP(A1446,Funcionários!$A$2:$F$299,5,0)),\"\")","v":""},""]
[null,{"$f":"IFERROR(IF(A1447=\"\",\"\",VLOOKUP(A1447,Funcionários!$A$2:$F$299,2,0)),\"Funcionário não encontrado\")","v":""},null,null,null,null,null,"",{"$f":"IFERROR(IF(A1447=\"\",\"\",VLOOKUP(A1447,Funcionários!$A$2:$F$299,5,0)),\"\")","v":""},""]
[null,{"$f":"IFERROR(IF(A1448=\"\",\"\",VLOOKUP(A1448,Funcionários!$A$2:$F$299,2,0)),\"Funcionário não encontrado\")","v":""},null,null,null,null,null,"",{"$f":"IFERROR(IF(A1448=\"\",\"\",VLOOKUP(A1448,Funcionários!$A$2:$F$299,5,0)),\"\")","v":""},""]
[null,{"$f":"IFERROR(IF(A1449=\"\",\"\",VLOOKUP(A1449,Funcionários!$A$2:$F$299,2,0)),\"Funcionário não encontrado\")","v":""},null,null,null,null,null,"",{"$f":"IFERROR(IF(A1449=\"\",\"\",VLOOKUP(A1449,Funcionários!$A$2:$F$299,5,0)),\"\")","v":""},""]
[null,{"$f":"IFERROR(IF(A1450=\"\",\"\",VLOOKUP(A1450,Funcionários!$A$2:$F$299,2,0)),\"Funcionário não encontrado\")","v":""},null,null,null,null,null,"",{"$f":"IFERROR(IF(A1450=\"\",\"\",VLOOKUP(A1450,Funcionários!$A$2:$F$299,5,0)),\"\")","v":""},""]
[null,{"$f":"IFERROR(IF(A1451=\"\",\"\",VLOOKUP(A1451,Funcionários!$A$2:$F$299,2,0)),\"Funcionário não encontrado\")","v":""},null,null,null,null,null,"",{"$f":"IFERROR(IF(A1451=\"\",\"\",VLOOKUP(A1451,Funcionários!$A$2:$F$299,5,0)),\"\")","v":""},""]
[null,{"$f":"IFERROR(IF(A1452=\"\",\"\",VLOOKUP(A1452,Funcionários!$A$2:$F$299,2,0)),\"Funcionário não encontrado\")","v":""},null,null,null,null,null,"",{"$f":"IFERROR(IF(A1452=\"\",\"\",VLOOKUP(A1452,Funcionários!$A$2:$F$299,5,0)),\"\")","v":""},""]
[null,{"$f":"IFERROR(IF(A1453=\"\",\"\",VLOOKUP(A1453,Funcionários!$A$2:$F$299,2,0)),\"Funcionário não encontrado\")","v":""},null,null,null,null,null,"",{"$f":"IFERROR(IF(A1453=\"\",\"\",VLOOKUP(A1453,Funcionários!$A$2:$F$299,5,0)),\"\")","v":""},""]
[null,{"$f":"IFERROR(IF(A1454=\"\",\"\",VLOOKUP(A1454,Funcionários!$A$2:$F$299,2,0)),\"Funcionário não encontrado\")","v":""},null,null,null,null,null,"",{"$f":"IFERROR(IF(A1454=\"\",\"\",VLOOKUP(A1454,Funcionários!$A$2:$F$299,5,0)),\"\")","v":""},""]
[null,{"$f":"IFERROR(IF(A1455=\"\",\"\",VLOOKUP(A1455,Funcionários!$A$2:$F$299,2,0)),\"Funcionário não encontrado\")","v":""},null,null,null,null,null,"",{"$f":"IFERROR(IF(A1455=\"\",\"\",VLOOKUP(A1455,Funcionários!$A$2:$F$299,5,0)),\"\")","v":""},""]
[null,{"$f":"IFERROR(IF(A1456=\"\",\"\",VLOOKUP(A1456,Funcionários!$A$2:$F$299,2,0)),\"Funcionário não encontrado\")","v":""},null,null,null,null,null,"",{"$f":"IFERROR(IF(A1456=\"\",\"\",VLOOKUP(A1456,Funcionários!$A$2:$F$299,5,0)),\"\")","v":""},""]
[null,{"$f":"IFERROR(IF(A1457=\"\",\"\",VLOOKUP(A1457,Funcionários!$A$2:$F$299,2,0)),\"Funcionário não encontrado\")","v":""},null,null,null,null,null,"",{"$f":"IFERROR(IF(A1457=\"\",\"\",VLOOKUP(A1457,Funcionários!$A$2:$F$299,5,0)),\"\")","v":""},""]
[null,{"$f":"IFERROR(IF(A1458=\"\",\"\",VLOOKUP(A1458,Funcionários!$A$2:$F$299,2,0)),\"Funcionário não encontrado\")","v":""},null,null,null,null,null,"",{"$f":"IFERROR(IF(A1458=\"\",\"\",VLOOKUP(A1458,Funcionários!$A$2:$F$299,5,0)),\"\")","v":""},""]
[null,{"$f":"IFERROR(IF(A1459=\"\",\"\",VLOOKUP(A1459,Funcionários!$A$2:$F$299,2,0)),\"Funcionário não encontrado\")","v":""},null,null,null,null,null,"",{"$f":"IFERROR(IF(A1459=\"\",\"\",VLOOKUP(A1459,Funcionários!$A$2:$F$299,5,0)),\"\")","v":""},""]
[null,{"$f":"IFERROR(IF(A1460=\"\",\"\",VLOOKUP(A1460,Funcionários!$A$2:$F$299,2,0)),\"Funcionário não encontrado\")","v":""},null,null,null,null,null,"",{"$f":"IFERROR(IF(A1460=\"\",\"\",VLOOKUP(A1460,Funcionários!$A$2:$F$299,5,0)),\"\")","v":""},""]
[null,{"$f":"IFERROR(IF(A1461=\"\",\"\",VLOOKUP(A1461,Funcionários!$A$2:$F$299,2,0)),\"Funcionário não encontrado\")","v":""},null,null,null,null,null,"",{"$f":"IFERROR(IF(A1461=\"\",\"\",VLOOKUP(A1461,Funcionários!$A$2:$F$299,5,0)),\"\")","v":""},""]
[null,{"$f":"IFERROR(IF(A1462=\"\",\"\",VLOOKUP(A1462,Funcionários!$A$2:$F$299,2,0)),\"Funcionário não encontrado\")","v":""},null,null,null,null,null,"",{"$f":"IFERROR(IF(A1462=\"\",\"\",VLOOKUP(A1462,Funcionários!$A$2:$F$299,5,0)),\"\")","v":""},""]
[null,{"$f":"IFERROR(IF(A1463=\"\",\"\",VLOOKUP(A1463,Funcionários!$A$2:$F$299,2,0)),\"Funcionário não encontrado\")","v":""},null,null,null,null,null,"",{"$f":"IFERROR(IF(A1463=\"\",\"\",VLOOKUP(A1463,Funcionários!$A$2:$F$299,5,0)),\"\")","v":""},""]
[null,{"$f":"IFERROR(IF(A1464=\"\",\"\",VLOOKUP(A1464,Funcionários!$A$2:$F$299,2,0)),\"Funcionário não encontrado\")","v":""},null,null,null,null,null,"",{"$f":"IFERROR(IF(A1464=\"\",\"\",VLOOKUP(A1464,Funcionários!$A$2:$F$299,5,0)),\"\")","v":""},""]
[null,{"$f":"IFERROR(IF(A1465=\"\",\"\",VLOOKUP(A1465,Funcionários!$A$2:$F$299,2,0)),\"Funcionário não encontrado\")","v":""},null,null,null,null,null,"",{"$f":"IFERROR(IF(A1465=\"\",\"\",VLOOKUP(A1465,Funcionários!$A$2:$F$299,5,0)),\"\")","v":""},""]
[null,{"$f":"IFERROR(IF(A1466=\"\",\"\",VLOOKUP(A1466,Funcionários!$A$2:$F$299,2,0)),\"Funcionário não encontrado\")","v":""},null,null,null,null,null,"",{"$f":"IFERROR(IF(A1466=\"\",\"\",VLOOKUP(A1466,Funcionários!$A$2:$F$299,5,0)),\"\")","v":""},""]
[null,{"$f":"IFERROR(IF(A1467=\"\",\"\",VLOOKUP(A1467,Funcionários!$A$2:$F$299,2,0)),\"Funcionário não encontrado\")","v":""},null,null,null,null,null,"",{"$f":"IFERROR(IF(A1467=\"\",\"\",VLOOKUP(A1467,Funcionários!$A$2:$F$299,5,0)),\"\")","v":""},""]
[null,{"$f":"IFERROR(IF(A1468=\"\",\"\",VLOOKUP(A1468,Funcionários!$A$2:$F$299,2,0)),\"Funcionário não encontrado\")","v":""},null,null,null,null,null,"",{"$f":"IFERROR(IF(A1468=\"\",\"\",VLOOKUP(A1468,Funcionários!$A$2:$F$299,5,0)),\"\")","v":""},""]
[null,{"$f":"IFERROR(IF(A1469=\"\",\"\",VLOOKUP(A1469,Funcionários!$A$2:$F$299,2,0)),\"Funcionário não encontrado\")","v":""},null,null,null,null,null,"",{"$f":"IFERROR(IF(A1469=\"\",\"\",VLOOKUP(A1469,Funcionários!$A$2:$F$299,5,0)),\"\")","v":""},""]
[null,{"$f":"IFERROR(IF(A1470=\"\",\"\",VLOOKUP(A1470,Funcionários!$A$2:$F$299,2,0)),\"Funcionário não encontrado\")","v":""},null,null,null,null,null,"",{"$f":"IFERROR(IF(A1470=\"\",\"\",VLOOKUP(A1470,Funcionários!$A$2:$F$299,5,0)),\"\")","v":""},""]
[null,{"$f":"IFERROR(IF(A1471=\"\",\"\",VLOOKUP(A1471,Funcionários!$A$2:$F$299,2,0)),\"Funcionário não encontrado\")","v":""},null,null,null,null,null,"",{"$f":"IFERROR(IF(A1471=\"\",\"\",VLOOKUP(A1471,Funcionários!$A$2:$F$299,5,0)),\"\")","v":""},""]
[null,{"$f":"IFERROR(IF(A1472=\"\",\"\",VLOOKUP(A1472,Funcionários!$A$2:$F$299,2,0)),\"Funcionário não encontrado\")","v":""},null,null,null,null,null,"",{"$f":"IFERROR(IF(A1472=\"\",\"\",VLOOKUP(A1472,Funcionários!$A$2:$F$299,5,0)),\"\")","v":""},""]
[null,{"$f":"IFERROR(IF(A1473=\"\",\"\",VLOOKUP(A1473,Funcionários!$A$2:$F$299,2,0)),\"Funcionário não encontrado\")","v":""},null,null,null,null,null,"",{"$f":"IFERROR(IF(A1473=\"\",\"\",VLOOKUP(A1473,Funcionários!$A$2:$F$299,5,0)),\"\")","v":""},""]
[null,{"$f":"IFERROR(IF(A1474=\"\",\"\",VLOOKUP(A1474,Funcionários!$A$2:$F$299,2,0)),\"Funcionário não encontrado\")","v":""},null,null,null,null,null,"",{"$f":"IFERROR(IF(A1474=\"\",\"\",VLOOKUP(A1474,Funcionários!$A$2:$F$299,5,0)),\"\")","v":""},""]
[null,{"$f":"IFERROR(IF(A1475=\"\",\"\",VLOOKUP(A1475,Funcionários!$A$2:$F$299,2,0)),\"Funcionário não encontrado\")","v":""},null,null,null,null,null,{"$f":"IF(OR(D1475=\"\",E1475=\"\",F1475=\"\"),\"\",MOD((E1475-D1475)+(G1475-F1475),1))","v":""},{"$f":"IFERROR(IF(A1475=\"\",\"\",VLOOKUP(A1475,Funcionários!$A$2:$F$299,5,0)),\"\")","v":""},{"$f":"IF(H1475=\"\",\"\",H1475-I1475)","v":""}]
[null,{"$f":"IFERROR(IF(A1476=\"\",\"\",VLOOKUP(A1476,Funcionários!$A$2:$F$299,2,0)),\"Funcionário não encontrado\")","v":""},null,null,null,null,null,"",{"$f":"IFERROR(IF(A1476=\"\",\"\",VLOOKUP(A1476,Funcionários!$A$2:$F$299,5,0)),\"\")","v":""},""]
[null,{"$f":"IFERROR(IF(A1477=\"\",\"\",VLOOKUP(A1477,Funcionários!$A$2:$F$299,2,0)),\"Funcionário não encontrado\")","v":""},null,null,null,null,null,"",{"$f":"IFERROR(IF(A1477=\"\",\"\",VLOOKUP(A1477,Funcionários!$A$2:$F$299,5,0)),\"\")","v":""},""]
[null,{"$f":"IFERROR(IF(A1478=\"\",\"\",VLOOKUP(A1478,Funcionários!$A$2:$F$299,2,0)),\"Funcionário não encontrado\")","v":""},null,null,null,null,null,"",{"$f":"IFERROR(IF(A1478=\"\",\"\",VLOOKUP(A1478,Funcionários!$A$2:$F$299,5,0)),\"\")","v":""},""]
[null,{"$f":"IFERROR(IF(A1479=\"\",\"\",VLOOKUP(A1479,Funcionários!$A$2:$F$299,2,0)),\"Funcionário não encontrado\")","v":""},null,null,null,null,null,"",{"$f":"IFERROR(IF(A1479=\"\",\"\",VLOOKUP(A1479,Funcionários!$A$2:$F$299,5,0)),\"\")","v":""},""]
[null,{"$f":"IFERROR(IF(A1480=\"\",\"\",VLOOKUP(A1480,Funcionários!$A$2:$F$299,2,0)),\"Funcionário não encontrado\")","v":""},null,null,null,null,null,"",{"$f":"IFERROR(IF(A1480=\"\",\"\",VLOOKUP(A1480,Funcionários!$A$2:$F$299,5,0)),\"\")","v":""},""]
[null,{"$f":"IFERROR(IF(A1481=\"\",\"\",VLOOKUP(A1481,Funcionários!$A$2:$F$299,2,0)),\"Funcionário não encontrado\")","v":""},null,null,null,null,null,"",{"$f":"IFERROR(IF(A1481=\"\",\"\",VLOOKUP(A1481,Funcionários!$A$2:$F$299,5,0)),\"\")","v":""},""]
[null,{"$f":"IFERROR(IF(A1482=\"\",\"\",VLOOKUP(A1482,Funcionários!$A$2:$F$299,2,0)),\"Funcionário não encontrado\")","v":""},null,null,null,null,null,"",{"$f":"IFERROR(IF(A1482=\"\",\"\",VLOOKUP(A1482,Funcionários!$A$2:$F$299,5,0)),\"\")","v":""},""]
[null,{"$f":"IFERROR(IF(A1483=\"\",\"\",VLOOKUP(A1483,Funcionários!$A$2:$F$299,2,0)),\"Funcionário não encontrado\")","v":""},null,null,null,null,null,"",{"$f":"IFERROR(IF(A1483=\"\",\"\",VLOOKUP(A1483,Funcionários!$A$2:$F$299,5,0)),\"\")","v":""},""]
[null,{"$f":"IFERROR(IF(A1484=\"\",\"\",VLOOKUP(A1484,Funcionários!$A$2:$F$299,2,0)),\"Funcionário não encontrado\")","v":""},null,null,null,null,null,"",{"$f":"IFERROR(IF(A1484=\"\",\"\",VLOOKUP(A1484,Funcionários!$A$2:$F$299,5,0)),\"\")","v":""},""]
[null,{"$f":"IFERROR(IF(A1485=\"\",\"\",VLOOKUP(A1485,Funcionários!$A$2:$F$299,2,0)),\"Funcionário não encontrado\")","v":""},null,null,null,null,null,"",{"$f":"IFERROR(IF(A1485=\"\",\"\",VLOOKUP(A1485,Funcionários!$A$2:$F$299,5,0)),\"\")","v":""},""]
[null,{"$f":"IFERROR(IF(A1486=\"\",\"\",VLOOKUP(A1486,Funcionários!$A$2:$F$299,2,0)),\"Funcionário não encontrado\")","v":""},null,null,null,null,null,"",{"$f":"IFERROR(IF(A1486=\"\",\"\",VLOOKUP(A1486,Funcionários!$A$2:$F$299,5,0)),\"\")","v":""},""]
[null,{"$f":"IFERROR(IF(A1487=\"\",\"\",VLOOKUP(A1487,Funcionários!$A$2:$F$299,2,0)),\"Funcionário não encontrado\")","v":""},null,null,null,null,null,"",{"$f":"IFERROR(IF(A1487=\"\",\"\",VLOOKUP(A1487,Funcionários!$A$2:$F$299,5,0)),\"\")","v":""},""]
[null,{"$f":"IFERROR(IF(A1488=\"\",\"\",VLOOKUP(A1488,Funcionários!$A$2:$F$299,2,0)),\"Funcionário não encontrado\")","v":""},null,null,null,null,null,"",{"$f":"IFERROR(IF(A1488=\"\",\"\",VLOOKUP(A1488,Funcionários!$A$2:$F$299,5,0)),\"\")","v":""},""]
[null,{"$f":"IFERROR(IF(A1489=\"\",\"\",VLOOKUP(A1489,Funcionários!$A$2:$F$299,2,0)),\"Funcionário não encontrado\")","v":""},null,null,null,null,null,"",{"$f":"IFERROR(IF(A1489=\"\",\"\",VLOOKUP(A1489,Funcionários!$A$2:$F$299,5,0)),\"\")","v":""},""]
[null,{"$f":"IFERROR(IF(A1490=\"\",\"\",VLOOKUP(A1490,Funcionários!$A$2:$F$299,2,0)),\"Funcionário não encontrado\")","v":""},null,null,null,null,null,"",{"$f":"IFERROR(IF(A1490=\"\",\"\",VLOOKUP(A1490,Funcionários!$A$2:$F$299,5,0)),\"\")","v":""},""]
[null,{"$f":"IFERROR(IF(A1491=\"\",\"\",VLOOKUP(A1491,Funcionários!$A$2:$F$299,2,0)),\"Funcionário não encontrado\")","v":""},null,null,null,null,null,"",{"$f":"IFERROR(IF(A1491=\"\",\"\",VLOOKUP(A1491,Funcionários!$A$2:$F$299,5,0)),\"\")","v":""},""]
[null,{"$f":"IFERROR(IF(A1492=\"\",\"\",VLOOKUP(A1492,Funcionários!$A$2:$F$299,2,0)),\"Funcionário não encontrado\")","v":""},null,null,null,null,null,"",{"$f":"IFERROR(IF(A1492=\"\",\"\",VLOOKUP(A1492,Funcionários!$A$2:$F$299,5,0)),\"\")","v":""},""]
[null,{"$f":"IFERROR(IF(A1493=\"\",\"\",VLOOKUP(A1493,Funcionários!$A$2:$F$299,2,0)),\"Funcionário não encontrado\")","v":""},null,null,null,null,null,"",{"$f":"IFERROR(IF(A1493=\"\",\"\",VLOOKUP(A1493,Funcionários!$A$2:$F$299,5,0)),\"\")","v":""},""]
[null,{"$f":"IFERROR(IF(A1494=\"\",\"\",VLOOKUP(A1494,Funcionários!$A$2:$F$299,2,0)),\"Funcionário não encontrado\")","v":""},null,null,null,null,null,"",{"$f":"IFERROR(IF(A1494=\"\",\"\",VLOOKUP(A1494,Funcionários!$A$2:$F$299,5,0)),\"\")","v":""},""]
[null,{"$f":"IFERROR(IF(A1495=\"\",\"\",VLOOKUP(A1495,Funcionários!$A$2:$F$299,2,0)),\"Funcionário não encontrado\")","v":""},null,null,null,null,null,"",{"$f":"IFERROR(IF(A1495=\"\",\"\",VLOOKUP(A1495,Funcionários!$A$2:$F$299,5,0)),\"\")","v":""},""]
[null,{"$f":"IFERROR(IF(A1496=\"\",\"\",VLOOKUP(A1496,Funcionários!$A$2:$F$299,2,0)),\"Funcionário não encontrado\")","v":""},null,null,null,null,null,"",{"$f":"IFERROR(IF(A1496=\"\",\"\",VLOOKUP(A1496,Funcionários!$A$2:$F$299,5,0)),\"\")","v":""},""]
[null,{"$f":"IFERROR(IF(A1497=\"\",\"\",VLOOKUP(A1497,Funcionários!$A$2:$F$299,2,0)),\"Funcionário não encontrado\")","v":""},null,null,null,null,null,"",{"$f":"IFERROR(IF(A1497=\"\",\"\",VLOOKUP(A1497,Funcionários!$A$2:$F$299,5,0)),\"\")","v":""},""]
[null,{"$f":"IFERROR(IF(A1498=\"\",\"\",VLOOKUP(A1498,Funcionários!$A$2:$F$299,2,0)),\"Funcionário não encontrado\")","v":""},null,null,null,null,null,"",{"$f":"IFERROR(IF(A1498=\"\",\"\",VLOOKUP(A1498,Funcionários!$A$2:$F$299,5,0)),\"\")","v":""},""]
[null,{"$f":"IFERROR(IF(A1499=\"\",\"\",VLOOKUP(A1499,Funcionários!$A$2:$F$299,2,0)),\"Funcionário não encontrado\")","v":""},null,null,null,null,null,"",{"$f":"IFERROR(IF(A1499=\"\",\"\",VLOOKUP(A1499,Funcionários!$A$2:$F$299,5,0)),\"\")","v":""},""]
[null,{"$f":"IFERROR(IF(A1500=\"\",\"\",VLOOKUP(A1500,Funcionários!$A$2:$F$299,2,0)),\"Funcionário não encontrado\")","v":""},null,null,null,null,null,"",{"$f":"IFERROR(IF(A1500=\"\",\"\",VLOOKUP(A1500,Funcionários!$A$2:$F$299,5,0)),\"\")","v":""},""]
[null,{"$f":"IFERROR(IF(A1501=\"\",\"\",VLOOKUP(A1501,Funcionários!$A$2:$F$299,2,0)),\"Funcionário não encontrado\")","v":""},null,null,null,null,null,"",{"$f":"IFERROR(IF(A1501=\"\",\"\",VLOOKUP(A1501,Funcionários!$A$2:$F$299,5,0)),\"\")","v":""},""]
[null,{"$f":"IFERROR(IF(A1502=\"\",\"\",VLOOKUP(A1502,Funcionários!$A$2:$F$299,2,0)),\"Funcionário não encontrado\")","v":""},null,null,null,null,null,"",{"$f":"IFERROR(IF(A1502=\"\",\"\",VLOOKUP(A1502,Funcionários!$A$2:$F$299,5,0)),\"\")","v":""},""]
[null,{"$f":"IFERROR(IF(A1503=\"\",\"\",VLOOKUP(A1503,Funcionários!$A$2:$F$299,2,0)),\"Funcionário não encontrado\")","v":""},null,null,null,null,null,"",{"$f":"IFERROR(IF(A1503=\"\",\"\",VLOOKUP(A1503,Funcionários!$A$2:$F$299,5,0)),\"\")","v":""},""]
[null,{"$f":"IFERROR(IF(A1504=\"\",\"\",VLOOKUP(A1504,Funcionários!$A$2:$F$299,2,0)),\"Funcionário não encontrado\")","v":""},null,null,null,null,null,"",{"$f":"IFERROR(IF(A1504=\"\",\"\",VLOOKUP(A1504,Funcionários!$A$2:$F$299,5,0)),\"\")","v":""},""]
[null,{"$f":"IFERROR(IF(A1505=\"\",\"\",VLOOKUP(A1505,Funcionários!$A$2:$F$299,2,0)),\"Funcionário não encontrado\")","v":""},null,null,null,null,null,"",{"$f":"IFERROR(IF(A1505=\"\",\"\",VLOOKUP(A1505,Funcionários!$A$2:$F$299,5,0)),\"\")","v":""},""]
[null,{"$f":"IFERROR(IF(A1506=\"\",\"\",VLOOKUP(A1506,Funcionários!$A$2:$F$299,2,0)),\"Funcionário não encontrado\")","v":""},null,null,null,null,null,"",{"$f":"IFERROR(IF(A1506=\"\",\"\",VLOOKUP(A1506,Funcionários!$A$2:$F$299,5,0)),\"\")","v":""},""]
[null,{"$f":"IFERROR(IF(A1507=\"\",\"\",VLOOKUP(A1507,Funcionários!$A$2:$F$299,2,0)),\"Funcionário não encontrado\")","v":""},null,null,null,null,null,"",{"$f":"IFERROR(IF(A1507=\"\",\"\",VLOOKUP(A1507,Funcionários!$A$2:$F$299,5,0)),\"\")","v":""},""]
[null,{"$f":"IFERROR(IF(A1508=\"\",\"\",VLOOKUP(A1508,Funcionários!$A$2:$F$299,2,0)),\"Funcionário não encontrado\")","v":""},null,null,null,null,null,"",{"$f":"IFERROR(IF(A1508=\"\",\"\",VLOOKUP(A1508,Funcionários!$A$2:$F$299,5,0)),\"\")","v":""},""]
[null,{"$f":"IFERROR(IF(A1509=\"\",\"\",VLOOKUP(A1509,Funcionários!$A$2:$F$299,2,0)),\"Funcionário não encontrado\")","v":""},null,null,null,null,null,"",{"$f":"IFERROR(IF(A1509=\"\",\"\",VLOOKUP(A1509,Funcionários!$A$2:$F$299,5,0)),\"\")","v":""},""]
[null,{"$f":"IFERROR(IF(A1510=\"\",\"\",VLOOKUP(A1510,Funcionários!$A$2:$F$299,2,0)),\"Funcionário não encontrado\")","v":""},null,null,null,null,null,"",{"$f":"IFERROR(IF(A1510=\"\",\"\",VLOOKUP(A1510,Funcionários!$A$2:$F$299,5,0)),\"\")","v":""},""]
[null,{"$f":"IFERROR(IF(A1511=\"\",\"\",VLOOKUP(A1511,Funcionários!$A$2:$F$299,2,0)),\"Funcionário não encontrado\")","v":""},null,null,null,null,null,"",{"$f":"IFERROR(IF(A1511=\"\",\"\",VLOOKUP(A1511,Funcionários!$A$2:$F$299,5,0)),\"\")","v":""},""]
[null,{"$f":"IFERROR(IF(A1512=\"\",\"\",VLOOKUP(A1512,Funcionários!$A$2:$F$299,2,0)),\"Funcionário não encontrado\")","v":""},null,null,null,null,null,"",{"$f":"IFERROR(IF(A1512=\"\",\"\",VLOOKUP(A1512,Funcionários!$A$2:$F$299,5,0)),\"\")","v":""},""]
[null,{"$f":"IFERROR(IF(A1513=\"\",\"\",VLOOKUP(A1513,Funcionários!$A$2:$F$299,2,0)),\"Funcionário não encontrado\")","v":""},null,null,null,null,null,"",{"$f":"IFERROR(IF(A1513=\"\",\"\",VLOOKUP(A1513,Funcionários!$A$2:$F$299,5,0)),\"\")","v":""},""]
[null,{"$f":"IFERROR(IF(A1514=\"\",\"\",VLOOKUP(A1514,Funcionários!$A$2:$F$299,2,0)),\"Funcionário não encontrado\")","v":""},null,null,null,null,null,"",{"$f":"IFERROR(IF(A1514=\"\",\"\",VLOOKUP(A1514,Funcionários!$A$2:$F$299,5,0)),\"\")","v":""},""]
[null,{"$f":"IFERROR(IF(A1515=\"\",\"\",VLOOKUP(A1515,Funcionários!$A$2:$F$299,2,0)),\"Funcionário não encontrado\")","v":""},null,null,null,null,null,"",{"$f":"IFERROR(IF(A1515=\"\",\"\",VLOOKUP(A1515,Funcionários!$A$2:$F$299,5,0)),\"\")","v":""},""]
[null,{"$f":"IFERROR(IF(A1516=\"\",\"\",VLOOKUP(A1516,Funcionários!$A$2:$F$299,2,0)),\"Funcionário não encontrado\")","v":""},null,null,null,null,null,"",{"$f":"IFERROR(IF(A1516=\"\",\"\",VLOOKUP(A1516,Funcionários!$A$2:$F$299,5,0)),\"\")","v":""},""]
[null,{"$f":"IFERROR(IF(A1517=\"\",\"\",VLOOKUP(A1517,Funcionários!$A$2:$F$299,2,0)),\"Funcionário não encontrado\")","v":""},null,null,null,null,null,"",{"$f":"IFERROR(IF(A1517=\"\",\"\",VLOOKUP(A1517,Funcionários!$A$2:$F$299,5,0)),\"\")","v":""},""]
[null,{"$f":"IFERROR(IF(A1518=\"\",\"\",VLOOKUP(A1518,Funcionários!$A$2:$F$299,2,0)),\"Funcionário não encontrado\")","v":""},null,null,null,null,null,"",{"$f":"IFERROR(IF(A1518=\"\",\"\",VLOOKUP(A1518,Funcionários!$A$2:$F$299,5,0)),\"\")","v":""},""]
[null,{"$f":"IFERROR(IF(A1519=\"\",\"\",VLOOKUP(A1519,Funcionários!$A$2:$F$299,2,0)),\"Funcionário não encontrado\")","v":""},null,null,null,null,null,"",{"$f":"IFERROR(IF(A1519=\"\",\"\",VLOOKUP(A1519,Funcionários!$A$2:$F$299,5,0)),\"\")","v":""},""]
[null,{"$f":"IFERROR(IF(A1520=\"\",\"\",VLOOKUP(A1520,Funcionários!$A$2:$F$299,2,0)),\"Funcionário não encontrado\")","v":""},null,null,null,null,null,"",{"$f":"IFERROR(IF(A1520=\"\",\"\",VLOOKUP(A1520,Funcionários!$A$2:$F$299,5,0)),\"\")","v":""},""]
[null,{"$f":"IFERROR(IF(A1521=\"\",\"\",VLOOKUP(A1521,Funcionários!$A$2:$F$299,2,0)),\"Funcionário não encontrado\")","v":""},null,null,null,null,null,"",{"$f":"IFERROR(IF(A1521=\"\",\"\",VLOOKUP(A1521,Funcionários!$A$2:$F$299,5,0)),\"\")","v":""},""]
[null,{"$f":"IFERROR(IF(A1522=\"\",\"\",VLOOKUP(A1522,Funcionários!$A$2:$F$299,2,0)),\"Funcionário não encontrado\")","v":""},null,null,null,null,null,"",{"$f":"IFERROR(IF(A1522=\"\",\"\",VLOOKUP(A1522,Funcionários!$A$2:$F$299,5,0)),\"\")","v":""},""]
[null,{"$f":"IFERROR(IF(A1523=\"\",\"\",VLOOKUP(A1523,Funcionários!$A$2:$F$299,2,0)),\"Funcionário não encontrado\")","v":""},null,null,null,null,null,"",{"$f":"IFERROR(IF(A1523=\"\",\"\",VLOOKUP(A1523,Funcionários!$A$2:$F$299,5,0)),\"\")","v":""},""]
[null,{"$f":"IFERROR(IF(A1524=\"\",\"\",VLOOKUP(A1524,Funcionários!$A$2:$F$299,2,0)),\"Funcionário não encontrado\")","v":""},null,null,null,null,null,"",{"$f":"IFERROR(IF(A1524=\"\",\"\",VLOOKUP(A1524,Funcionários!$A$2:$F$299,5,0)),\"\")","v":""},""]
[null,{"$f":"IFERROR(IF(A1525=\"\",\"\",VLOOKUP(A1525,Funcionários!$A$2:$F$299,2,0)),\"Funcionário não encontrado\")","v":""},null,null,null,null,null,"",{"$f":"IFERROR(IF(A1525=\"\",\"\",VLOOKUP(A1525,Funcionários!$A$2:$F$299,5,0)),\"\")","v":""},""]
[null,{"$f":"IFERROR(IF(A1526=\"\",\"\",VLOOKUP(A1526,Funcionários!$A$2:$F$299,2,0)),\"Funcionário não encontrado\")","v":""},null,null,null,null,null,"",{"$f":"IFERROR(IF(A1526=\"\",\"\",VLOOKUP(A1526,Funcionários!$A$2:$F$299,5,0)),\"\")","v":""},""]
[null,{"$f":"IFERROR(IF(A1527=\"\",\"\",VLOOKUP(A1527,Funcionários!$A$2:$F$299,2,0)),\"Funcionário não encontrado\")","v":""},null,null,null,null,null,"",{"$f":"IFERROR(IF(A1527=\"\",\"\",VLOOKUP(A1527,Funcionários!$A$2:$F$299,5,0)),\"\")","v":""},""]
[null,{"$f":"IFERROR(IF(A1528=\"\",\"\",VLOOKUP(A1528,Funcionários!$A$2:$F$299,2,0)),\"Funcionário não encontrado\")","v":""},null,null,null,null,null,"",{"$f":"IFERROR(IF(A1528=\"\",\"\",VLOOKUP(A1528,Funcionários!$A$2:$F$299,5,0)),\"\")","v":""},""]
[null,{"$f":"IFERROR(IF(A1529=\"\",\"\",VLOOKUP(A1529,Funcionários!$A$2:$F$299,2,0)),\"Funcionário não encontrado\")","v":""},null,null,null,null,null,"",{"$f":"IFERROR(IF(A1529=\"\",\"\",VLOOKUP(A1529,Funcionários!$A$2:$F$299,5,0)),\"\")","v":""},""]
[null,{"$f":"IFERROR(IF(A1530=\"\",\"\",VLOOKUP(A1530,Funcionários!$A$2:$F$299,2,0)),\"Funcionário não encontrado\")","v":""},null,null,null,null,null,"",{"$f":"IFERROR(IF(A1530=\"\",\"\",VLOOKUP(A1530,Funcionários!$A$2:$F$299,5,0)),\"\")","v":""},""]
[null,{"$f":"IFERROR(IF(A1531=\"\",\"\",VLOOKUP(A1531,Funcionários!$A$2:$F$299,2,0)),\"Funcionário não encontrado\")","v":""},null,null,null,null,null,"",{"$f":"IFERROR(IF(A1531=\"\",\"\",VLOOKUP(A1531,Funcionários!$A$2:$F$299,5,0)),\"\")","v":""},""]
[null,{"$f":"IFERROR(IF(A1532=\"\",\"\",VLOOKUP(A1532,Funcionários!$A$2:$F$299,2,0)),\"Funcionário não encontrado\")","v":""},null,null,null,null,null,"",{"$f":"IFERROR(IF(A1532=\"\",\"\",VLOOKUP(A1532,Funcionários!$A$2:$F$299,5,0)),\"\")","v":""},""]
[null,{"$f":"IFERROR(IF(A1533=\"\",\"\",VLOOKUP(A1533,Funcionários!$A$2:$F$299,2,0)),\"Funcionário não encontrado\")","v":""},null,null,null,null,null,"",{"$f":"IFERROR(IF(A1533=\"\",\"\",VLOOKUP(A1533,Funcionários!$A$2:$F$299,5,0)),\"\")","v":""},""]
[null,{"$f":"IFERROR(IF(A1534=\"\",\"\",VLOOKUP(A1534,Funcionários!$A$2:$F$299,2,0)),\"Funcionário não encontrado\")","v":""},null,null,null,null,null,"",{"$f":"IFERROR(IF(A1534=\"\",\"\",VLOOKUP(A1534,Funcionários!$A$2:$F$299,5,0)),\"\")","v":""},""]
[null,{"$f":"IFERROR(IF(A1535=\"\",\"\",VLOOKUP(A1535,Funcionários!$A$2:$F$299,2,0)),\"Funcionário não encontrado\")","v":""},null,null,null,null,null,"",{"$f":"IFERROR(IF(A1535=\"\",\"\",VLOOKUP(A1535,Funcionários!$A$2:$F$299,5,0)),\"\")","v":""},""]
[null,{"$f":"IFERROR(IF(A1536=\"\",\"\",VLOOKUP(A1536,Funcionários!$A$2:$F$299,2,0)),\"Funcionário não encontrado\")","v":""},null,null,null,null,null,"",{"$f":"IFERROR(IF(A1536=\"\",\"\",VLOOKUP(A1536,Funcionários!$A$2:$F$299,5,0)),\"\")","v":""},""]
[null,{"$f":"IFERROR(IF(A1537=\"\",\"\",VLOOKUP(A1537,Funcionários!$A$2:$F$299,2,0)),\"Funcionário não encontrado\")","v":""},null,null,null,null,null,"",{"$f":"IFERROR(IF(A1537=\"\",\"\",VLOOKUP(A1537,Funcionários!$A$2:$F$299,5,0)),\"\")","v":""},""]
[null,{"$f":"IFERROR(IF(A1538=\"\",\"\",VLOOKUP(A1538,Funcionários!$A$2:$F$299,2,0)),\"Funcionário não encontrado\")","v":""},null,null,null,null,null,"",{"$f":"IFERROR(IF(A1538=\"\",\"\",VLOOKUP(A1538,Funcionários!$A$2:$F$299,5,0)),\"\")","v":""},""]
[null,{"$f":"IFERROR(IF(A1539=\"\",\"\",VLOOKUP(A1539,Funcionários!$A$2:$F$299,2,0)),\"Funcionário não encontrado\")","v":""},null,null,null,null,null,{"$f":"IF(OR(D1539=\"\",E1539=\"\",F1539=\"\"),\"\",MOD((E1539-D1539)+(G1539-F1539),1))","v":""},{"$f":"IFERROR(IF(A1539=\"\",\"\",VLOOKUP(A1539,Funcionários!$A$2:$F$299,5,0)),\"\")","v":""},{"$f":"IF(H1539=\"\",\"\",H1539-I1539)","v":""}]
[null,{"$f":"IFERROR(IF(A1540=\"\",\"\",VLOOKUP(A1540,Funcionários!$A$2:$F$299,2,0)),\"Funcionário não encontrado\")","v":""},null,null,null,null,null,"",{"$f":"IFERROR(IF(A1540=\"\",\"\",VLOOKUP(A1540,Funcionários!$A$2:$F$299,5,0)),\"\")","v":""},""]
[null,{"$f":"IFERROR(IF(A1541=\"\",\"\",VLOOKUP(A1541,Funcionários!$A$2:$F$299,2,0)),\"Funcionário não encontrado\")","v":""},null,null,null,null,null,"",{"$f":"IFERROR(IF(A1541=\"\",\"\",VLOOKUP(A1541,Funcionários!$A$2:$F$299,5,0)),\"\")","v":""},""]
[null,{"$f":"IFERROR(IF(A1542=\"\",\"\",VLOOKUP(A1542,Funcionários!$A$2:$F$299,2,0)),\"Funcionário não encontrado\")","v":""},null,null,null,null,null,"",{"$f":"IFERROR(IF(A1542=\"\",\"\",VLOOKUP(A1542,Funcionários!$A$2:$F$299,5,0)),\"\")","v":""},""]
[null,{"$f":"IFERROR(IF(A1543=\"\",\"\",VLOOKUP(A1543,Funcionários!$A$2:$F$299,2,0)),\"Funcionário não encontrado\")","v":""},null,null,null,null,null,"",{"$f":"IFERROR(IF(A1543=\"\",\"\",VLOOKUP(A1543,Funcionários!$A$2:$F$299,5,0)),\"\")","v":""},""]
[null,{"$f":"IFERROR(IF(A1544=\"\",\"\",VLOOKUP(A1544,Funcionários!$A$2:$F$299,2,0)),\"Funcionário não encontrado\")","v":""},null,null,null,null,null,"",{"$f":"IFERROR(IF(A1544=\"\",\"\",VLOOKUP(A1544,Funcionários!$A$2:$F$299,5,0)),\"\")","v":""},""]
[null,{"$f":"IFERROR(IF(A1545=\"\",\"\",VLOOKUP(A1545,Funcionários!$A$2:$F$299,2,0)),\"Funcionário não encontrado\")","v":""},null,null,null,null,null,"",{"$f":"IFERROR(IF(A1545=\"\",\"\",VLOOKUP(A1545,Funcionários!$A$2:$F$299,5,0)),\"\")","v":""},""]
[null,{"$f":"IFERROR(IF(A1546=\"\",\"\",VLOOKUP(A1546,Funcionários!$A$2:$F$299,2,0)),\"Funcionário não encontrado\")","v":""},null,null,null,null,null,"",{"$f":"IFERROR(IF(A1546=\"\",\"\",VLOOKUP(A1546,Funcionários!$A$2:$F$299,5,0)),\"\")","v":""},""]
[null,{"$f":"IFERROR(IF(A1547=\"\",\"\",VLOOKUP(A1547,Funcionários!$A$2:$F$299,2,0)),\"Funcionário não encontrado\")","v":""},null,null,null,null,null,"",{"$f":"IFERROR(IF(A1547=\"\",\"\",VLOOKUP(A1547,Funcionários!$A$2:$F$299,5,0)),\"\")","v":""},""]
[null,{"$f":"IFERROR(IF(A1548=\"\",\"\",VLOOKUP(A1548,Funcionários!$A$2:$F$299,2,0)),\"Funcionário não encontrado\")","v":""},null,null,null,null,null,"",{"$f":"IFERROR(IF(A1548=\"\",\"\",VLOOKUP(A1548,Funcionários!$A$2:$F$299,5,0)),\"\")","v":""},""]
[null,{"$f":"IFERROR(IF(A1549=\"\",\"\",VLOOKUP(A1549,Funcionários!$A$2:$F$299,2,0)),\"Funcionário não encontrado\")","v":""},null,null,null,null,null,"",{"$f":"IFERROR(IF(A1549=\"\",\"\",VLOOKUP(A1549,Funcionários!$A$2:$F$299,5,0)),\"\")","v":""},""]
[null,{"$f":"IFERROR(IF(A1550=\"\",\"\",VLOOKUP(A1550,Funcionários!$A$2:$F$299,2,0)),\"Funcionário não encontrado\")","v":""},null,null,null,null,null,"",{"$f":"IFERROR(IF(A1550=\"\",\"\",VLOOKUP(A1550,Funcionários!$A$2:$F$299,5,0)),\"\")","v":""},""]
[null,{"$f":"IFERROR(IF(A1551=\"\",\"\",VLOOKUP(A1551,Funcionários!$A$2:$F$299,2,0)),\"Funcionário não encontrado\")","v":""},null,null,null,null,null,"",{"$f":"IFERROR(IF(A1551=\"\",\"\",VLOOKUP(A1551,Funcionários!$A$2:$F$299,5,0)),\"\")","v":""},""]
[null,{"$f":"IFERROR(IF(A1552=\"\",\"\",VLOOKUP(A1552,Funcionários!$A$2:$F$299,2,0)),\"Funcionário não encontrado\")","v":""},null,null,null,null,null,"",{"$f":"IFERROR(IF(A1552=\"\",\"\",VLOOKUP(A1552,Funcionários!$A$2:$F$299,5,0)),\"\")","v":""},""]
[null,{"$f":"IFERROR(IF(A1553=\"\",\"\",VLOOKUP(A1553,Funcionários!$A$2:$F$299,2,0)),\"Funcionário não encontrado\")","v":""},null,null,null,null,null,"",{"$f":"IFERROR(IF(A1553=\"\",\"\",VLOOKUP(A1553,Funcionários!$A$2:$F$299,5,0)),\"\")","v":""},""]
[null,{"$f":"IFERROR(IF(A1554=\"\",\"\",VLOOKUP(A1554,Funcionários!$A$2:$F$299,2,0)),\"Funcionário não encontrado\")","v":""},null,null,null,null,null,"",{"$f":"IFERROR(IF(A1554=\"\",\"\",VLOOKUP(A1554,Funcionários!$A$2:$F$299,5,0)),\"\")","v":""},""]
[null,{"$f":"IFERROR(IF(A1555=\"\",\"\",VLOOKUP(A1555,Funcionários!$A$2:$F$299,2,0)),\"Funcionário não encontrado\")","v":""},null,null,null,null,null,"",{"$f":"IFERROR(IF(A1555=\"\",\"\",VLOOKUP(A1555,Funcionários!$A$2:$F$299,5,0)),\"\")","v":""},""]
[null,{"$f":"IFERROR(IF(A1556=\"\",\"\",VLOOKUP(A1556,Funcionários!$A$2:$F$299,2,0)),\"Funcionário não encontrado\")","v":""},null,null,null,null,null,"",{"$f":"IFERROR(IF(A1556=\"\",\"\",VLOOKUP(A1556,Funcionários!$A$2:$F$299,5,0)),\"\")","v":""},""]
[null,{"$f":"IFERROR(IF(A1557=\"\",\"\",VLOOKUP(A1557,Funcionários!$A$2:$F$299,2,0)),\"Funcionário não encontrado\")","v":""},null,null,null,null,null,"",{"$f":"IFERROR(IF(A1557=\"\",\"\",VLOOKUP(A1557,Funcionários!$A$2:$F$299,5,0)),\"\")","v":""},""]
[null,{"$f":"IFERROR(IF(A1558=\"\",\"\",VLOOKUP(A1558,Funcionários!$A$2:$F$299,2,0)),\"Funcionário não encontrado\")","v":""},null,null,null,null,null,"",{"$f":"IFERROR(IF(A1558=\"\",\"\",VLOOKUP(A1558,Funcionários!$A$2:$F$299,5,0)),\"\")","v":""},""]
[null,{"$f":"IFERROR(IF(A1559=\"\",\"\",VLOOKUP(A1559,Funcionários!$A$2:$F$299,2,0)),\"Funcionário não encontrado\")","v":""},null,null,null,null,null,"",{"$f":"IFERROR(IF(A1559=\"\",\"\",VLOOKUP(A1559,Funcionários!$A$2:$F$299,5,0)),\"\")","v":""},""]
[null,{"$f":"IFERROR(IF(A1560=\"\",\"\",VLOOKUP(A1560,Funcionários!$A$2:$F$299,2,0)),\"Funcionário não encontrado\")","v":""},null,null,null,null,null,"",{"$f":"IFERROR(IF(A1560=\"\",\"\",VLOOKUP(A1560,Funcionários!$A$2:$F$299,5,0)),\"\")","v":""},""]
[null,{"$f":"IFERROR(IF(A1561=\"\",\"\",VLOOKUP(A1561,Funcionários!$A$2:$F$299,2,0)),\"Funcionário não encontrado\")","v":""},null,null,null,null,null,"",{"$f":"IFERROR(IF(A1561=\"\",\"\",VLOOKUP(A1561,Funcionários!$A$2:$F$299,5,0)),\"\")","v":""},""]
[null,{"$f":"IFERROR(IF(A1562=\"\",\"\",VLOOKUP(A1562,Funcionários!$A$2:$F$299,2,0)),\"Funcionário não encontrado\")","v":""},null,null,null,null,null,"",{"$f":"IFERROR(IF(A1562=\"\",\"\",VLOOKUP(A1562,Funcionários!$A$2:$F$299,5,0)),\"\")","v":""},""]
[null,{"$f":"IFERROR(IF(A1563=\"\",\"\",VLOOKUP(A1563,Funcionários!$A$2:$F$299,2,0)),\"Funcionário não encontrado\")","v":""},null,null,null,null,null,"",{"$f":"IFERROR(IF(A1563=\"\",\"\",VLOOKUP(A1563,Funcionários!$A$2:$F$299,5,0)),\"\")","v":""},""]
[null,{"$f":"IFERROR(IF(A1564=\"\",\"\",VLOOKUP(A1564,Funcionários!$A$2:$F$299,2,0)),\"Funcionário não encontrado\")","v":""},null,null,null,null,null,"",{"$f":"IFERROR(IF(A1564=\"\",\"\",VLOOKUP(A1564,Funcionários!$A$2:$F$299,5,0)),\"\")","v":""},""]
[null,{"$f":"IFERROR(IF(A1565=\"\",\"\",VLOOKUP(A1565,Funcionários!$A$2:$F$299,2,0)),\"Funcionário não encontrado\")","v":""},null,null,null,null,null,"",{"$f":"IFERROR(IF(A1565=\"\",\"\",VLOOKUP(A1565,Funcionários!$A$2:$F$299,5,0)),\"\")","v":""},""]
[null,{"$f":"IFERROR(IF(A1566=\"\",\"\",VLOOKUP(A1566,Funcionários!$A$2:$F$299,2,0)),\"Funcionário não encontrado\")","v":""},null,null,null,null,null,"",{"$f":"IFERROR(IF(A1566=\"\",\"\",VLOOKUP(A1566,Funcionários!$A$2:$F$299,5,0)),\"\")","v":""},""]
[null,{"$f":"IFERROR(IF(A1567=\"\",\"\",VLOOKUP(A1567,Funcionários!$A$2:$F$299,2,0)),\"Funcionário não encontrado\")","v":""},null,null,null,null,null,"",{"$f":"IFERROR(IF(A1567=\"\",\"\",VLOOKUP(A1567,Funcionários!$A$2:$F$299,5,0)),\"\")","v":""},""]
[null,{"$f":"IFERROR(IF(A1568=\"\",\"\",VLOOKUP(A1568,Funcionários!$A$2:$F$299,2,0)),\"Funcionário não encontrado\")","v":""},null,null,null,null,null,"",{"$f":"IFERROR(IF(A1568=\"\",\"\",VLOOKUP(A1568,Funcionários!$A$2:$F$299,5,0)),\"\")","v":""},""]
[null,{"$f":"IFERROR(IF(A1569=\"\",\"\",VLOOKUP(A1569,Funcionários!$A$2:$F$299,2,0)),\"Funcionário não encontrado\")","v":""},null,null,null,null,null,"",{"$f":"IFERROR(IF(A1569=\"\",\"\",VLOOKUP(A1569,Funcionários!$A$2:$F$299,5,0)),\"\")","v":""},""]
[null,{"$f":"IFERROR(IF(A1570=\"\",\"\",VLOOKUP(A1570,Funcionários!$A$2:$F$299,2,0)),\"Funcionário não encontrado\")","v":""},null,null,null,null,null,"",{"$f":"IFERROR(IF(A1570=\"\",\"\",VLOOKUP(A1570,Funcionários!$A$2:$F$299,5,0)),\"\")","v":""},""]
[null,{"$f":"IFERROR(IF(A1571=\"\",\"\",VLOOKUP(A1571,Funcionários!$A$2:$F$299,2,0)),\"Funcionário não encontrado\")","v":""},null,null,null,null,null,"",{"$f":"IFERROR(IF(A1571=\"\",\"\",VLOOKUP(A1571,Funcionários!$A$2:$F$299,5,0)),\"\")","v":""},""]
[null,{"$f":"IFERROR(IF(A1572=\"\",\"\",VLOOKUP(A1572,Funcionários!$A$2:$F$299,2,0)),\"Funcionário não encontrado\")","v":""},null,null,null,null,null,"",{"$f":"IFERROR(IF(A1572=\"\",\"\",VLOOKUP(A1572,Funcionários!$A$2:$F$299,5,0)),\"\")","v":""},""]
[null,{"$f":"IFERROR(IF(A1573=\"\",\"\",VLOOKUP(A1573,Funcionários!$A$2:$F$299,2,0)),\"Funcionário não encontrado\")","v":""},null,null,null,null,null,"",{"$f":"IFERROR(IF(A1573=\"\",\"\",VLOOKUP(A1573,Funcionários!$A$2:$F$299,5,0)),\"\")","v":""},""]
[null,{"$f":"IFERROR(IF(A1574=\"\",\"\",VLOOKUP(A1574,Funcionários!$A$2:$F$299,2,0)),\"Funcionário não encontrado\")","v":""},null,null,null,null,null,"",{"$f":"IFERROR(IF(A1574=\"\",\"\",VLOOKUP(A1574,Funcionários!$A$2:$F$299,5,0)),\"\")","v":""},""]
[null,{"$f":"IFERROR(IF(A1575=\"\",\"\",VLOOKUP(A1575,Funcionários!$A$2:$F$299,2,0)),\"Funcionário não encontrado\")","v":""},null,null,null,null,null,"",{"$f":"IFERROR(IF(A1575=\"\",\"\",VLOOKUP(A1575,Funcionários!$A$2:$F$299,5,0)),\"\")","v":""},""]
[null,{"$f":"IFERROR(IF(A1576=\"\",\"\",VLOOKUP(A1576,Funcionários!$A$2:$F$299,2,0)),\"Funcionário não encontrado\")","v":""},null,null,null,null,null,"",{"$f":"IFERROR(IF(A1576=\"\",\"\",VLOOKUP(A1576,Funcionários!$A$2:$F$299,5,0)),\"\")","v":""},""]
[null,{"$f":"IFERROR(IF(A1577=\"\",\"\",VLOOKUP(A1577,Funcionários!$A$2:$F$299,2,0)),\"Funcionário não encontrado\")","v":""},null,null,null,null,null,"",{"$f":"IFERROR(IF(A1577=\"\",\"\",VLOOKUP(A1577,Funcionários!$A$2:$F$299,5,0)),\"\")","v":""},""]
[null,{"$f":"IFERROR(IF(A1578=\"\",\"\",VLOOKUP(A1578,Funcionários!$A$2:$F$299,2,0)),\"Funcionário não encontrado\")","v":""},null,null,null,null,null,"",{"$f":"IFERROR(IF(A1578=\"\",\"\",VLOOKUP(A1578,Funcionários!$A$2:$F$299,5,0)),\"\")","v":""},""]
[null,{"$f":"IFERROR(IF(A1579=\"\",\"\",VLOOKUP(A1579,Funcionários!$A$2:$F$299,2,0)),\"Funcionário não encontrado\")","v":""},null,null,null,null,null,"",{"$f":"IFERROR(IF(A1579=\"\",\"\",VLOOKUP(A1579,Funcionários!$A$2:$F$299,5,0)),\"\")","v":""},""]
[null,{"$f":"IFERROR(IF(A1580=\"\",\"\",VLOOKUP(A1580,Funcionários!$A$2:$F$299,2,0)),\"Funcionário não encontrado\")","v":""},null,null,null,null,null,"",{"$f":"IFERROR(IF(A1580=\"\",\"\",VLOOKUP(A1580,Funcionários!$A$2:$F$299,5,0)),\"\")","v":""},""]
[null,{"$f":"IFERROR(IF(A1581=\"\",\"\",VLOOKUP(A1581,Funcionários!$A$2:$F$299,2,0)),\"Funcionário não encontrado\")","v":""},null,null,null,null,null,"",{"$f":"IFERROR(IF(A1581=\"\",\"\",VLOOKUP(A1581,Funcionários!$A$2:$F$299,5,0)),\"\")","v":""},""]
[null,{"$f":"IFERROR(IF(A1582=\"\",\"\",VLOOKUP(A1582,Funcionários!$A$2:$F$299,2,0)),\"Funcionário não encontrado\")","v":""},null,null,null,null,null,"",{"$f":"IFERROR(IF(A1582=\"\",\"\",VLOOKUP(A1582,Funcionários!$A$2:$F$299,5,0)),\"\")","v":""},""]
[null,{"$f":"IFERROR(IF(A1583=\"\",\"\",VLOOKUP(A1583,Funcionários!$A$2:$F$299,2,0)),\"Funcionário não encontrado\")","v":""},null,null,null,null,null,"",{"$f":"IFERROR(IF(A1583=\"\",\"\",VLOOKUP(A1583,Funcionários!$A$2:$F$299,5,0)),\"\")","v":""},""]
[null,{"$f":"IFERROR(IF(A1584=\"\",\"\",VLOOKUP(A1584,Funcionários!$A$2:$F$299,2,0)),\"Funcionário não encontrado\")","v":""},null,null,null,null,null,"",{"$f":"IFERROR(IF(A1584=\"\",\"\",VLOOKUP(A1584,Funcionários!$A$2:$F$299,5,0)),\"\")","v":""},""]
[null,{"$f":"IFERROR(IF(A1585=\"\",\"\",VLOOKUP(A1585,Funcionários!$A$2:$F$299,2,0)),\"Funcionário não encontrado\")","v":""},null,null,null,null,null,"",{"$f":"IFERROR(IF(A1585=\"\",\"\",VLOOKUP(A1585,Funcionários!$A$2:$F$299,5,0)),\"\")","v":""},""]
[null,{"$f":"IFERROR(IF(A1586=\"\",\"\",VLOOKUP(A1586,Funcionários!$A$2:$F$299,2,0)),\"Funcionário não encontrado\")","v":""},null,null,null,null,null,"",{"$f":"IFERROR(IF(A1586=\"\",\"\",VLOOKUP(A1586,Funcionários!$A$2:$F$299,5,0)),\"\")","v":""},""]
[null,{"$f":"IFERROR(IF(A1587=\"\",\"\",VLOOKUP(A1587,Funcionários!$A$2:$F$299,2,0)),\"Funcionário não encontrado\")","v":""},null,null,null,null,null,"",{"$f":"IFERROR(IF(A1587=\"\",\"\",VLOOKUP(A1587,Funcionários!$A$2:$F$299,5,0)),\"\")","v":""},""]
[null,{"$f":"IFERROR(IF(A1588=\"\",\"\",VLOOKUP(A1588,Funcionários!$A$2:$F$299,2,0)),\"Funcionário não encontrado\")","v":""},null,null,null,null,null,"",{"$f":"IFERROR(IF(A1588=\"\",\"\",VLOOKUP(A1588,Funcionários!$A$2:$F$299,5,0)),\"\")","v":""},""]
[null,{"$f":"IFERROR(IF(A1589=\"\",\"\",VLOOKUP(A1589,Funcionários!$A$2:$F$299,2,0)),\"Funcionário não encontrado\")","v":""},null,null,null,null,null,"",{"$f":"IFERROR(IF(A1589=\"\",\"\",VLOOKUP(A1589,Funcionários!$A$2:$F$299,5,0)),\"\")","v":""},""]
[null,{"$f":"IFERROR(IF(A1590=\"\",\"\",VLOOKUP(A1590,Funcionários!$A$2:$F$299,2,0)),\"Funcionário não encontrado\")","v":""},null,null,null,null,null,"",{"$f":"IFERROR(IF(A1590=\"\",\"\",VLOOKUP(A1590,Funcionários!$A$2:$F$299,5,0)),\"\")","v":""},""]
[null,{"$f":"IFERROR(IF(A1591=\"\",\"\",VLOOKUP(A1591,Funcionários!$A$2:$F$299,2,0)),\"Funcionário não encontrado\")","v":""},null,null,null,null,null,"",{"$f":"IFERROR(IF(A1591=\"\",\"\",VLOOKUP(A1591,Funcionários!$A$2:$F$299,5,0)),\"\")","v":""},""]
[null,{"$f":"IFERROR(IF(A1592=\"\",\"\",VLOOKUP(A1592,Funcionários!$A$2:$F$299,2,0)),\"Funcionário não encontrado\")","v":""},null,null,null,null,null,"",{"$f":"IFERROR(IF(A1592=\"\",\"\",VLOOKUP(A1592,Funcionários!$A$2:$F$299,5,0)),\"\")","v":""},""]
[null,{"$f":"IFERROR(IF(A1593=\"\",\"\",VLOOKUP(A1593,Funcionários!$A$2:$F$299,2,0)),\"Funcionário não encontrado\")","v":""},null,null,null,null,null,"",{"$f":"IFERROR(IF(A1593=\"\",\"\",VLOOKUP(A1593,Funcionários!$A$2:$F$299,5,0)),\"\")","v":""},""]
[null,{"$f":"IFERROR(IF(A1594=\"\",\"\",VLOOKUP(A1594,Funcionários!$A$2:$F$299,2,0)),\"Funcionário não encontrado\")","v":""},null,null,null,null,null,"",{"$f":"IFERROR(IF(A1594=\"\",\"\",VLOOKUP(A1594,Funcionários!$A$2:$F$299,5,0)),\"\")","v":""},""]
[null,{"$f":"IFERROR(IF(A1595=\"\",\"\",VLOOKUP(A1595,Funcionários!$A$2:$F$299,2,0)),\"Funcionário não encontrado\")","v":""},null,null,null,null,null,"",{"$f":"IFERROR(IF(A1595=\"\",\"\",VLOOKUP(A1595,Funcionários!$A$2:$F$299,5,0)),\"\")","v":""},""]
[null,{"$f":"IFERROR(IF(A1596=\"\",\"\",VLOOKUP(A1596,Funcionários!$A$2:$F$299,2,0)),\"Funcionário não encontrado\")","v":""},null,null,null,null,null,"",{"$f":"IFERROR(IF(A1596=\"\",\"\",VLOOKUP(A1596,Funcionários!$A$2:$F$299,5,0)),\"\")","v":""},""]
[null,{"$f":"IFERROR(IF(A1597=\"\",\"\",VLOOKUP(A1597,Funcionários!$A$2:$F$299,2,0)),\"Funcionário não encontrado\")","v":""},null,null,null,null,null,"",{"$f":"IFERROR(IF(A1597=\"\",\"\",VLOOKUP(A1597,Funcionários!$A$2:$F$299,5,0)),\"\")","v":""},""]
[null,{"$f":"IFERROR(IF(A1598=\"\",\"\",VLOOKUP(A1598,Funcionários!$A$2:$F$299,2,0)),\"Funcionário não encontrado\")","v":""},null,null,null,null,null,"",{"$f":"IFERROR(IF(A1598=\"\",\"\",VLOOKUP(A1598,Funcionários!$A$2:$F$299,5,0)),\"\")","v":""},""]
[null,{"$f":"IFERROR(IF(A1599=\"\",\"\",VLOOKUP(A1599,Funcionários!$A$2:$F$299,2,0)),\"Funcionário não encontrado\")","v":""},null,null,null,null,null,"",{"$f":"IFERROR(IF(A1599=\"\",\"\",VLOOKUP(A1599,Funcionários!$A$2:$F$299,5,0)),\"\")","v":""},""]
[null,{"$f":"IFERROR(IF(A1600=\"\",\"\",VLOOKUP(A1600,Funcionários!$A$2:$F$299,2,0)),\"Funcionário não encontrado\")","v":""},null,null,null,null,null,"",{"$f":"IFERROR(IF(A1600=\"\",\"\",VLOOKUP(A1600,Funcionários!$A$2:$F$299,5,0)),\"\")","v":""},""]
[null,{"$f":"IFERROR(IF(A1601=\"\",\"\",VLOOKUP(A1601,Funcionários!$A$2:$F$299,2,0)),\"Funcionário não encontrado\")","v":""},null,null,null,null,null,"",{"$f":"IFERROR(IF(A1601=\"\",\"\",VLOOKUP(A1601,Funcionários!$A$2:$F$299,5,0)),\"\")","v":""},""]
[null,{"$f":"IFERROR(IF(A1602=\"\",\"\",VLOOKUP(A1602,Funcionários!$A$2:$F$299,2,0)),\"Funcionário não encontrado\")","v":""},null,null,null,null,null,"",{"$f":"IFERROR(IF(A1602=\"\",\"\",VLOOKUP(A1602,Funcionários!$A$2:$F$299,5,0)),\"\")","v":""},""]
[null,{"$f":"IFERROR(IF(A1603=\"\",\"\",VLOOKUP(A1603,Funcionários!$A$2:$F$299,2,0)),\"Funcionário não encontrado\")","v":""},null,null,null,null,null,{"$f":"IF(OR(D1603=\"\",E1603=\"\",F1603=\"\"),\"\",MOD((E1603-D1603)+(G1603-F1603),1))","v":""},{"$f":"IFERROR(IF(A1603=\"\",\"\",VLOOKUP(A1603,Funcionários!$A$2:$F$299,5,0)),\"\")","v":""},{"$f":"IF(H1603=\"\",\"\",H1603-I1603)","v":""}]
[null,{"$f":"IFERROR(IF(A1604=\"\",\"\",VLOOKUP(A1604,Funcionários!$A$2:$F$299,2,0)),\"Funcionário não encontrado\")","v":""},null,null,null,null,null,"",{"$f":"IFERROR(IF(A1604=\"\",\"\",VLOOKUP(A1604,Funcionários!$A$2:$F$299,5,0)),\"\")","v":""},""]
[null,{"$f":"IFERROR(IF(A1605=\"\",\"\",VLOOKUP(A1605,Funcionários!$A$2:$F$299,2,0)),\"Funcionário não encontrado\")","v":""},null,null,null,null,null,"",{"$f":"IFERROR(IF(A1605=\"\",\"\",VLOOKUP(A1605,Funcionários!$A$2:$F$299,5,0)),\"\")","v":""},""]
[null,{"$f":"IFERROR(IF(A1606=\"\",\"\",VLOOKUP(A1606,Funcionários!$A$2:$F$299,2,0)),\"Funcionário não encontrado\")","v":""},null,null,null,null,null,"",{"$f":"IFERROR(IF(A1606=\"\",\"\",VLOOKUP(A1606,Funcionários!$A$2:$F$299,5,0)),\"\")","v":""},""]
[null,{"$f":"IFERROR(IF(A1607=\"\",\"\",VLOOKUP(A1607,Funcionários!$A$2:$F$299,2,0)),\"Funcionário não encontrado\")","v":""},null,null,null,null,null,"",{"$f":"IFERROR(IF(A1607=\"\",\"\",VLOOKUP(A1607,Funcionários!$A$2:$F$299,5,0)),\"\")","v":""},""]
[null,{"$f":"IFERROR(IF(A1608=\"\",\"\",VLOOKUP(A1608,Funcionários!$A$2:$F$299,2,0)),\"Funcionário não encontrado\")","v":""},null,null,null,null,null,"",{"$f":"IFERROR(IF(A1608=\"\",\"\",VLOOKUP(A1608,Funcionários!$A$2:$F$299,5,0)),\"\")","v":""},""]
[null,{"$f":"IFERROR(IF(A1609=\"\",\"\",VLOOKUP(A1609,Funcionários!$A$2:$F$299,2,0)),\"Funcionário não encontrado\")","v":""},null,null,null,null,null,"",{"$f":"IFERROR(IF(A1609=\"\",\"\",VLOOKUP(A1609,Funcionários!$A$2:$F$299,5,0)),\"\")","v":""},""]
[null,{"$f":"IFERROR(IF(A1610=\"\",\"\",VLOOKUP(A1610,Funcionários!$A$2:$F$299,2,0)),\"Funcionário não encontrado\")","v":""},null,null,null,null,null,"",{"$f":"IFERROR(IF(A1610=\"\",\"\",VLOOKUP(A1610,Funcionários!$A$2:$F$299,5,0)),\"\")","v":""},""]
[null,{"$f":"IFERROR(IF(A1611=\"\",\"\",VLOOKUP(A1611,Funcionários!$A$2:$F$299,2,0)),\"Funcionário não encontrado\")","v":""},null,null,null,null,null,"",{"$f":"IFERROR(IF(A1611=\"\",\"\",VLOOKUP(A1611,Funcionários!$A$2:$F$299,5,0)),\"\")","v":""},""]
[null,{"$f":"IFERROR(IF(A1612=\"\",\"\",VLOOKUP(A1612,Funcionários!$A$2:$F$299,2,0)),\"Funcionário não encontrado\")","v":""},null,null,null,null,null,"",{"$f":"IFERROR(IF(A1612=\"\",\"\",VLOOKUP(A1612,Funcionários!$A$2:$F$299,5,0)),\"\")","v":""},""]
[null,{"$f":"IFERROR(IF(A1613=\"\",\"\",VLOOKUP(A1613,Funcionários!$A$2:$F$299,2,0)),\"Funcionário não encontrado\")","v":""},null,null,null,null,null,"",{"$f":"IFERROR(IF(A1613=\"\",\"\",VLOOKUP(A1613,Funcionários!$A$2:$F$299,5,0)),\"\")","v":""},""]
[null,{"$f":"IFERROR(IF(A1614=\"\",\"\",VLOOKUP(A1614,Funcionários!$A$2:$F$299,2,0)),\"Funcionário não encontrado\")","v":""},null,null,null,null,null,"",{"$f":"IFERROR(IF(A1614=\"\",\"\",VLOOKUP(A1614,Funcionários!$A$2:$F$299,5,0)),\"\")","v":""},""]
[null,{"$f":"IFERROR(IF(A1615=\"\",\"\",VLOOKUP(A1615,Funcionários!$A$2:$F$299,2,0)),\"Funcionário não encontrado\")","v":""},null,null,null,null,null,"",{"$f":"IFERROR(IF(A1615=\"\",\"\",VLOOKUP(A1615,Funcionários!$A$2:$F$299,5,0)),\"\")","v":""},""]
[null,{"$f":"IFERROR(IF(A1616=\"\",\"\",VLOOKUP(A1616,Funcionários!$A$2:$F$299,2,0)),\"Funcionário não encontrado\")","v":""},null,null,null,null,null,"",{"$f":"IFERROR(IF(A1616=\"\",\"\",VLOOKUP(A1616,Funcionários!$A$2:$F$299,5,0)),\"\")","v":""},""]
[null,{"$f":"IFERROR(IF(A1617=\"\",\"\",VLOOKUP(A1617,Funcionários!$A$2:$F$299,2,0)),\"Funcionário não encontrado\")","v":""},null,null,null,null,null,"",{"$f":"IFERROR(IF(A1617=\"\",\"\",VLOOKUP(A1617,Funcionários!$A$2:$F$299,5,0)),\"\")","v":""},""]
[null,{"$f":"IFERROR(IF(A1618=\"\",\"\",VLOOKUP(A1618,Funcionários!$A$2:$F$299,2,0)),\"Funcionário não encontrado\")","v":""},null,null,null,null,null,"",{"$f":"IFERROR(IF(A1618=\"\",\"\",VLOOKUP(A1618,Funcionários!$A$2:$F$299,5,0)),\"\")","v":""},""]
[null,{"$f":"IFERROR(IF(A1619=\"\",\"\",VLOOKUP(A1619,Funcionários!$A$2:$F$299,2,0)),\"Funcionário não encontrado\")","v":""},null,null,null,null,null,"",{"$f":"IFERROR(IF(A1619=\"\",\"\",VLOOKUP(A1619,Funcionários!$A$2:$F$299,5,0)),\"\")","v":""},""]
[null,{"$f":"IFERROR(IF(A1620=\"\",\"\",VLOOKUP(A1620,Funcionários!$A$2:$F$299,2,0)),\"Funcionário não encontrado\")","v":""},null,null,null,null,null,"",{"$f":"IFERROR(IF(A1620=\"\",\"\",VLOOKUP(A1620,Funcionários!$A$2:$F$299,5,0)),\"\")","v":""},""]
[null,{"$f":"IFERROR(IF(A1621=\"\",\"\",VLOOKUP(A1621,Funcionários!$A$2:$F$299,2,0)),\"Funcionário não encontrado\")","v":""},null,null,null,null,null,"",{"$f":"IFERROR(IF(A1621=\"\",\"\",VLOOKUP(A1621,Funcionários!$A$2:$F$299,5,0)),\"\")","v":""},""]
[null,{"$f":"IFERROR(IF(A1622=\"\",\"\",VLOOKUP(A1622,Funcionários!$A$2:$F$299,2,0)),\"Funcionário não encontrado\")","v":""},null,null,null,null,null,"",{"$f":"IFERROR(IF(A1622=\"\",\"\",VLOOKUP(A1622,Funcionários!$A$2:$F$299,5,0)),\"\")","v":""},""]
[null,{"$f":"IFERROR(IF(A1623=\"\",\"\",VLOOKUP(A1623,Funcionários!$A$2:$F$299,2,0)),\"Funcionário não encontrado\")","v":""},null,null,null,null,null,"",{"$f":"IFERROR(IF(A1623=\"\",\"\",VLOOKUP(A1623,Funcionários!$A$2:$F$299,5,0)),\"\")","v":""},""]
[null,{"$f":"IFERROR(IF(A1624=\"\",\"\",VLOOKUP(A1624,Funcionários!$A$2:$F$299,2,0)),\"Funcionário não encontrado\")","v":""},null,null,null,null,null,"",{"$f":"IFERROR(IF(A1624=\"\",\"\",VLOOKUP(A1624,Funcionários!$A$2:$F$299,5,0)),\"\")","v":""},""]
[null,{"$f":"IFERROR(IF(A1625=\"\",\"\",VLOOKUP(A1625,Funcionários!$A$2:$F$299,2,0)),\"Funcionário não encontrado\")","v":""},null,null,null,null,null,"",{"$f":"IFERROR(IF(A1625=\"\",\"\",VLOOKUP(A1625,Funcionários!$A$2:$F$299,5,0)),\"\")","v":""},""]
[null,{"$f":"IFERROR(IF(A1626=\"\",\"\",VLOOKUP(A1626,Funcionários!$A$2:$F$299,2,0)),\"Funcionário não encontrado\")","v":""},null,null,null,null,null,"",{"$f":"IFERROR(IF(A1626=\"\",\"\",VLOOKUP(A1626,Funcionários!$A$2:$F$299,5,0)),\"\")","v":""},""]
[null,{"$f":"IFERROR(IF(A1627=\"\",\"\",VLOOKUP(A1627,Funcionários!$A$2:$F$299,2,0)),\"Funcionário não encontrado\")","v":""},null,null,null,null,null,"",{"$f":"IFERROR(IF(A1627=\"\",\"\",VLOOKUP(A1627,Funcionários!$A$2:$F$299,5,0)),\"\")","v":""},""]
[null,{"$f":"IFERROR(IF(A1628=\"\",\"\",VLOOKUP(A1628,Funcionários!$A$2:$F$299,2,0)),\"Funcionário não encontrado\")","v":""},null,null,null,null,null,"",{"$f":"IFERROR(IF(A1628=\"\",\"\",VLOOKUP(A1628,Funcionários!$A$2:$F$299,5,0)),\"\")","v":""},""]
[null,{"$f":"IFERROR(IF(A1629=\"\",\"\",VLOOKUP(A1629,Funcionários!$A$2:$F$299,2,0)),\"Funcionário não encontrado\")","v":""},null,null,null,null,null,"",{"$f":"IFERROR(IF(A1629=\"\",\"\",VLOOKUP(A1629,Funcionários!$A$2:$F$299,5,0)),\"\")","v":""},""]
[null,{"$f":"IFERROR(IF(A1630=\"\",\"\",VLOOKUP(A1630,Funcionários!$A$2:$F$299,2,0)),\"Funcionário não encontrado\")","v":""},null,null,null,null,null,"",{"$f":"IFERROR(IF(A1630=\"\",\"\",VLOOKUP(A1630,Funcionários!$A$2:$F$299,5,0)),\"\")","v":""},""]
[null,{"$f":"IFERROR(IF(A1631=\"\",\"\",VLOOKUP(A1631,Funcionários!$A$2:$F$299,2,0)),\"Funcionário não encontrado\")","v":""},null,null,null,null,null,"",{"$f":"IFERROR(IF(A1631=\"\",\"\",VLOOKUP(A1631,Funcionários!$A$2:$F$299,5,0)),\"\")","v":""},""]
[null,{"$f":"IFERROR(IF(A1632=\"\",\"\",VLOOKUP(A1632,Funcionários!$A$2:$F$299,2,0)),\"Funcionário não encontrado\")","v":""},null,null,null,null,null,"",{"$f":"IFERROR(IF(A1632=\"\",\"\",VLOOKUP(A1632,Funcionários!$A$2:$F$299,5,0)),\"\")","v":""},""]
[null,{"$f":"IFERROR(IF(A1633=\"\",\"\",VLOOKUP(A1633,Funcionários!$A$2:$F$299,2,0)),\"Funcionário não encontrado\")","v":""},null,null,null,null,null,"",{"$f":"IFERROR(IF(A1633=\"\",\"\",VLOOKUP(A1633,Funcionários!$A$2:$F$299,5,0)),\"\")","v":""},""]
[null,{"$f":"IFERROR(IF(A1634=\"\",\"\",VLOOKUP(A1634,Funcionários!$A$2:$F$299,2,0)),\"Funcionário não encontrado\")","v":""},null,null,null,null,null,"",{"$f":"IFERROR(IF(A1634=\"\",\"\",VLOOKUP(A1634,Funcionários!$A$2:$F$299,5,0)),\"\")","v":""},""]
[null,{"$f":"IFERROR(IF(A1635=\"\",\"\",VLOOKUP(A1635,Funcionários!$A$2:$F$299,2,0)),\"Funcionário não encontrado\")","v":""},null,null,null,null,null,"",{"$f":"IFERROR(IF(A1635=\"\",\"\",VLOOKUP(A1635,Funcionários!$A$2:$F$299,5,0)),\"\")","v":""},""]
[null,{"$f":"IFERROR(IF(A1636=\"\",\"\",VLOOKUP(A1636,Funcionários!$A$2:$F$299,2,0)),\"Funcionário não encontrado\")","v":""},null,null,null,null,null,"",{"$f":"IFERROR(IF(A1636=\"\",\"\",VLOOKUP(A1636,Funcionários!$A$2:$F$299,5,0)),\"\")","v":""},""]
[null,{"$f":"IFERROR(IF(A1637=\"\",\"\",VLOOKUP(A1637,Funcionários!$A$2:$F$299,2,0)),\"Funcionário não encontrado\")","v":""},null,null,null,null,null,"",{"$f":"IFERROR(IF(A1637=\"\",\"\",VLOOKUP(A1637,Funcionários!$A$2:$F$299,5,0)),\"\")","v":""},""]
[null,{"$f":"IFERROR(IF(A1638=\"\",\"\",VLOOKUP(A1638,Funcionários!$A$2:$F$299,2,0)),\"Funcionário não encontrado\")","v":""},null,null,null,null,null,"",{"$f":"IFERROR(IF(A1638=\"\",\"\",VLOOKUP(A1638,Funcionários!$A$2:$F$299,5,0)),\"\")","v":""},""]
[null,{"$f":"IFERROR(IF(A1639=\"\",\"\",VLOOKUP(A1639,Funcionários!$A$2:$F$299,2,0)),\"Funcionário não encontrado\")","v":""},null,null,null,null,null,"",{"$f":"IFERROR(IF(A1639=\"\",\"\",VLOOKUP(A1639,Funcionários!$A$2:$F$299,5,0)),\"\")","v":""},""]
[null,{"$f":"IFERROR(IF(A1640=\"\",\"\",VLOOKUP(A1640,Funcionários!$A$2:$F$299,2,0)),\"Funcionário não encontrado\")","v":""},null,null,null,null,null,"",{"$f":"IFERROR(IF(A1640=\"\",\"\",VLOOKUP(A1640,Funcionários!$A$2:$F$299,5,0)),\"\")","v":""},""]
[null,{"$f":"IFERROR(IF(A1641=\"\",\"\",VLOOKUP(A1641,Funcionários!$A$2:$F$299,2,0)),\"Funcionário não encontrado\")","v":""},null,null,null,null,null,"",{"$f":"IFERROR(IF(A1641=\"\",\"\",VLOOKUP(A1641,Funcionários!$A$2:$F$299,5,0)),\"\")","v":""},""]
[null,{"$f":"IFERROR(IF(A1642=\"\",\"\",VLOOKUP(A1642,Funcionários!$A$2:$F$299,2,0)),\"Funcionário não encontrado\")","v":""},null,null,null,null,null,"",{"$f":"IFERROR(IF(A1642=\"\",\"\",VLOOKUP(A1642,Funcionários!$A$2:$F$299,5,0)),\"\")","v":""},""]
[null,{"$f":"IFERROR(IF(A1643=\"\",\"\",VLOOKUP(A1643,Funcionários!$A$2:$F$299,2,0)),\"Funcionário não encontrado\")","v":""},null,null,null,null,null,"",{"$f":"IFERROR(IF(A1643=\"\",\"\",VLOOKUP(A1643,Funcionários!$A$2:$F$299,5,0)),\"\")","v":""},""]
[null,{"$f":"IFERROR(IF(A1644=\"\",\"\",VLOOKUP(A1644,Funcionários!$A$2:$F$299,2,0)),\"Funcionário não encontrado\")","v":""},null,null,null,null,null,"",{"$f":"IFERROR(IF(A1644=\"\",\"\",VLOOKUP(A1644,Funcionários!$A$2:$F$299,5,0)),\"\")","v":""},""]
[null,{"$f":"IFERROR(IF(A1645=\"\",\"\",VLOOKUP(A1645,Funcionários!$A$2:$F$299,2,0)),\"Funcionário não encontrado\")","v":""},null,null,null,null,null,"",{"$f":"IFERROR(IF(A1645=\"\",\"\",VLOOKUP(A1645,Funcionários!$A$2:$F$299,5,0)),\"\")","v":""},""]
[null,{"$f":"IFERROR(IF(A1646=\"\",\"\",VLOOKUP(A1646,Funcionários!$A$2:$F$299,2,0)),\"Funcionário não encontrado\")","v":""},null,null,null,null,null,"",{"$f":"IFERROR(IF(A1646=\"\",\"\",VLOOKUP(A1646,Funcionários!$A$2:$F$299,5,0)),\"\")","v":""},""]
[null,{"$f":"IFERROR(IF(A1647=\"\",\"\",VLOOKUP(A1647,Funcionários!$A$2:$F$299,2,0)),\"Funcionário não encontrado\")","v":""},null,null,null,null,null,"",{"$f":"IFERROR(IF(A1647=\"\",\"\",VLOOKUP(A1647,Funcionários!$A$2:$F$299,5,0)),\"\")","v":""},""]
[null,{"$f":"IFERROR(IF(A1648=\"\",\"\",VLOOKUP(A1648,Funcionários!$A$2:$F$299,2,0)),\"Funcionário não encontrado\")","v":""},null,null,null,null,null,"",{"$f":"IFERROR(IF(A1648=\"\",\"\",VLOOKUP(A1648,Funcionários!$A$2:$F$299,5,0)),\"\")","v":""},""]
[null,{"$f":"IFERROR(IF(A1649=\"\",\"\",VLOOKUP(A1649,Funcionários!$A$2:$F$299,2,0)),\"Funcionário não encontrado\")","v":""},null,null,null,null,null,"",{"$f":"IFERROR(IF(A1649=\"\",\"\",VLOOKUP(A1649,Funcionários!$A$2:$F$299,5,0)),\"\")","v":""},""]
[null,{"$f":"IFERROR(IF(A1650=\"\",\"\",VLOOKUP(A1650,Funcionários!$A$2:$F$299,2,0)),\"Funcionário não encontrado\")","v":""},null,null,null,null,null,"",{"$f":"IFERROR(IF(A1650=\"\",\"\",VLOOKUP(A1650,Funcionários!$A$2:$F$299,5,0)),\"\")","v":""},""]
[null,{"$f":"IFERROR(IF(A1651=\"\",\"\",VLOOKUP(A1651,Funcionários!$A$2:$F$299,2,0)),\"Funcionário não encontrado\")","v":""},null,null,null,null,null,"",{"$f":"IFERROR(IF(A1651=\"\",\"\",VLOOKUP(A1651,Funcionários!$A$2:$F$299,5,0)),\"\")","v":""},""]
[null,{"$f":"IFERROR(IF(A1652=\"\",\"\",VLOOKUP(A1652,Funcionários!$A$2:$F$299,2,0)),\"Funcionário não encontrado\")","v":""},null,null,null,null,null,"",{"$f":"IFERROR(IF(A1652=\"\",\"\",VLOOKUP(A1652,Funcionários!$A$2:$F$299,5,0)),\"\")","v":""},""]
[null,{"$f":"IFERROR(IF(A1653=\"\",\"\",VLOOKUP(A1653,Funcionários!$A$2:$F$299,2,0)),\"Funcionário não encontrado\")","v":""},null,null,null,null,null,"",{"$f":"IFERROR(IF(A1653=\"\",\"\",VLOOKUP(A1653,Funcionários!$A$2:$F$299,5,0)),\"\")","v":""},""]
[null,{"$f":"IFERROR(IF(A1654=\"\",\"\",VLOOKUP(A1654,Funcionários!$A$2:$F$299,2,0)),\"Funcionário não encontrado\")","v":""},null,null,null,null,null,"",{"$f":"IFERROR(IF(A1654=\"\",\"\",VLOOKUP(A1654,Funcionários!$A$2:$F$299,5,0)),\"\")","v":""},""]
[null,{"$f":"IFERROR(IF(A1655=\"\",\"\",VLOOKUP(A1655,Funcionários!$A$2:$F$299,2,0)),\"Funcionário não encontrado\")","v":""},null,null,null,null,null,"",{"$f":"IFERROR(IF(A1655=\"\",\"\",VLOOKUP(A1655,Funcionários!$A$2:$F$299,5,0)),\"\")","v":""},""]
[null,{"$f":"IFERROR(IF(A1656=\"\",\"\",VLOOKUP(A1656,Funcionários!$A$2:$F$299,2,0)),\"Funcionário não encontrado\")","v":""},null,null,null,null,null,"",{"$f":"IFERROR(IF(A1656=\"\",\"\",VLOOKUP(A1656,Funcionários!$A$2:$F$299,5,0)),\"\")","v":""},""]
[null,{"$f":"IFERROR(IF(A1657=\"\",\"\",VLOOKUP(A1657,Funcionários!$A$2:$F$299,2,0)),\"Funcionário não encontrado\")","v":""},null,null,null,null,null,"",{"$f":"IFERROR(IF(A1657=\"\",\"\",VLOOKUP(A1657,Funcionários!$A$2:$F$299,5,0)),\"\")","v":""},""]
[null,{"$f":"IFERROR(IF(A1658=\"\",\"\",VLOOKUP(A1658,Funcionários!$A$2:$F$299,2,0)),\"Funcionário não encontrado\")","v":""},null,null,null,null,null,"",{"$f":"IFERROR(IF(A1658=\"\",\"\",VLOOKUP(A1658,Funcionários!$A$2:$F$299,5,0)),\"\")","v":""},""]
[null,{"$f":"IFERROR(IF(A1659=\"\",\"\",VLOOKUP(A1659,Funcionários!$A$2:$F$299,2,0)),\"Funcionário não encontrado\")","v":""},null,null,null,null,null,"",{"$f":"IFERROR(IF(A1659=\"\",\"\",VLOOKUP(A1659,Funcionários!$A$2:$F$299,5,0)),\"\")","v":""},""]
[null,{"$f":"IFERROR(IF(A1660=\"\",\"\",VLOOKUP(A1660,Funcionários!$A$2:$F$299,2,0)),\"Funcionário não encontrado\")","v":""},null,null,null,null,null,"",{"$f":"IFERROR(IF(A1660=\"\",\"\",VLOOKUP(A1660,Funcionários!$A$2:$F$299,5,0)),\"\")","v":""},""]
[null,{"$f":"IFERROR(IF(A1661=\"\",\"\",VLOOKUP(A1661,Funcionários!$A$2:$F$299,2,0)),\"Funcionário não encontrado\")","v":""},null,null,null,null,null,"",{"$f":"IFERROR(IF(A1661=\"\",\"\",VLOOKUP(A1661,Funcionários!$A$2:$F$299,5,0)),\"\")","v":""},""]
[null,{"$f":"IFERROR(IF(A1662=\"\",\"\",VLOOKUP(A1662,Funcionários!$A$2:$F$299,2,0)),\"Funcionário não encontrado\")","v":""},null,null,null,null,null,"",{"$f":"IFERROR(IF(A1662=\"\",\"\",VLOOKUP(A1662,Funcionários!$A$2:$F$299,5,0)),\"\")","v":""},""]
[null,{"$f":"IFERROR(IF(A1663=\"\",\"\",VLOOKUP(A1663,Funcionários!$A$2:$F$299,2,0)),\"Funcionário não encontrado\")","v":""},null,null,null,null,null,"",{"$f":"IFERROR(IF(A1663=\"\",\"\",VLOOKUP(A1663,Funcionários!$A$2:$F$299,5,0)),\"\")","v":""},""]
[null,{"$f":"IFERROR(IF(A1664=\"\",\"\",VLOOKUP(A1664,Funcionários!$A$2:$F$299,2,0)),\"Funcionário não encontrado\")","v":""},null,null,null,null,null,"",{"$f":"IFERROR(IF(A1664=\"\",\"\",VLOOKUP(A1664,Funcionários!$A$2:$F$299,5,0)),\"\")","v":""},""]
[null,{"$f":"IFERROR(IF(A1665=\"\",\"\",VLOOKUP(A1665,Funcionários!$A$2:$F$299,2,0)),\"Funcionário não encontrado\")","v":""},null,null,null,null,null,"",{"$f":"IFERROR(IF(A1665=\"\",\"\",VLOOKUP(A1665,Funcionários!$A$2:$F$299,5,0)),\"\")","v":""},""]
[null,{"$f":"IFERROR(IF(A1666=\"\",\"\",VLOOKUP(A1666,Funcionários!$A$2:$F$299,2,0)),\"Funcionário não encontrado\")","v":""},null,null,null,null,null,"",{"$f":"IFERROR(IF(A1666=\"\",\"\",VLOOKUP(A1666,Funcionários!$A$2:$F$299,5,0)),\"\")","v":""},""]
[null,{"$f":"IFERROR(IF(A1667=\"\",\"\",VLOOKUP(A1667,Funcionários!$A$2:$F$299,2,0)),\"Funcionário não encontrado\")","v":""},null,null,null,null,null,{"$f":"IF(OR(D1667=\"\",E1667=\"\",F1667=\"\"),\"\",MOD((E1667-D1667)+(G1667-F1667),1))","v":""},{"$f":"IFERROR(IF(A1667=\"\",\"\",VLOOKUP(A1667,Funcionários!$A$2:$F$299,5,0)),\"\")","v":""},{"$f":"IF(H1667=\"\",\"\",H1667-I1667)","v":""}]
[null,{"$f":"IFERROR(IF(A1668=\"\",\"\",VLOOKUP(A1668,Funcionários!$A$2:$F$299,2,0)),\"Funcionário não encontrado\")","v":""},null,null,null,null,null,"",{"$f":"IFERROR(IF(A1668=\"\",\"\",VLOOKUP(A1668,Funcionários!$A$2:$F$299,5,0)),\"\")","v":""},""]
[null,{"$f":"IFERROR(IF(A1669=\"\",\"\",VLOOKUP(A1669,Funcionários!$A$2:$F$299,2,0)),\"Funcionário não encontrado\")","v":""},null,null,null,null,null,"",{"$f":"IFERROR(IF(A1669=\"\",\"\",VLOOKUP(A1669,Funcionários!$A$2:$F$299,5,0)),\"\")","v":""},""]
[null,{"$f":"IFERROR(IF(A1670=\"\",\"\",VLOOKUP(A1670,Funcionários!$A$2:$F$299,2,0)),\"Funcionário não encontrado\")","v":""},null,null,null,null,null,"",{"$f":"IFERROR(IF(A1670=\"\",\"\",VLOOKUP(A1670,Funcionários!$A$2:$F$299,5,0)),\"\")","v":""},""]
[null,{"$f":"IFERROR(IF(A1671=\"\",\"\",VLOOKUP(A1671,Funcionários!$A$2:$F$299,2,0)),\"Funcionário não encontrado\")","v":""},null,null,null,null,null,"",{"$f":"IFERROR(IF(A1671=\"\",\"\",VLOOKUP(A1671,Funcionários!$A$2:$F$299,5,0)),\"\")","v":""},""]
[null,{"$f":"IFERROR(IF(A1672=\"\",\"\",VLOOKUP(A1672,Funcionários!$A$2:$F$299,2,0)),\"Funcionário não encontrado\")","v":""},null,null,null,null,null,"",{"$f":"IFERROR(IF(A1672=\"\",\"\",VLOOKUP(A1672,Funcionários!$A$2:$F$299,5,0)),\"\")","v":""},""]
[null,{"$f":"IFERROR(IF(A1673=\"\",\"\",VLOOKUP(A1673,Funcionários!$A$2:$F$299,2,0)),\"Funcionário não encontrado\")","v":""},null,null,null,null,null,"",{"$f":"IFERROR(IF(A1673=\"\",\"\",VLOOKUP(A1673,Funcionários!$A$2:$F$299,5,0)),\"\")","v":""},""]
[null,{"$f":"IFERROR(IF(A1674=\"\",\"\",VLOOKUP(A1674,Funcionários!$A$2:$F$299,2,0)),\"Funcionário não encontrado\")","v":""},null,null,null,null,null,"",{"$f":"IFERROR(IF(A1674=\"\",\"\",VLOOKUP(A1674,Funcionários!$A$2:$F$299,5,0)),\"\")","v":""},""]
[null,{"$f":"IFERROR(IF(A1675=\"\",\"\",VLOOKUP(A1675,Funcionários!$A$2:$F$299,2,0)),\"Funcionário não encontrado\")","v":""},null,null,null,null,null,"",{"$f":"IFERROR(IF(A1675=\"\",\"\",VLOOKUP(A1675,Funcionários!$A$2:$F$299,5,0)),\"\")","v":""},""]
[null,{"$f":"IFERROR(IF(A1676=\"\",\"\",VLOOKUP(A1676,Funcionários!$A$2:$F$299,2,0)),\"Funcionário não encontrado\")","v":""},null,null,null,null,null,"",{"$f":"IFERROR(IF(A1676=\"\",\"\",VLOOKUP(A1676,Funcionários!$A$2:$F$299,5,0)),\"\")","v":""},""]
[null,{"$f":"IFERROR(IF(A1677=\"\",\"\",VLOOKUP(A1677,Funcionários!$A$2:$F$299,2,0)),\"Funcionário não encontrado\")","v":""},null,null,null,null,null,"",{"$f":"IFERROR(IF(A1677=\"\",\"\",VLOOKUP(A1677,Funcionários!$A$2:$F$299,5,0)),\"\")","v":""},""]
[null,{"$f":"IFERROR(IF(A1678=\"\",\"\",VLOOKUP(A1678,Funcionários!$A$2:$F$299,2,0)),\"Funcionário não encontrado\")","v":""},null,null,null,null,null,"",{"$f":"IFERROR(IF(A1678=\"\",\"\",VLOOKUP(A1678,Funcionários!$A$2:$F$299,5,0)),\"\")","v":""},""]
[null,{"$f":"IFERROR(IF(A1679=\"\",\"\",VLOOKUP(A1679,Funcionários!$A$2:$F$299,2,0)),\"Funcionário não encontrado\")","v":""},null,null,null,null,null,"",{"$f":"IFERROR(IF(A1679=\"\",\"\",VLOOKUP(A1679,Funcionários!$A$2:$F$299,5,0)),\"\")","v":""},""]
[null,{"$f":"IFERROR(IF(A1680=\"\",\"\",VLOOKUP(A1680,Funcionários!$A$2:$F$299,2,0)),\"Funcionário não encontrado\")","v":""},null,null,null,null,null,"",{"$f":"IFERROR(IF(A1680=\"\",\"\",VLOOKUP(A1680,Funcionários!$A$2:$F$299,5,0)),\"\")","v":""},""]
[null,{"$f":"IFERROR(IF(A1681=\"\",\"\",VLOOKUP(A1681,Funcionários!$A$2:$F$299,2,0)),\"Funcionário não encontrado\")","v":""},null,null,null,null,null,"",{"$f":"IFERROR(IF(A1681=\"\",\"\",VLOOKUP(A1681,Funcionários!$A$2:$F$299,5,0)),\"\")","v":""},""]
[null,{"$f":"IFERROR(IF(A1682=\"\",\"\",VLOOKUP(A1682,Funcionários!$A$2:$F$299,2,0)),\"Funcionário não encontrado\")","v":""},null,null,null,null,null,"",{"$f":"IFERROR(IF(A1682=\"\",\"\",VLOOKUP(A1682,Funcionários!$A$2:$F$299,5,0)),\"\")","v":""},""]
[null,{"$f":"IFERROR(IF(A1683=\"\",\"\",VLOOKUP(A1683,Funcionários!$A$2:$F$299,2,0)),\"Funcionário não encontrado\")","v":""},null,null,null,null,null,"",{"$f":"IFERROR(IF(A1683=\"\",\"\",VLOOKUP(A1683,Funcionários!$A$2:$F$299,5,0)),\"\")","v":""},""]
[null,{"$f":"IFERROR(IF(A1684=\"\",\"\",VLOOKUP(A1684,Funcionários!$A$2:$F$299,2,0)),\"Funcionário não encontrado\")","v":""},null,null,null,null,null,"",{"$f":"IFERROR(IF(A1684=\"\",\"\",VLOOKUP(A1684,Funcionários!$A$2:$F$299,5,0)),\"\")","v":""},""]
[null,{"$f":"IFERROR(IF(A1685=\"\",\"\",VLOOKUP(A1685,Funcionários!$A$2:$F$299,2,0)),\"Funcionário não encontrado\")","v":""},null,null,null,null,null,"",{"$f":"IFERROR(IF(A1685=\"\",\"\",VLOOKUP(A1685,Funcionários!$A$2:$F$299,5,0)),\"\")","v":""},""]
[null,{"$f":"IFERROR(IF(A1686=\"\",\"\",VLOOKUP(A1686,Funcionários!$A$2:$F$299,2,0)),\"Funcionário não encontrado\")","v":""},null,null,null,null,null,"",{"$f":"IFERROR(IF(A1686=\"\",\"\",VLOOKUP(A1686,Funcionários!$A$2:$F$299,5,0)),\"\")","v":""},""]
[null,{"$f":"IFERROR(IF(A1687=\"\",\"\",VLOOKUP(A1687,Funcionários!$A$2:$F$299,2,0)),\"Funcionário não encontrado\")","v":""},null,null,null,null,null,"",{"$f":"IFERROR(IF(A1687=\"\",\"\",VLOOKUP(A1687,Funcionários!$A$2:$F$299,5,0)),\"\")","v":""},""]
[null,{"$f":"IFERROR(IF(A1688=\"\",\"\",VLOOKUP(A1688,Funcionários!$A$2:$F$299,2,0)),\"Funcionário não encontrado\")","v":""},null,null,null,null,null,"",{"$f":"IFERROR(IF(A1688=\"\",\"\",VLOOKUP(A1688,Funcionários!$A$2:$F$299,5,0)),\"\")","v":""},""]
[null,{"$f":"IFERROR(IF(A1689=\"\",\"\",VLOOKUP(A1689,Funcionários!$A$2:$F$299,2,0)),\"Funcionário não encontrado\")","v":""},null,null,null,null,null,"",{"$f":"IFERROR(IF(A1689=\"\",\"\",VLOOKUP(A1689,Funcionários!$A$2:$F$299,5,0)),\"\")","v":""},""]
[null,{"$f":"IFERROR(IF(A1690=\"\",\"\",VLOOKUP(A1690,Funcionários!$A$2:$F$299,2,0)),\"Funcionário não encontrado\")","v":""},null,null,null,null,null,"",{"$f":"IFERROR(IF(A1690=\"\",\"\",VLOOKUP(A1690,Funcionários!$A$2:$F$299,5,0)),\"\")","v":""},""]
[null,{"$f":"IFERROR(IF(A1691=\"\",\"\",VLOOKUP(A1691,Funcionários!$A$2:$F$299,2,0)),\"Funcionário não encontrado\")","v":""},null,null,null,null,null,"",{"$f":"IFERROR(IF(A1691=\"\",\"\",VLOOKUP(A1691,Funcionários!$A$2:$F$299,5,0)),\"\")","v":""},""]
[null,{"$f":"IFERROR(IF(A1692=\"\",\"\",VLOOKUP(A1692,Funcionários!$A$2:$F$299,2,0)),\"Funcionário não encontrado\")","v":""},null,null,null,null,null,"",{"$f":"IFERROR(IF(A1692=\"\",\"\",VLOOKUP(A1692,Funcionários!$A$2:$F$299,5,0)),\"\")","v":""},""]
[null,{"$f":"IFERROR(IF(A1693=\"\",\"\",VLOOKUP(A1693,Funcionários!$A$2:$F$299,2,0)),\"Funcionário não encontrado\")","v":""},null,null,null,null,null,"",{"$f":"IFERROR(IF(A1693=\"\",\"\",VLOOKUP(A1693,Funcionários!$A$2:$F$299,5,0)),\"\")","v":""},""]
[null,{"$f":"IFERROR(IF(A1694=\"\",\"\",VLOOKUP(A1694,Funcionários!$A$2:$F$299,2,0)),\"Funcionário não encontrado\")","v":""},null,null,null,null,null,"",{"$f":"IFERROR(IF(A1694=\"\",\"\",VLOOKUP(A1694,Funcionários!$A$2:$F$299,5,0)),\"\")","v":""},""]
[null,{"$f":"IFERROR(IF(A1695=\"\",\"\",VLOOKUP(A1695,Funcionários!$A$2:$F$299,2,0)),\"Funcionário não encontrado\")","v":""},null,null,null,null,null,"",{"$f":"IFERROR(IF(A1695=\"\",\"\",VLOOKUP(A1695,Funcionários!$A$2:$F$299,5,0)),\"\")","v":""},""]
[null,{"$f":"IFERROR(IF(A1696=\"\",\"\",VLOOKUP(A1696,Funcionários!$A$2:$F$299,2,0)),\"Funcionário não encontrado\")","v":""},null,null,null,null,null,"",{"$f":"IFERROR(IF(A1696=\"\",\"\",VLOOKUP(A1696,Funcionários!$A$2:$F$299,5,0)),\"\")","v":""},""]
[null,{"$f":"IFERROR(IF(A1697=\"\",\"\",VLOOKUP(A1697,Funcionários!$A$2:$F$299,2,0)),\"Funcionário não encontrado\")","v":""},null,null,null,null,null,"",{"$f":"IFERROR(IF(A1697=\"\",\"\",VLOOKUP(A1697,Funcionários!$A$2:$F$299,5,0)),\"\")","v":""},""]
[null,{"$f":"IFERROR(IF(A1698=\"\",\"\",VLOOKUP(A1698,Funcionários!$A$2:$F$299,2,0)),\"Funcionário não encontrado\")","v":""},null,null,null,null,null,"",{"$f":"IFERROR(IF(A1698=\"\",\"\",VLOOKUP(A1698,Funcionários!$A$2:$F$299,5,0)),\"\")","v":""},""]
[null,{"$f":"IFERROR(IF(A1699=\"\",\"\",VLOOKUP(A1699,Funcionários!$A$2:$F$299,2,0)),\"Funcionário não encontrado\")","v":""},null,null,null,null,null,"",{"$f":"IFERROR(IF(A1699=\"\",\"\",VLOOKUP(A1699,Funcionários!$A$2:$F$299,5,0)),\"\")","v":""},""]
[null,{"$f":"IFERROR(IF(A1700=\"\",\"\",VLOOKUP(A1700,Funcionários!$A$2:$F$299,2,0)),\"Funcionário não encontrado\")","v":""},null,null,null,null,null,"",{"$f":"IFERROR(IF(A1700=\"\",\"\",VLOOKUP(A1700,Funcionários!$A$2:$F$299,5,0)),\"\")","v":""},""]
[null,{"$f":"IFERROR(IF(A1701=\"\",\"\",VLOOKUP(A1701,Funcionários!$A$2:$F$299,2,0)),\"Funcionário não encontrado\")","v":""},null,null,null,null,null,"",{"$f":"IFERROR(IF(A1701=\"\",\"\",VLOOKUP(A1701,Funcionários!$A$2:$F$299,5,0)),\"\")","v":""},""]
[null,{"$f":"IFERROR(IF(A1702=\"\",\"\",VLOOKUP(A1702,Funcionários!$A$2:$F$299,2,0)),\"Funcionário não encontrado\")","v":""},null,null,null,null,null,"",{"$f":"IFERROR(IF(A1702=\"\",\"\",VLOOKUP(A1702,Funcionários!$A$2:$F$299,5,0)),\"\")","v":""},""]
[null,{"$f":"IFERROR(IF(A1703=\"\",\"\",VLOOKUP(A1703,Funcionários!$A$2:$F$299,2,0)),\"Funcionário não encontrado\")","v":""},null,null,null,null,null,"",{"$f":"IFERROR(IF(A1703=\"\",\"\",VLOOKUP(A1703,Funcionários!$A$2:$F$299,5,0)),\"\")","v":""},""]
[null,{"$f":"IFERROR(IF(A1704=\"\",\"\",VLOOKUP(A1704,Funcionários!$A$2:$F$299,2,0)),\"Funcionário não encontrado\")","v":""},null,null,null,null,null,"",{"$f":"IFERROR(IF(A1704=\"\",\"\",VLOOKUP(A1704,Funcionários!$A$2:$F$299,5,0)),\"\")","v":""},""]
[null,{"$f":"IFERROR(IF(A1705=\"\",\"\",VLOOKUP(A1705,Funcionários!$A$2:$F$299,2,0)),\"Funcionário não encontrado\")","v":""},null,null,null,null,null,"",{"$f":"IFERROR(IF(A1705=\"\",\"\",VLOOKUP(A1705,Funcionários!$A$2:$F$299,5,0)),\"\")","v":""},""]
[null,{"$f":"IFERROR(IF(A1706=\"\",\"\",VLOOKUP(A1706,Funcionários!$A$2:$F$299,2,0)),\"Funcionário não encontrado\")","v":""},null,null,null,null,null,"",{"$f":"IFERROR(IF(A1706=\"\",\"\",VLOOKUP(A1706,Funcionários!$A$2:$F$299,5,0)),\"\")","v":""},""]
[null,{"$f":"IFERROR(IF(A1707=\"\",\"\",VLOOKUP(A1707,Funcionários!$A$2:$F$299,2,0)),\"Funcionário não encontrado\")","v":""},null,null,null,null,null,"",{"$f":"IFERROR(IF(A1707=\"\",\"\",VLOOKUP(A1707,Funcionários!$A$2:$F$299,5,0)),\"\")","v":""},""]
[null,{"$f":"IFERROR(IF(A1708=\"\",\"\",VLOOKUP(A1708,Funcionários!$A$2:$F$299,2,0)),\"Funcionário não encontrado\")","v":""},null,null,null,null,null,"",{"$f":"IFERROR(IF(A1708=\"\",\"\",VLOOKUP(A1708,Funcionários!$A$2:$F$299,5,0)),\"\")","v":""},""]
[null,{"$f":"IFERROR(IF(A1709=\"\",\"\",VLOOKUP(A1709,Funcionários!$A$2:$F$299,2,0)),\"Funcionário não encontrado\")","v":""},null,null,null,null,null,"",{"$f":"IFERROR(IF(A1709=\"\",\"\",VLOOKUP(A1709,Funcionários!$A$2:$F$299,5,0)),\"\")","v":""},""]
[null,{"$f":"IFERROR(IF(A1710=\"\",\"\",VLOOKUP(A1710,Funcionários!$A$2:$F$299,2,0)),\"Funcionário não encontrado\")","v":""},null,null,null,null,null,"",{"$f":"IFERROR(IF(A1710=\"\",\"\",VLOOKUP(A1710,Funcionários!$A$2:$F$299,5,0)),\"\")","v":""},""]
[null,{"$f":"IFERROR(IF(A1711=\"\",\"\",VLOOKUP(A1711,Funcionários!$A$2:$F$299,2,0)),\"Funcionário não encontrado\")","v":""},null,null,null,null,null,"",{"$f":"IFERROR(IF(A1711=\"\",\"\",VLOOKUP(A1711,Funcionários!$A$2:$F$299,5,0)),\"\")","v":""},""]
[null,{"$f":"IFERROR(IF(A1712=\"\",\"\",VLOOKUP(A1712,Funcionários!$A$2:$F$299,2,0)),\"Funcionário não encontrado\")","v":""},null,null,null,null,null,"",{"$f":"IFERROR(IF(A1712=\"\",\"\",VLOOKUP(A1712,Funcionários!$A$2:$F$299,5,0)),\"\")","v":""},""]
[null,{"$f":"IFERROR(IF(A1713=\"\",\"\",VLOOKUP(A1713,Funcionários!$A$2:$F$299,2,0)),\"Funcionário não encontrado\")","v":""},null,null,null,null,null,"",{"$f":"IFERROR(IF(A1713=\"\",\"\",VLOOKUP(A1713,Funcionários!$A$2:$F$299,5,0)),\"\")","v":""},""]
[null,{"$f":"IFERROR(IF(A1714=\"\",\"\",VLOOKUP(A1714,Funcionários!$A$2:$F$299,2,0)),\"Funcionário não encontrado\")","v":""},null,null,null,null,null,"",{"$f":"IFERROR(IF(A1714=\"\",\"\",VLOOKUP(A1714,Funcionários!$A$2:$F$299,5,0)),\"\")","v":""},""]
[null,{"$f":"IFERROR(IF(A1715=\"\",\"\",VLOOKUP(A1715,Funcionários!$A$2:$F$299,2,0)),\"Funcionário não encontrado\")","v":""},null,null,null,null,null,"",{"$f":"IFERROR(IF(A1715=\"\",\"\",VLOOKUP(A1715,Funcionários!$A$2:$F$299,5,0)),\"\")","v":""},""]
[null,{"$f":"IFERROR(IF(A1716=\"\",\"\",VLOOKUP(A1716,Funcionários!$A$2:$F$299,2,0)),\"Funcionário não encontrado\")","v":""},null,null,null,null,null,"",{"$f":"IFERROR(IF(A1716=\"\",\"\",VLOOKUP(A1716,Funcionários!$A$2:$F$299,5,0)),\"\")","v":""},""]
[null,{"$f":"IFERROR(IF(A1717=\"\",\"\",VLOOKUP(A1717,Funcionários!$A$2:$F$299,2,0)),\"Funcionário não encontrado\")","v":""},null,null,null,null,null,"",{"$f":"IFERROR(IF(A1717=\"\",\"\",VLOOKUP(A1717,Funcionários!$A$2:$F$299,5,0)),\"\")","v":""},""]
[null,{"$f":"IFERROR(IF(A1718=\"\",\"\",VLOOKUP(A1718,Funcionários!$A$2:$F$299,2,0)),\"Funcionário não encontrado\")","v":""},null,null,null,null,null,"",{"$f":"IFERROR(IF(A1718=\"\",\"\",VLOOKUP(A1718,Funcionários!$A$2:$F$299,5,0)),\"\")","v":""},""]
[null,{"$f":"IFERROR(IF(A1719=\"\",\"\",VLOOKUP(A1719,Funcionários!$A$2:$F$299,2,0)),\"Funcionário não encontrado\")","v":""},null,null,null,null,null,"",{"$f":"IFERROR(IF(A1719=\"\",\"\",VLOOKUP(A1719,Funcionários!$A$2:$F$299,5,0)),\"\")","v":""},""]
[null,{"$f":"IFERROR(IF(A1720=\"\",\"\",VLOOKUP(A1720,Funcionários!$A$2:$F$299,2,0)),\"Funcionário não encontrado\")","v":""},null,null,null,null,null,"",{"$f":"IFERROR(IF(A1720=\"\",\"\",VLOOKUP(A1720,Funcionários!$A$2:$F$299,5,0)),\"\")","v":""},""]
[null,{"$f":"IFERROR(IF(A1721=\"\",\"\",VLOOKUP(A1721,Funcionários!$A$2:$F$299,2,0)),\"Funcionário não encontrado\")","v":""},null,null,null,null,null,"",{"$f":"IFERROR(IF(A1721=\"\",\"\",VLOOKUP(A1721,Funcionários!$A$2:$F$299,5,0)),\"\")","v":""},""]
[null,{"$f":"IFERROR(IF(A1722=\"\",\"\",VLOOKUP(A1722,Funcionários!$A$2:$F$299,2,0)),\"Funcionário não encontrado\")","v":""},null,null,null,null,null,"",{"$f":"IFERROR(IF(A1722=\"\",\"\",VLOOKUP(A1722,Funcionários!$A$2:$F$299,5,0)),\"\")","v":""},""]
[null,{"$f":"IFERROR(IF(A1723=\"\",\"\",VLOOKUP(A1723,Funcionários!$A$2:$F$299,2,0)),\"Funcionário não encontrado\")","v":""},null,null,null,null,null,"",{"$f":"IFERROR(IF(A1723=\"\",\"\",VLOOKUP(A1723,Funcionários!$A$2:$F$299,5,0)),\"\")","v":""},""]
[null,{"$f":"IFERROR(IF(A1724=\"\",\"\",VLOOKUP(A1724,Funcionários!$A$2:$F$299,2,0)),\"Funcionário não encontrado\")","v":""},null,null,null,null,null,"",{"$f":"IFERROR(IF(A1724=\"\",\"\",VLOOKUP(A1724,Funcionários!$A$2:$F$299,5,0)),\"\")","v":""},""]
[null,{"$f":"IFERROR(IF(A1725=\"\",\"\",VLOOKUP(A1725,Funcionários!$A$2:$F$299,2,0)),\"Funcionário não encontrado\")","v":""},null,null,null,null,null,"",{"$f":"IFERROR(IF(A1725=\"\",\"\",VLOOKUP(A1725,Funcionários!$A$2:$F$299,5,0)),\"\")","v":""},""]
[null,{"$f":"IFERROR(IF(A1726=\"\",\"\",VLOOKUP(A1726,Funcionários!$A$2:$F$299,2,0)),\"Funcionário não encontrado\")","v":""},null,null,null,null,null,"",{"$f":"IFERROR(IF(A1726=\"\",\"\",VLOOKUP(A1726,Funcionários!$A$2:$F$299,5,0)),\"\")","v":""},""]
[null,{"$f":"IFERROR(IF(A1727=\"\",\"\",VLOOKUP(A1727,Funcionários!$A$2:$F$299,2,0)),\"Funcionário não encontrado\")","v":""},null,null,null,null,null,"",{"$f":"IFERROR(IF(A1727=\"\",\"\",VLOOKUP(A1727,Funcionários!$A$2:$F$299,5,0)),\"\")","v":""},""]
[null,{"$f":"IFERROR(IF(A1728=\"\",\"\",VLOOKUP(A1728,Funcionários!$A$2:$F$299,2,0)),\"Funcionário não encontrado\")","v":""},null,null,null,null,null,"",{"$f":"IFERROR(IF(A1728=\"\",\"\",VLOOKUP(A1728,Funcionários!$A$2:$F$299,5,0)),\"\")","v":""},""]
[null,{"$f":"IFERROR(IF(A1729=\"\",\"\",VLOOKUP(A1729,Funcionários!$A$2:$F$299,2,0)),\"Funcionário não encontrado\")","v":""},null,null,null,null,null,"",{"$f":"IFERROR(IF(A1729=\"\",\"\",VLOOKUP(A1729,Funcionários!$A$2:$F$299,5,0)),\"\")","v":""},""]
[null,{"$f":"IFERROR(IF(A1730=\"\",\"\",VLOOKUP(A1730,Funcionários!$A$2:$F$299,2,0)),\"Funcionário não encontrado\")","v":""},null,null,null,null,null,"",{"$f":"IFERROR(IF(A1730=\"\",\"\",VLOOKUP(A1730,Funcionários!$A$2:$F$299,5,0)),\"\")","v":""},""]
[null,{"$f":"IFERROR(IF(A1731=\"\",\"\",VLOOKUP(A1731,Funcionários!$A$2:$F$299,2,0)),\"Funcionário não encontrado\")","v":""},null,null,null,null,null,{"$f":"IF(OR(D1731=\"\",E1731=\"\",F1731=\"\"),\"\",MOD((E1731-D1731)+(G1731-F1731),1))","v":""},{"$f":"IFERROR(IF(A1731=\"\",\"\",VLOOKUP(A1731,Funcionários!$A$2:$F$299,5,0)),\"\")","v":""},{"$f":"IF(H1731=\"\",\"\",H1731-I1731)","v":""}]
[null,{"$f":"IFERROR(IF(A1732=\"\",\"\",VLOOKUP(A1732,Funcionários!$A$2:$F$299,2,0)),\"Funcionário não encontrado\")","v":""},null,null,null,null,null,"",{"$f":"IFERROR(IF(A1732=\"\",\"\",VLOOKUP(A1732,Funcionários!$A$2:$F$299,5,0)),\"\")","v":""},""]
[null,{"$f":"IFERROR(IF(A1733=\"\",\"\",VLOOKUP(A1733,Funcionários!$A$2:$F$299,2,0)),\"Funcionário não encontrado\")","v":""},null,null,null,null,null,"",{"$f":"IFERROR(IF(A1733=\"\",\"\",VLOOKUP(A1733,Funcionários!$A$2:$F$299,5,0)),\"\")","v":""},""]
[null,{"$f":"IFERROR(IF(A1734=\"\",\"\",VLOOKUP(A1734,Funcionários!$A$2:$F$299,2,0)),\"Funcionário não encontrado\")","v":""},null,null,null,null,null,"",{"$f":"IFERROR(IF(A1734=\"\",\"\",VLOOKUP(A1734,Funcionários!$A$2:$F$299,5,0)),\"\")","v":""},""]
[null,{"$f":"IFERROR(IF(A1735=\"\",\"\",VLOOKUP(A1735,Funcionários!$A$2:$F$299,2,0)),\"Funcionário não encontrado\")","v":""},null,null,null,null,null,"",{"$f":"IFERROR(IF(A1735=\"\",\"\",VLOOKUP(A1735,Funcionários!$A$2:$F$299,5,0)),\"\")","v":""},""]
[null,{"$f":"IFERROR(IF(A1736=\"\",\"\",VLOOKUP(A1736,Funcionários!$A$2:$F$299,2,0)),\"Funcionário não encontrado\")","v":""},null,null,null,null,null,"",{"$f":"IFERROR(IF(A1736=\"\",\"\",VLOOKUP(A1736,Funcionários!$A$2:$F$299,5,0)),\"\")","v":""},""]
[null,{"$f":"IFERROR(IF(A1737=\"\",\"\",VLOOKUP(A1737,Funcionários!$A$2:$F$299,2,0)),\"Funcionário não encontrado\")","v":""},null,null,null,null,null,"",{"$f":"IFERROR(IF(A1737=\"\",\"\",VLOOKUP(A1737,Funcionários!$A$2:$F$299,5,0)),\"\")","v":""},""]
[null,{"$f":"IFERROR(IF(A1738=\"\",\"\",VLOOKUP(A1738,Funcionários!$A$2:$F$299,2,0)),\"Funcionário não encontrado\")","v":""},null,null,null,null,null,"",{"$f":"IFERROR(IF(A1738=\"\",\"\",VLOOKUP(A1738,Funcionários!$A$2:$F$299,5,0)),\"\")","v":""},""]
[null,{"$f":"IFERROR(IF(A1739=\"\",\"\",VLOOKUP(A1739,Funcionários!$A$2:$F$299,2,0)),\"Funcionário não encontrado\")","v":""},null,null,null,null,null,"",{"$f":"IFERROR(IF(A1739=\"\",\"\",VLOOKUP(A1739,Funcionários!$A$2:$F$299,5,0)),\"\")","v":""},""]
[null,{"$f":"IFERROR(IF(A1740=\"\",\"\",VLOOKUP(A1740,Funcionários!$A$2:$F$299,2,0)),\"Funcionário não encontrado\")","v":""},null,null,null,null,null,"",{"$f":"IFERROR(IF(A1740=\"\",\"\",VLOOKUP(A1740,Funcionários!$A$2:$F$299,5,0)),\"\")","v":""},""]
[null,{"$f":"IFERROR(IF(A1741=\"\",\"\",VLOOKUP(A1741,Funcionários!$A$2:$F$299,2,0)),\"Funcionário não encontrado\")","v":""},null,null,null,null,null,"",{"$f":"IFERROR(IF(A1741=\"\",\"\",VLOOKUP(A1741,Funcionários!$A$2:$F$299,5,0)),\"\")","v":""},""]
[null,{"$f":"IFERROR(IF(A1742=\"\",\"\",VLOOKUP(A1742,Funcionários!$A$2:$F$299,2,0)),\"Funcionário não encontrado\")","v":""},null,null,null,null,null,"",{"$f":"IFERROR(IF(A1742=\"\",\"\",VLOOKUP(A1742,Funcionários!$A$2:$F$299,5,0)),\"\")","v":""},""]
[null,{"$f":"IFERROR(IF(A1743=\"\",\"\",VLOOKUP(A1743,Funcionários!$A$2:$F$299,2,0)),\"Funcionário não encontrado\")","v":""},null,null,null,null,null,"",{"$f":"IFERROR(IF(A1743=\"\",\"\",VLOOKUP(A1743,Funcionários!$A$2:$F$299,5,0)),\"\")","v":""},""]
[null,{"$f":"IFERROR(IF(A1744=\"\",\"\",VLOOKUP(A1744,Funcionários!$A$2:$F$299,2,0)),\"Funcionário não encontrado\")","v":""},null,null,null,null,null,"",{"$f":"IFERROR(IF(A1744=\"\",\"\",VLOOKUP(A1744,Funcionários!$A$2:$F$299,5,0)),\"\")","v":""},""]
[null,{"$f":"IFERROR(IF(A1745=\"\",\"\",VLOOKUP(A1745,Funcionários!$A$2:$F$299,2,0)),\"Funcionário não encontrado\")","v":""},null,null,null,null,null,"",{"$f":"IFERROR(IF(A1745=\"\",\"\",VLOOKUP(A1745,Funcionários!$A$2:$F$299,5,0)),\"\")","v":""},""]
[null,{"$f":"IFERROR(IF(A1746=\"\",\"\",VLOOKUP(A1746,Funcionários!$A$2:$F$299,2,0)),\"Funcionário não encontrado\")","v":""},null,null,null,null,null,"",{"$f":"IFERROR(IF(A1746=\"\",\"\",VLOOKUP(A1746,Funcionários!$A$2:$F$299,5,0)),\"\")","v":""},""]
[null,{"$f":"IFERROR(IF(A1747=\"\",\"\",VLOOKUP(A1747,Funcionários!$A$2:$F$299,2,0)),\"Funcionário não encontrado\")","v":""},null,null,null,null,null,"",{"$f":"IFERROR(IF(A1747=\"\",\"\",VLOOKUP(A1747,Funcionários!$A$2:$F$299,5,0)),\"\")","v":""},""]
[null,{"$f":"IFERROR(IF(A1748=\"\",\"\",VLOOKUP(A1748,Funcionários!$A$2:$F$299,2,0)),\"Funcionário não encontrado\")","v":""},null,null,null,null,null,"",{"$f":"IFERROR(IF(A1748=\"\",\"\",VLOOKUP(A1748,Funcionários!$A$2:$F$299,5,0)),\"\")","v":""},""]
[null,{"$f":"IFERROR(IF(A1749=\"\",\"\",VLOOKUP(A1749,Funcionários!$A$2:$F$299,2,0)),\"Funcionário não encontrado\")","v":""},null,null,null,null,null,"",{"$f":"IFERROR(IF(A1749=\"\",\"\",VLOOKUP(A1749,Funcionários!$A$2:$F$299,5,0)),\"\")","v":""},""]
[null,{"$f":"IFERROR(IF(A1750=\"\",\"\",VLOOKUP(A1750,Funcionários!$A$2:$F$299,2,0)),\"Funcionário não encontrado\")","v":""},null,null,null,null,null,"",{"$f":"IFERROR(IF(A1750=\"\",\"\",VLOOKUP(A1750,Funcionários!$A$2:$F$299,5,0)),\"\")","v":""},""]
[null,{"$f":"IFERROR(IF(A1751=\"\",\"\",VLOOKUP(A1751,Funcionários!$A$2:$F$299,2,0)),\"Funcionário não encontrado\")","v":""},null,null,null,null,null,"",{"$f":"IFERROR(IF(A1751=\"\",\"\",VLOOKUP(A1751,Funcionários!$A$2:$F$299,5,0)),\"\")","v":""},""]
[null,{"$f":"IFERROR(IF(A1752=\"\",\"\",VLOOKUP(A1752,Funcionários!$A$2:$F$299,2,0)),\"Funcionário não encontrado\")","v":""},null,null,null,null,null,"",{"$f":"IFERROR(IF(A1752=\"\",\"\",VLOOKUP(A1752,Funcionários!$A$2:$F$299,5,0)),\"\")","v":""},""]
[null,{"$f":"IFERROR(IF(A1753=\"\",\"\",VLOOKUP(A1753,Funcionários!$A$2:$F$299,2,0)),\"Funcionário não encontrado\")","v":""},null,null,null,null,null,"",{"$f":"IFERROR(IF(A1753=\"\",\"\",VLOOKUP(A1753,Funcionários!$A$2:$F$299,5,0)),\"\")","v":""},""]
[null,{"$f":"IFERROR(IF(A1754=\"\",\"\",VLOOKUP(A1754,Funcionários!$A$2:$F$299,2,0)),\"Funcionário não encontrado\")","v":""},null,null,null,null,null,"",{"$f":"IFERROR(IF(A1754=\"\",\"\",VLOOKUP(A1754,Funcionários!$A$2:$F$299,5,0)),\"\")","v":""},""]
[null,{"$f":"IFERROR(IF(A1755=\"\",\"\",VLOOKUP(A1755,Funcionários!$A$2:$F$299,2,0)),\"Funcionário não encontrado\")","v":""},null,null,null,null,null,"",{"$f":"IFERROR(IF(A1755=\"\",\"\",VLOOKUP(A1755,Funcionários!$A$2:$F$299,5,0)),\"\")","v":""},""]
[null,{"$f":"IFERROR(IF(A1756=\"\",\"\",VLOOKUP(A1756,Funcionários!$A$2:$F$299,2,0)),\"Funcionário não encontrado\")","v":""},null,null,null,null,null,"",{"$f":"IFERROR(IF(A1756=\"\",\"\",VLOOKUP(A1756,Funcionários!$A$2:$F$299,5,0)),\"\")","v":""},""]
[null,{"$f":"IFERROR(IF(A1757=\"\",\"\",VLOOKUP(A1757,Funcionários!$A$2:$F$299,2,0)),\"Funcionário não encontrado\")","v":""},null,null,null,null,null,"",{"$f":"IFERROR(IF(A1757=\"\",\"\",VLOOKUP(A1757,Funcionários!$A$2:$F$299,5,0)),\"\")","v":""},""]
[null,{"$f":"IFERROR(IF(A1758=\"\",\"\",VLOOKUP(A1758,Funcionários!$A$2:$F$299,2,0)),\"Funcionário não encontrado\")","v":""},null,null,null,null,null,"",{"$f":"IFERROR(IF(A1758=\"\",\"\",VLOOKUP(A1758,Funcionários!$A$2:$F$299,5,0)),\"\")","v":""},""]
[null,{"$f":"IFERROR(IF(A1759=\"\",\"\",VLOOKUP(A1759,Funcionários!$A$2:$F$299,2,0)),\"Funcionário não encontrado\")","v":""},null,null,null,null,null,"",{"$f":"IFERROR(IF(A1759=\"\",\"\",VLOOKUP(A1759,Funcionários!$A$2:$F$299,5,0)),\"\")","v":""},""]
[null,{"$f":"IFERROR(IF(A1760=\"\",\"\",VLOOKUP(A1760,Funcionários!$A$2:$F$299,2,0)),\"Funcionário não encontrado\")","v":""},null,null,null,null,null,"",{"$f":"IFERROR(IF(A1760=\"\",\"\",VLOOKUP(A1760,Funcionários!$A$2:$F$299,5,0)),\"\")","v":""},""]
[null,{"$f":"IFERROR(IF(A1761=\"\",\"\",VLOOKUP(A1761,Funcionários!$A$2:$F$299,2,0)),\"Funcionário não encontrado\")","v":""},null,null,null,null,null,"",{"$f":"IFERROR(IF(A1761=\"\",\"\",VLOOKUP(A1761,Funcionários!$A$2:$F$299,5,0)),\"\")","v":""},""]
[null,{"$f":"IFERROR(IF(A1762=\"\",\"\",VLOOKUP(A1762,Funcionários!$A$2:$F$299,2,0)),\"Funcionário não encontrado\")","v":""},null,null,null,null,null,"",{"$f":"IFERROR(IF(A1762=\"\",\"\",VLOOKUP(A1762,Funcionários!$A$2:$F$299,5,0)),\"\")","v":""},""]
[null,{"$f":"IFERROR(IF(A1763=\"\",\"\",VLOOKUP(A1763,Funcionários!$A$2:$F$299,2,0)),\"Funcionário não encontrado\")","v":""},null,null,null,null,null,"",{"$f":"IFERROR(IF(A1763=\"\",\"\",VLOOKUP(A1763,Funcionários!$A$2:$F$299,5,0)),\"\")","v":""},""]
[null,{"$f":"IFERROR(IF(A1764=\"\",\"\",VLOOKUP(A1764,Funcionários!$A$2:$F$299,2,0)),\"Funcionário não encontrado\")","v":""},null,null,null,null,null,"",{"$f":"IFERROR(IF(A1764=\"\",\"\",VLOOKUP(A1764,Funcionários!$A$2:$F$299,5,0)),\"\")","v":""},""]
[null,{"$f":"IFERROR(IF(A1765=\"\",\"\",VLOOKUP(A1765,Funcionários!$A$2:$F$299,2,0)),\"Funcionário não encontrado\")","v":""},null,null,null,null,null,"",{"$f":"IFERROR(IF(A1765=\"\",\"\",VLOOKUP(A1765,Funcionários!$A$2:$F$299,5,0)),\"\")","v":""},""]
[null,{"$f":"IFERROR(IF(A1766=\"\",\"\",VLOOKUP(A1766,Funcionários!$A$2:$F$299,2,0)),\"Funcionário não encontrado\")","v":""},null,null,null,null,null,"",{"$f":"IFERROR(IF(A1766=\"\",\"\",VLOOKUP(A1766,Funcionários!$A$2:$F$299,5,0)),\"\")","v":""},""]
[null,{"$f":"IFERROR(IF(A1767=\"\",\"\",VLOOKUP(A1767,Funcionários!$A$2:$F$299,2,0)),\"Funcionário não encontrado\")","v":""},null,null,null,null,null,"",{"$f":"IFERROR(IF(A1767=\"\",\"\",VLOOKUP(A1767,Funcionários!$A$2:$F$299,5,0)),\"\")","v":""},""]
[null,{"$f":"IFERROR(IF(A1768=\"\",\"\",VLOOKUP(A1768,Funcionários!$A$2:$F$299,2,0)),\"Funcionário não encontrado\")","v":""},null,null,null,null,null,"",{"$f":"IFERROR(IF(A1768=\"\",\"\",VLOOKUP(A1768,Funcionários!$A$2:$F$299,5,0)),\"\")","v":""},""]
[null,{"$f":"IFERROR(IF(A1769=\"\",\"\",VLOOKUP(A1769,Funcionários!$A$2:$F$299,2,0)),\"Funcionário não encontrado\")","v":""},null,null,null,null,null,"",{"$f":"IFERROR(IF(A1769=\"\",\"\",VLOOKUP(A1769,Funcionários!$A$2:$F$299,5,0)),\"\")","v":""},""]
[null,{"$f":"IFERROR(IF(A1770=\"\",\"\",VLOOKUP(A1770,Funcionários!$A$2:$F$299,2,0)),\"Funcionário não encontrado\")","v":""},null,null,null,null,null,"",{"$f":"IFERROR(IF(A1770=\"\",\"\",VLOOKUP(A1770,Funcionários!$A$2:$F$299,5,0)),\"\")","v":""},""]
[null,{"$f":"IFERROR(IF(A1771=\"\",\"\",VLOOKUP(A1771,Funcionários!$A$2:$F$299,2,0)),\"Funcionário não encontrado\")","v":""},null,null,null,null,null,"",{"$f":"IFERROR(IF(A1771=\"\",\"\",VLOOKUP(A1771,Funcionários!$A$2:$F$299,5,0)),\"\")","v":""},""]
[null,{"$f":"IFERROR(IF(A1772=\"\",\"\",VLOOKUP(A1772,Funcionários!$A$2:$F$299,2,0)),\"Funcionário não encontrado\")","v":""},null,null,null,null,null,"",{"$f":"IFERROR(IF(A1772=\"\",\"\",VLOOKUP(A1772,Funcionários!$A$2:$F$299,5,0)),\"\")","v":""},""]
[null,{"$f":"IFERROR(IF(A1773=\"\",\"\",VLOOKUP(A1773,Funcionários!$A$2:$F$299,2,0)),\"Funcionário não encontrado\")","v":""},null,null,null,null,null,"",{"$f":"IFERROR(IF(A1773=\"\",\"\",VLOOKUP(A1773,Funcionários!$A$2:$F$299,5,0)),\"\")","v":""},""]
[null,{"$f":"IFERROR(IF(A1774=\"\",\"\",VLOOKUP(A1774,Funcionários!$A$2:$F$299,2,0)),\"Funcionário não encontrado\")","v":""},null,null,null,null,null,"",{"$f":"IFERROR(IF(A1774=\"\",\"\",VLOOKUP(A1774,Funcionários!$A$2:$F$299,5,0)),\"\")","v":""},""]
[null,{"$f":"IFERROR(IF(A1775=\"\",\"\",VLOOKUP(A1775,Funcionários!$A$2:$F$299,2,0)),\"Funcionário não encontrado\")","v":""},null,null,null,null,null,"",{"$f":"IFERROR(IF(A1775=\"\",\"\",VLOOKUP(A1775,Funcionários!$A$2:$F$299,5,0)),\"\")","v":""},""]
[null,{"$f":"IFERROR(IF(A1776=\"\",\"\",VLOOKUP(A1776,Funcionários!$A$2:$F$299,2,0)),\"Funcionário não encontrado\")","v":""},null,null,null,null,null,"",{"$f":"IFERROR(IF(A1776=\"\",\"\",VLOOKUP(A1776,Funcionários!$A$2:$F$299,5,0)),\"\")","v":""},""]
[null,{"$f":"IFERROR(IF(A1777=\"\",\"\",VLOOKUP(A1777,Funcionários!$A$2:$F$299,2,0)),\"Funcionário não encontrado\")","v":""},null,null,null,null,null,"",{"$f":"IFERROR(IF(A1777=\"\",\"\",VLOOKUP(A1777,Funcionários!$A$2:$F$299,5,0)),\"\")","v":""},""]
[null,{"$f":"IFERROR(IF(A1778=\"\",\"\",VLOOKUP(A1778,Funcionários!$A$2:$F$299,2,0)),\"Funcionário não encontrado\")","v":""},null,null,null,null,null,"",{"$f":"IFERROR(IF(A1778=\"\",\"\",VLOOKUP(A1778,Funcionários!$A$2:$F$299,5,0)),\"\")","v":""},""]
[null,{"$f":"IFERROR(IF(A1779=\"\",\"\",VLOOKUP(A1779,Funcionários!$A$2:$F$299,2,0)),\"Funcionário não encontrado\")","v":""},null,null,null,null,null,"",{"$f":"IFERROR(IF(A1779=\"\",\"\",VLOOKUP(A1779,Funcionários!$A$2:$F$299,5,0)),\"\")","v":""},""]
[null,{"$f":"IFERROR(IF(A1780=\"\",\"\",VLOOKUP(A1780,Funcionários!$A$2:$F$299,2,0)),\"Funcionário não encontrado\")","v":""},null,null,null,null,null,"",{"$f":"IFERROR(IF(A1780=\"\",\"\",VLOOKUP(A1780,Funcionários!$A$2:$F$299,5,0)),\"\")","v":""},""]
[null,{"$f":"IFERROR(IF(A1781=\"\",\"\",VLOOKUP(A1781,Funcionários!$A$2:$F$299,2,0)),\"Funcionário não encontrado\")","v":""},null,null,null,null,null,"",{"$f":"IFERROR(IF(A1781=\"\",\"\",VLOOKUP(A1781,Funcionários!$A$2:$F$299,5,0)),\"\")","v":""},""]
[null,{"$f":"IFERROR(IF(A1782=\"\",\"\",VLOOKUP(A1782,Funcionários!$A$2:$F$299,2,0)),\"Funcionário não encontrado\")","v":""},null,null,null,null,null,"",{"$f":"IFERROR(IF(A1782=\"\",\"\",VLOOKUP(A1782,Funcionários!$A$2:$F$299,5,0)),\"\")","v":""},""]
[null,{"$f":"IFERROR(IF(A1783=\"\",\"\",VLOOKUP(A1783,Funcionários!$A$2:$F$299,2,0)),\"Funcionário não encontrado\")","v":""},null,null,null,null,null,"",{"$f":"IFERROR(IF(A1783=\"\",\"\",VLOOKUP(A1783,Funcionários!$A$2:$F$299,5,0)),\"\")","v":""},""]
[null,{"$f":"IFERROR(IF(A1784=\"\",\"\",VLOOKUP(A1784,Funcionários!$A$2:$F$299,2,0)),\"Funcionário não encontrado\")","v":""},null,null,null,null,null,"",{"$f":"IFERROR(IF(A1784=\"\",\"\",VLOOKUP(A1784,Funcionários!$A$2:$F$299,5,0)),\"\")","v":""},""]
[null,{"$f":"IFERROR(IF(A1785=\"\",\"\",VLOOKUP(A1785,Funcionários!$A$2:$F$299,2,0)),\"Funcionário não encontrado\")","v":""},null,null,null,null,null,"",{"$f":"IFERROR(IF(A1785=\"\",\"\",VLOOKUP(A1785,Funcionários!$A$2:$F$299,5,0)),\"\")","v":""},""]
[null,{"$f":"IFERROR(IF(A1786=\"\",\"\",VLOOKUP(A1786,Funcionários!$A$2:$F$299,2,0)),\"Funcionário não encontrado\")","v":""},null,null,null,null,null,"",{"$f":"IFERROR(IF(A1786=\"\",\"\",VLOOKUP(A1786,Funcionários!$A$2:$F$299,5,0)),\"\")","v":""},""]
[null,{"$f":"IFERROR(IF(A1787=\"\",\"\",VLOOKUP(A1787,Funcionários!$A$2:$F$299,2,0)),\"Funcionário não encontrado\")","v":""},null,null,null,null,null,"",{"$f":"IFERROR(IF(A1787=\"\",\"\",VLOOKUP(A1787,Funcionários!$A$2:$F$299,5,0)),\"\")","v":""},""]
[null,{"$f":"IFERROR(IF(A1788=\"\",\"\",VLOOKUP(A1788,Funcionários!$A$2:$F$299,2,0)),\"Funcionário não encontrado\")","v":""},null,null,null,null,null,"",{"$f":"IFERROR(IF(A1788=\"\",\"\",VLOOKUP(A1788,Funcionários!$A$2:$F$299,5,0)),\"\")","v":""},""]
[null,{"$f":"IFERROR(IF(A1789=\"\",\"\",VLOOKUP(A1789,Funcionários!$A$2:$F$299,2,0)),\"Funcionário não encontrado\")","v":""},null,null,null,null,null,"",{"$f":"IFERROR(IF(A1789=\"\",\"\",VLOOKUP(A1789,Funcionários!$A$2:$F$299,5,0)),\"\")","v":""},""]
[null,{"$f":"IFERROR(IF(A1790=\"\",\"\",VLOOKUP(A1790,Funcionários!$A$2:$F$299,2,0)),\"Funcionário não encontrado\")","v":""},null,null,null,null,null,"",{"$f":"IFERROR(IF(A1790=\"\",\"\",VLOOKUP(A1790,Funcionários!$A$2:$F$299,5,0)),\"\")","v":""},""]
[null,{"$f":"IFERROR(IF(A1791=\"\",\"\",VLOOKUP(A1791,Funcionários!$A$2:$F$299,2,0)),\"Funcionário não encontrado\")","v":""},null,null,null,null,null,"",{"$f":"IFERROR(IF(A1791=\"\",\"\",VLOOKUP(A1791,Funcionários!$A$2:$F$299,5,0)),\"\")","v":""},""]
[null,{"$f":"IFERROR(IF(A1792=\"\",\"\",VLOOKUP(A1792,Funcionários!$A$2:$F$299,2,0)),\"Funcionário não encontrado\")","v":""},null,null,null,null,null,"",{"$f":"IFERROR(IF(A1792=\"\",\"\",VLOOKUP(A1792,Funcionários!$A$2:$F$299,5,0)),\"\")","v":""},""]
[null,{"$f":"IFERROR(IF(A1793=\"\",\"\",VLOOKUP(A1793,Funcionários!$A$2:$F$299,2,0)),\"Funcionário não encontrado\")","v":""},null,null,null,null,null,"",{"$f":"IFERROR(IF(A1793=\"\",\"\",VLOOKUP(A1793,Funcionários!$A$2:$F$299,5,0)),\"\")","v":""},""]
[null,{"$f":"IFERROR(IF(A1794=\"\",\"\",VLOOKUP(A1794,Funcionários!$A$2:$F$299,2,0)),\"Funcionário não encontrado\")","v":""},null,null,null,null,null,"",{"$f":"IFERROR(IF(A1794=\"\",\"\",VLOOKUP(A1794,Funcionários!$A$2:$F$299,5,0)),\"\")","v":""},""]
[null,{"$f":"IFERROR(IF(A1795=\"\",\"\",VLOOKUP(A1795,Funcionários!$A$2:$F$299,2,0)),\"Funcionário não encontrado\")","v":""},null,null,null,null,null,{"$f":"IF(OR(D1795=\"\",E1795=\"\",F1795=\"\"),\"\",MOD((E1795-D1795)+(G1795-F1795),1))","v":""},{"$f":"IFERROR(IF(A1795=\"\",\"\",VLOOKUP(A1795,Funcionários!$A$2:$F$299,5,0)),\"\")","v":""},{"$f":"IF(H1795=\"\",\"\",H1795-I1795)","v":""}]
[null,{"$f":"IFERROR(IF(A1796=\"\",\"\",VLOOKUP(A1796,Funcionários!$A$2:$F$299,2,0)),\"Funcionário não encontrado\")","v":""},null,null,null,null,null,"",{"$f":"IFERROR(IF(A1796=\"\",\"\",VLOOKUP(A1796,Funcionários!$A$2:$F$299,5,0)),\"\")","v":""},""]
[null,{"$f":"IFERROR(IF(A1797=\"\",\"\",VLOOKUP(A1797,Funcionários!$A$2:$F$299,2,0)),\"Funcionário não encontrado\")","v":""},null,null,null,null,null,"",{"$f":"IFERROR(IF(A1797=\"\",\"\",VLOOKUP(A1797,Funcionários!$A$2:$F$299,5,0)),\"\")","v":""},""]
[null,{"$f":"IFERROR(IF(A1798=\"\",\"\",VLOOKUP(A1798,Funcionários!$A$2:$F$299,2,0)),\"Funcionário não encontrado\")","v":""},null,null,null,null,null,"",{"$f":"IFERROR(IF(A1798=\"\",\"\",VLOOKUP(A1798,Funcionários!$A$2:$F$299,5,0)),\"\")","v":""},""]
[null,{"$f":"IFERROR(IF(A1799=\"\",\"\",VLOOKUP(A1799,Funcionários!$A$2:$F$299,2,0)),\"Funcionário não encontrado\")","v":""},null,null,null,null,null,"",{"$f":"IFERROR(IF(A1799=\"\",\"\",VLOOKUP(A1799,Funcionários!$A$2:$F$299,5,0)),\"\")","v":""},""]
[null,{"$f":"IFERROR(IF(A1800=\"\",\"\",VLOOKUP(A1800,Funcionários!$A$2:$F$299,2,0)),\"Funcionário não encontrado\")","v":""},null,null,null,null,null,"",{"$f":"IFERROR(IF(A1800=\"\",\"\",VLOOKUP(A1800,Funcionários!$A$2:$F$299,5,0)),\"\")","v":""},""]
[null,{"$f":"IFERROR(IF(A1801=\"\",\"\",VLOOKUP(A1801,Funcionários!$A$2:$F$299,2,0)),\"Funcionário não encontrado\")","v":""},null,null,null,null,null,"",{"$f":"IFERROR(IF(A1801=\"\",\"\",VLOOKUP(A1801,Funcionários!$A$2:$F$299,5,0)),\"\")","v":""},""]
[null,{"$f":"IFERROR(IF(A1802=\"\",\"\",VLOOKUP(A1802,Funcionários!$A$2:$F$299,2,0)),\"Funcionário não encontrado\")","v":""},null,null,null,null,null,"",{"$f":"IFERROR(IF(A1802=\"\",\"\",VLOOKUP(A1802,Funcionários!$A$2:$F$299,5,0)),\"\")","v":""},""]
[null,{"$f":"IFERROR(IF(A1803=\"\",\"\",VLOOKUP(A1803,Funcionários!$A$2:$F$299,2,0)),\"Funcionário não encontrado\")","v":""},null,null,null,null,null,"",{"$f":"IFERROR(IF(A1803=\"\",\"\",VLOOKUP(A1803,Funcionários!$A$2:$F$299,5,0)),\"\")","v":""},""]
[null,{"$f":"IFERROR(IF(A1804=\"\",\"\",VLOOKUP(A1804,Funcionários!$A$2:$F$299,2,0)),\"Funcionário não encontrado\")","v":""},null,null,null,null,null,"",{"$f":"IFERROR(IF(A1804=\"\",\"\",VLOOKUP(A1804,Funcionários!$A$2:$F$299,5,0)),\"\")","v":""},""]
[null,{"$f":"IFERROR(IF(A1805=\"\",\"\",VLOOKUP(A1805,Funcionários!$A$2:$F$299,2,0)),\"Funcionário não encontrado\")","v":""},null,null,null,null,null,"",{"$f":"IFERROR(IF(A1805=\"\",\"\",VLOOKUP(A1805,Funcionários!$A$2:$F$299,5,0)),\"\")","v":""},""]
[null,{"$f":"IFERROR(IF(A1806=\"\",\"\",VLOOKUP(A1806,Funcionários!$A$2:$F$299,2,0)),\"Funcionário não encontrado\")","v":""},null,null,null,null,null,"",{"$f":"IFERROR(IF(A1806=\"\",\"\",VLOOKUP(A1806,Funcionários!$A$2:$F$299,5,0)),\"\")","v":""},""]
[null,{"$f":"IFERROR(IF(A1807=\"\",\"\",VLOOKUP(A1807,Funcionários!$A$2:$F$299,2,0)),\"Funcionário não encontrado\")","v":""},null,null,null,null,null,"",{"$f":"IFERROR(IF(A1807=\"\",\"\",VLOOKUP(A1807,Funcionários!$A$2:$F$299,5,0)),\"\")","v":""},""]
[null,{"$f":"IFERROR(IF(A1808=\"\",\"\",VLOOKUP(A1808,Funcionários!$A$2:$F$299,2,0)),\"Funcionário não encontrado\")","v":""},null,null,null,null,null,"",{"$f":"IFERROR(IF(A1808=\"\",\"\",VLOOKUP(A1808,Funcionários!$A$2:$F$299,5,0)),\"\")","v":""},""]
[null,{"$f":"IFERROR(IF(A1809=\"\",\"\",VLOOKUP(A1809,Funcionários!$A$2:$F$299,2,0)),\"Funcionário não encontrado\")","v":""},null,null,null,null,null,"",{"$f":"IFERROR(IF(A1809=\"\",\"\",VLOOKUP(A1809,Funcionários!$A$2:$F$299,5,0)),\"\")","v":""},""]
[null,{"$f":"IFERROR(IF(A1810=\"\",\"\",VLOOKUP(A1810,Funcionários!$A$2:$F$299,2,0)),\"Funcionário não encontrado\")","v":""},null,null,null,null,null,"",{"$f":"IFERROR(IF(A1810=\"\",\"\",VLOOKUP(A1810,Funcionários!$A$2:$F$299,5,0)),\"\")","v":""},""]
[null,{"$f":"IFERROR(IF(A1811=\"\",\"\",VLOOKUP(A1811,Funcionários!$A$2:$F$299,2,0)),\"Funcionário não encontrado\")","v":""},null,null,null,null,null,"",{"$f":"IFERROR(IF(A1811=\"\",\"\",VLOOKUP(A1811,Funcionários!$A$2:$F$299,5,0)),\"\")","v":""},""]
[null,{"$f":"IFERROR(IF(A1812=\"\",\"\",VLOOKUP(A1812,Funcionários!$A$2:$F$299,2,0)),\"Funcionário não encontrado\")","v":""},null,null,null,null,null,"",{"$f":"IFERROR(IF(A1812=\"\",\"\",VLOOKUP(A1812,Funcionários!$A$2:$F$299,5,0)),\"\")","v":""},""]
[null,{"$f":"IFERROR(IF(A1813=\"\",\"\",VLOOKUP(A1813,Funcionários!$A$2:$F$299,2,0)),\"Funcionário não encontrado\")","v":""},null,null,null,null,null,"",{"$f":"IFERROR(IF(A1813=\"\",\"\",VLOOKUP(A1813,Funcionários!$A$2:$F$299,5,0)),\"\")","v":""},""]
[null,{"$f":"IFERROR(IF(A1814=\"\",\"\",VLOOKUP(A1814,Funcionários!$A$2:$F$299,2,0)),\"Funcionário não encontrado\")","v":""},null,null,null,null,null,"",{"$f":"IFERROR(IF(A1814=\"\",\"\",VLOOKUP(A1814,Funcionários!$A$2:$F$299,5,0)),\"\")","v":""},""]
[null,{"$f":"IFERROR(IF(A1815=\"\",\"\",VLOOKUP(A1815,Funcionários!$A$2:$F$299,2,0)),\"Funcionário não encontrado\")","v":""},null,null,null,null,null,"",{"$f":"IFERROR(IF(A1815=\"\",\"\",VLOOKUP(A1815,Funcionários!$A$2:$F$299,5,0)),\"\")","v":""},""]
[null,{"$f":"IFERROR(IF(A1816=\"\",\"\",VLOOKUP(A1816,Funcionários!$A$2:$F$299,2,0)),\"Funcionário não encontrado\")","v":""},null,null,null,null,null,"",{"$f":"IFERROR(IF(A1816=\"\",\"\",VLOOKUP(A1816,Funcionários!$A$2:$F$299,5,0)),\"\")","v":""},""]
[null,{"$f":"IFERROR(IF(A1817=\"\",\"\",VLOOKUP(A1817,Funcionários!$A$2:$F$299,2,0)),\"Funcionário não encontrado\")","v":""},null,null,null,null,null,"",{"$f":"IFERROR(IF(A1817=\"\",\"\",VLOOKUP(A1817,Funcionários!$A$2:$F$299,5,0)),\"\")","v":""},""]
[null,{"$f":"IFERROR(IF(A1818=\"\",\"\",VLOOKUP(A1818,Funcionários!$A$2:$F$299,2,0)),\"Funcionário não encontrado\")","v":""},null,null,null,null,null,"",{"$f":"IFERROR(IF(A1818=\"\",\"\",VLOOKUP(A1818,Funcionários!$A$2:$F$299,5,0)),\"\")","v":""},""]
[null,{"$f":"IFERROR(IF(A1819=\"\",\"\",VLOOKUP(A1819,Funcionários!$A$2:$F$299,2,0)),\"Funcionário não encontrado\")","v":""},null,null,null,null,null,"",{"$f":"IFERROR(IF(A1819=\"\",\"\",VLOOKUP(A1819,Funcionários!$A$2:$F$299,5,0)),\"\")","v":""},""]
[null,{"$f":"IFERROR(IF(A1820=\"\",\"\",VLOOKUP(A1820,Funcionários!$A$2:$F$299,2,0)),\"Funcionário não encontrado\")","v":""},null,null,null,null,null,"",{"$f":"IFERROR(IF(A1820=\"\",\"\",VLOOKUP(A1820,Funcionários!$A$2:$F$299,5,0)),\"\")","v":""},""]
[null,{"$f":"IFERROR(IF(A1821=\"\",\"\",VLOOKUP(A1821,Funcionários!$A$2:$F$299,2,0)),\"Funcionário não encontrado\")","v":""},null,null,null,null,null,"",{"$f":"IFERROR(IF(A1821=\"\",\"\",VLOOKUP(A1821,Funcionários!$A$2:$F$299,5,0)),\"\")","v":""},""]
[null,{"$f":"IFERROR(IF(A1822=\"\",\"\",VLOOKUP(A1822,Funcionários!$A$2:$F$299,2,0)),\"Funcionário não encontrado\")","v":""},null,null,null,null,null,"",{"$f":"IFERROR(IF(A1822=\"\",\"\",VLOOKUP(A1822,Funcionários!$A$2:$F$299,5,0)),\"\")","v":""},""]
[null,{"$f":"IFERROR(IF(A1823=\"\",\"\",VLOOKUP(A1823,Funcionários!$A$2:$F$299,2,0)),\"Funcionário não encontrado\")","v":""},null,null,null,null,null,"",{"$f":"IFERROR(IF(A1823=\"\",\"\",VLOOKUP(A1823,Funcionários!$A$2:$F$299,5,0)),\"\")","v":""},""]
[null,{"$f":"IFERROR(IF(A1824=\"\",\"\",VLOOKUP(A1824,Funcionários!$A$2:$F$299,2,0)),\"Funcionário não encontrado\")","v":""},null,null,null,null,null,"",{"$f":"IFERROR(IF(A1824=\"\",\"\",VLOOKUP(A1824,Funcionários!$A$2:$F$299,5,0)),\"\")","v":""},""]
[null,{"$f":"IFERROR(IF(A1825=\"\",\"\",VLOOKUP(A1825,Funcionários!$A$2:$F$299,2,0)),\"Funcionário não encontrado\")","v":""},null,null,null,null,null,"",{"$f":"IFERROR(IF(A1825=\"\",\"\",VLOOKUP(A1825,Funcionários!$A$2:$F$299,5,0)),\"\")","v":""},""]
[null,{"$f":"IFERROR(IF(A1826=\"\",\"\",VLOOKUP(A1826,Funcionários!$A$2:$F$299,2,0)),\"Funcionário não encontrado\")","v":""},null,null,null,null,null,"",{"$f":"IFERROR(IF(A1826=\"\",\"\",VLOOKUP(A1826,Funcionários!$A$2:$F$299,5,0)),\"\")","v":""},""]
[null,{"$f":"IFERROR(IF(A1827=\"\",\"\",VLOOKUP(A1827,Funcionários!$A$2:$F$299,2,0)),\"Funcionário não encontrado\")","v":""},null,null,null,null,null,"",{"$f":"IFERROR(IF(A1827=\"\",\"\",VLOOKUP(A1827,Funcionários!$A$2:$F$299,5,0)),\"\")","v":""},""]
[null,{"$f":"IFERROR(IF(A1828=\"\",\"\",VLOOKUP(A1828,Funcionários!$A$2:$F$299,2,0)),\"Funcionário não encontrado\")","v":""},null,null,null,null,null,"",{"$f":"IFERROR(IF(A1828=\"\",\"\",VLOOKUP(A1828,Funcionários!$A$2:$F$299,5,0)),\"\")","v":""},""]
[null,{"$f":"IFERROR(IF(A1829=\"\",\"\",VLOOKUP(A1829,Funcionários!$A$2:$F$299,2,0)),\"Funcionário não encontrado\")","v":""},null,null,null,null,null,"",{"$f":"IFERROR(IF(A1829=\"\",\"\",VLOOKUP(A1829,Funcionários!$A$2:$F$299,5,0)),\"\")","v":""},""]
[null,{"$f":"IFERROR(IF(A1830=\"\",\"\",VLOOKUP(A1830,Funcionários!$A$2:$F$299,2,0)),\"Funcionário não encontrado\")","v":""},null,null,null,null,null,"",{"$f":"IFERROR(IF(A1830=\"\",\"\",VLOOKUP(A1830,Funcionários!$A$2:$F$299,5,0)),\"\")","v":""},""]
[null,{"$f":"IFERROR(IF(A1831=\"\",\"\",VLOOKUP(A1831,Funcionários!$A$2:$F$299,2,0)),\"Funcionário não encontrado\")","v":""},null,null,null,null,null,"",{"$f":"IFERROR(IF(A1831=\"\",\"\",VLOOKUP(A1831,Funcionários!$A$2:$F$299,5,0)),\"\")","v":""},""]
[null,{"$f":"IFERROR(IF(A1832=\"\",\"\",VLOOKUP(A1832,Funcionários!$A$2:$F$299,2,0)),\"Funcionário não encontrado\")","v":""},null,null,null,null,null,"",{"$f":"IFERROR(IF(A1832=\"\",\"\",VLOOKUP(A1832,Funcionários!$A$2:$F$299,5,0)),\"\")","v":""},""]
[null,{"$f":"IFERROR(IF(A1833=\"\",\"\",VLOOKUP(A1833,Funcionários!$A$2:$F$299,2,0)),\"Funcionário não encontrado\")","v":""},null,null,null,null,null,"",{"$f":"IFERROR(IF(A1833=\"\",\"\",VLOOKUP(A1833,Funcionários!$A$2:$F$299,5,0)),\"\")","v":""},""]
[null,{"$f":"IFERROR(IF(A1834=\"\",\"\",VLOOKUP(A1834,Funcionários!$A$2:$F$299,2,0)),\"Funcionário não encontrado\")","v":""},null,null,null,null,null,"",{"$f":"IFERROR(IF(A1834=\"\",\"\",VLOOKUP(A1834,Funcionários!$A$2:$F$299,5,0)),\"\")","v":""},""]
[null,{"$f":"IFERROR(IF(A1835=\"\",\"\",VLOOKUP(A1835,Funcionários!$A$2:$F$299,2,0)),\"Funcionário não encontrado\")","v":""},null,null,null,null,null,"",{"$f":"IFERROR(IF(A1835=\"\",\"\",VLOOKUP(A1835,Funcionários!$A$2:$F$299,5,0)),\"\")","v":""},""]
[null,{"$f":"IFERROR(IF(A1836=\"\",\"\",VLOOKUP(A1836,Funcionários!$A$2:$F$299,2,0)),\"Funcionário não encontrado\")","v":""},null,null,null,null,null,"",{"$f":"IFERROR(IF(A1836=\"\",\"\",VLOOKUP(A1836,Funcionários!$A$2:$F$299,5,0)),\"\")","v":""},""]
[null,{"$f":"IFERROR(IF(A1837=\"\",\"\",VLOOKUP(A1837,Funcionários!$A$2:$F$299,2,0)),\"Funcionário não encontrado\")","v":""},null,null,null,null,null,"",{"$f":"IFERROR(IF(A1837=\"\",\"\",VLOOKUP(A1837,Funcionários!$A$2:$F$299,5,0)),\"\")","v":""},""]
[null,{"$f":"IFERROR(IF(A1838=\"\",\"\",VLOOKUP(A1838,Funcionários!$A$2:$F$299,2,0)),\"Funcionário não encontrado\")","v":""},null,null,null,null,null,"",{"$f":"IFERROR(IF(A1838=\"\",\"\",VLOOKUP(A1838,Funcionários!$A$2:$F$299,5,0)),\"\")","v":""},""]
[null,{"$f":"IFERROR(IF(A1839=\"\",\"\",VLOOKUP(A1839,Funcionários!$A$2:$F$299,2,0)),\"Funcionário não encontrado\")","v":""},null,null,null,null,null,"",{"$f":"IFERROR(IF(A1839=\"\",\"\",VLOOKUP(A1839,Funcionários!$A$2:$F$299,5,0)),\"\")","v":""},""]
[null,{"$f":"IFERROR(IF(A1840=\"\",\"\",VLOOKUP(A1840,Funcionários!$A$2:$F$299,2,0)),\"Funcionário não encontrado\")","v":""},null,null,null,null,null,"",{"$f":"IFERROR(IF(A1840=\"\",\"\",VLOOKUP(A1840,Funcionários!$A$2:$F$299,5,0)),\"\")","v":""},""]
[null,{"$f":"IFERROR(IF(A1841=\"\",\"\",VLOOKUP(A1841,Funcionários!$A$2:$F$299,2,0)),\"Funcionário não encontrado\")","v":""},null,null,null,null,null,"",{"$f":"IFERROR(IF(A1841=\"\",\"\",VLOOKUP(A1841,Funcionários!$A$2:$F$299,5,0)),\"\")","v":""},""]
[null,{"$f":"IFERROR(IF(A1842=\"\",\"\",VLOOKUP(A1842,Funcionários!$A$2:$F$299,2,0)),\"Funcionário não encontrado\")","v":""},null,null,null,null,null,"",{"$f":"IFERROR(IF(A1842=\"\",\"\",VLOOKUP(A1842,Funcionários!$A$2:$F$299,5,0)),\"\")","v":""},""]
[null,{"$f":"IFERROR(IF(A1843=\"\",\"\",VLOOKUP(A1843,Funcionários!$A$2:$F$299,2,0)),\"Funcionário não encontrado\")","v":""},null,null,null,null,null,"",{"$f":"IFERROR(IF(A1843=\"\",\"\",VLOOKUP(A1843,Funcionários!$A$2:$F$299,5,0)),\"\")","v":""},""]
[null,{"$f":"IFERROR(IF(A1844=\"\",\"\",VLOOKUP(A1844,Funcionários!$A$2:$F$299,2,0)),\"Funcionário não encontrado\")","v":""},null,null,null,null,null,"",{"$f":"IFERROR(IF(A1844=\"\",\"\",VLOOKUP(A1844,Funcionários!$A$2:$F$299,5,0)),\"\")","v":""},""]
[null,{"$f":"IFERROR(IF(A1845=\"\",\"\",VLOOKUP(A1845,Funcionários!$A$2:$F$299,2,0)),\"Funcionário não encontrado\")","v":""},null,null,null,null,null,"",{"$f":"IFERROR(IF(A1845=\"\",\"\",VLOOKUP(A1845,Funcionários!$A$2:$F$299,5,0)),\"\")","v":""},""]
[null,{"$f":"IFERROR(IF(A1846=\"\",\"\",VLOOKUP(A1846,Funcionários!$A$2:$F$299,2,0)),\"Funcionário não encontrado\")","v":""},null,null,null,null,null,"",{"$f":"IFERROR(IF(A1846=\"\",\"\",VLOOKUP(A1846,Funcionários!$A$2:$F$299,5,0)),\"\")","v":""},""]
[null,{"$f":"IFERROR(IF(A1847=\"\",\"\",VLOOKUP(A1847,Funcionários!$A$2:$F$299,2,0)),\"Funcionário não encontrado\")","v":""},null,null,null,null,null,"",{"$f":"IFERROR(IF(A1847=\"\",\"\",VLOOKUP(A1847,Funcionários!$A$2:$F$299,5,0)),\"\")","v":""},""]
[null,{"$f":"IFERROR(IF(A1848=\"\",\"\",VLOOKUP(A1848,Funcionários!$A$2:$F$299,2,0)),\"Funcionário não encontrado\")","v":""},null,null,null,null,null,"",{"$f":"IFERROR(IF(A1848=\"\",\"\",VLOOKUP(A1848,Funcionários!$A$2:$F$299,5,0)),\"\")","v":""},""]
[null,{"$f":"IFERROR(IF(A1849=\"\",\"\",VLOOKUP(A1849,Funcionários!$A$2:$F$299,2,0)),\"Funcionário não encontrado\")","v":""},null,null,null,null,null,"",{"$f":"IFERROR(IF(A1849=\"\",\"\",VLOOKUP(A1849,Funcionários!$A$2:$F$299,5,0)),\"\")","v":""},""]
[null,{"$f":"IFERROR(IF(A1850=\"\",\"\",VLOOKUP(A1850,Funcionários!$A$2:$F$299,2,0)),\"Funcionário não encontrado\")","v":""},null,null,null,null,null,"",{"$f":"IFERROR(IF(A1850=\"\",\"\",VLOOKUP(A1850,Funcionários!$A$2:$F$299,5,0)),\"\")","v":""},""]
[null,{"$f":"IFERROR(IF(A1851=\"\",\"\",VLOOKUP(A1851,Funcionários!$A$2:$F$299,2,0)),\"Funcionário não encontrado\")","v":""},null,null,null,null,null,"",{"$f":"IFERROR(IF(A1851=\"\",\"\",VLOOKUP(A1851,Funcionários!$A$2:$F$299,5,0)),\"\")","v":""},""]
[null,{"$f":"IFERROR(IF(A1852=\"\",\"\",VLOOKUP(A1852,Funcionários!$A$2:$F$299,2,0)),\"Funcionário não encontrado\")","v":""},null,null,null,null,null,"",{"$f":"IFERROR(IF(A1852=\"\",\"\",VLOOKUP(A1852,Funcionários!$A$2:$F$299,5,0)),\"\")","v":""},""]
[null,{"$f":"IFERROR(IF(A1853=\"\",\"\",VLOOKUP(A1853,Funcionários!$A$2:$F$299,2,0)),\"Funcionário não encontrado\")","v":""},null,null,null,null,null,"",{"$f":"IFERROR(IF(A1853=\"\",\"\",VLOOKUP(A1853,Funcionários!$A$2:$F$299,5,0)),\"\")","v":""},""]
[null,{"$f":"IFERROR(IF(A1854=\"\",\"\",VLOOKUP(A1854,Funcionários!$A$2:$F$299,2,0)),\"Funcionário não encontrado\")","v":""},null,null,null,null,null,"",{"$f":"IFERROR(IF(A1854=\"\",\"\",VLOOKUP(A1854,Funcionários!$A$2:$F$299,5,0)),\"\")","v":""},""]
[null,{"$f":"IFERROR(IF(A1855=\"\",\"\",VLOOKUP(A1855,Funcionários!$A$2:$F$299,2,0)),\"Funcionário não encontrado\")","v":""},null,null,null,null,null,"",{"$f":"IFERROR(IF(A1855=\"\",\"\",VLOOKUP(A1855,Funcionários!$A$2:$F$299,5,0)),\"\")","v":""},""]
[null,{"$f":"IFERROR(IF(A1856=\"\",\"\",VLOOKUP(A1856,Funcionários!$A$2:$F$299,2,0)),\"Funcionário não encontrado\")","v":""},null,null,null,null,null,"",{"$f":"IFERROR(IF(A1856=\"\",\"\",VLOOKUP(A1856,Funcionários!$A$2:$F$299,5,0)),\"\")","v":""},""]
[null,{"$f":"IFERROR(IF(A1857=\"\",\"\",VLOOKUP(A1857,Funcionários!$A$2:$F$299,2,0)),\"Funcionário não encontrado\")","v":""},null,null,null,null,null,"",{"$f":"IFERROR(IF(A1857=\"\",\"\",VLOOKUP(A1857,Funcionários!$A$2:$F$299,5,0)),\"\")","v":""},""]
[null,{"$f":"IFERROR(IF(A1858=\"\",\"\",VLOOKUP(A1858,Funcionários!$A$2:$F$299,2,0)),\"Funcionário não encontrado\")","v":""},null,null,null,null,null,"",{"$f":"IFERROR(IF(A1858=\"\",\"\",VLOOKUP(A1858,Funcionários!$A$2:$F$299,5,0)),\"\")","v":""},""]
[null,{"$f":"IFERROR(IF(A1859=\"\",\"\",VLOOKUP(A1859,Funcionários!$A$2:$F$299,2,0)),\"Funcionário não encontrado\")","v":""},null,null,null,null,null,{"$f":"IF(OR(D1859=\"\",E1859=\"\",F1859=\"\"),\"\",MOD((E1859-D1859)+(G1859-F1859),1))","v":""},{"$f":"IFERROR(IF(A1859=\"\",\"\",VLOOKUP(A1859,Funcionários!$A$2:$F$299,5,0)),\"\")","v":""},{"$f":"IF(H1859=\"\",\"\",H1859-I1859)","v":""}]
[null,{"$f":"IFERROR(IF(A1860=\"\",\"\",VLOOKUP(A1860,Funcionários!$A$2:$F$299,2,0)),\"Funcionário não encontrado\")","v":""},null,null,null,null,null,"",{"$f":"IFERROR(IF(A1860=\"\",\"\",VLOOKUP(A1860,Funcionários!$A$2:$F$299,5,0)),\"\")","v":""},""]
[null,{"$f":"IFERROR(IF(A1861=\"\",\"\",VLOOKUP(A1861,Funcionários!$A$2:$F$299,2,0)),\"Funcionário não encontrado\")","v":""},null,null,null,null,null,"",{"$f":"IFERROR(IF(A1861=\"\",\"\",VLOOKUP(A1861,Funcionários!$A$2:$F$299,5,0)),\"\")","v":""},""]
[null,{"$f":"IFERROR(IF(A1862=\"\",\"\",VLOOKUP(A1862,Funcionários!$A$2:$F$299,2,0)),\"Funcionário não encontrado\")","v":""},null,null,null,null,null,"",{"$f":"IFERROR(IF(A1862=\"\",\"\",VLOOKUP(A1862,Funcionários!$A$2:$F$299,5,0)),\"\")","v":""},""]
[null,{"$f":"IFERROR(IF(A1863=\"\",\"\",VLOOKUP(A1863,Funcionários!$A$2:$F$299,2,0)),\"Funcionário não encontrado\")","v":""},null,null,null,null,null,"",{"$f":"IFERROR(IF(A1863=\"\",\"\",VLOOKUP(A1863,Funcionários!$A$2:$F$299,5,0)),\"\")","v":""},""]
[null,{"$f":"IFERROR(IF(A1864=\"\",\"\",VLOOKUP(A1864,Funcionários!$A$2:$F$299,2,0)),\"Funcionário não encontrado\")","v":""},null,null,null,null,null,"",{"$f":"IFERROR(IF(A1864=\"\",\"\",VLOOKUP(A1864,Funcionários!$A$2:$F$299,5,0)),\"\")","v":""},""]
[null,{"$f":"IFERROR(IF(A1865=\"\",\"\",VLOOKUP(A1865,Funcionários!$A$2:$F$299,2,0)),\"Funcionário não encontrado\")","v":""},null,null,null,null,null,"",{"$f":"IFERROR(IF(A1865=\"\",\"\",VLOOKUP(A1865,Funcionários!$A$2:$F$299,5,0)),\"\")","v":""},""]
[null,{"$f":"IFERROR(IF(A1866=\"\",\"\",VLOOKUP(A1866,Funcionários!$A$2:$F$299,2,0)),\"Funcionário não encontrado\")","v":""},null,null,null,null,null,"",{"$f":"IFERROR(IF(A1866=\"\",\"\",VLOOKUP(A1866,Funcionários!$A$2:$F$299,5,0)),\"\")","v":""},""]
[null,{"$f":"IFERROR(IF(A1867=\"\",\"\",VLOOKUP(A1867,Funcionários!$A$2:$F$299,2,0)),\"Funcionário não encontrado\")","v":""},null,null,null,null,null,"",{"$f":"IFERROR(IF(A1867=\"\",\"\",VLOOKUP(A1867,Funcionários!$A$2:$F$299,5,0)),\"\")","v":""},""]
[null,{"$f":"IFERROR(IF(A1868=\"\",\"\",VLOOKUP(A1868,Funcionários!$A$2:$F$299,2,0)),\"Funcionário não encontrado\")","v":""},null,null,null,null,null,"",{"$f":"IFERROR(IF(A1868=\"\",\"\",VLOOKUP(A1868,Funcionários!$A$2:$F$299,5,0)),\"\")","v":""},""]
[null,{"$f":"IFERROR(IF(A1869=\"\",\"\",VLOOKUP(A1869,Funcionários!$A$2:$F$299,2,0)),\"Funcionário não encontrado\")","v":""},null,null,null,null,null,"",{"$f":"IFERROR(IF(A1869=\"\",\"\",VLOOKUP(A1869,Funcionários!$A$2:$F$299,5,0)),\"\")","v":""},""]
[null,{"$f":"IFERROR(IF(A1870=\"\",\"\",VLOOKUP(A1870,Funcionários!$A$2:$F$299,2,0)),\"Funcionário não encontrado\")","v":""},null,null,null,null,null,"",{"$f":"IFERROR(IF(A1870=\"\",\"\",VLOOKUP(A1870,Funcionários!$A$2:$F$299,5,0)),\"\")","v":""},""]
[null,{"$f":"IFERROR(IF(A1871=\"\",\"\",VLOOKUP(A1871,Funcionários!$A$2:$F$299,2,0)),\"Funcionário não encontrado\")","v":""},null,null,null,null,null,"",{"$f":"IFERROR(IF(A1871=\"\",\"\",VLOOKUP(A1871,Funcionários!$A$2:$F$299,5,0)),\"\")","v":""},""]
[null,{"$f":"IFERROR(IF(A1872=\"\",\"\",VLOOKUP(A1872,Funcionários!$A$2:$F$299,2,0)),\"Funcionário não encontrado\")","v":""},null,null,null,null,null,"",{"$f":"IFERROR(IF(A1872=\"\",\"\",VLOOKUP(A1872,Funcionários!$A$2:$F$299,5,0)),\"\")","v":""},""]
[null,{"$f":"IFERROR(IF(A1873=\"\",\"\",VLOOKUP(A1873,Funcionários!$A$2:$F$299,2,0)),\"Funcionário não encontrado\")","v":""},null,null,null,null,null,"",{"$f":"IFERROR(IF(A1873=\"\",\"\",VLOOKUP(A1873,Funcionários!$A$2:$F$299,5,0)),\"\")","v":""},""]
[null,{"$f":"IFERROR(IF(A1874=\"\",\"\",VLOOKUP(A1874,Funcionários!$A$2:$F$299,2,0)),\"Funcionário não encontrado\")","v":""},null,null,null,null,null,"",{"$f":"IFERROR(IF(A1874=\"\",\"\",VLOOKUP(A1874,Funcionários!$A$2:$F$299,5,0)),\"\")","v":""},""]
[null,{"$f":"IFERROR(IF(A1875=\"\",\"\",VLOOKUP(A1875,Funcionários!$A$2:$F$299,2,0)),\"Funcionário não encontrado\")","v":""},null,null,null,null,null,"",{"$f":"IFERROR(IF(A1875=\"\",\"\",VLOOKUP(A1875,Funcionários!$A$2:$F$299,5,0)),\"\")","v":""},""]
[null,{"$f":"IFERROR(IF(A1876=\"\",\"\",VLOOKUP(A1876,Funcionários!$A$2:$F$299,2,0)),\"Funcionário não encontrado\")","v":""},null,null,null,null,null,"",{"$f":"IFERROR(IF(A1876=\"\",\"\",VLOOKUP(A1876,Funcionários!$A$2:$F$299,5,0)),\"\")","v":""},""]
[null,{"$f":"IFERROR(IF(A1877=\"\",\"\",VLOOKUP(A1877,Funcionários!$A$2:$F$299,2,0)),\"Funcionário não encontrado\")","v":""},null,null,null,null,null,"",{"$f":"IFERROR(IF(A1877=\"\",\"\",VLOOKUP(A1877,Funcionários!$A$2:$F$299,5,0)),\"\")","v":""},""]
[null,{"$f":"IFERROR(IF(A1878=\"\",\"\",VLOOKUP(A1878,Funcionários!$A$2:$F$299,2,0)),\"Funcionário não encontrado\")","v":""},null,null,null,null,null,"",{"$f":"IFERROR(IF(A1878=\"\",\"\",VLOOKUP(A1878,Funcionários!$A$2:$F$299,5,0)),\"\")","v":""},""]
[null,{"$f":"IFERROR(IF(A1879=\"\",\"\",VLOOKUP(A1879,Funcionários!$A$2:$F$299,2,0)),\"Funcionário não encontrado\")","v":""},null,null,null,null,null,"",{"$f":"IFERROR(IF(A1879=\"\",\"\",VLOOKUP(A1879,Funcionários!$A$2:$F$299,5,0)),\"\")","v":""},""]
[null,{"$f":"IFERROR(IF(A1880=\"\",\"\",VLOOKUP(A1880,Funcionários!$A$2:$F$299,2,0)),\"Funcionário não encontrado\")","v":""},null,null,null,null,null,"",{"$f":"IFERROR(IF(A1880=\"\",\"\",VLOOKUP(A1880,Funcionários!$A$2:$F$299,5,0)),\"\")","v":""},""]
[null,{"$f":"IFERROR(IF(A1881=\"\",\"\",VLOOKUP(A1881,Funcionários!$A$2:$F$299,2,0)),\"Funcionário não encontrado\")","v":""},null,null,null,null,null,"",{"$f":"IFERROR(IF(A1881=\"\",\"\",VLOOKUP(A1881,Funcionários!$A$2:$F$299,5,0)),\"\")","v":""},""]
[null,{"$f":"IFERROR(IF(A1882=\"\",\"\",VLOOKUP(A1882,Funcionários!$A$2:$F$299,2,0)),\"Funcionário não encontrado\")","v":""},null,null,null,null,null,"",{"$f":"IFERROR(IF(A1882=\"\",\"\",VLOOKUP(A1882,Funcionários!$A$2:$F$299,5,0)),\"\")","v":""},""]
[null,{"$f":"IFERROR(IF(A1883=\"\",\"\",VLOOKUP(A1883,Funcionários!$A$2:$F$299,2,0)),\"Funcionário não encontrado\")","v":""},null,null,null,null,null,"",{"$f":"IFERROR(IF(A1883=\"\",\"\",VLOOKUP(A1883,Funcionários!$A$2:$F$299,5,0)),\"\")","v":""},""]
[null,{"$f":"IFERROR(IF(A1884=\"\",\"\",VLOOKUP(A1884,Funcionários!$A$2:$F$299,2,0)),\"Funcionário não encontrado\")","v":""},null,null,null,null,null,"",{"$f":"IFERROR(IF(A1884=\"\",\"\",VLOOKUP(A1884,Funcionários!$A$2:$F$299,5,0)),\"\")","v":""},""]
[null,{"$f":"IFERROR(IF(A1885=\"\",\"\",VLOOKUP(A1885,Funcionários!$A$2:$F$299,2,0)),\"Funcionário não encontrado\")","v":""},null,null,null,null,null,"",{"$f":"IFERROR(IF(A1885=\"\",\"\",VLOOKUP(A1885,Funcionários!$A$2:$F$299,5,0)),\"\")","v":""},""]
[null,{"$f":"IFERROR(IF(A1886=\"\",\"\",VLOOKUP(A1886,Funcionários!$A$2:$F$299,2,0)),\"Funcionário não encontrado\")","v":""},null,null,null,null,null,"",{"$f":"IFERROR(IF(A1886=\"\",\"\",VLOOKUP(A1886,Funcionários!$A$2:$F$299,5,0)),\"\")","v":""},""]
[null,{"$f":"IFERROR(IF(A1887=\"\",\"\",VLOOKUP(A1887,Funcionários!$A$2:$F$299,2,0)),\"Funcionário não encontrado\")","v":""},null,null,null,null,null,"",{"$f":"IFERROR(IF(A1887=\"\",\"\",VLOOKUP(A1887,Funcionários!$A$2:$F$299,5,0)),\"\")","v":""},""]
[null,{"$f":"IFERROR(IF(A1888=\"\",\"\",VLOOKUP(A1888,Funcionários!$A$2:$F$299,2,0)),\"Funcionário não encontrado\")","v":""},null,null,null,null,null,"",{"$f":"IFERROR(IF(A1888=\"\",\"\",VLOOKUP(A1888,Funcionários!$A$2:$F$299,5,0)),\"\")","v":""},""]
[null,{"$f":"IFERROR(IF(A1889=\"\",\"\",VLOOKUP(A1889,Funcionários!$A$2:$F$299,2,0)),\"Funcionário não encontrado\")","v":""},null,null,null,null,null,"",{"$f":"IFERROR(IF(A1889=\"\",\"\",VLOOKUP(A1889,Funcionários!$A$2:$F$299,5,0)),\"\")","v":""},""]
[null,{"$f":"IFERROR(IF(A1890=\"\",\"\",VLOOKUP(A1890,Funcionários!$A$2:$F$299,2,0)),\"Funcionário não encontrado\")","v":""},null,null,null,null,null,"",{"$f":"IFERROR(IF(A1890=\"\",\"\",VLOOKUP(A1890,Funcionários!$A$2:$F$299,5,0)),\"\")","v":""},""]
[null,{"$f":"IFERROR(IF(A1891=\"\",\"\",VLOOKUP(A1891,Funcionários!$A$2:$F$299,2,0)),\"Funcionário não encontrado\")","v":""},null,null,null,null,null,"",{"$f":"IFERROR(IF(A1891=\"\",\"\",VLOOKUP(A1891,Funcionários!$A$2:$F$299,5,0)),\"\")","v":""},""]
[null,{"$f":"IFERROR(IF(A1892=\"\",\"\",VLOOKUP(A1892,Funcionários!$A$2:$F$299,2,0)),\"Funcionário não encontrado\")","v":""},null,null,null,null,null,"",{"$f":"IFERROR(IF(A1892=\"\",\"\",VLOOKUP(A1892,Funcionários!$A$2:$F$299,5,0)),\"\")","v":""},""]
[null,{"$f":"IFERROR(IF(A1893=\"\",\"\",VLOOKUP(A1893,Funcionários!$A$2:$F$299,2,0)),\"Funcionário não encontrado\")","v":""},null,null,null,null,null,"",{"$f":"IFERROR(IF(A1893=\"\",\"\",VLOOKUP(A1893,Funcionários!$A$2:$F$299,5,0)),\"\")","v":""},""]
[null,{"$f":"IFERROR(IF(A1894=\"\",\"\",VLOOKUP(A1894,Funcionários!$A$2:$F$299,2,0)),\"Funcionário não encontrado\")","v":""},null,null,null,null,null,"",{"$f":"IFERROR(IF(A1894=\"\",\"\",VLOOKUP(A1894,Funcionários!$A$2:$F$299,5,0)),\"\")","v":""},""]
[null,{"$f":"IFERROR(IF(A1895=\"\",\"\",VLOOKUP(A1895,Funcionários!$A$2:$F$299,2,0)),\"Funcionário não encontrado\")","v":""},null,null,null,null,null,"",{"$f":"IFERROR(IF(A1895=\"\",\"\",VLOOKUP(A1895,Funcionários!$A$2:$F$299,5,0)),\"\")","v":""},""]
[null,{"$f":"IFERROR(IF(A1896=\"\",\"\",VLOOKUP(A1896,Funcionários!$A$2:$F$299,2,0)),\"Funcionário não encontrado\")","v":""},null,null,null,null,null,"",{"$f":"IFERROR(IF(A1896=\"\",\"\",VLOOKUP(A1896,Funcionários!$A$2:$F$299,5,0)),\"\")","v":""},""]
[null,{"$f":"IFERROR(IF(A1897=\"\",\"\",VLOOKUP(A1897,Funcionários!$A$2:$F$299,2,0)),\"Funcionário não encontrado\")","v":""},null,null,null,null,null,"",{"$f":"IFERROR(IF(A1897=\"\",\"\",VLOOKUP(A1897,Funcionários!$A$2:$F$299,5,0)),\"\")","v":""},""]
[null,{"$f":"IFERROR(IF(A1898=\"\",\"\",VLOOKUP(A1898,Funcionários!$A$2:$F$299,2,0)),\"Funcionário não encontrado\")","v":""},null,null,null,null,null,"",{"$f":"IFERROR(IF(A1898=\"\",\"\",VLOOKUP(A1898,Funcionários!$A$2:$F$299,5,0)),\"\")","v":""},""]
[null,{"$f":"IFERROR(IF(A1899=\"\",\"\",VLOOKUP(A1899,Funcionários!$A$2:$F$299,2,0)),\"Funcionário não encontrado\")","v":""},null,null,null,null,null,"",{"$f":"IFERROR(IF(A1899=\"\",\"\",VLOOKUP(A1899,Funcionários!$A$2:$F$299,5,0)),\"\")","v":""},""]
[null,{"$f":"IFERROR(IF(A1900=\"\",\"\",VLOOKUP(A1900,Funcionários!$A$2:$F$299,2,0)),\"Funcionário não encontrado\")","v":""},null,null,null,null,null,"",{"$f":"IFERROR(IF(A1900=\"\",\"\",VLOOKUP(A1900,Funcionários!$A$2:$F$299,5,0)),\"\")","v":""},""]
[null,{"$f":"IFERROR(IF(A1901=\"\",\"\",VLOOKUP(A1901,Funcionários!$A$2:$F$299,2,0)),\"Funcionário não encontrado\")","v":""},null,null,null,null,null,"",{"$f":"IFERROR(IF(A1901=\"\",\"\",VLOOKUP(A1901,Funcionários!$A$2:$F$299,5,0)),\"\")","v":""},""]
[null,{"$f":"IFERROR(IF(A1902=\"\",\"\",VLOOKUP(A1902,Funcionários!$A$2:$F$299,2,0)),\"Funcionário não encontrado\")","v":""},null,null,null,null,null,"",{"$f":"IFERROR(IF(A1902=\"\",\"\",VLOOKUP(A1902,Funcionários!$A$2:$F$299,5,0)),\"\")","v":""},""]
[null,{"$f":"IFERROR(IF(A1903=\"\",\"\",VLOOKUP(A1903,Funcionários!$A$2:$F$299,2,0)),\"Funcionário não encontrado\")","v":""},null,null,null,null,null,"",{"$f":"IFERROR(IF(A1903=\"\",\"\",VLOOKUP(A1903,Funcionários!$A$2:$F$299,5,0)),\"\")","v":""},""]
[null,{"$f":"IFERROR(IF(A1904=\"\",\"\",VLOOKUP(A1904,Funcionários!$A$2:$F$299,2,0)),\"Funcionário não encontrado\")","v":""},null,null,null,null,null,"",{"$f":"IFERROR(IF(A1904=\"\",\"\",VLOOKUP(A1904,Funcionários!$A$2:$F$299,5,0)),\"\")","v":""},""]
[null,{"$f":"IFERROR(IF(A1905=\"\",\"\",VLOOKUP(A1905,Funcionários!$A$2:$F$299,2,0)),\"Funcionário não encontrado\")","v":""},null,null,null,null,null,"",{"$f":"IFERROR(IF(A1905=\"\",\"\",VLOOKUP(A1905,Funcionários!$A$2:$F$299,5,0)),\"\")","v":""},""]
[null,{"$f":"IFERROR(IF(A1906=\"\",\"\",VLOOKUP(A1906,Funcionários!$A$2:$F$299,2,0)),\"Funcionário não encontrado\")","v":""},null,null,null,null,null,"",{"$f":"IFERROR(IF(A1906=\"\",\"\",VLOOKUP(A1906,Funcionários!$A$2:$F$299,5,0)),\"\")","v":""},""]
[null,{"$f":"IFERROR(IF(A1907=\"\",\"\",VLOOKUP(A1907,Funcionários!$A$2:$F$299,2,0)),\"Funcionário não encontrado\")","v":""},null,null,null,null,null,"",{"$f":"IFERROR(IF(A1907=\"\",\"\",VLOOKUP(A1907,Funcionários!$A$2:$F$299,5,0)),\"\")","v":""},""]
[null,{"$f":"IFERROR(IF(A1908=\"\",\"\",VLOOKUP(A1908,Funcionários!$A$2:$F$299,2,0)),\"Funcionário não encontrado\")","v":""},null,null,null,null,null,"",{"$f":"IFERROR(IF(A1908=\"\",\"\",VLOOKUP(A1908,Funcionários!$A$2:$F$299,5,0)),\"\")","v":""},""]
[null,{"$f":"IFERROR(IF(A1909=\"\",\"\",VLOOKUP(A1909,Funcionários!$A$2:$F$299,2,0)),\"Funcionário não encontrado\")","v":""},null,null,null,null,null,"",{"$f":"IFERROR(IF(A1909=\"\",\"\",VLOOKUP(A1909,Funcionários!$A$2:$F$299,5,0)),\"\")","v":""},""]
[null,{"$f":"IFERROR(IF(A1910=\"\",\"\",VLOOKUP(A1910,Funcionários!$A$2:$F$299,2,0)),\"Funcionário não encontrado\")","v":""},null,null,null,null,null,"",{"$f":"IFERROR(IF(A1910=\"\",\"\",VLOOKUP(A1910,Funcionários!$A$2:$F$299,5,0)),\"\")","v":""},""]
[null,{"$f":"IFERROR(IF(A1911=\"\",\"\",VLOOKUP(A1911,Funcionários!$A$2:$F$299,2,0)),\"Funcionário não encontrado\")","v":""},null,null,null,null,null,"",{"$f":"IFERROR(IF(A1911=\"\",\"\",VLOOKUP(A1911,Funcionários!$A$2:$F$299,5,0)),\"\")","v":""},""]
[null,{"$f":"IFERROR(IF(A1912=\"\",\"\",VLOOKUP(A1912,Funcionários!$A$2:$F$299,2,0)),\"Funcionário não encontrado\")","v":""},null,null,null,null,null,"",{"$f":"IFERROR(IF(A1912=\"\",\"\",VLOOKUP(A1912,Funcionários!$A$2:$F$299,5,0)),\"\")","v":""},""]
[null,{"$f":"IFERROR(IF(A1913=\"\",\"\",VLOOKUP(A1913,Funcionários!$A$2:$F$299,2,0)),\"Funcionário não encontrado\")","v":""},null,null,null,null,null,"",{"$f":"IFERROR(IF(A1913=\"\",\"\",VLOOKUP(A1913,Funcionários!$A$2:$F$299,5,0)),\"\")","v":""},""]
[null,{"$f":"IFERROR(IF(A1914=\"\",\"\",VLOOKUP(A1914,Funcionários!$A$2:$F$299,2,0)),\"Funcionário não encontrado\")","v":""},null,null,null,null,null,"",{"$f":"IFERROR(IF(A1914=\"\",\"\",VLOOKUP(A1914,Funcionários!$A$2:$F$299,5,0)),\"\")","v":""},""]
[null,{"$f":"IFERROR(IF(A1915=\"\",\"\",VLOOKUP(A1915,Funcionários!$A$2:$F$299,2,0)),\"Funcionário não encontrado\")","v":""},null,null,null,null,null,"",{"$f":"IFERROR(IF(A1915=\"\",\"\",VLOOKUP(A1915,Funcionários!$A$2:$F$299,5,0)),\"\")","v":""},""]
[null,{"$f":"IFERROR(IF(A1916=\"\",\"\",VLOOKUP(A1916,Funcionários!$A$2:$F$299,2,0)),\"Funcionário não encontrado\")","v":""},null,null,null,null,null,"",{"$f":"IFERROR(IF(A1916=\"\",\"\",VLOOKUP(A1916,Funcionários!$A$2:$F$299,5,0)),\"\")","v":""},""]
[null,{"$f":"IFERROR(IF(A1917=\"\",\"\",VLOOKUP(A1917,Funcionários!$A$2:$F$299,2,0)),\"Funcionário não encontrado\")","v":""},null,null,null,null,null,"",{"$f":"IFERROR(IF(A1917=\"\",\"\",VLOOKUP(A1917,Funcionários!$A$2:$F$299,5,0)),\"\")","v":""},""]
[null,{"$f":"IFERROR(IF(A1918=\"\",\"\",VLOOKUP(A1918,Funcionários!$A$2:$F$299,2,0)),\"Funcionário não encontrado\")","v":""},null,null,null,null,null,"",{"$f":"IFERROR(IF(A1918=\"\",\"\",VLOOKUP(A1918,Funcionários!$A$2:$F$299,5,0)),\"\")","v":""},""]
[null,{"$f":"IFERROR(IF(A1919=\"\",\"\",VLOOKUP(A1919,Funcionários!$A$2:$F$299,2,0)),\"Funcionário não encontrado\")","v":""},null,null,null,null,null,"",{"$f":"IFERROR(IF(A1919=\"\",\"\",VLOOKUP(A1919,Funcionários!$A$2:$F$299,5,0)),\"\")","v":""},""]
[null,{"$f":"IFERROR(IF(A1920=\"\",\"\",VLOOKUP(A1920,Funcionários!$A$2:$F$299,2,0)),\"Funcionário não encontrado\")","v":""},null,null,null,null,null,"",{"$f":"IFERROR(IF(A1920=\"\",\"\",VLOOKUP(A1920,Funcionários!$A$2:$F$299,5,0)),\"\")","v":""},""]
[null,{"$f":"IFERROR(IF(A1921=\"\",\"\",VLOOKUP(A1921,Funcionários!$A$2:$F$299,2,0)),\"Funcionário não encontrado\")","v":""},null,null,null,null,null,"",{"$f":"IFERROR(IF(A1921=\"\",\"\",VLOOKUP(A1921,Funcionários!$A$2:$F$299,5,0)),\"\")","v":""},""]
[null,{"$f":"IFERROR(IF(A1922=\"\",\"\",VLOOKUP(A1922,Funcionários!$A$2:$F$299,2,0)),\"Funcionário não encontrado\")","v":""},null,null,null,null,null,"",{"$f":"IFERROR(IF(A1922=\"\",\"\",VLOOKUP(A1922,Funcionários!$A$2:$F$299,5,0)),\"\")","v":""},""]
[null,{"$f":"IFERROR(IF(A1923=\"\",\"\",VLOOKUP(A1923,Funcionários!$A$2:$F$299,2,0)),\"Funcionário não encontrado\")","v":""},null,null,null,null,null,{"$f":"IF(OR(D1923=\"\",E1923=\"\",F1923=\"\"),\"\",MOD((E1923-D1923)+(G1923-F1923),1))","v":""},{"$f":"IFERROR(IF(A1923=\"\",\"\",VLOOKUP(A1923,Funcionários!$A$2:$F$299,5,0)),\"\")","v":""},{"$f":"IF(H1923=\"\",\"\",H1923-I1923)","v":""}]
[null,{"$f":"IFERROR(IF(A1924=\"\",\"\",VLOOKUP(A1924,Funcionários!$A$2:$F$299,2,0)),\"Funcionário não encontrado\")","v":""},null,null,null,null,null,"",{"$f":"IFERROR(IF(A1924=\"\",\"\",VLOOKUP(A1924,Funcionários!$A$2:$F$299,5,0)),\"\")","v":""},""]
[null,{"$f":"IFERROR(IF(A1925=\"\",\"\",VLOOKUP(A1925,Funcionários!$A$2:$F$299,2,0)),\"Funcionário não encontrado\")","v":""},null,null,null,null,null,"",{"$f":"IFERROR(IF(A1925=\"\",\"\",VLOOKUP(A1925,Funcionários!$A$2:$F$299,5,0)),\"\")","v":""},""]
[null,{"$f":"IFERROR(IF(A1926=\"\",\"\",VLOOKUP(A1926,Funcionários!$A$2:$F$299,2,0)),\"Funcionário não encontrado\")","v":""},null,null,null,null,null,"",{"$f":"IFERROR(IF(A1926=\"\",\"\",VLOOKUP(A1926,Funcionários!$A$2:$F$299,5,0)),\"\")","v":""},""]
[null,{"$f":"IFERROR(IF(A1927=\"\",\"\",VLOOKUP(A1927,Funcionários!$A$2:$F$299,2,0)),\"Funcionário não encontrado\")","v":""},null,null,null,null,null,"",{"$f":"IFERROR(IF(A1927=\"\",\"\",VLOOKUP(A1927,Funcionários!$A$2:$F$299,5,0)),\"\")","v":""},""]
[null,{"$f":"IFERROR(IF(A1928=\"\",\"\",VLOOKUP(A1928,Funcionários!$A$2:$F$299,2,0)),\"Funcionário não encontrado\")","v":""},null,null,null,null,null,"",{"$f":"IFERROR(IF(A1928=\"\",\"\",VLOOKUP(A1928,Funcionários!$A$2:$F$299,5,0)),\"\")","v":""},""]
[null,{"$f":"IFERROR(IF(A1929=\"\",\"\",VLOOKUP(A1929,Funcionários!$A$2:$F$299,2,0)),\"Funcionário não encontrado\")","v":""},null,null,null,null,null,"",{"$f":"IFERROR(IF(A1929=\"\",\"\",VLOOKUP(A1929,Funcionários!$A$2:$F$299,5,0)),\"\")","v":""},""]
[null,{"$f":"IFERROR(IF(A1930=\"\",\"\",VLOOKUP(A1930,Funcionários!$A$2:$F$299,2,0)),\"Funcionário não encontrado\")","v":""},null,null,null,null,null,"",{"$f":"IFERROR(IF(A1930=\"\",\"\",VLOOKUP(A1930,Funcionários!$A$2:$F$299,5,0)),\"\")","v":""},""]
[null,{"$f":"IFERROR(IF(A1931=\"\",\"\",VLOOKUP(A1931,Funcionários!$A$2:$F$299,2,0)),\"Funcionário não encontrado\")","v":""},null,null,null,null,null,"",{"$f":"IFERROR(IF(A1931=\"\",\"\",VLOOKUP(A1931,Funcionários!$A$2:$F$299,5,0)),\"\")","v":""},""]
[null,{"$f":"IFERROR(IF(A1932=\"\",\"\",VLOOKUP(A1932,Funcionários!$A$2:$F$299,2,0)),\"Funcionário não encontrado\")","v":""},null,null,null,null,null,"",{"$f":"IFERROR(IF(A1932=\"\",\"\",VLOOKUP(A1932,Funcionários!$A$2:$F$299,5,0)),\"\")","v":""},""]
[null,{"$f":"IFERROR(IF(A1933=\"\",\"\",VLOOKUP(A1933,Funcionários!$A$2:$F$299,2,0)),\"Funcionário não encontrado\")","v":""},null,null,null,null,null,"",{"$f":"IFERROR(IF(A1933=\"\",\"\",VLOOKUP(A1933,Funcionários!$A$2:$F$299,5,0)),\"\")","v":""},""]
[null,{"$f":"IFERROR(IF(A1934=\"\",\"\",VLOOKUP(A1934,Funcionários!$A$2:$F$299,2,0)),\"Funcionário não encontrado\")","v":""},null,null,null,null,null,"",{"$f":"IFERROR(IF(A1934=\"\",\"\",VLOOKUP(A1934,Funcionários!$A$2:$F$299,5,0)),\"\")","v":""},""]
[null,{"$f":"IFERROR(IF(A1935=\"\",\"\",VLOOKUP(A1935,Funcionários!$A$2:$F$299,2,0)),\"Funcionário não encontrado\")","v":""},null,null,null,null,null,"",{"$f":"IFERROR(IF(A1935=\"\",\"\",VLOOKUP(A1935,Funcionários!$A$2:$F$299,5,0)),\"\")","v":""},""]
[null,{"$f":"IFERROR(IF(A1936=\"\",\"\",VLOOKUP(A1936,Funcionários!$A$2:$F$299,2,0)),\"Funcionário não encontrado\")","v":""},null,null,null,null,null,"",{"$f":"IFERROR(IF(A1936=\"\",\"\",VLOOKUP(A1936,Funcionários!$A$2:$F$299,5,0)),\"\")","v":""},""]
[null,{"$f":"IFERROR(IF(A1937=\"\",\"\",VLOOKUP(A1937,Funcionários!$A$2:$F$299,2,0)),\"Funcionário não encontrado\")","v":""},null,null,null,null,null,"",{"$f":"IFERROR(IF(A1937=\"\",\"\",VLOOKUP(A1937,Funcionários!$A$2:$F$299,5,0)),\"\")","v":""},""]
[null,{"$f":"IFERROR(IF(A1938=\"\",\"\",VLOOKUP(A1938,Funcionários!$A$2:$F$299,2,0)),\"Funcionário não encontrado\")","v":""},null,null,null,null,null,"",{"$f":"IFERROR(IF(A1938=\"\",\"\",VLOOKUP(A1938,Funcionários!$A$2:$F$299,5,0)),\"\")","v":""},""]
[null,{"$f":"IFERROR(IF(A1939=\"\",\"\",VLOOKUP(A1939,Funcionários!$A$2:$F$299,2,0)),\"Funcionário não encontrado\")","v":""},null,null,null,null,null,"",{"$f":"IFERROR(IF(A1939=\"\",\"\",VLOOKUP(A1939,Funcionários!$A$2:$F$299,5,0)),\"\")","v":""},""]
[null,{"$f":"IFERROR(IF(A1940=\"\",\"\",VLOOKUP(A1940,Funcionários!$A$2:$F$299,2,0)),\"Funcionário não encontrado\")","v":""},null,null,null,null,null,"",{"$f":"IFERROR(IF(A1940=\"\",\"\",VLOOKUP(A1940,Funcionários!$A$2:$F$299,5,0)),\"\")","v":""},""]
[null,{"$f":"IFERROR(IF(A1941=\"\",\"\",VLOOKUP(A1941,Funcionários!$A$2:$F$299,2,0)),\"Funcionário não encontrado\")","v":""},null,null,null,null,null,"",{"$f":"IFERROR(IF(A1941=\"\",\"\",VLOOKUP(A1941,Funcionários!$A$2:$F$299,5,0)),\"\")","v":""},""]
[null,{"$f":"IFERROR(IF(A1942=\"\",\"\",VLOOKUP(A1942,Funcionários!$A$2:$F$299,2,0)),\"Funcionário não encontrado\")","v":""},null,null,null,null,null,"",{"$f":"IFERROR(IF(A1942=\"\",\"\",VLOOKUP(A1942,Funcionários!$A$2:$F$299,5,0)),\"\")","v":""},""]
[null,{"$f":"IFERROR(IF(A1943=\"\",\"\",VLOOKUP(A1943,Funcionários!$A$2:$F$299,2,0)),\"Funcionário não encontrado\")","v":""},null,null,null,null,null,"",{"$f":"IFERROR(IF(A1943=\"\",\"\",VLOOKUP(A1943,Funcionários!$A$2:$F$299,5,0)),\"\")","v":""},""]
[null,{"$f":"IFERROR(IF(A1944=\"\",\"\",VLOOKUP(A1944,Funcionários!$A$2:$F$299,2,0)),\"Funcionário não encontrado\")","v":""},null,null,null,null,null,"",{"$f":"IFERROR(IF(A1944=\"\",\"\",VLOOKUP(A1944,Funcionários!$A$2:$F$299,5,0)),\"\")","v":""},""]
[null,{"$f":"IFERROR(IF(A1945=\"\",\"\",VLOOKUP(A1945,Funcionários!$A$2:$F$299,2,0)),\"Funcionário não encontrado\")","v":""},null,null,null,null,null,"",{"$f":"IFERROR(IF(A1945=\"\",\"\",VLOOKUP(A1945,Funcionários!$A$2:$F$299,5,0)),\"\")","v":""},""]
[null,{"$f":"IFERROR(IF(A1946=\"\",\"\",VLOOKUP(A1946,Funcionários!$A$2:$F$299,2,0)),\"Funcionário não encontrado\")","v":""},null,null,null,null,null,"",{"$f":"IFERROR(IF(A1946=\"\",\"\",VLOOKUP(A1946,Funcionários!$A$2:$F$299,5,0)),\"\")","v":""},""]
[null,{"$f":"IFERROR(IF(A1947=\"\",\"\",VLOOKUP(A1947,Funcionários!$A$2:$F$299,2,0)),\"Funcionário não encontrado\")","v":""},null,null,null,null,null,"",{"$f":"IFERROR(IF(A1947=\"\",\"\",VLOOKUP(A1947,Funcionários!$A$2:$F$299,5,0)),\"\")","v":""},""]
[null,{"$f":"IFERROR(IF(A1948=\"\",\"\",VLOOKUP(A1948,Funcionários!$A$2:$F$299,2,0)),\"Funcionário não encontrado\")","v":""},null,null,null,null,null,"",{"$f":"IFERROR(IF(A1948=\"\",\"\",VLOOKUP(A1948,Funcionários!$A$2:$F$299,5,0)),\"\")","v":""},""]
[null,{"$f":"IFERROR(IF(A1949=\"\",\"\",VLOOKUP(A1949,Funcionários!$A$2:$F$299,2,0)),\"Funcionário não encontrado\")","v":""},null,null,null,null,null,"",{"$f":"IFERROR(IF(A1949=\"\",\"\",VLOOKUP(A1949,Funcionários!$A$2:$F$299,5,0)),\"\")","v":""},""]
[null,{"$f":"IFERROR(IF(A1950=\"\",\"\",VLOOKUP(A1950,Funcionários!$A$2:$F$299,2,0)),\"Funcionário não encontrado\")","v":""},null,null,null,null,null,"",{"$f":"IFERROR(IF(A1950=\"\",\"\",VLOOKUP(A1950,Funcionários!$A$2:$F$299,5,0)),\"\")","v":""},""]
[null,{"$f":"IFERROR(IF(A1951=\"\",\"\",VLOOKUP(A1951,Funcionários!$A$2:$F$299,2,0)),\"Funcionário não encontrado\")","v":""},null,null,null,null,null,"",{"$f":"IFERROR(IF(A1951=\"\",\"\",VLOOKUP(A1951,Funcionários!$A$2:$F$299,5,0)),\"\")","v":""},""]
[null,{"$f":"IFERROR(IF(A1952=\"\",\"\",VLOOKUP(A1952,Funcionários!$A$2:$F$299,2,0)),\"Funcionário não encontrado\")","v":""},null,null,null,null,null,"",{"$f":"IFERROR(IF(A1952=\"\",\"\",VLOOKUP(A1952,Funcionários!$A$2:$F$299,5,0)),\"\")","v":""},""]
[null,{"$f":"IFERROR(IF(A1953=\"\",\"\",VLOOKUP(A1953,Funcionários!$A$2:$F$299,2,0)),\"Funcionário não encontrado\")","v":""},null,null,null,null,null,"",{"$f":"IFERROR(IF(A1953=\"\",\"\",VLOOKUP(A1953,Funcionários!$A$2:$F$299,5,0)),\"\")","v":""},""]
[null,{"$f":"IFERROR(IF(A1954=\"\",\"\",VLOOKUP(A1954,Funcionários!$A$2:$F$299,2,0)),\"Funcionário não encontrado\")","v":""},null,null,null,null,null,"",{"$f":"IFERROR(IF(A1954=\"\",\"\",VLOOKUP(A1954,Funcionários!$A$2:$F$299,5,0)),\"\")","v":""},""]
[null,{"$f":"IFERROR(IF(A1955=\"\",\"\",VLOOKUP(A1955,Funcionários!$A$2:$F$299,2,0)),\"Funcionário não encontrado\")","v":""},null,null,null,null,null,"",{"$f":"IFERROR(IF(A1955=\"\",\"\",VLOOKUP(A1955,Funcionários!$A$2:$F$299,5,0)),\"\")","v":""},""]
[null,{"$f":"IFERROR(IF(A1956=\"\",\"\",VLOOKUP(A1956,Funcionários!$A$2:$F$299,2,0)),\"Funcionário não encontrado\")","v":""},null,null,null,null,null,"",{"$f":"IFERROR(IF(A1956=\"\",\"\",VLOOKUP(A1956,Funcionários!$A$2:$F$299,5,0)),\"\")","v":""},""]
[null,{"$f":"IFERROR(IF(A1957=\"\",\"\",VLOOKUP(A1957,Funcionários!$A$2:$F$299,2,0)),\"Funcionário não encontrado\")","v":""},null,null,null,null,null,"",{"$f":"IFERROR(IF(A1957=\"\",\"\",VLOOKUP(A1957,Funcionários!$A$2:$F$299,5,0)),\"\")","v":""},""]
[null,{"$f":"IFERROR(IF(A1958=\"\",\"\",VLOOKUP(A1958,Funcionários!$A$2:$F$299,2,0)),\"Funcionário não encontrado\")","v":""},null,null,null,null,null,"",{"$f":"IFERROR(IF(A1958=\"\",\"\",VLOOKUP(A1958,Funcionários!$A$2:$F$299,5,0)),\"\")","v":""},""]
[null,{"$f":"IFERROR(IF(A1959=\"\",\"\",VLOOKUP(A1959,Funcionários!$A$2:$F$299,2,0)),\"Funcionário não encontrado\")","v":""},null,null,null,null,null,"",{"$f":"IFERROR(IF(A1959=\"\",\"\",VLOOKUP(A1959,Funcionários!$A$2:$F$299,5,0)),\"\")","v":""},""]
[null,{"$f":"IFERROR(IF(A1960=\"\",\"\",VLOOKUP(A1960,Funcionários!$A$2:$F$299,2,0)),\"Funcionário não encontrado\")","v":""},null,null,null,null,null,"",{"$f":"IFERROR(IF(A1960=\"\",\"\",VLOOKUP(A1960,Funcionários!$A$2:$F$299,5,0)),\"\")","v":""},""]
[null,{"$f":"IFERROR(IF(A1961=\"\",\"\",VLOOKUP(A1961,Funcionários!$A$2:$F$299,2,0)),\"Funcionário não encontrado\")","v":""},null,null,null,null,null,"",{"$f":"IFERROR(IF(A1961=\"\",\"\",VLOOKUP(A1961,Funcionários!$A$2:$F$299,5,0)),\"\")","v":""},""]
[null,{"$f":"IFERROR(IF(A1962=\"\",\"\",VLOOKUP(A1962,Funcionários!$A$2:$F$299,2,0)),\"Funcionário não encontrado\")","v":""},null,null,null,null,null,"",{"$f":"IFERROR(IF(A1962=\"\",\"\",VLOOKUP(A1962,Funcionários!$A$2:$F$299,5,0)),\"\")","v":""},""]
[null,{"$f":"IFERROR(IF(A1963=\"\",\"\",VLOOKUP(A1963,Funcionários!$A$2:$F$299,2,0)),\"Funcionário não encontrado\")","v":""},null,null,null,null,null,"",{"$f":"IFERROR(IF(A1963=\"\",\"\",VLOOKUP(A1963,Funcionários!$A$2:$F$299,5,0)),\"\")","v":""},""]
[null,{"$f":"IFERROR(IF(A1964=\"\",\"\",VLOOKUP(A1964,Funcionários!$A$2:$F$299,2,0)),\"Funcionário não encontrado\")","v":""},null,null,null,null,null,"",{"$f":"IFERROR(IF(A1964=\"\",\"\",VLOOKUP(A1964,Funcionários!$A$2:$F$299,5,0)),\"\")","v":""},""]
[null,{"$f":"IFERROR(IF(A1965=\"\",\"\",VLOOKUP(A1965,Funcionários!$A$2:$F$299,2,0)),\"Funcionário não encontrado\")","v":""},null,null,null,null,null,"",{"$f":"IFERROR(IF(A1965=\"\",\"\",VLOOKUP(A1965,Funcionários!$A$2:$F$299,5,0)),\"\")","v":""},""]
[null,{"$f":"IFERROR(IF(A1966=\"\",\"\",VLOOKUP(A1966,Funcionários!$A$2:$F$299,2,0)),\"Funcionário não encontrado\")","v":""},null,null,null,null,null,"",{"$f":"IFERROR(IF(A1966=\"\",\"\",VLOOKUP(A1966,Funcionários!$A$2:$F$299,5,0)),\"\")","v":""},""]
[null,{"$f":"IFERROR(IF(A1967=\"\",\"\",VLOOKUP(A1967,Funcionários!$A$2:$F$299,2,0)),\"Funcionário não encontrado\")","v":""},null,null,null,null,null,"",{"$f":"IFERROR(IF(A1967=\"\",\"\",VLOOKUP(A1967,Funcionários!$A$2:$F$299,5,0)),\"\")","v":""},""]
[null,{"$f":"IFERROR(IF(A1968=\"\",\"\",VLOOKUP(A1968,Funcionários!$A$2:$F$299,2,0)),\"Funcionário não encontrado\")","v":""},null,null,null,null,null,"",{"$f":"IFERROR(IF(A1968=\"\",\"\",VLOOKUP(A1968,Funcionários!$A$2:$F$299,5,0)),\"\")","v":""},""]
[null,{"$f":"IFERROR(IF(A1969=\"\",\"\",VLOOKUP(A1969,Funcionários!$A$2:$F$299,2,0)),\"Funcionário não encontrado\")","v":""},null,null,null,null,null,"",{"$f":"IFERROR(IF(A1969=\"\",\"\",VLOOKUP(A1969,Funcionários!$A$2:$F$299,5,0)),\"\")","v":""},""]
[null,{"$f":"IFERROR(IF(A1970=\"\",\"\",VLOOKUP(A1970,Funcionários!$A$2:$F$299,2,0)),\"Funcionário não encontrado\")","v":""},null,null,null,null,null,"",{"$f":"IFERROR(IF(A1970=\"\",\"\",VLOOKUP(A1970,Funcionários!$A$2:$F$299,5,0)),\"\")","v":""},""]
[null,{"$f":"IFERROR(IF(A1971=\"\",\"\",VLOOKUP(A1971,Funcionários!$A$2:$F$299,2,0)),\"Funcionário não encontrado\")","v":""},null,null,null,null,null,"",{"$f":"IFERROR(IF(A1971=\"\",\"\",VLOOKUP(A1971,Funcionários!$A$2:$F$299,5,0)),\"\")","v":""},""]
[null,{"$f":"IFERROR(IF(A1972=\"\",\"\",VLOOKUP(A1972,Funcionários!$A$2:$F$299,2,0)),\"Funcionário não encontrado\")","v":""},null,null,null,null,null,"",{"$f":"IFERROR(IF(A1972=\"\",\"\",VLOOKUP(A1972,Funcionários!$A$2:$F$299,5,0)),\"\")","v":""},""]
[null,{"$f":"IFERROR(IF(A1973=\"\",\"\",VLOOKUP(A1973,Funcionários!$A$2:$F$299,2,0)),\"Funcionário não encontrado\")","v":""},null,null,null,null,null,"",{"$f":"IFERROR(IF(A1973=\"\",\"\",VLOOKUP(A1973,Funcionários!$A$2:$F$299,5,0)),\"\")","v":""},""]
[null,{"$f":"IFERROR(IF(A1974=\"\",\"\",VLOOKUP(A1974,Funcionários!$A$2:$F$299,2,0)),\"Funcionário não encontrado\")","v":""},null,null,null,null,null,"",{"$f":"IFERROR(IF(A1974=\"\",\"\",VLOOKUP(A1974,Funcionários!$A$2:$F$299,5,0)),\"\")","v":""},""]
[null,{"$f":"IFERROR(IF(A1975=\"\",\"\",VLOOKUP(A1975,Funcionários!$A$2:$F$299,2,0)),\"Funcionário não encontrado\")","v":""},null,null,null,null,null,"",{"$f":"IFERROR(IF(A1975=\"\",\"\",VLOOKUP(A1975,Funcionários!$A$2:$F$299,5,0)),\"\")","v":""},""]
[null,{"$f":"IFERROR(IF(A1976=\"\",\"\",VLOOKUP(A1976,Funcionários!$A$2:$F$299,2,0)),\"Funcionário não encontrado\")","v":""},null,null,null,null,null,"",{"$f":"IFERROR(IF(A1976=\"\",\"\",VLOOKUP(A1976,Funcionários!$A$2:$F$299,5,0)),\"\")","v":""},""]
[null,{"$f":"IFERROR(IF(A1977=\"\",\"\",VLOOKUP(A1977,Funcionários!$A$2:$F$299,2,0)),\"Funcionário não encontrado\")","v":""},null,null,null,null,null,"",{"$f":"IFERROR(IF(A1977=\"\",\"\",VLOOKUP(A1977,Funcionários!$A$2:$F$299,5,0)),\"\")","v":""},""]
[null,{"$f":"IFERROR(IF(A1978=\"\",\"\",VLOOKUP(A1978,Funcionários!$A$2:$F$299,2,0)),\"Funcionário não encontrado\")","v":""},null,null,null,null,null,"",{"$f":"IFERROR(IF(A1978=\"\",\"\",VLOOKUP(A1978,Funcionários!$A$2:$F$299,5,0)),\"\")","v":""},""]
[null,{"$f":"IFERROR(IF(A1979=\"\",\"\",VLOOKUP(A1979,Funcionários!$A$2:$F$299,2,0)),\"Funcionário não encontrado\")","v":""},null,null,null,null,null,"",{"$f":"IFERROR(IF(A1979=\"\",\"\",VLOOKUP(A1979,Funcionários!$A$2:$F$299,5,0)),\"\")","v":""},""]
[null,{"$f":"IFERROR(IF(A1980=\"\",\"\",VLOOKUP(A1980,Funcionários!$A$2:$F$299,2,0)),\"Funcionário não encontrado\")","v":""},null,null,null,null,null,"",{"$f":"IFERROR(IF(A1980=\"\",\"\",VLOOKUP(A1980,Funcionários!$A$2:$F$299,5,0)),\"\")","v":""},""]
[null,{"$f":"IFERROR(IF(A1981=\"\",\"\",VLOOKUP(A1981,Funcionários!$A$2:$F$299,2,0)),\"Funcionário não encontrado\")","v":""},null,null,null,null,null,"",{"$f":"IFERROR(IF(A1981=\"\",\"\",VLOOKUP(A1981,Funcionários!$A$2:$F$299,5,0)),\"\")","v":""},""]
[null,{"$f":"IFERROR(IF(A1982=\"\",\"\",VLOOKUP(A1982,Funcionários!$A$2:$F$299,2,0)),\"Funcionário não encontrado\")","v":""},null,null,null,null,null,"",{"$f":"IFERROR(IF(A1982=\"\",\"\",VLOOKUP(A1982,Funcionários!$A$2:$F$299,5,0)),\"\")","v":""},""]
[null,{"$f":"IFERROR(IF(A1983=\"\",\"\",VLOOKUP(A1983,Funcionários!$A$2:$F$299,2,0)),\"Funcionário não encontrado\")","v":""},null,null,null,null,null,"",{"$f":"IFERROR(IF(A1983=\"\",\"\",VLOOKUP(A1983,Funcionários!$A$2:$F$299,5,0)),\"\")","v":""},""]
[null,{"$f":"IFERROR(IF(A1984=\"\",\"\",VLOOKUP(A1984,Funcionários!$A$2:$F$299,2,0)),\"Funcionário não encontrado\")","v":""},null,null,null,null,null,"",{"$f":"IFERROR(IF(A1984=\"\",\"\",VLOOKUP(A1984,Funcionários!$A$2:$F$299,5,0)),\"\")","v":""},""]
[null,{"$f":"IFERROR(IF(A1985=\"\",\"\",VLOOKUP(A1985,Funcionários!$A$2:$F$299,2,0)),\"Funcionário não encontrado\")","v":""},null,null,null,null,null,"",{"$f":"IFERROR(IF(A1985=\"\",\"\",VLOOKUP(A1985,Funcionários!$A$2:$F$299,5,0)),\"\")","v":""},""]
[null,{"$f":"IFERROR(IF(A1986=\"\",\"\",VLOOKUP(A1986,Funcionários!$A$2:$F$299,2,0)),\"Funcionário não encontrado\")","v":""},null,null,null,null,null,"",{"$f":"IFERROR(IF(A1986=\"\",\"\",VLOOKUP(A1986,Funcionários!$A$2:$F$299,5,0)),\"\")","v":""},""]
[null,{"$f":"IFERROR(IF(A1987=\"\",\"\",VLOOKUP(A1987,Funcionários!$A$2:$F$299,2,0)),\"Funcionário não encontrado\")","v":""},null,null,null,null,null,{"$f":"IF(OR(D1987=\"\",E1987=\"\",F1987=\"\"),\"\",MOD((E1987-D1987)+(G1987-F1987),1))","v":""},{"$f":"IFERROR(IF(A1987=\"\",\"\",VLOOKUP(A1987,Funcionários!$A$2:$F$299,5,0)),\"\")","v":""},{"$f":"IF(H1987=\"\",\"\",H1987-I1987)","v":""}]
[null,{"$f":"IFERROR(IF(A1988=\"\",\"\",VLOOKUP(A1988,Funcionários!$A$2:$F$299,2,0)),\"Funcionário não encontrado\")","v":""},null,null,null,null,null,"",{"$f":"IFERROR(IF(A1988=\"\",\"\",VLOOKUP(A1988,Funcionários!$A$2:$F$299,5,0)),\"\")","v":""},""]
[null,{"$f":"IFERROR(IF(A1989=\"\",\"\",VLOOKUP(A1989,Funcionários!$A$2:$F$299,2,0)),\"Funcionário não encontrado\")","v":""},null,null,null,null,null,"",{"$f":"IFERROR(IF(A1989=\"\",\"\",VLOOKUP(A1989,Funcionários!$A$2:$F$299,5,0)),\"\")","v":""},""]
[null,{"$f":"IFERROR(IF(A1990=\"\",\"\",VLOOKUP(A1990,Funcionários!$A$2:$F$299,2,0)),\"Funcionário não encontrado\")","v":""},null,null,null,null,null,"",{"$f":"IFERROR(IF(A1990=\"\",\"\",VLOOKUP(A1990,Funcionários!$A$2:$F$299,5,0)),\"\")","v":""},""]
[null,{"$f":"IFERROR(IF(A1991=\"\",\"\",VLOOKUP(A1991,Funcionários!$A$2:$F$299,2,0)),\"Funcionário não encontrado\")","v":""},null,null,null,null,null,"",{"$f":"IFERROR(IF(A1991=\"\",\"\",VLOOKUP(A1991,Funcionários!$A$2:$F$299,5,0)),\"\")","v":""},""]
[null,{"$f":"IFERROR(IF(A1992=\"\",\"\",VLOOKUP(A1992,Funcionários!$A$2:$F$299,2,0)),\"Funcionário não encontrado\")","v":""},null,null,null,null,null,"",{"$f":"IFERROR(IF(A1992=\"\",\"\",VLOOKUP(A1992,Funcionários!$A$2:$F$299,5,0)),\"\")","v":""},""]
[null,{"$f":"IFERROR(IF(A1993=\"\",\"\",VLOOKUP(A1993,Funcionários!$A$2:$F$299,2,0)),\"Funcionário não encontrado\")","v":""},null,null,null,null,null,"",{"$f":"IFERROR(IF(A1993=\"\",\"\",VLOOKUP(A1993,Funcionários!$A$2:$F$299,5,0)),\"\")","v":""},""]
[null,{"$f":"IFERROR(IF(A1994=\"\",\"\",VLOOKUP(A1994,Funcionários!$A$2:$F$299,2,0)),\"Funcionário não encontrado\")","v":""},null,null,null,null,null,"",{"$f":"IFERROR(IF(A1994=\"\",\"\",VLOOKUP(A1994,Funcionários!$A$2:$F$299,5,0)),\"\")","v":""},""]
[null,{"$f":"IFERROR(IF(A1995=\"\",\"\",VLOOKUP(A1995,Funcionários!$A$2:$F$299,2,0)),\"Funcionário não encontrado\")","v":""},null,null,null,null,null,"",{"$f":"IFERROR(IF(A1995=\"\",\"\",VLOOKUP(A1995,Funcionários!$A$2:$F$299,5,0)),\"\")","v":""},""]
[null,{"$f":"IFERROR(IF(A1996=\"\",\"\",VLOOKUP(A1996,Funcionários!$A$2:$F$299,2,0)),\"Funcionário não encontrado\")","v":""},null,null,null,null,null,"",{"$f":"IFERROR(IF(A1996=\"\",\"\",VLOOKUP(A1996,Funcionários!$A$2:$F$299,5,0)),\"\")","v":""},""]
[null,{"$f":"IFERROR(IF(A1997=\"\",\"\",VLOOKUP(A1997,Funcionários!$A$2:$F$299,2,0)),\"Funcionário não encontrado\")","v":""},null,null,null,null,null,"",{"$f":"IFERROR(IF(A1997=\"\",\"\",VLOOKUP(A1997,Funcionários!$A$2:$F$299,5,0)),\"\")","v":""},""]
[null,{"$f":"IFERROR(IF(A1998=\"\",\"\",VLOOKUP(A1998,Funcionários!$A$2:$F$299,2,0)),\"Funcionário não encontrado\")","v":""},null,null,null,null,null,"",{"$f":"IFERROR(IF(A1998=\"\",\"\",VLOOKUP(A1998,Funcionários!$A$2:$F$299,5,0)),\"\")","v":""},""]
[null,{"$f":"IFERROR(IF(A1999=\"\",\"\",VLOOKUP(A1999,Funcionários!$A$2:$F$299,2,0)),\"Funcionário não encontrado\")","v":""},null,null,null,null,null,"",{"$f":"IFERROR(IF(A1999=\"\",\"\",VLOOKUP(A1999,Funcionários!$A$2:$F$299,5,0)),\"\")","v":""},""]
[null,{"$f":"IFERROR(IF(A2000=\"\",\"\",VLOOKUP(A2000,Funcionários!$A$2:$F$299,2,0)),\"Funcionário não encontrado\")","v":""},null,null,null,null,null,"",{"$f":"IFERROR(IF(A2000=\"\",\"\",VLOOKUP(A2000,Funcionários!$A$2:$F$299,5,0)),\"\")","v":""},""]
[null,{"$f":"IFERROR(IF(A2001=\"\",\"\",VLOOKUP(A2001,Funcionários!$A$2:$F$299,2,0)),\"Funcionário não encontrado\")","v":""},null,null,null,null,null,"",{"$f":"IFERROR(IF(A2001=\"\",\"\",VLOOKUP(A2001,Funcionários!$A$2:$F$299,5,0)),\"\")","v":""},""]

{"sheet":"Folha de Ponto","index":5,"n_rows":15,"n_cols":9,"rows_kept":15,"cut":false,"hidden":false,"merged":[[1,4,1,5],[3,2,3,3],[1,1,1,3],[2,2,2,3],[6,1,8,6],[6,7,6,8],[10,2,10,3],[10,5,10,6],[12,5,12,6],[12,2,12,3]]}
[]
[null,"Funcionário:",null,null,"Período:"]
[null,"Matrícula",null,null,"Data Inicial"]
[null,"Nome",{"$f":"IFERROR(IF(C3=\"\",\"\",VLOOKUP(C3,Funcionários!$A$2:$F$299,2,0)),\"Funcionário não encontrado\")","v":""},null,"Data Final"]
[]
[]
[null,"FOLHA DE PONTO INDIVIDUAL",null,null,null,null,null,"Período:"]
[null,null,null,null,null,null,null,"Data Inicial",{"$f":"IF(F3=\"\",\"\",F3)","v":""}]
[null,null,null,null,null,null,null,"Data Final",{"$f":"IF(F4=\"\",\"\",F4)","v":""}]
[]
[null,"Matrícula",{"$f":"IF(C3=\"\",\"\",C3)","v":""},null,"Função",{"$f":"IFERROR(IF(C3=\"\",\"\",VLOOKUP(C3,Funcionários!$A$2:$F$299,4,0)),\"Funcionário não encontrado\")","v":""},null,"Carga Horária Diária",{"$f":"IFERROR(IF(C3=\"\",\"\",VLOOKUP(C3,Funcionários!$A$2:$F$299,5,0)),\"Funcionário não encontrado\")","v":""}]
[null,"12/14/2024",null,null,0.95833333333333337,null,null,0.375]
[null,"Nome",{"$f":"IFERROR(IF(C3=\"\",\"\",VLOOKUP(C3,Funcionários!$A$2:$F$299,2,0)),\"Funcionário não encontrado\")","v":""},null,"Departamento",{"$f":"IFERROR(IF(C3=\"\",\"\",VLOOKUP(C3,Funcionários!$A$2:$F$299,3,0)),\"Funcionário não encontrado\")","v":""},null,"Data de Admissão",{"$f":"IFERROR(IF(C3=\"\",\"\",VLOOKUP(C3,Funcionários!$A$2:$F$299,6,0)),\"Funcionário não encontrado\")","v":""}]
[]
[null,"Data","Horário de Entrada","Horário de Saída p/ Intervalo","Horário de retorno do Intervalo","Horário de Saída","Horas Trabalhadas","Carga Horária / Diaria","Saldo do Dia"]