{"text_format":"1","workbook":"xlsx","n_sheets":6,"sheets":["Início","Cadastrar","Banco de Funcionários","Controle de Horas","Folha de Ponto","Plan1"],"not_rendered":{"charts":0,"images":8,"macros":1,"external_links":0,"defined_names":6,"comments":0,"pivot_tables":0},"unopened":[],"bounds":{"document_bytes":16777216,"sheet_cells":100000,"rows_first":2000,"rows_last":500,"rows_between":2000,"halvings":0,"cell_chars":16384,"cell_head_chars":4096},"cells_cut":0,"cells_raw":0,"read":"whole","date_system":"1900"}

{"sheet":"Início","index":0,"n_rows":3,"n_cols":2,"rows_kept":3,"cut":false,"hidden":false,"merged":[[1,1,1,3],[2,1,2,3]]}
[]
[null,"CONTROLE"]
[null,"Horas / Folha de Ponto"]

{"sheet":"Cadastrar","index":1,"n_rows":9,"n_cols":5,"rows_kept":9,"cut":false,"hidden":false,"merged":[]}
[]
[]
[]
[null,null,null,null,"Cadastrar Funcionários"]
[]
[null,null,null,"Matrícula"]
[null,null,null,"Nome"]
[null,null,null,"Função"]
[null,null,null,"Data de admissão"]

{"sheet":"Banco de Funcionários","index":2,"n_rows":7,"n_cols":4,"rows_kept":7,"cut":false,"hidden":false,"merged":[]}
["Matrícula","Nome","Função","Data de Admissão"]
[{"$f":"Cadastrar!E6","v":0},{"$f":"Cadastrar!E7","v":0},{"$f":"Cadastrar!E8","v":0},{"$f":"Cadastrar!E9","v":"00:00:00"}]
["090788","Guilherme","Analista","2003-08-08"]
["000156","João da Silva","Mecânico","2015-07-05"]
["00123","Pedro da Silva","Gestor de Qualidade","2014-06-03"]
["0034","Claudia","ADM","2007-08-09"]
["0021","João da Silva","Mecânico","2013-02-09"]

{"sheet":"Controle de Horas","index":3,"n_rows":12411,"n_cols":11,"rows_kept":4500,"cut":true,"hidden":false,"merged":[],"bounds":{"rows_first":2000,"rows_last":500,"rows_between":2000,"halvings":0}}
["Matrícula","Nome","Mês","Dia","Entrada","Saída","Intervalo","Horas trabalhadas","Carga Horária / Diaria","Hora Extra","Total de horas"]
["000156",{"$f":"IFERROR(IF(A2=\"\",\"\",VLOOKUP(A2,'Banco de Funcionários'!$A$2:$D$1048576,2,0)),\"\")","v":"João da Silva"},"Julho",5,"08:00:00","17:00:00","01:00:00",{"$f":"(F2-E2)-G2","v":"08:00:00"},"08:00:00",{"$f":"IFERROR(H2-I2,\"\")","v":"00:00:00"},{"$f":"IFERROR(H2+J2,0)","v":"08:00:00"}]
["000156",{"$f":"IFERROR(IF(A3=\"\",\"\",VLOOKUP(A3,'Banco de Funcionários'!$A$2:$D$1048576,2,0)),\"\")","v":"João da Silva"},"Julho",6,"08:00:00","17:30:00","00:00:00",{"$f":"(F3-E3)-G3","v":"09:30:00"},"08:00:00",{"$f":"IFERROR(H3-I3,\"\")","v":"01:30:00"},{"$f":"IFERROR(H3+J3,0)","v":"11:00:00"}]
["000156",{"$f":"IFERROR(IF(A4=\"\",\"\",VLOOKUP(A4,'Banco de Funcionários'!$A$2:$D$1048576,2,0)),\"\")","v":"João da Silva"},"Julho",7,"08:00:00","18:00:00","03:00:00","07:00:00","08:00:00",-4.166666666666663E-2,"06:00:00"]
[null,{"$f":"IFERROR(IF(A5=\"\",\"\",VLOOKUP(A5,'Banco de Funcionários'!$A$2:$D$1048576,2,0)),\"\")","v":""},null,null,null,null,null,"00:00:00",null,"00:00:00","00:00:00"]
[null,{"$f":"IFERROR(IF(A6=\"\",\"\",VLOOKUP(A6,'Banco de Funcionários'!$A$2:$D$1048576,2,0)),\"\")","v":""},null,null,null,null,null,"00:00:00",null,"00:00:00","00:00:00"]
[null,{"$f":"IFERROR(IF(A7=\"\",\"\",VLOOKUP(A7,'Banco de Funcionários'!$A$2:$D$1048576,2,0)),\"\")","v":""},null,null,null,null,null,"00:00:00",null,"00:00:00","00:00:00"]
[null,{"$f":"IFERROR(IF(A8=\"\",\"\",VLOOKUP(A8,'Banco de Funcionários'!$A$2:$D$1048576,2,0)),\"\")","v":""},null,null,null,null,null,"00:00:00",null,"00:00:00","00:00:00"]
[null,{"$f":"IFERROR(IF(A9=\"\",\"\",VLOOKUP(A9,'Banco de Funcionários'!$A$2:$D$1048576,2,0)),\"\")","v":""},null,null,null,null,null,"00:00:00",null,"00:00:00","00:00:00"]
[null,{"$f":"IFERROR(IF(A10=\"\",\"\",VLOOKUP(A10,'Banco de Funcionários'!$A$2:$D$1048576,2,0)),\"\")","v":""},null,null,null,null,null,"00:00:00",null,"00:00:00","00:00:00"]
[null,{"$f":"IFERROR(IF(A11=\"\",\"\",VLOOKUP(A11,'Banco de Funcionários'!$A$2:$D$1048576,2,0)),\"\")","v":""},null,null,null,null,null,"00:00:00",null,"00:00:00","00:00:00"]
[null,{"$f":"IFERROR(IF(A12=\"\",\"\",VLOOKUP(A12,'Banco de Funcionários'!$A$2:$D$1048576,2,0)),\"\")","v":""},null,null,null,null,null,"00:00:00",null,"00:00:00","00:00:00"]
[null,{"$f":"IFERROR(IF(A13=\"\",\"\",VLOOKUP(A13,'Banco de Funcionários'!$A$2:$D$1048576,2,0)),\"\")","v":""},null,null,null,null,null,"00:00:00",null,"00:00:00","00:00:00"]
[null,{"$f":"IFERROR(IF(A14=\"\",\"\",VLOOKUP(A14,'Banco de Funcionários'!$A$2:$D$1048576,2,0)),\"\")","v":""},null,null,null,null,null,"00:00:00",null,"00:00:00","00:00:00"]
[null,{"$f":"IFERROR(IF(A15=\"\",\"\",VLOOKUP(A15,'Banco de Funcionários'!$A$2:$D$1048576,2,0)),\"\")","v":""},null,null,null,null,null,"00:00:00",null,"00:00:00","00:00:00"]
[null,{"$f":"IFERROR(IF(A16=\"\",\"\",VLOOKUP(A16,'Banco de Funcionários'!$A$2:$D$1048576,2,0)),\"\")","v":""},null,null,null,null,null,"00:00:00",null,"00:00:00","00:00:00"]
[null,{"$f":"IFERROR(IF(A17=\"\",\"\",VLOOKUP(A17,'Banco de Funcionários'!$A$2:$D$1048576,2,0)),\"\")","v":""},null,null,null,null,null,"00:00:00",null,"00:00:00","00:00:00"]
[null,{"$f":"IFERROR(IF(A18=\"\",\"\",VLOOKUP(A18,'Banco de Funcionários'!$A$2:$D$1048576,2,0)),\"\")","v":""},null,null,null,null,null,"00:00:00",null,"00:00:00","00:00:00"]
[null,{"$f":"IFERROR(IF(A19=\"\",\"\",VLOOKUP(A19,'Banco de Funcionários'!$A$2:$D$1048576,2,0)),\"\")","v":""},null,null,null,null,null,"00:00:00",null,"00:00:00","00:00:00"]
[null,{"$f":"IFERROR(IF(A20=\"\",\"\",VLOOKUP(A20,'Banco de Funcionários'!$A$2:$D$1048576,2,0)),\"\")","v":""},null,null,null,null,null,"00:00:00",null,"00:00:00","00:00:00"]
[null,{"$f":"IFERROR(IF(A21=\"\",\"\",VLOOKUP(A21,'Banco de Funcionários'!$A$2:$D$1048576,2,0)),\"\")","v":""},null,null,null,null,null,"00:00:00",null,"00:00:00","00:00:00"]
[null,{"$f":"IFERROR(IF(A22=\"\",\"\",VLOOKUP(A22,'Banco de Funcionários'!$A$2:$D$1048576,2,0)),\"\")","v":""},null,null,null,null,null,"00:00:00",null,"00:00:00","00:00:00"]
[null,{"$f":"IFERROR(IF(A23=\"\",\"\",VLOOKUP(A23,'Banco de Funcionários'!$A$2:$D$1048576,2,0)),\"\")","v":""},null,null,null,null,null,"00:00:00",null,"00:00:00","00:00:00"]
[null,{"$f":"IFERROR(IF(A24=\"\",\"\",VLOOKUP(A24,'Banco de Funcionários'!$A$2:$D$1048576,2,0)),\"\")","v":""},null,null,null,null,null,"00:00:00",null,"00:00:00","00:00:00"]
[null,{"$f":"IFERROR(IF(A25=\"\",\"\",VLOOKUP(A25,'Banco de Funcionários'!$A$2:$D$1048576,2,0)),\"\")","v":""},null,null,null,null,null,"00:00:00",null,"00:00:00","00:00:00"]
[null,{"$f":"IFERROR(IF(A26=\"\",\"\",VLOOKUP(A26,'Banco de Funcionários'!$A$2:$D$1048576,2,0)),\"\")","v":""},null,null,null,null,null,"00:00:00",null,"00:00:00","00:00:00"]
[null,{"$f":"IFERROR(IF(A27=\"\",\"\",VLOOKUP(A27,'Banco de Funcionários'!$A$2:$D$1048576,2,0)),\"\")","v":""},null,null,null,null,null,"00:00:00",null,"00:00:00","00:00:00"]
[null,{"$f":"IFERROR(IF(A28=\"\",\"\",VLOOKUP(A28,'Banco de Funcionários'!$A$2:$D$1048576,2,0)),\"\")","v":""},null,null,null,null,null,"00:00:00",null,"00:00:00","00:00:00"]
[null,{"$f":"IFERROR(IF(A29=\"\",\"\",VLOOKUP(A29,'Banco de Funcionários'!$A$2:$D$1048576,2,0)),\"\")","v":""},null,null,null,null,null,"00:00:00",null,"00:00:00","00:00:00"]
[null,{"$f":"IFERROR(IF(A30=\"\",\"\",VLOOKUP(A30,'Banco de Funcionários'!$A$2:$D$1048576,2,0)),\"\")","v":""},null,null,null,null,null,"00:00:00",null,"00:00:00","00:00:00"]
[null,{"$f":"IFERROR(IF(A31=\"\",\"\",VLOOKUP(A31,'Banco de Funcionários'!$A$2:$D$1048576,2,0)),\"\")","v":""},null,null,null,null,null,"00:00:00",null,"00:00:00","00:00:00"]
[null,{"$f":"IFERROR(IF(A32=\"\",\"\",VLOOKUP(A32,'Banco de Funcionários'!$A$2:$D$1048576,2,0)),\"\")","v":""},null,null,null,null,null,"00:00:00",null,"00:00:00","00:00:00"]
[null,{"$f":"IFERROR(IF(A33=\"\",\"\",VLOOKUP(A33,'Banco de Funcionários'!$A$2:$D$1048576,2,0)),\"\")","v":""},null,null,null,null,null,"00:00:00",null,"00:00:00","00:00:00"]
[null,{"$f":"IFERROR(IF(A34=\"\",\"\",VLOOKUP(A34,'Banco de Funcionários'!$A$2:$D$1048576,2,0)),\"\")","v":""},null,null,null,null,null,"00:00:00",null,"00:00:00","00:00:00"]
[null,{"$f":"IFERROR(IF(A35=\"\",\"\",VLOOKUP(A35,'Banco de Funcionários'!$A$2:$D$1048576,2,0)),\"\")","v":""},null,null,null,null,null,"00:00:00",null,"00:00:00","00:00:00"]
[null,{"$f":"IFERROR(IF(A36=\"\",\"\",VLOOKUP(A36,'Banco de Funcionários'!$A$2:$D$1048576,2,0)),\"\")","v":""},null,null,null,null,null,"00:00:00",null,"00:00:00","00:00:00"]
[null,{"$f":"IFERROR(IF(A37=\"\",\"\",VLOOKUP(A37,'Banco de Funcionários'!$A$2:$D$1048576,2,0)),\"\")","v":""},null,null,null,null,null,"00:00:00",null,"00:00:00","00:00:00"]
[null,{"$f":"IFERROR(IF(A38=\"\",\"\",VLOOKUP(A38,'Banco de Funcionários'!$A$2:$D$1048576,2,0)),\"\")","v":""},null,null,null,null,null,"00:00:00",null,"00:00:00","00:00:00"]
[null,{"$f":"IFERROR(IF(A39=\"\",\"\",VLOOKUP(A39,'Banco de Funcionários'!$A$2:$D$1048576,2,0)),\"\")","v":""},null,null,null,null,null,"00:00:00",null,"00:00:00","00:00:00"]
[null,{"$f":"IFERROR(IF(A40=\"\",\"\",VLOOKUP(A40,'Banco de Funcionários'!$A$2:$D$1048576,2,0)),\"\")","v":""},null,null,null,null,null,"00:00:00",null,"00:00:00","00:00:00"]
[null,{"$f":"IFERROR(IF(A41=\"\",\"\",VLOOKUP(A41,'Banco de Funcionários'!$A$2:$D$1048576,2,0)),\"\")","v":""},null,null,null,null,null,"00:00:00",null,"00:00:00","00:00:00"]
[null,{"$f":"IFERROR(IF(A42=\"\",\"\",VLOOKUP(A42,'Banco de Funcionários'!$A$2:$D$1048576,2,0)),\"\")","v":""},null,null,null,null,null,"00:00:00",null,"00:00:00","00:00:00"]
[null,{"$f":"IFERROR(IF(A43=\"\",\"\",VLOOKUP(A43,'Banco de Funcionários'!$A$2:$D$1048576,2,0)),\"\")","v":""},null,null,null,null,null,"00:00:00",null,"00:00:00","00:00:00"]
[null,{"$f":"IFERROR(IF(A44=\"\",\"\",VLOOKUP(A44,'Banco de Funcionários'!$A$2:$D$1048576,2,0)),\"\")","v":""},null,null,null,null,null,"00:00:00",null,"00:00:00","00:00:00"]
[null,{"$f":"IFERROR(IF(A45=\"\",\"\",VLOOKUP(A45,'Banco de Funcionários'!$A$2:$D$1048576,2,0)),\"\")","v":""},null,null,null,null,null,"00:00:00",null,"00:00:00","00:00:00"]
[null,{"$f":"IFERROR(IF(A46=\"\",\"\",VLOOKUP(A46,'Banco de Funcionários'!$A$2:$D$1048576,2,0)),\"\")","v":""},null,null,null,null,null,"00:00:00",null,"00:00:00","00:00:00"]
[null,{"$f":"IFERROR(IF(A47=\"\",\"\",VLOOKUP(A47,'Banco de Funcionários'!$A$2:$D$1048576,2,0)),\"\")","v":""},null,null,null,null,null,"00:00:00",null,"00:00:00","00:00:00"]
[null,{"$f":"IFERROR(IF(A48=\"\",\"\",VLOOKUP(A48,'Banco de Funcionários'!$A$2:$D$1048576,2,0)),\"\")","v":""},null,null,null,null,null,"00:00:00",null,"00:00:00","00:00:00"]
[null,{"$f":"IFERROR(IF(A49=\"\",\"\",VLOOKUP(A49,'Banco de Funcionários'!$A$2:$D$1048576,2,0)),\"\")","v":""},null,null,null,null,null,"00:00:00",null,"00:00:00","00:00:00"]
[null,{"$f":"IFERROR(IF(A50=\"\",\"\",VLOOKUP(A50,'Banco de Funcionários'!$A$2:$D$1048576,2,0)),\"\")","v":""},null,null,null,null,null,"00:00:00",null,"00:00:00","00:00:00"]
[null,{"$f":"IFERROR(IF(A51=\"\",\"\",VLOOKUP(A51,'Banco de Funcionários'!$A$2:$D$1048576,2,0)),\"\")","v":""},null,null,null,null,null,"00:00:00",null,"00:00:00","00:00:00"]
[null,{"$f":"IFERROR(IF(A52=\"\",\"\",VLOOKUP(A52,'Banco de Funcionários'!$A$2:$D$1048576,2,0)),\"\")","v":""},null,null,null,null,null,"00:00:00",null,"00:00:00","00:00:00"]
[null,{"$f":"IFERROR(IF(A53=\"\",\"\",VLOOKUP(A53,'Banco de Funcionários'!$A$2:$D$1048576,2,0)),\"\")","v":""},null,null,null,null,null,"00:00:00",null,"00:00:00","00:00:00"]
[null,{"$f":"IFERROR(IF(A54=\"\",\"\",VLOOKUP(A54,'Banco de Funcionários'!$A$2:$D$1048576,2,0)),\"\")","v":""},null,null,null,null,null,"00:00:00",null,"00:00:00","00:00:00"]
[null,{"$f":"IFERROR(IF(A55=\"\",\"\",VLOOKUP(A55,'Banco de Funcionários'!$A$2:$D$1048576,2,0)),\"\")","v":""},null,null,null,null,null,"00:00:00",null,"00:00:00","00:00:00"]
[null,{"$f":"IFERROR(IF(A56=\"\",\"\",VLOOKUP(A56,'Banco de Funcionários'!$A$2:$D$1048576,2,0)),\"\")","v":""},null,null,null,null,null,"00:00:00",null,"00:00:00","00:00:00"]
[null,{"$f":"IFERROR(IF(A57=\"\",\"\",VLOOKUP(A57,'Banco de Funcionários'!$A$2:$D$1048576,2,0)),\"\")","v":""},null,null,null,null,null,"00:00:00",null,"00:00:00","00:00:00"]
[null,{"$f":"IFERROR(IF(A58=\"\",\"\",VLOOKUP(A58,'Banco de Funcionários'!$A$2:$D$1048576,2,0)),\"\")","v":""},null,null,null,null,null,"00:00:00",null,"00:00:00","00:00:00"]
[null,{"$f":"IFERROR(IF(A59=\"\",\"\",VLOOKUP(A59,'Banco de Funcionários'!$A$2:$D$1048576,2,0)),\"\")","v":""},null,null,null,null,null,"00:00:00",null,"00:00:00","00:00:00"]
[null,{"$f":"IFERROR(IF(A60=\"\",\"\",VLOOKUP(A60,'Banco de Funcionários'!$A$2:$D$1048576,2,0)),\"\")","v":""},null,null,null,null,null,"00:00:00",null,"00:00:00","00:00:00"]
[null,{"$f":"IFERROR(IF(A61=\"\",\"\",VLOOKUP(A61,'Banco de Funcionários'!$A$2:$D$1048576,2,0)),\"\")","v":""},null,null,null,null,null,"00:00:00",null,"00:00:00","00:00:00"]
[null,{"$f":"IFERROR(IF(A62=\"\",\"\",VLOOKUP(A62,'Banco de Funcionários'!$A$2:$D$1048576,2,0)),\"\")","v":""},null,null,null,null,null,"00:00:00",null,"00:00:00","00:00:00"]
[null,{"$f":"IFERROR(IF(A63=\"\",\"\",VLOOKUP(A63,'Banco de Funcionários'!$A$2:$D$1048576,2,0)),\"\")","v":""},null,null,null,null,null,"00:00:00",null,"00:00:00","00:00:00"]
[null,{"$f":"IFERROR(IF(A64=\"\",\"\",VLOOKUP(A64,'Banco de Funcionários'!$A$2:$D$1048576,2,0)),\"\")","v":""},null,null,null,null,null,"00:00:00",null,"00:00:00","00:00:00"]
[null,{"$f":"IFERROR(IF(A65=\"\",\"\",VLOOKUP(A65,'Banco de Funcionários'!$A$2:$D$1048576,2,0)),\"\")","v":""},null,null,null,null,null,"00:00:00",null,"00:00:00","00:00:00"]
[null,{"$f":"IFERROR(IF(A66=\"\",\"\",VLOOKUP(A66,'Banco de Funcionários'!$A$2:$D$1048576,2,0)),\"\")","v":""},null,null,null,null,null,"00:00:00",null,"00:00:00","00:00:00"]
[null,{"$f":"IFERROR(IF(A67=\"\",\"\",VLOOKUP(A67,'Banco de Funcionários'!$A$2:$D$1048576,2,0)),\"\")","v":""},null,null,null,null,null,{"$f":"(F67-E67)-G67","v":"00:00:00"},null,{"$f":"IFERROR(H67-I67,\"\")","v":"00:00:00"},{"$f":"IFERROR(H67+J67,0)","v":"00:00:00"}]
[null,{"$f":"IFERROR(IF(A68=\"\",\"\",VLOOKUP(A68,'Banco de Funcionários'!$A$2:$D$1048576,2,0)),\"\")","v":""},null,null,null,null,null,"00:00:00",null,"00:00:00","00:00:00"]
[null,{"$f":"IFERROR(IF(A69=\"\",\"\",VLOOKUP(A69,'Banco de Funcionários'!$A$2:$D$1048576,2,0)),\"\")","v":""},null,null,null,null,null,"00:00:00",null,"00:00:00","00:00:00"]
[null,{"$f":"IFERROR(IF(A70=\"\",\"\",VLOOKUP(A70,'Banco de Funcionários'!$A$2:$D$1048576,2,0)),\"\")","v":""},null,null,null,null,null,"00:00:00",null,"00:00:00","00:00:00"]
[null,{"$f":"IFERROR(IF(A71=\"\",\"\",VLOOKUP(A71,'Banco de Funcionários'!$A$2:$D$1048576,2,0)),\"\")","v":""},null,null,null,null,null,"00:00:00",null,"00:00:00","00:00:00"]
[null,{"$f":"IFERROR(IF(A72=\"\",\"\",VLOOKUP(A72,'Banco de Funcionários'!$A$2:$D$1048576,2,0)),\"\")","v":""},null,null,null,null,null,"00:00:00",null,"00:00:00","00:00:00"]
[null,{"$f":"IFERROR(IF(A73=\"\",\"\",VLOOKUP(A73,'Banco de Funcionários'!$A$2:$D$1048576,2,0)),\"\")","v":""},null,null,null,null,null,"00:00:00",null,"00:00:00","00:00:00"]
[null,{"$f":"IFERROR(IF(A74=\"\",\"\",VLOOKUP(A74,'Banco de Funcionários'!$A$2:$D$1048576,2,0)),\"\")","v":""},null,null,null,null,null,"00:00:00",null,"00:00:00","00:00:00"]
[null,{"$f":"IFERROR(IF(A75=\"\",\"\",VLOOKUP(A75,'Banco de Funcionários'!$A$2:$D$1048576,2,0)),\"\")","v":""},null,null,null,null,null,"00:00:00",null,"00:00:00","00:00:00"]
[null,{"$f":"IFERROR(IF(A76=\"\",\"\",VLOOKUP(A76,'Banco de Funcionários'!$A$2:$D$1048576,2,0)),\"\")","v":""},null,null,null,null,null,"00:00:00",null,"00:00:00","00:00:00"]
[null,{"$f":"IFERROR(IF(A77=\"\",\"\",VLOOKUP(A77,'Banco de Funcionários'!$A$2:$D$1048576,2,0)),\"\")","v":""},null,null,null,null,null,"00:00:00",null,"00:00:00","00:00:00"]
[null,{"$f":"IFERROR(IF(A78=\"\",\"\",VLOOKUP(A78,'Banco de Funcionários'!$A$2:$D$1048576,2,0)),\"\")","v":""},null,null,null,null,null,"00:00:00",null,"00:00:00","00:00:00"]
[null,{"$f":"IFERROR(IF(A79=\"\",\"\",VLOOKUP(A79,'Banco de Funcionários'!$A$2:$D$1048576,2,0)),\"\")","v":""},null,null,null,null,null,"00:00:00",null,"00:00:00","00:00:00"]
[null,{"$f":"IFERROR(IF(A80=\"\",\"\",VLOOKUP(A80,'Banco de Funcionários'!$A$2:$D$1048576,2,0)),\"\")","v":""},null,null,null,null,null,"00:00:00",null,"00:00:00","00:00:00"]
[null,{"$f":"IFERROR(IF(A81=\"\",\"\",VLOOKUP(A81,'Banco de Funcionários'!$A$2:$D$1048576,2,0)),\"\")","v":""},null,null,null,null,null,"00:00:00",null,"00:00:00","00:00:00"]
[null,{"$f":"IFERROR(IF(A82=\"\",\"\",VLOOKUP(A82,'Banco de Funcionários'!$A$2:$D$1048576,2,0)),\"\")","v":""},null,null,null,null,null,"00:00:00",null,"00:00:00","00:00:00"]
[null,{"$f":"IFERROR(IF(A83=\"\",\"\",VLOOKUP(A83,'Banco de Funcionários'!$A$2:$D$1048576,2,0)),\"\")","v":""},null,null,null,null,null,"00:00:00",null,"00:00:00","00:00:00"]
[null,{"$f":"IFERROR(IF(A84=\"\",\"\",VLOOKUP(A84,'Banco de Funcionários'!$A$2:$D$1048576,2,0)),\"\")","v":""},null,null,null,null,null,"00:00:00",null,"00:00:00","00:00:00"]
[null,{"$f":"IFERROR(IF(A85=\"\",\"\",VLOOKUP(A85,'Banco de Funcionários'!$A$2:$D$1048576,2,0)),\"\")","v":""},null,null,null,null,null,"00:00:00",null,"00:00:00","00:00:00"]
[null,{"$f":"IFERROR(IF(A86=\"\",\"\",VLOOKUP(A86,'Banco de Funcionários'!$A$2:$D$1048576,2,0)),\"\")","v":""},null,null,null,null,null,"00:00:00",null,"00:00:00","00:00:00"]
[null,{"$f":"IFERROR(IF(A87=\"\",\"\",VLOOKUP(A87,'Banco de Funcionários'!$A$2:$D$1048576,2,0)),\"\")","v":""},null,null,null,null,null,"00:00:00",null,"00:00:00","00:00:00"]
[null,{"$f":"IFERROR(IF(A88=\"\",\"\",VLOOKUP(A88,'Banco de Funcionários'!$A$2:$D$1048576,2,0)),\"\")","v":""},null,null,null,null,null,"00:00:00",null,"00:00:00","00:00:00"]
[null,{"$f":"IFERROR(IF(A89=\"\",\"\",VLOOKUP(A89,'Banco de Funcionários'!$A$2:$D$1048576,2,0)),\"\")","v":""},null,null,null,null,null,"00:00:00",null,"00:00:00","00:00:00"]
[null,{"$f":"IFERROR(IF(A90=\"\",\"\",VLOOKUP(A90,'Banco de Funcionários'!$A$2:$D$1048576,2,0)),\"\")","v":""},null,null,null,null,null,"00:00:00",null,"00:00:00","00:00:00"]
[null,{"$f":"IFERROR(IF(A91=\"\",\"\",VLOOKUP(A91,'Banco de Funcionários'!$A$2:$D$1048576,2,0)),\"\")","v":""},null,null,null,null,null,"00:00:00",null,"00:00:00","00:00:00"]
[null,{"$f":"IFERROR(IF(A92=\"\",\"\",VLOOKUP(A92,'Banco de Funcionários'!$A$2:$D$1048576,2,0)),\"\")","v":""},null,null,null,null,null,"00:00:00",null,"00:00:00","00:00:00"]
[null,{"$f":"IFERROR(IF(A93=\"\",\"\",VLOOKUP(A93,'Banco de Funcionários'!$A$2:$D$1048576,2,0)),\"\")","v":""},null,null,null,null,null,"00:00:00",null,"00:00:00","00:00:00"]
[null,{"$f":"IFERROR(IF(A94=\"\",\"\",VLOOKUP(A94,'Banco de Funcionários'!$A$2:$D$1048576,2,0)),\"\")","v":""},null,null,null,null,null,"00:00:00",null,"00:00:00","00:00:00"]
[null,{"$f":"IFERROR(IF(A95=\"\",\"\",VLOOKUP(A95,'Banco de Funcionários'!$A$2:$D$1048576,2,0)),\"\")","v":""},null,null,null,null,null,"00:00:00",null,"00:00:00","00:00:00"]
[null,{"$f":"IFERROR(IF(A96=\"\",\"\",VLOOKUP(A96,'Banco de Funcionários'!$A$2:$D$1048576,2,0)),\"\")","v":""},null,null,null,null,null,"00:00:00",null,"00:00:00","00:00:00"]
[null,{"$f":"IFERROR(IF(A97=\"\",\"\",VLOOKUP(A97,'Banco de Funcionários'!$A$2:$D$1048576,2,0)),\"\")","v":""},null,null,null,null,null,"00:00:00",null,"00:00:00","00:00:00"]
[null,{"$f":"IFERROR(IF(A98=\"\",\"\",VLOOKUP(A98,'Banco de Funcionários'!$A$2:$D$1048576,2,0)),\"\")","v":""},null,null,null,null,null,"00:00:00",null,"00:00:00","00:00:00"]
[null,{"$f":"IFERROR(IF(A99=\"\",\"\",VLOOKUP(A99,'Banco de Funcionários'!$A$2:$D$1048576,2,0)),\"\")","v":""},null,null,null,null,null,"00:00:00",null,"00:00:00","00:00:00"]
[null,{"$f":"IFERROR(IF(A100=\"\",\"\",VLOOKUP(A100,'Banco de Funcionários'!$A$2:$D$1048576,2,0)),\"\")","v":""},null,null,null,null,null,"00:00:00",null,"00:00:00","00:00:00"]
[null,{"$f":"IFERROR(IF(A101=\"\",\"\",VLOOKUP(A101,'Banco de Funcionários'!$A$2:$D$1048576,2,0)),\"\")","v":""},null,null,null,null,null,"00:00:00",null,"00:00:00","00:00:00"]
[null,{"$f":"IFERROR(IF(A102=\"\",\"\",VLOOKUP(A102,'Banco de Funcionários'!$A$2:$D$1048576,2,0)),\"\")","v":""},null,null,null,null,null,"00:00:00",null,"00:00:00","00:00:00"]
[null,{"$f":"IFERROR(IF(A103=\"\",\"\",VLOOKUP(A103,'Banco de Funcionários'!$A$2:$D$1048576,2,0)),\"\")","v":""},null,null,null,null,null,"00:00:00",null,"00:00:00","00:00:00"]
[null,{"$f":"IFERROR(IF(A104=\"\",\"\",VLOOKUP(A104,'Banco de Funcionários'!$A$2:$D$1048576,2,0)),\"\")","v":""},null,null,null,null,null,"00:00:00",null,"00:00:00","00:00:00"]
[null,{"$f":"IFERROR(IF(A105=\"\",\"\",VLOOKUP(A105,'Banco de Funcionários'!$A$2:$D$1048576,2,0)),\"\")","v":""},null,null,null,null,null,"00:00:00",null,"00:00:00","00:00:00"]
[null,{"$f":"IFERROR(IF(A106=\"\",\"\",VLOOKUP(A106,'Banco de Funcionários'!$A$2:$D$1048576,2,0)),\"\")","v":""},null,null,null,null,null,"00:00:00",null,"00:00:00","00:00:00"]
[null,{"$f":"IFERROR(IF(A107=\"\",\"\",VLOOKUP(A107,'Banco de Funcionários'!$A$2:$D$1048576,2,0)),\"\")","v":""},null,null,null,null,null,"00:00:00",null,"00:00:00","00:00:00"]
[null,{"$f":"IFERROR(IF(A108=\"\",\"\",VLOOKUP(A108,'Banco de Funcionários'!$A$2:$D$1048576,2,0)),\"\")","v":""},null,null,null,null,null,"00:00:00",null,"00:00:00","00:00:00"]
[null,{"$f":"IFERROR(IF(A109=\"\",\"\",VLOOKUP(A109,'Banco de Funcionários'!$A$2:$D$1048576,2,0)),\"\")","v":""},null,null,null,null,null,"00:00:00",null,"00:00:00","00:00:00"]
[null,{"$f":"IFERROR(IF(A110=\"\",\"\",VLOOKUP(A110,'Banco de Funcionários'!$A$2:$D$1048576,2,0)),\"\")","v":""},null,null,null,null,null,"00:00:00",null,"00:00:00","00:00:00"]
[null,{"$f":"IFERROR(IF(A111=\"\",\"\",VLOOKUP(A111,'Banco de Funcionários'!$A$2:$D$1048576,2,0)),\"\")","v":""},null,null,null,null,null,"00:00:00",null,"00:00:00","00:00:00"]
[null,{"$f":"IFERROR(IF(A112=\"\",\"\",VLOOKUP(A112,'Banco de Funcionários'!$A$2:$D$1048576,2,0)),\"\")","v":""},null,null,null,null,null,"00:00:00",null,"00:00:00","00:00:00"]
[null,{"$f":"IFERROR(IF(A113=\"\",\"\",VLOOKUP(A113,'Banco de Funcionários'!$A$2:$D$1048576,2,0)),\"\")","v":""},null,null,null,null,null,"00:00:00",null,"00:00:00","00:00:00"]
[null,{"$f":"IFERROR(IF(A114=\"\",\"\",VLOOKUP(A114,'Banco de Funcionários'!$A$2:$D$1048576,2,0)),\"\")","v":""},null,null,null,null,null,"00:00:00",null,"00:00:00","00:00:00"]
[null,{"$f":"IFERROR(IF(A115=\"\",\"\",VLOOKUP(A115,'Banco de Funcionários'!$A$2:$D$1048576,2,0)),\"\")","v":""},null,null,null,null,null,"00:00:00",null,"00:00:00","00:00:00"]
[null,{"$f":"IFERROR(IF(A116=\"\",\"\",VLOOKUP(A116,'Banco de Funcionários'!$A$2:$D$1048576,2,0)),\"\")","v":""},null,null,null,null,null,"00:00:00",null,"00:00:00","00:00:00"]
[null,{"$f":"IFERROR(IF(A117=\"\",\"\",VLOOKUP(A117,'Banco de Funcionários'!$A$2:$D$1048576,2,0)),\"\")","v":""},null,null,null,null,null,"00:00:00",null,"00:00:00","00:00:00"]
[null,{"$f":"IFERROR(IF(A118=\"\",\"\",VLOOKUP(A118,'Banco de Funcionários'!$A$2:$D$1048576,2,0)),\"\")","v":""},null,null,null,null,null,"00:00:00",null,"00:00:00","00:00:00"]
[null,{"$f":"IFERROR(IF(A119=\"\",\"\",VLOOKUP(A119,'Banco de Funcionários'!$A$2:$D$1048576,2,0)),\"\")","v":""},null,null,null,null,null,"00:00:00",null,"00:00:00","00:00:00"]
[null,{"$f":"IFERROR(IF(A120=\"\",\"\",VLOOKUP(A120,'Banco de Funcionários'!$A$2:$D$1048576,2,0)),\"\")","v":""},null,null,null,null,null,"00:00:00",null,"00:00:00","00:00:00"]
[null,{"$f":"IFERROR(IF(A121=\"\",\"\",VLOOKUP(A121,'Banco de Funcionários'!$A$2:$D$1048576,2,0)),\"\")","v":""},null,null,null,null,null,"00:00:00",null,"00:00:00","00:00:00"]
[null,{"$f":"IFERROR(IF(A122=\"\",\"\",VLOOKUP(A122,'Banco de Funcionários'!$A$2:$D$1048576,2,0)),\"\")","v":""},null,null,null,null,null,"00:00:00",null,"00:00:00","00:00:00"]
[null,{"$f":"IFERROR(IF(A123=\"\",\"\",VLOOKUP(A123,'Banco de Funcionários'!$A$2:$D$1048576,2,0)),\"\")","v":""},null,null,null,null,null,"00:00:00",null,"00:00:00","00:00:00"]
[null,{"$f":"IFERROR(IF(A124=\"\",\"\",VLOOKUP(A124,'Banco de Funcionários'!$A$2:$D$1048576,2,0)),\"\")","v":""},null,null,null,null,null,"00:00:00",null,"00:00:00","00:00:00"]
[null,{"$f":"IFERROR(IF(A125=\"\",\"\",VLOOKUP(A125,'Banco de Funcionários'!$A$2:$D$1048576,2,0)),\"\")","v":""},null,null,null,null,null,"00:00:00",null,"00:00:00","00:00:00"]
[null,{"$f":"IFERROR(IF(A126=\"\",\"\",VLOOKUP(A126,'Banco de Funcionários'!$A$2:$D$1048576,2,0)),\"\")","v":""},null,null,null,null,null,"00:00:00",null,"00:00:00","00:00:00"]
[null,{"$f":"IFERROR(IF(A127=\"\",\"\",VLOOKUP(A127,'Banco de Funcionários'!$A$2:$D$1048576,2,0)),\"\")","v":""},null,null,null,null,null,"00:00:00",null,"00:00:00","00:00:00"]
[null,{"$f":"IFERROR(IF(A128=\"\",\"\",VLOOKUP(A128,'Banco de Funcionários'!$A$2:$D$1048576,2,0)),\"\")","v":""},null,null,null,null,null,"00:00:00",null,"00:00:00","00:00:00"]
[null,{"$f":"IFERROR(IF(A129=\"\",\"\",VLOOKUP(A129,'Banco de Funcionários'!$A$2:$D$1048576,2,0)),\"\")","v":""},null,null,null,null,null,"00:00:00",null,"00:00:00","00:00:00"]
[null,{"$f":"IFERROR(IF(A130=\"\",\"\",VLOOKUP(A130,'Banco de Funcionários'!$A$2:$D$1048576,2,0)),\"\")","v":""},null,null,null,null,null,"00:00:00",null,"00:00:00","00:00:00"]
[null,{"$f":"IFERROR(IF(A131=\"\",\"\",VLOOKUP(A131,'Banco de Funcionários'!$A$2:$D$1048576,2,0)),\"\")","v":""},null,null,null,null,null,{"$f":"(F131-E131)-G131","v":"00:00:00"},null,{"$f":"IFERROR(H131-I131,\"\")","v":"00:00:00"},{"$f":"IFERROR(H131+J131,0)","v":"00:00:00"}]
[null,{"$f":"IFERROR(IF(A132=\"\",\"\",VLOOKUP(A132,'Banco de Funcionários'!$A$2:$D$1048576,2,0)),\"\")","v":""},null,null,null,null,null,"00:00:00",null,"00:00:00","00:00:00"]
[null,{"$f":"IFERROR(IF(A133=\"\",\"\",VLOOKUP(A133,'Banco de Funcionários'!$A$2:$D$1048576,2,0)),\"\")","v":""},null,null,null,null,null,"00:00:00",null,"00:00:00","00:00:00"]
[null,{"$f":"IFERROR(IF(A134=\"\",\"\",VLOOKUP(A134,'Banco de Funcionários'!$A$2:$D$1048576,2,0)),\"\")","v":""},null,null,null,null,null,"00:00:00",null,"00:00:00","00:00:00"]
[null,{"$f":"IFERROR(IF(A135=\"\",\"\",VLOOKUP(A135,'Banco de Funcionários'!$A$2:$D$1048576,2,0)),\"\")","v":""},null,null,null,null,null,"00:00:00",null,"00:00:00","00:00:00"]
[null,{"$f":"IFERROR(IF(A136=\"\",\"\",VLOOKUP(A136,'Banco de Funcionários'!$A$2:$D$1048576,2,0)),\"\")","v":""},null,null,null,null,null,"00:00:00",null,"00:00:00","00:00:00"]
[null,{"$f":"IFERROR(IF(A137=\"\",\"\",VLOOKUP(A137,'Banco de Funcionários'!$A$2:$D$1048576,2,0)),\"\")","v":""},null,null,null,null,null,"00:00:00",null,"00:00:00","00:00:00"]
[null,{"$f":"IFERROR(IF(A138=\"\",\"\",VLOOKUP(A138,'Banco de Funcionários'!$A$2:$D$1048576,2,0)),\"\")","v":""},null,null,null,null,null,"00:00:00",null,"00:00:00","00:00:00"]
[null,{"$f":"IFERROR(IF(A139=\"\",\"\",VLOOKUP(A139,'Banco de Funcionários'!$A$2:$D$1048576,2,0)),\"\")","v":""},null,null,null,null,null,"00:00:00",null,"00:00:00","00:00:00"]
[null,{"$f":"IFERROR(IF(A140=\"\",\"\",VLOOKUP(A140,'Banco de Funcionários'!$A$2:$D$1048576,2,0)),\"\")","v":""},null,null,null,null,null,"00:00:00",null,"00:00:00","00:00:00"]
[null,{"$f":"IFERROR(IF(A141=\"\",\"\",VLOOKUP(A141,'Banco de Funcionários'!$A$2:$D$1048576,2,0)),\"\")","v":""},null,null,null,null,null,"00:00:00",null,"00:00:00","00:00:00"]
[null,{"$f":"IFERROR(IF(A142=\"\",\"\",VLOOKUP(A142,'Banco de Funcionários'!$A$2:$D$1048576,2,0)),\"\")","v":""},null,null,null,null,null,"00:00:00",null,"00:00:00","00:00:00"]
[null,{"$f":"IFERROR(IF(A143=\"\",\"\",VLOOKUP(A143,'Banco de Funcionários'!$A$2:$D$1048576,2,0)),\"\")","v":""},null,null,null,null,null,"00:00:00",null,"00:00:00","00:00:00"]
[null,{"$f":"IFERROR(IF(A144=\"\",\"\",VLOOKUP(A144,'Banco de Funcionários'!$A$2:$D$1048576,2,0)),\"\")","v":""},null,null,null,null,null,"00:00:00",null,"00:00:00","00:00:00"]
[null,{"$f":"IFERROR(IF(A145=\"\",\"\",VLOOKUP(A145,'Banco de Funcionários'!$A$2:$D$1048576,2,0)),\"\")","v":""},null,null,null,null,null,"00:00:00",null,"00:00:00","00:00:00"]
[null,{"$f":"IFERROR(IF(A146=\"\",\"\",VLOOKUP(A146,'Banco de Funcionários'!$A$2:$D$1048576,2,0)),\"\")","v":""},null,null,null,null,null,"00:00:00",null,"00:00:00","00:00:00"]
[null,{"$f":"IFERROR(IF(A147=\"\",\"\",VLOOKUP(A147,'Banco de Funcionários'!$A$2:$D$1048576,2,0)),\"\")","v":""},null,null,null,null,null,"00:00:00",null,"00:00:00","00:00:00"]
[null,{"$f":"IFERROR(IF(A148=\"\",\"\",VLOOKUP(A148,'Banco de Funcionários'!$A$2:$D$1048576,2,0)),\"\")","v":""},null,null,null,null,null,"00:00:00",null,"00:00:00","00:00:00"]
[null,{"$f":"IFERROR(IF(A149=\"\",\"\",VLOOKUP(A149,'Banco de Funcionários'!$A$2:$D$1048576,2,0)),\"\")","v":""},null,null,null,null,null,"00:00:00",null,"00:00:00","00:00:00"]
[null,{"$f":"IFERROR(IF(A150=\"\",\"\",VLOOKUP(A150,'Banco de Funcionários'!$A$2:$D$1048576,2,0)),\"\")","v":""},null,null,null,null,null,"00:00:00",null,"00:00:00","00:00:00"]
[null,{"$f":"IFERROR(IF(A151=\"\",\"\",VLOOKUP(A151,'Banco de Funcionários'!$A$2:$D$1048576,2,0)),\"\")","v":""},null,null,null,null,null,"00:00:00",null,"00:00:00","00:00:00"]
[null,{"$f":"IFERROR(IF(A152=\"\",\"\",VLOOKUP(A152,'Banco de Funcionários'!$A$2:$D$1048576,2,0)),\"\")","v":""},null,null,null,null,null,"00:00:00",null,"00:00:00","00:00:00"]
[null,{"$f":"IFERROR(IF(A153=\"\",\"\",VLOOKUP(A153,'Banco de Funcionários'!$A$2:$D$1048576,2,0)),\"\")","v":""},null,null,null,null,null,"00:00:00",null,"00:00:00","00:00:00"]
[null,{"$f":"IFERROR(IF(A154=\"\",\"\",VLOOKUP(A154,'Banco de Funcionários'!$A$2:$D$1048576,2,0)),\"\")","v":""},null,null,null,null,null,"00:00:00",null,"00:00:00","00:00:00"]
[null,{"$f":"IFERROR(IF(A155=\"\",\"\",VLOOKUP(A155,'Banco de Funcionários'!$A$2:$D$1048576,2,0)),\"\")","v":""},null,null,null,null,null,"00:00:00",null,"00:00:00","00:00:00"]
[null,{"$f":"IFERROR(IF(A156=\"\",\"\",VLOOKUP(A156,'Banco de Funcionários'!$A$2:$D$1048576,2,0)),\"\")","v":""},null,null,null,null,null,"00:00:00",null,"00:00:00","00:00:00"]
[null,{"$f":"IFERROR(IF(A157=\"\",\"\",VLOOKUP(A157,'Banco de Funcionários'!$A$2:$D$1048576,2,0)),\"\")","v":""},null,null,null,null,null,"00:00:00",null,"00:00:00","00:00:00"]
[null,{"$f":"IFERROR(IF(A158=\"\",\"\",VLOOKUP(A158,'Banco de Funcionários'!$A$2:$D$1048576,2,0)),\"\")","v":""},null,null,null,null,null,"00:00:00",null,"00:00:00","00:00:00"]
[null,{"$f":"IFERROR(IF(A159=\"\",\"\",VLOOKUP(A159,'Banco de Funcionários'!$A$2:$D$1048576,2,0)),\"\")","v":""},null,null,null,null,null,"00:00:00",null,"00:00:00","00:00:00"]
[null,{"$f":"IFERROR(IF(A160=\"\",\"\",VLOOKUP(A160,'Banco de Funcionários'!$A$2:$D$1048576,2,0)),\"\")","v":""},null,null,null,null,null,"00:00:00",null,"00:00:00","00:00:00"]
[null,{"$f":"IFERROR(IF(A161=\"\",\"\",VLOOKUP(A161,'Banco de Funcionários'!$A$2:$D$1048576,2,0)),\"\")","v":""},null,null,null,null,null,"00:00:00",null,"00:00:00","00:00:00"]
[null,{"$f":"IFERROR(IF(A162=\"\",\"\",VLOOKUP(A162,'Banco de Funcionários'!$A$2:$D$1048576,2,0)),\"\")","v":""},null,null,null,null,null,"00:00:00",null,"00:00:00","00:00:00"]
[null,{"$f":"IFERROR(IF(A163=\"\",\"\",VLOOKUP(A163,'Banco de Funcionários'!$A$2:$D$1048576,2,0)),\"\")","v":""},null,null,null,null,null,"00:00:00",null,"00:00:00","00:00:00"]
[null,{"$f":"IFERROR(IF(A164=\"\",\"\",VLOOKUP(A164,'Banco de Funcionários'!$A$2:$D$1048576,2,0)),\"\")","v":""},null,null,null,null,null,"00:00:00",null,"00:00:00","00:00:00"]
[null,{"$f":"IFERROR(IF(A165=\"\",\"\",VLOOKUP(A165,'Banco de Funcionários'!$A$2:$D$1048576,2,0)),\"\")","v":""},null,null,null,null,null,"00:00:00",null,"00:00:00","00:00:00"]
[null,{"$f":"IFERROR(IF(A166=\"\",\"\",VLOOKUP(A166,'Banco de Funcionários'!$A$2:$D$1048576,2,0)),\"\")","v":""},null,null,null,null,null,"00:00:00",null,"00:00:00","00:00:00"]
[null,{"$f":"IFERROR(IF(A167=\"\",\"\",VLOOKUP(A167,'Banco de Funcionários'!$A$2:$D$1048576,2,0)),\"\")","v":""},null,null,null,null,null,"00:00:00",null,"00:00:00","00:00:00"]
[null,{"$f":"IFERROR(IF(A168=\"\",\"\",VLOOKUP(A168,'Banco de Funcionários'!$A$2:$D$1048576,2,0)),\"\")","v":""},null,null,null,null,null,"00:00:00",null,"00:00:00","00:00:00"]
[null,{"$f":"IFERROR(IF(A169=\"\",\"\",VLOOKUP(A169,'Banco de Funcionários'!$A$2:$D$1048576,2,0)),\"\")","v":""},null,null,null,null,null,"00:00:00",null,"00:00:00","00:00:00"]
[null,{"$f":"IFERROR(IF(A170=\"\",\"\",VLOOKUP(A170,'Banco de Funcionários'!$A$2:$D$1048576,2,0)),\"\")","v":""},null,null,null,null,null,"00:00:00",null,"00:00:00","00:00:00"]
[null,{"$f":"IFERROR(IF(A171=\"\",\"\",VLOOKUP(A171,'Banco de Funcionários'!$A$2:$D$1048576,2,0)),\"\")","v":""},null,null,null,null,null,"00:00:00",null,"00:00:00","00:00:00"]
[null,{"$f":"IFERROR(IF(A172=\"\",\"\",VLOOKUP(A172,'Banco de Funcionários'!$A$2:$D$1048576,2,0)),\"\")","v":""},null,null,null,null,null,"00:00:00",null,"00:00:00","00:00:00"]
[null,{"$f":"IFERROR(IF(A173=\"\",\"\",VLOOKUP(A173,'Banco de Funcionários'!$A$2:$D$1048576,2,0)),\"\")","v":""},null,null,null,null,null,"00:00:00",null,"00:00:00","00:00:00"]
[null,{"$f":"IFERROR(IF(A174=\"\",\"\",VLOOKUP(A174,'Banco de Funcionários'!$A$2:$D$1048576,2,0)),\"\")","v":""},null,null,null,null,null,"00:00:00",null,"00:00:00","00:00:00"]
[null,{"$f":"IFERROR(IF(A175=\"\",\"\",VLOOKUP(A175,'Banco de Funcionários'!$A$2:$D$1048576,2,0)),\"\")","v":""},null,null,null,null,null,"00:00:00",null,"00:00:00","00:00:00"]
[null,{"$f":"IFERROR(IF(A176=\"\",\"\",VLOOKUP(A176,'Banco de Funcionários'!$A$2:$D$1048576,2,0)),\"\")","v":""},null,null,null,null,null,"00:00:00",null,"00:00:00","00:00:00"]
[null,{"$f":"IFERROR(IF(A177=\"\",\"\",VLOOKUP(A177,'Banco de Funcionários'!$A$2:$D$1048576,2,0)),\"\")","v":""},null,null,null,null,null,"00:00:00",null,"00:00:00","00:00:00"]
[null,{"$f":"IFERROR(IF(A178=\"\",\"\",VLOOKUP(A178,'Banco de Funcionários'!$A$2:$D$1048576,2,0)),\"\")","v":""},null,null,null,null,null,"00:00:00",null,"00:00:00","00:00:00"]
[null,{"$f":"IFERROR(IF(A179=\"\",\"\",VLOOKUP(A179,'Banco de Funcionários'!$A$2:$D$1048576,2,0)),\"\")","v":""},null,null,null,null,null,"00:00:00",null,"00:00:00","00:00:00"]
[null,{"$f":"IFERROR(IF(A180=\"\",\"\",VLOOKUP(A180,'Banco de Funcionários'!$A$2:$D$1048576,2,0)),\"\")","v":""},null,null,null,null,null,"00:00:00",null,"00:00:00","00:00:00"]
[null,{"$f":"IFERROR(IF(A181=\"\",\"\",VLOOKUP(A181,'Banco de Funcionários'!$A$2:$D$1048576,2,0)),\"\")","v":""},null,null,null,null,null,"00:00:00",null,"00:00:00","00:00:00"]
[null,{"$f":"IFERROR(IF(A182=\"\",\"\",VLOOKUP(A182,'Banco de Funcionários'!$A$2:$D$1048576,2,0)),\"\")","v":""},null,null,null,null,null,"00:00:00",null,"00:00:00","00:00:00"]
[null,{"$f":"IFERROR(IF(A183=\"\",\"\",VLOOKUP(A183,'Banco de Funcionários'!$A$2:$D$1048576,2,0)),\"\")","v":""},null,null,null,null,null,"00:00:00",null,"00:00:00","00:00:00"]
[null,{"$f":"IFERROR(IF(A184=\"\",\"\",VLOOKUP(A184,'Banco de Funcionários'!$A$2:$D$1048576,2,0)),\"\")","v":""},null,null,null,null,null,"00:00:00",null,"00:00:00","00:00:00"]
[null,{"$f":"IFERROR(IF(A185=\"\",\"\",VLOOKUP(A185,'Banco de Funcionários'!$A$2:$D$1048576,2,0)),\"\")","v":""},null,null,null,null,null,"00:00:00",null,"00:00:00","00:00:00"]
[null,{"$f":"IFERROR(IF(A186=\"\",\"\",VLOOKUP(A186,'Banco de Funcionários'!$A$2:$D$1048576,2,0)),\"\")","v":""},null,null,null,null,null,"00:00:00",null,"00:00:00","00:00:00"]
[null,{"$f":"IFERROR(IF(A187=\"\",\"\",VLOOKUP(A187,'Banco de Funcionários'!$A$2:$D$1048576,2,0)),\"\")","v":""},null,null,null,null,null,"00:00:00",null,"00:00:00","00:00:00"]
[null,{"$f":"IFERROR(IF(A188=\"\",\"\",VLOOKUP(A188,'Banco de Funcionários'!$A$2:$D$1048576,2,0)),\"\")","v":""},null,null,null,null,null,"00:00:00",null,"00:00:00","00:00:00"]
[null,{"$f":"IFERROR(IF(A189=\"\",\"\",VLOOKUP(A189,'Banco de Funcionários'!$A$2:$D$1048576,2,0)),\"\")","v":""},null,null,null,null,null,"00:00:00",null,"00:00:00","00:00:00"]
[null,{"$f":"IFERROR(IF(A190=\"\",\"\",VLOOKUP(A190,'Banco de Funcionários'!$A$2:$D$1048576,2,0)),\"\")","v":""},null,null,null,null,null,"00:00:00",null,"00:00:00","00:00:00"]
[null,{"$f":"IFERROR(IF(A191=\"\",\"\",VLOOKUP(A191,'Banco de Funcionários'!$A$2:$D$1048576,2,0)),\"\")","v":""},null,null,null,null,null,"00:00:00",null,"00:00:00","00:00:00"]
[null,{"$f":"IFERROR(IF(A192=\"\",\"\",VLOOKUP(A192,'Banco de Funcionários'!$A$2:$D$1048576,2,0)),\"\")","v":""},null,null,null,null,null,"00:00:00",null,"00:00:00","00:00:00"]
[null,{"$f":"IFERROR(IF(A193=\"\",\"\",VLOOKUP(A193,'Banco de Funcionários'!$A$2:$D$1048576,2,0)),\"\")","v":""},null,null,null,null,null,"00:00:00",null,"00:00:00","00:00:00"]
[null,{"$f":"IFERROR(IF(A194=\"\",\"\",VLOOKUP(A194,'Banco de Funcionários'!$A$2:$D$1048576,2,0)),\"\")","v":""},null,null,null,null,null,"00:00:00",null,"00:00:00","00:00:00"]
[null,{"$f":"IFERROR(IF(A195=\"\",\"\",VLOOKUP(A195,'Banco de Funcionários'!$A$2:$D$1048576,2,0)),\"\")","v":""},null,null,null,null,null,{"$f":"(F195-E195)-G195","v":"00:00:00"},null,{"$f":"IFERROR(H195-I195,\"\")","v":"00:00:00"},{"$f":"IFERROR(H195+J195,0)","v":"00:00:00"}]
[null,{"$f":"IFERROR(IF(A196=\"\",\"\",VLOOKUP(A196,'Banco de Funcionários'!$A$2:$D$1048576,2,0)),\"\")","v":""},null,null,null,null,null,"00:00:00",null,"00:00:00","00:00:00"]
[null,{"$f":"IFERROR(IF(A197=\"\",\"\",VLOOKUP(A197,'Banco de Funcionários'!$A$2:$D$1048576,2,0)),\"\")","v":""},null,null,null,null,null,"00:00:00",null,"00:00:00","00:00:00"]
[null,{"$f":"IFERROR(IF(A198=\"\",\"\",VLOOKUP(A198,'Banco de Funcionários'!$A$2:$D$1048576,2,0)),\"\")","v":""},null,null,null,null,null,"00:00:00",null,"00:00:00","00:00:00"]
[null,{"$f":"IFERROR(IF(A199=\"\",\"\",VLOOKUP(A199,'Banco de Funcionários'!$A$2:$D$1048576,2,0)),\"\")","v":""},null,null,null,null,null,"00:00:00",null,"00:00:00","00:00:00"]
[null,{"$f":"IFERROR(IF(A200=\"\",\"\",VLOOKUP(A200,'Banco de Funcionários'!$A$2:$D$1048576,2,0)),\"\")","v":""},null,null,null,null,null,"00:00:00",null,"00:00:00","00:00:00"]
[null,{"$f":"IFERROR(IF(A201=\"\",\"\",VLOOKUP(A201,'Banco de Funcionários'!$A$2:$D$1048576,2,0)),\"\")","v":""},null,null,null,null,null,"00:00:00",null,"00:00:00","00:00:00"]
[null,{"$f":"IFERROR(IF(A202=\"\",\"\",VLOOKUP(A202,'Banco de Funcionários'!$A$2:$D$1048576,2,0)),\"\")","v":""},null,null,null,null,null,"00:00:00",null,"00:00:00","00:00:00"]
[null,{"$f":"IFERROR(IF(A203=\"\",\"\",VLOOKUP(A203,'Banco de Funcionários'!$A$2:$D$1048576,2,0)),\"\")","v":""},null,null,null,null,null,"00:00:00",null,"00:00:00","00:00:00"]
[null,{"$f":"IFERROR(IF(A204=\"\",\"\",VLOOKUP(A204,'Banco de Funcionários'!$A$2:$D$1048576,2,0)),\"\")","v":""},null,null,null,null,null,"00:00:00",null,"00:00:00","00:00:00"]
[null,{"$f":"IFERROR(IF(A205=\"\",\"\",VLOOKUP(A205,'Banco de Funcionários'!$A$2:$D$1048576,2,0)),\"\")","v":""},null,null,null,null,null,"00:00:00",null,"00:00:00","00:00:00"]
[null,{"$f":"IFERROR(IF(A206=\"\",\"\",VLOOKUP(A206,'Banco de Funcionários'!$A$2:$D$1048576,2,0)),\"\")","v":""},null,null,null,null,null,"00:00:00",null,"00:00:00","00:00:00"]
[null,{"$f":"IFERROR(IF(A207=\"\",\"\",VLOOKUP(A207,'Banco de Funcionários'!$A$2:$D$1048576,2,0)),\"\")","v":""},null,null,null,null,null,"00:00:00",null,"00:00:00","00:00:00"]
[null,{"$f":"IFERROR(IF(A208=\"\",\"\",VLOOKUP(A208,'Banco de Funcionários'!$A$2:$D$1048576,2,0)),\"\")","v":""},null,null,null,null,null,"00:00:00",null,"00:00:00","00:00:00"]
[null,{"$f":"IFERROR(IF(A209=\"\",\"\",VLOOKUP(A209,'Banco de Funcionários'!$A$2:$D$1048576,2,0)),\"\")","v":""},null,null,null,null,null,"00:00:00",null,"00:00:00","00:00:00"]
[null,{"$f":"IFERROR(IF(A210=\"\",\"\",VLOOKUP(A210,'Banco de Funcionários'!$A$2:$D$1048576,2,0)),\"\")","v":""},null,null,null,null,null,"00:00:00",null,"00:00:00","00:00:00"]
[null,{"$f":"IFERROR(IF(A211=\"\",\"\",VLOOKUP(A211,'Banco de Funcionários'!$A$2:$D$1048576,2,0)),\"\")","v":""},null,null,null,null,null,"00:00:00",null,"00:00:00","00:00:00"]
[null,{"$f":"IFERROR(IF(A212=\"\",\"\",VLOOKUP(A212,'Banco de Funcionários'!$A$2:$D$1048576,2,0)),\"\")","v":""},null,null,null,null,null,"00:00:00",null,"00:00:00","00:00:00"]
[null,{"$f":"IFERROR(IF(A213=\"\",\"\",VLOOKUP(A213,'Banco de Funcionários'!$A$2:$D$1048576,2,0)),\"\")","v":""},null,null,null,null,null,"00:00:00",null,"00:00:00","00:00:00"]
[null,{"$f":"IFERROR(IF(A214=\"\",\"\",VLOOKUP(A214,'Banco de Funcionários'!$A$2:$D$1048576,2,0)),\"\")","v":""},null,null,null,null,null,"00:00:00",null,"00:00:00","00:00:00"]
[null,{"$f":"IFERROR(IF(A215=\"\",\"\",VLOOKUP(A215,'Banco de Funcionários'!$A$2:$D$1048576,2,0)),\"\")","v":""},null,null,null,null,null,"00:00:00",null,"00:00:00","00:00:00"]
[null,{"$f":"IFERROR(IF(A216=\"\",\"\",VLOOKUP(A216,'Banco de Funcionários'!$A$2:$D$1048576,2,0)),\"\")","v":""},null,null,null,null,null,"00:00:00",null,"00:00:00","00:00:00"]
[null,{"$f":"IFERROR(IF(A217=\"\",\"\",VLOOKUP(A217,'Banco de Funcionários'!$A$2:$D$1048576,2,0)),\"\")","v":""},null,null,null,null,null,"00:00:00",null,"00:00:00","00:00:00"]
[null,{"$f":"IFERROR(IF(A218=\"\",\"\",VLOOKUP(A218,'Banco de Funcionários'!$A$2:$D$1048576,2,0)),\"\")","v":""},null,null,null,null,null,"00:00:00",null,"00:00:00","00:00:00"]
[null,{"$f":"IFERROR(IF(A219=\"\",\"\",VLOOKUP(A219,'Banco de Funcionários'!$A$2:$D$1048576,2,0)),\"\")","v":""},null,null,null,null,null,"00:00:00",null,"00:00:00","00:00:00"]
[null,{"$f":"IFERROR(IF(A220=\"\",\"\",VLOOKUP(A220,'Banco de Funcionários'!$A$2:$D$1048576,2,0)),\"\")","v":""},null,null,null,null,null,"00:00:00",null,"00:00:00","00:00:00"]
[null,{"$f":"IFERROR(IF(A221=\"\",\"\",VLOOKUP(A221,'Banco de Funcionários'!$A$2:$D$1048576,2,0)),\"\")","v":""},null,null,null,null,null,"00:00:00",null,"00:00:00","00:00:00"]
[null,{"$f":"IFERROR(IF(A222=\"\",\"\",VLOOKUP(A222,'Banco de Funcionários'!$A$2:$D$1048576,2,0)),\"\")","v":""},null,null,null,null,null,"00:00:00",null,"00:00:00","00:00:00"]
[null,{"$f":"IFERROR(IF(A223=\"\",\"\",VLOOKUP(A223,'Banco de Funcionários'!$A$2:$D$1048576,2,0)),\"\")","v":""},null,null,null,null,null,"00:00:00",null,"00:00:00","00:00:00"]
[null,{"$f":"IFERROR(IF(A224=\"\",\"\",VLOOKUP(A224,'Banco de Funcionários'!$A$2:$D$1048576,2,0)),\"\")","v":""},null,null,null,null,null,"00:00:00",null,"00:00:00","00:00:00"]
[null,{"$f":"IFERROR(IF(A225=\"\",\"\",VLOOKUP(A225,'Banco de Funcionários'!$A$2:$D$1048576,2,0)),\"\")","v":""},null,null,null,null,null,"00:00:00",null,"00:00:00","00:00:00"]
[null,{"$f":"IFERROR(IF(A226=\"\",\"\",VLOOKUP(A226,'Banco de Funcionários'!$A$2:$D$1048576,2,0)),\"\")","v":""},null,null,null,null,null,"00:00:00",null,"00:00:00","00:00:00"]
[null,{"$f":"IFERROR(IF(A227=\"\",\"\",VLOOKUP(A227,'Banco de Funcionários'!$A$2:$D$1048576,2,0)),\"\")","v":""},null,null,null,null,null,"00:00:00",null,"00:00:00","00:00:00"]
[null,{"$f":"IFERROR(IF(A228=\"\",\"\",VLOOKUP(A228,'Banco de Funcionários'!$A$2:$D$1048576,2,0)),\"\")","v":""},null,null,null,null,null,"00:00:00",null,"00:00:00","00:00:00"]
[null,{"$f":"IFERROR(IF(A229=\"\",\"\",VLOOKUP(A229,'Banco de Funcionários'!$A$2:$D$1048576,2,0)),\"\")","v":""},null,null,null,null,null,"00:00:00",null,"00:00:00","00:00:00"]
[null,{"$f":"IFERROR(IF(A230=\"\",\"\",VLOOKUP(A230,'Banco de Funcionários'!$A$2:$D$1048576,2,0)),\"\")","v":""},null,null,null,null,null,"00:00:00",null,"00:00:00","00:00:00"]
[null,{"$f":"IFERROR(IF(A231=\"\",\"\",VLOOKUP(A231,'Banco de Funcionários'!$A$2:$D$1048576,2,0)),\"\")","v":""},null,null,null,null,null,"00:00:00",null,"00:00:00","00:00:00"]
[null,{"$f":"IFERROR(IF(A232=\"\",\"\",VLOOKUP(A232,'Banco de Funcionários'!$A$2:$D$1048576,2,0)),\"\")","v":""},null,null,null,null,null,"00:00:00",null,"00:00:00","00:00:00"]
[null,{"$f":"IFERROR(IF(A233=\"\",\"\",VLOOKUP(A233,'Banco de Funcionários'!$A$2:$D$1048576,2,0)),\"\")","v":""},null,null,null,null,null,"00:00:00",null,"00:00:00","00:00:00"]
[null,{"$f":"IFERROR(IF(A234=\"\",\"\",VLOOKUP(A234,'Banco de Funcionários'!$A$2:$D$1048576,2,0)),\"\")","v":""},null,null,null,null,null,"00:00:00",null,"00:00:00","00:00:00"]
[null,{"$f":"IFERROR(IF(A235=\"\",\"\",VLOOKUP(A235,'Banco de Funcionários'!$A$2:$D$1048576,2,0)),\"\")","v":""},null,null,null,null,null,"00:00:00",null,"00:00:00","00:00:00"]
[null,{"$f":"IFERROR(IF(A236=\"\",\"\",VLOOKUP(A236,'Banco de Funcionários'!$A$2:$D$1048576,2,0)),\"\")","v":""},null,null,null,null,null,"00:00:00",null,"00:00:00","00:00:00"]
[null,{"$f":"IFERROR(IF(A237=\"\",\"\",VLOOKUP(A237,'Banco de Funcionários'!$A$2:$D$1048576,2,0)),\"\")","v":""},null,null,null,null,null,"00:00:00",null,"00:00:00","00:00:00"]
[null,{"$f":"IFERROR(IF(A238=\"\",\"\",VLOOKUP(A238,'Banco de Funcionários'!$A$2:$D$1048576,2,0)),\"\")","v":""},null,null,null,null,null,"00:00:00",null,"00:00:00","00:00:00"]
[null,{"$f":"IFERROR(IF(A239=\"\",\"\",VLOOKUP(A239,'Banco de Funcionários'!$A$2:$D$1048576,2,0)),\"\")","v":""},null,null,null,null,null,"00:00:00",null,"00:00:00","00:00:00"]
[null,{"$f":"IFERROR(IF(A240=\"\",\"\",VLOOKUP(A240,'Banco de Funcionários'!$A$2:$D$1048576,2,0)),\"\")","v":""},null,null,null,null,null,"00:00:00",null,"00:00:00","00:00:00"]
[null,{"$f":"IFERROR(IF(A241=\"\",\"\",VLOOKUP(A241,'Banco de Funcionários'!$A$2:$D$1048576,2,0)),\"\")","v":""},null,null,null,null,null,"00:00:00",null,"00:00:00","00:00:00"]
[null,{"$f":"IFERROR(IF(A242=\"\",\"\",VLOOKUP(A242,'Banco de Funcionários'!$A$2:$D$1048576,2,0)),\"\")","v":""},null,null,null,null,null,"00:00:00",null,"00:00:00","00:00:00"]
[null,{"$f":"IFERROR(IF(A243=\"\",\"\",VLOOKUP(A243,'Banco de Funcionários'!$A$2:$D$1048576,2,0)),\"\")","v":""},null,null,null,null,null,"00:00:00",null,"00:00:00","00:00:00"]
[null,{"$f":"IFERROR(IF(A244=\"\",\"\",VLOOKUP(A244,'Banco de Funcionários'!$A$2:$D$1048576,2,0)),\"\")","v":""},null,null,null,null,null,"00:00:00",null,"00:00:00","00:00:00"]
[null,{"$f":"IFERROR(IF(A245=\"\",\"\",VLOOKUP(A245,'Banco de Funcionários'!$A$2:$D$1048576,2,0)),\"\")","v":""},null,null,null,null,null,"00:00:00",null,"00:00:00","00:00:00"]
[null,{"$f":"IFERROR(IF(A246=\"\",\"\",VLOOKUP(A246,'Banco de Funcionários'!$A$2:$D$1048576,2,0)),\"\")","v":""},null,null,null,null,null,"00:00:00",null,"00:00:00","00:00:00"]
[null,{"$f":"IFERROR(IF(A247=\"\",\"\",VLOOKUP(A247,'Banco de Funcionários'!$A$2:$D$1048576,2,0)),\"\")","v":""},null,null,null,null,null,"00:00:00",null,"00:00:00","00:00:00"]
[null,{"$f":"IFERROR(IF(A248=\"\",\"\",VLOOKUP(A248,'Banco de Funcionários'!$A$2:$D$1048576,2,0)),\"\")","v":""},null,null,null,null,null,"00:00:00",null,"00:00:00","00:00:00"]
[null,{"$f":"IFERROR(IF(A249=\"\",\"\",VLOOKUP(A249,'Banco de Funcionários'!$A$2:$D$1048576,2,0)),\"\")","v":""},null,null,null,null,null,"00:00:00",null,"00:00:00","00:00:00"]
[null,{"$f":"IFERROR(IF(A250=\"\",\"\",VLOOKUP(A250,'Banco de Funcionários'!$A$2:$D$1048576,2,0)),\"\")","v":""},null,null,null,null,null,"00:00:00",null,"00:00:00","00:00:00"]
[null,{"$f":"IFERROR(IF(A251=\"\",\"\",VLOOKUP(A251,'Banco de Funcionários'!$A$2:$D$1048576,2,0)),\"\")","v":""},null,null,null,null,null,"00:00:00",null,"00:00:00","00:00:00"]
[null,{"$f":"IFERROR(IF(A252=\"\",\"\",VLOOKUP(A252,'Banco de Funcionários'!$A$2:$D$1048576,2,0)),\"\")","v":""},null,null,null,null,null,"00:00:00",null,"00:00:00","00:00:00"]
[null,{"$f":"IFERROR(IF(A253=\"\",\"\",VLOOKUP(A253,'Banco de Funcionários'!$A$2:$D$1048576,2,0)),\"\")","v":""},null,null,null,null,null,"00:00:00",null,"00:00:00","00:00:00"]
[null,{"$f":"IFERROR(IF(A254=\"\",\"\",VLOOKUP(A254,'Banco de Funcionários'!$A$2:$D$1048576,2,0)),\"\")","v":""},null,null,null,null,null,"00:00:00",null,"00:00:00","00:00:00"]
[null,{"$f":"IFERROR(IF(A255=\"\",\"\",VLOOKUP(A255,'Banco de Funcionários'!$A$2:$D$1048576,2,0)),\"\")","v":""},null,null,null,null,null,"00:00:00",null,"00:00:00","00:00:00"]
[null,{"$f":"IFERROR(IF(A256=\"\",\"\",VLOOKUP(A256,'Banco de Funcionários'!$A$2:$D$1048576,2,0)),\"\")","v":""},null,null,null,null,null,"00:00:00",null,"00:00:00","00:00:00"]
[null,{"$f":"IFERROR(IF(A257=\"\",\"\",VLOOKUP(A257,'Banco de Funcionários'!$A$2:$D$1048576,2,0)),\"\")","v":""},null,null,null,null,null,"00:00:00",null,"00:00:00","00:00:00"]
[null,{"$f":"IFERROR(IF(A258=\"\",\"\",VLOOKUP(A258,'Banco de Funcionários'!$A$2:$D$1048576,2,0)),\"\")","v":""},null,null,null,null,null,"00:00:00",null,"00:00:00","00:00:00"]
[null,{"$f":"IFERROR(IF(A259=\"\",\"\",VLOOKUP(A259,'Banco de Funcionários'!$A$2:$D$1048576,2,0)),\"\")","v":""},null,null,null,null,null,{"$f":"(F259-E259)-G259","v":"00:00:00"},null,{"$f":"IFERROR(H259-I259,\"\")","v":"00:00:00"},{"$f":"IFERROR(H259+J259,0)","v":"00:00:00"}]
[null,{"$f":"IFERROR(IF(A260=\"\",\"\",VLOOKUP(A260,'Banco de Funcionários'!$A$2:$D$1048576,2,0)),\"\")","v":""},null,null,null,null,null,"00:00:00",null,"00:00:00","00:00:00"]
[null,{"$f":"IFERROR(IF(A261=\"\",\"\",VLOOKUP(A261,'Banco de Funcionários'!$A$2:$D$1048576,2,0)),\"\")","v":""},null,null,null,null,null,"00:00:00",null,"00:00:00","00:00:00"]
[null,{"$f":"IFERROR(IF(A262=\"\",\"\",VLOOKUP(A262,'Banco de Funcionários'!$A$2:$D$1048576,2,0)),\"\")","v":""},null,null,null,null,null,"00:00:00",null,"00:00:00","00:00:00"]
[null,{"$f":"IFERROR(IF(A263=\"\",\"\",VLOOKUP(A263,'Banco de Funcionários'!$A$2:$D$1048576,2,0)),\"\")","v":""},null,null,null,null,null,"00:00:00",null,"00:00:00","00:00:00"]
[null,{"$f":"IFERROR(IF(A264=\"\",\"\",VLOOKUP(A264,'Banco de Funcionários'!$A$2:$D$1048576,2,0)),\"\")","v":""},null,null,null,null,null,"00:00:00",null,"00:00:00","00:00:00"]
[null,{"$f":"IFERROR(IF(A265=\"\",\"\",VLOOKUP(A265,'Banco de Funcionários'!$A$2:$D$1048576,2,0)),\"\")","v":""},null,null,null,null,null,"00:00:00",null,"00:00:00","00:00:00"]
[null,{"$f":"IFERROR(IF(A266=\"\",\"\",VLOOKUP(A266,'Banco de Funcionários'!$A$2:$D$1048576,2,0)),\"\")","v":""},null,null,null,null,null,"00:00:00",null,"00:00:00","00:00:00"]
[null,{"$f":"IFERROR(IF(A267=\"\",\"\",VLOOKUP(A267,'Banco de Funcionários'!$A$2:$D$1048576,2,0)),\"\")","v":""},null,null,null,null,null,"00:00:00",null,"00:00:00","00:00:00"]
[null,{"$f":"IFERROR(IF(A268=\"\",\"\",VLOOKUP(A268,'Banco de Funcionários'!$A$2:$D$1048576,2,0)),\"\")","v":""},null,null,null,null,null,"00:00:00",null,"00:00:00","00:00:00"]
[null,{"$f":"IFERROR(IF(A269=\"\",\"\",VLOOKUP(A269,'Banco de Funcionários'!$A$2:$D$1048576,2,0)),\"\")","v":""},null,null,null,null,null,"00:00:00",null,"00:00:00","00:00:00"]
[null,{"$f":"IFERROR(IF(A270=\"\",\"\",VLOOKUP(A270,'Banco de Funcionários'!$A$2:$D$1048576,2,0)),\"\")","v":""},null,null,null,null,null,"00:00:00",null,"00:00:00","00:00:00"]
[null,{"$f":"IFERROR(IF(A271=\"\",\"\",VLOOKUP(A271,'Banco de Funcionários'!$A$2:$D$1048576,2,0)),\"\")","v":""},null,null,null,null,null,"00:00:00",null,"00:00:00","00:00:00"]
[null,{"$f":"IFERROR(IF(A272=\"\",\"\",VLOOKUP(A272,'Banco de Funcionários'!$A$2:$D$1048576,2,0)),\"\")","v":""},null,null,null,null,null,"00:00:00",null,"00:00:00","00:00:00"]
[null,{"$f":"IFERROR(IF(A273=\"\",\"\",VLOOKUP(A273,'Banco de Funcionários'!$A$2:$D$1048576,2,0)),\"\")","v":""},null,null,null,null,null,"00:00:00",null,"00:00:00","00:00:00"]
[null,{"$f":"IFERROR(IF(A274=\"\",\"\",VLOOKUP(A274,'Banco de Funcionários'!$A$2:$D$1048576,2,0)),\"\")","v":""},null,null,null,null,null,"00:00:00",null,"00:00:00","00:00:00"]
[null,{"$f":"IFERROR(IF(A275=\"\",\"\",VLOOKUP(A275,'Banco de Funcionários'!$A$2:$D$1048576,2,0)),\"\")","v":""},null,null,null,null,null,"00:00:00",null,"00:00:00","00:00:00"]
[null,{"$f":"IFERROR(IF(A276=\"\",\"\",VLOOKUP(A276,'Banco de Funcionários'!$A$2:$D$1048576,2,0)),\"\")","v":""},null,null,null,null,null,"00:00:00",null,"00:00:00","00:00:00"]
[null,{"$f":"IFERROR(IF(A277=\"\",\"\",VLOOKUP(A277,'Banco de Funcionários'!$A$2:$D$1048576,2,0)),\"\")","v":""},null,null,null,null,null,"00:00:00",null,"00:00:00","00:00:00"]
[null,{"$f":"IFERROR(IF(A278=\"\",\"\",VLOOKUP(A278,'Banco de Funcionários'!$A$2:$D$1048576,2,0)),\"\")","v":""},null,null,null,null,null,"00:00:00",null,"00:00:00","00:00:00"]
[null,{"$f":"IFERROR(IF(A279=\"\",\"\",VLOOKUP(A279,'Banco de Funcionários'!$A$2:$D$1048576,2,0)),\"\")","v":""},null,null,null,null,null,"00:00:00",null,"00:00:00","00:00:00"]
[null,{"$f":"IFERROR(IF(A280=\"\",\"\",VLOOKUP(A280,'Banco de Funcionários'!$A$2:$D$1048576,2,0)),\"\")","v":""},null,null,null,null,null,"00:00:00",null,"00:00:00","00:00:00"]
[null,{"$f":"IFERROR(IF(A281=\"\",\"\",VLOOKUP(A281,'Banco de Funcionários'!$A$2:$D$1048576,2,0)),\"\")","v":""},null,null,null,null,null,"00:00:00",null,"00:00:00","00:00:00"]
[null,{"$f":"IFERROR(IF(A282=\"\",\"\",VLOOKUP(A282,'Banco de Funcionários'!$A$2:$D$1048576,2,0)),\"\")","v":""},null,null,null,null,null,"00:00:00",null,"00:00:00","00:00:00"]
[null,{"$f":"IFERROR(IF(A283=\"\",\"\",VLOOKUP(A283,'Banco de Funcionários'!$A$2:$D$1048576,2,0)),\"\")","v":""},null,null,null,null,null,"00:00:00",null,"00:00:00","00:00:00"]
[null,{"$f":"IFERROR(IF(A284=\"\",\"\",VLOOKUP(A284,'Banco de Funcionários'!$A$2:$D$1048576,2,0)),\"\")","v":""},null,null,null,null,null,"00:00:00",null,"00:00:00","00:00:00"]
[null,{"$f":"IFERROR(IF(A285=\"\",\"\",VLOOKUP(A285,'Banco de Funcionários'!$A$2:$D$1048576,2,0)),\"\")","v":""},null,null,null,null,null,"00:00:00",null,"00:00:00","00:00:00"]
[null,{"$f":"IFERROR(IF(A286=\"\",\"\",VLOOKUP(A286,'Banco de Funcionários'!$A$2:$D$1048576,2,0)),\"\")","v":""},null,null,null,null,null,"00:00:00",null,"00:00:00","00:00:00"]
[null,{"$f":"IFERROR(IF(A287=\"\",\"\",VLOOKUP(A287,'Banco de Funcionários'!$A$2:$D$1048576,2,0)),\"\")","v":""},null,null,null,null,null,"00:00:00",null,"00:00:00","00:00:00"]
[null,{"$f":"IFERROR(IF(A288=\"\",\"\",VLOOKUP(A288,'Banco de Funcionários'!$A$2:$D$1048576,2,0)),\"\")","v":""},null,null,null,null,null,"00:00:00",null,"00:00:00","00:00:00"]
[null,{"$f":"IFERROR(IF(A289=\"\",\"\",VLOOKUP(A289,'Banco de Funcionários'!$A$2:$D$1048576,2,0)),\"\")","v":""},null,null,null,null,null,"00:00:00",null,"00:00:00","00:00:00"]
[null,{"$f":"IFERROR(IF(A290=\"\",\"\",VLOOKUP(A290,'Banco de Funcionários'!$A$2:$D$1048576,2,0)),\"\")","v":""},null,null,null,null,null,"00:00:00",null,"00:00:00","00:00:00"]
[null,{"$f":"IFERROR(IF(A291=\"\",\"\",VLOOKUP(A291,'Banco de Funcionários'!$A$2:$D$1048576,2,0)),\"\")","v":""},null,null,null,null,null,"00:00:00",null,"00:00:00","00:00:00"]
[null,{"$f":"IFERROR(IF(A292=\"\",\"\",VLOOKUP(A292,'Banco de Funcionários'!$A$2:$D$1048576,2,0)),\"\")","v":""},null,null,null,null,null,"00:00:00",null,"00:00:00","00:00:00"]
[null,{"$f":"IFERROR(IF(A293=\"\",\"\",VLOOKUP(A293,'Banco de Funcionários'!$A$2:$D$1048576,2,0)),\"\")","v":""},null,null,null,null,null,"00:00:00",null,"00:00:00","00:00:00"]
[null,{"$f":"IFERROR(IF(A294=\"\",\"\",VLOOKUP(A294,'Banco de Funcionários'!$A$2:$D$1048576,2,0)),\"\")","v":""},null,null,null,null,null,"00:00:00",null,"00:00:00","00:00:00"]
[null,{"$f":"IFERROR(IF(A295=\"\",\"\",VLOOKUP(A295,'Banco de Funcionários'!$A$2:$D$1048576,2,0)),\"\")","v":""},null,null,null,null,null,"00:00:00",null,"00:00:00","00:00:00"]
[null,{"$f":"IFERROR(IF(A296=\"\",\"\",VLOOKUP(A296,'Banco de Funcionários'!$A$2:$D$1048576,2,0)),\"\")","v":""},null,null,null,null,null,"00:00:00",null,"00:00:00","00:00:00"]
[null,{"$f":"IFERROR(IF(A297=\"\",\"\",VLOOKUP(A297,'Banco de Funcionários'!$A$2:$D$1048576,2,0)),\"\")","v":""},null,null,null,null,null,"00:00:00",null,"00:00:00","00:00:00"]
[null,{"$f":"IFERROR(IF(A298=\"\",\"\",VLOOKUP(A298,'Banco de Funcionários'!$A$2:$D$1048576,2,0)),\"\")","v":""},null,null,null,null,null,"00:00:00",null,"00:00:00","00:00:00"]
[null,{"$f":"IFERROR(IF(A299=\"\",\"\",VLOOKUP(A299,'Banco de Funcionários'!$A$2:$D$1048576,2,0)),\"\")","v":""},null,null,null,null,null,"00:00:00",null,"00:00:00","00:00:00"]
[null,{"$f":"IFERROR(IF(A300=\"\",\"\",VLOOKUP(A300,'Banco de Funcionários'!$A$2:$D$1048576,2,0)),\"\")","v":""},null,null,null,null,null,"00:00:00",null,"00:00:00","00:00:00"]
[null,{"$f":"IFERROR(IF(A301=\"\",\"\",VLOOKUP(A301,'Banco de Funcionários'!$A$2:$D$1048576,2,0)),\"\")","v":""},null,null,null,null,null,"00:00:00",null,"00:00:00","00:00:00"]
[null,{"$f":"IFERROR(IF(A302=\"\",\"\",VLOOKUP(A302,'Banco de Funcionários'!$A$2:$D$1048576,2,0)),\"\")","v":""},null,null,null,null,null,"00:00:00",null,"00:00:00","00:00:00"]
[null,{"$f":"IFERROR(IF(A303=\"\",\"\",VLOOKUP(A303,'Banco de Funcionários'!$A$2:$D$1048576,2,0)),\"\")","v":""},null,null,null,null,null,"00:00:00",null,"00:00:00","00:00:00"]
[null,{"$f":"IFERROR(IF(A304=\"\",\"\",VLOOKUP(A304,'Banco de Funcionários'!$A$2:$D$1048576,2,0)),\"\")","v":""},null,null,null,null,null,"00:00:00",null,"00:00:00","00:00:00"]
[null,{"$f":"IFERROR(IF(A305=\"\",\"\",VLOOKUP(A305,'Banco de Funcionários'!$A$2:$D$1048576,2,0)),\"\")","v":""},null,null,null,null,null,"00:00:00",null,"00:00:00","00:00:00"]
[null,{"$f":"IFERROR(IF(A306=\"\",\"\",VLOOKUP(A306,'Banco de Funcionários'!$A$2:$D$1048576,2,0)),\"\")","v":""},null,null,null,null,null,"00:00:00",null,"00:00:00","00:00:00"]
[null,{"$f":"IFERROR(IF(A307=\"\",\"\",VLOOKUP(A307,'Banco de Funcionários'!$A$2:$D$1048576,2,0)),\"\")","v":""},null,null,null,null,null,"00:00:00",null,"00:00:00","00:00:00"]
[null,{"$f":"IFERROR(IF(A308=\"\",\"\",VLOOKUP(A308,'Banco de Funcionários'!$A$2:$D$1048576,2,0)),\"\")","v":""},null,null,null,null,null,"00:00:00",null,"00:00:00","00:00:00"]
[null,{"$f":"IFERROR(IF(A309=\"\",\"\",VLOOKUP(A309,'Banco de Funcionários'!$A$2:$D$1048576,2,0)),\"\")","v":""},null,null,null,null,null,"00:00:00",null,"00:00:00","00:00:00"]
[null,{"$f":"IFERROR(IF(A310=\"\",\"\",VLOOKUP(A310,'Banco de Funcionários'!$A$2:$D$1048576,2,0)),\"\")","v":""},null,null,null,null,null,"00:00:00",null,"00:00:00","00:00:00"]
[null,{"$f":"IFERROR(IF(A311=\"\",\"\",VLOOKUP(A311,'Banco de Funcionários'!$A$2:$D$1048576,2,0)),\"\")","v":""},null,null,null,null,null,"00:00:00",null,"00:00:00","00:00:00"]
[null,{"$f":"IFERROR(IF(A312=\"\",\"\",VLOOKUP(A312,'Banco de Funcionários'!$A$2:$D$1048576,2,0)),\"\")","v":""},null,null,null,null,null,"00:00:00",null,"00:00:00","00:00:00"]
[null,{"$f":"IFERROR(IF(A313=\"\",\"\",VLOOKUP(A313,'Banco de Funcionários'!$A$2:$D$1048576,2,0)),\"\")","v":""},null,null,null,null,null,"00:00:00",null,"00:00:00","00:00:00"]
[null,{"$f":"IFERROR(IF(A314=\"\",\"\",VLOOKUP(A314,'Banco de Funcionários'!$A$2:$D$1048576,2,0)),\"\")","v":""},null,null,null,null,null,"00:00:00",null,"00:00:00","00:00:00"]
[null,{"$f":"IFERROR(IF(A315=\"\",\"\",VLOOKUP(A315,'Banco de Funcionários'!$A$2:$D$1048576,2,0)),\"\")","v":""},null,null,null,null,null,"00:00:00",null,"00:00:00","00:00:00"]
[null,{"$f":"IFERROR(IF(A316=\"\",\"\",VLOOKUP(A316,'Banco de Funcionários'!$A$2:$D$1048576,2,0)),\"\")","v":""},null,null,null,null,null,"00:00:00",null,"00:00:00","00:00:00"]
[null,{"$f":"IFERROR(IF(A317=\"\",\"\",VLOOKUP(A317,'Banco de Funcionários'!$A$2:$D$1048576,2,0)),\"\")","v":""},null,null,null,null,null,"00:00:00",null,"00:00:00","00:00:00"]
[null,{"$f":"IFERROR(IF(A318=\"\",\"\",VLOOKUP(A318,'Banco de Funcionários'!$A$2:$D$1048576,2,0)),\"\")","v":""},null,null,null,null,null,"00:00:00",null,"00:00:00","00:00:00"]
[null,{"$f":"IFERROR(IF(A319=\"\",\"\",VLOOKUP(A319,'Banco de Funcionários'!$A$2:$D$1048576,2,0)),\"\")","v":""},null,null,null,null,null,"00:00:00",null,"00:00:00","00:00:00"]
[null,{"$f":"IFERROR(IF(A320=\"\",\"\",VLOOKUP(A320,'Banco de Funcionários'!$A$2:$D$1048576,2,0)),\"\")","v":""},null,null,null,null,null,"00:00:00",null,"00:00:00","00:00:00"]
[null,{"$f":"IFERROR(IF(A321=\"\",\"\",VLOOKUP(A321,'Banco de Funcionários'!$A$2:$D$1048576,2,0)),\"\")","v":""},null,null,null,null,null,"00:00:00",null,"00:00:00","00:00:00"]
[null,{"$f":"IFERROR(IF(A322=\"\",\"\",VLOOKUP(A322,'Banco de Funcionários'!$A$2:$D$1048576,2,0)),\"\")","v":""},null,null,null,null,null,"00:00:00",null,"00:00:00","00:00:00"]
[null,{"$f":"IFERROR(IF(A323=\"\",\"\",VLOOKUP(A323,'Banco de Funcionários'!$A$2:$D$1048576,2,0)),\"\")","v":""},null,null,null,null,null,{"$f":"(F323-E323)-G323","v":"00:00:00"},null,{"$f":"IFERROR(H323-I323,\"\")","v":"00:00:00"},{"$f":"IFERROR(H323+J323,0)","v":"00:00:00"}]
[null,{"$f":"IFERROR(IF(A324=\"\",\"\",VLOOKUP(A324,'Banco de Funcionários'!$A$2:$D$1048576,2,0)),\"\")","v":""},null,null,null,null,null,"00:00:00",null,"00:00:00","00:00:00"]
[null,{"$f":"IFERROR(IF(A325=\"\",\"\",VLOOKUP(A325,'Banco de Funcionários'!$A$2:$D$1048576,2,0)),\"\")","v":""},null,null,null,null,null,"00:00:00",null,"00:00:00","00:00:00"]
[null,{"$f":"IFERROR(IF(A326=\"\",\"\",VLOOKUP(A326,'Banco de Funcionários'!$A$2:$D$1048576,2,0)),\"\")","v":""},null,null,null,null,null,"00:00:00",null,"00:00:00","00:00:00"]
[null,{"$f":"IFERROR(IF(A327=\"\",\"\",VLOOKUP(A327,'Banco de Funcionários'!$A$2:$D$1048576,2,0)),\"\")","v":""},null,null,null,null,null,"00:00:00",null,"00:00:00","00:00:00"]
[null,{"$f":"IFERROR(IF(A328=\"\",\"\",VLOOKUP(A328,'Banco de Funcionários'!$A$2:$D$1048576,2,0)),\"\")","v":""},null,null,null,null,null,"00:00:00",null,"00:00:00","00:00:00"]
[null,{"$f":"IFERROR(IF(A329=\"\",\"\",VLOOKUP(A329,'Banco de Funcionários'!$A$2:$D$1048576,2,0)),\"\")","v":""},null,null,null,null,null,"00:00:00",null,"00:00:00","00:00:00"]
[null,{"$f":"IFERROR(IF(A330=\"\",\"\",VLOOKUP(A330,'Banco de Funcionários'!$A$2:$D$1048576,2,0)),\"\")","v":""},null,null,null,null,null,"00:00:00",null,"00:00:00","00:00:00"]
[null,{"$f":"IFERROR(IF(A331=\"\",\"\",VLOOKUP(A331,'Banco de Funcionários'!$A$2:$D$1048576,2,0)),\"\")","v":""},null,null,null,null,null,"00:00:00",null,"00:00:00","00:00:00"]
[null,{"$f":"IFERROR(IF(A332=\"\",\"\",VLOOKUP(A332,'Banco de Funcionários'!$A$2:$D$1048576,2,0)),\"\")","v":""},null,null,null,null,null,"00:00:00",null,"00:00:00","00:00:00"]
[null,{"$f":"IFERROR(IF(A333=\"\",\"\",VLOOKUP(A333,'Banco de Funcionários'!$A$2:$D$1048576,2,0)),\"\")","v":""},null,null,null,null,null,"00:00:00",null,"00:00:00","00:00:00"]
[null,{"$f":"IFERROR(IF(A334=\"\",\"\",VLOOKUP(A334,'Banco de Funcionários'!$A$2:$D$1048576,2,0)),\"\")","v":""},null,null,null,null,null,"00:00:00",null,"00:00:00","00:00:00"]
[null,{"$f":"IFERROR(IF(A335=\"\",\"\",VLOOKUP(A335,'Banco de Funcionários'!$A$2:$D$1048576,2,0)),\"\")","v":""},null,null,null,null,null,"00:00:00",null,"00:00:00","00:00:00"]
[null,{"$f":"IFERROR(IF(A336=\"\",\"\",VLOOKUP(A336,'Banco de Funcionários'!$A$2:$D$1048576,2,0)),\"\")","v":""},null,null,null,null,null,"00:00:00",null,"00:00:00","00:00:00"]
[null,{"$f":"IFERROR(IF(A337=\"\",\"\",VLOOKUP(A337,'Banco de Funcionários'!$A$2:$D$1048576,2,0)),\"\")","v":""},null,null,null,null,null,"00:00:00",null,"00:00:00","00:00:00"]
[null,{"$f":"IFERROR(IF(A338=\"\",\"\",VLOOKUP(A338,'Banco de Funcionários'!$A$2:$D$1048576,2,0)),\"\")","v":""},null,null,null,null,null,"00:00:00",null,"00:00:00","00:00:00"]
[null,{"$f":"IFERROR(IF(A339=\"\",\"\",VLOOKUP(A339,'Banco de Funcionários'!$A$2:$D$1048576,2,0)),\"\")","v":""},null,null,null,null,null,"00:00:00",null,"00:00:00","00:00:00"]
[null,{"$f":"IFERROR(IF(A340=\"\",\"\",VLOOKUP(A340,'Banco de Funcionários'!$A$2:$D$1048576,2,0)),\"\")","v":""},null,null,null,null,null,"00:00:00",null,"00:00:00","00:00:00"]
[null,{"$f":"IFERROR(IF(A341=\"\",\"\",VLOOKUP(A341,'Banco de Funcionários'!$A$2:$D$1048576,2,0)),\"\")","v":""},null,null,null,null,null,"00:00:00",null,"00:00:00","00:00:00"]
[null,{"$f":"IFERROR(IF(A342=\"\",\"\",VLOOKUP(A342,'Banco de Funcionários'!$A$2:$D$1048576,2,0)),\"\")","v":""},null,null,null,null,null,"00:00:00",null,"00:00:00","00:00:00"]
[null,{"$f":"IFERROR(IF(A343=\"\",\"\",VLOOKUP(A343,'Banco de Funcionários'!$A$2:$D$1048576,2,0)),\"\")","v":""},null,null,null,null,null,"00:00:00",null,"00:00:00","00:00:00"]
[null,{"$f":"IFERROR(IF(A344=\"\",\"\",VLOOKUP(A344,'Banco de Funcionários'!$A$2:$D$1048576,2,0)),\"\")","v":""},null,null,null,null,null,"00:00:00",null,"00:00:00","00:00:00"]
[null,{"$f":"IFERROR(IF(A345=\"\",\"\",VLOOKUP(A345,'Banco de Funcionários'!$A$2:$D$1048576,2,0)),\"\")","v":""},null,null,null,null,null,"00:00:00",null,"00:00:00","00:00:00"]
[null,{"$f":"IFERROR(IF(A346=\"\",\"\",VLOOKUP(A346,'Banco de Funcionários'!$A$2:$D$1048576,2,0)),\"\")","v":""},null,null,null,null,null,"00:00:00",null,"00:00:00","00:00:00"]
[null,{"$f":"IFERROR(IF(A347=\"\",\"\",VLOOKUP(A347,'Banco de Funcionários'!$A$2:$D$1048576,2,0)),\"\")","v":""},null,null,null,null,null,"00:00:00",null,"00:00:00","00:00:00"]
[null,{"$f":"IFERROR(IF(A348=\"\",\"\",VLOOKUP(A348,'Banco de Funcionários'!$A$2:$D$1048576,2,0)),\"\")","v":""},null,null,null,null,null,"00:00:00",null,"00:00:00","00:00:00"]
[null,{"$f":"IFERROR(IF(A349=\"\",\"\",VLOOKUP(A349,'Banco de Funcionários'!$A$2:$D$1048576,2,0)),\"\")","v":""},null,null,null,null,null,"00:00:00",null,"00:00:00","00:00:00"]
[null,{"$f":"IFERROR(IF(A350=\"\",\"\",VLOOKUP(A350,'Banco de Funcionários'!$A$2:$D$1048576,2,0)),\"\")","v":""},null,null,null,null,null,"00:00:00",null,"00:00:00","00:00:00"]
[null,{"$f":"IFERROR(IF(A351=\"\",\"\",VLOOKUP(A351,'Banco de Funcionários'!$A$2:$D$1048576,2,0)),\"\")","v":""},null,null,null,null,null,"00:00:00",null,"00:00:00","00:00:00"]
[null,{"$f":"IFERROR(IF(A352=\"\",\"\",VLOOKUP(A352,'Banco de Funcionários'!$A$2:$D$1048576,2,0)),\"\")","v":""},null,null,null,null,null,"00:00:00",null,"00:00:00","00:00:00"]
[null,{"$f":"IFERROR(IF(A353=\"\",\"\",VLOOKUP(A353,'Banco de Funcionários'!$A$2:$D$1048576,2,0)),\"\")","v":""},null,null,null,null,null,"00:00:00",null,"00:00:00","00:00:00"]
[null,{"$f":"IFERROR(IF(A354=\"\",\"\",VLOOKUP(A354,'Banco de Funcionários'!$A$2:$D$1048576,2,0)),\"\")","v":""},null,null,null,null,null,"00:00:00",null,"00:00:00","00:00:00"]
[null,{"$f":"IFERROR(IF(A355=\"\",\"\",VLOOKUP(A355,'Banco de Funcionários'!$A$2:$D$1048576,2,0)),\"\")","v":""},null,null,null,null,null,"00:00:00",null,"00:00:00","00:00:00"]
[null,{"$f":"IFERROR(IF(A356=\"\",\"\",VLOOKUP(A356,'Banco de Funcionários'!$A$2:$D$1048576,2,0)),\"\")","v":""},null,null,null,null,null,"00:00:00",null,"00:00:00","00:00:00"]
[null,{"$f":"IFERROR(IF(A357=\"\",\"\",VLOOKUP(A357,'Banco de Funcionários'!$A$2:$D$1048576,2,0)),\"\")","v":""},null,null,null,null,null,"00:00:00",null,"00:00:00","00:00:00"]
[null,{"$f":"IFERROR(IF(A358=\"\",\"\",VLOOKUP(A358,'Banco de Funcionários'!$A$2:$D$1048576,2,0)),\"\")","v":""},null,null,null,null,null,"00:00:00",null,"00:00:00","00:00:00"]
[null,{"$f":"IFERROR(IF(A359=\"\",\"\",VLOOKUP(A359,'Banco de Funcionários'!$A$2:$D$1048576,2,0)),\"\")","v":""},null,null,null,null,null,"00:00:00",null,"00:00:00","00:00:00"]
[null,{"$f":"IFERROR(IF(A360=\"\",\"\",VLOOKUP(A360,'Banco de Funcionários'!$A$2:$D$1048576,2,0)),\"\")","v":""},null,null,null,null,null,"00:00:00",null,"00:00:00","00:00:00"]
[null,{"$f":"IFERROR(IF(A361=\"\",\"\",VLOOKUP(A361,'Banco de Funcionários'!$A$2:$D$1048576,2,0)),\"\")","v":""},null,null,null,null,null,"00:00:00",null,"00:00:00","00:00:00"]
[null,{"$f":"IFERROR(IF(A362=\"\",\"\",VLOOKUP(A362,'Banco de Funcionários'!$A$2:$D$1048576,2,0)),\"\")","v":""},null,null,null,null,null,"00:00:00",null,"00:00:00","00:00:00"]
[null,{"$f":"IFERROR(IF(A363=\"\",\"\",VLOOKUP(A363,'Banco de Funcionários'!$A$2:$D$1048576,2,0)),\"\")","v":""},null,null,null,null,null,"00:00:00",null,"00:00:00","00:00:00"]
[null,{"$f":"IFERROR(IF(A364=\"\",\"\",VLOOKUP(A364,'Banco de Funcionários'!$A$2:$D$1048576,2,0)),\"\")","v":""},null,null,null,null,null,"00:00:00",null,"00:00:00","00:00:00"]
[null,{"$f":"IFERROR(IF(A365=\"\",\"\",VLOOKUP(A365,'Banco de Funcionários'!$A$2:$D$1048576,2,0)),\"\")","v":""},null,null,null,null,null,"00:00:00",null,"00:00:00","00:00:00"]
[null,{"$f":"IFERROR(IF(A366=\"\",\"\",VLOOKUP(A366,'Banco de Funcionários'!$A$2:$D$1048576,2,0)),\"\")","v":""},null,null,null,null,null,"00:00:00",null,"00:00:00","00:00:00"]
[null,{"$f":"IFERROR(IF(A367=\"\",\"\",VLOOKUP(A367,'Banco de Funcionários'!$A$2:$D$1048576,2,0)),\"\")","v":""},null,null,null,null,null,"00:00:00",null,"00:00:00","00:00:00"]
[null,{"$f":"IFERROR(IF(A368=\"\",\"\",VLOOKUP(A368,'Banco de Funcionários'!$A$2:$D$1048576,2,0)),\"\")","v":""},null,null,null,null,null,"00:00:00",null,"00:00:00","00:00:00"]
[null,{"$f":"IFERROR(IF(A369=\"\",\"\",VLOOKUP(A369,'Banco de Funcionários'!$A$2:$D$1048576,2,0)),\"\")","v":""},null,null,null,null,null,"00:00:00",null,"00:00:00","00:00:00"]
[null,{"$f":"IFERROR(IF(A370=\"\",\"\",VLOOKUP(A370,'Banco de Funcionários'!$A$2:$D$1048576,2,0)),\"\")","v":""},null,null,null,null,null,"00:00:00",null,"00:00:00","00:00:00"]
[null,{"$f":"IFERROR(IF(A371=\"\",\"\",VLOOKUP(A371,'Banco de Funcionários'!$A$2:$D$1048576,2,0)),\"\")","v":""},null,null,null,null,null,"00:00:00",null,"00:00:00","00:00:00"]
[null,{"$f":"IFERROR(IF(A372=\"\",\"\",VLOOKUP(A372,'Banco de Funcionários'!$A$2:$D$1048576,2,0)),\"\")","v":""},null,null,null,null,null,"00:00:00",null,"00:00:00","00:00:00"]
[null,{"$f":"IFERROR(IF(A373=\"\",\"\",VLOOKUP(A373,'Banco de Funcionários'!$A$2:$D$1048576,2,0)),\"\")","v":""},null,null,null,null,null,"00:00:00",null,"00:00:00","00:00:00"]
[null,{"$f":"IFERROR(IF(A374=\"\",\"\",VLOOKUP(A374,'Banco de Funcionários'!$A$2:$D$1048576,2,0)),\"\")","v":""},null,null,null,null,null,"00:00:00",null,"00:00:00","00:00:00"]
[null,{"$f":"IFERROR(IF(A375=\"\",\"\",VLOOKUP(A375,'Banco de Funcionários'!$A$2:$D$1048576,2,0)),\"\")","v":""},null,null,null,null,null,"00:00:00",null,"00:00:00","00:00:00"]
[null,{"$f":"IFERROR(IF(A376=\"\",\"\",VLOOKUP(A376,'Banco de Funcionários'!$A$2:$D$1048576,2,0)),\"\")","v":""},null,null,null,null,null,"00:00:00",null,"00:00:00","00:00:00"]
[null,{"$f":"IFERROR(IF(A377=\"\",\"\",VLOOKUP(A377,'Banco de Funcionários'!$A$2:$D$1048576,2,0)),\"\")","v":""},null,null,null,null,null,"00:00:00",null,"00:00:00","00:00:00"]
[null,{"$f":"IFERROR(IF(A378=\"\",\"\",VLOOKUP(A378,'Banco de Funcionários'!$A$2:$D$1048576,2,0)),\"\")","v":""},null,null,null,null,null,"00:00:00",null,"00:00:00","00:00:00"]
[null,{"$f":"IFERROR(IF(A379=\"\",\"\",VLOOKUP(A379,'Banco de Funcionários'!$A$2:$D$1048576,2,0)),\"\")","v":""},null,null,null,null,null,"00:00:00",null,"00:00:00","00:00:00"]
[null,{"$f":"IFERROR(IF(A380=\"\",\"\",VLOOKUP(A380,'Banco de Funcionários'!$A$2:$D$1048576,2,0)),\"\")","v":""},null,null,null,null,null,"00:00:00",null,"00:00:00","00:00:00"]
[null,{"$f":"IFERROR(IF(A381=\"\",\"\",VLOOKUP(A381,'Banco de Funcionários'!$A$2:$D$1048576,2,0)),\"\")","v":""},null,null,null,null,null,"00:00:00",null,"00:00:00","00:00:00"]
[null,{"$f":"IFERROR(IF(A382=\"\",\"\",VLOOKUP(A382,'Banco de Funcionários'!$A$2:$D$1048576,2,0)),\"\")","v":""},null,null,null,null,null,"00:00:00",null,"00:00:00","00:00:00"]
[null,{"$f":"IFERROR(IF(A383=\"\",\"\",VLOOKUP(A383,'Banco de Funcionários'!$A$2:$D$1048576,2,0)),\"\")","v":""},null,null,null,null,null,"00:00:00",null,"00:00:00","00:00:00"]
[null,{"$f":"IFERROR(IF(A384=\"\",\"\",VLOOKUP(A384,'Banco de Funcionários'!$A$2:$D$1048576,2,0)),\"\")","v":""},null,null,null,null,null,"00:00:00",null,"00:00:00","00:00:00"]
[null,{"$f":"IFERROR(IF(A385=\"\",\"\",VLOOKUP(A385,'Banco de Funcionários'!$A$2:$D$1048576,2,0)),\"\")","v":""},null,null,null,null,null,"00:00:00",null,"00:00:00","00:00:00"]
[null,{"$f":"IFERROR(IF(A386=\"\",\"\",VLOOKUP(A386,'Banco de Funcionários'!$A$2:$D$1048576,2,0)),\"\")","v":""},null,null,null,null,null,"00:00:00",null,"00:00:00","00:00:00"]
[null,{"$f":"IFERROR(IF(A387=\"\",\"\",VLOOKUP(A387,'Banco de Funcionários'!$A$2:$D$1048576,2,0)),\"\")","v":""},null,null,null,null,null,{"$f":"(F387-E387)-G387","v":"00:00:00"},null,{"$f":"IFERROR(H387-I387,\"\")","v":"00:00:00"},{"$f":"IFERROR(H387+J387,0)","v":"00:00:00"}]
[null,{"$f":"IFERROR(IF(A388=\"\",\"\",VLOOKUP(A388,'Banco de Funcionários'!$A$2:$D$1048576,2,0)),\"\")","v":""},null,null,null,null,null,"00:00:00",null,"00:00:00","00:00:00"]
[null,{"$f":"IFERROR(IF(A389=\"\",\"\",VLOOKUP(A389,'Banco de Funcionários'!$A$2:$D$1048576,2,0)),\"\")","v":""},null,null,null,null,null,"00:00:00",null,"00:00:00","00:00:00"]
[null,{"$f":"IFERROR(IF(A390=\"\",\"\",VLOOKUP(A390,'Banco de Funcionários'!$A$2:$D$1048576,2,0)),\"\")","v":""},null,null,null,null,null,"00:00:00",null,"00:00:00","00:00:00"]
[null,{"$f":"IFERROR(IF(A391=\"\",\"\",VLOOKUP(A391,'Banco de Funcionários'!$A$2:$D$1048576,2,0)),\"\")","v":""},null,null,null,null,null,"00:00:00",null,"00:00:00","00:00:00"]
[null,{"$f":"IFERROR(IF(A392=\"\",\"\",VLOOKUP(A392,'Banco de Funcionários'!$A$2:$D$1048576,2,0)),\"\")","v":""},null,null,null,null,null,"00:00:00",null,"00:00:00","00:00:00"]
[null,{"$f":"IFERROR(IF(A393=\"\",\"\",VLOOKUP(A393,'Banco de Funcionários'!$A$2:$D$1048576,2,0)),\"\")","v":""},null,null,null,null,null,"00:00:00",null,"00:00:00","00:00:00"]
[null,{"$f":"IFERROR(IF(A394=\"\",\"\",VLOOKUP(A394,'Banco de Funcionários'!$A$2:$D$1048576,2,0)),\"\")","v":""},null,null,null,null,null,"00:00:00",null,"00:00:00","00:00:00"]
[null,{"$f":"IFERROR(IF(A395=\"\",\"\",VLOOKUP(A395,'Banco de Funcionários'!$A$2:$D$1048576,2,0)),\"\")","v":""},null,null,null,null,null,"00:00:00",null,"00:00:00","00:00:00"]
[null,{"$f":"IFERROR(IF(A396=\"\",\"\",VLOOKUP(A396,'Banco de Funcionários'!$A$2:$D$1048576,2,0)),\"\")","v":""},null,null,null,null,null,"00:00:00",null,"00:00:00","00:00:00"]
[null,{"$f":"IFERROR(IF(A397=\"\",\"\",VLOOKUP(A397,'Banco de Funcionários'!$A$2:$D$1048576,2,0)),\"\")","v":""},null,null,null,null,null,"00:00:00",null,"00:00:00","00:00:00"]
[null,{"$f":"IFERROR(IF(A398=\"\",\"\",VLOOKUP(A398,'Banco de Funcionários'!$A$2:$D$1048576,2,0)),\"\")","v":""},null,null,null,null,null,"00:00:00",null,"00:00:00","00:00:00"]
[null,{"$f":"IFERROR(IF(A399=\"\",\"\",VLOOKUP(A399,'Banco de Funcionários'!$A$2:$D$1048576,2,0)),\"\")","v":""},null,null,null,null,null,"00:00:00",null,"00:00:00","00:00:00"]
[null,{"$f":"IFERROR(IF(A400=\"\",\"\",VLOOKUP(A400,'Banco de Funcionários'!$A$2:$D$1048576,2,0)),\"\")","v":""},null,null,null,null,null,"00:00:00",null,"00:00:00","00:00:00"]
[null,{"$f":"IFERROR(IF(A401=\"\",\"\",VLOOKUP(A401,'Banco de Funcionários'!$A$2:$D$1048576,2,0)),\"\")","v":""},null,null,null,null,null,"00:00:00",null,"00:00:00","00:00:00"]
[null,{"$f":"IFERROR(IF(A402=\"\",\"\",VLOOKUP(A402,'Banco de Funcionários'!$A$2:$D$1048576,2,0)),\"\")","v":""},null,null,null,null,null,"00:00:00",null,"00:00:00","00:00:00"]
[null,{"$f":"IFERROR(IF(A403=\"\",\"\",VLOOKUP(A403,'Banco de Funcionários'!$A$2:$D$1048576,2,0)),\"\")","v":""},null,null,null,null,null,"00:00:00",null,"00:00:00","00:00:00"]
[null,{"$f":"IFERROR(IF(A404=\"\",\"\",VLOOKUP(A404,'Banco de Funcionários'!$A$2:$D$1048576,2,0)),\"\")","v":""},null,null,null,null,null,"00:00:00",null,"00:00:00","00:00:00"]
[null,{"$f":"IFERROR(IF(A405=\"\",\"\",VLOOKUP(A405,'Banco de Funcionários'!$A$2:$D$1048576,2,0)),\"\")","v":""},null,null,null,null,null,"00:00:00",null,"00:00:00","00:00:00"]
[null,{"$f":"IFERROR(IF(A406=\"\",\"\",VLOOKUP(A406,'Banco de Funcionários'!$A$2:$D$1048576,2,0)),\"\")","v":""},null,null,null,null,null,"00:00:00",null,"00:00:00","00:00:00"]
[null,{"$f":"IFERROR(IF(A407=\"\",\"\",VLOOKUP(A407,'Banco de Funcionários'!$A$2:$D$1048576,2,0)),\"\")","v":""},null,null,null,null,null,"00:00:00",null,"00:00:00","00:00:00"]
[null,{"$f":"IFERROR(IF(A408=\"\",\"\",VLOOKUP(A408,'Banco de Funcionários'!$A$2:$D$1048576,2,0)),\"\")","v":""},null,null,null,null,null,"00:00:00",null,"00:00:00","00:00:00"]
[null,{"$f":"IFERROR(IF(A409=\"\",\"\",VLOOKUP(A409,'Banco de Funcionários'!$A$2:$D$1048576,2,0)),\"\")","v":""},null,null,null,null,null,"00:00:00",null,"00:00:00","00:00:00"]
[null,{"$f":"IFERROR(IF(A410=\"\",\"\",VLOOKUP(A410,'Banco de Funcionários'!$A$2:$D$1048576,2,0)),\"\")","v":""},null,null,null,null,null,"00:00:00",null,"00:00:00","00:00:00"]
[null,{"$f":"IFERROR(IF(A411=\"\",\"\",VLOOKUP(A411,'Banco de Funcionários'!$A$2:$D$1048576,2,0)),\"\")","v":""},null,null,null,null,null,"00:00:00",null,"00:00:00","00:00:00"]
[null,{"$f":"IFERROR(IF(A412=\"\",\"\",VLOOKUP(A412,'Banco de Funcionários'!$A$2:$D$1048576,2,0)),\"\")","v":""},null,null,null,null,null,"00:00:00",null,"00:00:00","00:00:00"]
[null,{"$f":"IFERROR(IF(A413=\"\",\"\",VLOOKUP(A413,'Banco de Funcionários'!$A$2:$D$1048576,2,0)),\"\")","v":""},null,null,null,null,null,"00:00:00",null,"00:00:00","00:00:00"]
[null,{"$f":"IFERROR(IF(A414=\"\",\"\",VLOOKUP(A414,'Banco de Funcionários'!$A$2:$D$1048576,2,0)),\"\")","v":""},null,null,null,null,null,"00:00:00",null,"00:00:00","00:00:00"]
[null,{"$f":"IFERROR(IF(A415=\"\",\"\",VLOOKUP(A415,'Banco de Funcionários'!$A$2:$D$1048576,2,0)),\"\")","v":""},null,null,null,null,null,"00:00:00",null,"00:00:00","00:00:00"]
[null,{"$f":"IFERROR(IF(A416=\"\",\"\",VLOOKUP(A416,'Banco de Funcionários'!$A$2:$D$1048576,2,0)),\"\")","v":""},null,null,null,null,null,"00:00:00",null,"00:00:00","00:00:00"]
[null,{"$f":"IFERROR(IF(A417=\"\",\"\",VLOOKUP(A417,'Banco de Funcionários'!$A$2:$D$1048576,2,0)),\"\")","v":""},null,null,null,null,null,"00:00:00",null,"00:00:00","00:00:00"]
[null,{"$f":"IFERROR(IF(A418=\"\",\"\",VLOOKUP(A418,'Banco de Funcionários'!$A$2:$D$1048576,2,0)),\"\")","v":""},null,null,null,null,null,"00:00:00",null,"00:00:00","00:00:00"]
[null,{"$f":"IFERROR(IF(A419=\"\",\"\",VLOOKUP(A419,'Banco de Funcionários'!$A$2:$D$1048576,2,0)),\"\")","v":""},null,null,null,null,null,"00:00:00",null,"00:00:00","00:00:00"]
[null,{"$f":"IFERROR(IF(A420=\"\",\"\",VLOOKUP(A420,'Banco de Funcionários'!$A$2:$D$1048576,2,0)),\"\")","v":""},null,null,null,null,null,"00:00:00",null,"00:00:00","00:00:00"]
[null,{"$f":"IFERROR(IF(A421=\"\",\"\",VLOOKUP(A421,'Banco de Funcionários'!$A$2:$D$1048576,2,0)),\"\")","v":""},null,null,null,null,null,"00:00:00",null,"00:00:00","00:00:00"]
[null,{"$f":"IFERROR(IF(A422=\"\",\"\",VLOOKUP(A422,'Banco de Funcionários'!$A$2:$D$1048576,2,0)),\"\")","v":""},null,null,null,null,null,"00:00:00",null,"00:00:00","00:00:00"]
[null,{"$f":"IFERROR(IF(A423=\"\",\"\",VLOOKUP(A423,'Banco de Funcionários'!$A$2:$D$1048576,2,0)),\"\")","v":""},null,null,null,null,null,"00:00:00",null,"00:00:00","00:00:00"]
[null,{"$f":"IFERROR(IF(A424=\"\",\"\",VLOOKUP(A424,'Banco de Funcionários'!$A$2:$D$1048576,2,0)),\"\")","v":""},null,null,null,null,null,"00:00:00",null,"00:00:00","00:00:00"]
[null,{"$f":"IFERROR(IF(A425=\"\",\"\",VLOOKUP(A425,'Banco de Funcionários'!$A$2:$D$1048576,2,0)),\"\")","v":""},null,null,null,null,null,"00:00:00",null,"00:00:00","00:00:00"]
[null,{"$f":"IFERROR(IF(A426=\"\",\"\",VLOOKUP(A426,'Banco de Funcionários'!$A$2:$D$1048576,2,0)),\"\")","v":""},null,null,null,null,null,"00:00:00",null,"00:00:00","00:00:00"]
[null,{"$f":"IFERROR(IF(A427=\"\",\"\",VLOOKUP(A427,'Banco de Funcionários'!$A$2:$D$1048576,2,0)),\"\")","v":""},null,null,null,null,null,"00:00:00",null,"00:00:00","00:00:00"]
[null,{"$f":"IFERROR(IF(A428=\"\",\"\",VLOOKUP(A428,'Banco de Funcionários'!$A$2:$D$1048576,2,0)),\"\")","v":""},null,null,null,null,null,"00:00:00",null,"00:00:00","00:00:00"]
[null,{"$f":"IFERROR(IF(A429=\"\",\"\",VLOOKUP(A429,'Banco de Funcionários'!$A$2:$D$1048576,2,0)),\"\")","v":""},null,null,null,null,null,"00:00:00",null,"00:00:00","00:00:00"]
[null,{"$f":"IFERROR(IF(A430=\"\",\"\",VLOOKUP(A430,'Banco de Funcionários'!$A$2:$D$1048576,2,0)),\"\")","v":""},null,null,null,null,null,"00:00:00",null,"00:00:00","00:00:00"]
[null,{"$f":"IFERROR(IF(A431=\"\",\"\",VLOOKUP(A431,'Banco de Funcionários'!$A$2:$D$1048576,2,0)),\"\")","v":""},null,null,null,null,null,"00:00:00",null,"00:00:00","00:00:00"]
[null,{"$f":"IFERROR(IF(A432=\"\",\"\",VLOOKUP(A432,'Banco de Funcionários'!$A$2:$D$1048576,2,0)),\"\")","v":""},null,null,null,null,null,"00:00:00",null,"00:00:00","00:00:00"]
[null,{"$f":"IFERROR(IF(A433=\"\",\"\",VLOOKUP(A433,'Banco de Funcionários'!$A$2:$D$1048576,2,0)),\"\")","v":""},null,null,null,null,null,"00:00:00",null,"00:00:00","00:00:00"]
[null,{"$f":"IFERROR(IF(A434=\"\",\"\",VLOOKUP(A434,'Banco de Funcionários'!$A$2:$D$1048576,2,0)),\"\")","v":""},null,null,null,null,null,"00:00:00",null,"00:00:00","00:00:00"]
[null,{"$f":"IFERROR(IF(A435=\"\",\"\",VLOOKUP(A435,'Banco de Funcionários'!$A$2:$D$1048576,2,0)),\"\")","v":""},null,null,null,null,null,"00:00:00",null,"00:00:00","00:00:00"]
[null,{"$f":"IFERROR(IF(A436=\"\",\"\",VLOOKUP(A436,'Banco de Funcionários'!$A$2:$D$1048576,2,0)),\"\")","v":""},null,null,null,null,null,"00:00:00",null,"00:00:00","00:00:00"]
[null,{"$f":"IFERROR(IF(A437=\"\",\"\",VLOOKUP(A437,'Banco de Funcionários'!$A$2:$D$1048576,2,0)),\"\")","v":""},null,null,null,null,null,"00:00:00",null,"00:00:00","00:00:00"]
[null,{"$f":"IFERROR(IF(A438=\"\",\"\",VLOOKUP(A438,'Banco de Funcionários'!$A$2:$D$1048576,2,0)),\"\")","v":""},null,null,null,null,null,"00:00:00",null,"00:00:00","00:00:00"]
[null,{"$f":"IFERROR(IF(A439=\"\",\"\",VLOOKUP(A439,'Banco de Funcionários'!$A$2:$D$1048576,2,0)),\"\")","v":""},null,null,null,null,null,"00:00:00",null,"00:00:00","00:00:00"]
[null,{"$f":"IFERROR(IF(A440=\"\",\"\",VLOOKUP(A440,'Banco de Funcionários'!$A$2:$D$1048576,2,0)),\"\")","v":""},null,null,null,null,null,"00:00:00",null,"00:00:00","00:00:00"]
[null,{"$f":"IFERROR(IF(A441=\"\",\"\",VLOOKUP(A441,'Banco de Funcionários'!$A$2:$D$1048576,2,0)),\"\")","v":""},null,null,null,null,null,"00:00:00",null,"00:00:00","00:00:00"]
[null,{"$f":"IFERROR(IF(A442=\"\",\"\",VLOOKUP(A442,'Banco de Funcionários'!$A$2:$D$1048576,2,0)),\"\")","v":""},null,null,null,null,null,"00:00:00",null,"00:00:00","00:00:00"]
[null,{"$f":"IFERROR(IF(A443=\"\",\"\",VLOOKUP(A443,'Banco de Funcionários'!$A$2:$D$1048576,2,0)),\"\")","v":""},null,null,null,null,null,"00:00:00",null,"00:00:00","00:00:00"]
[null,{"$f":"IFERROR(IF(A444=\"\",\"\",VLOOKUP(A444,'Banco de Funcionários'!$A$2:$D$1048576,2,0)),\"\")","v":""},null,null,null,null,null,"00:00:00",null,"00:00:00","00:00:00"]
[null,{"$f":"IFERROR(IF(A445=\"\",\"\",VLOOKUP(A445,'Banco de Funcionários'!$A$2:$D$1048576,2,0)),\"\")","v":""},null,null,null,null,null,"00:00:00",null,"00:00:00","00:00:00"]
[null,{"$f":"IFERROR(IF(A446=\"\",\"\",VLOOKUP(A446,'Banco de Funcionários'!$A$2:$D$1048576,2,0)),\"\")","v":""},null,null,null,null,null,"00:00:00",null,"00:00:00","00:00:00"]
[null,{"$f":"IFERROR(IF(A447=\"\",\"\",VLOOKUP(A447,'Banco de Funcionários'!$A$2:$D$1048576,2,0)),\"\")","v":""},null,null,null,null,null,"00:00:00",null,"00:00:00","00:00:00"]
[null,{"$f":"IFERROR(IF(A448=\"\",\"\",VLOOKUP(A448,'Banco de Funcionários'!$A$2:$D$1048576,2,0)),\"\")","v":""},null,null,null,null,null,"00:00:00",null,"00:00:00","00:00:00"]
[null,{"$f":"IFERROR(IF(A449=\"\",\"\",VLOOKUP(A449,'Banco de Funcionários'!$A$2:$D$1048576,2,0)),\"\")","v":""},null,null,null,null,null,"00:00:00",null,"00:00:00","00:00:00"]
[null,{"$f":"IFERROR(IF(A450=\"\",\"\",VLOOKUP(A450,'Banco de Funcionários'!$A$2:$D$1048576,2,0)),\"\")","v":""},null,null,null,null,null,"00:00:00",null,"00:00:00","00:00:00"]
[null,{"$f":"IFERROR(IF(A451=\"\",\"\",VLOOKUP(A451,'Banco de Funcionários'!$A$2:$D$1048576,2,0)),\"\")","v":""},null,null,null,null,null,{"$f":"(F451-E451)-G451","v":"00:00:00"},null,{"$f":"IFERROR(H451-I451,\"\")","v":"00:00:00"},{"$f":"IFERROR(H451+J451,0)","v":"00:00:00"}]
[null,{"$f":"IFERROR(IF(A452=\"\",\"\",VLOOKUP(A452,'Banco de Funcionários'!$A$2:$D$1048576,2,0)),\"\")","v":""},null,null,null,null,null,"00:00:00",null,"00:00:00","00:00:00"]
[null,{"$f":"IFERROR(IF(A453=\"\",\"\",VLOOKUP(A453,'Banco de Funcionários'!$A$2:$D$1048576,2,0)),\"\")","v":""},null,null,null,null,null,"00:00:00",null,"00:00:00","00:00:00"]
[null,{"$f":"IFERROR(IF(A454=\"\",\"\",VLOOKUP(A454,'Banco de Funcionários'!$A$2:$D$1048576,2,0)),\"\")","v":""},null,null,null,null,null,"00:00:00",null,"00:00:00","00:00:00"]
[null,{"$f":"IFERROR(IF(A455=\"\",\"\",VLOOKUP(A455,'Banco de Funcionários'!$A$2:$D$1048576,2,0)),\"\")","v":""},null,null,null,null,null,"00:00:00",null,"00:00:00","00:00:00"]
[null,{"$f":"IFERROR(IF(A456=\"\",\"\",VLOOKUP(A456,'Banco de Funcionários'!$A$2:$D$1048576,2,0)),\"\")","v":""},null,null,null,null,null,"00:00:00",null,"00:00:00","00:00:00"]
[null,{"$f":"IFERROR(IF(A457=\"\",\"\",VLOOKUP(A457,'Banco de Funcionários'!$A$2:$D$1048576,2,0)),\"\")","v":""},null,null,null,null,null,"00:00:00",null,"00:00:00","00:00:00"]
[null,{"$f":"IFERROR(IF(A458=\"\",\"\",VLOOKUP(A458,'Banco de Funcionários'!$A$2:$D$1048576,2,0)),\"\")","v":""},null,null,null,null,null,"00:00:00",null,"00:00:00","00:00:00"]
[null,{"$f":"IFERROR(IF(A459=\"\",\"\",VLOOKUP(A459,'Banco de Funcionários'!$A$2:$D$1048576,2,0)),\"\")","v":""},null,null,null,null,null,"00:00:00",null,"00:00:00","00:00:00"]
[null,{"$f":"IFERROR(IF(A460=\"\",\"\",VLOOKUP(A460,'Banco de Funcionários'!$A$2:$D$1048576,2,0)),\"\")","v":""},null,null,null,null,null,"00:00:00",null,"00:00:00","00:00:00"]
[null,{"$f":"IFERROR(IF(A461=\"\",\"\",VLOOKUP(A461,'Banco de Funcionários'!$A$2:$D$1048576,2,0)),\"\")","v":""},null,null,null,null,null,"00:00:00",null,"00:00:00","00:00:00"]
[null,{"$f":"IFERROR(IF(A462=\"\",\"\",VLOOKUP(A462,'Banco de Funcionários'!$A$2:$D$1048576,2,0)),\"\")","v":""},null,null,null,null,null,"00:00:00",null,"00:00:00","00:00:00"]
[null,{"$f":"IFERROR(IF(A463=\"\",\"\",VLOOKUP(A463,'Banco de Funcionários'!$A$2:$D$1048576,2,0)),\"\")","v":""},null,null,null,null,null,"00:00:00",null,"00:00:00","00:00:00"]
[null,{"$f":"IFERROR(IF(A464=\"\",\"\",VLOOKUP(A464,'Banco de Funcionários'!$A$2:$D$1048576,2,0)),\"\")","v":""},null,null,null,null,null,"00:00:00",null,"00:00:00","00:00:00"]
[null,{"$f":"IFERROR(IF(A465=\"\",\"\",VLOOKUP(A465,'Banco de Funcionários'!$A$2:$D$1048576,2,0)),\"\")","v":""},null,null,null,null,null,"00:00:00",null,"00:00:00","00:00:00"]
[null,{"$f":"IFERROR(IF(A466=\"\",\"\",VLOOKUP(A466,'Banco de Funcionários'!$A$2:$D$1048576,2,0)),\"\")","v":""},null,null,null,null,null,"00:00:00",null,"00:00:00","00:00:00"]
[null,{"$f":"IFERROR(IF(A467=\"\",\"\",VLOOKUP(A467,'Banco de Funcionários'!$A$2:$D$1048576,2,0)),\"\")","v":""},null,null,null,null,null,"00:00:00",null,"00:00:00","00:00:00"]
[null,{"$f":"IFERROR(IF(A468=\"\",\"\",VLOOKUP(A468,'Banco de Funcionários'!$A$2:$D$1048576,2,0)),\"\")","v":""},null,null,null,null,null,"00:00:00",null,"00:00:00","00:00:00"]
[null,{"$f":"IFERROR(IF(A469=\"\",\"\",VLOOKUP(A469,'Banco de Funcionários'!$A$2:$D$1048576,2,0)),\"\")","v":""},null,null,null,null,null,"00:00:00",null,"00:00:00","00:00:00"]
[null,{"$f":"IFERROR(IF(A470=\"\",\"\",VLOOKUP(A470,'Banco de Funcionários'!$A$2:$D$1048576,2,0)),\"\")","v":""},null,null,null,null,null,"00:00:00",null,"00:00:00","00:00:00"]
[null,{"$f":"IFERROR(IF(A471=\"\",\"\",VLOOKUP(A471,'Banco de Funcionários'!$A$2:$D$1048576,2,0)),\"\")","v":""},null,null,null,null,null,"00:00:00",null,"00:00:00","00:00:00"]
[null,{"$f":"IFERROR(IF(A472=\"\",\"\",VLOOKUP(A472,'Banco de Funcionários'!$A$2:$D$1048576,2,0)),\"\")","v":""},null,null,null,null,null,"00:00:00",null,"00:00:00","00:00:00"]
[null,{"$f":"IFERROR(IF(A473=\"\",\"\",VLOOKUP(A473,'Banco de Funcionários'!$A$2:$D$1048576,2,0)),\"\")","v":""},null,null,null,null,null,"00:00:00",null,"00:00:00","00:00:00"]
[null,{"$f":"IFERROR(IF(A474=\"\",\"\",VLOOKUP(A474,'Banco de Funcionários'!$A$2:$D$1048576,2,0)),\"\")","v":""},null,null,null,null,null,"00:00:00",null,"00:00:00","00:00:00"]
[null,{"$f":"IFERROR(IF(A475=\"\",\"\",VLOOKUP(A475,'Banco de Funcionários'!$A$2:$D$1048576,2,0)),\"\")","v":""},null,null,null,null,null,"00:00:00",null,"00:00:00","00:00:00"]
[null,{"$f":"IFERROR(IF(A476=\"\",\"\",VLOOKUP(A476,'Banco de Funcionários'!$A$2:$D$1048576,2,0)),\"\")","v":""},null,null,null,null,null,"00:00:00",null,"00:00:00","00:00:00"]
[null,{"$f":"IFERROR(IF(A477=\"\",\"\",VLOOKUP(A477,'Banco de Funcionários'!$A$2:$D$1048576,2,0)),\"\")","v":""},null,null,null,null,null,"00:00:00",null,"00:00:00","00:00:00"]
[null,{"$f":"IFERROR(IF(A478=\"\",\"\",VLOOKUP(A478,'Banco de Funcionários'!$A$2:$D$1048576,2,0)),\"\")","v":""},null,null,null,null,null,"00:00:00",null,"00:00:00","00:00:00"]
[null,{"$f":"IFERROR(IF(A479=\"\",\"\",VLOOKUP(A479,'Banco de Funcionários'!$A$2:$D$1048576,2,0)),\"\")","v":""},null,null,null,null,null,"00:00:00",null,"00:00:00","00:00:00"]
[null,{"$f":"IFERROR(IF(A480=\"\",\"\",VLOOKUP(A480,'Banco de Funcionários'!$A$2:$D$1048576,2,0)),\"\")","v":""},null,null,null,null,null,"00:00:00",null,"00:00:00","00:00:00"]
[null,{"$f":"IFERROR(IF(A481=\"\",\"\",VLOOKUP(A481,'Banco de Funcionários'!$A$2:$D$1048576,2,0)),\"\")","v":""},null,null,null,null,null,"00:00:00",null,"00:00:00","00:00:00"]
[null,{"$f":"IFERROR(IF(A482=\"\",\"\",VLOOKUP(A482,'Banco de Funcionários'!$A$2:$D$1048576,2,0)),\"\")","v":""},null,null,null,null,null,"00:00:00",null,"00:00:00","00:00:00"]
[null,{"$f":"IFERROR(IF(A483=\"\",\"\",VLOOKUP(A483,'Banco de Funcionários'!$A$2:$D$1048576,2,0)),\"\")","v":""},null,null,null,null,null,"00:00:00",null,"00:00:00","00:00:00"]
[null,{"$f":"IFERROR(IF(A484=\"\",\"\",VLOOKUP(A484,'Banco de Funcionários'!$A$2:$D$1048576,2,0)),\"\")","v":""},null,null,null,null,null,"00:00:00",null,"00:00:00","00:00:00"]
[null,{"$f":"IFERROR(IF(A485=\"\",\"\",VLOOKUP(A485,'Banco de Funcionários'!$A$2:$D$1048576,2,0)),\"\")","v":""},null,null,null,null,null,"00:00:00",null,"00:00:00","00:00:00"]
[null,{"$f":"IFERROR(IF(A486=\"\",\"\",VLOOKUP(A486,'Banco de Funcionários'!$A$2:$D$1048576,2,0)),\"\")","v":""},null,null,null,null,null,"00:00:00",null,"00:00:00","00:00:00"]
[null,{"$f":"IFERROR(IF(A487=\"\",\"\",VLOOKUP(A487,'Banco de Funcionários'!$A$2:$D$1048576,2,0)),\"\")","v":""},null,null,null,null,null,"00:00:00",null,"00:00:00","00:00:00"]
[null,{"$f":"IFERROR(IF(A488=\"\",\"\",VLOOKUP(A488,'Banco de Funcionários'!$A$2:$D$1048576,2,0)),\"\")","v":""},null,null,null,null,null,"00:00:00",null,"00:00:00","00:00:00"]
[null,{"$f":"IFERROR(IF(A489=\"\",\"\",VLOOKUP(A489,'Banco de Funcionários'!$A$2:$D$1048576,2,0)),\"\")","v":""},null,null,null,null,null,"00:00:00",null,"00:00:00","00:00:00"]
[null,{"$f":"IFERROR(IF(A490=\"\",\"\",VLOOKUP(A490,'Banco de Funcionários'!$A$2:$D$1048576,2,0)),\"\")","v":""},null,null,null,null,null,"00:00:00",null,"00:00:00","00:00:00"]
[null,{"$f":"IFERROR(IF(A491=\"\",\"\",VLOOKUP(A491,'Banco de Funcionários'!$A$2:$D$1048576,2,0)),\"\")","v":""},null,null,null,null,null,"00:00:00",null,"00:00:00","00:00:00"]
[null,{"$f":"IFERROR(IF(A492=\"\",\"\",VLOOKUP(A492,'Banco de Funcionários'!$A$2:$D$1048576,2,0)),\"\")","v":""},null,null,null,null,null,"00:00:00",null,"00:00:00","00:00:00"]
[null,{"$f":"IFERROR(IF(A493=\"\",\"\",VLOOKUP(A493,'Banco de Funcionários'!$A$2:$D$1048576,2,0)),\"\")","v":""},null,null,null,null,null,"00:00:00",null,"00:00:00","00:00:00"]
[null,{"$f":"IFERROR(IF(A494=\"\",\"\",VLOOKUP(A494,'Banco de Funcionários'!$A$2:$D$1048576,2,0)),\"\")","v":""},null,null,null,null,null,"00:00:00",null,"00:00:00","00:00:00"]
[null,{"$f":"IFERROR(IF(A495=\"\",\"\",VLOOKUP(A495,'Banco de Funcionários'!$A$2:$D$1048576,2,0)),\"\")","v":""},null,null,null,null,null,"00:00:00",null,"00:00:00","00:00:00"]
[null,{"$f":"IFERROR(IF(A496=\"\",\"\",VLOOKUP(A496,'Banco de Funcionários'!$A$2:$D$1048576,2,0)),\"\")","v":""},null,null,null,null,null,"00:00:00",null,"00:00:00","00:00:00"]
[null,{"$f":"IFERROR(IF(A497=\"\",\"\",VLOOKUP(A497,'Banco de Funcionários'!$A$2:$D$1048576,2,0)),\"\")","v":""},null,null,null,null,null,"00:00:00",null,"00:00:00","00:00:00"]
[null,{"$f":"IFERROR(IF(A498=\"\",\"\",VLOOKUP(A498,'Banco de Funcionários'!$A$2:$D$1048576,2,0)),\"\")","v":""},null,null,null,null,null,"00:00:00",null,"00:00:00","00:00:00"]
[null,{"$f":"IFERROR(IF(A499=\"\",\"\",VLOOKUP(A499,'Banco de Funcionários'!$A$2:$D$1048576,2,0)),\"\")","v":""},null,null,null,null,null,"00:00:00",null,"00:00:00","00:00:00"]
[null,{"$f":"IFERROR(IF(A500=\"\",\"\",VLOOKUP(A500,'Banco de Funcionários'!$A$2:$D$1048576,2,0)),\"\")","v":""},null,null,null,null,null,"00:00:00",null,"00:00:00","00:00:00"]
[null,{"$f":"IFERROR(IF(A501=\"\",\"\",VLOOKUP(A501,'Banco de Funcionários'!$A$2:$D$1048576,2,0)),\"\")","v":""},null,null,null,null,null,"00:00:00",null,"00:00:00","00:00:00"]
[null,{"$f":"IFERROR(IF(A502=\"\",\"\",VLOOKUP(A502,'Banco de Funcionários'!$A$2:$D$1048576,2,0)),\"\")","v":""},null,null,null,null,null,"00:00:00",null,"00:00:00","00:00:00"]
[null,{"$f":"IFERROR(IF(A503=\"\",\"\",VLOOKUP(A503,'Banco de Funcionários'!$A$2:$D$1048576,2,0)),\"\")","v":""},null,null,null,null,null,"00:00:00",null,"00:00:00","00:00:00"]
[null,{"$f":"IFERROR(IF(A504=\"\",\"\",VLOOKUP(A504,'Banco de Funcionários'!$A$2:$D$1048576,2,0)),\"\")","v":""},null,null,null,null,null,"00:00:00",null,"00:00:00","00:00:00"]
[null,{"$f":"IFERROR(IF(A505=\"\",\"\",VLOOKUP(A505,'Banco de Funcionários'!$A$2:$D$1048576,2,0)),\"\")","v":""},null,null,null,null,null,"00:00:00",null,"00:00:00","00:00:00"]
[null,{"$f":"IFERROR(IF(A506=\"\",\"\",VLOOKUP(A506,'Banco de Funcionários'!$A$2:$D$1048576,2,0)),\"\")","v":""},null,null,null,null,null,"00:00:00",null,"00:00:00","00:00:00"]
[null,{"$f":"IFERROR(IF(A507=\"\",\"\",VLOOKUP(A507,'Banco de Funcionários'!$A$2:$D$1048576,2,0)),\"\")","v":""},null,null,null,null,null,"00:00:00",null,"00:00:00","00:00:00"]
[null,{"$f":"IFERROR(IF(A508=\"\",\"\",VLOOKUP(A508,'Banco de Funcionários'!$A$2:$D$1048576,2,0)),\"\")","v":""},null,null,null,null,null,"00:00:00",null,"00:00:00","00:00:00"]
[null,{"$f":"IFERROR(IF(A509=\"\",\"\",VLOOKUP(A509,'Banco de Funcionários'!$A$2:$D$1048576,2,0)),\"\")","v":""},null,null,null,null,null,"00:00:00",null,"00:00:00","00:00:00"]
[null,{"$f":"IFERROR(IF(A510=\"\",\"\",VLOOKUP(A510,'Banco de Funcionários'!$A$2:$D$1048576,2,0)),\"\")","v":""},null,null,null,null,null,"00:00:00",null,"00:00:00","00:00:00"]
[null,{"$f":"IFERROR(IF(A511=\"\",\"\",VLOOKUP(A511,'Banco de Funcionários'!$A$2:$D$1048576,2,0)),\"\")","v":""},null,null,null,null,null,"00:00:00",null,"00:00:00","00:00:00"]
[null,{"$f":"IFERROR(IF(A512=\"\",\"\",VLOOKUP(A512,'Banco de Funcionários'!$A$2:$D$1048576,2,0)),\"\")","v":""},null,null,null,null,null,"00:00:00",null,"00:00:00","00:00:00"]
[null,{"$f":"IFERROR(IF(A513=\"\",\"\",VLOOKUP(A513,'Banco de Funcionários'!$A$2:$D$1048576,2,0)),\"\")","v":""},null,null,null,null,null,"00:00:00",null,"00:00:00","00:00:00"]
[null,{"$f":"IFERROR(IF(A514=\"\",\"\",VLOOKUP(A514,'Banco de Funcionários'!$A$2:$D$1048576,2,0)),\"\")","v":""},null,null,null,null,null,"00:00:00",null,"00:00:00","00:00:00"]
[null,{"$f":"IFERROR(IF(A515=\"\",\"\",VLOOKUP(A515,'Banco de Funcionários'!$A$2:$D$1048576,2,0)),\"\")","v":""},null,null,null,null,null,{"$f":"(F515-E515)-G515","v":"00:00:00"},null,{"$f":"IFERROR(H515-I515,\"\")","v":"00:00:00"},{"$f":"IFERROR(H515+J515,0)","v":"00:00:00"}]
[null,{"$f":"IFERROR(IF(A516=\"\",\"\",VLOOKUP(A516,'Banco de Funcionários'!$A$2:$D$1048576,2,0)),\"\")","v":""},null,null,null,null,null,"00:00:00",null,"00:00:00","00:00:00"]
[null,{"$f":"IFERROR(IF(A517=\"\",\"\",VLOOKUP(A517,'Banco de Funcionários'!$A$2:$D$1048576,2,0)),\"\")","v":""},null,null,null,null,null,"00:00:00",null,"00:00:00","00:00:00"]
[null,{"$f":"IFERROR(IF(A518=\"\",\"\",VLOOKUP(A518,'Banco de Funcionários'!$A$2:$D$1048576,2,0)),\"\")","v":""},null,null,null,null,null,"00:00:00",null,"00:00:00","00:00:00"]
[null,{"$f":"IFERROR(IF(A519=\"\",\"\",VLOOKUP(A519,'Banco de Funcionários'!$A$2:$D$1048576,2,0)),\"\")","v":""},null,null,null,null,null,"00:00:00",null,"00:00:00","00:00:00"]
[null,{"$f":"IFERROR(IF(A520=\"\",\"\",VLOOKUP(A520,'Banco de Funcionários'!$A$2:$D$1048576,2,0)),\"\")","v":""},null,null,null,null,null,"00:00:00",null,"00:00:00","00:00:00"]
[null,{"$f":"IFERROR(IF(A521=\"\",\"\",VLOOKUP(A521,'Banco de Funcionários'!$A$2:$D$1048576,2,0)),\"\")","v":""},null,null,null,null,null,"00:00:00",null,"00:00:00","00:00:00"]
[null,{"$f":"IFERROR(IF(A522=\"\",\"\",VLOOKUP(A522,'Banco de Funcionários'!$A$2:$D$1048576,2,0)),\"\")","v":""},null,null,null,null,null,"00:00:00",null,"00:00:00","00:00:00"]
[null,{"$f":"IFERROR(IF(A523=\"\",\"\",VLOOKUP(A523,'Banco de Funcionários'!$A$2:$D$1048576,2,0)),\"\")","v":""},null,null,null,null,null,"00:00:00",null,"00:00:00","00:00:00"]
[null,{"$f":"IFERROR(IF(A524=\"\",\"\",VLOOKUP(A524,'Banco de Funcionários'!$A$2:$D$1048576,2,0)),\"\")","v":""},null,null,null,null,null,"00:00:00",null,"00:00:00","00:00:00"]
[null,{"$f":"IFERROR(IF(A525=\"\",\"\",VLOOKUP(A525,'Banco de Funcionários'!$A$2:$D$1048576,2,0)),\"\")","v":""},null,null,null,null,null,"00:00:00",null,"00:00:00","00:00:00"]
[null,{"$f":"IFERROR(IF(A526=\"\",\"\",VLOOKUP(A526,'Banco de Funcionários'!$A$2:$D$1048576,2,0)),\"\")","v":""},null,null,null,null,null,"00:00:00",null,"00:00:00","00:00:00"]
[null,{"$f":"IFERROR(IF(A527=\"\",\"\",VLOOKUP(A527,'Banco de Funcionários'!$A$2:$D$1048576,2,0)),\"\")","v":""},null,null,null,null,null,"00:00:00",null,"00:00:00","00:00:00"]
[null,{"$f":"IFERROR(IF(A528=\"\",\"\",VLOOKUP(A528,'Banco de Funcionários'!$A$2:$D$1048576,2,0)),\"\")","v":""},null,null,null,null,null,"00:00:00",null,"00:00:00","00:00:00"]
[null,{"$f":"IFERROR(IF(A529=\"\",\"\",VLOOKUP(A529,'Banco de Funcionários'!$A$2:$D$1048576,2,0)),\"\")","v":""},null,null,null,null,null,"00:00:00",null,"00:00:00","00:00:00"]
[null,{"$f":"IFERROR(IF(A530=\"\",\"\",VLOOKUP(A530,'Banco de Funcionários'!$A$2:$D$1048576,2,0)),\"\")","v":""},null,null,null,null,null,"00:00:00",null,"00:00:00","00:00:00"]
[null,{"$f":"IFERROR(IF(A531=\"\",\"\",VLOOKUP(A531,'Banco de Funcionários'!$A$2:$D$1048576,2,0)),\"\")","v":""},null,null,null,null,null,"00:00:00",null,"00:00:00","00:00:00"]
[null,{"$f":"IFERROR(IF(A532=\"\",\"\",VLOOKUP(A532,'Banco de Funcionários'!$A$2:$D$1048576,2,0)),\"\")","v":""},null,null,null,null,null,"00:00:00",null,"00:00:00","00:00:00"]
[null,{"$f":"IFERROR(IF(A533=\"\",\"\",VLOOKUP(A533,'Banco de Funcionários'!$A$2:$D$1048576,2,0)),\"\")","v":""},null,null,null,null,null,"00:00:00",null,"00:00:00","00:00:00"]
[null,{"$f":"IFERROR(IF(A534=\"\",\"\",VLOOKUP(A534,'Banco de Funcionários'!$A$2:$D$1048576,2,0)),\"\")","v":""},null,null,null,null,null,"00:00:00",null,"00:00:00","00:00:00"]
[null,{"$f":"IFERROR(IF(A535=\"\",\"\",VLOOKUP(A535,'Banco de Funcionários'!$A$2:$D$1048576,2,0)),\"\")","v":""},null,null,null,null,null,"00:00:00",null,"00:00:00","00:00:00"]
[null,{"$f":"IFERROR(IF(A536=\"\",\"\",VLOOKUP(A536,'Banco de Funcionários'!$A$2:$D$1048576,2,0)),\"\")","v":""},null,null,null,null,null,"00:00:00",null,"00:00:00","00:00:00"]
[null,{"$f":"IFERROR(IF(A537=\"\",\"\",VLOOKUP(A537,'Banco de Funcionários'!$A$2:$D$1048576,2,0)),\"\")","v":""},null,null,null,null,null,"00:00:00",null,"00:00:00","00:00:00"]
[null,{"$f":"IFERROR(IF(A538=\"\",\"\",VLOOKUP(A538,'Banco de Funcionários'!$A$2:$D$1048576,2,0)),\"\")","v":""},null,null,null,null,null,"00:00:00",null,"00:00:00","00:00:00"]
[null,{"$f":"IFERROR(IF(A539=\"\",\"\",VLOOKUP(A539,'Banco de Funcionários'!$A$2:$D$1048576,2,0)),\"\")","v":""},null,null,null,null,null,"00:00:00",null,"00:00:00","00:00:00"]
[null,{"$f":"IFERROR(IF(A540=\"\",\"\",VLOOKUP(A540,'Banco de Funcionários'!$A$2:$D$1048576,2,0)),\"\")","v":""},null,null,null,null,null,"00:00:00",null,"00:00:00","00:00:00"]
[null,{"$f":"IFERROR(IF(A541=\"\",\"\",VLOOKUP(A541,'Banco de Funcionários'!$A$2:$D$1048576,2,0)),\"\")","v":""},null,null,null,null,null,"00:00:00",null,"00:00:00","00:00:00"]
[null,{"$f":"IFERROR(IF(A542=\"\",\"\",VLOOKUP(A542,'Banco de Funcionários'!$A$2:$D$1048576,2,0)),\"\")","v":""},null,null,null,null,null,"00:00:00",null,"00:00:00","00:00:00"]
[null,{"$f":"IFERROR(IF(A543=\"\",\"\",VLOOKUP(A543,'Banco de Funcionários'!$A$2:$D$1048576,2,0)),\"\")","v":""},null,null,null,null,null,"00:00:00",null,"00:00:00","00:00:00"]
[null,{"$f":"IFERROR(IF(A544=\"\",\"\",VLOOKUP(A544,'Banco de Funcionários'!$A$2:$D$1048576,2,0)),\"\")","v":""},null,null,null,null,null,"00:00:00",null,"00:00:00","00:00:00"]
[null,{"$f":"IFERROR(IF(A545=\"\",\"\",VLOOKUP(A545,'Banco de Funcionários'!$A$2:$D$1048576,2,0)),\"\")","v":""},null,null,null,null,null,"00:00:00",null,"00:00:00","00:00:00"]
[null,{"$f":"IFERROR(IF(A546=\"\",\"\",VLOOKUP(A546,'Banco de Funcionários'!$A$2:$D$1048576,2,0)),\"\")","v":""},null,null,null,null,null,"00:00:00",null,"00:00:00","00:00:00"]
[null,{"$f":"IFERROR(IF(A547=\"\",\"\",VLOOKUP(A547,'Banco de Funcionários'!$A$2:$D$1048576,2,0)),\"\")","v":""},null,null,null,null,null,"00:00:00",null,"00:00:00","00:00:00"]
[null,{"$f":"IFERROR(IF(A548=\"\",\"\",VLOOKUP(A548,'Banco de Funcionários'!$A$2:$D$1048576,2,0)),\"\")","v":""},null,null,null,null,null,"00:00:00",null,"00:00:00","00:00:00"]
[null,{"$f":"IFERROR(IF(A549=\"\",\"\",VLOOKUP(A549,'Banco de Funcionários'!$A$2:$D$1048576,2,0)),\"\")","v":""},null,null,null,null,null,"00:00:00",null,"00:00:00","00:00:00"]
[null,{"$f":"IFERROR(IF(A550=\"\",\"\",VLOOKUP(A550,'Banco de Funcionários'!$A$2:$D$1048576,2,0)),\"\")","v":""},null,null,null,null,null,"00:00:00",null,"00:00:00","00:00:00"]
[null,{"$f":"IFERROR(IF(A551=\"\",\"\",VLOOKUP(A551,'Banco de Funcionários'!$A$2:$D$1048576,2,0)),\"\")","v":""},null,null,null,null,null,"00:00:00",null,"00:00:00","00:00:00"]
[null,{"$f":"IFERROR(IF(A552=\"\",\"\",VLOOKUP(A552,'Banco de Funcionários'!$A$2:$D$1048576,2,0)),\"\")","v":""},null,null,null,null,null,"00:00:00",null,"00:00:00","00:00:00"]
[null,{"$f":"IFERROR(IF(A553=\"\",\"\",VLOOKUP(A553,'Banco de Funcionários'!$A$2:$D$1048576,2,0)),\"\")","v":""},null,null,null,null,null,"00:00:00",null,"00:00:00","00:00:00"]
[null,{"$f":"IFERROR(IF(A554=\"\",\"\",VLOOKUP(A554,'Banco de Funcionários'!$A$2:$D$1048576,2,0)),\"\")","v":""},null,null,null,null,null,"00:00:00",null,"00:00:00","00:00:00"]
[null,{"$f":"IFERROR(IF(A555=\"\",\"\",VLOOKUP(A555,'Banco de Funcionários'!$A$2:$D$1048576,2,0)),\"\")","v":""},null,null,null,null,null,"00:00:00",null,"00:00:00","00:00:00"]
[null,{"$f":"IFERROR(IF(A556=\"\",\"\",VLOOKUP(A556,'Banco de Funcionários'!$A$2:$D$1048576,2,0)),\"\")","v":""},null,null,null,null,null,"00:00:00",null,"00:00:00","00:00:00"]
[null,{"$f":"IFERROR(IF(A557=\"\",\"\",VLOOKUP(A557,'Banco de Funcionários'!$A$2:$D$1048576,2,0)),\"\")","v":""},null,null,null,null,null,"00:00:00",null,"00:00:00","00:00:00"]
[null,{"$f":"IFERROR(IF(A558=\"\",\"\",VLOOKUP(A558,'Banco de Funcionários'!$A$2:$D$1048576,2,0)),\"\")","v":""},null,null,null,null,null,"00:00:00",null,"00:00:00","00:00:00"]
[null,{"$f":"IFERROR(IF(A559=\"\",\"\",VLOOKUP(A559,'Banco de Funcionários'!$A$2:$D$1048576,2,0)),\"\")","v":""},null,null,null,null,null,"00:00:00",null,"00:00:00","00:00:00"]
[null,{"$f":"IFERROR(IF(A560=\"\",\"\",VLOOKUP(A560,'Banco de Funcionários'!$A$2:$D$1048576,2,0)),\"\")","v":""},null,null,null,null,null,"00:00:00",null,"00:00:00","00:00:00"]
[null,{"$f":"IFERROR(IF(A561=\"\",\"\",VLOOKUP(A561,'Banco de Funcionários'!$A$2:$D$1048576,2,0)),\"\")","v":""},null,null,null,null,null,"00:00:00",null,"00:00:00","00:00:00"]
[null,{"$f":"IFERROR(IF(A562=\"\",\"\",VLOOKUP(A562,'Banco de Funcionários'!$A$2:$D$1048576,2,0)),\"\")","v":""},null,null,null,null,null,"00:00:00",null,"00:00:00","00:00:00"]
[null,{"$f":"IFERROR(IF(A563=\"\",\"\",VLOOKUP(A563,'Banco de Funcionários'!$A$2:$D$1048576,2,0)),\"\")","v":""},null,null,null,null,null,"00:00:00",null,"00:00:00","00:00:00"]
[null,{"$f":"IFERROR(IF(A564=\"\",\"\",VLOOKUP(A564,'Banco de Funcionários'!$A$2:$D$1048576,2,0)),\"\")","v":""},null,null,null,null,null,"00:00:00",null,"00:00:00","00:00:00"]
[null,{"$f":"IFERROR(IF(A565=\"\",\"\",VLOOKUP(A565,'Banco de Funcionários'!$A$2:$D$1048576,2,0)),\"\")","v":""},null,null,null,null,null,"00:00:00",null,"00:00:00","00:00:00"]
[null,{"$f":"IFERROR(IF(A566=\"\",\"\",VLOOKUP(A566,'Banco de Funcionários'!$A$2:$D$1048576,2,0)),\"\")","v":""},null,null,null,null,null,"00:00:00",null,"00:00:00","00:00:00"]
[null,{"$f":"IFERROR(IF(A567=\"\",\"\",VLOOKUP(A567,'Banco de Funcionários'!$A$2:$D$1048576,2,0)),\"\")","v":""},null,null,null,null,null,"00:00:00",null,"00:00:00","00:00:00"]
[null,{"$f":"IFERROR(IF(A568=\"\",\"\",VLOOKUP(A568,'Banco de Funcionários'!$A$2:$D$1048576,2,0)),\"\")","v":""},null,null,null,null,null,"00:00:00",null,"00:00:00","00:00:00"]
[null,{"$f":"IFERROR(IF(A569=\"\",\"\",VLOOKUP(A569,'Banco de Funcionários'!$A$2:$D$1048576,2,0)),\"\")","v":""},null,null,null,null,null,"00:00:00",null,"00:00:00","00:00:00"]
[null,{"$f":"IFERROR(IF(A570=\"\",\"\",VLOOKUP(A570,'Banco de Funcionários'!$A$2:$D$1048576,2,0)),\"\")","v":""},null,null,null,null,null,"00:00:00",null,"00:00:00","00:00:00"]
[null,{"$f":"IFERROR(IF(A571=\"\",\"\",VLOOKUP(A571,'Banco de Funcionários'!$A$2:$D$1048576,2,0)),\"\")","v":""},null,null,null,null,null,"00:00:00",null,"00:00:00","00:00:00"]
[null,{"$f":"IFERROR(IF(A572=\"\",\"\",VLOOKUP(A572,'Banco de Funcionários'!$A$2:$D$1048576,2,0)),\"\")","v":""},null,null,null,null,null,"00:00:00",null,"00:00:00","00:00:00"]
[null,{"$f":"IFERROR(IF(A573=\"\",\"\",VLOOKUP(A573,'Banco de Funcionários'!$A$2:$D$1048576,2,0)),\"\")","v":""},null,null,null,null,null,"00:00:00",null,"00:00:00","00:00:00"]
[null,{"$f":"IFERROR(IF(A574=\"\",\"\",VLOOKUP(A574,'Banco de Funcionários'!$A$2:$D$1048576,2,0)),\"\")","v":""},null,null,null,null,null,"00:00:00",null,"00:00:00","00:00:00"]
[null,{"$f":"IFERROR(IF(A575=\"\",\"\",VLOOKUP(A575,'Banco de Funcionários'!$A$2:$D$1048576,2,0)),\"\")","v":""},null,null,null,null,null,"00:00:00",null,"00:00:00","00:00:00"]
[null,{"$f":"IFERROR(IF(A576=\"\",\"\",VLOOKUP(A576,'Banco de Funcionários'!$A$2:$D$1048576,2,0)),\"\")","v":""},null,null,null,null,null,"00:00:00",null,"00:00:00","00:00:00"]
[null,{"$f":"IFERROR(IF(A577=\"\",\"\",VLOOKUP(A577,'Banco de Funcionários'!$A$2:$D$1048576,2,0)),\"\")","v":""},null,null,null,null,null,"00:00:00",null,"00:00:00","00:00:00"]
[null,{"$f":"IFERROR(IF(A578=\"\",\"\",VLOOKUP(A578,'Banco de Funcionários'!$A$2:$D$1048576,2,0)),\"\")","v":""},null,null,null,null,null,"00:00:00",null,"00:00:00","00:00:00"]
[null,{"$f":"IFERROR(IF(A579=\"\",\"\",VLOOKUP(A579,'Banco de Funcionários'!$A$2:$D$1048576,2,0)),\"\")","v":""},null,null,null,null,null,{"$f":"(F579-E579)-G579","v":"00:00:00"},null,{"$f":"IFERROR(H579-I579,\"\")","v":"00:00:00"},{"$f":"IFERROR(H579+J579,0)","v":"00:00:00"}]
[null,{"$f":"IFERROR(IF(A580=\"\",\"\",VLOOKUP(A580,'Banco de Funcionários'!$A$2:$D$1048576,2,0)),\"\")","v":""},null,null,null,null,null,"00:00:00",null,"00:00:00","00:00:00"]
[null,{"$f":"IFERROR(IF(A581=\"\",\"\",VLOOKUP(A581,'Banco de Funcionários'!$A$2:$D$1048576,2,0)),\"\")","v":""},null,null,null,null,null,"00:00:00",null,"00:00:00","00:00:00"]
[null,{"$f":"IFERROR(IF(A582=\"\",\"\",VLOOKUP(A582,'Banco de Funcionários'!$A$2:$D$1048576,2,0)),\"\")","v":""},null,null,null,null,null,"00:00:00",null,"00:00:00","00:00:00"]
[null,{"$f":"IFERROR(IF(A583=\"\",\"\",VLOOKUP(A583,'Banco de Funcionários'!$A$2:$D$1048576,2,0)),\"\")","v":""},null,null,null,null,null,"00:00:00",null,"00:00:00","00:00:00"]
[null,{"$f":"IFERROR(IF(A584=\"\",\"\",VLOOKUP(A584,'Banco de Funcionários'!$A$2:$D$1048576,2,0)),\"\")","v":""},null,null,null,null,null,"00:00:00",null,"00:00:00","00:00:00"]
[null,{"$f":"IFERROR(IF(A585=\"\",\"\",VLOOKUP(A585,'Banco de Funcionários'!$A$2:$D$1048576,2,0)),\"\")","v":""},null,null,null,null,null,"00:00:00",null,"00:00:00","00:00:00"]
[null,{"$f":"IFERROR(IF(A586=\"\",\"\",VLOOKUP(A586,'Banco de Funcionários'!$A$2:$D$1048576,2,0)),\"\")","v":""},null,null,null,null,null,"00:00:00",null,"00:00:00","00:00:00"]
[null,{"$f":"IFERROR(IF(A587=\"\",\"\",VLOOKUP(A587,'Banco de Funcionários'!$A$2:$D$1048576,2,0)),\"\")","v":""},null,null,null,null,null,"00:00:00",null,"00:00:00","00:00:00"]
[null,{"$f":"IFERROR(IF(A588=\"\",\"\",VLOOKUP(A588,'Banco de Funcionários'!$A$2:$D$1048576,2,0)),\"\")","v":""},null,null,null,null,null,"00:00:00",null,"00:00:00","00:00:00"]
[null,{"$f":"IFERROR(IF(A589=\"\",\"\",VLOOKUP(A589,'Banco de Funcionários'!$A$2:$D$1048576,2,0)),\"\")","v":""},null,null,null,null,null,"00:00:00",null,"00:00:00","00:00:00"]
[null,{"$f":"IFERROR(IF(A590=\"\",\"\",VLOOKUP(A590,'Banco de Funcionários'!$A$2:$D$1048576,2,0)),\"\")","v":""},null,null,null,null,null,"00:00:00",null,"00:00:00","00:00:00"]
[null,{"$f":"IFERROR(IF(A591=\"\",\"\",VLOOKUP(A591,'Banco de Funcionários'!$A$2:$D$1048576,2,0)),\"\")","v":""},null,null,null,null,null,"00:00:00",null,"00:00:00","00:00:00"]
[null,{"$f":"IFERROR(IF(A592=\"\",\"\",VLOOKUP(A592,'Banco de Funcionários'!$A$2:$D$1048576,2,0)),\"\")","v":""},null,null,null,null,null,"00:00:00",null,"00:00:00","00:00:00"]
[null,{"$f":"IFERROR(IF(A593=\"\",\"\",VLOOKUP(A593,'Banco de Funcionários'!$A$2:$D$1048576,2,0)),\"\")","v":""},null,null,null,null,null,"00:00:00",null,"00:00:00","00:00:00"]
[null,{"$f":"IFERROR(IF(A594=\"\",\"\",VLOOKUP(A594,'Banco de Funcionários'!$A$2:$D$1048576,2,0)),\"\")","v":""},null,null,null,null,null,"00:00:00",null,"00:00:00","00:00:00"]
[null,{"$f":"IFERROR(IF(A595=\"\",\"\",VLOOKUP(A595,'Banco de Funcionários'!$A$2:$D$1048576,2,0)),\"\")","v":""},null,null,null,null,null,"00:00:00",null,"00:00:00","00:00:00"]
[null,{"$f":"IFERROR(IF(A596=\"\",\"\",VLOOKUP(A596,'Banco de Funcionários'!$A$2:$D$1048576,2,0)),\"\")","v":""},null,null,null,null,null,"00:00:00",null,"00:00:00","00:00:00"]
[null,{"$f":"IFERROR(IF(A597=\"\",\"\",VLOOKUP(A597,'Banco de Funcionários'!$A$2:$D$1048576,2,0)),\"\")","v":""},null,null,null,null,null,"00:00:00",null,"00:00:00","00:00:00"]
[null,{"$f":"IFERROR(IF(A598=\"\",\"\",VLOOKUP(A598,'Banco de Funcionários'!$A$2:$D$1048576,2,0)),\"\")","v":""},null,null,null,null,null,"00:00:00",null,"00:00:00","00:00:00"]
[null,{"$f":"IFERROR(IF(A599=\"\",\"\",VLOOKUP(A599,'Banco de Funcionários'!$A$2:$D$1048576,2,0)),\"\")","v":""},null,null,null,null,null,"00:00:00",null,"00:00:00","00:00:00"]
[null,{"$f":"IFERROR(IF(A600=\"\",\"\",VLOOKUP(A600,'Banco de Funcionários'!$A$2:$D$1048576,2,0)),\"\")","v":""},null,null,null,null,null,"00:00:00",null,"00:00:00","00:00:00"]
[null,{"$f":"IFERROR(IF(A601=\"\",\"\",VLOOKUP(A601,'Banco de Funcionários'!$A$2:$D$1048576,2,0)),\"\")","v":""},null,null,null,null,null,"00:00:00",null,"00:00:00","00:00:00"]
[null,{"$f":"IFERROR(IF(A602=\"\",\"\",VLOOKUP(A602,'Banco de Funcionários'!$A$2:$D$1048576,2,0)),\"\")","v":""},null,null,null,null,null,"00:00:00",null,"00:00:00","00:00:00"]
[null,{"$f":"IFERROR(IF(A603=\"\",\"\",VLOOKUP(A603,'Banco de Funcionários'!$A$2:$D$1048576,2,0)),\"\")","v":""},null,null,null,null,null,"00:00:00",null,"00:00:00","00:00:00"]
[null,{"$f":"IFERROR(IF(A604=\"\",\"\",VLOOKUP(A604,'Banco de Funcionários'!$A$2:$D$1048576,2,0)),\"\")","v":""},null,null,null,null,null,"00:00:00",null,"00:00:00","00:00:00"]
[null,{"$f":"IFERROR(IF(A605=\"\",\"\",VLOOKUP(A605,'Banco de Funcionários'!$A$2:$D$1048576,2,0)),\"\")","v":""},null,null,null,null,null,"00:00:00",null,"00:00:00","00:00:00"]
[null,{"$f":"IFERROR(IF(A606=\"\",\"\",VLOOKUP(A606,'Banco de Funcionários'!$A$2:$D$1048576,2,0)),\"\")","v":""},null,null,null,null,null,"00:00:00",null,"00:00:00","00:00:00"]
[null,{"$f":"IFERROR(IF(A607=\"\",\"\",VLOOKUP(A607,'Banco de Funcionários'!$A$2:$D$1048576,2,0)),\"\")","v":""},null,null,null,null,null,"00:00:00",null,"00:00:00","00:00:00"]
[null,{"$f":"IFERROR(IF(A608=\"\",\"\",VLOOKUP(A608,'Banco de Funcionários'!$A$2:$D$1048576,2,0)),\"\")","v":""},null,null,null,null,null,"00:00:00",null,"00:00:00","00:00:00"]
[null,{"$f":"IFERROR(IF(A609=\"\",\"\",VLOOKUP(A609,'Banco de Funcionários'!$A$2:$D$1048576,2,0)),\"\")","v":""},null,null,null,null,null,"00:00:00",null,"00:00:00","00:00:00"]
[null,{"$f":"IFERROR(IF(A610=\"\",\"\",VLOOKUP(A610,'Banco de Funcionários'!$A$2:$D$1048576,2,0)),\"\")","v":""},null,null,null,null,null,"00:00:00",null,"00:00:00","00:00:00"]
[null,{"$f":"IFERROR(IF(A611=\"\",\"\",VLOOKUP(A611,'Banco de Funcionários'!$A$2:$D$1048576,2,0)),\"\")","v":""},null,null,null,null,null,"00:00:00",null,"00:00:00","00:00:00"]
[null,{"$f":"IFERROR(IF(A612=\"\",\"\",VLOOKUP(A612,'Banco de Funcionários'!$A$2:$D$1048576,2,0)),\"\")","v":""},null,null,null,null,null,"00:00:00",null,"00:00:00","00:00:00"]
[null,{"$f":"IFERROR(IF(A613=\"\",\"\",VLOOKUP(A613,'Banco de Funcionários'!$A$2:$D$1048576,2,0)),\"\")","v":""},null,null,null,null,null,"00:00:00",null,"00:00:00","00:00:00"]
[null,{"$f":"IFERROR(IF(A614=\"\",\"\",VLOOKUP(A614,'Banco de Funcionários'!$A$2:$D$1048576,2,0)),\"\")","v":""},null,null,null,null,null,"00:00:00",null,"00:00:00","00:00:00"]
[null,{"$f":"IFERROR(IF(A615=\"\",\"\",VLOOKUP(A615,'Banco de Funcionários'!$A$2:$D$1048576,2,0)),\"\")","v":""},null,null,null,null,null,"00:00:00",null,"00:00:00","00:00:00"]
[null,{"$f":"IFERROR(IF(A616=\"\",\"\",VLOOKUP(A616,'Banco de Funcionários'!$A$2:$D$1048576,2,0)),\"\")","v":""},null,null,null,null,null,"00:00:00",null,"00:00:00","00:00:00"]
[null,{"$f":"IFERROR(IF(A617=\"\",\"\",VLOOKUP(A617,'Banco de Funcionários'!$A$2:$D$1048576,2,0)),\"\")","v":""},null,null,null,null,null,"00:00:00",null,"00:00:00","00:00:00"]
[null,{"$f":"IFERROR(IF(A618=\"\",\"\",VLOOKUP(A618,'Banco de Funcionários'!$A$2:$D$1048576,2,0)),\"\")","v":""},null,null,null,null,null,"00:00:00",null,"00:00:00","00:00:00"]
[null,{"$f":"IFERROR(IF(A619=\"\",\"\",VLOOKUP(A619,'Banco de Funcionários'!$A$2:$D$1048576,2,0)),\"\")","v":""},null,null,null,null,null,"00:00:00",null,"00:00:00","00:00:00"]
[null,{"$f":"IFERROR(IF(A620=\"\",\"\",VLOOKUP(A620,'Banco de Funcionários'!$A$2:$D$1048576,2,0)),\"\")","v":""},null,null,null,null,null,"00:00:00",null,"00:00:00","00:00:00"]
[null,{"$f":"IFERROR(IF(A621=\"\",\"\",VLOOKUP(A621,'Banco de Funcionários'!$A$2:$D$1048576,2,0)),\"\")","v":""},null,null,null,null,null,"00:00:00",null,"00:00:00","00:00:00"]
[null,{"$f":"IFERROR(IF(A622=\"\",\"\",VLOOKUP(A622,'Banco de Funcionários'!$A$2:$D$1048576,2,0)),\"\")","v":""},null,null,null,null,null,"00:00:00",null,"00:00:00","00:00:00"]
[null,{"$f":"IFERROR(IF(A623=\"\",\"\",VLOOKUP(A623,'Banco de Funcionários'!$A$2:$D$1048576,2,0)),\"\")","v":""},null,null,null,null,null,"00:00:00",null,"00:00:00","00:00:00"]
[null,{"$f":"IFERROR(IF(A624=\"\",\"\",VLOOKUP(A624,'Banco de Funcionários'!$A$2:$D$1048576,2,0)),\"\")","v":""},null,null,null,null,null,"00:00:00",null,"00:00:00","00:00:00"]
[null,{"$f":"IFERROR(IF(A625=\"\",\"\",VLOOKUP(A625,'Banco de Funcionários'!$A$2:$D$1048576,2,0)),\"\")","v":""},null,null,null,null,null,"00:00:00",null,"00:00:00","00:00:00"]
[null,{"$f":"IFERROR(IF(A626=\"\",\"\",VLOOKUP(A626,'Banco de Funcionários'!$A$2:$D$1048576,2,0)),\"\")","v":""},null,null,null,null,null,"00:00:00",null,"00:00:00","00:00:00"]
[null,{"$f":"IFERROR(IF(A627=\"\",\"\",VLOOKUP(A627,'Banco de Funcionários'!$A$2:$D$1048576,2,0)),\"\")","v":""},null,null,null,null,null,"00:00:00",null,"00:00:00","00:00:00"]
[null,{"$f":"IFERROR(IF(A628=\"\",\"\",VLOOKUP(A628,'Banco de Funcionários'!$A$2:$D$1048576,2,0)),\"\")","v":""},null,null,null,null,null,"00:00:00",null,"00:00:00","00:00:00"]
[null,{"$f":"IFERROR(IF(A629=\"\",\"\",VLOOKUP(A629,'Banco de Funcionários'!$A$2:$D$1048576,2,0)),\"\")","v":""},null,null,null,null,null,"00:00:00",null,"00:00:00","00:00:00"]
[null,{"$f":"IFERROR(IF(A630=\"\",\"\",VLOOKUP(A630,'Banco de Funcionários'!$A$2:$D$1048576,2,0)),\"\")","v":""},null,null,null,null,null,"00:00:00",null,"00:00:00","00:00:00"]
[null,{"$f":"IFERROR(IF(A631=\"\",\"\",VLOOKUP(A631,'Banco de Funcionários'!$A$2:$D$1048576,2,0)),\"\")","v":""},null,null,null,null,null,"00:00:00",null,"00:00:00","00:00:00"]
[null,{"$f":"IFERROR(IF(A632=\"\",\"\",VLOOKUP(A632,'Banco de Funcionários'!$A$2:$D$1048576,2,0)),\"\")","v":""},null,null,null,null,null,"00:00:00",null,"00:00:00","00:00:00"]
[null,{"$f":"IFERROR(IF(A633=\"\",\"\",VLOOKUP(A633,'Banco de Funcionários'!$A$2:$D$1048576,2,0)),\"\")","v":""},null,null,null,null,null,"00:00:00",null,"00:00:00","00:00:00"]
[null,{"$f":"IFERROR(IF(A634=\"\",\"\",VLOOKUP(A634,'Banco de Funcionários'!$A$2:$D$1048576,2,0)),\"\")","v":""},null,null,null,null,null,"00:00:00",null,"00:00:00","00:00:00"]
[null,{"$f":"IFERROR(IF(A635=\"\",\"\",VLOOKUP(A635,'Banco de Funcionários'!$A$2:$D$1048576,2,0)),\"\")","v":""},null,null,null,null,null,"00:00:00",null,"00:00:00","00:00:00"]
[null,{"$f":"IFERROR(IF(A636=\"\",\"\",VLOOKUP(A636,'Banco de Funcionários'!$A$2:$D$1048576,2,0)),\"\")","v":""},null,null,null,null,null,"00:00:00",null,"00:00:00","00:00:00"]
[null,{"$f":"IFERROR(IF(A637=\"\",\"\",VLOOKUP(A637,'Banco de Funcionários'!$A$2:$D$1048576,2,0)),\"\")","v":""},null,null,null,null,null,"00:00:00",null,"00:00:00","00:00:00"]
[null,{"$f":"IFERROR(IF(A638=\"\",\"\",VLOOKUP(A638,'Banco de Funcionários'!$A$2:$D$1048576,2,0)),\"\")","v":""},null,null,null,null,null,"00:00:00",null,"00:00:00","00:00:00"]
[null,{"$f":"IFERROR(IF(A639=\"\",\"\",VLOOKUP(A639,'Banco de Funcionários'!$A$2:$D$1048576,2,0)),\"\")","v":""},null,null,null,null,null,"00:00:00",null,"00:00:00","00:00:00"]
[null,{"$f":"IFERROR(IF(A640=\"\",\"\",VLOOKUP(A640,'Banco de Funcionários'!$A$2:$D$1048576,2,0)),\"\")","v":""},null,null,null,null,null,"00:00:00",null,"00:00:00","00:00:00"]
[null,{"$f":"IFERROR(IF(A641=\"\",\"\",VLOOKUP(A641,'Banco de Funcionários'!$A$2:$D$1048576,2,0)),\"\")","v":""},null,null,null,null,null,"00:00:00",null,"00:00:00","00:00:00"]
[null,{"$f":"IFERROR(IF(A642=\"\",\"\",VLOOKUP(A642,'Banco de Funcionários'!$A$2:$D$1048576,2,0)),\"\")","v":""},null,null,null,null,null,"00:00:00",null,"00:00:00","00:00:00"]
[null,{"$f":"IFERROR(IF(A643=\"\",\"\",VLOOKUP(A643,'Banco de Funcionários'!$A$2:$D$1048576,2,0)),\"\")","v":""},null,null,null,null,null,{"$f":"(F643-E643)-G643","v":"00:00:00"},null,{"$f":"IFERROR(H643-I643,\"\")","v":"00:00:00"},{"$f":"IFERROR(H643+J643,0)","v":"00:00:00"}]
[null,{"$f":"IFERROR(IF(A644=\"\",\"\",VLOOKUP(A644,'Banco de Funcionários'!$A$2:$D$1048576,2,0)),\"\")","v":""},null,null,null,null,null,"00:00:00",null,"00:00:00","00:00:00"]
[null,{"$f":"IFERROR(IF(A645=\"\",\"\",VLOOKUP(A645,'Banco de Funcionários'!$A$2:$D$1048576,2,0)),\"\")","v":""},null,null,null,null,null,"00:00:00",null,"00:00:00","00:00:00"]
[null,{"$f":"IFERROR(IF(A646=\"\",\"\",VLOOKUP(A646,'Banco de Funcionários'!$A$2:$D$1048576,2,0)),\"\")","v":""},null,null,null,null,null,"00:00:00",null,"00:00:00","00:00:00"]
[null,{"$f":"IFERROR(IF(A647=\"\",\"\",VLOOKUP(A647,'Banco de Funcionários'!$A$2:$D$1048576,2,0)),\"\")","v":""},null,null,null,null,null,"00:00:00",null,"00:00:00","00:00:00"]
[null,{"$f":"IFERROR(IF(A648=\"\",\"\",VLOOKUP(A648,'Banco de Funcionários'!$A$2:$D$1048576,2,0)),\"\")","v":""},null,null,null,null,null,"00:00:00",null,"00:00:00","00:00:00"]
[null,{"$f":"IFERROR(IF(A649=\"\",\"\",VLOOKUP(A649,'Banco de Funcionários'!$A$2:$D$1048576,2,0)),\"\")","v":""},null,null,null,null,null,"00:00:00",null,"00:00:00","00:00:00"]
[null,{"$f":"IFERROR(IF(A650=\"\",\"\",VLOOKUP(A650,'Banco de Funcionários'!$A$2:$D$1048576,2,0)),\"\")","v":""},null,null,null,null,null,"00:00:00",null,"00:00:00","00:00:00"]
[null,{"$f":"IFERROR(IF(A651=\"\",\"\",VLOOKUP(A651,'Banco de Funcionários'!$A$2:$D$1048576,2,0)),\"\")","v":""},null,null,null,null,null,"00:00:00",null,"00:00:00","00:00:00"]
[null,{"$f":"IFERROR(IF(A652=\"\",\"\",VLOOKUP(A652,'Banco de Funcionários'!$A$2:$D$1048576,2,0)),\"\")","v":""},null,null,null,null,null,"00:00:00",null,"00:00:00","00:00:00"]
[null,{"$f":"IFERROR(IF(A653=\"\",\"\",VLOOKUP(A653,'Banco de Funcionários'!$A$2:$D$1048576,2,0)),\"\")","v":""},null,null,null,null,null,"00:00:00",null,"00:00:00","00:00:00"]
[null,{"$f":"IFERROR(IF(A654=\"\",\"\",VLOOKUP(A654,'Banco de Funcionários'!$A$2:$D$1048576,2,0)),\"\")","v":""},null,null,null,null,null,"00:00:00",null,"00:00:00","00:00:00"]
[null,{"$f":"IFERROR(IF(A655=\"\",\"\",VLOOKUP(A655,'Banco de Funcionários'!$A$2:$D$1048576,2,0)),\"\")","v":""},null,null,null,null,null,"00:00:00",null,"00:00:00","00:00:00"]
[null,{"$f":"IFERROR(IF(A656=\"\",\"\",VLOOKUP(A656,'Banco de Funcionários'!$A$2:$D$1048576,2,0)),\"\")","v":""},null,null,null,null,null,"00:00:00",null,"00:00:00","00:00:00"]
[null,{"$f":"IFERROR(IF(A657=\"\",\"\",VLOOKUP(A657,'Banco de Funcionários'!$A$2:$D$1048576,2,0)),\"\")","v":""},null,null,null,null,null,"00:00:00",null,"00:00:00","00:00:00"]
[null,{"$f":"IFERROR(IF(A658=\"\",\"\",VLOOKUP(A658,'Banco de Funcionários'!$A$2:$D$1048576,2,0)),\"\")","v":""},null,null,null,null,null,"00:00:00",null,"00:00:00","00:00:00"]
[null,{"$f":"IFERROR(IF(A659=\"\",\"\",VLOOKUP(A659,'Banco de Funcionários'!$A$2:$D$1048576,2,0)),\"\")","v":""},null,null,null,null,null,"00:00:00",null,"00:00:00","00:00:00"]
[null,{"$f":"IFERROR(IF(A660=\"\",\"\",VLOOKUP(A660,'Banco de Funcionários'!$A$2:$D$1048576,2,0)),\"\")","v":""},null,null,null,null,null,"00:00:00",null,"00:00:00","00:00:00"]
[null,{"$f":"IFERROR(IF(A661=\"\",\"\",VLOOKUP(A661,'Banco de Funcionários'!$A$2:$D$1048576,2,0)),\"\")","v":""},null,null,null,null,null,"00:00:00",null,"00:00:00","00:00:00"]
[null,{"$f":"IFERROR(IF(A662=\"\",\"\",VLOOKUP(A662,'Banco de Funcionários'!$A$2:$D$1048576,2,0)),\"\")","v":""},null,null,null,null,null,"00:00:00",null,"00:00:00","00:00:00"]
[null,{"$f":"IFERROR(IF(A663=\"\",\"\",VLOOKUP(A663,'Banco de Funcionários'!$A$2:$D$1048576,2,0)),\"\")","v":""},null,null,null,null,null,"00:00:00",null,"00:00:00","00:00:00"]
[null,{"$f":"IFERROR(IF(A664=\"\",\"\",VLOOKUP(A664,'Banco de Funcionários'!$A$2:$D$1048576,2,0)),\"\")","v":""},null,null,null,null,null,"00:00:00",null,"00:00:00","00:00:00"]
[null,{"$f":"IFERROR(IF(A665=\"\",\"\",VLOOKUP(A665,'Banco de Funcionários'!$A$2:$D$1048576,2,0)),\"\")","v":""},null,null,null,null,null,"00:00:00",null,"00:00:00","00:00:00"]
[null,{"$f":"IFERROR(IF(A666=\"\",\"\",VLOOKUP(A666,'Banco de Funcionários'!$A$2:$D$1048576,2,0)),\"\")","v":""},null,null,null,null,null,"00:00:00",null,"00:00:00","00:00:00"]
[null,{"$f":"IFERROR(IF(A667=\"\",\"\",VLOOKUP(A667,'Banco de Funcionários'!$A$2:$D$1048576,2,0)),\"\")","v":""},null,null,null,null,null,"00:00:00",null,"00:00:00","00:00:00"]
[null,{"$f":"IFERROR(IF(A668=\"\",\"\",VLOOKUP(A668,'Banco de Funcionários'!$A$2:$D$1048576,2,0)),\"\")","v":""},null,null,null,null,null,"00:00:00",null,"00:00:00","00:00:00"]
[null,{"$f":"IFERROR(IF(A669=\"\",\"\",VLOOKUP(A669,'Banco de Funcionários'!$A$2:$D$1048576,2,0)),\"\")","v":""},null,null,null,null,null,"00:00:00",null,"00:00:00","00:00:00"]
[null,{"$f":"IFERROR(IF(A670=\"\",\"\",VLOOKUP(A670,'Banco de Funcionários'!$A$2:$D$1048576,2,0)),\"\")","v":""},null,null,null,null,null,"00:00:00",null,"00:00:00","00:00:00"]
[null,{"$f":"IFERROR(IF(A671=\"\",\"\",VLOOKUP(A671,'Banco de Funcionários'!$A$2:$D$1048576,2,0)),\"\")","v":""},null,null,null,null,null,"00:00:00",null,"00:00:00","00:00:00"]
[null,{"$f":"IFERROR(IF(A672=\"\",\"\",VLOOKUP(A672,'Banco de Funcionários'!$A$2:$D$1048576,2,0)),\"\")","v":""},null,null,null,null,null,"00:00:00",null,"00:00:00","00:00:00"]
[null,{"$f":"IFERROR(IF(A673=\"\",\"\",VLOOKUP(A673,'Banco de Funcionários'!$A$2:$D$1048576,2,0)),\"\")","v":""},null,null,null,null,null,"00:00:00",null,"00:00:00","00:00:00"]
[null,{"$f":"IFERROR(IF(A674=\"\",\"\",VLOOKUP(A674,'Banco de Funcionários'!$A$2:$D$1048576,2,0)),\"\")","v":""},null,null,null,null,null,"00:00:00",null,"00:00:00","00:00:00"]
[null,{"$f":"IFERROR(IF(A675=\"\",\"\",VLOOKUP(A675,'Banco de Funcionários'!$A$2:$D$1048576,2,0)),\"\")","v":""},null,null,null,null,null,"00:00:00",null,"00:00:00","00:00:00"]
[null,{"$f":"IFERROR(IF(A676=\"\",\"\",VLOOKUP(A676,'Banco de Funcionários'!$A$2:$D$1048576,2,0)),\"\")","v":""},null,null,null,null,null,"00:00:00",null,"00:00:00","00:00:00"]
[null,{"$f":"IFERROR(IF(A677=\"\",\"\",VLOOKUP(A677,'Banco de Funcionários'!$A$2:$D$1048576,2,0)),\"\")","v":""},null,null,null,null,null,"00:00:00",null,"00:00:00","00:00:00"]
[null,{"$f":"IFERROR(IF(A678=\"\",\"\",VLOOKUP(A678,'Banco de Funcionários'!$A$2:$D$1048576,2,0)),\"\")","v":""},null,null,null,null,null,"00:00:00",null,"00:00:00","00:00:00"]
[null,{"$f":"IFERROR(IF(A679=\"\",\"\",VLOOKUP(A679,'Banco de Funcionários'!$A$2:$D$1048576,2,0)),\"\")","v":""},null,null,null,null,null,"00:00:00",null,"00:00:00","00:00:00"]
[null,{"$f":"IFERROR(IF(A680=\"\",\"\",VLOOKUP(A680,'Banco de Funcionários'!$A$2:$D$1048576,2,0)),\"\")","v":""},null,null,null,null,null,"00:00:00",null,"00:00:00","00:00:00"]
[null,{"$f":"IFERROR(IF(A681=\"\",\"\",VLOOKUP(A681,'Banco de Funcionários'!$A$2:$D$1048576,2,0)),\"\")","v":""},null,null,null,null,null,"00:00:00",null,"00:00:00","00:00:00"]
[null,{"$f":"IFERROR(IF(A682=\"\",\"\",VLOOKUP(A682,'Banco de Funcionários'!$A$2:$D$1048576,2,0)),\"\")","v":""},null,null,null,null,null,"00:00:00",null,"00:00:00","00:00:00"]
[null,{"$f":"IFERROR(IF(A683=\"\",\"\",VLOOKUP(A683,'Banco de Funcionários'!$A$2:$D$1048576,2,0)),\"\")","v":""},null,null,null,null,null,"00:00:00",null,"00:00:00","00:00:00"]
[null,{"$f":"IFERROR(IF(A684=\"\",\"\",VLOOKUP(A684,'Banco de Funcionários'!$A$2:$D$1048576,2,0)),\"\")","v":""},null,null,null,null,null,"00:00:00",null,"00:00:00","00:00:00"]
[null,{"$f":"IFERROR(IF(A685=\"\",\"\",VLOOKUP(A685,'Banco de Funcionários'!$A$2:$D$1048576,2,0)),\"\")","v":""},null,null,null,null,null,"00:00:00",null,"00:00:00","00:00:00"]
[null,{"$f":"IFERROR(IF(A686=\"\",\"\",VLOOKUP(A686,'Banco de Funcionários'!$A$2:$D$1048576,2,0)),\"\")","v":""},null,null,null,null,null,"00:00:00",null,"00:00:00","00:00:00"]
[null,{"$f":"IFERROR(IF(A687=\"\",\"\",VLOOKUP(A687,'Banco de Funcionários'!$A$2:$D$1048576,2,0)),\"\")","v":""},null,null,null,null,null,"00:00:00",null,"00:00:00","00:00:00"]
[null,{"$f":"IFERROR(IF(A688=\"\",\"\",VLOOKUP(A688,'Banco de Funcionários'!$A$2:$D$1048576,2,0)),\"\")","v":""},null,null,null,null,null,"00:00:00",null,"00:00:00","00:00:00"]
[null,{"$f":"IFERROR(IF(A689=\"\",\"\",VLOOKUP(A689,'Banco de Funcionários'!$A$2:$D$1048576,2,0)),\"\")","v":""},null,null,null,null,null,"00:00:00",null,"00:00:00","00:00:00"]
[null,{"$f":"IFERROR(IF(A690=\"\",\"\",VLOOKUP(A690,'Banco de Funcionários'!$A$2:$D$1048576,2,0)),\"\")","v":""},null,null,null,null,null,"00:00:00",null,"00:00:00","00:00:00"]
[null,{"$f":"IFERROR(IF(A691=\"\",\"\",VLOOKUP(A691,'Banco de Funcionários'!$A$2:$D$1048576,2,0)),\"\")","v":""},null,null,null,null,null,"00:00:00",null,"00:00:00","00:00:00"]
[null,{"$f":"IFERROR(IF(A692=\"\",\"\",VLOOKUP(A692,'Banco de Funcionários'!$A$2:$D$1048576,2,0)),\"\")","v":""},null,null,null,null,null,"00:00:00",null,"00:00:00","00:00:00"]
[null,{"$f":"IFERROR(IF(A693=\"\",\"\",VLOOKUP(A693,'Banco de Funcionários'!$A$2:$D$1048576,2,0)),\"\")","v":""},null,null,null,null,null,"00:00:00",null,"00:00:00","00:00:00"]
[null,{"$f":"IFERROR(IF(A694=\"\",\"\",VLOOKUP(A694,'Banco de Funcionários'!$A$2:$D$1048576,2,0)),\"\")","v":""},null,null,null,null,null,"00:00:00",null,"00:00:00","00:00:00"]
[null,{"$f":"IFERROR(IF(A695=\"\",\"\",VLOOKUP(A695,'Banco de Funcionários'!$A$2:$D$1048576,2,0)),\"\")","v":""},null,null,null,null,null,"00:00:00",null,"00:00:00","00:00:00"]
[null,{"$f":"IFERROR(IF(A696=\"\",\"\",VLOOKUP(A696,'Banco de Funcionários'!$A$2:$D$1048576,2,0)),\"\")","v":""},null,null,null,null,null,"00:00:00",null,"00:00:00","00:00:00"]
[null,{"$f":"IFERROR(IF(A697=\"\",\"\",VLOOKUP(A697,'Banco de Funcionários'!$A$2:$D$1048576,2,0)),\"\")","v":""},null,null,null,null,null,"00:00:00",null,"00:00:00","00:00:00"]
[null,{"$f":"IFERROR(IF(A698=\"\",\"\",VLOOKUP(A698,'Banco de Funcionários'!$A$2:$D$1048576,2,0)),\"\")","v":""},null,null,null,null,null,"00:00:00",null,"00:00:00","00:00:00"]
[null,{"$f":"IFERROR(IF(A699=\"\",\"\",VLOOKUP(A699,'Banco de Funcionários'!$A$2:$D$1048576,2,0)),\"\")","v":""},null,null,null,null,null,"00:00:00",null,"00:00:00","00:00:00"]
[null,{"$f":"IFERROR(IF(A700=\"\",\"\",VLOOKUP(A700,'Banco de Funcionários'!$A$2:$D$1048576,2,0)),\"\")","v":""},null,null,null,null,null,"00:00:00",null,"00:00:00","00:00:00"]
[null,{"$f":"IFERROR(IF(A701=\"\",\"\",VLOOKUP(A701,'Banco de Funcionários'!$A$2:$D$1048576,2,0)),\"\")","v":""},null,null,null,null,null,"00:00:00",null,"00:00:00","00:00:00"]
[null,{"$f":"IFERROR(IF(A702=\"\",\"\",VLOOKUP(A702,'Banco de Funcionários'!$A$2:$D$1048576,2,0)),\"\")","v":""},null,null,null,null,null,"00:00:00",null,"00:00:00","00:00:00"]
[null,{"$f":"IFERROR(IF(A703=\"\",\"\",VLOOKUP(A703,'Banco de Funcionários'!$A$2:$D$1048576,2,0)),\"\")","v":""},null,null,null,null,null,"00:00:00",null,"00:00:00","00:00:00"]
[null,{"$f":"IFERROR(IF(A704=\"\",\"\",VLOOKUP(A704,'Banco de Funcionários'!$A$2:$D$1048576,2,0)),\"\")","v":""},null,null,null,null,null,"00:00:00",null,"00:00:00","00:00:00"]
[null,{"$f":"IFERROR(IF(A705=\"\",\"\",VLOOKUP(A705,'Banco de Funcionários'!$A$2:$D$1048576,2,0)),\"\")","v":""},null,null,null,null,null,"00:00:00",null,"00:00:00","00:00:00"]
[null,{"$f":"IFERROR(IF(A706=\"\",\"\",VLOOKUP(A706,'Banco de Funcionários'!$A$2:$D$1048576,2,0)),\"\")","v":""},null,null,null,null,null,"00:00:00",null,"00:00:00","00:00:00"]
[null,{"$f":"IFERROR(IF(A707=\"\",\"\",VLOOKUP(A707,'Banco de Funcionários'!$A$2:$D$1048576,2,0)),\"\")","v":""},null,null,null,null,null,{"$f":"(F707-E707)-G707","v":"00:00:00"},null,{"$f":"IFERROR(H707-I707,\"\")","v":"00:00:00"},{"$f":"IFERROR(H707+J707,0)","v":"00:00:00"}]
[null,{"$f":"IFERROR(IF(A708=\"\",\"\",VLOOKUP(A708,'Banco de Funcionários'!$A$2:$D$1048576,2,0)),\"\")","v":""},null,null,null,null,null,"00:00:00",null,"00:00:00","00:00:00"]
[null,{"$f":"IFERROR(IF(A709=\"\",\"\",VLOOKUP(A709,'Banco de Funcionários'!$A$2:$D$1048576,2,0)),\"\")","v":""},null,null,null,null,null,"00:00:00",null,"00:00:00","00:00:00"]
[null,{"$f":"IFERROR(IF(A710=\"\",\"\",VLOOKUP(A710,'Banco de Funcionários'!$A$2:$D$1048576,2,0)),\"\")","v":""},null,null,null,null,null,"00:00:00",null,"00:00:00","00:00:00"]
[null,{"$f":"IFERROR(IF(A711=\"\",\"\",VLOOKUP(A711,'Banco de Funcionários'!$A$2:$D$1048576,2,0)),\"\")","v":""},null,null,null,null,null,"00:00:00",null,"00:00:00","00:00:00"]
[null,{"$f":"IFERROR(IF(A712=\"\",\"\",VLOOKUP(A712,'Banco de Funcionários'!$A$2:$D$1048576,2,0)),\"\")","v":""},null,null,null,null,null,"00:00:00",null,"00:00:00","00:00:00"]
[null,{"$f":"IFERROR(IF(A713=\"\",\"\",VLOOKUP(A713,'Banco de Funcionários'!$A$2:$D$1048576,2,0)),\"\")","v":""},null,null,null,null,null,"00:00:00",null,"00:00:00","00:00:00"]
[null,{"$f":"IFERROR(IF(A714=\"\",\"\",VLOOKUP(A714,'Banco de Funcionários'!$A$2:$D$1048576,2,0)),\"\")","v":""},null,null,null,null,null,"00:00:00",null,"00:00:00","00:00:00"]
[null,{"$f":"IFERROR(IF(A715=\"\",\"\",VLOOKUP(A715,'Banco de Funcionários'!$A$2:$D$1048576,2,0)),\"\")","v":""},null,null,null,null,null,"00:00:00",null,"00:00:00","00:00:00"]
[null,{"$f":"IFERROR(IF(A716=\"\",\"\",VLOOKUP(A716,'Banco de Funcionários'!$A$2:$D$1048576,2,0)),\"\")","v":""},null,null,null,null,null,"00:00:00",null,"00:00:00","00:00:00"]
[null,{"$f":"IFERROR(IF(A717=\"\",\"\",VLOOKUP(A717,'Banco de Funcionários'!$A$2:$D$1048576,2,0)),\"\")","v":""},null,null,null,null,null,"00:00:00",null,"00:00:00","00:00:00"]
[null,{"$f":"IFERROR(IF(A718=\"\",\"\",VLOOKUP(A718,'Banco de Funcionários'!$A$2:$D$1048576,2,0)),\"\")","v":""},null,null,null,null,null,"00:00:00",null,"00:00:00","00:00:00"]
[null,{"$f":"IFERROR(IF(A719=\"\",\"\",VLOOKUP(A719,'Banco de Funcionários'!$A$2:$D$1048576,2,0)),\"\")","v":""},null,null,null,null,null,"00:00:00",null,"00:00:00","00:00:00"]
[null,{"$f":"IFERROR(IF(A720=\"\",\"\",VLOOKUP(A720,'Banco de Funcionários'!$A$2:$D$1048576,2,0)),\"\")","v":""},null,null,null,null,null,"00:00:00",null,"00:00:00","00:00:00"]
[null,{"$f":"IFERROR(IF(A721=\"\",\"\",VLOOKUP(A721,'Banco de Funcionários'!$A$2:$D$1048576,2,0)),\"\")","v":""},null,null,null,null,null,"00:00:00",null,"00:00:00","00:00:00"]
[null,{"$f":"IFERROR(IF(A722=\"\",\"\",VLOOKUP(A722,'Banco de Funcionários'!$A$2:$D$1048576,2,0)),\"\")","v":""},null,null,null,null,null,"00:00:00",null,"00:00:00","00:00:00"]
[null,{"$f":"IFERROR(IF(A723=\"\",\"\",VLOOKUP(A723,'Banco de Funcionários'!$A$2:$D$1048576,2,0)),\"\")","v":""},null,null,null,null,null,"00:00:00",null,"00:00:00","00:00:00"]
[null,{"$f":"IFERROR(IF(A724=\"\",\"\",VLOOKUP(A724,'Banco de Funcionários'!$A$2:$D$1048576,2,0)),\"\")","v":""},null,null,null,null,null,"00:00:00",null,"00:00:00","00:00:00"]
[null,{"$f":"IFERROR(IF(A725=\"\",\"\",VLOOKUP(A725,'Banco de Funcionários'!$A$2:$D$1048576,2,0)),\"\")","v":""},null,null,null,null,null,"00:00:00",null,"00:00:00","00:00:00"]
[null,{"$f":"IFERROR(IF(A726=\"\",\"\",VLOOKUP(A726,'Banco de Funcionários'!$A$2:$D$1048576,2,0)),\"\")","v":""},null,null,null,null,null,"00:00:00",null,"00:00:00","00:00:00"]
[null,{"$f":"IFERROR(IF(A727=\"\",\"\",VLOOKUP(A727,'Banco de Funcionários'!$A$2:$D$1048576,2,0)),\"\")","v":""},null,null,null,null,null,"00:00:00",null,"00:00:00","00:00:00"]
[null,{"$f":"IFERROR(IF(A728=\"\",\"\",VLOOKUP(A728,'Banco de Funcionários'!$A$2:$D$1048576,2,0)),\"\")","v":""},null,null,null,null,null,"00:00:00",null,"00:00:00","00:00:00"]
[null,{"$f":"IFERROR(IF(A729=\"\",\"\",VLOOKUP(A729,'Banco de Funcionários'!$A$2:$D$1048576,2,0)),\"\")","v":""},null,null,null,null,null,"00:00:00",null,"00:00:00","00:00:00"]
[null,{"$f":"IFERROR(IF(A730=\"\",\"\",VLOOKUP(A730,'Banco de Funcionários'!$A$2:$D$1048576,2,0)),\"\")","v":""},null,null,null,null,null,"00:00:00",null,"00:00:00","00:00:00"]
[null,{"$f":"IFERROR(IF(A731=\"\",\"\",VLOOKUP(A731,'Banco de Funcionários'!$A$2:$D$1048576,2,0)),\"\")","v":""},null,null,null,null,null,"00:00:00",null,"00:00:00","00:00:00"]
[null,{"$f":"IFERROR(IF(A732=\"\",\"\",VLOOKUP(A732,'Banco de Funcionários'!$A$2:$D$1048576,2,0)),\"\")","v":""},null,null,null,null,null,"00:00:00",null,"00:00:00","00:00:00"]
[null,{"$f":"IFERROR(IF(A733=\"\",\"\",VLOOKUP(A733,'Banco de Funcionários'!$A$2:$D$1048576,2,0)),\"\")","v":""},null,null,null,null,null,"00:00:00",null,"00:00:00","00:00:00"]
[null,{"$f":"IFERROR(IF(A734=\"\",\"\",VLOOKUP(A734,'Banco de Funcionários'!$A$2:$D$1048576,2,0)),\"\")","v":""},null,null,null,null,null,"00:00:00",null,"00:00:00","00:00:00"]
[null,{"$f":"IFERROR(IF(A735=\"\",\"\",VLOOKUP(A735,'Banco de Funcionários'!$A$2:$D$1048576,2,0)),\"\")","v":""},null,null,null,null,null,"00:00:00",null,"00:00:00","00:00:00"]
[null,{"$f":"IFERROR(IF(A736=\"\",\"\",VLOOKUP(A736,'Banco de Funcionários'!$A$2:$D$1048576,2,0)),\"\")","v":""},null,null,null,null,null,"00:00:00",null,"00:00:00","00:00:00"]
[null,{"$f":"IFERROR(IF(A737=\"\",\"\",VLOOKUP(A737,'Banco de Funcionários'!$A$2:$D$1048576,2,0)),\"\")","v":""},null,null,null,null,null,"00:00:00",null,"00:00:00","00:00:00"]
[null,{"$f":"IFERROR(IF(A738=\"\",\"\",VLOOKUP(A738,'Banco de Funcionários'!$A$2:$D$1048576,2,0)),\"\")","v":""},null,null,null,null,null,"00:00:00",null,"00:00:00","00:00:00"]
[null,{"$f":"IFERROR(IF(A739=\"\",\"\",VLOOKUP(A739,'Banco de Funcionários'!$A$2:$D$1048576,2,0)),\"\")","v":""},null,null,null,null,null,"00:00:00",null,"00:00:00","00:00:00"]
[null,{"$f":"IFERROR(IF(A740=\"\",\"\",VLOOKUP(A740,'Banco de Funcionários'!$A$2:$D$1048576,2,0)),\"\")","v":""},null,null,null,null,null,"00:00:00",null,"00:00:00","00:00:00"]
[null,{"$f":"IFERROR(IF(A741=\"\",\"\",VLOOKUP(A741,'Banco de Funcionários'!$A$2:$D$1048576,2,0)),\"\")","v":""},null,null,null,null,null,"00:00:00",null,"00:00:00","00:00:00"]
[null,{"$f":"IFERROR(IF(A742=\"\",\"\",VLOOKUP(A742,'Banco de Funcionários'!$A$2:$D$1048576,2,0)),\"\")","v":""},null,null,null,null,null,"00:00:00",null,"00:00:00","00:00:00"]
[null,{"$f":"IFERROR(IF(A743=\"\",\"\",VLOOKUP(A743,'Banco de Funcionários'!$A$2:$D$1048576,2,0)),\"\")","v":""},null,null,null,null,null,"00:00:00",null,"00:00:00","00:00:00"]
[null,{"$f":"IFERROR(IF(A744=\"\",\"\",VLOOKUP(A744,'Banco de Funcionários'!$A$2:$D$1048576,2,0)),\"\")","v":""},null,null,null,null,null,"00:00:00",null,"00:00:00","00:00:00"]
[null,{"$f":"IFERROR(IF(A745=\"\",\"\",VLOOKUP(A745,'Banco de Funcionários'!$A$2:$D$1048576,2,0)),\"\")","v":""},null,null,null,null,null,"00:00:00",null,"00:00:00","00:00:00"]
[null,{"$f":"IFERROR(IF(A746=\"\",\"\",VLOOKUP(A746,'Banco de Funcionários'!$A$2:$D$1048576,2,0)),\"\")","v":""},null,null,null,null,null,"00:00:00",null,"00:00:00","00:00:00"]
[null,{"$f":"IFERROR(IF(A747=\"\",\"\",VLOOKUP(A747,'Banco de Funcionários'!$A$2:$D$1048576,2,0)),\"\")","v":""},null,null,null,null,null,"00:00:00",null,"00:00:00","00:00:00"]
[null,{"$f":"IFERROR(IF(A748=\"\",\"\",VLOOKUP(A748,'Banco de Funcionários'!$A$2:$D$1048576,2,0)),\"\")","v":""},null,null,null,null,null,"00:00:00",null,"00:00:00","00:00:00"]
[null,{"$f":"IFERROR(IF(A749=\"\",\"\",VLOOKUP(A749,'Banco de Funcionários'!$A$2:$D$1048576,2,0)),\"\")","v":""},null,null,null,null,null,"00:00:00",null,"00:00:00","00:00:00"]
[null,{"$f":"IFERROR(IF(A750=\"\",\"\",VLOOKUP(A750,'Banco de Funcionários'!$A$2:$D$1048576,2,0)),\"\")","v":""},null,null,null,null,null,"00:00:00",null,"00:00:00","00:00:00"]
[null,{"$f":"IFERROR(IF(A751=\"\",\"\",VLOOKUP(A751,'Banco de Funcionários'!$A$2:$D$1048576,2,0)),\"\")","v":""},null,null,null,null,null,"00:00:00",null,"00:00:00","00:00:00"]
[null,{"$f":"IFERROR(IF(A752=\"\",\"\",VLOOKUP(A752,'Banco de Funcionários'!$A$2:$D$1048576,2,0)),\"\")","v":""},null,null,null,null,null,"00:00:00",null,"00:00:00","00:00:00"]
[null,{"$f":"IFERROR(IF(A753=\"\",\"\",VLOOKUP(A753,'Banco de Funcionários'!$A$2:$D$1048576,2,0)),\"\")","v":""},null,null,null,null,null,"00:00:00",null,"00:00:00","00:00:00"]
[null,{"$f":"IFERROR(IF(A754=\"\",\"\",VLOOKUP(A754,'Banco de Funcionários'!$A$2:$D$1048576,2,0)),\"\")","v":""},null,null,null,null,null,"00:00:00",null,"00:00:00","00:00:00"]
[null,{"$f":"IFERROR(IF(A755=\"\",\"\",VLOOKUP(A755,'Banco de Funcionários'!$A$2:$D$1048576,2,0)),\"\")","v":""},null,null,null,null,null,"00:00:00",null,"00:00:00","00:00:00"]
[null,{"$f":"IFERROR(IF(A756=\"\",\"\",VLOOKUP(A756,'Banco de Funcionários'!$A$2:$D$1048576,2,0)),\"\")","v":""},null,null,null,null,null,"00:00:00",null,"00:00:00","00:00:00"]
[null,{"$f":"IFERROR(IF(A757=\"\",\"\",VLOOKUP(A757,'Banco de Funcionários'!$A$2:$D$1048576,2,0)),\"\")","v":""},null,null,null,null,null,"00:00:00",null,"00:00:00","00:00:00"]
[null,{"$f":"IFERROR(IF(A758=\"\",\"\",VLOOKUP(A758,'Banco de Funcionários'!$A$2:$D$1048576,2,0)),\"\")","v":""},null,null,null,null,null,"00:00:00",null,"00:00:00","00:00:00"]
[null,{"$f":"IFERROR(IF(A759=\"\",\"\",VLOOKUP(A759,'Banco de Funcionários'!$A$2:$D$1048576,2,0)),\"\")","v":""},null,null,null,null,null,"00:00:00",null,"00:00:00","00:00:00"]
[null,{"$f":"IFERROR(IF(A760=\"\",\"\",VLOOKUP(A760,'Banco de Funcionários'!$A$2:$D$1048576,2,0)),\"\")","v":""},null,null,null,null,null,"00:00:00",null,"00:00:00","00:00:00"]
[null,{"$f":"IFERROR(IF(A761=\"\",\"\",VLOOKUP(A761,'Banco de Funcionários'!$A$2:$D$1048576,2,0)),\"\")","v":""},null,null,null,null,null,"00:00:00",null,"00:00:00","00:00:00"]
[null,{"$f":"IFERROR(IF(A762=\"\",\"\",VLOOKUP(A762,'Banco de Funcionários'!$A$2:$D$1048576,2,0)),\"\")","v":""},null,null,null,null,null,"00:00:00",null,"00:00:00","00:00:00"]
[null,{"$f":"IFERROR(IF(A763=\"\",\"\",VLOOKUP(A763,'Banco de Funcionários'!$A$2:$D$1048576,2,0)),\"\")","v":""},null,null,null,null,null,"00:00:00",null,"00:00:00","00:00:00"]
[null,{"$f":"IFERROR(IF(A764=\"\",\"\",VLOOKUP(A764,'Banco de Funcionários'!$A$2:$D$1048576,2,0)),\"\")","v":""},null,null,null,null,null,"00:00:00",null,"00:00:00","00:00:00"]
[null,{"$f":"IFERROR(IF(A765=\"\",\"\",VLOOKUP(A765,'Banco de Funcionários'!$A$2:$D$1048576,2,0)),\"\")","v":""},null,null,null,null,null,"00:00:00",null,"00:00:00","00:00:00"]
[null,{"$f":"IFERROR(IF(A766=\"\",\"\",VLOOKUP(A766,'Banco de Funcionários'!$A$2:$D$1048576,2,0)),\"\")","v":""},null,null,null,null,null,"00:00:00",null,"00:00:00","00:00:00"]
[null,{"$f":"IFERROR(IF(A767=\"\",\"\",VLOOKUP(A767,'Banco de Funcionários'!$A$2:$D$1048576,2,0)),\"\")","v":""},null,null,null,null,null,"00:00:00",null,"00:00:00","00:00:00"]
[null,{"$f":"IFERROR(IF(A768=\"\",\"\",VLOOKUP(A768,'Banco de Funcionários'!$A$2:$D$1048576,2,0)),\"\")","v":""},null,null,null,null,null,"00:00:00",null,"00:00:00","00:00:00"]
[null,{"$f":"IFERROR(IF(A769=\"\",\"\",VLOOKUP(A769,'Banco de Funcionários'!$A$2:$D$1048576,2,0)),\"\")","v":""},null,null,null,null,null,"00:00:00",null,"00:00:00","00:00:00"]
[null,{"$f":"IFERROR(IF(A770=\"\",\"\",VLOOKUP(A770,'Banco de Funcionários'!$A$2:$D$1048576,2,0)),\"\")","v":""},null,null,null,null,null,"00:00:00",null,"00:00:00","00:00:00"]
[null,{"$f":"IFERROR(IF(A771=\"\",\"\",VLOOKUP(A771,'Banco de Funcionários'!$A$2:$D$1048576,2,0)),\"\")","v":""},null,null,null,null,null,{"$f":"(F771-E771)-G771","v":"00:00:00"},null,{"$f":"IFERROR(H771-I771,\"\")","v":"00:00:00"},{"$f":"IFERROR(H771+J771,0)","v":"00:00:00"}]
[null,{"$f":"IFERROR(IF(A772=\"\",\"\",VLOOKUP(A772,'Banco de Funcionários'!$A$2:$D$1048576,2,0)),\"\")","v":""},null,null,null,null,null,"00:00:00",null,"00:00:00","00:00:00"]
[null,{"$f":"IFERROR(IF(A773=\"\",\"\",VLOOKUP(A773,'Banco de Funcionários'!$A$2:$D$1048576,2,0)),\"\")","v":""},null,null,null,null,null,"00:00:00",null,"00:00:00","00:00:00"]
[null,{"$f":"IFERROR(IF(A774=\"\",\"\",VLOOKUP(A774,'Banco de Funcionários'!$A$2:$D$1048576,2,0)),\"\")","v":""},null,null,null,null,null,"00:00:00",null,"00:00:00","00:00:00"]
[null,{"$f":"IFERROR(IF(A775=\"\",\"\",VLOOKUP(A775,'Banco de Funcionários'!$A$2:$D$1048576,2,0)),\"\")","v":""},null,null,null,null,null,"00:00:00",null,"00:00:00","00:00:00"]
[null,{"$f":"IFERROR(IF(A776=\"\",\"\",VLOOKUP(A776,'Banco de Funcionários'!$A$2:$D$1048576,2,0)),\"\")","v":""},null,null,null,null,null,"00:00:00",null,"00:00:00","00:00:00"]
[null,{"$f":"IFERROR(IF(A777=\"\",\"\",VLOOKUP(A777,'Banco de Funcionários'!$A$2:$D$1048576,2,0)),\"\")","v":""},null,null,null,null,null,"00:00:00",null,"00:00:00","00:00:00"]
[null,{"$f":"IFERROR(IF(A778=\"\",\"\",VLOOKUP(A778,'Banco de Funcionários'!$A$2:$D$1048576,2,0)),\"\")","v":""},null,null,null,null,null,"00:00:00",null,"00:00:00","00:00:00"]
[null,{"$f":"IFERROR(IF(A779=\"\",\"\",VLOOKUP(A779,'Banco de Funcionários'!$A$2:$D$1048576,2,0)),\"\")","v":""},null,null,null,null,null,"00:00:00",null,"00:00:00","00:00:00"]
[null,{"$f":"IFERROR(IF(A780=\"\",\"\",VLOOKUP(A780,'Banco de Funcionários'!$A$2:$D$1048576,2,0)),\"\")","v":""},null,null,null,null,null,"00:00:00",null,"00:00:00","00:00:00"]
[null,{"$f":"IFERROR(IF(A781=\"\",\"\",VLOOKUP(A781,'Banco de Funcionários'!$A$2:$D$1048576,2,0)),\"\")","v":""},null,null,null,null,null,"00:00:00",null,"00:00:00","00:00:00"]
[null,{"$f":"IFERROR(IF(A782=\"\",\"\",VLOOKUP(A782,'Banco de Funcionários'!$A$2:$D$1048576,2,0)),\"\")","v":""},null,null,null,null,null,"00:00:00",null,"00:00:00","00:00:00"]
[null,{"$f":"IFERROR(IF(A783=\"\",\"\",VLOOKUP(A783,'Banco de Funcionários'!$A$2:$D$1048576,2,0)),\"\")","v":""},null,null,null,null,null,"00:00:00",null,"00:00:00","00:00:00"]
[null,{"$f":"IFERROR(IF(A784=\"\",\"\",VLOOKUP(A784,'Banco de Funcionários'!$A$2:$D$1048576,2,0)),\"\")","v":""},null,null,null,null,null,"00:00:00",null,"00:00:00","00:00:00"]
[null,{"$f":"IFERROR(IF(A785=\"\",\"\",VLOOKUP(A785,'Banco de Funcionários'!$A$2:$D$1048576,2,0)),\"\")","v":""},null,null,null,null,null,"00:00:00",null,"00:00:00","00:00:00"]
[null,{"$f":"IFERROR(IF(A786=\"\",\"\",VLOOKUP(A786,'Banco de Funcionários'!$A$2:$D$1048576,2,0)),\"\")","v":""},null,null,null,null,null,"00:00:00",null,"00:00:00","00:00:00"]
[null,{"$f":"IFERROR(IF(A787=\"\",\"\",VLOOKUP(A787,'Banco de Funcionários'!$A$2:$D$1048576,2,0)),\"\")","v":""},null,null,null,null,null,"00:00:00",null,"00:00:00","00:00:00"]
[null,{"$f":"IFERROR(IF(A788=\"\",\"\",VLOOKUP(A788,'Banco de Funcionários'!$A$2:$D$1048576,2,0)),\"\")","v":""},null,null,null,null,null,"00:00:00",null,"00:00:00","00:00:00"]
[null,{"$f":"IFERROR(IF(A789=\"\",\"\",VLOOKUP(A789,'Banco de Funcionários'!$A$2:$D$1048576,2,0)),\"\")","v":""},null,null,null,null,null,"00:00:00",null,"00:00:00","00:00:00"]
[null,{"$f":"IFERROR(IF(A790=\"\",\"\",VLOOKUP(A790,'Banco de Funcionários'!$A$2:$D$1048576,2,0)),\"\")","v":""},null,null,null,null,null,"00:00:00",null,"00:00:00","00:00:00"]
[null,{"$f":"IFERROR(IF(A791=\"\",\"\",VLOOKUP(A791,'Banco de Funcionários'!$A$2:$D$1048576,2,0)),\"\")","v":""},null,null,null,null,null,"00:00:00",null,"00:00:00","00:00:00"]
[null,{"$f":"IFERROR(IF(A792=\"\",\"\",VLOOKUP(A792,'Banco de Funcionários'!$A$2:$D$1048576,2,0)),\"\")","v":""},null,null,null,null,null,"00:00:00",null,"00:00:00","00:00:00"]
[null,{"$f":"IFERROR(IF(A793=\"\",\"\",VLOOKUP(A793,'Banco de Funcionários'!$A$2:$D$1048576,2,0)),\"\")","v":""},null,null,null,null,null,"00:00:00",null,"00:00:00","00:00:00"]
[null,{"$f":"IFERROR(IF(A794=\"\",\"\",VLOOKUP(A794,'Banco de Funcionários'!$A$2:$D$1048576,2,0)),\"\")","v":""},null,null,null,null,null,"00:00:00",null,"00:00:00","00:00:00"]
[null,{"$f":"IFERROR(IF(A795=\"\",\"\",VLOOKUP(A795,'Banco de Funcionários'!$A$2:$D$1048576,2,0)),\"\")","v":""},null,null,null,null,null,"00:00:00",null,"00:00:00","00:00:00"]
[null,{"$f":"IFERROR(IF(A796=\"\",\"\",VLOOKUP(A796,'Banco de Funcionários'!$A$2:$D$1048576,2,0)),\"\")","v":""},null,null,null,null,null,"00:00:00",null,"00:00:00","00:00:00"]
[null,{"$f":"IFERROR(IF(A797=\"\",\"\",VLOOKUP(A797,'Banco de Funcionários'!$A$2:$D$1048576,2,0)),\"\")","v":""},null,null,null,null,null,"00:00:00",null,"00:00:00","00:00:00"]
[null,{"$f":"IFERROR(IF(A798=\"\",\"\",VLOOKUP(A798,'Banco de Funcionários'!$A$2:$D$1048576,2,0)),\"\")","v":""},null,null,null,null,null,"00:00:00",null,"00:00:00","00:00:00"]
[null,{"$f":"IFERROR(IF(A799=\"\",\"\",VLOOKUP(A799,'Banco de Funcionários'!$A$2:$D$1048576,2,0)),\"\")","v":""},null,null,null,null,null,"00:00:00",null,"00:00:00","00:00:00"]
[null,{"$f":"IFERROR(IF(A800=\"\",\"\",VLOOKUP(A800,'Banco de Funcionários'!$A$2:$D$1048576,2,0)),\"\")","v":""},null,null,null,null,null,"00:00:00",null,"00:00:00","00:00:00"]
[null,{"$f":"IFERROR(IF(A801=\"\",\"\",VLOOKUP(A801,'Banco de Funcionários'!$A$2:$D$1048576,2,0)),\"\")","v":""},null,null,null,null,null,"00:00:00",null,"00:00:00","00:00:00"]
[null,{"$f":"IFERROR(IF(A802=\"\",\"\",VLOOKUP(A802,'Banco de Funcionários'!$A$2:$D$1048576,2,0)),\"\")","v":""},null,null,null,null,null,"00:00:00",null,"00:00:00","00:00:00"]
[null,{"$f":"IFERROR(IF(A803=\"\",\"\",VLOOKUP(A803,'Banco de Funcionários'!$A$2:$D$1048576,2,0)),\"\")","v":""},null,null,null,null,null,"00:00:00",null,"00:00:00","00:00:00"]
[null,{"$f":"IFERROR(IF(A804=\"\",\"\",VLOOKUP(A804,'Banco de Funcionários'!$A$2:$D$1048576,2,0)),\"\")","v":""},null,null,null,null,null,"00:00:00",null,"00:00:00","00:00:00"]
[null,{"$f":"IFERROR(IF(A805=\"\",\"\",VLOOKUP(A805,'Banco de Funcionários'!$A$2:$D$1048576,2,0)),\"\")","v":""},null,null,null,null,null,"00:00:00",null,"00:00:00","00:00:00"]
[null,{"$f":"IFERROR(IF(A806=\"\",\"\",VLOOKUP(A806,'Banco de Funcionários'!$A$2:$D$1048576,2,0)),\"\")","v":""},null,null,null,null,null,"00:00:00",null,"00:00:00","00:00:00"]
[null,{"$f":"IFERROR(IF(A807=\"\",\"\",VLOOKUP(A807,'Banco de Funcionários'!$A$2:$D$1048576,2,0)),\"\")","v":""},null,null,null,null,null,"00:00:00",null,"00:00:00","00:00:00"]
[null,{"$f":"IFERROR(IF(A808=\"\",\"\",VLOOKUP(A808,'Banco de Funcionários'!$A$2:$D$1048576,2,0)),\"\")","v":""},null,null,null,null,null,"00:00:00",null,"00:00:00","00:00:00"]
[null,{"$f":"IFERROR(IF(A809=\"\",\"\",VLOOKUP(A809,'Banco de Funcionários'!$A$2:$D$1048576,2,0)),\"\")","v":""},null,null,null,null,null,"00:00:00",null,"00:00:00","00:00:00"]
[null,{"$f":"IFERROR(IF(A810=\"\",\"\",VLOOKUP(A810,'Banco de Funcionários'!$A$2:$D$1048576,2,0)),\"\")","v":""},null,null,null,null,null,"00:00:00",null,"00:00:00","00:00:00"]
[null,{"$f":"IFERROR(IF(A811=\"\",\"\",VLOOKUP(A811,'Banco de Funcionários'!$A$2:$D$1048576,2,0)),\"\")","v":""},null,null,null,null,null,"00:00:00",null,"00:00:00","00:00:00"]
[null,{"$f":"IFERROR(IF(A812=\"\",\"\",VLOOKUP(A812,'Banco de Funcionários'!$A$2:$D$1048576,2,0)),\"\")","v":""},null,null,null,null,null,"00:00:00",null,"00:00:00","00:00:00"]
[null,{"$f":"IFERROR(IF(A813=\"\",\"\",VLOOKUP(A813,'Banco de Funcionários'!$A$2:$D$1048576,2,0)),\"\")","v":""},null,null,null,null,null,"00:00:00",null,"00:00:00","00:00:00"]
[null,{"$f":"IFERROR(IF(A814=\"\",\"\",VLOOKUP(A814,'Banco de Funcionários'!$A$2:$D$1048576,2,0)),\"\")","v":""},null,null,null,null,null,"00:00:00",null,"00:00:00","00:00:00"]
[null,{"$f":"IFERROR(IF(A815=\"\",\"\",VLOOKUP(A815,'Banco de Funcionários'!$A$2:$D$1048576,2,0)),\"\")","v":""},null,null,null,null,null,"00:00:00",null,"00:00:00","00:00:00"]
[null,{"$f":"IFERROR(IF(A816=\"\",\"\",VLOOKUP(A816,'Banco de Funcionários'!$A$2:$D$1048576,2,0)),\"\")","v":""},null,null,null,null,null,"00:00:00",null,"00:00:00","00:00:00"]
[null,{"$f":"IFERROR(IF(A817=\"\",\"\",VLOOKUP(A817,'Banco de Funcionários'!$A$2:$D$1048576,2,0)),\"\")","v":""},null,null,null,null,null,"00:00:00",null,"00:00:00","00:00:00"]
[null,{"$f":"IFERROR(IF(A818=\"\",\"\",VLOOKUP(A818,'Banco de Funcionários'!$A$2:$D$1048576,2,0)),\"\")","v":""},null,null,null,null,null,"00:00:00",null,"00:00:00","00:00:00"]
[null,{"$f":"IFERROR(IF(A819=\"\",\"\",VLOOKUP(A819,'Banco de Funcionários'!$A$2:$D$1048576,2,0)),\"\")","v":""},null,null,null,null,null,"00:00:00",null,"00:00:00","00:00:00"]
[null,{"$f":"IFERROR(IF(A820=\"\",\"\",VLOOKUP(A820,'Banco de Funcionários'!$A$2:$D$1048576,2,0)),\"\")","v":""},null,null,null,null,null,"00:00:00",null,"00:00:00","00:00:00"]
[null,{"$f":"IFERROR(IF(A821=\"\",\"\",VLOOKUP(A821,'Banco de Funcionários'!$A$2:$D$1048576,2,0)),\"\")","v":""},null,null,null,null,null,"00:00:00",null,"00:00:00","00:00:00"]
[null,{"$f":"IFERROR(IF(A822=\"\",\"\",VLOOKUP(A822,'Banco de Funcionários'!$A$2:$D$1048576,2,0)),\"\")","v":""},null,null,null,null,null,"00:00:00",null,"00:00:00","00:00:00"]
[null,{"$f":"IFERROR(IF(A823=\"\",\"\",VLOOKUP(A823,'Banco de Funcionários'!$A$2:$D$1048576,2,0)),\"\")","v":""},null,null,null,null,null,"00:00:00",null,"00:00:00","00:00:00"]
[null,{"$f":"IFERROR(IF(A824=\"\",\"\",VLOOKUP(A824,'Banco de Funcionários'!$A$2:$D$1048576,2,0)),\"\")","v":""},null,null,null,null,null,"00:00:00",null,"00:00:00","00:00:00"]
[null,{"$f":"IFERROR(IF(A825=\"\",\"\",VLOOKUP(A825,'Banco de Funcionários'!$A$2:$D$1048576,2,0)),\"\")","v":""},null,null,null,null,null,"00:00:00",null,"00:00:00","00:00:00"]
[null,{"$f":"IFERROR(IF(A826=\"\",\"\",VLOOKUP(A826,'Banco de Funcionários'!$A$2:$D$1048576,2,0)),\"\")","v":""},null,null,null,null,null,"00:00:00",null,"00:00:00","00:00:00"]
[null,{"$f":"IFERROR(IF(A827=\"\",\"\",VLOOKUP(A827,'Banco de Funcionários'!$A$2:$D$1048576,2,0)),\"\")","v":""},null,null,null,null,null,"00:00:00",null,"00:00:00","00:00:00"]
[null,{"$f":"IFERROR(IF(A828=\"\",\"\",VLOOKUP(A828,'Banco de Funcionários'!$A$2:$D$1048576,2,0)),\"\")","v":""},null,null,null,null,null,"00:00:00",null,"00:00:00","00:00:00"]
[null,{"$f":"IFERROR(IF(A829=\"\",\"\",VLOOKUP(A829,'Banco de Funcionários'!$A$2:$D$1048576,2,0)),\"\")","v":""},null,null,null,null,null,"00:00:00",null,"00:00:00","00:00:00"]
[null,{"$f":"IFERROR(IF(A830=\"\",\"\",VLOOKUP(A830,'Banco de Funcionários'!$A$2:$D$1048576,2,0)),\"\")","v":""},null,null,null,null,null,"00:00:00",null,"00:00:00","00:00:00"]
[null,{"$f":"IFERROR(IF(A831=\"\",\"\",VLOOKUP(A831,'Banco de Funcionários'!$A$2:$D$1048576,2,0)),\"\")","v":""},null,null,null,null,null,"00:00:00",null,"00:00:00","00:00:00"]
[null,{"$f":"IFERROR(IF(A832=\"\",\"\",VLOOKUP(A832,'Banco de Funcionários'!$A$2:$D$1048576,2,0)),\"\")","v":""},null,null,null,null,null,"00:00:00",null,"00:00:00","00:00:00"]
[null,{"$f":"IFERROR(IF(A833=\"\",\"\",VLOOKUP(A833,'Banco de Funcionários'!$A$2:$D$1048576,2,0)),\"\")","v":""},null,null,null,null,null,"00:00:00",null,"00:00:00","00:00:00"]
[null,{"$f":"IFERROR(IF(A834=\"\",\"\",VLOOKUP(A834,'Banco de Funcionários'!$A$2:$D$1048576,2,0)),\"\")","v":""},null,null,null,null,null,"00:00:00",null,"00:00:00","00:00:00"]
[null,{"$f":"IFERROR(IF(A835=\"\",\"\",VLOOKUP(A835,'Banco de Funcionários'!$A$2:$D$1048576,2,0)),\"\")","v":""},null,null,null,null,null,{"$f":"(F835-E835)-G835","v":"00:00:00"},null,{"$f":"IFERROR(H835-I835,\"\")","v":"00:00:00"},{"$f":"IFERROR(H835+J835,0)","v":"00:00:00"}]
[null,{"$f":"IFERROR(IF(A836=\"\",\"\",VLOOKUP(A836,'Banco de Funcionários'!$A$2:$D$1048576,2,0)),\"\")","v":""},null,null,null,null,null,"00:00:00",null,"00:00:00","00:00:00"]
[null,{"$f":"IFERROR(IF(A837=\"\",\"\",VLOOKUP(A837,'Banco de Funcionários'!$A$2:$D$1048576,2,0)),\"\")","v":""},null,null,null,null,null,"00:00:00",null,"00:00:00","00:00:00"]
[null,{"$f":"IFERROR(IF(A838=\"\",\"\",VLOOKUP(A838,'Banco de Funcionários'!$A$2:$D$1048576,2,0)),\"\")","v":""},null,null,null,null,null,"00:00:00",null,"00:00:00","00:00:00"]
[null,{"$f":"IFERROR(IF(A839=\"\",\"\",VLOOKUP(A839,'Banco de Funcionários'!$A$2:$D$1048576,2,0)),\"\")","v":""},null,null,null,null,null,"00:00:00",null,"00:00:00","00:00:00"]
[null,{"$f":"IFERROR(IF(A840=\"\",\"\",VLOOKUP(A840,'Banco de Funcionários'!$A$2:$D$1048576,2,0)),\"\")","v":""},null,null,null,null,null,"00:00:00",null,"00:00:00","00:00:00"]
[null,{"$f":"IFERROR(IF(A841=\"\",\"\",VLOOKUP(A841,'Banco de Funcionários'!$A$2:$D$1048576,2,0)),\"\")","v":""},null,null,null,null,null,"00:00:00",null,"00:00:00","00:00:00"]
[null,{"$f":"IFERROR(IF(A842=\"\",\"\",VLOOKUP(A842,'Banco de Funcionários'!$A$2:$D$1048576,2,0)),\"\")","v":""},null,null,null,null,null,"00:00:00",null,"00:00:00","00:00:00"]
[null,{"$f":"IFERROR(IF(A843=\"\",\"\",VLOOKUP(A843,'Banco de Funcionários'!$A$2:$D$1048576,2,0)),\"\")","v":""},null,null,null,null,null,"00:00:00",null,"00:00:00","00:00:00"]
[null,{"$f":"IFERROR(IF(A844=\"\",\"\",VLOOKUP(A844,'Banco de Funcionários'!$A$2:$D$1048576,2,0)),\"\")","v":""},null,null,null,null,null,"00:00:00",null,"00:00:00","00:00:00"]
[null,{"$f":"IFERROR(IF(A845=\"\",\"\",VLOOKUP(A845,'Banco de Funcionários'!$A$2:$D$1048576,2,0)),\"\")","v":""},null,null,null,null,null,"00:00:00",null,"00:00:00","00:00:00"]
[null,{"$f":"IFERROR(IF(A846=\"\",\"\",VLOOKUP(A846,'Banco de Funcionários'!$A$2:$D$1048576,2,0)),\"\")","v":""},null,null,null,null,null,"00:00:00",null,"00:00:00","00:00:00"]
[null,{"$f":"IFERROR(IF(A847=\"\",\"\",VLOOKUP(A847,'Banco de Funcionários'!$A$2:$D$1048576,2,0)),\"\")","v":""},null,null,null,null,null,"00:00:00",null,"00:00:00","00:00:00"]
[null,{"$f":"IFERROR(IF(A848=\"\",\"\",VLOOKUP(A848,'Banco de Funcionários'!$A$2:$D$1048576,2,0)),\"\")","v":""},null,null,null,null,null,"00:00:00",null,"00:00:00","00:00:00"]
[null,{"$f":"IFERROR(IF(A849=\"\",\"\",VLOOKUP(A849,'Banco de Funcionários'!$A$2:$D$1048576,2,0)),\"\")","v":""},null,null,null,null,null,"00:00:00",null,"00:00:00","00:00:00"]
[null,{"$f":"IFERROR(IF(A850=\"\",\"\",VLOOKUP(A850,'Banco de Funcionários'!$A$2:$D$1048576,2,0)),\"\")","v":""},null,null,null,null,null,"00:00:00",null,"00:00:00","00:00:00"]
[null,{"$f":"IFERROR(IF(A851=\"\",\"\",VLOOKUP(A851,'Banco de Funcionários'!$A$2:$D$1048576,2,0)),\"\")","v":""},null,null,null,null,null,"00:00:00",null,"00:00:00","00:00:00"]
[null,{"$f":"IFERROR(IF(A852=\"\",\"\",VLOOKUP(A852,'Banco de Funcionários'!$A$2:$D$1048576,2,0)),\"\")","v":""},null,null,null,null,null,"00:00:00",null,"00:00:00","00:00:00"]
[null,{"$f":"IFERROR(IF(A853=\"\",\"\",VLOOKUP(A853,'Banco de Funcionários'!$A$2:$D$1048576,2,0)),\"\")","v":""},null,null,null,null,null,"00:00:00",null,"00:00:00","00:00:00"]
[null,{"$f":"IFERROR(IF(A854=\"\",\"\",VLOOKUP(A854,'Banco de Funcionários'!$A$2:$D$1048576,2,0)),\"\")","v":""},null,null,null,null,null,"00:00:00",null,"00:00:00","00:00:00"]
[null,{"$f":"IFERROR(IF(A855=\"\",\"\",VLOOKUP(A855,'Banco de Funcionários'!$A$2:$D$1048576,2,0)),\"\")","v":""},null,null,null,null,null,"00:00:00",null,"00:00:00","00:00:00"]
[null,{"$f":"IFERROR(IF(A856=\"\",\"\",VLOOKUP(A856,'Banco de Funcionários'!$A$2:$D$1048576,2,0)),\"\")","v":""},null,null,null,null,null,"00:00:00",null,"00:00:00","00:00:00"]
[null,{"$f":"IFERROR(IF(A857=\"\",\"\",VLOOKUP(A857,'Banco de Funcionários'!$A$2:$D$1048576,2,0)),\"\")","v":""},null,null,null,null,null,"00:00:00",null,"00:00:00","00:00:00"]
[null,{"$f":"IFERROR(IF(A858=\"\",\"\",VLOOKUP(A858,'Banco de Funcionários'!$A$2:$D$1048576,2,0)),\"\")","v":""},null,null,null,null,null,"00:00:00",null,"00:00:00","00:00:00"]
[null,{"$f":"IFERROR(IF(A859=\"\",\"\",VLOOKUP(A859,'Banco de Funcionários'!$A$2:$D$1048576,2,0)),\"\")","v":""},null,null,null,null,null,"00:00:00",null,"00:00:00","00:00:00"]
[null,{"$f":"IFERROR(IF(A860=\"\",\"\",VLOOKUP(A860,'Banco de Funcionários'!$A$2:$D$1048576,2,0)),\"\")","v":""},null,null,null,null,null,"00:00:00",null,"00:00:00","00:00:00"]
[null,{"$f":"IFERROR(IF(A861=\"\",\"\",VLOOKUP(A861,'Banco de Funcionários'!$A$2:$D$1048576,2,0)),\"\")","v":""},null,null,null,null,null,"00:00:00",null,"00:00:00","00:00:00"]
[null,{"$f":"IFERROR(IF(A862=\"\",\"\",VLOOKUP(A862,'Banco de Funcionários'!$A$2:$D$1048576,2,0)),\"\")","v":""},null,null,null,null,null,"00:00:00",null,"00:00:00","00:00:00"]
[null,{"$f":"IFERROR(IF(A863=\"\",\"\",VLOOKUP(A863,'Banco de Funcionários'!$A$2:$D$1048576,2,0)),\"\")","v":""},null,null,null,null,null,"00:00:00",null,"00:00:00","00:00:00"]
[null,{"$f":"IFERROR(IF(A864=\"\",\"\",VLOOKUP(A864,'Banco de Funcionários'!$A$2:$D$1048576,2,0)),\"\")","v":""},null,null,null,null,null,"00:00:00",null,"00:00:00","00:00:00"]
[null,{"$f":"IFERROR(IF(A865=\"\",\"\",VLOOKUP(A865,'Banco de Funcionários'!$A$2:$D$1048576,2,0)),\"\")","v":""},null,null,null,null,null,"00:00:00",null,"00:00:00","00:00:00"]
[null,{"$f":"IFERROR(IF(A866=\"\",\"\",VLOOKUP(A866,'Banco de Funcionários'!$A$2:$D$1048576,2,0)),\"\")","v":""},null,null,null,null,null,"00:00:00",null,"00:00:00","00:00:00"]
[null,{"$f":"IFERROR(IF(A867=\"\",\"\",VLOOKUP(A867,'Banco de Funcionários'!$A$2:$D$1048576,2,0)),\"\")","v":""},null,null,null,null,null,"00:00:00",null,"00:00:00","00:00:00"]
[null,{"$f":"IFERROR(IF(A868=\"\",\"\",VLOOKUP(A868,'Banco de Funcionários'!$A$2:$D$1048576,2,0)),\"\")","v":""},null,null,null,null,null,"00:00:00",null,"00:00:00","00:00:00"]
[null,{"$f":"IFERROR(IF(A869=\"\",\"\",VLOOKUP(A869,'Banco de Funcionários'!$A$2:$D$1048576,2,0)),\"\")","v":""},null,null,null,null,null,"00:00:00",null,"00:00:00","00:00:00"]
[null,{"$f":"IFERROR(IF(A870=\"\",\"\",VLOOKUP(A870,'Banco de Funcionários'!$A$2:$D$1048576,2,0)),\"\")","v":""},null,null,null,null,null,"00:00:00",null,"00:00:00","00:00:00"]
[null,{"$f":"IFERROR(IF(A871=\"\",\"\",VLOOKUP(A871,'Banco de Funcionários'!$A$2:$D$1048576,2,0)),\"\")","v":""},null,null,null,null,null,"00:00:00",null,"00:00:00","00:00:00"]
[null,{"$f":"IFERROR(IF(A872=\"\",\"\",VLOOKUP(A872,'Banco de Funcionários'!$A$2:$D$1048576,2,0)),\"\")","v":""},null,null,null,null,null,"00:00:00",null,"00:00:00","00:00:00"]
[null,{"$f":"IFERROR(IF(A873=\"\",\"\",VLOOKUP(A873,'Banco de Funcionários'!$A$2:$D$1048576,2,0)),\"\")","v":""},null,null,null,null,null,"00:00:00",null,"00:00:00","00:00:00"]
[null,{"$f":"IFERROR(IF(A874=\"\",\"\",VLOOKUP(A874,'Banco de Funcionários'!$A$2:$D$1048576,2,0)),\"\")","v":""},null,null,null,null,null,"00:00:00",null,"00:00:00","00:00:00"]
[null,{"$f":"IFERROR(IF(A875=\"\",\"\",VLOOKUP(A875,'Banco de Funcionários'!$A$2:$D$1048576,2,0)),\"\")","v":""},null,null,null,null,null,"00:00:00",null,"00:00:00","00:00:00"]
[null,{"$f":"IFERROR(IF(A876=\"\",\"\",VLOOKUP(A876,'Banco de Funcionários'!$A$2:$D$1048576,2,0)),\"\")","v":""},null,null,null,null,null,"00:00:00",null,"00:00:00","00:00:00"]
[null,{"$f":"IFERROR(IF(A877=\"\",\"\",VLOOKUP(A877,'Banco de Funcionários'!$A$2:$D$1048576,2,0)),\"\")","v":""},null,null,null,null,null,"00:00:00",null,"00:00:00","00:00:00"]
[null,{"$f":"IFERROR(IF(A878=\"\",\"\",VLOOKUP(A878,'Banco de Funcionários'!$A$2:$D$1048576,2,0)),\"\")","v":""},null,null,null,null,null,"00:00:00",null,"00:00:00","00:00:00"]
[null,{"$f":"IFERROR(IF(A879=\"\",\"\",VLOOKUP(A879,'Banco de Funcionários'!$A$2:$D$1048576,2,0)),\"\")","v":""},null,null,null,null,null,"00:00:00",null,"00:00:00","00:00:00"]
[null,{"$f":"IFERROR(IF(A880=\"\",\"\",VLOOKUP(A880,'Banco de Funcionários'!$A$2:$D$1048576,2,0)),\"\")","v":""},null,null,null,null,null,"00:00:00",null,"00:00:00","00:00:00"]
[null,{"$f":"IFERROR(IF(A881=\"\",\"\",VLOOKUP(A881,'Banco de Funcionários'!$A$2:$D$1048576,2,0)),\"\")","v":""},null,null,null,null,null,"00:00:00",null,"00:00:00","00:00:00"]
[null,{"$f":"IFERROR(IF(A882=\"\",\"\",VLOOKUP(A882,'Banco de Funcionários'!$A$2:$D$1048576,2,0)),\"\")","v":""},null,null,null,null,null,"00:00:00",null,"00:00:00","00:00:00"]
[null,{"$f":"IFERROR(IF(A883=\"\",\"\",VLOOKUP(A883,'Banco de Funcionários'!$A$2:$D$1048576,2,0)),\"\")","v":""},null,null,null,null,null,"00:00:00",null,"00:00:00","00:00:00"]
[null,{"$f":"IFERROR(IF(A884=\"\",\"\",VLOOKUP(A884,'Banco de Funcionários'!$A$2:$D$1048576,2,0)),\"\")","v":""},null,null,null,null,null,"00:00:00",null,"00:00:00","00:00:00"]
[null,{"$f":"IFERROR(IF(A885=\"\",\"\",VLOOKUP(A885,'Banco de Funcionários'!$A$2:$D$1048576,2,0)),\"\")","v":""},null,null,null,null,null,"00:00:00",null,"00:00:00","00:00:00"]
[null,{"$f":"IFERROR(IF(A886=\"\",\"\",VLOOKUP(A886,'Banco de Funcionários'!$A$2:$D$1048576,2,0)),\"\")","v":""},null,null,null,null,null,"00:00:00",null,"00:00:00","00:00:00"]
[null,{"$f":"IFERROR(IF(A887=\"\",\"\",VLOOKUP(A887,'Banco de Funcionários'!$A$2:$D$1048576,2,0)),\"\")","v":""},null,null,null,null,null,"00:00:00",null,"00:00:00","00:00:00"]
[null,{"$f":"IFERROR(IF(A888=\"\",\"\",VLOOKUP(A888,'Banco de Funcionários'!$A$2:$D$1048576,2,0)),\"\")","v":""},null,null,null,null,null,"00:00:00",null,"00:00:00","00:00:00"]
[null,{"$f":"IFERROR(IF(A889=\"\",\"\",VLOOKUP(A889,'Banco de Funcionários'!$A$2:$D$1048576,2,0)),\"\")","v":""},null,null,null,null,null,"00:00:00",null,"00:00:00","00:00:00"]
[null,{"$f":"IFERROR(IF(A890=\"\",\"\",VLOOKUP(A890,'Banco de Funcionários'!$A$2:$D$1048576,2,0)),\"\")","v":""},null,null,null,null,null,"00:00:00",null,"00:00:00","00:00:00"]
[null,{"$f":"IFERROR(IF(A891=\"\",\"\",VLOOKUP(A891,'Banco de Funcionários'!$A$2:$D$1048576,2,0)),\"\")","v":""},null,null,null,null,null,"00:00:00",null,"00:00:00","00:00:00"]
[null,{"$f":"IFERROR(IF(A892=\"\",\"\",VLOOKUP(A892,'Banco de Funcionários'!$A$2:$D$1048576,2,0)),\"\")","v":""},null,null,null,null,null,"00:00:00",null,"00:00:00","00:00:00"]
[null,{"$f":"IFERROR(IF(A893=\"\",\"\",VLOOKUP(A893,'Banco de Funcionários'!$A$2:$D$1048576,2,0)),\"\")","v":""},null,null,null,null,null,"00:00:00",null,"00:00:00","00:00:00"]
[null,{"$f":"IFERROR(IF(A894=\"\",\"\",VLOOKUP(A894,'Banco de Funcionários'!$A$2:$D$1048576,2,0)),\"\")","v":""},null,null,null,null,null,"00:00:00",null,"00:00:00","00:00:00"]
[null,{"$f":"IFERROR(IF(A895=\"\",\"\",VLOOKUP(A895,'Banco de Funcionários'!$A$2:$D$1048576,2,0)),\"\")","v":""},null,null,null,null,null,"00:00:00",null,"00:00:00","00:00:00"]
[null,{"$f":"IFERROR(IF(A896=\"\",\"\",VLOOKUP(A896,'Banco de Funcionários'!$A$2:$D$1048576,2,0)),\"\")","v":""},null,null,null,null,null,"00:00:00",null,"00:00:00","00:00:00"]
[null,{"$f":"IFERROR(IF(A897=\"\",\"\",VLOOKUP(A897,'Banco de Funcionários'!$A$2:$D$1048576,2,0)),\"\")","v":""},null,null,null,null,null,"00:00:00",null,"00:00:00","00:00:00"]
[null,{"$f":"IFERROR(IF(A898=\"\",\"\",VLOOKUP(A898,'Banco de Funcionários'!$A$2:$D$1048576,2,0)),\"\")","v":""},null,null,null,null,null,"00:00:00",null,"00:00:00","00:00:00"]
[null,{"$f":"IFERROR(IF(A899=\"\",\"\",VLOOKUP(A899,'Banco de Funcionários'!$A$2:$D$1048576,2,0)),\"\")","v":""},null,null,null,null,null,{"$f":"(F899-E899)-G899","v":"00:00:00"},null,{"$f":"IFERROR(H899-I899,\"\")","v":"00:00:00"},{"$f":"IFERROR(H899+J899,0)","v":"00:00:00"}]
[null,{"$f":"IFERROR(IF(A900=\"\",\"\",VLOOKUP(A900,'Banco de Funcionários'!$A$2:$D$1048576,2,0)),\"\")","v":""},null,null,null,null,null,"00:00:00",null,"00:00:00","00:00:00"]
[null,{"$f":"IFERROR(IF(A901=\"\",\"\",VLOOKUP(A901,'Banco de Funcionários'!$A$2:$D$1048576,2,0)),\"\")","v":""},null,null,null,null,null,"00:00:00",null,"00:00:00","00:00:00"]
[null,{"$f":"IFERROR(IF(A902=\"\",\"\",VLOOKUP(A902,'Banco de Funcionários'!$A$2:$D$1048576,2,0)),\"\")","v":""},null,null,null,null,null,"00:00:00",null,"00:00:00","00:00:00"]
[null,{"$f":"IFERROR(IF(A903=\"\",\"\",VLOOKUP(A903,'Banco de Funcionários'!$A$2:$D$1048576,2,0)),\"\")","v":""},null,null,null,null,null,"00:00:00",null,"00:00:00","00:00:00"]
[null,{"$f":"IFERROR(IF(A904=\"\",\"\",VLOOKUP(A904,'Banco de Funcionários'!$A$2:$D$1048576,2,0)),\"\")","v":""},null,null,null,null,null,"00:00:00",null,"00:00:00","00:00:00"]
[null,{"$f":"IFERROR(IF(A905=\"\",\"\",VLOOKUP(A905,'Banco de Funcionários'!$A$2:$D$1048576,2,0)),\"\")","v":""},null,null,null,null,null,"00:00:00",null,"00:00:00","00:00:00"]
[null,{"$f":"IFERROR(IF(A906=\"\",\"\",VLOOKUP(A906,'Banco de Funcionários'!$A$2:$D$1048576,2,0)),\"\")","v":""},null,null,null,null,null,"00:00:00",null,"00:00:00","00:00:00"]
[null,{"$f":"IFERROR(IF(A907=\"\",\"\",VLOOKUP(A907,'Banco de Funcionários'!$A$2:$D$1048576,2,0)),\"\")","v":""},null,null,null,null,null,"00:00:00",null,"00:00:00","00:00:00"]
[null,{"$f":"IFERROR(IF(A908=\"\",\"\",VLOOKUP(A908,'Banco de Funcionários'!$A$2:$D$1048576,2,0)),\"\")","v":""},null,null,null,null,null,"00:00:00",null,"00:00:00","00:00:00"]
[null,{"$f":"IFERROR(IF(A909=\"\",\"\",VLOOKUP(A909,'Banco de Funcionários'!$A$2:$D$1048576,2,0)),\"\")","v":""},null,null,null,null,null,"00:00:00",null,"00:00:00","00:00:00"]
[null,{"$f":"IFERROR(IF(A910=\"\",\"\",VLOOKUP(A910,'Banco de Funcionários'!$A$2:$D$1048576,2,0)),\"\")","v":""},null,null,null,null,null,"00:00:00",null,"00:00:00","00:00:00"]
[null,{"$f":"IFERROR(IF(A911=\"\",\"\",VLOOKUP(A911,'Banco de Funcionários'!$A$2:$D$1048576,2,0)),\"\")","v":""},null,null,null,null,null,"00:00:00",null,"00:00:00","00:00:00"]
[null,{"$f":"IFERROR(IF(A912=\"\",\"\",VLOOKUP(A912,'Banco de Funcionários'!$A$2:$D$1048576,2,0)),\"\")","v":""},null,null,null,null,null,"00:00:00",null,"00:00:00","00:00:00"]
[null,{"$f":"IFERROR(IF(A913=\"\",\"\",VLOOKUP(A913,'Banco de Funcionários'!$A$2:$D$1048576,2,0)),\"\")","v":""},null,null,null,null,null,"00:00:00",null,"00:00:00","00:00:00"]
[null,{"$f":"IFERROR(IF(A914=\"\",\"\",VLOOKUP(A914,'Banco de Funcionários'!$A$2:$D$1048576,2,0)),\"\")","v":""},null,null,null,null,null,"00:00:00",null,"00:00:00","00:00:00"]
[null,{"$f":"IFERROR(IF(A915=\"\",\"\",VLOOKUP(A915,'Banco de Funcionários'!$A$2:$D$1048576,2,0)),\"\")","v":""},null,null,null,null,null,"00:00:00",null,"00:00:00","00:00:00"]
[null,{"$f":"IFERROR(IF(A916=\"\",\"\",VLOOKUP(A916,'Banco de Funcionários'!$A$2:$D$1048576,2,0)),\"\")","v":""},null,null,null,null,null,"00:00:00",null,"00:00:00","00:00:00"]
[null,{"$f":"IFERROR(IF(A917=\"\",\"\",VLOOKUP(A917,'Banco de Funcionários'!$A$2:$D$1048576,2,0)),\"\")","v":""},null,null,null,null,null,"00:00:00",null,"00:00:00","00:00:00"]
[null,{"$f":"IFERROR(IF(A918=\"\",\"\",VLOOKUP(A918,'Banco de Funcionários'!$A$2:$D$1048576,2,0)),\"\")","v":""},null,null,null,null,null,"00:00:00",null,"00:00:00","00:00:00"]
[null,{"$f":"IFERROR(IF(A919=\"\",\"\",VLOOKUP(A919,'Banco de Funcionários'!$A$2:$D$1048576,2,0)),\"\")","v":""},null,null,null,null,null,"00:00:00",null,"00:00:00","00:00:00"]
[null,{"$f":"IFERROR(IF(A920=\"\",\"\",VLOOKUP(A920,'Banco de Funcionários'!$A$2:$D$1048576,2,0)),\"\")","v":""},null,null,null,null,null,"00:00:00",null,"00:00:00","00:00:00"]
[null,{"$f":"IFERROR(IF(A921=\"\",\"\",VLOOKUP(A921,'Banco de Funcionários'!$A$2:$D$1048576,2,0)),\"\")","v":""},null,null,null,null,null,"00:00:00",null,"00:00:00","00:00:00"]
[null,{"$f":"IFERROR(IF(A922=\"\",\"\",VLOOKUP(A922,'Banco de Funcionários'!$A$2:$D$1048576,2,0)),\"\")","v":""},null,null,null,null,null,"00:00:00",null,"00:00:00","00:00:00"]
[null,{"$f":"IFERROR(IF(A923=\"\",\"\",VLOOKUP(A923,'Banco de Funcionários'!$A$2:$D$1048576,2,0)),\"\")","v":""},null,null,null,null,null,"00:00:00",null,"00:00:00","00:00:00"]
[null,{"$f":"IFERROR(IF(A924=\"\",\"\",VLOOKUP(A924,'Banco de Funcionários'!$A$2:$D$1048576,2,0)),\"\")","v":""},null,null,null,null,null,"00:00:00",null,"00:00:00","00:00:00"]
[null,{"$f":"IFERROR(IF(A925=\"\",\"\",VLOOKUP(A925,'Banco de Funcionários'!$A$2:$D$1048576,2,0)),\"\")","v":""},null,null,null,null,null,"00:00:00",null,"00:00:00","00:00:00"]
[null,{"$f":"IFERROR(IF(A926=\"\",\"\",VLOOKUP(A926,'Banco de Funcionários'!$A$2:$D$1048576,2,0)),\"\")","v":""},null,null,null,null,null,"00:00:00",null,"00:00:00","00:00:00"]
[null,{"$f":"IFERROR(IF(A927=\"\",\"\",VLOOKUP(A927,'Banco de Funcionários'!$A$2:$D$1048576,2,0)),\"\")","v":""},null,null,null,null,null,"00:00:00",null,"00:00:00","00:00:00"]
[null,{"$f":"IFERROR(IF(A928=\"\",\"\",VLOOKUP(A928,'Banco de Funcionários'!$A$2:$D$1048576,2,0)),\"\")","v":""},null,null,null,null,null,"00:00:00",null,"00:00:00","00:00:00"]
[null,{"$f":"IFERROR(IF(A929=\"\",\"\",VLOOKUP(A929,'Banco de Funcionários'!$A$2:$D$1048576,2,0)),\"\")","v":""},null,null,null,null,null,"00:00:00",null,"00:00:00","00:00:00"]
[null,{"$f":"IFERROR(IF(A930=\"\",\"\",VLOOKUP(A930,'Banco de Funcionários'!$A$2:$D$1048576,2,0)),\"\")","v":""},null,null,null,null,null,"00:00:00",null,"00:00:00","00:00:00"]
[null,{"$f":"IFERROR(IF(A931=\"\",\"\",VLOOKUP(A931,'Banco de Funcionários'!$A$2:$D$1048576,2,0)),\"\")","v":""},null,null,null,null,null,"00:00:00",null,"00:00:00","00:00:00"]
[null,{"$f":"IFERROR(IF(A932=\"\",\"\",VLOOKUP(A932,'Banco de Funcionários'!$A$2:$D$1048576,2,0)),\"\")","v":""},null,null,null,null,null,"00:00:00",null,"00:00:00","00:00:00"]
[null,{"$f":"IFERROR(IF(A933=\"\",\"\",VLOOKUP(A933,'Banco de Funcionários'!$A$2:$D$1048576,2,0)),\"\")","v":""},null,null,null,null,null,"00:00:00",null,"00:00:00","00:00:00"]
[null,{"$f":"IFERROR(IF(A934=\"\",\"\",VLOOKUP(A934,'Banco de Funcionários'!$A$2:$D$1048576,2,0)),\"\")","v":""},null,null,null,null,null,"00:00:00",null,"00:00:00","00:00:00"]
[null,{"$f":"IFERROR(IF(A935=\"\",\"\",VLOOKUP(A935,'Banco de Funcionários'!$A$2:$D$1048576,2,0)),\"\")","v":""},null,null,null,null,null,"00:00:00",null,"00:00:00","00:00:00"]
[null,{"$f":"IFERROR(IF(A936=\"\",\"\",VLOOKUP(A936,'Banco de Funcionários'!$A$2:$D$1048576,2,0)),\"\")","v":""},null,null,null,null,null,"00:00:00",null,"00:00:00","00:00:00"]
[null,{"$f":"IFERROR(IF(A937=\"\",\"\",VLOOKUP(A937,'Banco de Funcionários'!$A$2:$D$1048576,2,0)),\"\")","v":""},null,null,null,null,null,"00:00:00",null,"00:00:00","00:00:00"]
[null,{"$f":"IFERROR(IF(A938=\"\",\"\",VLOOKUP(A938,'Banco de Funcionários'!$A$2:$D$1048576,2,0)),\"\")","v":""},null,null,null,null,null,"00:00:00",null,"00:00:00","00:00:00"]
[null,{"$f":"IFERROR(IF(A939=\"\",\"\",VLOOKUP(A939,'Banco de Funcionários'!$A$2:$D$1048576,2,0)),\"\")","v":""},null,null,null,null,null,"00:00:00",null,"00:00:00","00:00:00"]
[null,{"$f":"IFERROR(IF(A940=\"\",\"\",VLOOKUP(A940,'Banco de Funcionários'!$A$2:$D$1048576,2,0)),\"\")","v":""},null,null,null,null,null,"00:00:00",null,"00:00:00","00:00:00"]
[null,{"$f":"IFERROR(IF(A941=\"\",\"\",VLOOKUP(A941,'Banco de Funcionários'!$A$2:$D$1048576,2,0)),\"\")","v":""},null,null,null,null,null,"00:00:00",null,"00:00:00","00:00:00"]
[null,{"$f":"IFERROR(IF(A942=\"\",\"\",VLOOKUP(A942,'Banco de Funcionários'!$A$2:$D$1048576,2,0)),\"\")","v":""},null,null,null,null,null,"00:00:00",null,"00:00:00","00:00:00"]
[null,{"$f":"IFERROR(IF(A943=\"\",\"\",VLOOKUP(A943,'Banco de Funcionários'!$A$2:$D$1048576,2,0)),\"\")","v":""},null,null,null,null,null,"00:00:00",null,"00:00:00","00:00:00"]
[null,{"$f":"IFERROR(IF(A944=\"\",\"\",VLOOKUP(A944,'Banco de Funcionários'!$A$2:$D$1048576,2,0)),\"\")","v":""},null,null,null,null,null,"00:00:00",null,"00:00:00","00:00:00"]
[null,{"$f":"IFERROR(IF(A945=\"\",\"\",VLOOKUP(A945,'Banco de Funcionários'!$A$2:$D$1048576,2,0)),\"\")","v":""},null,null,null,null,null,"00:00:00",null,"00:00:00","00:00:00"]
[null,{"$f":"IFERROR(IF(A946=\"\",\"\",VLOOKUP(A946,'Banco de Funcionários'!$A$2:$D$1048576,2,0)),\"\")","v":""},null,null,null,null,null,"00:00:00",null,"00:00:00","00:00:00"]
[null,{"$f":"IFERROR(IF(A947=\"\",\"\",VLOOKUP(A947,'Banco de Funcionários'!$A$2:$D$1048576,2,0)),\"\")","v":""},null,null,null,null,null,"00:00:00",null,"00:00:00","00:00:00"]
[null,{"$f":"IFERROR(IF(A948=\"\",\"\",VLOOKUP(A948,'Banco de Funcionários'!$A$2:$D$1048576,2,0)),\"\")","v":""},null,null,null,null,null,"00:00:00",null,"00:00:00","00:00:00"]
[null,{"$f":"IFERROR(IF(A949=\"\",\"\",VLOOKUP(A949,'Banco de Funcionários'!$A$2:$D$1048576,2,0)),\"\")","v":""},null,null,null,null,null,"00:00:00",null,"00:00:00","00:00:00"]
[null,{"$f":"IFERROR(IF(A950=\"\",\"\",VLOOKUP(A950,'Banco de Funcionários'!$A$2:$D$1048576,2,0)),\"\")","v":""},null,null,null,null,null,"00:00:00",null,"00:00:00","00:00:00"]
[null,{"$f":"IFERROR(IF(A951=\"\",\"\",VLOOKUP(A951,'Banco de Funcionários'!$A$2:$D$1048576,2,0)),\"\")","v":""},null,null,null,null,null,"00:00:00",null,"00:00:00","00:00:00"]
[null,{"$f":"IFERROR(IF(A952=\"\",\"\",VLOOKUP(A952,'Banco de Funcionários'!$A$2:$D$1048576,2,0)),\"\")","v":""},null,null,null,null,null,"00:00:00",null,"00:00:00","00:00:00"]
[null,{"$f":"IFERROR(IF(A953=\"\",\"\",VLOOKUP(A953,'Banco de Funcionários'!$A$2:$D$1048576,2,0)),\"\")","v":""},null,null,null,null,null,"00:00:00",null,"00:00:00","00:00:00"]
[null,{"$f":"IFERROR(IF(A954=\"\",\"\",VLOOKUP(A954,'Banco de Funcionários'!$A$2:$D$1048576,2,0)),\"\")","v":""},null,null,null,null,null,"00:00:00",null,"00:00:00","00:00:00"]
[null,{"$f":"IFERROR(IF(A955=\"\",\"\",VLOOKUP(A955,'Banco de Funcionários'!$A$2:$D$1048576,2,0)),\"\")","v":""},null,null,null,null,null,"00:00:00",null,"00:00:00","00:00:00"]
[null,{"$f":"IFERROR(IF(A956=\"\",\"\",VLOOKUP(A956,'Banco de Funcionários'!$A$2:$D$1048576,2,0)),\"\")","v":""},null,null,null,null,null,"00:00:00",null,"00:00:00","00:00:00"]
[null,{"$f":"IFERROR(IF(A957=\"\",\"\",VLOOKUP(A957,'Banco de Funcionários'!$A$2:$D$1048576,2,0)),\"\")","v":""},null,null,null,null,null,"00:00:00",null,"00:00:00","00:00:00"]
[null,{"$f":"IFERROR(IF(A958=\"\",\"\",VLOOKUP(A958,'Banco de Funcionários'!$A$2:$D$1048576,2,0)),\"\")","v":""},null,null,null,null,null,"00:00:00",null,"00:00:00","00:00:00"]
[null,{"$f":"IFERROR(IF(A959=\"\",\"\",VLOOKUP(A959,'Banco de Funcionários'!$A$2:$D$1048576,2,0)),\"\")","v":""},null,null,null,null,null,"00:00:00",null,"00:00:00","00:00:00"]
[null,{"$f":"IFERROR(IF(A960=\"\",\"\",VLOOKUP(A960,'Banco de Funcionários'!$A$2:$D$1048576,2,0)),\"\")","v":""},null,null,null,null,null,"00:00:00",null,"00:00:00","00:00:00"]
[null,{"$f":"IFERROR(IF(A961=\"\",\"\",VLOOKUP(A961,'Banco de Funcionários'!$A$2:$D$1048576,2,0)),\"\")","v":""},null,null,null,null,null,"00:00:00",null,"00:00:00","00:00:00"]
[null,{"$f":"IFERROR(IF(A962=\"\",\"\",VLOOKUP(A962,'Banco de Funcionários'!$A$2:$D$1048576,2,0)),\"\")","v":""},null,null,null,null,null,"00:00:00",null,"00:00:00","00:00:00"]
[null,{"$f":"IFERROR(IF(A963=\"\",\"\",VLOOKUP(A963,'Banco de Funcionários'!$A$2:$D$1048576,2,0)),\"\")","v":""},null,null,null,null,null,{"$f":"(F963-E963)-G963","v":"00:00:00"},null,{"$f":"IFERROR(H963-I963,\"\")","v":"00:00:00"},{"$f":"IFERROR(H963+J963,0)","v":"00:00:00"}]
[null,{"$f":"IFERROR(IF(A964=\"\",\"\",VLOOKUP(A964,'Banco de Funcionários'!$A$2:$D$1048576,2,0)),\"\")","v":""},null,null,null,null,null,"00:00:00",null,"00:00:00","00:00:00"]
[null,{"$f":"IFERROR(IF(A965=\"\",\"\",VLOOKUP(A965,'Banco de Funcionários'!$A$2:$D$1048576,2,0)),\"\")","v":""},null,null,null,null,null,"00:00:00",null,"00:00:00","00:00:00"]
[null,{"$f":"IFERROR(IF(A966=\"\",\"\",VLOOKUP(A966,'Banco de Funcionários'!$A$2:$D$1048576,2,0)),\"\")","v":""},null,null,null,null,null,"00:00:00",null,"00:00:00","00:00:00"]
[null,{"$f":"IFERROR(IF(A967=\"\",\"\",VLOOKUP(A967,'Banco de Funcionários'!$A$2:$D$1048576,2,0)),\"\")","v":""},null,null,null,null,null,"00:00:00",null,"00:00:00","00:00:00"]
[null,{"$f":"IFERROR(IF(A968=\"\",\"\",VLOOKUP(A968,'Banco de Funcionários'!$A$2:$D$1048576,2,0)),\"\")","v":""},null,null,null,null,null,"00:00:00",null,"00:00:00","00:00:00"]
[null,{"$f":"IFERROR(IF(A969=\"\",\"\",VLOOKUP(A969,'Banco de Funcionários'!$A$2:$D$1048576,2,0)),\"\")","v":""},null,null,null,null,null,"00:00:00",null,"00:00:00","00:00:00"]
[null,{"$f":"IFERROR(IF(A970=\"\",\"\",VLOOKUP(A970,'Banco de Funcionários'!$A$2:$D$1048576,2,0)),\"\")","v":""},null,null,null,null,null,"00:00:00",null,"00:00:00","00:00:00"]
[null,{"$f":"IFERROR(IF(A971=\"\",\"\",VLOOKUP(A971,'Banco de Funcionários'!$A$2:$D$1048576,2,0)),\"\")","v":""},null,null,null,null,null,"00:00:00",null,"00:00:00","00:00:00"]
[null,{"$f":"IFERROR(IF(A972=\"\",\"\",VLOOKUP(A972,'Banco de Funcionários'!$A$2:$D$1048576,2,0)),\"\")","v":""},null,null,null,null,null,"00:00:00",null,"00:00:00","00:00:00"]
[null,{"$f":"IFERROR(IF(A973=\"\",\"\",VLOOKUP(A973,'Banco de Funcionários'!$A$2:$D$1048576,2,0)),\"\")","v":""},null,null,null,null,null,"00:00:00",null,"00:00:00","00:00:00"]
[null,{"$f":"IFERROR(IF(A974=\"\",\"\",VLOOKUP(A974,'Banco de Funcionários'!$A$2:$D$1048576,2,0)),\"\")","v":""},null,null,null,null,null,"00:00:00",null,"00:00:00","00:00:00"]
[null,{"$f":"IFERROR(IF(A975=\"\",\"\",VLOOKUP(A975,'Banco de Funcionários'!$A$2:$D$1048576,2,0)),\"\")","v":""},null,null,null,null,null,"00:00:00",null,"00:00:00","00:00:00"]
[null,{"$f":"IFERROR(IF(A976=\"\",\"\",VLOOKUP(A976,'Banco de Funcionários'!$A$2:$D$1048576,2,0)),\"\")","v":""},null,null,null,null,null,"00:00:00",null,"00:00:00","00:00:00"]
[null,{"$f":"IFERROR(IF(A977=\"\",\"\",VLOOKUP(A977,'Banco de Funcionários'!$A$2:$D$1048576,2,0)),\"\")","v":""},null,null,null,null,null,"00:00:00",null,"00:00:00","00:00:00"]
[null,{"$f":"IFERROR(IF(A978=\"\",\"\",VLOOKUP(A978,'Banco de Funcionários'!$A$2:$D$1048576,2,0)),\"\")","v":""},null,null,null,null,null,"00:00:00",null,"00:00:00","00:00:00"]
[null,{"$f":"IFERROR(IF(A979=\"\",\"\",VLOOKUP(A979,'Banco de Funcionários'!$A$2:$D$1048576,2,0)),\"\")","v":""},null,null,null,null,null,"00:00:00",null,"00:00:00","00:00:00"]
[null,{"$f":"IFERROR(IF(A980=\"\",\"\",VLOOKUP(A980,'Banco de Funcionários'!$A$2:$D$1048576,2,0)),\"\")","v":""},null,null,null,null,null,"00:00:00",null,"00:00:00","00:00:00"]
[null,{"$f":"IFERROR(IF(A981=\"\",\"\",VLOOKUP(A981,'Banco de Funcionários'!$A$2:$D$1048576,2,0)),\"\")","v":""},null,null,null,null,null,"00:00:00",null,"00:00:00","00:00:00"]
[null,{"$f":"IFERROR(IF(A982=\"\",\"\",VLOOKUP(A982,'Banco de Funcionários'!$A$2:$D$1048576,2,0)),\"\")","v":""},null,null,null,null,null,"00:00:00",null,"00:00:00","00:00:00"]
[null,{"$f":"IFERROR(IF(A983=\"\",\"\",VLOOKUP(A983,'Banco de Funcionários'!$A$2:$D$1048576,2,0)),\"\")","v":""},null,null,null,null,null,"00:00:00",null,"00:00:00","00:00:00"]
[null,{"$f":"IFERROR(IF(A984=\"\",\"\",VLOOKUP(A984,'Banco de Funcionários'!$A$2:$D$1048576,2,0)),\"\")","v":""},null,null,null,null,null,"00:00:00",null,"00:00:00","00:00:00"]
[null,{"$f":"IFERROR(IF(A985=\"\",\"\",VLOOKUP(A985,'Banco de Funcionários'!$A$2:$D$1048576,2,0)),\"\")","v":""},null,null,null,null,null,"00:00:00",null,"00:00:00","00:00:00"]
[null,{"$f":"IFERROR(IF(A986=\"\",\"\",VLOOKUP(A986,'Banco de Funcionários'!$A$2:$D$1048576,2,0)),\"\")","v":""},null,null,null,null,null,"00:00:00",null,"00:00:00","00:00:00"]
[null,{"$f":"IFERROR(IF(A987=\"\",\"\",VLOOKUP(A987,'Banco de Funcionários'!$A$2:$D$1048576,2,0)),\"\")","v":""},null,null,null,null,null,"00:00:00",null,"00:00:00","00:00:00"]
[null,{"$f":"IFERROR(IF(A988=\"\",\"\",VLOOKUP(A988,'Banco de Funcionários'!$A$2:$D$1048576,2,0)),\"\")","v":""},null,null,null,null,null,"00:00:00",null,"00:00:00","00:00:00"]
[null,{"$f":"IFERROR(IF(A989=\"\",\"\",VLOOKUP(A989,'Banco de Funcionários'!$A$2:$D$1048576,2,0)),\"\")","v":""},null,null,null,null,null,"00:00:00",null,"00:00:00","00:00:00"]
[null,{"$f":"IFERROR(IF(A990=\"\",\"\",VLOOKUP(A990,'Banco de Funcionários'!$A$2:$D$1048576,2,0)),\"\")","v":""},null,null,null,null,null,"00:00:00",null,"00:00:00","00:00:00"]
[null,{"$f":"IFERROR(IF(A991=\"\",\"\",VLOOKUP(A991,'Banco de Funcionários'!$A$2:$D$1048576,2,0)),\"\")","v":""},null,null,null,null,null,"00:00:00",null,"00:00:00","00:00:00"]
[null,{"$f":"IFERROR(IF(A992=\"\",\"\",VLOOKUP(A992,'Banco de Funcionários'!$A$2:$D$1048576,2,0)),\"\")","v":""},null,null,null,null,null,"00:00:00",null,"00:00:00","00:00:00"]
[null,{"$f":"IFERROR(IF(A993=\"\",\"\",VLOOKUP(A993,'Banco de Funcionários'!$A$2:$D$1048576,2,0)),\"\")","v":""},null,null,null,null,null,"00:00:00",null,"00:00:00","00:00:00"]
[null,{"$f":"IFERROR(IF(A994=\"\",\"\",VLOOKUP(A994,'Banco de Funcionários'!$A$2:$D$1048576,2,0)),\"\")","v":""},null,null,null,null,null,"00:00:00",null,"00:00:00","00:00:00"]
[null,{"$f":"IFERROR(IF(A995=\"\",\"\",VLOOKUP(A995,'Banco de Funcionários'!$A$2:$D$1048576,2,0)),\"\")","v":""},null,null,null,null,null,"00:00:00",null,"00:00:00","00:00:00"]
[null,{"$f":"IFERROR(IF(A996=\"\",\"\",VLOOKUP(A996,'Banco de Funcionários'!$A$2:$D$1048576,2,0)),\"\")","v":""},null,null,null,null,null,"00:00:00",null,"00:00:00","00:00:00"]
[null,{"$f":"IFERROR(IF(A997=\"\",\"\",VLOOKUP(A997,'Banco de Funcionários'!$A$2:$D$1048576,2,0)),\"\")","v":""},null,null,null,null,null,"00:00:00",null,"00:00:00","00:00:00"]
[null,{"$f":"IFERROR(IF(A998=\"\",\"\",VLOOKUP(A998,'Banco de Funcionários'!$A$2:$D$1048576,2,0)),\"\")","v":""},null,null,null,null,null,"00:00:00",null,"00:00:00","00:00:00"]
[null,{"$f":"IFERROR(IF(A999=\"\",\"\",VLOOKUP(A999,'Banco de Funcionários'!$A$2:$D$1048576,2,0)),\"\")","v":""},null,null,null,null,null,"00:00:00",null,"00:00:00","00:00:00"]
[null,{"$f":"IFERROR(IF(A1000=\"\",\"\",VLOOKUP(A1000,'Banco de Funcionários'!$A$2:$D$1048576,2,0)),\"\")","v":""},null,null,null,null,null,"00:00:00",null,"00:00:00","00:00:00"]
[null,{"$f":"IFERROR(IF(A1001=\"\",\"\",VLOOKUP(A1001,'Banco de Funcionários'!$A$2:$D$1048576,2,0)),\"\")","v":""},null,null,null,null,null,"00:00:00",null,"00:00:00","00:00:00"]
[null,{"$f":"IFERROR(IF(A1002=\"\",\"\",VLOOKUP(A1002,'Banco de Funcionários'!$A$2:$D$1048576,2,0)),\"\")","v":""},null,null,null,null,null,"00:00:00",null,"00:00:00","00:00:00"]
[null,{"$f":"IFERROR(IF(A1003=\"\",\"\",VLOOKUP(A1003,'Banco de Funcionários'!$A$2:$D$1048576,2,0)),\"\")","v":""},null,null,null,null,null,"00:00:00",null,"00:00:00","00:00:00"]
[null,{"$f":"IFERROR(IF(A1004=\"\",\"\",VLOOKUP(A1004,'Banco de Funcionários'!$A$2:$D$1048576,2,0)),\"\")","v":""},null,null,null,null,null,"00:00:00",null,"00:00:00","00:00:00"]
[null,{"$f":"IFERROR(IF(A1005=\"\",\"\",VLOOKUP(A1005,'Banco de Funcionários'!$A$2:$D$1048576,2,0)),\"\")","v":""},null,null,null,null,null,"00:00:00",null,"00:00:00","00:00:00"]
[null,{"$f":"IFERROR(IF(A1006=\"\",\"\",VLOOKUP(A1006,'Banco de Funcionários'!$A$2:$D$1048576,2,0)),\"\")","v":""},null,null,null,null,null,"00:00:00",null,"00:00:00","00:00:00"]
[null,{"$f":"IFERROR(IF(A1007=\"\",\"\",VLOOKUP(A1007,'Banco de Funcionários'!$A$2:$D$1048576,2,0)),\"\")","v":""},null,null,null,null,null,"00:00:00",null,"00:00:00","00:00:00"]
[null,{"$f":"IFERROR(IF(A1008=\"\",\"\",VLOOKUP(A1008,'Banco de Funcionários'!$A$2:$D$1048576,2,0)),\"\")","v":""},null,null,null,null,null,"00:00:00",null,"00:00:00","00:00:00"]
[null,{"$f":"IFERROR(IF(A1009=\"\",\"\",VLOOKUP(A1009,'Banco de Funcionários'!$A$2:$D$1048576,2,0)),\"\")","v":""},null,null,null,null,null,"00:00:00",null,"00:00:00","00:00:00"]
[null,{"$f":"IFERROR(IF(A1010=\"\",\"\",VLOOKUP(A1010,'Banco de Funcionários'!$A$2:$D$1048576,2,0)),\"\")","v":""},null,null,null,null,null,"00:00:00",null,"00:00:00","00:00:00"]
[null,{"$f":"IFERROR(IF(A1011=\"\",\"\",VLOOKUP(A1011,'Banco de Funcionários'!$A$2:$D$1048576,2,0)),\"\")","v":""},null,null,null,null,null,"00:00:00",null,"00:00:00","00:00:00"]
[null,{"$f":"IFERROR(IF(A1012=\"\",\"\",VLOOKUP(A1012,'Banco de Funcionários'!$A$2:$D$1048576,2,0)),\"\")","v":""},null,null,null,null,null,"00:00:00",null,"00:00:00","00:00:00"]
[null,{"$f":"IFERROR(IF(A1013=\"\",\"\",VLOOKUP(A1013,'Banco de Funcionários'!$A$2:$D$1048576,2,0)),\"\")","v":""},null,null,null,null,null,"00:00:00",null,"00:00:00","00:00:00"]
[null,{"$f":"IFERROR(IF(A1014=\"\",\"\",VLOOKUP(A1014,'Banco de Funcionários'!$A$2:$D$1048576,2,0)),\"\")","v":""},null,null,null,null,null,"00:00:00",null,"00:00:00","00:00:00"]
[null,{"$f":"IFERROR(IF(A1015=\"\",\"\",VLOOKUP(A1015,'Banco de Funcionários'!$A$2:$D$1048576,2,0)),\"\")","v":""},null,null,null,null,null,"00:00:00",null,"00:00:00","00:00:00"]
[null,{"$f":"IFERROR(IF(A1016=\"\",\"\",VLOOKUP(A1016,'Banco de Funcionários'!$A$2:$D$1048576,2,0)),\"\")","v":""},null,null,null,null,null,"00:00:00",null,"00:00:00","00:00:00"]
[null,{"$f":"IFERROR(IF(A1017=\"\",\"\",VLOOKUP(A1017,'Banco de Funcionários'!$A$2:$D$1048576,2,0)),\"\")","v":""},null,null,null,null,null,"00:00:00",null,"00:00:00","00:00:00"]
[null,{"$f":"IFERROR(IF(A1018=\"\",\"\",VLOOKUP(A1018,'Banco de Funcionários'!$A$2:$D$1048576,2,0)),\"\")","v":""},null,null,null,null,null,"00:00:00",null,"00:00:00","00:00:00"]
[null,{"$f":"IFERROR(IF(A1019=\"\",\"\",VLOOKUP(A1019,'Banco de Funcionários'!$A$2:$D$1048576,2,0)),\"\")","v":""},null,null,null,null,null,"00:00:00",null,"00:00:00","00:00:00"]
[null,{"$f":"IFERROR(IF(A1020=\"\",\"\",VLOOKUP(A1020,'Banco de Funcionários'!$A$2:$D$1048576,2,0)),\"\")","v":""},null,null,null,null,null,"00:00:00",null,"00:00:00","00:00:00"]
[null,{"$f":"IFERROR(IF(A1021=\"\",\"\",VLOOKUP(A1021,'Banco de Funcionários'!$A$2:$D$1048576,2,0)),\"\")","v":""},null,null,null,null,null,"00:00:00",null,"00:00:00","00:00:00"]
[null,{"$f":"IFERROR(IF(A1022=\"\",\"\",VLOOKUP(A1022,'Banco de Funcionários'!$A$2:$D$1048576,2,0)),\"\")","v":""},null,null,null,null,null,"00:00:00",null,"00:00:00","00:00:00"]
[null,{"$f":"IFERROR(IF(A1023=\"\",\"\",VLOOKUP(A1023,'Banco de Funcionários'!$A$2:$D$1048576,2,0)),\"\")","v":""},null,null,null,null,null,"00:00:00",null,"00:00:00","00:00:00"]
[null,{"$f":"IFERROR(IF(A1024=\"\",\"\",VLOOKUP(A1024,'Banco de Funcionários'!$A$2:$D$1048576,2,0)),\"\")","v":""},null,null,null,null,null,"00:00:00",null,"00:00:00","00:00:00"]
[null,{"$f":"IFERROR(IF(A1025=\"\",\"\",VLOOKUP(A1025,'Banco de Funcionários'!$A$2:$D$1048576,2,0)),\"\")","v":""},null,null,null,null,null,"00:00:00",null,"00:00:00","00:00:00"]
[null,{"$f":"IFERROR(IF(A1026=\"\",\"\",VLOOKUP(A1026,'Banco de Funcionários'!$A$2:$D$1048576,2,0)),\"\")","v":""},null,null,null,null,null,"00:00:00",null,"00:00:00","00:00:00"]
[null,{"$f":"IFERROR(IF(A1027=\"\",\"\",VLOOKUP(A1027,'Banco de Funcionários'!$A$2:$D$1048576,2,0)),\"\")","v":""},null,null,null,null,null,{"$f":"(F1027-E1027)-G1027","v":"00:00:00"},null,{"$f":"IFERROR(H1027-I1027,\"\")","v":"00:00:00"},{"$f":"IFERROR(H1027+J1027,0)","v":"00:00:00"}]
[null,{"$f":"IFERROR(IF(A1028=\"\",\"\",VLOOKUP(A1028,'Banco de Funcionários'!$A$2:$D$1048576,2,0)),\"\")","v":""},null,null,null,null,null,"00:00:00",null,"00:00:00","00:00:00"]
[null,{"$f":"IFERROR(IF(A1029=\"\",\"\",VLOOKUP(A1029,'Banco de Funcionários'!$A$2:$D$1048576,2,0)),\"\")","v":""},null,null,null,null,null,"00:00:00",null,"00:00:00","00:00:00"]
[null,{"$f":"IFERROR(IF(A1030=\"\",\"\",VLOOKUP(A1030,'Banco de Funcionários'!$A$2:$D$1048576,2,0)),\"\")","v":""},null,null,null,null,null,"00:00:00",null,"00:00:00","00:00:00"]
[null,{"$f":"IFERROR(IF(A1031=\"\",\"\",VLOOKUP(A1031,'Banco de Funcionários'!$A$2:$D$1048576,2,0)),\"\")","v":""},null,null,null,null,null,"00:00:00",null,"00:00:00","00:00:00"]
[null,{"$f":"IFERROR(IF(A1032=\"\",\"\",VLOOKUP(A1032,'Banco de Funcionários'!$A$2:$D$1048576,2,0)),\"\")","v":""},null,null,null,null,null,"00:00:00",null,"00:00:00","00:00:00"]
[null,{"$f":"IFERROR(IF(A1033=\"\",\"\",VLOOKUP(A1033,'Banco de Funcionários'!$A$2:$D$1048576,2,0)),\"\")","v":""},null,null,null,null,null,"00:00:00",null,"00:00:00","00:00:00"]
[null,{"$f":"IFERROR(IF(A1034=\"\",\"\",VLOOKUP(A1034,'Banco de Funcionários'!$A$2:$D$1048576,2,0)),\"\")","v":""},null,null,null,null,null,"00:00:00",null,"00:00:00","00:00:00"]
[null,{"$f":"IFERROR(IF(A1035=\"\",\"\",VLOOKUP(A1035,'Banco de Funcionários'!$A$2:$D$1048576,2,0)),\"\")","v":""},null,null,null,null,null,"00:00:00",null,"00:00:00","00:00:00"]
[null,{"$f":"IFERROR(IF(A1036=\"\",\"\",VLOOKUP(A1036,'Banco de Funcionários'!$A$2:$D$1048576,2,0)),\"\")","v":""},null,null,null,null,null,"00:00:00",null,"00:00:00","00:00:00"]
[null,{"$f":"IFERROR(IF(A1037=\"\",\"\",VLOOKUP(A1037,'Banco de Funcionários'!$A$2:$D$1048576,2,0)),\"\")","v":""},null,null,null,null,null,"00:00:00",null,"00:00:00","00:00:00"]
[null,{"$f":"IFERROR(IF(A1038=\"\",\"\",VLOOKUP(A1038,'Banco de Funcionários'!$A$2:$D$1048576,2,0)),\"\")","v":""},null,null,null,null,null,"00:00:00",null,"00:00:00","00:00:00"]
[null,{"$f":"IFERROR(IF(A1039=\"\",\"\",VLOOKUP(A1039,'Banco de Funcionários'!$A$2:$D$1048576,2,0)),\"\")","v":""},null,null,null,null,null,"00:00:00",null,"00:00:00","00:00:00"]
[null,{"$f":"IFERROR(IF(A1040=\"\",\"\",VLOOKUP(A1040,'Banco de Funcionários'!$A$2:$D$1048576,2,0)),\"\")","v":""},null,null,null,null,null,"00:00:00",null,"00:00:00","00:00:00"]
[null,{"$f":"IFERROR(IF(A1041=\"\",\"\",VLOOKUP(A1041,'Banco de Funcionários'!$A$2:$D$1048576,2,0)),\"\")","v":""},null,null,null,null,null,"00:00:00",null,"00:00:00","00:00:00"]
[null,{"$f":"IFERROR(IF(A1042=\"\",\"\",VLOOKUP(A1042,'Banco de Funcionários'!$A$2:$D$1048576,2,0)),\"\")","v":""},null,null,null,null,null,"00:00:00",null,"00:00:00","00:00:00"]
[null,{"$f":"IFERROR(IF(A1043=\"\",\"\",VLOOKUP(A1043,'Banco de Funcionários'!$A$2:$D$1048576,2,0)),\"\")","v":""},null,null,null,null,null,"00:00:00",null,"00:00:00","00:00:00"]
[null,{"$f":"IFERROR(IF(A1044=\"\",\"\",VLOOKUP(A1044,'Banco de Funcionários'!$A$2:$D$1048576,2,0)),\"\")","v":""},null,null,null,null,null,"00:00:00",null,"00:00:00","00:00:00"]
[null,{"$f":"IFERROR(IF(A1045=\"\",\"\",VLOOKUP(A1045,'Banco de Funcionários'!$A$2:$D$1048576,2,0)),\"\")","v":""},null,null,null,null,null,"00:00:00",null,"00:00:00","00:00:00"]
[null,{"$f":"IFERROR(IF(A1046=\"\",\"\",VLOOKUP(A1046,'Banco de Funcionários'!$A$2:$D$1048576,2,0)),\"\")","v":""},null,null,null,null,null,"00:00:00",null,"00:00:00","00:00:00"]
[null,{"$f":"IFERROR(IF(A1047=\"\",\"\",VLOOKUP(A1047,'Banco de Funcionários'!$A$2:$D$1048576,2,0)),\"\")","v":""},null,null,null,null,null,"00:00:00",null,"00:00:00","00:00:00"]
[null,{"$f":"IFERROR(IF(A1048=\"\",\"\",VLOOKUP(A1048,'Banco de Funcionários'!$A$2:$D$1048576,2,0)),\"\")","v":""},null,null,null,null,null,"00:00:00",null,"00:00:00","00:00:00"]
[null,{"$f":"IFERROR(IF(A1049=\"\",\"\",VLOOKUP(A1049,'Banco de Funcionários'!$A$2:$D$1048576,2,0)),\"\")","v":""},null,null,null,null,null,"00:00:00",null,"00:00:00","00:00:00"]
[null,{"$f":"IFERROR(IF(A1050=\"\",\"\",VLOOKUP(A1050,'Banco de Funcionários'!$A$2:$D$1048576,2,0)),\"\")","v":""},null,null,null,null,null,"00:00:00",null,"00:00:00","00:00:00"]
[null,{"$f":"IFERROR(IF(A1051=\"\",\"\",VLOOKUP(A1051,'Banco de Funcionários'!$A$2:$D$1048576,2,0)),\"\")","v":""},null,null,null,null,null,"00:00:00",null,"00:00:00","00:00:00"]
[null,{"$f":"IFERROR(IF(A1052=\"\",\"\",VLOOKUP(A1052,'Banco de Funcionários'!$A$2:$D$1048576,2,0)),\"\")","v":""},null,null,null,null,null,"00:00:00",null,"00:00:00","00:00:00"]
[null,{"$f":"IFERROR(IF(A1053=\"\",\"\",VLOOKUP(A1053,'Banco de Funcionários'!$A$2:$D$1048576,2,0)),\"\")","v":""},null,null,null,null,null,"00:00:00",null,"00:00:00","00:00:00"]
[null,{"$f":"IFERROR(IF(A1054=\"\",\"\",VLOOKUP(A1054,'Banco de Funcionários'!$A$2:$D$1048576,2,0)),\"\")","v":""},null,null,null,null,null,"00:00:00",null,"00:00:00","00:00:00"]
[null,{"$f":"IFERROR(IF(A1055=\"\",\"\",VLOOKUP(A1055,'Banco de Funcionários'!$A$2:$D$1048576,2,0)),\"\")","v":""},null,null,null,null,null,"00:00:00",null,"00:00:00","00:00:00"]
[null,{"$f":"IFERROR(IF(A1056=\"\",\"\",VLOOKUP(A1056,'Banco de Funcionários'!$A$2:$D$1048576,2,0)),\"\")","v":""},null,null,null,null,null,"00:00:00",null,"00:00:00","00:00:00"]
[null,{"$f":"IFERROR(IF(A1057=\"\",\"\",VLOOKUP(A1057,'Banco de Funcionários'!$A$2:$D$1048576,2,0)),\"\")","v":""},null,null,null,null,null,"00:00:00",null,"00:00:00","00:00:00"]
[null,{"$f":"IFERROR(IF(A1058=\"\",\"\",VLOOKUP(A1058,'Banco de Funcionários'!$A$2:$D$1048576,2,0)),\"\")","v":""},null,null,null,null,null,"00:00:00",null,"00:00:00","00:00:00"]
[null,{"$f":"IFERROR(IF(A1059=\"\",\"\",VLOOKUP(A1059,'Banco de Funcionários'!$A$2:$D$1048576,2,0)),\"\")","v":""},null,null,null,null,null,"00:00:00",null,"00:00:00","00:00:00"]
[null,{"$f":"IFERROR(IF(A1060=\"\",\"\",VLOOKUP(A1060,'Banco de Funcionários'!$A$2:$D$1048576,2,0)),\"\")","v":""},null,null,null,null,null,"00:00:00",null,"00:00:00","00:00:00"]
[null,{"$f":"IFERROR(IF(A1061=\"\",\"\",VLOOKUP(A1061,'Banco de Funcionários'!$A$2:$D$1048576,2,0)),\"\")","v":""},null,null,null,null,null,"00:00:00",null,"00:00:00","00:00:00"]
[null,{"$f":"IFERROR(IF(A1062=\"\",\"\",VLOOKUP(A1062,'Banco de Funcionários'!$A$2:$D$1048576,2,0)),\"\")","v":""},null,null,null,null,null,"00:00:00",null,"00:00:00","00:00:00"]
[null,{"$f":"IFERROR(IF(A1063=\"\",\"\",VLOOKUP(A1063,'Banco de Funcionários'!$A$2:$D$1048576,2,0)),\"\")","v":""},null,null,null,null,null,"00:00:00",null,"00:00:00","00:00:00"]
[null,{"$f":"IFERROR(IF(A1064=\"\",\"\",VLOOKUP(A1064,'Banco de Funcionários'!$A$2:$D$1048576,2,0)),\"\")","v":""},null,null,null,null,null,"00:00:00",null,"00:00:00","00:00:00"]
[null,{"$f":"IFERROR(IF(A1065=\"\",\"\",VLOOKUP(A1065,'Banco de Funcionários'!$A$2:$D$1048576,2,0)),\"\")","v":""},null,null,null,null,null,"00:00:00",null,"00:00:00","00:00:00"]
[null,{"$f":"IFERROR(IF(A1066=\"\",\"\",VLOOKUP(A1066,'Banco de Funcionários'!$A$2:$D$1048576,2,0)),\"\")","v":""},null,null,null,null,null,"00:00:00",null,"00:00:00","00:00:00"]
[null,{"$f":"IFERROR(IF(A1067=\"\",\"\",VLOOKUP(A1067,'Banco de Funcionários'!$A$2:$D$1048576,2,0)),\"\")","v":""},null,null,null,null,null,"00:00:00",null,"00:00:00","00:00:00"]
[null,{"$f":"IFERROR(IF(A1068=\"\",\"\",VLOOKUP(A1068,'Banco de Funcionários'!$A$2:$D$1048576,2,0)),\"\")","v":""},null,null,null,null,null,"00:00:00",null,"00:00:00","00:00:00"]
[null,{"$f":"IFERROR(IF(A1069=\"\",\"\",VLOOKUP(A1069,'Banco de Funcionários'!$A$2:$D$1048576,2,0)),\"\")","v":""},null,null,null,null,null,"00:00:00",null,"00:00:00","00:00:00"]
[null,{"$f":"IFERROR(IF(A1070=\"\",\"\",VLOOKUP(A1070,'Banco de Funcionários'!$A$2:$D$1048576,2,0)),\"\")","v":""},null,null,null,null,null,"00:00:00",null,"00:00:00","00:00:00"]
[null,{"$f":"IFERROR(IF(A1071=\"\",\"\",VLOOKUP(A1071,'Banco de Funcionários'!$A$2:$D$1048576,2,0)),\"\")","v":""},null,null,null,null,null,"00:00:00",null,"00:00:00","00:00:00"]
[null,{"$f":"IFERROR(IF(A1072=\"\",\"\",VLOOKUP(A1072,'Banco de Funcionários'!$A$2:$D$1048576,2,0)),\"\")","v":""},null,null,null,null,null,"00:00:00",null,"00:00:00","00:00:00"]
[null,{"$f":"IFERROR(IF(A1073=\"\",\"\",VLOOKUP(A1073,'Banco de Funcionários'!$A$2:$D$1048576,2,0)),\"\")","v":""},null,null,null,null,null,"00:00:00",null,"00:00:00","00:00:00"]
[null,{"$f":"IFERROR(IF(A1074=\"\",\"\",VLOOKUP(A1074,'Banco de Funcionários'!$A$2:$D$1048576,2,0)),\"\")","v":""},null,null,null,null,null,"00:00:00",null,"00:00:00","00:00:00"]
[null,{"$f":"IFERROR(IF(A1075=\"\",\"\",VLOOKUP(A1075,'Banco de Funcionários'!$A$2:$D$1048576,2,0)),\"\")","v":""},null,null,null,null,null,"00:00:00",null,"00:00:00","00:00:00"]
[null,{"$f":"IFERROR(IF(A1076=\"\",\"\",VLOOKUP(A1076,'Banco de Funcionários'!$A$2:$D$1048576,2,0)),\"\")","v":""},null,null,null,null,null,"00:00:00",null,"00:00:00","00:00:00"]
[null,{"$f":"IFERROR(IF(A1077=\"\",\"\",VLOOKUP(A1077,'Banco de Funcionários'!$A$2:$D$1048576,2,0)),\"\")","v":""},null,null,null,null,null,"00:00:00",null,"00:00:00","00:00:00"]
[null,{"$f":"IFERROR(IF(A1078=\"\",\"\",VLOOKUP(A1078,'Banco de Funcionários'!$A$2:$D$1048576,2,0)),\"\")","v":""},null,null,null,null,null,"00:00:00",null,"00:00:00","00:00:00"]
[null,{"$f":"IFERROR(IF(A1079=\"\",\"\",VLOOKUP(A1079,'Banco de Funcionários'!$A$2:$D$1048576,2,0)),\"\")","v":""},null,null,null,null,null,"00:00:00",null,"00:00:00","00:00:00"]
[null,{"$f":"IFERROR(IF(A1080=\"\",\"\",VLOOKUP(A1080,'Banco de Funcionários'!$A$2:$D$1048576,2,0)),\"\")","v":""},null,null,null,null,null,"00:00:00",null,"00:00:00","00:00:00"]
[null,{"$f":"IFERROR(IF(A1081=\"\",\"\",VLOOKUP(A1081,'Banco de Funcionários'!$A$2:$D$1048576,2,0)),\"\")","v":""},null,null,null,null,null,"00:00:00",null,"00:00:00","00:00:00"]
[null,{"$f":"IFERROR(IF(A1082=\"\",\"\",VLOOKUP(A1082,'Banco de Funcionários'!$A$2:$D$1048576,2,0)),\"\")","v":""},null,null,null,null,null,"00:00:00",null,"00:00:00","00:00:00"]
[null,{"$f":"IFERROR(IF(A1083=\"\",\"\",VLOOKUP(A1083,'Banco de Funcionários'!$A$2:$D$1048576,2,0)),\"\")","v":""},null,null,null,null,null,"00:00:00",null,"00:00:00","00:00:00"]
[null,{"$f":"IFERROR(IF(A1084=\"\",\"\",VLOOKUP(A1084,'Banco de Funcionários'!$A$2:$D$1048576,2,0)),\"\")","v":""},null,null,null,null,null,"00:00:00",null,"00:00:00","00:00:00"]
[null,{"$f":"IFERROR(IF(A1085=\"\",\"\",VLOOKUP(A1085,'Banco de Funcionários'!$A$2:$D$1048576,2,0)),\"\")","v":""},null,null,null,null,null,"00:00:00",null,"00:00:00","00:00:00"]
[null,{"$f":"IFERROR(IF(A1086=\"\",\"\",VLOOKUP(A1086,'Banco de Funcionários'!$A$2:$D$1048576,2,0)),\"\")","v":""},null,null,null,null,null,"00:00:00",null,"00:00:00","00:00:00"]
[null,{"$f":"IFERROR(IF(A1087=\"\",\"\",VLOOKUP(A1087,'Banco de Funcionários'!$A$2:$D$1048576,2,0)),\"\")","v":""},null,null,null,null,null,"00:00:00",null,"00:00:00","00:00:00"]
[null,{"$f":"IFERROR(IF(A1088=\"\",\"\",VLOOKUP(A1088,'Banco de Funcionários'!$A$2:$D$1048576,2,0)),\"\")","v":""},null,null,null,null,null,"00:00:00",null,"00:00:00","00:00:00"]
[null,{"$f":"IFERROR(IF(A1089=\"\",\"\",VLOOKUP(A1089,'Banco de Funcionários'!$A$2:$D$1048576,2,0)),\"\")","v":""},null,null,null,null,null,"00:00:00",null,"00:00:00","00:00:00"]
[null,{"$f":"IFERROR(IF(A1090=\"\",\"\",VLOOKUP(A1090,'Banco de Funcionários'!$A$2:$D$1048576,2,0)),\"\")","v":""},null,null,null,null,null,"00:00:00",null,"00:00:00","00:00:00"]
[null,{"$f":"IFERROR(IF(A1091=\"\",\"\",VLOOKUP(A1091,'Banco de Funcionários'!$A$2:$D$1048576,2,0)),\"\")","v":""},null,null,null,null,null,{"$f":"(F1091-E1091)-G1091","v":"00:00:00"},null,{"$f":"IFERROR(H1091-I1091,\"\")","v":"00:00:00"},{"$f":"IFERROR(H1091+J1091,0)","v":"00:00:00"}]
[null,{"$f":"IFERROR(IF(A1092=\"\",\"\",VLOOKUP(A1092,'Banco de Funcionários'!$A$2:$D$1048576,2,0)),\"\")","v":""},null,null,null,null,null,"00:00:00",null,"00:00:00","00:00:00"]
[null,{"$f":"IFERROR(IF(A1093=\"\",\"\",VLOOKUP(A1093,'Banco de Funcionários'!$A$2:$D$1048576,2,0)),\"\")","v":""},null,null,null,null,null,"00:00:00",null,"00:00:00","00:00:00"]
[null,{"$f":"IFERROR(IF(A1094=\"\",\"\",VLOOKUP(A1094,'Banco de Funcionários'!$A$2:$D$1048576,2,0)),\"\")","v":""},null,null,null,null,null,"00:00:00",null,"00:00:00","00:00:00"]
[null,{"$f":"IFERROR(IF(A1095=\"\",\"\",VLOOKUP(A1095,'Banco de Funcionários'!$A$2:$D$1048576,2,0)),\"\")","v":""},null,null,null,null,null,"00:00:00",null,"00:00:00","00:00:00"]
[null,{"$f":"IFERROR(IF(A1096=\"\",\"\",VLOOKUP(A1096,'Banco de Funcionários'!$A$2:$D$1048576,2,0)),\"\")","v":""},null,null,null,null,null,"00:00:00",null,"00:00:00","00:00:00"]
[null,{"$f":"IFERROR(IF(A1097=\"\",\"\",VLOOKUP(A1097,'Banco de Funcionários'!$A$2:$D$1048576,2,0)),\"\")","v":""},null,null,null,null,null,"00:00:00",null,"00:00:00","00:00:00"]
[null,{"$f":"IFERROR(IF(A1098=\"\",\"\",VLOOKUP(A1098,'Banco de Funcionários'!$A$2:$D$1048576,2,0)),\"\")","v":""},null,null,null,null,null,"00:00:00",null,"00:00:00","00:00:00"]
[null,{"$f":"IFERROR(IF(A1099=\"\",\"\",VLOOKUP(A1099,'Banco de Funcionários'!$A$2:$D$1048576,2,0)),\"\")","v":""},null,null,null,null,null,"00:00:00",null,"00:00:00","00:00:00"]
[null,{"$f":"IFERROR(IF(A1100=\"\",\"\",VLOOKUP(A1100,'Banco de Funcionários'!$A$2:$D$1048576,2,0)),\"\")","v":""},null,null,null,null,null,"00:00:00",null,"00:00:00","00:00:00"]
[null,{"$f":"IFERROR(IF(A1101=\"\",\"\",VLOOKUP(A1101,'Banco de Funcionários'!$A$2:$D$1048576,2,0)),\"\")","v":""},null,null,null,null,null,"00:00:00",null,"00:00:00","00:00:00"]
[null,{"$f":"IFERROR(IF(A1102=\"\",\"\",VLOOKUP(A1102,'Banco de Funcionários'!$A$2:$D$1048576,2,0)),\"\")","v":""},null,null,null,null,null,"00:00:00",null,"00:00:00","00:00:00"]
[null,{"$f":"IFERROR(IF(A1103=\"\",\"\",VLOOKUP(A1103,'Banco de Funcionários'!$A$2:$D$1048576,2,0)),\"\")","v":""},null,null,null,null,null,"00:00:00",null,"00:00:00","00:00:00"]
[null,{"$f":"IFERROR(IF(A1104=\"\",\"\",VLOOKUP(A1104,'Banco de Funcionários'!$A$2:$D$1048576,2,0)),\"\")","v":""},null,null,null,null,null,"00:00:00",null,"00:00:00","00:00:00"]
[null,{"$f":"IFERROR(IF(A1105=\"\",\"\",VLOOKUP(A1105,'Banco de Funcionários'!$A$2:$D$1048576,2,0)),\"\")","v":""},null,null,null,null,null,"00:00:00",null,"00:00:00","00:00:00"]
[null,{"$f":"IFERROR(IF(A1106=\"\",\"\",VLOOKUP(A1106,'Banco de Funcionários'!$A$2:$D$1048576,2,0)),\"\")","v":""},null,null,null,null,null,"00:00:00",null,"00:00:00","00:00:00"]
[null,{"$f":"IFERROR(IF(A1107=\"\",\"\",VLOOKUP(A1107,'Banco de Funcionários'!$A$2:$D$1048576,2,0)),\"\")","v":""},null,null,null,null,null,"00:00:00",null,"00:00:00","00:00:00"]
[null,{"$f":"IFERROR(IF(A1108=\"\",\"\",VLOOKUP(A1108,'Banco de Funcionários'!$A$2:$D$1048576,2,0)),\"\")","v":""},null,null,null,null,null,"00:00:00",null,"00:00:00","00:00:00"]
[null,{"$f":"IFERROR(IF(A1109=\"\",\"\",VLOOKUP(A1109,'Banco de Funcionários'!$A$2:$D$1048576,2,0)),\"\")","v":""},null,null,null,null,null,"00:00:00",null,"00:00:00","00:00:00"]
[null,{"$f":"IFERROR(IF(A1110=\"\",\"\",VLOOKUP(A1110,'Banco de Funcionários'!$A$2:$D$1048576,2,0)),\"\")","v":""},null,null,null,null,null,"00:00:00",null,"00:00:00","00:00:00"]
[null,{"$f":"IFERROR(IF(A1111=\"\",\"\",VLOOKUP(A1111,'Banco de Funcionários'!$A$2:$D$1048576,2,0)),\"\")","v":""},null,null,null,null,null,"00:00:00",null,"00:00:00","00:00:00"]
[null,{"$f":"IFERROR(IF(A1112=\"\",\"\",VLOOKUP(A1112,'Banco de Funcionários'!$A$2:$D$1048576,2,0)),\"\")","v":""},null,null,null,null,null,"00:00:00",null,"00:00:00","00:00:00"]
[null,{"$f":"IFERROR(IF(A1113=\"\",\"\",VLOOKUP(A1113,'Banco de Funcionários'!$A$2:$D$1048576,2,0)),\"\")","v":""},null,null,null,null,null,"00:00:00",null,"00:00:00","00:00:00"]
[null,{"$f":"IFERROR(IF(A1114=\"\",\"\",VLOOKUP(A1114,'Banco de Funcionários'!$A$2:$D$1048576,2,0)),\"\")","v":""},null,null,null,null,null,"00:00:00",null,"00:00:00","00:00:00"]
[null,{"$f":"IFERROR(IF(A1115=\"\",\"\",VLOOKUP(A1115,'Banco de Funcionários'!$A$2:$D$1048576,2,0)),\"\")","v":""},null,null,null,null,null,"00:00:00",null,"00:00:00","00:00:00"]
[null,{"$f":"IFERROR(IF(A1116=\"\",\"\",VLOOKUP(A1116,'Banco de Funcionários'!$A$2:$D$1048576,2,0)),\"\")","v":""},null,null,null,null,null,"00:00:00",null,"00:00:00","00:00:00"]
[null,{"$f":"IFERROR(IF(A1117=\"\",\"\",VLOOKUP(A1117,'Banco de Funcionários'!$A$2:$D$1048576,2,0)),\"\")","v":""},null,null,null,null,null,"00:00:00",null,"00:00:00","00:00:00"]
[null,{"$f":"IFERROR(IF(A1118=\"\",\"\",VLOOKUP(A1118,'Banco de Funcionários'!$A$2:$D$1048576,2,0)),\"\")","v":""},null,null,null,null,null,"00:00:00",null,"00:00:00","00:00:00"]
[null,{"$f":"IFERROR(IF(A1119=\"\",\"\",VLOOKUP(A1119,'Banco de Funcionários'!$A$2:$D$1048576,2,0)),\"\")","v":""},null,null,null,null,null,"00:00:00",null,"00:00:00","00:00:00"]
[null,{"$f":"IFERROR(IF(A1120=\"\",\"\",VLOOKUP(A1120,'Banco de Funcionários'!$A$2:$D$1048576,2,0)),\"\")","v":""},null,null,null,null,null,"00:00:00",null,"00:00:00","00:00:00"]
[null,{"$f":"IFERROR(IF(A1121=\"\",\"\",VLOOKUP(A1121,'Banco de Funcionários'!$A$2:$D$1048576,2,0)),\"\")","v":""},null,null,null,null,null,"00:00:00",null,"00:00:00","00:00:00"]
[null,{"$f":"IFERROR(IF(A1122=\"\",\"\",VLOOKUP(A1122,'Banco de Funcionários'!$A$2:$D$1048576,2,0)),\"\")","v":""},null,null,null,null,null,"00:00:00",null,"00:00:00","00:00:00"]
[null,{"$f":"IFERROR(IF(A1123=\"\",\"\",VLOOKUP(A1123,'Banco de Funcionários'!$A$2:$D$1048576,2,0)),\"\")","v":""},null,null,null,null,null,"00:00:00",null,"00:00:00","00:00:00"]
[null,{"$f":"IFERROR(IF(A1124=\"\",\"\",VLOOKUP(A1124,'Banco de Funcionários'!$A$2:$D$1048576,2,0)),\"\")","v":""},null,null,null,null,null,"00:00:00",null,"00:00:00","00:00:00"]
[null,{"$f":"IFERROR(IF(A1125=\"\",\"\",VLOOKUP(A1125,'Banco de Funcionários'!$A$2:$D$1048576,2,0)),\"\")","v":""},null,null,null,null,null,"00:00:00",null,"00:00:00","00:00:00"]
[null,{"$f":"IFERROR(IF(A1126=\"\",\"\",VLOOKUP(A1126,'Banco de Funcionários'!$A$2:$D$1048576,2,0)),\"\")","v":""},null,null,null,null,null,"00:00:00",null,"00:00:00","00:00:00"]
[null,{"$f":"IFERROR(IF(A1127=\"\",\"\",VLOOKUP(A1127,'Banco de Funcionários'!$A$2:$D$1048576,2,0)),\"\")","v":""},null,null,null,null,null,"00:00:00",null,"00:00:00","00:00:00"]
[null,{"$f":"IFERROR(IF(A1128=\"\",\"\",VLOOKUP(A1128,'Banco de Funcionários'!$A$2:$D$1048576,2,0)),\"\")","v":""},null,null,null,null,null,"00:00:00",null,"00:00:00","00:00:00"]
[null,{"$f":"IFERROR(IF(A1129=\"\",\"\",VLOOKUP(A1129,'Banco de Funcionários'!$A$2:$D$1048576,2,0)),\"\")","v":""},null,null,null,null,null,"00:00:00",null,"00:00:00","00:00:00"]
[null,{"$f":"IFERROR(IF(A1130=\"\",\"\",VLOOKUP(A1130,'Banco de Funcionários'!$A$2:$D$1048576,2,0)),\"\")","v":""},null,null,null,null,null,"00:00:00",null,"00:00:00","00:00:00"]
[null,{"$f":"IFERROR(IF(A1131=\"\",\"\",VLOOKUP(A1131,'Banco de Funcionários'!$A$2:$D$1048576,2,0)),\"\")","v":""},null,null,null,null,null,"00:00:00",null,"00:00:00","00:00:00"]
[null,{"$f":"IFERROR(IF(A1132=\"\",\"\",VLOOKUP(A1132,'Banco de Funcionários'!$A$2:$D$1048576,2,0)),\"\")","v":""},null,null,null,null,null,"00:00:00",null,"00:00:00","00:00:00"]
[null,{"$f":"IFERROR(IF(A1133=\"\",\"\",VLOOKUP(A1133,'Banco de Funcionários'!$A$2:$D$1048576,2,0)),\"\")","v":""},null,null,null,null,null,"00:00:00",null,"00:00:00","00:00:00"]
[null,{"$f":"IFERROR(IF(A1134=\"\",\"\",VLOOKUP(A1134,'Banco de Funcionários'!$A$2:$D$1048576,2,0)),\"\")","v":""},null,null,null,null,null,"00:00:00",null,"00:00:00","00:00:00"]
[null,{"$f":"IFERROR(IF(A1135=\"\",\"\",VLOOKUP(A1135,'Banco de Funcionários'!$A$2:$D$1048576,2,0)),\"\")","v":""},null,null,null,null,null,"00:00:00",null,"00:00:00","00:00:00"]
[null,{"$f":"IFERROR(IF(A1136=\"\",\"\",VLOOKUP(A1136,'Banco de Funcionários'!$A$2:$D$1048576,2,0)),\"\")","v":""},null,null,null,null,null,"00:00:00",null,"00:00:00","00:00:00"]
[null,{"$f":"IFERROR(IF(A1137=\"\",\"\",VLOOKUP(A1137,'Banco de Funcionários'!$A$2:$D$1048576,2,0)),\"\")","v":""},null,null,null,null,null,"00:00:00",null,"00:00:00","00:00:00"]
[null,{"$f":"IFERROR(IF(A1138=\"\",\"\",VLOOKUP(A1138,'Banco de Funcionários'!$A$2:$D$1048576,2,0)),\"\")","v":""},null,null,null,null,null,"00:00:00",null,"00:00:00","00:00:00"]
[null,{"$f":"IFERROR(IF(A1139=\"\",\"\",VLOOKUP(A1139,'Banco de Funcionários'!$A$2:$D$1048576,2,0)),\"\")","v":""},null,null,null,null,null,"00:00:00",null,"00:00:00","00:00:00"]
[null,{"$f":"IFERROR(IF(A1140=\"\",\"\",VLOOKUP(A1140,'Banco de Funcionários'!$A$2:$D$1048576,2,0)),\"\")","v":""},null,null,null,null,null,"00:00:00",null,"00:00:00","00:00:00"]
[null,{"$f":"IFERROR(IF(A1141=\"\",\"\",VLOOKUP(A1141,'Banco de Funcionários'!$A$2:$D$1048576,2,0)),\"\")","v":""},null,null,null,null,null,"00:00:00",null,"00:00:00","00:00:00"]
[null,{"$f":"IFERROR(IF(A1142=\"\",\"\",VLOOKUP(A1142,'Banco de Funcionários'!$A$2:$D$1048576,2,0)),\"\")","v":""},null,null,null,null,null,"00:00:00",null,"00:00:00","00:00:00"]
[null,{"$f":"IFERROR(IF(A1143=\"\",\"\",VLOOKUP(A1143,'Banco de Funcionários'!$A$2:$D$1048576,2,0)),\"\")","v":""},null,null,null,null,null,"00:00:00",null,"00:00:00","00:00:00"]
[null,{"$f":"IFERROR(IF(A1144=\"\",\"\",VLOOKUP(A1144,'Banco de Funcionários'!$A$2:$D$1048576,2,0)),\"\")","v":""},null,null,null,null,null,"00:00:00",null,"00:00:00","00:00:00"]
[null,{"$f":"IFERROR(IF(A1145=\"\",\"\",VLOOKUP(A1145,'Banco de Funcionários'!$A$2:$D$1048576,2,0)),\"\")","v":""},null,null,null,null,null,"00:00:00",null,"00:00:00","00:00:00"]
[null,{"$f":"IFERROR(IF(A1146=\"\",\"\",VLOOKUP(A1146,'Banco de Funcionários'!$A$2:$D$1048576,2,0)),\"\")","v":""},null,null,null,null,null,"00:00:00",null,"00:00:00","00:00:00"]
[null,{"$f":"IFERROR(IF(A1147=\"\",\"\",VLOOKUP(A1147,'Banco de Funcionários'!$A$2:$D$1048576,2,0)),\"\")","v":""},null,null,null,null,null,"00:00:00",null,"00:00:00","00:00:00"]
[null,{"$f":"IFERROR(IF(A1148=\"\",\"\",VLOOKUP(A1148,'Banco de Funcionários'!$A$2:$D$1048576,2,0)),\"\")","v":""},null,null,null,null,null,"00:00:00",null,"00:00:00","00:00:00"]
[null,{"$f":"IFERROR(IF(A1149=\"\",\"\",VLOOKUP(A1149,'Banco de Funcionários'!$A$2:$D$1048576,2,0)),\"\")","v":""},null,null,null,null,null,"00:00:00",null,"00:00:00","00:00:00"]
[null,{"$f":"IFERROR(IF(A1150=\"\",\"\",VLOOKUP(A1150,'Banco de Funcionários'!$A$2:$D$1048576,2,0)),\"\")","v":""},null,null,null,null,null,"00:00:00",null,"00:00:00","00:00:00"]
[null,{"$f":"IFERROR(IF(A1151=\"\",\"\",VLOOKUP(A1151,'Banco de Funcionários'!$A$2:$D$1048576,2,0)),\"\")","v":""},null,null,null,null,null,"00:00:00",null,"00:00:00","00:00:00"]
[null,{"$f":"IFERROR(IF(A1152=\"\",\"\",VLOOKUP(A1152,'Banco de Funcionários'!$A$2:$D$1048576,2,0)),\"\")","v":""},null,null,null,null,null,"00:00:00",null,"00:00:00","00:00:00"]
[null,{"$f":"IFERROR(IF(A1153=\"\",\"\",VLOOKUP(A1153,'Banco de Funcionários'!$A$2:$D$1048576,2,0)),\"\")","v":""},null,null,null,null,null,"00:00:00",null,"00:00:00","00:00:00"]
[null,{"$f":"IFERROR(IF(A1154=\"\",\"\",VLOOKUP(A1154,'Banco de Funcionários'!$A$2:$D$1048576,2,0)),\"\")","v":""},null,null,null,null,null,"00:00:00",null,"00:00:00","00:00:00"]
[null,{"$f":"IFERROR(IF(A1155=\"\",\"\",VLOOKUP(A1155,'Banco de Funcionários'!$A$2:$D$1048576,2,0)),\"\")","v":""},null,null,null,null,null,{"$f":"(F1155-E1155)-G1155","v":"00:00:00"},null,{"$f":"IFERROR(H1155-I1155,\"\")","v":"00:00:00"},{"$f":"IFERROR(H1155+J1155,0)","v":"00:00:00"}]
[null,{"$f":"IFERROR(IF(A1156=\"\",\"\",VLOOKUP(A1156,'Banco de Funcionários'!$A$2:$D$1048576,2,0)),\"\")","v":""},null,null,null,null,null,"00:00:00",null,"00:00:00","00:00:00"]
[null,{"$f":"IFERROR(IF(A1157=\"\",\"\",VLOOKUP(A1157,'Banco de Funcionários'!$A$2:$D$1048576,2,0)),\"\")","v":""},null,null,null,null,null,"00:00:00",null,"00:00:00","00:00:00"]
[null,{"$f":"IFERROR(IF(A1158=\"\",\"\",VLOOKUP(A1158,'Banco de Funcionários'!$A$2:$D$1048576,2,0)),\"\")","v":""},null,null,null,null,null,"00:00:00",null,"00:00:00","00:00:00"]
[null,{"$f":"IFERROR(IF(A1159=\"\",\"\",VLOOKUP(A1159,'Banco de Funcionários'!$A$2:$D$1048576,2,0)),\"\")","v":""},null,null,null,null,null,"00:00:00",null,"00:00:00","00:00:00"]
[null,{"$f":"IFERROR(IF(A1160=\"\",\"\",VLOOKUP(A1160,'Banco de Funcionários'!$A$2:$D$1048576,2,0)),\"\")","v":""},null,null,null,null,null,"00:00:00",null,"00:00:00","00:00:00"]
[null,{"$f":"IFERROR(IF(A1161=\"\",\"\",VLOOKUP(A1161,'Banco de Funcionários'!$A$2:$D$1048576,2,0)),\"\")","v":""},null,null,null,null,null,"00:00:00",null,"00:00:00","00:00:00"]
[null,{"$f":"IFERROR(IF(A1162=\"\",\"\",VLOOKUP(A1162,'Banco de Funcionários'!$A$2:$D$1048576,2,0)),\"\")","v":""},null,null,null,null,null,"00:00:00",null,"00:00:00","00:00:00"]
[null,{"$f":"IFERROR(IF(A1163=\"\",\"\",VLOOKUP(A1163,'Banco de Funcionários'!$A$2:$D$1048576,2,0)),\"\")","v":""},null,null,null,null,null,"00:00:00",null,"00:00:00","00:00:00"]
[null,{"$f":"IFERROR(IF(A1164=\"\",\"\",VLOOKUP(A1164,'Banco de Funcionários'!$A$2:$D$1048576,2,0)),\"\")","v":""},null,null,null,null,null,"00:00:00",null,"00:00:00","00:00:00"]
[null,{"$f":"IFERROR(IF(A1165=\"\",\"\",VLOOKUP(A1165,'Banco de Funcionários'!$A$2:$D$1048576,2,0)),\"\")","v":""},null,null,null,null,null,"00:00:00",null,"00:00:00","00:00:00"]
[null,{"$f":"IFERROR(IF(A1166=\"\",\"\",VLOOKUP(A1166,'Banco de Funcionários'!$A$2:$D$1048576,2,0)),\"\")","v":""},null,null,null,null,null,"00:00:00",null,"00:00:00","00:00:00"]
[null,{"$f":"IFERROR(IF(A1167=\"\",\"\",VLOOKUP(A1167,'Banco de Funcionários'!$A$2:$D$1048576,2,0)),\"\")","v":""},null,null,null,null,null,"00:00:00",null,"00:00:00","00:00:00"]
[null,{"$f":"IFERROR(IF(A1168=\"\",\"\",VLOOKUP(A1168,'Banco de Funcionários'!$A$2:$D$1048576,2,0)),\"\")","v":""},null,null,null,null,null,"00:00:00",null,"00:00:00","00:00:00"]
[null,{"$f":"IFERROR(IF(A1169=\"\",\"\",VLOOKUP(A1169,'Banco de Funcionários'!$A$2:$D$1048576,2,0)),\"\")","v":""},null,null,null,null,null,"00:00:00",null,"00:00:00","00:00:00"]
[null,{"$f":"IFERROR(IF(A1170=\"\",\"\",VLOOKUP(A1170,'Banco de Funcionários'!$A$2:$D$1048576,2,0)),\"\")","v":""},null,null,null,null,null,"00:00:00",null,"00:00:00","00:00:00"]
[null,{"$f":"IFERROR(IF(A1171=\"\",\"\",VLOOKUP(A1171,'Banco de Funcionários'!$A$2:$D$1048576,2,0)),\"\")","v":""},null,null,null,null,null,"00:00:00",null,"00:00:00","00:00:00"]
[null,{"$f":"IFERROR(IF(A1172=\"\",\"\",VLOOKUP(A1172,'Banco de Funcionários'!$A$2:$D$1048576,2,0)),\"\")","v":""},null,null,null,null,null,"00:00:00",null,"00:00:00","00:00:00"]
[null,{"$f":"IFERROR(IF(A1173=\"\",\"\",VLOOKUP(A1173,'Banco de Funcionários'!$A$2:$D$1048576,2,0)),\"\")","v":""},null,null,null,null,null,"00:00:00",null,"00:00:00","00:00:00"]
[null,{"$f":"IFERROR(IF(A1174=\"\",\"\",VLOOKUP(A1174,'Banco de Funcionários'!$A$2:$D$1048576,2,0)),\"\")","v":""},null,null,null,null,null,"00:00:00",null,"00:00:00","00:00:00"]
[null,{"$f":"IFERROR(IF(A1175=\"\",\"\",VLOOKUP(A1175,'Banco de Funcionários'!$A$2:$D$1048576,2,0)),\"\")","v":""},null,null,null,null,null,"00:00:00",null,"00:00:00","00:00:00"]
[null,{"$f":"IFERROR(IF(A1176=\"\",\"\",VLOOKUP(A1176,'Banco de Funcionários'!$A$2:$D$1048576,2,0)),\"\")","v":""},null,null,null,null,null,"00:00:00",null,"00:00:00","00:00:00"]
[null,{"$f":"IFERROR(IF(A1177=\"\",\"\",VLOOKUP(A1177,'Banco de Funcionários'!$A$2:$D$1048576,2,0)),\"\")","v":""},null,null,null,null,null,"00:00:00",null,"00:00:00","00:00:00"]
[null,{"$f":"IFERROR(IF(A1178=\"\",\"\",VLOOKUP(A1178,'Banco de Funcionários'!$A$2:$D$1048576,2,0)),\"\")","v":""},null,null,null,null,null,"00:00:00",null,"00:00:00","00:00:00"]
[null,{"$f":"IFERROR(IF(A1179=\"\",\"\",VLOOKUP(A1179,'Banco de Funcionários'!$A$2:$D$1048576,2,0)),\"\")","v":""},null,null,null,null,null,"00:00:00",null,"00:00:00","00:00:00"]
[null,{"$f":"IFERROR(IF(A1180=\"\",\"\",VLOOKUP(A1180,'Banco de Funcionários'!$A$2:$D$1048576,2,0)),\"\")","v":""},null,null,null,null,null,"00:00:00",null,"00:00:00","00:00:00"]
[null,{"$f":"IFERROR(IF(A1181=\"\",\"\",VLOOKUP(A1181,'Banco de Funcionários'!$A$2:$D$1048576,2,0)),\"\")","v":""},null,null,null,null,null,"00:00:00",null,"00:00:00","00:00:00"]
[null,{"$f":"IFERROR(IF(A1182=\"\",\"\",VLOOKUP(A1182,'Banco de Funcionários'!$A$2:$D$1048576,2,0)),\"\")","v":""},null,null,null,null,null,"00:00:00",null,"00:00:00","00:00:00"]
[null,{"$f":"IFERROR(IF(A1183=\"\",\"\",VLOOKUP(A1183,'Banco de Funcionários'!$A$2:$D$1048576,2,0)),\"\")","v":""},null,null,null,null,null,"00:00:00",null,"00:00:00","00:00:00"]
[null,{"$f":"IFERROR(IF(A1184=\"\",\"\",VLOOKUP(A1184,'Banco de Funcionários'!$A$2:$D$1048576,2,0)),\"\")","v":""},null,null,null,null,null,"00:00:00",null,"00:00:00","00:00:00"]
[null,{"$f":"IFERROR(IF(A1185=\"\",\"\",VLOOKUP(A1185,'Banco de Funcionários'!$A$2:$D$1048576,2,0)),\"\")","v":""},null,null,null,null,null,"00:00:00",null,"00:00:00","00:00:00"]
[null,{"$f":"IFERROR(IF(A1186=\"\",\"\",VLOOKUP(A1186,'Banco de Funcionários'!$A$2:$D$1048576,2,0)),\"\")","v":""},null,null,null,null,null,"00:00:00",null,"00:00:00","00:00:00"]
[null,{"$f":"IFERROR(IF(A1187=\"\",\"\",VLOOKUP(A1187,'Banco de Funcionários'!$A$2:$D$1048576,2,0)),\"\")","v":""},null,null,null,null,null,"00:00:00",null,"00:00:00","00:00:00"]
[null,{"$f":"IFERROR(IF(A1188=\"\",\"\",VLOOKUP(A1188,'Banco de Funcionários'!$A$2:$D$1048576,2,0)),\"\")","v":""},null,null,null,null,null,"00:00:00",null,"00:00:00","00:00:00"]
[null,{"$f":"IFERROR(IF(A1189=\"\",\"\",VLOOKUP(A1189,'Banco de Funcionários'!$A$2:$D$1048576,2,0)),\"\")","v":""},null,null,null,null,null,"00:00:00",null,"00:00:00","00:00:00"]
[null,{"$f":"IFERROR(IF(A1190=\"\",\"\",VLOOKUP(A1190,'Banco de Funcionários'!$A$2:$D$1048576,2,0)),\"\")","v":""},null,null,null,null,null,"00:00:00",null,"00:00:00","00:00:00"]
[null,{"$f":"IFERROR(IF(A1191=\"\",\"\",VLOOKUP(A1191,'Banco de Funcionários'!$A$2:$D$1048576,2,0)),\"\")","v":""},null,null,null,null,null,"00:00:00",null,"00:00:00","00:00:00"]
[null,{"$f":"IFERROR(IF(A1192=\"\",\"\",VLOOKUP(A1192,'Banco de Funcionários'!$A$2:$D$1048576,2,0)),\"\")","v":""},null,null,null,null,null,"00:00:00",null,"00:00:00","00:00:00"]
[null,{"$f":"IFERROR(IF(A1193=\"\",\"\",VLOOKUP(A1193,'Banco de Funcionários'!$A$2:$D$1048576,2,0)),\"\")","v":""},null,null,null,null,null,"00:00:00",null,"00:00:00","00:00:00"]
[null,{"$f":"IFERROR(IF(A1194=\"\",\"\",VLOOKUP(A1194,'Banco de Funcionários'!$A$2:$D$1048576,2,0)),\"\")","v":""},null,null,null,null,null,"00:00:00",null,"00:00:00","00:00:00"]
[null,{"$f":"IFERROR(IF(A1195=\"\",\"\",VLOOKUP(A1195,'Banco de Funcionários'!$A$2:$D$1048576,2,0)),\"\")","v":""},null,null,null,null,null,"00:00:00",null,"00:00:00","00:00:00"]
[null,{"$f":"IFERROR(IF(A1196=\"\",\"\",VLOOKUP(A1196,'Banco de Funcionários'!$A$2:$D$1048576,2,0)),\"\")","v":""},null,null,null,null,null,"00:00:00",null,"00:00:00","00:00:00"]
[null,{"$f":"IFERROR(IF(A1197=\"\",\"\",VLOOKUP(A1197,'Banco de Funcionários'!$A$2:$D$1048576,2,0)),\"\")","v":""},null,null,null,null,null,"00:00:00",null,"00:00:00","00:00:00"]
[null,{"$f":"IFERROR(IF(A1198=\"\",\"\",VLOOKUP(A1198,'Banco de Funcionários'!$A$2:$D$1048576,2,0)),\"\")","v":""},null,null,null,null,null,"00:00:00",null,"00:00:00","00:00:00"]
[null,{"$f":"IFERROR(IF(A1199=\"\",\"\",VLOOKUP(A1199,'Banco de Funcionários'!$A$2:$D$1048576,2,0)),\"\")","v":""},null,null,null,null,null,"00:00:00",null,"00:00:00","00:00:00"]
[null,{"$f":"IFERROR(IF(A1200=\"\",\"\",VLOOKUP(A1200,'Banco de Funcionários'!$A$2:$D$1048576,2,0)),\"\")","v":""},null,null,null,null,null,"00:00:00",null,"00:00:00","00:00:00"]
[null,{"$f":"IFERROR(IF(A1201=\"\",\"\",VLOOKUP(A1201,'Banco de Funcionários'!$A$2:$D$1048576,2,0)),\"\")","v":""},null,null,null,null,null,"00:00:00",null,"00:00:00","00:00:00"]
[null,{"$f":"IFERROR(IF(A1202=\"\",\"\",VLOOKUP(A1202,'Banco de Funcionários'!$A$2:$D$1048576,2,0)),\"\")","v":""},null,null,null,null,null,"00:00:00",null,"00:00:00","00:00:00"]
[null,{"$f":"IFERROR(IF(A1203=\"\",\"\",VLOOKUP(A1203,'Banco de Funcionários'!$A$2:$D$1048576,2,0)),\"\")","v":""},null,null,null,null,null,"00:00:00",null,"00:00:00","00:00:00"]
[null,{"$f":"IFERROR(IF(A1204=\"\",\"\",VLOOKUP(A1204,'Banco de Funcionários'!$A$2:$D$1048576,2,0)),\"\")","v":""},null,null,null,null,null,"00:00:00",null,"00:00:00","00:00:00"]
[null,{"$f":"IFERROR(IF(A1205=\"\",\"\",VLOOKUP(A1205,'Banco de Funcionários'!$A$2:$D$1048576,2,0)),\"\")","v":""},null,null,null,null,null,"00:00:00",null,"00:00:00","00:00:00"]
[null,{"$f":"IFERROR(IF(A1206=\"\",\"\",VLOOKUP(A1206,'Banco de Funcionários'!$A$2:$D$1048576,2,0)),\"\")","v":""},null,null,null,null,null,"00:00:00",null,"00:00:00","00:00:00"]
[null,{"$f":"IFERROR(IF(A1207=\"\",\"\",VLOOKUP(A1207,'Banco de Funcionários'!$A$2:$D$1048576,2,0)),\"\")","v":""},null,null,null,null,null,"00:00:00",null,"00:00:00","00:00:00"]
[null,{"$f":"IFERROR(IF(A1208=\"\",\"\",VLOOKUP(A1208,'Banco de Funcionários'!$A$2:$D$1048576,2,0)),\"\")","v":""},null,null,null,null,null,"00:00:00",null,"00:00:00","00:00:00"]
[null,{"$f":"IFERROR(IF(A1209=\"\",\"\",VLOOKUP(A1209,'Banco de Funcionários'!$A$2:$D$1048576,2,0)),\"\")","v":""},null,null,null,null,null,"00:00:00",null,"00:00:00","00:00:00"]
[null,{"$f":"IFERROR(IF(A1210=\"\",\"\",VLOOKUP(A1210,'Banco de Funcionários'!$A$2:$D$1048576,2,0)),\"\")","v":""},null,null,null,null,null,"00:00:00",null,"00:00:00","00:00:00"]
[null,{"$f":"IFERROR(IF(A1211=\"\",\"\",VLOOKUP(A1211,'Banco de Funcionários'!$A$2:$D$1048576,2,0)),\"\")","v":""},null,null,null,null,null,"00:00:00",null,"00:00:00","00:00:00"]
[null,{"$f":"IFERROR(IF(A1212=\"\",\"\",VLOOKUP(A1212,'Banco de Funcionários'!$A$2:$D$1048576,2,0)),\"\")","v":""},null,null,null,null,null,"00:00:00",null,"00:00:00","00:00:00"]
[null,{"$f":"IFERROR(IF(A1213=\"\",\"\",VLOOKUP(A1213,'Banco de Funcionários'!$A$2:$D$1048576,2,0)),\"\")","v":""},null,null,null,null,null,"00:00:00",null,"00:00:00","00:00:00"]
[null,{"$f":"IFERROR(IF(A1214=\"\",\"\",VLOOKUP(A1214,'Banco de Funcionários'!$A$2:$D$1048576,2,0)),\"\")","v":""},null,null,null,null,null,"00:00:00",null,"00:00:00","00:00:00"]
[null,{"$f":"IFERROR(IF(A1215=\"\",\"\",VLOOKUP(A1215,'Banco de Funcionários'!$A$2:$D$1048576,2,0)),\"\")","v":""},null,null,null,null,null,"00:00:00",null,"00:00:00","00:00:00"]
[null,{"$f":"IFERROR(IF(A1216=\"\",\"\",VLOOKUP(A1216,'Banco de Funcionários'!$A$2:$D$1048576,2,0)),\"\")","v":""},null,null,null,null,null,"00:00:00",null,"00:00:00","00:00:00"]
[null,{"$f":"IFERROR(IF(A1217=\"\",\"\",VLOOKUP(A1217,'Banco de Funcionários'!$A$2:$D$1048576,2,0)),\"\")","v":""},null,null,null,null,null,"00:00:00",null,"00:00:00","00:00:00"]
[null,{"$f":"IFERROR(IF(A1218=\"\",\"\",VLOOKUP(A1218,'Banco de Funcionários'!$A$2:$D$1048576,2,0)),\"\")","v":""},null,null,null,null,null,"00:00:00",null,"00:00:00","00:00:00"]
[null,{"$f":"IFERROR(IF(A1219=\"\",\"\",VLOOKUP(A1219,'Banco de Funcionários'!$A$2:$D$1048576,2,0)),\"\")","v":""},null,null,null,null,null,{"$f":"(F1219-E1219)-G1219","v":"00:00:00"},null,{"$f":"IFERROR(H1219-I1219,\"\")","v":"00:00:00"},{"$f":"IFERROR(H1219+J1219,0)","v":"00:00:00"}]
[null,{"$f":"IFERROR(IF(A1220=\"\",\"\",VLOOKUP(A1220,'Banco de Funcionários'!$A$2:$D$1048576,2,0)),\"\")","v":""},null,null,null,null,null,"00:00:00",null,"00:00:00","00:00:00"]
[null,{"$f":"IFERROR(IF(A1221=\"\",\"\",VLOOKUP(A1221,'Banco de Funcionários'!$A$2:$D$1048576,2,0)),\"\")","v":""},null,null,null,null,null,"00:00:00",null,"00:00:00","00:00:00"]
[null,{"$f":"IFERROR(IF(A1222=\"\",\"\",VLOOKUP(A1222,'Banco de Funcionários'!$A$2:$D$1048576,2,0)),\"\")","v":""},null,null,null,null,null,"00:00:00",null,"00:00:00","00:00:00"]
[null,{"$f":"IFERROR(IF(A1223=\"\",\"\",VLOOKUP(A1223,'Banco de Funcionários'!$A$2:$D$1048576,2,0)),\"\")","v":""},null,null,null,null,null,"00:00:00",null,"00:00:00","00:00:00"]
[null,{"$f":"IFERROR(IF(A1224=\"\",\"\",VLOOKUP(A1224,'Banco de Funcionários'!$A$2:$D$1048576,2,0)),\"\")","v":""},null,null,null,null,null,"00:00:00",null,"00:00:00","00:00:00"]
[null,{"$f":"IFERROR(IF(A1225=\"\",\"\",VLOOKUP(A1225,'Banco de Funcionários'!$A$2:$D$1048576,2,0)),\"\")","v":""},null,null,null,null,null,"00:00:00",null,"00:00:00","00:00:00"]
[null,{"$f":"IFERROR(IF(A1226=\"\",\"\",VLOOKUP(A1226,'Banco de Funcionários'!$A$2:$D$1048576,2,0)),\"\")","v":""},null,null,null,null,null,"00:00:00",null,"00:00:00","00:00:00"]
[null,{"$f":"IFERROR(IF(A1227=\"\",\"\",VLOOKUP(A1227,'Banco de Funcionários'!$A$2:$D$1048576,2,0)),\"\")","v":""},null,null,null,null,null,"00:00:00",null,"00:00:00","00:00:00"]
[null,{"$f":"IFERROR(IF(A1228=\"\",\"\",VLOOKUP(A1228,'Banco de Funcionários'!$A$2:$D$1048576,2,0)),\"\")","v":""},null,null,null,null,null,"00:00:00",null,"00:00:00","00:00:00"]
[null,{"$f":"IFERROR(IF(A1229=\"\",\"\",VLOOKUP(A1229,'Banco de Funcionários'!$A$2:$D$1048576,2,0)),\"\")","v":""},null,null,null,null,null,"00:00:00",null,"00:00:00","00:00:00"]
[null,{"$f":"IFERROR(IF(A1230=\"\",\"\",VLOOKUP(A1230,'Banco de Funcionários'!$A$2:$D$1048576,2,0)),\"\")","v":""},null,null,null,null,null,"00:00:00",null,"00:00:00","00:00:00"]
[null,{"$f":"IFERROR(IF(A1231=\"\",\"\",VLOOKUP(A1231,'Banco de Funcionários'!$A$2:$D$1048576,2,0)),\"\")","v":""},null,null,null,null,null,"00:00:00",null,"00:00:00","00:00:00"]
[null,{"$f":"IFERROR(IF(A1232=\"\",\"\",VLOOKUP(A1232,'Banco de Funcionários'!$A$2:$D$1048576,2,0)),\"\")","v":""},null,null,null,null,null,"00:00:00",null,"00:00:00","00:00:00"]
[null,{"$f":"IFERROR(IF(A1233=\"\",\"\",VLOOKUP(A1233,'Banco de Funcionários'!$A$2:$D$1048576,2,0)),\"\")","v":""},null,null,null,null,null,"00:00:00",null,"00:00:00","00:00:00"]
[null,{"$f":"IFERROR(IF(A1234=\"\",\"\",VLOOKUP(A1234,'Banco de Funcionários'!$A$2:$D$1048576,2,0)),\"\")","v":""},null,null,null,null,null,"00:00:00",null,"00:00:00","00:00:00"]
[null,{"$f":"IFERROR(IF(A1235=\"\",\"\",VLOOKUP(A1235,'Banco de Funcionários'!$A$2:$D$1048576,2,0)),\"\")","v":""},null,null,null,null,null,"00:00:00",null,"00:00:00","00:00:00"]
[null,{"$f":"IFERROR(IF(A1236=\"\",\"\",VLOOKUP(A1236,'Banco de Funcionários'!$A$2:$D$1048576,2,0)),\"\")","v":""},null,null,null,null,null,"00:00:00",null,"00:00:00","00:00:00"]
[null,{"$f":"IFERROR(IF(A1237=\"\",\"\",VLOOKUP(A1237,'Banco de Funcionários'!$A$2:$D$1048576,2,0)),\"\")","v":""},null,null,null,null,null,"00:00:00",null,"00:00:00","00:00:00"]
[null,{"$f":"IFERROR(IF(A1238=\"\",\"\",VLOOKUP(A1238,'Banco de Funcionários'!$A$2:$D$1048576,2,0)),\"\")","v":""},null,null,null,null,null,"00:00:00",null,"00:00:00","00:00:00"]
[null,{"$f":"IFERROR(IF(A1239=\"\",\"\",VLOOKUP(A1239,'Banco de Funcionários'!$A$2:$D$1048576,2,0)),\"\")","v":""},null,null,null,null,null,"00:00:00",null,"00:00:00","00:00:00"]
[null,{"$f":"IFERROR(IF(A1240=\"\",\"\",VLOOKUP(A1240,'Banco de Funcionários'!$A$2:$D$1048576,2,0)),\"\")","v":""},null,null,null,null,null,"00:00:00",null,"00:00:00","00:00:00"]
[null,{"$f":"IFERROR(IF(A1241=\"\",\"\",VLOOKUP(A1241,'Banco de Funcionários'!$A$2:$D$1048576,2,0)),\"\")","v":""},null,null,null,null,null,"00:00:00",null,"00:00:00","00:00:00"]
[null,{"$f":"IFERROR(IF(A1242=\"\",\"\",VLOOKUP(A1242,'Banco de Funcionários'!$A$2:$D$1048576,2,0)),\"\")","v":""},null,null,null,null,null,"00:00:00",null,"00:00:00","00:00:00"]
[null,{"$f":"IFERROR(IF(A1243=\"\",\"\",VLOOKUP(A1243,'Banco de Funcionários'!$A$2:$D$1048576,2,0)),\"\")","v":""},null,null,null,null,null,"00:00:00",null,"00:00:00","00:00:00"]
[null,{"$f":"IFERROR(IF(A1244=\"\",\"\",VLOOKUP(A1244,'Banco de Funcionários'!$A$2:$D$1048576,2,0)),\"\")","v":""},null,null,null,null,null,"00:00:00",null,"00:00:00","00:00:00"]
[null,{"$f":"IFERROR(IF(A1245=\"\",\"\",VLOOKUP(A1245,'Banco de Funcionários'!$A$2:$D$1048576,2,0)),\"\")","v":""},null,null,null,null,null,"00:00:00",null,"00:00:00","00:00:00"]
[null,{"$f":"IFERROR(IF(A1246=\"\",\"\",VLOOKUP(A1246,'Banco de Funcionários'!$A$2:$D$1048576,2,0)),\"\")","v":""},null,null,null,null,null,"00:00:00",null,"00:00:00","00:00:00"]
[null,{"$f":"IFERROR(IF(A1247=\"\",\"\",VLOOKUP(A1247,'Banco de Funcionários'!$A$2:$D$1048576,2,0)),\"\")","v":""},null,null,null,null,null,"00:00:00",null,"00:00:00","00:00:00"]
[null,{"$f":"IFERROR(IF(A1248=\"\",\"\",VLOOKUP(A1248,'Banco de Funcionários'!$A$2:$D$1048576,2,0)),\"\")","v":""},null,null,null,null,null,"00:00:00",null,"00:00:00","00:00:00"]
[null,{"$f":"IFERROR(IF(A1249=\"\",\"\",VLOOKUP(A1249,'Banco de Funcionários'!$A$2:$D$1048576,2,0)),\"\")","v":""},null,null,null,null,null,"00:00:00",null,"00:00:00","00:00:00"]
[null,{"$f":"IFERROR(IF(A1250=\"\",\"\",VLOOKUP(A1250,'Banco de Funcionários'!$A$2:$D$1048576,2,0)),\"\")","v":""},null,null,null,null,null,"00:00:00",null,"00:00:00","00:00:00"]
[null,{"$f":"IFERROR(IF(A1251=\"\",\"\",VLOOKUP(A1251,'Banco de Funcionários'!$A$2:$D$1048576,2,0)),\"\")","v":""},null,null,null,null,null,"00:00:00",null,"00:00:00","00:00:00"]
[null,{"$f":"IFERROR(IF(A1252=\"\",\"\",VLOOKUP(A1252,'Banco de Funcionários'!$A$2:$D$1048576,2,0)),\"\")","v":""},null,null,null,null,null,"00:00:00",null,"00:00:00","00:00:00"]
[null,{"$f":"IFERROR(IF(A1253=\"\",\"\",VLOOKUP(A1253,'Banco de Funcionários'!$A$2:$D$1048576,2,0)),\"\")","v":""},null,null,null,null,null,"00:00:00",null,"00:00:00","00:00:00"]
[null,{"$f":"IFERROR(IF(A1254=\"\",\"\",VLOOKUP(A1254,'Banco de Funcionários'!$A$2:$D$1048576,2,0)),\"\")","v":""},null,null,null,null,null,"00:00:00",null,"00:00:00","00:00:00"]
[null,{"$f":"IFERROR(IF(A1255=\"\",\"\",VLOOKUP(A1255,'Banco de Funcionários'!$A$2:$D$1048576,2,0)),\"\")","v":""},null,null,null,null,null,"00:00:00",null,"00:00:00","00:00:00"]
[null,{"$f":"IFERROR(IF(A1256=\"\",\"\",VLOOKUP(A1256,'Banco de Funcionários'!$A$2:$D$1048576,2,0)),\"\")","v":""},null,null,null,null,null,"00:00:00",null,"00:00:00","00:00:00"]
[null,{"$f":"IFERROR(IF(A1257=\"\",\"\",VLOOKUP(A1257,'Banco de Funcionários'!$A$2:$D$1048576,2,0)),\"\")","v":""},null,null,null,null,null,"00:00:00",null,"00:00:00","00:00:00"]
[null,{"$f":"IFERROR(IF(A1258=\"\",\"\",VLOOKUP(A1258,'Banco de Funcionários'!$A$2:$D$1048576,2,0)),\"\")","v":""},null,null,null,null,null,"00:00:00",null,"00:00:00","00:00:00"]
[null,{"$f":"IFERROR(IF(A1259=\"\",\"\",VLOOKUP(A1259,'Banco de Funcionários'!$A$2:$D$1048576,2,0)),\"\")","v":""},null,null,null,null,null,"00:00:00",null,"00:00:00","00:00:00"]
[null,{"$f":"IFERROR(IF(A1260=\"\",\"\",VLOOKUP(A1260,'Banco de Funcionários'!$A$2:$D$1048576,2,0)),\"\")","v":""},null,null,null,null,null,"00:00:00",null,"00:00:00","00:00:00"]
[null,{"$f":"IFERROR(IF(A1261=\"\",\"\",VLOOKUP(A1261,'Banco de Funcionários'!$A$2:$D$1048576,2,0)),\"\")","v":""},null,null,null,null,null,"00:00:00",null,"00:00:00","00:00:00"]
[null,{"$f":"IFERROR(IF(A1262=\"\",\"\",VLOOKUP(A1262,'Banco de Funcionários'!$A$2:$D$1048576,2,0)),\"\")","v":""},null,null,null,null,null,"00:00:00",null,"00:00:00","00:00:00"]
[null,{"$f":"IFERROR(IF(A1263=\"\",\"\",VLOOKUP(A1263,'Banco de Funcionários'!$A$2:$D$1048576,2,0)),\"\")","v":""},null,null,null,null,null,"00:00:00",null,"00:00:00","00:00:00"]
[null,{"$f":"IFERROR(IF(A1264=\"\",\"\",VLOOKUP(A1264,'Banco de Funcionários'!$A$2:$D$1048576,2,0)),\"\")","v":""},null,null,null,null,null,"00:00:00",null,"00:00:00","00:00:00"]
[null,{"$f":"IFERROR(IF(A1265=\"\",\"\",VLOOKUP(A1265,'Banco de Funcionários'!$A$2:$D$1048576,2,0)),\"\")","v":""},null,null,null,null,null,"00:00:00",null,"00:00:00","00:00:00"]
[null,{"$f":"IFERROR(IF(A1266=\"\",\"\",VLOOKUP(A1266,'Banco de Funcionários'!$A$2:$D$1048576,2,0)),\"\")","v":""},null,null,null,null,null,"00:00:00",null,"00:00:00","00:00:00"]
[null,{"$f":"IFERROR(IF(A1267=\"\",\"\",VLOOKUP(A1267,'Banco de Funcionários'!$A$2:$D$1048576,2,0)),\"\")","v":""},null,null,null,null,null,"00:00:00",null,"00:00:00","00:00:00"]
[null,{"$f":"IFERROR(IF(A1268=\"\",\"\",VLOOKUP(A1268,'Banco de Funcionários'!$A$2:$D$1048576,2,0)),\"\")","v":""},null,null,null,null,null,"00:00:00",null,"00:00:00","00:00:00"]
[null,{"$f":"IFERROR(IF(A1269=\"\",\"\",VLOOKUP(A1269,'Banco de Funcionários'!$A$2:$D$1048576,2,0)),\"\")","v":""},null,null,null,null,null,"00:00:00",null,"00:00:00","00:00:00"]
[null,{"$f":"IFERROR(IF(A1270=\"\",\"\",VLOOKUP(A1270,'Banco de Funcionários'!$A$2:$D$1048576,2,0)),\"\")","v":""},null,null,null,null,null,"00:00:00",null,"00:00:00","00:00:00"]
[null,{"$f":"IFERROR(IF(A1271=\"\",\"\",VLOOKUP(A1271,'Banco de Funcionários'!$A$2:$D$1048576,2,0)),\"\")","v":""},null,null,null,null,null,"00:00:00",null,"00:00:00","00:00:00"]
[null,{"$f":"IFERROR(IF(A1272=\"\",\"\",VLOOKUP(A1272,'Banco de Funcionários'!$A$2:$D$1048576,2,0)),\"\")","v":""},null,null,null,null,null,"00:00:00",null,"00:00:00","00:00:00"]
[null,{"$f":"IFERROR(IF(A1273=\"\",\"\",VLOOKUP(A1273,'Banco de Funcionários'!$A$2:$D$1048576,2,0)),\"\")","v":""},null,null,null,null,null,"00:00:00",null,"00:00:00","00:00:00"]
[null,{"$f":"IFERROR(IF(A1274=\"\",\"\",VLOOKUP(A1274,'Banco de Funcionários'!$A$2:$D$1048576,2,0)),\"\")","v":""},null,null,null,null,null,"00:00:00",null,"00:00:00","00:00:00"]
[null,{"$f":"IFERROR(IF(A1275=\"\",\"\",VLOOKUP(A1275,'Banco de Funcionários'!$A$2:$D$1048576,2,0)),\"\")","v":""},null,null,null,null,null,"00:00:00",null,"00:00:00","00:00:00"]
[null,{"$f":"IFERROR(IF(A1276=\"\",\"\",VLOOKUP(A1276,'Banco de Funcionários'!$A$2:$D$1048576,2,0)),\"\")","v":""},null,null,null,null,null,"00:00:00",null,"00:00:00","00:00:00"]
[null,{"$f":"IFERROR(IF(A1277=\"\",\"\",VLOOKUP(A1277,'Banco de Funcionários'!$A$2:$D$1048576,2,0)),\"\")","v":""},null,null,null,null,null,"00:00:00",null,"00:00:00","00:00:00"]
[null,{"$f":"IFERROR(IF(A1278=\"\",\"\",VLOOKUP(A1278,'Banco de Funcionários'!$A$2:$D$1048576,2,0)),\"\")","v":""},null,null,null,null,null,"00:00:00",null,"00:00:00","00:00:00"]
[null,{"$f":"IFERROR(IF(A1279=\"\",\"\",VLOOKUP(A1279,'Banco de Funcionários'!$A$2:$D$1048576,2,0)),\"\")","v":""},null,null,null,null,null,"00:00:00",null,"00:00:00","00:00:00"]
[null,{"$f":"IFERROR(IF(A1280=\"\",\"\",VLOOKUP(A1280,'Banco de Funcionários'!$A$2:$D$1048576,2,0)),\"\")","v":""},null,null,null,null,null,"00:00:00",null,"00:00:00","00:00:00"]
[null,{"$f":"IFERROR(IF(A1281=\"\",\"\",VLOOKUP(A1281,'Banco de Funcionários'!$A$2:$D$1048576,2,0)),\"\")","v":""},null,null,null,null,null,"00:00:00",null,"00:00:00","00:00:00"]
[null,{"$f":"IFERROR(IF(A1282=\"\",\"\",VLOOKUP(A1282,'Banco de Funcionários'!$A$2:$D$1048576,2,0)),\"\")","v":""},null,null,null,null,null,"00:00:00",null,"00:00:00","00:00:00"]
[null,{"$f":"IFERROR(IF(A1283=\"\",\"\",VLOOKUP(A1283,'Banco de Funcionários'!$A$2:$D$1048576,2,0)),\"\")","v":""},null,null,null,null,null,{"$f":"(F1283-E1283)-G1283","v":"00:00:00"},null,{"$f":"IFERROR(H1283-I1283,\"\")","v":"00:00:00"},{"$f":"IFERROR(H1283+J1283,0)","v":"00:00:00"}]
[null,{"$f":"IFERROR(IF(A1284=\"\",\"\",VLOOKUP(A1284,'Banco de Funcionários'!$A$2:$D$1048576,2,0)),\"\")","v":""},null,null,null,null,null,"00:00:00",null,"00:00:00","00:00:00"]
[null,{"$f":"IFERROR(IF(A1285=\"\",\"\",VLOOKUP(A1285,'Banco de Funcionários'!$A$2:$D$1048576,2,0)),\"\")","v":""},null,null,null,null,null,"00:00:00",null,"00:00:00","00:00:00"]
[null,{"$f":"IFERROR(IF(A1286=\"\",\"\",VLOOKUP(A1286,'Banco de Funcionários'!$A$2:$D$1048576,2,0)),\"\")","v":""},null,null,null,null,null,"00:00:00",null,"00:00:00","00:00:00"]
[null,{"$f":"IFERROR(IF(A1287=\"\",\"\",VLOOKUP(A1287,'Banco de Funcionários'!$A$2:$D$1048576,2,0)),\"\")","v":""},null,null,null,null,null,"00:00:00",null,"00:00:00","00:00:00"]
[null,{"$f":"IFERROR(IF(A1288=\"\",\"\",VLOOKUP(A1288,'Banco de Funcionários'!$A$2:$D$1048576,2,0)),\"\")","v":""},null,null,null,null,null,"00:00:00",null,"00:00:00","00:00:00"]
[null,{"$f":"IFERROR(IF(A1289=\"\",\"\",VLOOKUP(A1289,'Banco de Funcionários'!$A$2:$D$1048576,2,0)),\"\")","v":""},null,null,null,null,null,"00:00:00",null,"00:00:00","00:00:00"]
[null,{"$f":"IFERROR(IF(A1290=\"\",\"\",VLOOKUP(A1290,'Banco de Funcionários'!$A$2:$D$1048576,2,0)),\"\")","v":""},null,null,null,null,null,"00:00:00",null,"00:00:00","00:00:00"]
[null,{"$f":"IFERROR(IF(A1291=\"\",\"\",VLOOKUP(A1291,'Banco de Funcionários'!$A$2:$D$1048576,2,0)),\"\")","v":""},null,null,null,null,null,"00:00:00",null,"00:00:00","00:00:00"]
[null,{"$f":"IFERROR(IF(A1292=\"\",\"\",VLOOKUP(A1292,'Banco de Funcionários'!$A$2:$D$1048576,2,0)),\"\")","v":""},null,null,null,null,null,"00:00:00",null,"00:00:00","00:00:00"]
[null,{"$f":"IFERROR(IF(A1293=\"\",\"\",VLOOKUP(A1293,'Banco de Funcionários'!$A$2:$D$1048576,2,0)),\"\")","v":""},null,null,null,null,null,"00:00:00",null,"00:00:00","00:00:00"]
[null,{"$f":"IFERROR(IF(A1294=\"\",\"\",VLOOKUP(A1294,'Banco de Funcionários'!$A$2:$D$1048576,2,0)),\"\")","v":""},null,null,null,null,null,"00:00:00",null,"00:00:00","00:00:00"]
[null,{"$f":"IFERROR(IF(A1295=\"\",\"\",VLOOKUP(A1295,'Banco de Funcionários'!$A$2:$D$1048576,2,0)),\"\")","v":""},null,null,null,null,null,"00:00:00",null,"00:00:00","00:00:00"]
[null,{"$f":"IFERROR(IF(A1296=\"\",\"\",VLOOKUP(A1296,'Banco de Funcionários'!$A$2:$D$1048576,2,0)),\"\")","v":""},null,null,null,null,null,"00:00:00",null,"00:00:00","00:00:00"]
[null,{"$f":"IFERROR(IF(A1297=\"\",\"\",VLOOKUP(A1297,'Banco de Funcionários'!$A$2:$D$1048576,2,0)),\"\")","v":""},null,null,null,null,null,"00:00:00",null,"00:00:00","00:00:00"]
[null,{"$f":"IFERROR(IF(A1298=\"\",\"\",VLOOKUP(A1298,'Banco de Funcionários'!$A$2:$D$1048576,2,0)),\"\")","v":""},null,null,null,null,null,"00:00:00",null,"00:00:00","00:00:00"]
[null,{"$f":"IFERROR(IF(A1299=\"\",\"\",VLOOKUP(A1299,'Banco de Funcionários'!$A$2:$D$1048576,2,0)),\"\")","v":""},null,null,null,null,null,"00:00:00",null,"00:00:00","00:00:00"]
[null,{"$f":"IFERROR(IF(A1300=\"\",\"\",VLOOKUP(A1300,'Banco de Funcionários'!$A$2:$D$1048576,2,0)),\"\")","v":""},null,null,null,null,null,"00:00:00",null,"00:00:00","00:00:00"]
[null,{"$f":"IFERROR(IF(A1301=\"\",\"\",VLOOKUP(A1301,'Banco de Funcionários'!$A$2:$D$1048576,2,0)),\"\")","v":""},null,null,null,null,null,"00:00:00",null,"00:00:00","00:00:00"]
[null,{"$f":"IFERROR(IF(A1302=\"\",\"\",VLOOKUP(A1302,'Banco de Funcionários'!$A$2:$D$1048576,2,0)),\"\")","v":""},null,null,null,null,null,"00:00:00",null,"00:00:00","00:00:00"]
[null,{"$f":"IFERROR(IF(A1303=\"\",\"\",VLOOKUP(A1303,'Banco de Funcionários'!$A$2:$D$1048576,2,0)),\"\")","v":""},null,null,null,null,null,"00:00:00",null,"00:00:00","00:00:00"]
[null,{"$f":"IFERROR(IF(A1304=\"\",\"\",VLOOKUP(A1304,'Banco de Funcionários'!$A$2:$D$1048576,2,0)),\"\")","v":""},null,null,null,null,null,"00:00:00",null,"00:00:00","00:00:00"]
[null,{"$f":"IFERROR(IF(A1305=\"\",\"\",VLOOKUP(A1305,'Banco de Funcionários'!$A$2:$D$1048576,2,0)),\"\")","v":""},null,null,null,null,null,"00:00:00",null,"00:00:00","00:00:00"]
[null,{"$f":"IFERROR(IF(A1306=\"\",\"\",VLOOKUP(A1306,'Banco de Funcionários'!$A$2:$D$1048576,2,0)),\"\")","v":""},null,null,null,null,null,"00:00:00",null,"00:00:00","00:00:00"]
[null,{"$f":"IFERROR(IF(A1307=\"\",\"\",VLOOKUP(A1307,'Banco de Funcionários'!$A$2:$D$1048576,2,0)),\"\")","v":""},null,null,null,null,null,"00:00:00",null,"00:00:00","00:00:00"]
[null,{"$f":"IFERROR(IF(A1308=\"\",\"\",VLOOKUP(A1308,'Banco de Funcionários'!$A$2:$D$1048576,2,0)),\"\")","v":""},null,null,null,null,null,"00:00:00",null,"00:00:00","00:00:00"]
[null,{"$f":"IFERROR(IF(A1309=\"\",\"\",VLOOKUP(A1309,'Banco de Funcionários'!$A$2:$D$1048576,2,0)),\"\")","v":""},null,null,null,null,null,"00:00:00",null,"00:00:00","00:00:00"]
[null,{"$f":"IFERROR(IF(A1310=\"\",\"\",VLOOKUP(A1310,'Banco de Funcionários'!$A$2:$D$1048576,2,0)),\"\")","v":""},null,null,null,null,null,"00:00:00",null,"00:00:00","00:00:00"]
[null,{"$f":"IFERROR(IF(A1311=\"\",\"\",VLOOKUP(A1311,'Banco de Funcionários'!$A$2:$D$1048576,2,0)),\"\")","v":""},null,null,null,null,null,"00:00:00",null,"00:00:00","00:00:00"]
[null,{"$f":"IFERROR(IF(A1312=\"\",\"\",VLOOKUP(A1312,'Banco de Funcionários'!$A$2:$D$1048576,2,0)),\"\")","v":""},null,null,null,null,null,"00:00:00",null,"00:00:00","00:00:00"]
[null,{"$f":"IFERROR(IF(A1313=\"\",\"\",VLOOKUP(A1313,'Banco de Funcionários'!$A$2:$D$1048576,2,0)),\"\")","v":""},null,null,null,null,null,"00:00:00",null,"00:00:00","00:00:00"]
[null,{"$f":"IFERROR(IF(A1314=\"\",\"\",VLOOKUP(A1314,'Banco de Funcionários'!$A$2:$D$1048576,2,0)),\"\")","v":""},null,null,null,null,null,"00:00:00",null,"00:00:00","00:00:00"]
[null,{"$f":"IFERROR(IF(A1315=\"\",\"\",VLOOKUP(A1315,'Banco de Funcionários'!$A$2:$D$1048576,2,0)),\"\")","v":""},null,null,null,null,null,"00:00:00",null,"00:00:00","00:00:00"]
[null,{"$f":"IFERROR(IF(A1316=\"\",\"\",VLOOKUP(A1316,'Banco de Funcionários'!$A$2:$D$1048576,2,0)),\"\")","v":""},null,null,null,null,null,"00:00:00",null,"00:00:00","00:00:00"]
[null,{"$f":"IFERROR(IF(A1317=\"\",\"\",VLOOKUP(A1317,'Banco de Funcionários'!$A$2:$D$1048576,2,0)),\"\")","v":""},null,null,null,null,null,"00:00:00",null,"00:00:00","00:00:00"]
[null,{"$f":"IFERROR(IF(A1318=\"\",\"\",VLOOKUP(A1318,'Banco de Funcionários'!$A$2:$D$1048576,2,0)),\"\")","v":""},null,null,null,null,null,"00:00:00",null,"00:00:00","00:00:00"]
[null,{"$f":"IFERROR(IF(A1319=\"\",\"\",VLOOKUP(A1319,'Banco de Funcionários'!$A$2:$D$1048576,2,0)),\"\")","v":""},null,null,null,null,null,"00:00:00",null,"00:00:00","00:00:00"]
[null,{"$f":"IFERROR(IF(A1320=\"\",\"\",VLOOKUP(A1320,'Banco de Funcionários'!$A$2:$D$1048576,2,0)),\"\")","v":""},null,null,null,null,null,"00:00:00",null,"00:00:00","00:00:00"]
[null,{"$f":"IFERROR(IF(A1321=\"\",\"\",VLOOKUP(A1321,'Banco de Funcionários'!$A$2:$D$1048576,2,0)),\"\")","v":""},null,null,null,null,null,"00:00:00",null,"00:00:00","00:00:00"]
[null,{"$f":"IFERROR(IF(A1322=\"\",\"\",VLOOKUP(A1322,'Banco de Funcionários'!$A$2:$D$1048576,2,0)),\"\")","v":""},null,null,null,null,null,"00:00:00",null,"00:00:00","00:00:00"]
[null,{"$f":"IFERROR(IF(A1323=\"\",\"\",VLOOKUP(A1323,'Banco de Funcionários'!$A$2:$D$1048576,2,0)),\"\")","v":""},null,null,null,null,null,"00:00:00",null,"00:00:00","00:00:00"]
[null,{"$f":"IFERROR(IF(A1324=\"\",\"\",VLOOKUP(A1324,'Banco de Funcionários'!$A$2:$D$1048576,2,0)),\"\")","v":""},null,null,null,null,null,"00:00:00",null,"00:00:00","00:00:00"]
[null,{"$f":"IFERROR(IF(A1325=\"\",\"\",VLOOKUP(A1325,'Banco de Funcionários'!$A$2:$D$1048576,2,0)),\"\")","v":""},null,null,null,null,null,"00:00:00",null,"00:00:00","00:00:00"]
[null,{"$f":"IFERROR(IF(A1326=\"\",\"\",VLOOKUP(A1326,'Banco de Funcionários'!$A$2:$D$1048576,2,0)),\"\")","v":""},null,null,null,null,null,"00:00:00",null,"00:00:00","00:00:00"]
[null,{"$f":"IFERROR(IF(A1327=\"\",\"\",VLOOKUP(A1327,'Banco de Funcionários'!$A$2:$D$1048576,2,0)),\"\")","v":""},null,null,null,null,null,"00:00:00",null,"00:00:00","00:00:00"]
[null,{"$f":"IFERROR(IF(A1328=\"\",\"\",VLOOKUP(A1328,'Banco de Funcionários'!$A$2:$D$1048576,2,0)),\"\")","v":""},null,null,null,null,null,"00:00:00",null,"00:00:00","00:00:00"]
[null,{"$f":"IFERROR(IF(A1329=\"\",\"\",VLOOKUP(A1329,'Banco de Funcionários'!$A$2:$D$1048576,2,0)),\"\")","v":""},null,null,null,null,null,"00:00:00",null,"00:00:00","00:00:00"]
[null,{"$f":"IFERROR(IF(A1330=\"\",\"\",VLOOKUP(A1330,'Banco de Funcionários'!$A$2:$D$1048576,2,0)),\"\")","v":""},null,null,null,null,null,"00:00:00",null,"00:00:00","00:00:00"]
[null,{"$f":"IFERROR(IF(A1331=\"\",\"\",VLOOKUP(A1331,'Banco de Funcionários'!$A$2:$D$1048576,2,0)),\"\")","v":""},null,null,null,null,null,"00:00:00",null,"00:00:00","00:00:00"]
[null,{"$f":"IFERROR(IF(A1332=\"\",\"\",VLOOKUP(A1332,'Banco de Funcionários'!$A$2:$D$1048576,2,0)),\"\")","v":""},null,null,null,null,null,"00:00:00",null,"00:00:00","00:00:00"]
[null,{"$f":"IFERROR(IF(A1333=\"\",\"\",VLOOKUP(A1333,'Banco de Funcionários'!$A$2:$D$1048576,2,0)),\"\")","v":""},null,null,null,null,null,"00:00:00",null,"00:00:00","00:00:00"]
[null,{"$f":"IFERROR(IF(A1334=\"\",\"\",VLOOKUP(A1334,'Banco de Funcionários'!$A$2:$D$1048576,2,0)),\"\")","v":""},null,null,null,null,null,"00:00:00",null,"00:00:00","00:00:00"]
[null,{"$f":"IFERROR(IF(A1335=\"\",\"\",VLOOKUP(A1335,'Banco de Funcionários'!$A$2:$D$1048576,2,0)),\"\")","v":""},null,null,null,null,null,"00:00:00",null,"00:00:00","00:00:00"]
[null,{"$f":"IFERROR(IF(A1336=\"\",\"\",VLOOKUP(A1336,'Banco de Funcionários'!$A$2:$D$1048576,2,0)),\"\")","v":""},null,null,null,null,null,"00:00:00",null,"00:00:00","00:00:00"]
[null,{"$f":"IFERROR(IF(A1337=\"\",\"\",VLOOKUP(A1337,'Banco de Funcionários'!$A$2:$D$1048576,2,0)),\"\")","v":""},null,null,null,null,null,"00:00:00",null,"00:00:00","00:00:00"]
[null,{"$f":"IFERROR(IF(A1338=\"\",\"\",VLOOKUP(A1338,'Banco de Funcionários'!$A$2:$D$1048576,2,0)),\"\")","v":""},null,null,null,null,null,"00:00:00",null,"00:00:00","00:00:00"]
[null,{"$f":"IFERROR(IF(A1339=\"\",\"\",VLOOKUP(A1339,'Banco de Funcionários'!$A$2:$D$1048576,2,0)),\"\")","v":""},null,null,null,null,null,"00:00:00",null,"00:00:00","00:00:00"]
[null,{"$f":"IFERROR(IF(A1340=\"\",\"\",VLOOKUP(A1340,'Banco de Funcionários'!$A$2:$D$1048576,2,0)),\"\")","v":""},null,null,null,null,null,"00:00:00",null,"00:00:00","00:00:00"]
[null,{"$f":"IFERROR(IF(A1341=\"\",\"\",VLOOKUP(A1341,'Banco de Funcionários'!$A$2:$D$1048576,2,0)),\"\")","v":""},null,null,null,null,null,"00:00:00",null,"00:00:00","00:00:00"]
[null,{"$f":"IFERROR(IF(A1342=\"\",\"\",VLOOKUP(A1342,'Banco de Funcionários'!$A$2:$D$1048576,2,0)),\"\")","v":""},null,null,null,null,null,"00:00:00",null,"00:00:00","00:00:00"]
[null,{"$f":"IFERROR(IF(A1343=\"\",\"\",VLOOKUP(A1343,'Banco de Funcionários'!$A$2:$D$1048576,2,0)),\"\")","v":""},null,null,null,null,null,"00:00:00",null,"00:00:00","00:00:00"]
[null,{"$f":"IFERROR(IF(A1344=\"\",\"\",VLOOKUP(A1344,'Banco de Funcionários'!$A$2:$D$1048576,2,0)),\"\")","v":""},null,null,null,null,null,"00:00:00",null,"00:00:00","00:00:00"]
[null,{"$f":"IFERROR(IF(A1345=\"\",\"\",VLOOKUP(A1345,'Banco de Funcionários'!$A$2:$D$1048576,2,0)),\"\")","v":""},null,null,null,null,null,"00:00:00",null,"00:00:00","00:00:00"]
[null,{"$f":"IFERROR(IF(A1346=\"\",\"\",VLOOKUP(A1346,'Banco de Funcionários'!$A$2:$D$1048576,2,0)),\"\")","v":""},null,null,null,null,null,"00:00:00",null,"00:00:00","00:00:00"]
[null,{"$f":"IFERROR(IF(A1347=\"\",\"\",VLOOKUP(A1347,'Banco de Funcionários'!$A$2:$D$1048576,2,0)),\"\")","v":""},null,null,null,null,null,{"$f":"(F1347-E1347)-G1347","v":"00:00:00"},null,{"$f":"IFERROR(H1347-I1347,\"\")","v":"00:00:00"},{"$f":"IFERROR(H1347+J1347,0)","v":"00:00:00"}]
[null,{"$f":"IFERROR(IF(A1348=\"\",\"\",VLOOKUP(A1348,'Banco de Funcionários'!$A$2:$D$1048576,2,0)),\"\")","v":""},null,null,null,null,null,"00:00:00",null,"00:00:00","00:00:00"]
[null,{"$f":"IFERROR(IF(A1349=\"\",\"\",VLOOKUP(A1349,'Banco de Funcionários'!$A$2:$D$1048576,2,0)),\"\")","v":""},null,null,null,null,null,"00:00:00",null,"00:00:00","00:00:00"]
[null,{"$f":"IFERROR(IF(A1350=\"\",\"\",VLOOKUP(A1350,'Banco de Funcionários'!$A$2:$D$1048576,2,0)),\"\")","v":""},null,null,null,null,null,"00:00:00",null,"00:00:00","00:00:00"]
[null,{"$f":"IFERROR(IF(A1351=\"\",\"\",VLOOKUP(A1351,'Banco de Funcionários'!$A$2:$D$1048576,2,0)),\"\")","v":""},null,null,null,null,null,"00:00:00",null,"00:00:00","00:00:00"]
[null,{"$f":"IFERROR(IF(A1352=\"\",\"\",VLOOKUP(A1352,'Banco de Funcionários'!$A$2:$D$1048576,2,0)),\"\")","v":""},null,null,null,null,null,"00:00:00",null,"00:00:00","00:00:00"]
[null,{"$f":"IFERROR(IF(A1353=\"\",\"\",VLOOKUP(A1353,'Banco de Funcionários'!$A$2:$D$1048576,2,0)),\"\")","v":""},null,null,null,null,null,"00:00:00",null,"00:00:00","00:00:00"]
[null,{"$f":"IFERROR(IF(A1354=\"\",\"\",VLOOKUP(A1354,'Banco de Funcionários'!$A$2:$D$1048576,2,0)),\"\")","v":""},null,null,null,null,null,"00:00:00",null,"00:00:00","00:00:00"]
[null,{"$f":"IFERROR(IF(A1355=\"\",\"\",VLOOKUP(A1355,'Banco de Funcionários'!$A$2:$D$1048576,2,0)),\"\")","v":""},null,null,null,null,null,"00:00:00",null,"00:00:00","00:00:00"]
[null,{"$f":"IFERROR(IF(A1356=\"\",\"\",VLOOKUP(A1356,'Banco de Funcionários'!$A$2:$D$1048576,2,0)),\"\")","v":""},null,null,null,null,null,"00:00:00",null,"00:00:00","00:00:00"]
[null,{"$f":"IFERROR(IF(A1357=\"\",\"\",VLOOKUP(A1357,'Banco de Funcionários'!$A$2:$D$1048576,2,0)),\"\")","v":""},null,null,null,null,null,"00:00:00",null,"00:00:00","00:00:00"]
[null,{"$f":"IFERROR(IF(A1358=\"\",\"\",VLOOKUP(A1358,'Banco de Funcionários'!$A$2:$D$1048576,2,0)),\"\")","v":""},null,null,null,null,null,"00:00:00",null,"00:00:00","00:00:00"]
[null,{"$f":"IFERROR(IF(A1359=\"\",\"\",VLOOKUP(A1359,'Banco de Funcionários'!$A$2:$D$1048576,2,0)),\"\")","v":""},null,null,null,null,null,"00:00:00",null,"00:00:00","00:00:00"]
[null,{"$f":"IFERROR(IF(A1360=\"\",\"\",VLOOKUP(A1360,'Banco de Funcionários'!$A$2:$D$1048576,2,0)),\"\")","v":""},null,null,null,null,null,"00:00:00",null,"00:00:00","00:00:00"]
[null,{"$f":"IFERROR(IF(A1361=\"\",\"\",VLOOKUP(A1361,'Banco de Funcionários'!$A$2:$D$1048576,2,0)),\"\")","v":""},null,null,null,null,null,"00:00:00",null,"00:00:00","00:00:00"]
[null,{"$f":"IFERROR(IF(A1362=\"\",\"\",VLOOKUP(A1362,'Banco de Funcionários'!$A$2:$D$1048576,2,0)),\"\")","v":""},null,null,null,null,null,"00:00:00",null,"00:00:00","00:00:00"]
[null,{"$f":"IFERROR(IF(A1363=\"\",\"\",VLOOKUP(A1363,'Banco de Funcionários'!$A$2:$D$1048576,2,0)),\"\")","v":""},null,null,null,null,null,"00:00:00",null,"00:00:00","00:00:00"]
[null,{"$f":"IFERROR(IF(A1364=\"\",\"\",VLOOKUP(A1364,'Banco de Funcionários'!$A$2:$D$1048576,2,0)),\"\")","v":""},null,null,null,null,null,"00:00:00",null,"00:00:00","00:00:00"]
[null,{"$f":"IFERROR(IF(A1365=\"\",\"\",VLOOKUP(A1365,'Banco de Funcionários'!$A$2:$D$1048576,2,0)),\"\")","v":""},null,null,null,null,null,"00:00:00",null,"00:00:00","00:00:00"]
[null,{"$f":"IFERROR(IF(A1366=\"\",\"\",VLOOKUP(A1366,'Banco de Funcionários'!$A$2:$D$1048576,2,0)),\"\")","v":""},null,null,null,null,null,"00:00:00",null,"00:00:00","00:00:00"]
[null,{"$f":"IFERROR(IF(A1367=\"\",\"\",VLOOKUP(A1367,'Banco de Funcionários'!$A$2:$D$1048576,2,0)),\"\")","v":""},null,null,null,null,null,"00:00:00",null,"00:00:00","00:00:00"]
[null,{"$f":"IFERROR(IF(A1368=\"\",\"\",VLOOKUP(A1368,'Banco de Funcionários'!$A$2:$D$1048576,2,0)),\"\")","v":""},null,null,null,null,null,"00:00:00",null,"00:00:00","00:00:00"]
[null,{"$f":"IFERROR(IF(A1369=\"\",\"\",VLOOKUP(A1369,'Banco de Funcionários'!$A$2:$D$1048576,2,0)),\"\")","v":""},null,null,null,null,null,"00:00:00",null,"00:00:00","00:00:00"]
[null,{"$f":"IFERROR(IF(A1370=\"\",\"\",VLOOKUP(A1370,'Banco de Funcionários'!$A$2:$D$1048576,2,0)),\"\")","v":""},null,null,null,null,null,"00:00:00",null,"00:00:00","00:00:00"]
[null,{"$f":"IFERROR(IF(A1371=\"\",\"\",VLOOKUP(A1371,'Banco de Funcionários'!$A$2:$D$1048576,2,0)),\"\")","v":""},null,null,null,null,null,"00:00:00",null,"00:00:00","00:00:00"]
[null,{"$f":"IFERROR(IF(A1372=\"\",\"\",VLOOKUP(A1372,'Banco de Funcionários'!$A$2:$D$1048576,2,0)),\"\")","v":""},null,null,null,null,null,"00:00:00",null,"00:00:00","00:00:00"]
[null,{"$f":"IFERROR(IF(A1373=\"\",\"\",VLOOKUP(A1373,'Banco de Funcionários'!$A$2:$D$1048576,2,0)),\"\")","v":""},null,null,null,null,null,"00:00:00",null,"00:00:00","00:00:00"]
[null,{"$f":"IFERROR(IF(A1374=\"\",\"\",VLOOKUP(A1374,'Banco de Funcionários'!$A$2:$D$1048576,2,0)),\"\")","v":""},null,null,null,null,null,"00:00:00",null,"00:00:00","00:00:00"]
[null,{"$f":"IFERROR(IF(A1375=\"\",\"\",VLOOKUP(A1375,'Banco de Funcionários'!$A$2:$D$1048576,2,0)),\"\")","v":""},null,null,null,null,null,"00:00:00",null,"00:00:00","00:00:00"]
[null,{"$f":"IFERROR(IF(A1376=\"\",\"\",VLOOKUP(A1376,'Banco de Funcionários'!$A$2:$D$1048576,2,0)),\"\")","v":""},null,null,null,null,null,"00:00:00",null,"00:00:00","00:00:00"]
[null,{"$f":"IFERROR(IF(A1377=\"\",\"\",VLOOKUP(A1377,'Banco de Funcionários'!$A$2:$D$1048576,2,0)),\"\")","v":""},null,null,null,null,null,"00:00:00",null,"00:00:00","00:00:00"]
[null,{"$f":"IFERROR(IF(A1378=\"\",\"\",VLOOKUP(A1378,'Banco de Funcionários'!$A$2:$D$1048576,2,0)),\"\")","v":""},null,null,null,null,null,"00:00:00",null,"00:00:00","00:00:00"]
[null,{"$f":"IFERROR(IF(A1379=\"\",\"\",VLOOKUP(A1379,'Banco de Funcionários'!$A$2:$D$1048576,2,0)),\"\")","v":""},null,null,null,null,null,"00:00:00",null,"00:00:00","00:00:00"]
[null,{"$f":"IFERROR(IF(A1380=\"\",\"\",VLOOKUP(A1380,'Banco de Funcionários'!$A$2:$D$1048576,2,0)),\"\")","v":""},null,null,null,null,null,"00:00:00",null,"00:00:00","00:00:00"]
[null,{"$f":"IFERROR(IF(A1381=\"\",\"\",VLOOKUP(A1381,'Banco de Funcionários'!$A$2:$D$1048576,2,0)),\"\")","v":""},null,null,null,null,null,"00:00:00",null,"00:00:00","00:00:00"]
[null,{"$f":"IFERROR(IF(A1382=\"\",\"\",VLOOKUP(A1382,'Banco de Funcionários'!$A$2:$D$1048576,2,0)),\"\")","v":""},null,null,null,null,null,"00:00:00",null,"00:00:00","00:00:00"]
[null,{"$f":"IFERROR(IF(A1383=\"\",\"\",VLOOKUP(A1383,'Banco de Funcionários'!$A$2:$D$1048576,2,0)),\"\")","v":""},null,null,null,null,null,"00:00:00",null,"00:00:00","00:00:00"]
[null,{"$f":"IFERROR(IF(A1384=\"\",\"\",VLOOKUP(A1384,'Banco de Funcionários'!$A$2:$D$1048576,2,0)),\"\")","v":""},null,null,null,null,null,"00:00:00",null,"00:00:00","00:00:00"]
[null,{"$f":"IFERROR(IF(A1385=\"\",\"\",VLOOKUP(A1385,'Banco de Funcionários'!$A$2:$D$1048576,2,0)),\"\")","v":""},null,null,null,null,null,"00:00:00",null,"00:00:00","00:00:00"]
[null,{"$f":"IFERROR(IF(A1386=\"\",\"\",VLOOKUP(A1386,'Banco de Funcionários'!$A$2:$D$1048576,2,0)),\"\")","v":""},null,null,null,null,null,"00:00:00",null,"00:00:00","00:00:00"]
[null,{"$f":"IFERROR(IF(A1387=\"\",\"\",VLOOKUP(A1387,'Banco de Funcionários'!$A$2:$D$1048576,2,0)),\"\")","v":""},null,null,null,null,null,"00:00:00",null,"00:00:00","00:00:00"]
[null,{"$f":"IFERROR(IF(A1388=\"\",\"\",VLOOKUP(A1388,'Banco de Funcionários'!$A$2:$D$1048576,2,0)),\"\")","v":""},null,null,null,null,null,"00:00:00",null,"00:00:00","00:00:00"]
[null,{"$f":"IFERROR(IF(A1389=\"\",\"\",VLOOKUP(A1389,'Banco de Funcionários'!$A$2:$D$1048576,2,0)),\"\")","v":""},null,null,null,null,null,"00:00:00",null,"00:00:00","00:00:00"]
[null,{"$f":"IFERROR(IF(A1390=\"\",\"\",VLOOKUP(A1390,'Banco de Funcionários'!$A$2:$D$1048576,2,0)),\"\")","v":""},null,null,null,null,null,"00:00:00",null,"00:00:00","00:00:00"]
[null,{"$f":"IFERROR(IF(A1391=\"\",\"\",VLOOKUP(A1391,'Banco de Funcionários'!$A$2:$D$1048576,2,0)),\"\")","v":""},null,null,null,null,null,"00:00:00",null,"00:00:00","00:00:00"]
[null,{"$f":"IFERROR(IF(A1392=\"\",\"\",VLOOKUP(A1392,'Banco de Funcionários'!$A$2:$D$1048576,2,0)),\"\")","v":""},null,null,null,null,null,"00:00:00",null,"00:00:00","00:00:00"]
[null,{"$f":"IFERROR(IF(A1393=\"\",\"\",VLOOKUP(A1393,'Banco de Funcionários'!$A$2:$D$1048576,2,0)),\"\")","v":""},null,null,null,null,null,"00:00:00",null,"00:00:00","00:00:00"]
[null,{"$f":"IFERROR(IF(A1394=\"\",\"\",VLOOKUP(A1394,'Banco de Funcionários'!$A$2:$D$1048576,2,0)),\"\")","v":""},null,null,null,null,null,"00:00:00",null,"00:00:00","00:00:00"]
[null,{"$f":"IFERROR(IF(A1395=\"\",\"\",VLOOKUP(A1395,'Banco de Funcionários'!$A$2:$D$1048576,2,0)),\"\")","v":""},null,null,null,null,null,"00:00:00",null,"00:00:00","00:00:00"]
[null,{"$f":"IFERROR(IF(A1396=\"\",\"\",VLOOKUP(A1396,'Banco de Funcionários'!$A$2:$D$1048576,2,0)),\"\")","v":""},null,null,null,null,null,"00:00:00",null,"00:00:00","00:00:00"]
[null,{"$f":"IFERROR(IF(A1397=\"\",\"\",VLOOKUP(A1397,'Banco de Funcionários'!$A$2:$D$1048576,2,0)),\"\")","v":""},null,null,null,null,null,"00:00:00",null,"00:00:00","00:00:00"]
[null,{"$f":"IFERROR(IF(A1398=\"\",\"\",VLOOKUP(A1398,'Banco de Funcionários'!$A$2:$D$1048576,2,0)),\"\")","v":""},null,null,null,null,null,"00:00:00",null,"00:00:00","00:00:00"]
[null,{"$f":"IFERROR(IF(A1399=\"\",\"\",VLOOKUP(A1399,'Banco de Funcionários'!$A$2:$D$1048576,2,0)),\"\")","v":""},null,null,null,null,null,"00:00:00",null,"00:00:00","00:00:00"]
[null,{"$f":"IFERROR(IF(A1400=\"\",\"\",VLOOKUP(A1400,'Banco de Funcionários'!$A$2:$D$1048576,2,0)),\"\")","v":""},null,null,null,null,null,"00:00:00",null,"00:00:00","00:00:00"]
[null,{"$f":"IFERROR(IF(A1401=\"\",\"\",VLOOKUP(A1401,'Banco de Funcionários'!$A$2:$D$1048576,2,0)),\"\")","v":""},null,null,null,null,null,"00:00:00",null,"00:00:00","00:00:00"]
[null,{"$f":"IFERROR(IF(A1402=\"\",\"\",VLOOKUP(A1402,'Banco de Funcionários'!$A$2:$D$1048576,2,0)),\"\")","v":""},null,null,null,null,null,"00:00:00",null,"00:00:00","00:00:00"]
[null,{"$f":"IFERROR(IF(A1403=\"\",\"\",VLOOKUP(A1403,'Banco de Funcionários'!$A$2:$D$1048576,2,0)),\"\")","v":""},null,null,null,null,null,"00:00:00",null,"00:00:00","00:00:00"]
[null,{"$f":"IFERROR(IF(A1404=\"\",\"\",VLOOKUP(A1404,'Banco de Funcionários'!$A$2:$D$1048576,2,0)),\"\")","v":""},null,null,null,null,null,"00:00:00",null,"00:00:00","00:00:00"]
[null,{"$f":"IFERROR(IF(A1405=\"\",\"\",VLOOKUP(A1405,'Banco de Funcionários'!$A$2:$D$1048576,2,0)),\"\")","v":""},null,null,null,null,null,"00:00:00",null,"00:00:00","00:00:00"]
[null,{"$f":"IFERROR(IF(A1406=\"\",\"\",VLOOKUP(A1406,'Banco de Funcionários'!$A$2:$D$1048576,2,0)),\"\")","v":""},null,null,null,null,null,"00:00:00",null,"00:00:00","00:00:00"]
[null,{"$f":"IFERROR(IF(A1407=\"\",\"\",VLOOKUP(A1407,'Banco de Funcionários'!$A$2:$D$1048576,2,0)),\"\")","v":""},null,null,null,null,null,"00:00:00",null,"00:00:00","00:00:00"]
[null,{"$f":"IFERROR(IF(A1408=\"\",\"\",VLOOKUP(A1408,'Banco de Funcionários'!$A$2:$D$1048576,2,0)),\"\")","v":""},null,null,null,null,null,"00:00:00",null,"00:00:00","00:00:00"]
[null,{"$f":"IFERROR(IF(A1409=\"\",\"\",VLOOKUP(A1409,'Banco de Funcionários'!$A$2:$D$1048576,2,0)),\"\")","v":""},null,null,null,null,null,"00:00:00",null,"00:00:00","00:00:00"]
[null,{"$f":"IFERROR(IF(A1410=\"\",\"\",VLOOKUP(A1410,'Banco de Funcionários'!$A$2:$D$1048576,2,0)),\"\")","v":""},null,null,null,null,null,"00:00:00",null,"00:00:00","00:00:00"]
[null,{"$f":"IFERROR(IF(A1411=\"\",\"\",VLOOKUP(A1411,'Banco de Funcionários'!$A$2:$D$1048576,2,0)),\"\")","v":""},null,null,null,null,null,{"$f":"(F1411-E1411)-G1411","v":"00:00:00"},null,{"$f":"IFERROR(H1411-I1411,\"\")","v":"00:00:00"},{"$f":"IFERROR(H1411+J1411,0)","v":"00:00:00"}]
[null,{"$f":"IFERROR(IF(A1412=\"\",\"\",VLOOKUP(A1412,'Banco de Funcionários'!$A$2:$D$1048576,2,0)),\"\")","v":""},null,null,null,null,null,"00:00:00",null,"00:00:00","00:00:00"]
[null,{"$f":"IFERROR(IF(A1413=\"\",\"\",VLOOKUP(A1413,'Banco de Funcionários'!$A$2:$D$1048576,2,0)),\"\")","v":""},null,null,null,null,null,"00:00:00",null,"00:00:00","00:00:00"]
[null,{"$f":"IFERROR(IF(A1414=\"\",\"\",VLOOKUP(A1414,'Banco de Funcionários'!$A$2:$D$1048576,2,0)),\"\")","v":""},null,null,null,null,null,"00:00:00",null,"00:00:00","00:00:00"]
[null,{"$f":"IFERROR(IF(A1415=\"\",\"\",VLOOKUP(A1415,'Banco de Funcionários'!$A$2:$D$1048576,2,0)),\"\")","v":""},null,null,null,null,null,"00:00:00",null,"00:00:00","00:00:00"]
[null,{"$f":"IFERROR(IF(A1416=\"\",\"\",VLOOKUP(A1416,'Banco de Funcionários'!$A$2:$D$1048576,2,0)),\"\")","v":""},null,null,null,null,null,"00:00:00",null,"00:00:00","00:00:00"]
[null,{"$f":"IFERROR(IF(A1417=\"\",\"\",VLOOKUP(A1417,'Banco de Funcionários'!$A$2:$D$1048576,2,0)),\"\")","v":""},null,null,null,null,null,"00:00:00",null,"00:00:00","00:00:00"]
[null,{"$f":"IFERROR(IF(A1418=\"\",\"\",VLOOKUP(A1418,'Banco de Funcionários'!$A$2:$D$1048576,2,0)),\"\")","v":""},null,null,null,null,null,"00:00:00",null,"00:00:00","00:00:00"]
[null,{"$f":"IFERROR(IF(A1419=\"\",\"\",VLOOKUP(A1419,'Banco de Funcionários'!$A$2:$D$1048576,2,0)),\"\")","v":""},null,null,null,null,null,"00:00:00",null,"00:00:00","00:00:00"]
[null,{"$f":"IFERROR(IF(A1420=\"\",\"\",VLOOKUP(A1420,'Banco de Funcionários'!$A$2:$D$1048576,2,0)),\"\")","v":""},null,null,null,null,null,"00:00:00",null,"00:00:00","00:00:00"]
[null,{"$f":"IFERROR(IF(A1421=\"\",\"\",VLOOKUP(A1421,'Banco de Funcionários'!$A$2:$D$1048576,2,0)),\"\")","v":""},null,null,null,null,null,"00:00:00",null,"00:00:00","00:00:00"]
[null,{"$f":"IFERROR(IF(A1422=\"\",\"\",VLOOKUP(A1422,'Banco de Funcionários'!$A$2:$D$1048576,2,0)),\"\")","v":""},null,null,null,null,null,"00:00:00",null,"00:00:00","00:00:00"]
[null,{"$f":"IFERROR(IF(A1423=\"\",\"\",VLOOKUP(A1423,'Banco de Funcionários'!$A$2:$D$1048576,2,0)),\"\")","v":""},null,null,null,null,null,"00:00:00",null,"00:00:00","00:00:00"]
[null,{"$f":"IFERROR(IF(A1424=\"\",\"\",VLOOKUP(A1424,'Banco de Funcionários'!$A$2:$D$1048576,2,0)),\"\")","v":""},null,null,null,null,null,"00:00:00",null,"00:00:00","00:00:00"]
[null,{"$f":"IFERROR(IF(A1425=\"\",\"\",VLOOKUP(A1425,'Banco de Funcionários'!$A$2:$D$1048576,2,0)),\"\")","v":""},null,null,null,null,null,"00:00:00",null,"00:00:00","00:00:00"]
[null,{"$f":"IFERROR(IF(A1426=\"\",\"\",VLOOKUP(A1426,'Banco de Funcionários'!$A$2:$D$1048576,2,0)),\"\")","v":""},null,null,null,null,null,"00:00:00",null,"00:00:00","00:00:00"]
[null,{"$f":"IFERROR(IF(A1427=\"\",\"\",VLOOKUP(A1427,'Banco de Funcionários'!$A$2:$D$1048576,2,0)),\"\")","v":""},null,null,null,null,null,"00:00:00",null,"00:00:00","00:00:00"]
[null,{"$f":"IFERROR(IF(A1428=\"\",\"\",VLOOKUP(A1428,'Banco de Funcionários'!$A$2:$D$1048576,2,0)),\"\")","v":""},null,null,null,null,null,"00:00:00",null,"00:00:00","00:00:00"]
[null,{"$f":"IFERROR(IF(A1429=\"\",\"\",VLOOKUP(A1429,'Banco de Funcionários'!$A$2:$D$1048576,2,0)),\"\")","v":""},null,null,null,null,null,"00:00:00",null,"00:00:00","00:00:00"]
[null,{"$f":"IFERROR(IF(A1430=\"\",\"\",VLOOKUP(A1430,'Banco de Funcionários'!$A$2:$D$1048576,2,0)),\"\")","v":""},null,null,null,null,null,"00:00:00",null,"00:00:00","00:00:00"]
[null,{"$f":"IFERROR(IF(A1431=\"\",\"\",VLOOKUP(A1431,'Banco de Funcionários'!$A$2:$D$1048576,2,0)),\"\")","v":""},null,null,null,null,null,"00:00:00",null,"00:00:00","00:00:00"]
[null,{"$f":"IFERROR(IF(A1432=\"\",\"\",VLOOKUP(A1432,'Banco de Funcionários'!$A$2:$D$1048576,2,0)),\"\")","v":""},null,null,null,null,null,"00:00:00",null,"00:00:00","00:00:00"]
[null,{"$f":"IFERROR(IF(A1433=\"\",\"\",VLOOKUP(A1433,'Banco de Funcionários'!$A$2:$D$1048576,2,0)),\"\")","v":""},null,null,null,null,null,"00:00:00",null,"00:00:00","00:00:00"]
[null,{"$f":"IFERROR(IF(A1434=\"\",\"\",VLOOKUP(A1434,'Banco de Funcionários'!$A$2:$D$1048576,2,0)),\"\")","v":""},null,null,null,null,null,"00:00:00",null,"00:00:00","00:00:00"]
[null,{"$f":"IFERROR(IF(A1435=\"\",\"\",VLOOKUP(A1435,'Banco de Funcionários'!$A$2:$D$1048576,2,0)),\"\")","v":""},null,null,null,null,null,"00:00:00",null,"00:00:00","00:00:00"]
[null,{"$f":"IFERROR(IF(A1436=\"\",\"\",VLOOKUP(A1436,'Banco de Funcionários'!$A$2:$D$1048576,2,0)),\"\")","v":""},null,null,null,null,null,"00:00:00",null,"00:00:00","00:00:00"]
[null,{"$f":"IFERROR(IF(A1437=\"\",\"\",VLOOKUP(A1437,'Banco de Funcionários'!$A$2:$D$1048576,2,0)),\"\")","v":""},null,null,null,null,null,"00:00:00",null,"00:00:00","00:00:00"]
[null,{"$f":"IFERROR(IF(A1438=\"\",\"\",VLOOKUP(A1438,'Banco de Funcionários'!$A$2:$D$1048576,2,0)),\"\")","v":""},null,null,null,null,null,"00:00:00",null,"00:00:00","00:00:00"]
[null,{"$f":"IFERROR(IF(A1439=\"\",\"\",VLOOKUP(A1439,'Banco de Funcionários'!$A$2:$D$1048576,2,0)),\"\")","v":""},null,null,null,null,null,"00:00:00",null,"00:00:00","00:00:00"]
[null,{"$f":"IFERROR(IF(A1440=\"\",\"\",VLOOKUP(A1440,'Banco de Funcionários'!$A$2:$D$1048576,2,0)),\"\")","v":""},null,null,null,null,null,"00:00:00",null,"00:00:00","00:00:00"]
[null,{"$f":"IFERROR(IF(A1441=\"\",\"\",VLOOKUP(A1441,'Banco de Funcionários'!$A$2:$D$1048576,2,0)),\"\")","v":""},null,null,null,null,null,"00:00:00",null,"00:00:00","00:00:00"]
[null,{"$f":"IFERROR(IF(A1442=\"\",\"\",VLOOKUP(A1442,'Banco de Funcionários'!$A$2:$D$1048576,2,0)),\"\")","v":""},null,null,null,null,null,"00:00:00",null,"00:00:00","00:00:00"]
[null,{"$f":"IFERROR(IF(A1443=\"\",\"\",VLOOKUP(A1443,'Banco de Funcionários'!$A$2:$D$1048576,2,0)),\"\")","v":""},null,null,null,null,null,"00:00:00",null,"00:00:00","00:00:00"]
[null,{"$f":"IFERROR(IF(A1444=\"\",\"\",VLOOKUP(A1444,'Banco de Funcionários'!$A$2:$D$1048576,2,0)),\"\")","v":""},null,null,null,null,null,"00:00:00",null,"00:00:00","00:00:00"]
[null,{"$f":"IFERROR(IF(A1445=\"\",\"\",VLOOKUP(A1445,'Banco de Funcionários'!$A$2:$D$1048576,2,0)),\"\")","v":""},null,null,null,null,null,"00:00:00",null,"00:00:00","00:00:00"]
[null,{"$f":"IFERROR(IF(A1446=\"\",\"\",VLOOKUP(A1446,'Banco de Funcionários'!$A$2:$D$1048576,2,0)),\"\")","v":""},null,null,null,null,null,"00:00:00",null,"00:00:00","00:00:00"]
[null,{"$f":"IFERROR(IF(A1447=\"\",\"\",VLOOKUP(A1447,'Banco de Funcionários'!$A$2:$D$1048576,2,0)),\"\")","v":""},null,null,null,null,null,"00:00:00",null,"00:00:00","00:00:00"]
[null,{"$f":"IFERROR(IF(A1448=\"\",\"\",VLOOKUP(A1448,'Banco de Funcionários'!$A$2:$D$1048576,2,0)),\"\")","v":""},null,null,null,null,null,"00:00:00",null,"00:00:00","00:00:00"]
[null,{"$f":"IFERROR(IF(A1449=\"\",\"\",VLOOKUP(A1449,'Banco de Funcionários'!$A$2:$D$1048576,2,0)),\"\")","v":""},null,null,null,null,null,"00:00:00",null,"00:00:00","00:00:00"]
[null,{"$f":"IFERROR(IF(A1450=\"\",\"\",VLOOKUP(A1450,'Banco de Funcionários'!$A$2:$D$1048576,2,0)),\"\")","v":""},null,null,null,null,null,"00:00:00",null,"00:00:00","00:00:00"]
[null,{"$f":"IFERROR(IF(A1451=\"\",\"\",VLOOKUP(A1451,'Banco de Funcionários'!$A$2:$D$1048576,2,0)),\"\")","v":""},null,null,null,null,null,"00:00:00",null,"00:00:00","00:00:00"]
[null,{"$f":"IFERROR(IF(A1452=\"\",\"\",VLOOKUP(A1452,'Banco de Funcionários'!$A$2:$D$1048576,2,0)),\"\")","v":""},null,null,null,null,null,"00:00:00",null,"00:00:00","00:00:00"]
[null,{"$f":"IFERROR(IF(A1453=\"\",\"\",VLOOKUP(A1453,'Banco de Funcionários'!$A$2:$D$1048576,2,0)),\"\")","v":""},null,null,null,null,null,"00:00:00",null,"00:00:00","00:00:00"]
[null,{"$f":"IFERROR(IF(A1454=\"\",\"\",VLOOKUP(A1454,'Banco de Funcionários'!$A$2:$D$1048576,2,0)),\"\")","v":""},null,null,null,null,null,"00:00:00",null,"00:00:00","00:00:00"]
[null,{"$f":"IFERROR(IF(A1455=\"\",\"\",VLOOKUP(A1455,'Banco de Funcionários'!$A$2:$D$1048576,2,0)),\"\")","v":""},null,null,null,null,null,"00:00:00",null,"00:00:00","00:00:00"]
[null,{"$f":"IFERROR(IF(A1456=\"\",\"\",VLOOKUP(A1456,'Banco de Funcionários'!$A$2:$D$1048576,2,0)),\"\")","v":""},null,null,null,null,null,"00:00:00",null,"00:00:00","00:00:00"]
[null,{"$f":"IFERROR(IF(A1457=\"\",\"\",VLOOKUP(A1457,'Banco de Funcionários'!$A$2:$D$1048576,2,0)),\"\")","v":""},null,null,null,null,null,"00:00:00",null,"00:00:00","00:00:00"]
[null,{"$f":"IFERROR(IF(A1458=\"\",\"\",VLOOKUP(A1458,'Banco de Funcionários'!$A$2:$D$1048576,2,0)),\"\")","v":""},null,null,null,null,null,"00:00:00",null,"00:00:00","00:00:00"]
[null,{"$f":"IFERROR(IF(A1459=\"\",\"\",VLOOKUP(A1459,'Banco de Funcionários'!$A$2:$D$1048576,2,0)),\"\")","v":""},null,null,null,null,null,"00:00:00",null,"00:00:00","00:00:00"]
[null,{"$f":"IFERROR(IF(A1460=\"\",\"\",VLOOKUP(A1460,'Banco de Funcionários'!$A$2:$D$1048576,2,0)),\"\")","v":""},null,null,null,null,null,"00:00:00",null,"00:00:00","00:00:00"]
[null,{"$f":"IFERROR(IF(A1461=\"\",\"\",VLOOKUP(A1461,'Banco de Funcionários'!$A$2:$D$1048576,2,0)),\"\")","v":""},null,null,null,null,null,"00:00:00",null,"00:00:00","00:00:00"]
[null,{"$f":"IFERROR(IF(A1462=\"\",\"\",VLOOKUP(A1462,'Banco de Funcionários'!$A$2:$D$1048576,2,0)),\"\")","v":""},null,null,null,null,null,"00:00:00",null,"00:00:00","00:00:00"]
[null,{"$f":"IFERROR(IF(A1463=\"\",\"\",VLOOKUP(A1463,'Banco de Funcionários'!$A$2:$D$1048576,2,0)),\"\")","v":""},null,null,null,null,null,"00:00:00",null,"00:00:00","00:00:00"]
[null,{"$f":"IFERROR(IF(A1464=\"\",\"\",VLOOKUP(A1464,'Banco de Funcionários'!$A$2:$D$1048576,2,0)),\"\")","v":""},null,null,null,null,null,"00:00:00",null,"00:00:00","00:00:00"]
[null,{"$f":"IFERROR(IF(A1465=\"\",\"\",VLOOKUP(A1465,'Banco de Funcionários'!$A$2:$D$1048576,2,0)),\"\")","v":""},null,null,null,null,null,"00:00:00",null,"00:00:00","00:00:00"]
[null,{"$f":"IFERROR(IF(A1466=\"\",\"\",VLOOKUP(A1466,'Banco de Funcionários'!$A$2:$D$1048576,2,0)),\"\")","v":""},null,null,null,null,null,"00:00:00",null,"00:00:00","00:00:00"]
[null,{"$f":"IFERROR(IF(A1467=\"\",\"\",VLOOKUP(A1467,'Banco de Funcionários'!$A$2:$D$1048576,2,0)),\"\")","v":""},null,null,null,null,null,"00:00:00",null,"00:00:00","00:00:00"]
[null,{"$f":"IFERROR(IF(A1468=\"\",\"\",VLOOKUP(A1468,'Banco de Funcionários'!$A$2:$D$1048576,2,0)),\"\")","v":""},null,null,null,null,null,"00:00:00",null,"00:00:00","00:00:00"]
[null,{"$f":"IFERROR(IF(A1469=\"\",\"\",VLOOKUP(A1469,'Banco de Funcionários'!$A$2:$D$1048576,2,0)),\"\")","v":""},null,null,null,null,null,"00:00:00",null,"00:00:00","00:00:00"]
[null,{"$f":"IFERROR(IF(A1470=\"\",\"\",VLOOKUP(A1470,'Banco de Funcionários'!$A$2:$D$1048576,2,0)),\"\")","v":""},null,null,null,null,null,"00:00:00",null,"00:00:00","00:00:00"]
[null,{"$f":"IFERROR(IF(A1471=\"\",\"\",VLOOKUP(A1471,'Banco de Funcionários'!$A$2:$D$1048576,2,0)),\"\")","v":""},null,null,null,null,null,"00:00:00",null,"00:00:00","00:00:00"]
[null,{"$f":"IFERROR(IF(A1472=\"\",\"\",VLOOKUP(A1472,'Banco de Funcionários'!$A$2:$D$1048576,2,0)),\"\")","v":""},null,null,null,null,null,"00:00:00",null,"00:00:00","00:00:00"]
[null,{"$f":"IFERROR(IF(A1473=\"\",\"\",VLOOKUP(A1473,'Banco de Funcionários'!$A$2:$D$1048576,2,0)),\"\")","v":""},null,null,null,null,null,"00:00:00",null,"00:00:00","00:00:00"]
[null,{"$f":"IFERROR(IF(A1474=\"\",\"\",VLOOKUP(A1474,'Banco de Funcionários'!$A$2:$D$1048576,2,0)),\"\")","v":""},null,null,null,null,null,"00:00:00",null,"00:00:00","00:00:00"]
[null,{"$f":"IFERROR(IF(A1475=\"\",\"\",VLOOKUP(A1475,'Banco de Funcionários'!$A$2:$D$1048576,2,0)),\"\")","v":""},null,null,null,null,null,{"$f":"(F1475-E1475)-G1475","v":"00:00:00"},null,{"$f":"IFERROR(H1475-I1475,\"\")","v":"00:00:00"},{"$f":"IFERROR(H1475+J1475,0)","v":"00:00:00"}]
[null,{"$f":"IFERROR(IF(A1476=\"\",\"\",VLOOKUP(A1476,'Banco de Funcionários'!$A$2:$D$1048576,2,0)),\"\")","v":""},null,null,null,null,null,"00:00:00",null,"00:00:00","00:00:00"]
[null,{"$f":"IFERROR(IF(A1477=\"\",\"\",VLOOKUP(A1477,'Banco de Funcionários'!$A$2:$D$1048576,2,0)),\"\")","v":""},null,null,null,null,null,"00:00:00",null,"00:00:00","00:00:00"]
[null,{"$f":"IFERROR(IF(A1478=\"\",\"\",VLOOKUP(A1478,'Banco de Funcionários'!$A$2:$D$1048576,2,0)),\"\")","v":""},null,null,null,null,null,"00:00:00",null,"00:00:00","00:00:00"]
[null,{"$f":"IFERROR(IF(A1479=\"\",\"\",VLOOKUP(A1479,'Banco de Funcionários'!$A$2:$D$1048576,2,0)),\"\")","v":""},null,null,null,null,null,"00:00:00",null,"00:00:00","00:00:00"]
[null,{"$f":"IFERROR(IF(A1480=\"\",\"\",VLOOKUP(A1480,'Banco de Funcionários'!$A$2:$D$1048576,2,0)),\"\")","v":""},null,null,null,null,null,"00:00:00",null,"00:00:00","00:00:00"]
[null,{"$f":"IFERROR(IF(A1481=\"\",\"\",VLOOKUP(A1481,'Banco de Funcionários'!$A$2:$D$1048576,2,0)),\"\")","v":""},null,null,null,null,null,"00:00:00",null,"00:00:00","00:00:00"]
[null,{"$f":"IFERROR(IF(A1482=\"\",\"\",VLOOKUP(A1482,'Banco de Funcionários'!$A$2:$D$1048576,2,0)),\"\")","v":""},null,null,null,null,null,"00:00:00",null,"00:00:00","00:00:00"]
[null,{"$f":"IFERROR(IF(A1483=\"\",\"\",VLOOKUP(A1483,'Banco de Funcionários'!$A$2:$D$1048576,2,0)),\"\")","v":""},null,null,null,null,null,"00:00:00",null,"00:00:00","00:00:00"]
[null,{"$f":"IFERROR(IF(A1484=\"\",\"\",VLOOKUP(A1484,'Banco de Funcionários'!$A$2:$D$1048576,2,0)),\"\")","v":""},null,null,null,null,null,"00:00:00",null,"00:00:00","00:00:00"]
[null,{"$f":"IFERROR(IF(A1485=\"\",\"\",VLOOKUP(A1485,'Banco de Funcionários'!$A$2:$D$1048576,2,0)),\"\")","v":""},null,null,null,null,null,"00:00:00",null,"00:00:00","00:00:00"]
[null,{"$f":"IFERROR(IF(A1486=\"\",\"\",VLOOKUP(A1486,'Banco de Funcionários'!$A$2:$D$1048576,2,0)),\"\")","v":""},null,null,null,null,null,"00:00:00",null,"00:00:00","00:00:00"]
[null,{"$f":"IFERROR(IF(A1487=\"\",\"\",VLOOKUP(A1487,'Banco de Funcionários'!$A$2:$D$1048576,2,0)),\"\")","v":""},null,null,null,null,null,"00:00:00",null,"00:00:00","00:00:00"]
[null,{"$f":"IFERROR(IF(A1488=\"\",\"\",VLOOKUP(A1488,'Banco de Funcionários'!$A$2:$D$1048576,2,0)),\"\")","v":""},null,null,null,null,null,"00:00:00",null,"00:00:00","00:00:00"]
[null,{"$f":"IFERROR(IF(A1489=\"\",\"\",VLOOKUP(A1489,'Banco de Funcionários'!$A$2:$D$1048576,2,0)),\"\")","v":""},null,null,null,null,null,"00:00:00",null,"00:00:00","00:00:00"]
[null,{"$f":"IFERROR(IF(A1490=\"\",\"\",VLOOKUP(A1490,'Banco de Funcionários'!$A$2:$D$1048576,2,0)),\"\")","v":""},null,null,null,null,null,"00:00:00",null,"00:00:00","00:00:00"]
[null,{"$f":"IFERROR(IF(A1491=\"\",\"\",VLOOKUP(A1491,'Banco de Funcionários'!$A$2:$D$1048576,2,0)),\"\")","v":""},null,null,null,null,null,"00:00:00",null,"00:00:00","00:00:00"]
[null,{"$f":"IFERROR(IF(A1492=\"\",\"\",VLOOKUP(A1492,'Banco de Funcionários'!$A$2:$D$1048576,2,0)),\"\")","v":""},null,null,null,null,null,"00:00:00",null,"00:00:00","00:00:00"]
[null,{"$f":"IFERROR(IF(A1493=\"\",\"\",VLOOKUP(A1493,'Banco de Funcionários'!$A$2:$D$1048576,2,0)),\"\")","v":""},null,null,null,null,null,"00:00:00",null,"00:00:00","00:00:00"]
[null,{"$f":"IFERROR(IF(A1494=\"\",\"\",VLOOKUP(A1494,'Banco de Funcionários'!$A$2:$D$1048576,2,0)),\"\")","v":""},null,null,null,null,null,"00:00:00",null,"00:00:00","00:00:00"]
[null,{"$f":"IFERROR(IF(A1495=\"\",\"\",VLOOKUP(A1495,'Banco de Funcionários'!$A$2:$D$1048576,2,0)),\"\")","v":""},null,null,null,null,null,"00:00:00",null,"00:00:00","00:00:00"]
[null,{"$f":"IFERROR(IF(A1496=\"\",\"\",VLOOKUP(A1496,'Banco de Funcionários'!$A$2:$D$1048576,2,0)),\"\")","v":""},null,null,null,null,null,"00:00:00",null,"00:00:00","00:00:00"]
[null,{"$f":"IFERROR(IF(A1497=\"\",\"\",VLOOKUP(A1497,'Banco de Funcionários'!$A$2:$D$1048576,2,0)),\"\")","v":""},null,null,null,null,null,"00:00:00",null,"00:00:00","00:00:00"]
[null,{"$f":"IFERROR(IF(A1498=\"\",\"\",VLOOKUP(A1498,'Banco de Funcionários'!$A$2:$D$1048576,2,0)),\"\")","v":""},null,null,null,null,null,"00:00:00",null,"00:00:00","00:00:00"]
[null,{"$f":"IFERROR(IF(A1499=\"\",\"\",VLOOKUP(A1499,'Banco de Funcionários'!$A$2:$D$1048576,2,0)),\"\")","v":""},null,null,null,null,null,"00:00:00",null,"00:00:00","00:00:00"]
[null,{"$f":"IFERROR(IF(A1500=\"\",\"\",VLOOKUP(A1500,'Banco de Funcionários'!$A$2:$D$1048576,2,0)),\"\")","v":""},null,null,null,null,null,"00:00:00",null,"00:00:00","00:00:00"]
[null,{"$f":"IFERROR(IF(A1501=\"\",\"\",VLOOKUP(A1501,'Banco de Funcionários'!$A$2:$D$1048576,2,0)),\"\")","v":""},null,null,null,null,null,"00:00:00",null,"00:00:00","00:00:00"]
[null,{"$f":"IFERROR(IF(A1502=\"\",\"\",VLOOKUP(A1502,'Banco de Funcionários'!$A$2:$D$1048576,2,0)),\"\")","v":""},null,null,null,null,null,"00:00:00",null,"00:00:00","00:00:00"]
[null,{"$f":"IFERROR(IF(A1503=\"\",\"\",VLOOKUP(A1503,'Banco de Funcionários'!$A$2:$D$1048576,2,0)),\"\")","v":""},null,null,null,null,null,"00:00:00",null,"00:00:00","00:00:00"]
[null,{"$f":"IFERROR(IF(A1504=\"\",\"\",VLOOKUP(A1504,'Banco de Funcionários'!$A$2:$D$1048576,2,0)),\"\")","v":""},null,null,null,null,null,"00:00:00",null,"00:00:00","00:00:00"]
[null,{"$f":"IFERROR(IF(A1505=\"\",\"\",VLOOKUP(A1505,'Banco de Funcionários'!$A$2:$D$1048576,2,0)),\"\")","v":""},null,null,null,null,null,"00:00:00",null,"00:00:00","00:00:00"]
[null,{"$f":"IFERROR(IF(A1506=\"\",\"\",VLOOKUP(A1506,'Banco de Funcionários'!$A$2:$D$1048576,2,0)),\"\")","v":""},null,null,null,null,null,"00:00:00",null,"00:00:00","00:00:00"]
[null,{"$f":"IFERROR(IF(A1507=\"\",\"\",VLOOKUP(A1507,'Banco de Funcionários'!$A$2:$D$1048576,2,0)),\"\")","v":""},null,null,null,null,null,"00:00:00",null,"00:00:00","00:00:00"]
[null,{"$f":"IFERROR(IF(A1508=\"\",\"\",VLOOKUP(A1508,'Banco de Funcionários'!$A$2:$D$1048576,2,0)),\"\")","v":""},null,null,null,null,null,"00:00:00",null,"00:00:00","00:00:00"]
[null,{"$f":"IFERROR(IF(A1509=\"\",\"\",VLOOKUP(A1509,'Banco de Funcionários'!$A$2:$D$1048576,2,0)),\"\")","v":""},null,null,null,null,null,"00:00:00",null,"00:00:00","00:00:00"]
[null,{"$f":"IFERROR(IF(A1510=\"\",\"\",VLOOKUP(A1510,'Banco de Funcionários'!$A$2:$D$1048576,2,0)),\"\")","v":""},null,null,null,null,null,"00:00:00",null,"00:00:00","00:00:00"]
[null,{"$f":"IFERROR(IF(A1511=\"\",\"\",VLOOKUP(A1511,'Banco de Funcionários'!$A$2:$D$1048576,2,0)),\"\")","v":""},null,null,null,null,null,"00:00:00",null,"00:00:00","00:00:00"]
[null,{"$f":"IFERROR(IF(A1512=\"\",\"\",VLOOKUP(A1512,'Banco de Funcionários'!$A$2:$D$1048576,2,0)),\"\")","v":""},null,null,null,null,null,"00:00:00",null,"00:00:00","00:00:00"]
[null,{"$f":"IFERROR(IF(A1513=\"\",\"\",VLOOKUP(A1513,'Banco de Funcionários'!$A$2:$D$1048576,2,0)),\"\")","v":""},null,null,null,null,null,"00:00:00",null,"00:00:00","00:00:00"]
[null,{"$f":"IFERROR(IF(A1514=\"\",\"\",VLOOKUP(A1514,'Banco de Funcionários'!$A$2:$D$1048576,2,0)),\"\")","v":""},null,null,null,null,null,"00:00:00",null,"00:00:00","00:00:00"]
[null,{"$f":"IFERROR(IF(A1515=\"\",\"\",VLOOKUP(A1515,'Banco de Funcionários'!$A$2:$D$1048576,2,0)),\"\")","v":""},null,null,null,null,null,"00:00:00",null,"00:00:00","00:00:00"]
[null,{"$f":"IFERROR(IF(A1516=\"\",\"\",VLOOKUP(A1516,'Banco de Funcionários'!$A$2:$D$1048576,2,0)),\"\")","v":""},null,null,null,null,null,"00:00:00",null,"00:00:00","00:00:00"]
[null,{"$f":"IFERROR(IF(A1517=\"\",\"\",VLOOKUP(A1517,'Banco de Funcionários'!$A$2:$D$1048576,2,0)),\"\")","v":""},null,null,null,null,null,"00:00:00",null,"00:00:00","00:00:00"]
[null,{"$f":"IFERROR(IF(A1518=\"\",\"\",VLOOKUP(A1518,'Banco de Funcionários'!$A$2:$D$1048576,2,0)),\"\")","v":""},null,null,null,null,null,"00:00:00",null,"00:00:00","00:00:00"]
[null,{"$f":"IFERROR(IF(A1519=\"\",\"\",VLOOKUP(A1519,'Banco de Funcionários'!$A$2:$D$1048576,2,0)),\"\")","v":""},null,null,null,null,null,"00:00:00",null,"00:00:00","00:00:00"]
[null,{"$f":"IFERROR(IF(A1520=\"\",\"\",VLOOKUP(A1520,'Banco de Funcionários'!$A$2:$D$1048576,2,0)),\"\")","v":""},null,null,null,null,null,"00:00:00",null,"00:00:00","00:00:00"]
[null,{"$f":"IFERROR(IF(A1521=\"\",\"\",VLOOKUP(A1521,'Banco de Funcionários'!$A$2:$D$1048576,2,0)),\"\")","v":""},null,null,null,null,null,"00:00:00",null,"00:00:00","00:00:00"]
[null,{"$f":"IFERROR(IF(A1522=\"\",\"\",VLOOKUP(A1522,'Banco de Funcionários'!$A$2:$D$1048576,2,0)),\"\")","v":""},null,null,null,null,null,"00:00:00",null,"00:00:00","00:00:00"]
[null,{"$f":"IFERROR(IF(A1523=\"\",\"\",VLOOKUP(A1523,'Banco de Funcionários'!$A$2:$D$1048576,2,0)),\"\")","v":""},null,null,null,null,null,"00:00:00",null,"00:00:00","00:00:00"]
[null,{"$f":"IFERROR(IF(A1524=\"\",\"\",VLOOKUP(A1524,'Banco de Funcionários'!$A$2:$D$1048576,2,0)),\"\")","v":""},null,null,null,null,null,"00:00:00",null,"00:00:00","00:00:00"]
[null,{"$f":"IFERROR(IF(A1525=\"\",\"\",VLOOKUP(A1525,'Banco de Funcionários'!$A$2:$D$1048576,2,0)),\"\")","v":""},null,null,null,null,null,"00:00:00",null,"00:00:00","00:00:00"]
[null,{"$f":"IFERROR(IF(A1526=\"\",\"\",VLOOKUP(A1526,'Banco de Funcionários'!$A$2:$D$1048576,2,0)),\"\")","v":""},null,null,null,null,null,"00:00:00",null,"00:00:00","00:00:00"]
[null,{"$f":"IFERROR(IF(A1527=\"\",\"\",VLOOKUP(A1527,'Banco de Funcionários'!$A$2:$D$1048576,2,0)),\"\")","v":""},null,null,null,null,null,"00:00:00",null,"00:00:00","00:00:00"]
[null,{"$f":"IFERROR(IF(A1528=\"\",\"\",VLOOKUP(A1528,'Banco de Funcionários'!$A$2:$D$1048576,2,0)),\"\")","v":""},null,null,null,null,null,"00:00:00",null,"00:00:00","00:00:00"]
[null,{"$f":"IFERROR(IF(A1529=\"\",\"\",VLOOKUP(A1529,'Banco de Funcionários'!$A$2:$D$1048576,2,0)),\"\")","v":""},null,null,null,null,null,"00:00:00",null,"00:00:00","00:00:00"]
[null,{"$f":"IFERROR(IF(A1530=\"\",\"\",VLOOKUP(A1530,'Banco de Funcionários'!$A$2:$D$1048576,2,0)),\"\")","v":""},null,null,null,null,null,"00:00:00",null,"00:00:00","00:00:00"]
[null,{"$f":"IFERROR(IF(A1531=\"\",\"\",VLOOKUP(A1531,'Banco de Funcionários'!$A$2:$D$1048576,2,0)),\"\")","v":""},null,null,null,null,null,"00:00:00",null,"00:00:00","00:00:00"]
[null,{"$f":"IFERROR(IF(A1532=\"\",\"\",VLOOKUP(A1532,'Banco de Funcionários'!$A$2:$D$1048576,2,0)),\"\")","v":""},null,null,null,null,null,"00:00:00",null,"00:00:00","00:00:00"]
[null,{"$f":"IFERROR(IF(A1533=\"\",\"\",VLOOKUP(A1533,'Banco de Funcionários'!$A$2:$D$1048576,2,0)),\"\")","v":""},null,null,null,null,null,"00:00:00",null,"00:00:00","00:00:00"]
[null,{"$f":"IFERROR(IF(A1534=\"\",\"\",VLOOKUP(A1534,'Banco de Funcionários'!$A$2:$D$1048576,2,0)),\"\")","v":""},null,null,null,null,null,"00:00:00",null,"00:00:00","00:00:00"]
[null,{"$f":"IFERROR(IF(A1535=\"\",\"\",VLOOKUP(A1535,'Banco de Funcionários'!$A$2:$D$1048576,2,0)),\"\")","v":""},null,null,null,null,null,"00:00:00",null,"00:00:00","00:00:00"]
[null,{"$f":"IFERROR(IF(A1536=\"\",\"\",VLOOKUP(A1536,'Banco de Funcionários'!$A$2:$D$1048576,2,0)),\"\")","v":""},null,null,null,null,null,"00:00:00",null,"00:00:00","00:00:00"]
[null,{"$f":"IFERROR(IF(A1537=\"\",\"\",VLOOKUP(A1537,'Banco de Funcionários'!$A$2:$D$1048576,2,0)),\"\")","v":""},null,null,null,null,null,"00:00:00",null,"00:00:00","00:00:00"]
[null,{"$f":"IFERROR(IF(A1538=\"\",\"\",VLOOKUP(A1538,'Banco de Funcionários'!$A$2:$D$1048576,2,0)),\"\")","v":""},null,null,null,null,null,"00:00:00",null,"00:00:00","00:00:00"]
[null,{"$f":"IFERROR(IF(A1539=\"\",\"\",VLOOKUP(A1539,'Banco de Funcionários'!$A$2:$D$1048576,2,0)),\"\")","v":""},null,null,null,null,null,{"$f":"(F1539-E1539)-G1539","v":"00:00:00"},null,{"$f":"IFERROR(H1539-I1539,\"\")","v":"00:00:00"},{"$f":"IFERROR(H1539+J1539,0)","v":"00:00:00"}]
[null,{"$f":"IFERROR(IF(A1540=\"\",\"\",VLOOKUP(A1540,'Banco de Funcionários'!$A$2:$D$1048576,2,0)),\"\")","v":""},null,null,null,null,null,"00:00:00",null,"00:00:00","00:00:00"]
[null,{"$f":"IFERROR(IF(A1541=\"\",\"\",VLOOKUP(A1541,'Banco de Funcionários'!$A$2:$D$1048576,2,0)),\"\")","v":""},null,null,null,null,null,"00:00:00",null,"00:00:00","00:00:00"]
[null,{"$f":"IFERROR(IF(A1542=\"\",\"\",VLOOKUP(A1542,'Banco de Funcionários'!$A$2:$D$1048576,2,0)),\"\")","v":""},null,null,null,null,null,"00:00:00",null,"00:00:00","00:00:00"]
[null,{"$f":"IFERROR(IF(A1543=\"\",\"\",VLOOKUP(A1543,'Banco de Funcionários'!$A$2:$D$1048576,2,0)),\"\")","v":""},null,null,null,null,null,"00:00:00",null,"00:00:00","00:00:00"]
[null,{"$f":"IFERROR(IF(A1544=\"\",\"\",VLOOKUP(A1544,'Banco de Funcionários'!$A$2:$D$1048576,2,0)),\"\")","v":""},null,null,null,null,null,"00:00:00",null,"00:00:00","00:00:00"]
[null,{"$f":"IFERROR(IF(A1545=\"\",\"\",VLOOKUP(A1545,'Banco de Funcionários'!$A$2:$D$1048576,2,0)),\"\")","v":""},null,null,null,null,null,"00:00:00",null,"00:00:00","00:00:00"]
[null,{"$f":"IFERROR(IF(A1546=\"\",\"\",VLOOKUP(A1546,'Banco de Funcionários'!$A$2:$D$1048576,2,0)),\"\")","v":""},null,null,null,null,null,"00:00:00",null,"00:00:00","00:00:00"]
[null,{"$f":"IFERROR(IF(A1547=\"\",\"\",VLOOKUP(A1547,'Banco de Funcionários'!$A$2:$D$1048576,2,0)),\"\")","v":""},null,null,null,null,null,"00:00:00",null,"00:00:00","00:00:00"]
[null,{"$f":"IFERROR(IF(A1548=\"\",\"\",VLOOKUP(A1548,'Banco de Funcionários'!$A$2:$D$1048576,2,0)),\"\")","v":""},null,null,null,null,null,"00:00:00",null,"00:00:00","00:00:00"]
[null,{"$f":"IFERROR(IF(A1549=\"\",\"\",VLOOKUP(A1549,'Banco de Funcionários'!$A$2:$D$1048576,2,0)),\"\")","v":""},null,null,null,null,null,"00:00:00",null,"00:00:00","00:00:00"]
[null,{"$f":"IFERROR(IF(A1550=\"\",\"\",VLOOKUP(A1550,'Banco de Funcionários'!$A$2:$D$1048576,2,0)),\"\")","v":""},null,null,null,null,null,"00:00:00",null,"00:00:00","00:00:00"]
[null,{"$f":"IFERROR(IF(A1551=\"\",\"\",VLOOKUP(A1551,'Banco de Funcionários'!$A$2:$D$1048576,2,0)),\"\")","v":""},null,null,null,null,null,"00:00:00",null,"00:00:00","00:00:00"]
[null,{"$f":"IFERROR(IF(A1552=\"\",\"\",VLOOKUP(A1552,'Banco de Funcionários'!$A$2:$D$1048576,2,0)),\"\")","v":""},null,null,null,null,null,"00:00:00",null,"00:00:00","00:00:00"]
[null,{"$f":"IFERROR(IF(A1553=\"\",\"\",VLOOKUP(A1553,'Banco de Funcionários'!$A$2:$D$1048576,2,0)),\"\")","v":""},null,null,null,null,null,"00:00:00",null,"00:00:00","00:00:00"]
[null,{"$f":"IFERROR(IF(A1554=\"\",\"\",VLOOKUP(A1554,'Banco de Funcionários'!$A$2:$D$1048576,2,0)),\"\")","v":""},null,null,null,null,null,"00:00:00",null,"00:00:00","00:00:00"]
[null,{"$f":"IFERROR(IF(A1555=\"\",\"\",VLOOKUP(A1555,'Banco de Funcionários'!$A$2:$D$1048576,2,0)),\"\")","v":""},null,null,null,null,null,"00:00:00",null,"00:00:00","00:00:00"]
[null,{"$f":"IFERROR(IF(A1556=\"\",\"\",VLOOKUP(A1556,'Banco de Funcionários'!$A$2:$D$1048576,2,0)),\"\")","v":""},null,null,null,null,null,"00:00:00",null,"00:00:00","00:00:00"]
[null,{"$f":"IFERROR(IF(A1557=\"\",\"\",VLOOKUP(A1557,'Banco de Funcionários'!$A$2:$D$1048576,2,0)),\"\")","v":""},null,null,null,null,null,"00:00:00",null,"00:00:00","00:00:00"]
[null,{"$f":"IFERROR(IF(A1558=\"\",\"\",VLOOKUP(A1558,'Banco de Funcionários'!$A$2:$D$1048576,2,0)),\"\")","v":""},null,null,null,null,null,"00:00:00",null,"00:00:00","00:00:00"]
[null,{"$f":"IFERROR(IF(A1559=\"\",\"\",VLOOKUP(A1559,'Banco de Funcionários'!$A$2:$D$1048576,2,0)),\"\")","v":""},null,null,null,null,null,"00:00:00",null,"00:00:00","00:00:00"]
[null,{"$f":"IFERROR(IF(A1560=\"\",\"\",VLOOKUP(A1560,'Banco de Funcionários'!$A$2:$D$1048576,2,0)),\"\")","v":""},null,null,null,null,null,"00:00:00",null,"00:00:00","00:00:00"]
[null,{"$f":"IFERROR(IF(A1561=\"\",\"\",VLOOKUP(A1561,'Banco de Funcionários'!$A$2:$D$1048576,2,0)),\"\")","v":""},null,null,null,null,null,"00:00:00",null,"00:00:00","00:00:00"]
[null,{"$f":"IFERROR(IF(A1562=\"\",\"\",VLOOKUP(A1562,'Banco de Funcionários'!$A$2:$D$1048576,2,0)),\"\")","v":""},null,null,null,null,null,"00:00:00",null,"00:00:00","00:00:00"]
[null,{"$f":"IFERROR(IF(A1563=\"\",\"\",VLOOKUP(A1563,'Banco de Funcionários'!$A$2:$D$1048576,2,0)),\"\")","v":""},null,null,null,null,null,"00:00:00",null,"00:00:00","00:00:00"]
[null,{"$f":"IFERROR(IF(A1564=\"\",\"\",VLOOKUP(A1564,'Banco de Funcionários'!$A$2:$D$1048576,2,0)),\"\")","v":""},null,null,null,null,null,"00:00:00",null,"00:00:00","00:00:00"]
[null,{"$f":"IFERROR(IF(A1565=\"\",\"\",VLOOKUP(A1565,'Banco de Funcionários'!$A$2:$D$1048576,2,0)),\"\")","v":""},null,null,null,null,null,"00:00:00",null,"00:00:00","00:00:00"]
[null,{"$f":"IFERROR(IF(A1566=\"\",\"\",VLOOKUP(A1566,'Banco de Funcionários'!$A$2:$D$1048576,2,0)),\"\")","v":""},null,null,null,null,null,"00:00:00",null,"00:00:00","00:00:00"]
[null,{"$f":"IFERROR(IF(A1567=\"\",\"\",VLOOKUP(A1567,'Banco de Funcionários'!$A$2:$D$1048576,2,0)),\"\")","v":""},null,null,null,null,null,"00:00:00",null,"00:00:00","00:00:00"]
[null,{"$f":"IFERROR(IF(A1568=\"\",\"\",VLOOKUP(A1568,'Banco de Funcionários'!$A$2:$D$1048576,2,0)),\"\")","v":""},null,null,null,null,null,"00:00:00",null,"00:00:00","00:00:00"]
[null,{"$f":"IFERROR(IF(A1569=\"\",\"\",VLOOKUP(A1569,'Banco de Funcionários'!$A$2:$D$1048576,2,0)),\"\")","v":""},null,null,null,null,null,"00:00:00",null,"00:00:00","00:00:00"]
[null,{"$f":"IFERROR(IF(A1570=\"\",\"\",VLOOKUP(A1570,'Banco de Funcionários'!$A$2:$D$1048576,2,0)),\"\")","v":""},null,null,null,null,null,"00:00:00",null,"00:00:00","00:00:00"]
[null,{"$f":"IFERROR(IF(A1571=\"\",\"\",VLOOKUP(A1571,'Banco de Funcionários'!$A$2:$D$1048576,2,0)),\"\")","v":""},null,null,null,null,null,"00:00:00",null,"00:00:00","00:00:00"]
[null,{"$f":"IFERROR(IF(A1572=\"\",\"\",VLOOKUP(A1572,'Banco de Funcionários'!$A$2:$D$1048576,2,0)),\"\")","v":""},null,null,null,null,null,"00:00:00",null,"00:00:00","00:00:00"]
[null,{"$f":"IFERROR(IF(A1573=\"\",\"\",VLOOKUP(A1573,'Banco de Funcionários'!$A$2:$D$1048576,2,0)),\"\")","v":""},null,null,null,null,null,"00:00:00",null,"00:00:00","00:00:00"]
[null,{"$f":"IFERROR(IF(A1574=\"\",\"\",VLOOKUP(A1574,'Banco de Funcionários'!$A$2:$D$1048576,2,0)),\"\")","v":""},null,null,null,null,null,"00:00:00",null,"00:00:00","00:00:00"]
[null,{"$f":"IFERROR(IF(A1575=\"\",\"\",VLOOKUP(A1575,'Banco de Funcionários'!$A$2:$D$1048576,2,0)),\"\")","v":""},null,null,null,null,null,"00:00:00",null,"00:00:00","00:00:00"]
[null,{"$f":"IFERROR(IF(A1576=\"\",\"\",VLOOKUP(A1576,'Banco de Funcionários'!$A$2:$D$1048576,2,0)),\"\")","v":""},null,null,null,null,null,"00:00:00",null,"00:00:00","00:00:00"]
[null,{"$f":"IFERROR(IF(A1577=\"\",\"\",VLOOKUP(A1577,'Banco de Funcionários'!$A$2:$D$1048576,2,0)),\"\")","v":""},null,null,null,null,null,"00:00:00",null,"00:00:00","00:00:00"]
[null,{"$f":"IFERROR(IF(A1578=\"\",\"\",VLOOKUP(A1578,'Banco de Funcionários'!$A$2:$D$1048576,2,0)),\"\")","v":""},null,null,null,null,null,"00:00:00",null,"00:00:00","00:00:00"]
[null,{"$f":"IFERROR(IF(A1579=\"\",\"\",VLOOKUP(A1579,'Banco de Funcionários'!$A$2:$D$1048576,2,0)),\"\")","v":""},null,null,null,null,null,"00:00:00",null,"00:00:00","00:00:00"]
[null,{"$f":"IFERROR(IF(A1580=\"\",\"\",VLOOKUP(A1580,'Banco de Funcionários'!$A$2:$D$1048576,2,0)),\"\")","v":""},null,null,null,null,null,"00:00:00",null,"00:00:00","00:00:00"]
[null,{"$f":"IFERROR(IF(A1581=\"\",\"\",VLOOKUP(A1581,'Banco de Funcionários'!$A$2:$D$1048576,2,0)),\"\")","v":""},null,null,null,null,null,"00:00:00",null,"00:00:00","00:00:00"]
[null,{"$f":"IFERROR(IF(A1582=\"\",\"\",VLOOKUP(A1582,'Banco de Funcionários'!$A$2:$D$1048576,2,0)),\"\")","v":""},null,null,null,null,null,"00:00:00",null,"00:00:00","00:00:00"]
[null,{"$f":"IFERROR(IF(A1583=\"\",\"\",VLOOKUP(A1583,'Banco de Funcionários'!$A$2:$D$1048576,2,0)),\"\")","v":""},null,null,null,null,null,"00:00:00",null,"00:00:00","00:00:00"]
[null,{"$f":"IFERROR(IF(A1584=\"\",\"\",VLOOKUP(A1584,'Banco de Funcionários'!$A$2:$D$1048576,2,0)),\"\")","v":""},null,null,null,null,null,"00:00:00",null,"00:00:00","00:00:00"]
[null,{"$f":"IFERROR(IF(A1585=\"\",\"\",VLOOKUP(A1585,'Banco de Funcionários'!$A$2:$D$1048576,2,0)),\"\")","v":""},null,null,null,null,null,"00:00:00",null,"00:00:00","00:00:00"]
[null,{"$f":"IFERROR(IF(A1586=\"\",\"\",VLOOKUP(A1586,'Banco de Funcionários'!$A$2:$D$1048576,2,0)),\"\")","v":""},null,null,null,null,null,"00:00:00",null,"00:00:00","00:00:00"]
[null,{"$f":"IFERROR(IF(A1587=\"\",\"\",VLOOKUP(A1587,'Banco de Funcionários'!$A$2:$D$1048576,2,0)),\"\")","v":""},null,null,null,null,null,"00:00:00",null,"00:00:00","00:00:00"]
[null,{"$f":"IFERROR(IF(A1588=\"\",\"\",VLOOKUP(A1588,'Banco de Funcionários'!$A$2:$D$1048576,2,0)),\"\")","v":""},null,null,null,null,null,"00:00:00",null,"00:00:00","00:00:00"]
[null,{"$f":"IFERROR(IF(A1589=\"\",\"\",VLOOKUP(A1589,'Banco de Funcionários'!$A$2:$D$1048576,2,0)),\"\")","v":""},null,null,null,null,null,"00:00:00",null,"00:00:00","00:00:00"]
[null,{"$f":"IFERROR(IF(A1590=\"\",\"\",VLOOKUP(A1590,'Banco de Funcionários'!$A$2:$D$1048576,2,0)),\"\")","v":""},null,null,null,null,null,"00:00:00",null,"00:00:00","00:00:00"]
[null,{"$f":"IFERROR(IF(A1591=\"\",\"\",VLOOKUP(A1591,'Banco de Funcionários'!$A$2:$D$1048576,2,0)),\"\")","v":""},null,null,null,null,null,"00:00:00",null,"00:00:00","00:00:00"]
[null,{"$f":"IFERROR(IF(A1592=\"\",\"\",VLOOKUP(A1592,'Banco de Funcionários'!$A$2:$D$1048576,2,0)),\"\")","v":""},null,null,null,null,null,"00:00:00",null,"00:00:00","00:00:00"]
[null,{"$f":"IFERROR(IF(A1593=\"\",\"\",VLOOKUP(A1593,'Banco de Funcionários'!$A$2:$D$1048576,2,0)),\"\")","v":""},null,null,null,null,null,"00:00:00",null,"00:00:00","00:00:00"]
[null,{"$f":"IFERROR(IF(A1594=\"\",\"\",VLOOKUP(A1594,'Banco de Funcionários'!$A$2:$D$1048576,2,0)),\"\")","v":""},null,null,null,null,null,"00:00:00",null,"00:00:00","00:00:00"]
[null,{"$f":"IFERROR(IF(A1595=\"\",\"\",VLOOKUP(A1595,'Banco de Funcionários'!$A$2:$D$1048576,2,0)),\"\")","v":""},null,null,null,null,null,"00:00:00",null,"00:00:00","00:00:00"]
[null,{"$f":"IFERROR(IF(A1596=\"\",\"\",VLOOKUP(A1596,'Banco de Funcionários'!$A$2:$D$1048576,2,0)),\"\")","v":""},null,null,null,null,null,"00:00:00",null,"00:00:00","00:00:00"]
[null,{"$f":"IFERROR(IF(A1597=\"\",\"\",VLOOKUP(A1597,'Banco de Funcionários'!$A$2:$D$1048576,2,0)),\"\")","v":""},null,null,null,null,null,"00:00:00",null,"00:00:00","00:00:00"]
[null,{"$f":"IFERROR(IF(A1598=\"\",\"\",VLOOKUP(A1598,'Banco de Funcionários'!$A$2:$D$1048576,2,0)),\"\")","v":""},null,null,null,null,null,"00:00:00",null,"00:00:00","00:00:00"]
[null,{"$f":"IFERROR(IF(A1599=\"\",\"\",VLOOKUP(A1599,'Banco de Funcionários'!$A$2:$D$1048576,2,0)),\"\")","v":""},null,null,null,null,null,"00:00:00",null,"00:00:00","00:00:00"]
[null,{"$f":"IFERROR(IF(A1600=\"\",\"\",VLOOKUP(A1600,'Banco de Funcionários'!$A$2:$D$1048576,2,0)),\"\")","v":""},null,null,null,null,null,"00:00:00",null,"00:00:00","00:00:00"]
[null,{"$f":"IFERROR(IF(A1601=\"\",\"\",VLOOKUP(A1601,'Banco de Funcionários'!$A$2:$D$1048576,2,0)),\"\")","v":""},null,null,null,null,null,"00:00:00",null,"00:00:00","00:00:00"]
[null,{"$f":"IFERROR(IF(A1602=\"\",\"\",VLOOKUP(A1602,'Banco de Funcionários'!$A$2:$D$1048576,2,0)),\"\")","v":""},null,null,null,null,null,"00:00:00",null,"00:00:00","00:00:00"]
[null,{"$f":"IFERROR(IF(A1603=\"\",\"\",VLOOKUP(A1603,'Banco de Funcionários'!$A$2:$D$1048576,2,0)),\"\")","v":""},null,null,null,null,null,{"$f":"(F1603-E1603)-G1603","v":"00:00:00"},null,{"$f":"IFERROR(H1603-I1603,\"\")","v":"00:00:00"},{"$f":"IFERROR(H1603+J1603,0)","v":"00:00:00"}]
[null,{"$f":"IFERROR(IF(A1604=\"\",\"\",VLOOKUP(A1604,'Banco de Funcionários'!$A$2:$D$1048576,2,0)),\"\")","v":""},null,null,null,null,null,"00:00:00",null,"00:00:00","00:00:00"]
[null,{"$f":"IFERROR(IF(A1605=\"\",\"\",VLOOKUP(A1605,'Banco de Funcionários'!$A$2:$D$1048576,2,0)),\"\")","v":""},null,null,null,null,null,"00:00:00",null,"00:00:00","00:00:00"]
[null,{"$f":"IFERROR(IF(A1606=\"\",\"\",VLOOKUP(A1606,'Banco de Funcionários'!$A$2:$D$1048576,2,0)),\"\")","v":""},null,null,null,null,null,"00:00:00",null,"00:00:00","00:00:00"]
[null,{"$f":"IFERROR(IF(A1607=\"\",\"\",VLOOKUP(A1607,'Banco de Funcionários'!$A$2:$D$1048576,2,0)),\"\")","v":""},null,null,null,null,null,"00:00:00",null,"00:00:00","00:00:00"]
[null,{"$f":"IFERROR(IF(A1608=\"\",\"\",VLOOKUP(A1608,'Banco de Funcionários'!$A$2:$D$1048576,2,0)),\"\")","v":""},null,null,null,null,null,"00:00:00",null,"00:00:00","00:00:00"]
[null,{"$f":"IFERROR(IF(A1609=\"\",\"\",VLOOKUP(A1609,'Banco de Funcionários'!$A$2:$D$1048576,2,0)),\"\")","v":""},null,null,null,null,null,"00:00:00",null,"00:00:00","00:00:00"]
[null,{"$f":"IFERROR(IF(A1610=\"\",\"\",VLOOKUP(A1610,'Banco de Funcionários'!$A$2:$D$1048576,2,0)),\"\")","v":""},null,null,null,null,null,"00:00:00",null,"00:00:00","00:00:00"]
[null,{"$f":"IFERROR(IF(A1611=\"\",\"\",VLOOKUP(A1611,'Banco de Funcionários'!$A$2:$D$1048576,2,0)),\"\")","v":""},null,null,null,null,null,"00:00:00",null,"00:00:00","00:00:00"]
[null,{"$f":"IFERROR(IF(A1612=\"\",\"\",VLOOKUP(A1612,'Banco de Funcionários'!$A$2:$D$1048576,2,0)),\"\")","v":""},null,null,null,null,null,"00:00:00",null,"00:00:00","00:00:00"]
[null,{"$f":"IFERROR(IF(A1613=\"\",\"\",VLOOKUP(A1613,'Banco de Funcionários'!$A$2:$D$1048576,2,0)),\"\")","v":""},null,null,null,null,null,"00:00:00",null,"00:00:00","00:00:00"]
[null,{"$f":"IFERROR(IF(A1614=\"\",\"\",VLOOKUP(A1614,'Banco de Funcionários'!$A$2:$D$1048576,2,0)),\"\")","v":""},null,null,null,null,null,"00:00:00",null,"00:00:00","00:00:00"]
[null,{"$f":"IFERROR(IF(A1615=\"\",\"\",VLOOKUP(A1615,'Banco de Funcionários'!$A$2:$D$1048576,2,0)),\"\")","v":""},null,null,null,null,null,"00:00:00",null,"00:00:00","00:00:00"]
[null,{"$f":"IFERROR(IF(A1616=\"\",\"\",VLOOKUP(A1616,'Banco de Funcionários'!$A$2:$D$1048576,2,0)),\"\")","v":""},null,null,null,null,null,"00:00:00",null,"00:00:00","00:00:00"]
[null,{"$f":"IFERROR(IF(A1617=\"\",\"\",VLOOKUP(A1617,'Banco de Funcionários'!$A$2:$D$1048576,2,0)),\"\")","v":""},null,null,null,null,null,"00:00:00",null,"00:00:00","00:00:00"]
[null,{"$f":"IFERROR(IF(A1618=\"\",\"\",VLOOKUP(A1618,'Banco de Funcionários'!$A$2:$D$1048576,2,0)),\"\")","v":""},null,null,null,null,null,"00:00:00",null,"00:00:00","00:00:00"]
[null,{"$f":"IFERROR(IF(A1619=\"\",\"\",VLOOKUP(A1619,'Banco de Funcionários'!$A$2:$D$1048576,2,0)),\"\")","v":""},null,null,null,null,null,"00:00:00",null,"00:00:00","00:00:00"]
[null,{"$f":"IFERROR(IF(A1620=\"\",\"\",VLOOKUP(A1620,'Banco de Funcionários'!$A$2:$D$1048576,2,0)),\"\")","v":""},null,null,null,null,null,"00:00:00",null,"00:00:00","00:00:00"]
[null,{"$f":"IFERROR(IF(A1621=\"\",\"\",VLOOKUP(A1621,'Banco de Funcionários'!$A$2:$D$1048576,2,0)),\"\")","v":""},null,null,null,null,null,"00:00:00",null,"00:00:00","00:00:00"]
[null,{"$f":"IFERROR(IF(A1622=\"\",\"\",VLOOKUP(A1622,'Banco de Funcionários'!$A$2:$D$1048576,2,0)),\"\")","v":""},null,null,null,null,null,"00:00:00",null,"00:00:00","00:00:00"]
[null,{"$f":"IFERROR(IF(A1623=\"\",\"\",VLOOKUP(A1623,'Banco de Funcionários'!$A$2:$D$1048576,2,0)),\"\")","v":""},null,null,null,null,null,"00:00:00",null,"00:00:00","00:00:00"]
[null,{"$f":"IFERROR(IF(A1624=\"\",\"\",VLOOKUP(A1624,'Banco de Funcionários'!$A$2:$D$1048576,2,0)),\"\")","v":""},null,null,null,null,null,"00:00:00",null,"00:00:00","00:00:00"]
[null,{"$f":"IFERROR(IF(A1625=\"\",\"\",VLOOKUP(A1625,'Banco de Funcionários'!$A$2:$D$1048576,2,0)),\"\")","v":""},null,null,null,null,null,"00:00:00",null,"00:00:00","00:00:00"]
[null,{"$f":"IFERROR(IF(A1626=\"\",\"\",VLOOKUP(A1626,'Banco de Funcionários'!$A$2:$D$1048576,2,0)),\"\")","v":""},null,null,null,null,null,"00:00:00",null,"00:00:00","00:00:00"]
[null,{"$f":"IFERROR(IF(A1627=\"\",\"\",VLOOKUP(A1627,'Banco de Funcionários'!$A$2:$D$1048576,2,0)),\"\")","v":""},null,null,null,null,null,"00:00:00",null,"00:00:00","00:00:00"]
[null,{"$f":"IFERROR(IF(A1628=\"\",\"\",VLOOKUP(A1628,'Banco de Funcionários'!$A$2:$D$1048576,2,0)),\"\")","v":""},null,null,null,null,null,"00:00:00",null,"00:00:00","00:00:00"]
[null,{"$f":"IFERROR(IF(A1629=\"\",\"\",VLOOKUP(A1629,'Banco de Funcionários'!$A$2:$D$1048576,2,0)),\"\")","v":""},null,null,null,null,null,"00:00:00",null,"00:00:00","00:00:00"]
[null,{"$f":"IFERROR(IF(A1630=\"\",\"\",VLOOKUP(A1630,'Banco de Funcionários'!$A$2:$D$1048576,2,0)),\"\")","v":""},null,null,null,null,null,"00:00:00",null,"00:00:00","00:00:00"]
[null,{"$f":"IFERROR(IF(A1631=\"\",\"\",VLOOKUP(A1631,'Banco de Funcionários'!$A$2:$D$1048576,2,0)),\"\")","v":""},null,null,null,null,null,"00:00:00",null,"00:00:00","00:00:00"]
[null,{"$f":"IFERROR(IF(A1632=\"\",\"\",VLOOKUP(A1632,'Banco de Funcionários'!$A$2:$D$1048576,2,0)),\"\")","v":""},null,null,null,null,null,"00:00:00",null,"00:00:00","00:00:00"]
[null,{"$f":"IFERROR(IF(A1633=\"\",\"\",VLOOKUP(A1633,'Banco de Funcionários'!$A$2:$D$1048576,2,0)),\"\")","v":""},null,null,null,null,null,"00:00:00",null,"00:00:00","00:00:00"]
[null,{"$f":"IFERROR(IF(A1634=\"\",\"\",VLOOKUP(A1634,'Banco de Funcionários'!$A$2:$D$1048576,2,0)),\"\")","v":""},null,null,null,null,null,"00:00:00",null,"00:00:00","00:00:00"]
[null,{"$f":"IFERROR(IF(A1635=\"\",\"\",VLOOKUP(A1635,'Banco de Funcionários'!$A$2:$D$1048576,2,0)),\"\")","v":""},null,null,null,null,null,"00:00:00",null,"00:00:00","00:00:00"]
[null,{"$f":"IFERROR(IF(A1636=\"\",\"\",VLOOKUP(A1636,'Banco de Funcionários'!$A$2:$D$1048576,2,0)),\"\")","v":""},null,null,null,null,null,"00:00:00",null,"00:00:00","00:00:00"]
[null,{"$f":"IFERROR(IF(A1637=\"\",\"\",VLOOKUP(A1637,'Banco de Funcionários'!$A$2:$D$1048576,2,0)),\"\")","v":""},null,null,null,null,null,"00:00:00",null,"00:00:00","00:00:00"]
[null,{"$f":"IFERROR(IF(A1638=\"\",\"\",VLOOKUP(A1638,'Banco de Funcionários'!$A$2:$D$1048576,2,0)),\"\")","v":""},null,null,null,null,null,"00:00:00",null,"00:00:00","00:00:00"]
[null,{"$f":"IFERROR(IF(A1639=\"\",\"\",VLOOKUP(A1639,'Banco de Funcionários'!$A$2:$D$1048576,2,0)),\"\")","v":""},null,null,null,null,null,"00:00:00",null,"00:00:00","00:00:00"]
[null,{"$f":"IFERROR(IF(A1640=\"\",\"\",VLOOKUP(A1640,'Banco de Funcionários'!$A$2:$D$1048576,2,0)),\"\")","v":""},null,null,null,null,null,"00:00:00",null,"00:00:00","00:00:00"]
[null,{"$f":"IFERROR(IF(A1641=\"\",\"\",VLOOKUP(A1641,'Banco de Funcionários'!$A$2:$D$1048576,2,0)),\"\")","v":""},null,null,null,null,null,"00:00:00",null,"00:00:00","00:00:00"]
[null,{"$f":"IFERROR(IF(A1642=\"\",\"\",VLOOKUP(A1642,'Banco de Funcionários'!$A$2:$D$1048576,2,0)),\"\")","v":""},null,null,null,null,null,"00:00:00",null,"00:00:00","00:00:00"]
[null,{"$f":"IFERROR(IF(A1643=\"\",\"\",VLOOKUP(A1643,'Banco de Funcionários'!$A$2:$D$1048576,2,0)),\"\")","v":""},null,null,null,null,null,"00:00:00",null,"00:00:00","00:00:00"]
[null,{"$f":"IFERROR(IF(A1644=\"\",\"\",VLOOKUP(A1644,'Banco de Funcionários'!$A$2:$D$1048576,2,0)),\"\")","v":""},null,null,null,null,null,"00:00:00",null,"00:00:00","00:00:00"]
[null,{"$f":"IFERROR(IF(A1645=\"\",\"\",VLOOKUP(A1645,'Banco de Funcionários'!$A$2:$D$1048576,2,0)),\"\")","v":""},null,null,null,null,null,"00:00:00",null,"00:00:00","00:00:00"]
[null,{"$f":"IFERROR(IF(A1646=\"\",\"\",VLOOKUP(A1646,'Banco de Funcionários'!$A$2:$D$1048576,2,0)),\"\")","v":""},null,null,null,null,null,"00:00:00",null,"00:00:00","00:00:00"]
[null,{"$f":"IFERROR(IF(A1647=\"\",\"\",VLOOKUP(A1647,'Banco de Funcionários'!$A$2:$D$1048576,2,0)),\"\")","v":""},null,null,null,null,null,"00:00:00",null,"00:00:00","00:00:00"]
[null,{"$f":"IFERROR(IF(A1648=\"\",\"\",VLOOKUP(A1648,'Banco de Funcionários'!$A$2:$D$1048576,2,0)),\"\")","v":""},null,null,null,null,null,"00:00:00",null,"00:00:00","00:00:00"]
[null,{"$f":"IFERROR(IF(A1649=\"\",\"\",VLOOKUP(A1649,'Banco de Funcionários'!$A$2:$D$1048576,2,0)),\"\")","v":""},null,null,null,null,null,"00:00:00",null,"00:00:00","00:00:00"]
[null,{"$f":"IFERROR(IF(A1650=\"\",\"\",VLOOKUP(A1650,'Banco de Funcionários'!$A$2:$D$1048576,2,0)),\"\")","v":""},null,null,null,null,null,"00:00:00",null,"00:00:00","00:00:00"]
[null,{"$f":"IFERROR(IF(A1651=\"\",\"\",VLOOKUP(A1651,'Banco de Funcionários'!$A$2:$D$1048576,2,0)),\"\")","v":""},null,null,null,null,null,"00:00:00",null,"00:00:00","00:00:00"]
[null,{"$f":"IFERROR(IF(A1652=\"\",\"\",VLOOKUP(A1652,'Banco de Funcionários'!$A$2:$D$1048576,2,0)),\"\")","v":""},null,null,null,null,null,"00:00:00",null,"00:00:00","00:00:00"]
[null,{"$f":"IFERROR(IF(A1653=\"\",\"\",VLOOKUP(A1653,'Banco de Funcionários'!$A$2:$D$1048576,2,0)),\"\")","v":""},null,null,null,null,null,"00:00:00",null,"00:00:00","00:00:00"]
[null,{"$f":"IFERROR(IF(A1654=\"\",\"\",VLOOKUP(A1654,'Banco de Funcionários'!$A$2:$D$1048576,2,0)),\"\")","v":""},null,null,null,null,null,"00:00:00",null,"00:00:00","00:00:00"]
[null,{"$f":"IFERROR(IF(A1655=\"\",\"\",VLOOKUP(A1655,'Banco de Funcionários'!$A$2:$D$1048576,2,0)),\"\")","v":""},null,null,null,null,null,"00:00:00",null,"00:00:00","00:00:00"]
[null,{"$f":"IFERROR(IF(A1656=\"\",\"\",VLOOKUP(A1656,'Banco de Funcionários'!$A$2:$D$1048576,2,0)),\"\")","v":""},null,null,null,null,null,"00:00:00",null,"00:00:00","00:00:00"]
[null,{"$f":"IFERROR(IF(A1657=\"\",\"\",VLOOKUP(A1657,'Banco de Funcionários'!$A$2:$D$1048576,2,0)),\"\")","v":""},null,null,null,null,null,"00:00:00",null,"00:00:00","00:00:00"]
[null,{"$f":"IFERROR(IF(A1658=\"\",\"\",VLOOKUP(A1658,'Banco de Funcionários'!$A$2:$D$1048576,2,0)),\"\")","v":""},null,null,null,null,null,"00:00:00",null,"00:00:00","00:00:00"]
[null,{"$f":"IFERROR(IF(A1659=\"\",\"\",VLOOKUP(A1659,'Banco de Funcionários'!$A$2:$D$1048576,2,0)),\"\")","v":""},null,null,null,null,null,"00:00:00",null,"00:00:00","00:00:00"]
[null,{"$f":"IFERROR(IF(A1660=\"\",\"\",VLOOKUP(A1660,'Banco de Funcionários'!$A$2:$D$1048576,2,0)),\"\")","v":""},null,null,null,null,null,"00:00:00",null,"00:00:00","00:00:00"]
[null,{"$f":"IFERROR(IF(A1661=\"\",\"\",VLOOKUP(A1661,'Banco de Funcionários'!$A$2:$D$1048576,2,0)),\"\")","v":""},null,null,null,null,null,"00:00:00",null,"00:00:00","00:00:00"]
[null,{"$f":"IFERROR(IF(A1662=\"\",\"\",VLOOKUP(A1662,'Banco de Funcionários'!$A$2:$D$1048576,2,0)),\"\")","v":""},null,null,null,null,null,"00:00:00",null,"00:00:00","00:00:00"]
[null,{"$f":"IFERROR(IF(A1663=\"\",\"\",VLOOKUP(A1663,'Banco de Funcionários'!$A$2:$D$1048576,2,0)),\"\")","v":""},null,null,null,null,null,"00:00:00",null,"00:00:00","00:00:00"]
[null,{"$f":"IFERROR(IF(A1664=\"\",\"\",VLOOKUP(A1664,'Banco de Funcionários'!$A$2:$D$1048576,2,0)),\"\")","v":""},null,null,null,null,null,"00:00:00",null,"00:00:00","00:00:00"]
[null,{"$f":"IFERROR(IF(A1665=\"\",\"\",VLOOKUP(A1665,'Banco de Funcionários'!$A$2:$D$1048576,2,0)),\"\")","v":""},null,null,null,null,null,"00:00:00",null,"00:00:00","00:00:00"]
[null,{"$f":"IFERROR(IF(A1666=\"\",\"\",VLOOKUP(A1666,'Banco de Funcionários'!$A$2:$D$1048576,2,0)),\"\")","v":""},null,null,null,null,null,"00:00:00",null,"00:00:00","00:00:00"]
[null,{"$f":"IFERROR(IF(A1667=\"\",\"\",VLOOKUP(A1667,'Banco de Funcionários'!$A$2:$D$1048576,2,0)),\"\")","v":""},null,null,null,null,null,{"$f":"(F1667-E1667)-G1667","v":"00:00:00"},null,{"$f":"IFERROR(H1667-I1667,\"\")","v":"00:00:00"},{"$f":"IFERROR(H1667+J1667,0)","v":"00:00:00"}]
[null,{"$f":"IFERROR(IF(A1668=\"\",\"\",VLOOKUP(A1668,'Banco de Funcionários'!$A$2:$D$1048576,2,0)),\"\")","v":""},null,null,null,null,null,"00:00:00",null,"00:00:00","00:00:00"]
[null,{"$f":"IFERROR(IF(A1669=\"\",\"\",VLOOKUP(A1669,'Banco de Funcionários'!$A$2:$D$1048576,2,0)),\"\")","v":""},null,null,null,null,null,"00:00:00",null,"00:00:00","00:00:00"]
[null,{"$f":"IFERROR(IF(A1670=\"\",\"\",VLOOKUP(A1670,'Banco de Funcionários'!$A$2:$D$1048576,2,0)),\"\")","v":""},null,null,null,null,null,"00:00:00",null,"00:00:00","00:00:00"]
[null,{"$f":"IFERROR(IF(A1671=\"\",\"\",VLOOKUP(A1671,'Banco de Funcionários'!$A$2:$D$1048576,2,0)),\"\")","v":""},null,null,null,null,null,"00:00:00",null,"00:00:00","00:00:00"]
[null,{"$f":"IFERROR(IF(A1672=\"\",\"\",VLOOKUP(A1672,'Banco de Funcionários'!$A$2:$D$1048576,2,0)),\"\")","v":""},null,null,null,null,null,"00:00:00",null,"00:00:00","00:00:00"]
[null,{"$f":"IFERROR(IF(A1673=\"\",\"\",VLOOKUP(A1673,'Banco de Funcionários'!$A$2:$D$1048576,2,0)),\"\")","v":""},null,null,null,null,null,"00:00:00",null,"00:00:00","00:00:00"]
[null,{"$f":"IFERROR(IF(A1674=\"\",\"\",VLOOKUP(A1674,'Banco de Funcionários'!$A$2:$D$1048576,2,0)),\"\")","v":""},null,null,null,null,null,"00:00:00",null,"00:00:00","00:00:00"]
[null,{"$f":"IFERROR(IF(A1675=\"\",\"\",VLOOKUP(A1675,'Banco de Funcionários'!$A$2:$D$1048576,2,0)),\"\")","v":""},null,null,null,null,null,"00:00:00",null,"00:00:00","00:00:00"]
[null,{"$f":"IFERROR(IF(A1676=\"\",\"\",VLOOKUP(A1676,'Banco de Funcionários'!$A$2:$D$1048576,2,0)),\"\")","v":""},null,null,null,null,null,"00:00:00",null,"00:00:00","00:00:00"]
[null,{"$f":"IFERROR(IF(A1677=\"\",\"\",VLOOKUP(A1677,'Banco de Funcionários'!$A$2:$D$1048576,2,0)),\"\")","v":""},null,null,null,null,null,"00:00:00",null,"00:00:00","00:00:00"]
[null,{"$f":"IFERROR(IF(A1678=\"\",\"\",VLOOKUP(A1678,'Banco de Funcionários'!$A$2:$D$1048576,2,0)),\"\")","v":""},null,null,null,null,null,"00:00:00",null,"00:00:00","00:00:00"]
[null,{"$f":"IFERROR(IF(A1679=\"\",\"\",VLOOKUP(A1679,'Banco de Funcionários'!$A$2:$D$1048576,2,0)),\"\")","v":""},null,null,null,null,null,"00:00:00",null,"00:00:00","00:00:00"]
[null,{"$f":"IFERROR(IF(A1680=\"\",\"\",VLOOKUP(A1680,'Banco de Funcionários'!$A$2:$D$1048576,2,0)),\"\")","v":""},null,null,null,null,null,"00:00:00",null,"00:00:00","00:00:00"]
[null,{"$f":"IFERROR(IF(A1681=\"\",\"\",VLOOKUP(A1681,'Banco de Funcionários'!$A$2:$D$1048576,2,0)),\"\")","v":""},null,null,null,null,null,"00:00:00",null,"00:00:00","00:00:00"]
[null,{"$f":"IFERROR(IF(A1682=\"\",\"\",VLOOKUP(A1682,'Banco de Funcionários'!$A$2:$D$1048576,2,0)),\"\")","v":""},null,null,null,null,null,"00:00:00",null,"00:00:00","00:00:00"]
[null,{"$f":"IFERROR(IF(A1683=\"\",\"\",VLOOKUP(A1683,'Banco de Funcionários'!$A$2:$D$1048576,2,0)),\"\")","v":""},null,null,null,null,null,"00:00:00",null,"00:00:00","00:00:00"]
[null,{"$f":"IFERROR(IF(A1684=\"\",\"\",VLOOKUP(A1684,'Banco de Funcionários'!$A$2:$D$1048576,2,0)),\"\")","v":""},null,null,null,null,null,"00:00:00",null,"00:00:00","00:00:00"]
[null,{"$f":"IFERROR(IF(A1685=\"\",\"\",VLOOKUP(A1685,'Banco de Funcionários'!$A$2:$D$1048576,2,0)),\"\")","v":""},null,null,null,null,null,"00:00:00",null,"00:00:00","00:00:00"]
[null,{"$f":"IFERROR(IF(A1686=\"\",\"\",VLOOKUP(A1686,'Banco de Funcionários'!$A$2:$D$1048576,2,0)),\"\")","v":""},null,null,null,null,null,"00:00:00",null,"00:00:00","00:00:00"]
[null,{"$f":"IFERROR(IF(A1687=\"\",\"\",VLOOKUP(A1687,'Banco de Funcionários'!$A$2:$D$1048576,2,0)),\"\")","v":""},null,null,null,null,null,"00:00:00",null,"00:00:00","00:00:00"]
[null,{"$f":"IFERROR(IF(A1688=\"\",\"\",VLOOKUP(A1688,'Banco de Funcionários'!$A$2:$D$1048576,2,0)),\"\")","v":""},null,null,null,null,null,"00:00:00",null,"00:00:00","00:00:00"]
[null,{"$f":"IFERROR(IF(A1689=\"\",\"\",VLOOKUP(A1689,'Banco de Funcionários'!$A$2:$D$1048576,2,0)),\"\")","v":""},null,null,null,null,null,"00:00:00",null,"00:00:00","00:00:00"]
[null,{"$f":"IFERROR(IF(A1690=\"\",\"\",VLOOKUP(A1690,'Banco de Funcionários'!$A$2:$D$1048576,2,0)),\"\")","v":""},null,null,null,null,null,"00:00:00",null,"00:00:00","00:00:00"]
[null,{"$f":"IFERROR(IF(A1691=\"\",\"\",VLOOKUP(A1691,'Banco de Funcionários'!$A$2:$D$1048576,2,0)),\"\")","v":""},null,null,null,null,null,"00:00:00",null,"00:00:00","00:00:00"]
[null,{"$f":"IFERROR(IF(A1692=\"\",\"\",VLOOKUP(A1692,'Banco de Funcionários'!$A$2:$D$1048576,2,0)),\"\")","v":""},null,null,null,null,null,"00:00:00",null,"00:00:00","00:00:00"]
[null,{"$f":"IFERROR(IF(A1693=\"\",\"\",VLOOKUP(A1693,'Banco de Funcionários'!$A$2:$D$1048576,2,0)),\"\")","v":""},null,null,null,null,null,"00:00:00",null,"00:00:00","00:00:00"]
[null,{"$f":"IFERROR(IF(A1694=\"\",\"\",VLOOKUP(A1694,'Banco de Funcionários'!$A$2:$D$1048576,2,0)),\"\")","v":""},null,null,null,null,null,"00:00:00",null,"00:00:00","00:00:00"]
[null,{"$f":"IFERROR(IF(A1695=\"\",\"\",VLOOKUP(A1695,'Banco de Funcionários'!$A$2:$D$1048576,2,0)),\"\")","v":""},null,null,null,null,null,"00:00:00",null,"00:00:00","00:00:00"]
[null,{"$f":"IFERROR(IF(A1696=\"\",\"\",VLOOKUP(A1696,'Banco de Funcionários'!$A$2:$D$1048576,2,0)),\"\")","v":""},null,null,null,null,null,"00:00:00",null,"00:00:00","00:00:00"]
[null,{"$f":"IFERROR(IF(A1697=\"\",\"\",VLOOKUP(A1697,'Banco de Funcionários'!$A$2:$D$1048576,2,0)),\"\")","v":""},null,null,null,null,null,"00:00:00",null,"00:00:00","00:00:00"]
[null,{"$f":"IFERROR(IF(A1698=\"\",\"\",VLOOKUP(A1698,'Banco de Funcionários'!$A$2:$D$1048576,2,0)),\"\")","v":""},null,null,null,null,null,"00:00:00",null,"00:00:00","00:00:00"]
[null,{"$f":"IFERROR(IF(A1699=\"\",\"\",VLOOKUP(A1699,'Banco de Funcionários'!$A$2:$D$1048576,2,0)),\"\")","v":""},null,null,null,null,null,"00:00:00",null,"00:00:00","00:00:00"]
[null,{"$f":"IFERROR(IF(A1700=\"\",\"\",VLOOKUP(A1700,'Banco de Funcionários'!$A$2:$D$1048576,2,0)),\"\")","v":""},null,null,null,null,null,"00:00:00",null,"00:00:00","00:00:00"]
[null,{"$f":"IFERROR(IF(A1701=\"\",\"\",VLOOKUP(A1701,'Banco de Funcionários'!$A$2:$D$1048576,2,0)),\"\")","v":""},null,null,null,null,null,"00:00:00",null,"00:00:00","00:00:00"]
[null,{"$f":"IFERROR(IF(A1702=\"\",\"\",VLOOKUP(A1702,'Banco de Funcionários'!$A$2:$D$1048576,2,0)),\"\")","v":""},null,null,null,null,null,"00:00:00",null,"00:00:00","00:00:00"]
[null,{"$f":"IFERROR(IF(A1703=\"\",\"\",VLOOKUP(A1703,'Banco de Funcionários'!$A$2:$D$1048576,2,0)),\"\")","v":""},null,null,null,null,null,"00:00:00",null,"00:00:00","00:00:00"]
[null,{"$f":"IFERROR(IF(A1704=\"\",\"\",VLOOKUP(A1704,'Banco de Funcionários'!$A$2:$D$1048576,2,0)),\"\")","v":""},null,null,null,null,null,"00:00:00",null,"00:00:00","00:00:00"]
[null,{"$f":"IFERROR(IF(A1705=\"\",\"\",VLOOKUP(A1705,'Banco de Funcionários'!$A$2:$D$1048576,2,0)),\"\")","v":""},null,null,null,null,null,"00:00:00",null,"00:00:00","00:00:00"]
[null,{"$f":"IFERROR(IF(A1706=\"\",\"\",VLOOKUP(A1706,'Banco de Funcionários'!$A$2:$D$1048576,2,0)),\"\")","v":""},null,null,null,null,null,"00:00:00",null,"00:00:00","00:00:00"]
[null,{"$f":"IFERROR(IF(A1707=\"\",\"\",VLOOKUP(A1707,'Banco de Funcionários'!$A$2:$D$1048576,2,0)),\"\")","v":""},null,null,null,null,null,"00:00:00",null,"00:00:00","00:00:00"]
[null,{"$f":"IFERROR(IF(A1708=\"\",\"\",VLOOKUP(A1708,'Banco de Funcionários'!$A$2:$D$1048576,2,0)),\"\")","v":""},null,null,null,null,null,"00:00:00",null,"00:00:00","00:00:00"]
[null,{"$f":"IFERROR(IF(A1709=\"\",\"\",VLOOKUP(A1709,'Banco de Funcionários'!$A$2:$D$1048576,2,0)),\"\")","v":""},null,null,null,null,null,"00:00:00",null,"00:00:00","00:00:00"]
[null,{"$f":"IFERROR(IF(A1710=\"\",\"\",VLOOKUP(A1710,'Banco de Funcionários'!$A$2:$D$1048576,2,0)),\"\")","v":""},null,null,null,null,null,"00:00:00",null,"00:00:00","00:00:00"]
[null,{"$f":"IFERROR(IF(A1711=\"\",\"\",VLOOKUP(A1711,'Banco de Funcionários'!$A$2:$D$1048576,2,0)),\"\")","v":""},null,null,null,null,null,"00:00:00",null,"00:00:00","00:00:00"]
[null,{"$f":"IFERROR(IF(A1712=\"\",\"\",VLOOKUP(A1712,'Banco de Funcionários'!$A$2:$D$1048576,2,0)),\"\")","v":""},null,null,null,null,null,"00:00:00",null,"00:00:00","00:00:00"]
[null,{"$f":"IFERROR(IF(A1713=\"\",\"\",VLOOKUP(A1713,'Banco de Funcionários'!$A$2:$D$1048576,2,0)),\"\")","v":""},null,null,null,null,null,"00:00:00",null,"00:00:00","00:00:00"]
[null,{"$f":"IFERROR(IF(A1714=\"\",\"\",VLOOKUP(A1714,'Banco de Funcionários'!$A$2:$D$1048576,2,0)),\"\")","v":""},null,null,null,null,null,"00:00:00",null,"00:00:00","00:00:00"]
[null,{"$f":"IFERROR(IF(A1715=\"\",\"\",VLOOKUP(A1715,'Banco de Funcionários'!$A$2:$D$1048576,2,0)),\"\")","v":""},null,null,null,null,null,"00:00:00",null,"00:00:00","00:00:00"]
[null,{"$f":"IFERROR(IF(A1716=\"\",\"\",VLOOKUP(A1716,'Banco de Funcionários'!$A$2:$D$1048576,2,0)),\"\")","v":""},null,null,null,null,null,"00:00:00",null,"00:00:00","00:00:00"]
[null,{"$f":"IFERROR(IF(A1717=\"\",\"\",VLOOKUP(A1717,'Banco de Funcionários'!$A$2:$D$1048576,2,0)),\"\")","v":""},null,null,null,null,null,"00:00:00",null,"00:00:00","00:00:00"]
[null,{"$f":"IFERROR(IF(A1718=\"\",\"\",VLOOKUP(A1718,'Banco de Funcionários'!$A$2:$D$1048576,2,0)),\"\")","v":""},null,null,null,null,null,"00:00:00",null,"00:00:00","00:00:00"]
[null,{"$f":"IFERROR(IF(A1719=\"\",\"\",VLOOKUP(A1719,'Banco de Funcionários'!$A$2:$D$1048576,2,0)),\"\")","v":""},null,null,null,null,null,"00:00:00",null,"00:00:00","00:00:00"]
[null,{"$f":"IFERROR(IF(A1720=\"\",\"\",VLOOKUP(A1720,'Banco de Funcionários'!$A$2:$D$1048576,2,0)),\"\")","v":""},null,null,null,null,null,"00:00:00",null,"00:00:00","00:00:00"]
[null,{"$f":"IFERROR(IF(A1721=\"\",\"\",VLOOKUP(A1721,'Banco de Funcionários'!$A$2:$D$1048576,2,0)),\"\")","v":""},null,null,null,null,null,"00:00:00",null,"00:00:00","00:00:00"]
[null,{"$f":"IFERROR(IF(A1722=\"\",\"\",VLOOKUP(A1722,'Banco de Funcionários'!$A$2:$D$1048576,2,0)),\"\")","v":""},null,null,null,null,null,"00:00:00",null,"00:00:00","00:00:00"]
[null,{"$f":"IFERROR(IF(A1723=\"\",\"\",VLOOKUP(A1723,'Banco de Funcionários'!$A$2:$D$1048576,2,0)),\"\")","v":""},null,null,null,null,null,"00:00:00",null,"00:00:00","00:00:00"]
[null,{"$f":"IFERROR(IF(A1724=\"\",\"\",VLOOKUP(A1724,'Banco de Funcionários'!$A$2:$D$1048576,2,0)),\"\")","v":""},null,null,null,null,null,"00:00:00",null,"00:00:00","00:00:00"]
[null,{"$f":"IFERROR(IF(A1725=\"\",\"\",VLOOKUP(A1725,'Banco de Funcionários'!$A$2:$D$1048576,2,0)),\"\")","v":""},null,null,null,null,null,"00:00:00",null,"00:00:00","00:00:00"]
[null,{"$f":"IFERROR(IF(A1726=\"\",\"\",VLOOKUP(A1726,'Banco de Funcionários'!$A$2:$D$1048576,2,0)),\"\")","v":""},null,null,null,null,null,"00:00:00",null,"00:00:00","00:00:00"]
[null,{"$f":"IFERROR(IF(A1727=\"\",\"\",VLOOKUP(A1727,'Banco de Funcionários'!$A$2:$D$1048576,2,0)),\"\")","v":""},null,null,null,null,null,"00:00:00",null,"00:00:00","00:00:00"]
[null,{"$f":"IFERROR(IF(A1728=\"\",\"\",VLOOKUP(A1728,'Banco de Funcionários'!$A$2:$D$1048576,2,0)),\"\")","v":""},null,null,null,null,null,"00:00:00",null,"00:00:00","00:00:00"]
[null,{"$f":"IFERROR(IF(A1729=\"\",\"\",VLOOKUP(A1729,'Banco de Funcionários'!$A$2:$D$1048576,2,0)),\"\")","v":""},null,null,null,null,null,"00:00:00",null,"00:00:00","00:00:00"]
[null,{"$f":"IFERROR(IF(A1730=\"\",\"\",VLOOKUP(A1730,'Banco de Funcionários'!$A$2:$D$1048576,2,0)),\"\")","v":""},null,null,null,null,null,"00:00:00",null,"00:00:00","00:00:00"]
[null,{"$f":"IFERROR(IF(A1731=\"\",\"\",VLOOKUP(A1731,'Banco de Funcionários'!$A$2:$D$1048576,2,0)),\"\")","v":""},null,null,null,null,null,{"$f":"(F1731-E1731)-G1731","v":"00:00:00"},null,{"$f":"IFERROR(H1731-I1731,\"\")","v":"00:00:00"},{"$f":"IFERROR(H1731+J1731,0)","v":"00:00:00"}]
[null,{"$f":"IFERROR(IF(A1732=\"\",\"\",VLOOKUP(A1732,'Banco de Funcionários'!$A$2:$D$1048576,2,0)),\"\")","v":""},null,null,null,null,null,"00:00:00",null,"00:00:00","00:00:00"]
[null,{"$f":"IFERROR(IF(A1733=\"\",\"\",VLOOKUP(A1733,'Banco de Funcionários'!$A$2:$D$1048576,2,0)),\"\")","v":""},null,null,null,null,null,"00:00:00",null,"00:00:00","00:00:00"]
[null,{"$f":"IFERROR(IF(A1734=\"\",\"\",VLOOKUP(A1734,'Banco de Funcionários'!$A$2:$D$1048576,2,0)),\"\")","v":""},null,null,null,null,null,"00:00:00",null,"00:00:00","00:00:00"]
[null,{"$f":"IFERROR(IF(A1735=\"\",\"\",VLOOKUP(A1735,'Banco de Funcionários'!$A$2:$D$1048576,2,0)),\"\")","v":""},null,null,null,null,null,"00:00:00",null,"00:00:00","00:00:00"]
[null,{"$f":"IFERROR(IF(A1736=\"\",\"\",VLOOKUP(A1736,'Banco de Funcionários'!$A$2:$D$1048576,2,0)),\"\")","v":""},null,null,null,null,null,"00:00:00",null,"00:00:00","00:00:00"]
[null,{"$f":"IFERROR(IF(A1737=\"\",\"\",VLOOKUP(A1737,'Banco de Funcionários'!$A$2:$D$1048576,2,0)),\"\")","v":""},null,null,null,null,null,"00:00:00",null,"00:00:00","00:00:00"]
[null,{"$f":"IFERROR(IF(A1738=\"\",\"\",VLOOKUP(A1738,'Banco de Funcionários'!$A$2:$D$1048576,2,0)),\"\")","v":""},null,null,null,null,null,"00:00:00",null,"00:00:00","00:00:00"]
[null,{"$f":"IFERROR(IF(A1739=\"\",\"\",VLOOKUP(A1739,'Banco de Funcionários'!$A$2:$D$1048576,2,0)),\"\")","v":""},null,null,null,null,null,"00:00:00",null,"00:00:00","00:00:00"]
[null,{"$f":"IFERROR(IF(A1740=\"\",\"\",VLOOKUP(A1740,'Banco de Funcionários'!$A$2:$D$1048576,2,0)),\"\")","v":""},null,null,null,null,null,"00:00:00",null,"00:00:00","00:00:00"]
[null,{"$f":"IFERROR(IF(A1741=\"\",\"\",VLOOKUP(A1741,'Banco de Funcionários'!$A$2:$D$1048576,2,0)),\"\")","v":""},null,null,null,null,null,"00:00:00",null,"00:00:00","00:00:00"]
[null,{"$f":"IFERROR(IF(A1742=\"\",\"\",VLOOKUP(A1742,'Banco de Funcionários'!$A$2:$D$1048576,2,0)),\"\")","v":""},null,null,null,null,null,"00:00:00",null,"00:00:00","00:00:00"]
[null,{"$f":"IFERROR(IF(A1743=\"\",\"\",VLOOKUP(A1743,'Banco de Funcionários'!$A$2:$D$1048576,2,0)),\"\")","v":""},null,null,null,null,null,"00:00:00",null,"00:00:00","00:00:00"]
[null,{"$f":"IFERROR(IF(A1744=\"\",\"\",VLOOKUP(A1744,'Banco de Funcionários'!$A$2:$D$1048576,2,0)),\"\")","v":""},null,null,null,null,null,"00:00:00",null,"00:00:00","00:00:00"]
[null,{"$f":"IFERROR(IF(A1745=\"\",\"\",VLOOKUP(A1745,'Banco de Funcionários'!$A$2:$D$1048576,2,0)),\"\")","v":""},null,null,null,null,null,"00:00:00",null,"00:00:00","00:00:00"]
[null,{"$f":"IFERROR(IF(A1746=\"\",\"\",VLOOKUP(A1746,'Banco de Funcionários'!$A$2:$D$1048576,2,0)),\"\")","v":""},null,null,null,null,null,"00:00:00",null,"00:00:00","00:00:00"]
[null,{"$f":"IFERROR(IF(A1747=\"\",\"\",VLOOKUP(A1747,'Banco de Funcionários'!$A$2:$D$1048576,2,0)),\"\")","v":""},null,null,null,null,null,"00:00:00",null,"00:00:00","00:00:00"]
[null,{"$f":"IFERROR(IF(A1748=\"\",\"\",VLOOKUP(A1748,'Banco de Funcionários'!$A$2:$D$1048576,2,0)),\"\")","v":""},null,null,null,null,null,"00:00:00",null,"00:00:00","00:00:00"]
[null,{"$f":"IFERROR(IF(A1749=\"\",\"\",VLOOKUP(A1749,'Banco de Funcionários'!$A$2:$D$1048576,2,0)),\"\")","v":""},null,null,null,null,null,"00:00:00",null,"00:00:00","00:00:00"]
[null,{"$f":"IFERROR(IF(A1750=\"\",\"\",VLOOKUP(A1750,'Banco de Funcionários'!$A$2:$D$1048576,2,0)),\"\")","v":""},null,null,null,null,null,"00:00:00",null,"00:00:00","00:00:00"]
[null,{"$f":"IFERROR(IF(A1751=\"\",\"\",VLOOKUP(A1751,'Banco de Funcionários'!$A$2:$D$1048576,2,0)),\"\")","v":""},null,null,null,null,null,"00:00:00",null,"00:00:00","00:00:00"]
[null,{"$f":"IFERROR(IF(A1752=\"\",\"\",VLOOKUP(A1752,'Banco de Funcionários'!$A$2:$D$1048576,2,0)),\"\")","v":""},null,null,null,null,null,"00:00:00",null,"00:00:00","00:00:00"]
[null,{"$f":"IFERROR(IF(A1753=\"\",\"\",VLOOKUP(A1753,'Banco de Funcionários'!$A$2:$D$1048576,2,0)),\"\")","v":""},null,null,null,null,null,"00:00:00",null,"00:00:00","00:00:00"]
[null,{"$f":"IFERROR(IF(A1754=\"\",\"\",VLOOKUP(A1754,'Banco de Funcionários'!$A$2:$D$1048576,2,0)),\"\")","v":""},null,null,null,null,null,"00:00:00",null,"00:00:00","00:00:00"]
[null,{"$f":"IFERROR(IF(A1755=\"\",\"\",VLOOKUP(A1755,'Banco de Funcionários'!$A$2:$D$1048576,2,0)),\"\")","v":""},null,null,null,null,null,"00:00:00",null,"00:00:00","00:00:00"]
[null,{"$f":"IFERROR(IF(A1756=\"\",\"\",VLOOKUP(A1756,'Banco de Funcionários'!$A$2:$D$1048576,2,0)),\"\")","v":""},null,null,null,null,null,"00:00:00",null,"00:00:00","00:00:00"]
[null,{"$f":"IFERROR(IF(A1757=\"\",\"\",VLOOKUP(A1757,'Banco de Funcionários'!$A$2:$D$1048576,2,0)),\"\")","v":""},null,null,null,null,null,"00:00:00",null,"00:00:00","00:00:00"]
[null,{"$f":"IFERROR(IF(A1758=\"\",\"\",VLOOKUP(A1758,'Banco de Funcionários'!$A$2:$D$1048576,2,0)),\"\")","v":""},null,null,null,null,null,"00:00:00",null,"00:00:00","00:00:00"]
[null,{"$f":"IFERROR(IF(A1759=\"\",\"\",VLOOKUP(A1759,'Banco de Funcionários'!$A$2:$D$1048576,2,0)),\"\")","v":""},null,null,null,null,null,"00:00:00",null,"00:00:00","00:00:00"]
[null,{"$f":"IFERROR(IF(A1760=\"\",\"\",VLOOKUP(A1760,'Banco de Funcionários'!$A$2:$D$1048576,2,0)),\"\")","v":""},null,null,null,null,null,"00:00:00",null,"00:00:00","00:00:00"]
[null,{"$f":"IFERROR(IF(A1761=\"\",\"\",VLOOKUP(A1761,'Banco de Funcionários'!$A$2:$D$1048576,2,0)),\"\")","v":""},null,null,null,null,null,"00:00:00",null,"00:00:00","00:00:00"]
[null,{"$f":"IFERROR(IF(A1762=\"\",\"\",VLOOKUP(A1762,'Banco de Funcionários'!$A$2:$D$1048576,2,0)),\"\")","v":""},null,null,null,null,null,"00:00:00",null,"00:00:00","00:00:00"]
[null,{"$f":"IFERROR(IF(A1763=\"\",\"\",VLOOKUP(A1763,'Banco de Funcionários'!$A$2:$D$1048576,2,0)),\"\")","v":""},null,null,null,null,null,"00:00:00",null,"00:00:00","00:00:00"]
[null,{"$f":"IFERROR(IF(A1764=\"\",\"\",VLOOKUP(A1764,'Banco de Funcionários'!$A$2:$D$1048576,2,0)),\"\")","v":""},null,null,null,null,null,"00:00:00",null,"00:00:00","00:00:00"]
[null,{"$f":"IFERROR(IF(A1765=\"\",\"\",VLOOKUP(A1765,'Banco de Funcionários'!$A$2:$D$1048576,2,0)),\"\")","v":""},null,null,null,null,null,"00:00:00",null,"00:00:00","00:00:00"]
[null,{"$f":"IFERROR(IF(A1766=\"\",\"\",VLOOKUP(A1766,'Banco de Funcionários'!$A$2:$D$1048576,2,0)),\"\")","v":""},null,null,null,null,null,"00:00:00",null,"00:00:00","00:00:00"]
[null,{"$f":"IFERROR(IF(A1767=\"\",\"\",VLOOKUP(A1767,'Banco de Funcionários'!$A$2:$D$1048576,2,0)),\"\")","v":""},null,null,null,null,null,"00:00:00",null,"00:00:00","00:00:00"]
[null,{"$f":"IFERROR(IF(A1768=\"\",\"\",VLOOKUP(A1768,'Banco de Funcionários'!$A$2:$D$1048576,2,0)),\"\")","v":""},null,null,null,null,null,"00:00:00",null,"00:00:00","00:00:00"]
[null,{"$f":"IFERROR(IF(A1769=\"\",\"\",VLOOKUP(A1769,'Banco de Funcionários'!$A$2:$D$1048576,2,0)),\"\")","v":""},null,null,null,null,null,"00:00:00",null,"00:00:00","00:00:00"]
[null,{"$f":"IFERROR(IF(A1770=\"\",\"\",VLOOKUP(A1770,'Banco de Funcionários'!$A$2:$D$1048576,2,0)),\"\")","v":""},null,null,null,null,null,"00:00:00",null,"00:00:00","00:00:00"]
[null,{"$f":"IFERROR(IF(A1771=\"\",\"\",VLOOKUP(A1771,'Banco de Funcionários'!$A$2:$D$1048576,2,0)),\"\")","v":""},null,null,null,null,null,"00:00:00",null,"00:00:00","00:00:00"]
[null,{"$f":"IFERROR(IF(A1772=\"\",\"\",VLOOKUP(A1772,'Banco de Funcionários'!$A$2:$D$1048576,2,0)),\"\")","v":""},null,null,null,null,null,"00:00:00",null,"00:00:00","00:00:00"]
[null,{"$f":"IFERROR(IF(A1773=\"\",\"\",VLOOKUP(A1773,'Banco de Funcionários'!$A$2:$D$1048576,2,0)),\"\")","v":""},null,null,null,null,null,"00:00:00",null,"00:00:00","00:00:00"]
[null,{"$f":"IFERROR(IF(A1774=\"\",\"\",VLOOKUP(A1774,'Banco de Funcionários'!$A$2:$D$1048576,2,0)),\"\")","v":""},null,null,null,null,null,"00:00:00",null,"00:00:00","00:00:00"]
[null,{"$f":"IFERROR(IF(A1775=\"\",\"\",VLOOKUP(A1775,'Banco de Funcionários'!$A$2:$D$1048576,2,0)),\"\")","v":""},null,null,null,null,null,"00:00:00",null,"00:00:00","00:00:00"]
[null,{"$f":"IFERROR(IF(A1776=\"\",\"\",VLOOKUP(A1776,'Banco de Funcionários'!$A$2:$D$1048576,2,0)),\"\")","v":""},null,null,null,null,null,"00:00:00",null,"00:00:00","00:00:00"]
[null,{"$f":"IFERROR(IF(A1777=\"\",\"\",VLOOKUP(A1777,'Banco de Funcionários'!$A$2:$D$1048576,2,0)),\"\")","v":""},null,null,null,null,null,"00:00:00",null,"00:00:00","00:00:00"]
[null,{"$f":"IFERROR(IF(A1778=\"\",\"\",VLOOKUP(A1778,'Banco de Funcionários'!$A$2:$D$1048576,2,0)),\"\")","v":""},null,null,null,null,null,"00:00:00",null,"00:00:00","00:00:00"]
[null,{"$f":"IFERROR(IF(A1779=\"\",\"\",VLOOKUP(A1779,'Banco de Funcionários'!$A$2:$D$1048576,2,0)),\"\")","v":""},null,null,null,null,null,"00:00:00",null,"00:00:00","00:00:00"]
[null,{"$f":"IFERROR(IF(A1780=\"\",\"\",VLOOKUP(A1780,'Banco de Funcionários'!$A$2:$D$1048576,2,0)),\"\")","v":""},null,null,null,null,null,"00:00:00",null,"00:00:00","00:00:00"]
[null,{"$f":"IFERROR(IF(A1781=\"\",\"\",VLOOKUP(A1781,'Banco de Funcionários'!$A$2:$D$1048576,2,0)),\"\")","v":""},null,null,null,null,null,"00:00:00",null,"00:00:00","00:00:00"]
[null,{"$f":"IFERROR(IF(A1782=\"\",\"\",VLOOKUP(A1782,'Banco de Funcionários'!$A$2:$D$1048576,2,0)),\"\")","v":""},null,null,null,null,null,"00:00:00",null,"00:00:00","00:00:00"]
[null,{"$f":"IFERROR(IF(A1783=\"\",\"\",VLOOKUP(A1783,'Banco de Funcionários'!$A$2:$D$1048576,2,0)),\"\")","v":""},null,null,null,null,null,"00:00:00",null,"00:00:00","00:00:00"]
[null,{"$f":"IFERROR(IF(A1784=\"\",\"\",VLOOKUP(A1784,'Banco de Funcionários'!$A$2:$D$1048576,2,0)),\"\")","v":""},null,null,null,null,null,"00:00:00",null,"00:00:00","00:00:00"]
[null,{"$f":"IFERROR(IF(A1785=\"\",\"\",VLOOKUP(A1785,'Banco de Funcionários'!$A$2:$D$1048576,2,0)),\"\")","v":""},null,null,null,null,null,"00:00:00",null,"00:00:00","00:00:00"]
[null,{"$f":"IFERROR(IF(A1786=\"\",\"\",VLOOKUP(A1786,'Banco de Funcionários'!$A$2:$D$1048576,2,0)),\"\")","v":""},null,null,null,null,null,"00:00:00",null,"00:00:00","00:00:00"]
[null,{"$f":"IFERROR(IF(A1787=\"\",\"\",VLOOKUP(A1787,'Banco de Funcionários'!$A$2:$D$1048576,2,0)),\"\")","v":""},null,null,null,null,null,"00:00:00",null,"00:00:00","00:00:00"]
[null,{"$f":"IFERROR(IF(A1788=\"\",\"\",VLOOKUP(A1788,'Banco de Funcionários'!$A$2:$D$1048576,2,0)),\"\")","v":""},null,null,null,null,null,"00:00:00",null,"00:00:00","00:00:00"]
[null,{"$f":"IFERROR(IF(A1789=\"\",\"\",VLOOKUP(A1789,'Banco de Funcionários'!$A$2:$D$1048576,2,0)),\"\")","v":""},null,null,null,null,null,"00:00:00",null,"00:00:00","00:00:00"]
[null,{"$f":"IFERROR(IF(A1790=\"\",\"\",VLOOKUP(A1790,'Banco de Funcionários'!$A$2:$D$1048576,2,0)),\"\")","v":""},null,null,null,null,null,"00:00:00",null,"00:00:00","00:00:00"]
[null,{"$f":"IFERROR(IF(A1791=\"\",\"\",VLOOKUP(A1791,'Banco de Funcionários'!$A$2:$D$1048576,2,0)),\"\")","v":""},null,null,null,null,null,"00:00:00",null,"00:00:00","00:00:00"]
[null,{"$f":"IFERROR(IF(A1792=\"\",\"\",VLOOKUP(A1792,'Banco de Funcionários'!$A$2:$D$1048576,2,0)),\"\")","v":""},null,null,null,null,null,"00:00:00",null,"00:00:00","00:00:00"]
[null,{"$f":"IFERROR(IF(A1793=\"\",\"\",VLOOKUP(A1793,'Banco de Funcionários'!$A$2:$D$1048576,2,0)),\"\")","v":""},null,null,null,null,null,"00:00:00",null,"00:00:00","00:00:00"]
[null,{"$f":"IFERROR(IF(A1794=\"\",\"\",VLOOKUP(A1794,'Banco de Funcionários'!$A$2:$D$1048576,2,0)),\"\")","v":""},null,null,null,null,null,"00:00:00",null,"00:00:00","00:00:00"]
[null,{"$f":"IFERROR(IF(A1795=\"\",\"\",VLOOKUP(A1795,'Banco de Funcionários'!$A$2:$D$1048576,2,0)),\"\")","v":""},null,null,null,null,null,{"$f":"(F1795-E1795)-G1795","v":"00:00:00"},null,{"$f":"IFERROR(H1795-I1795,\"\")","v":"00:00:00"},{"$f":"IFERROR(H1795+J1795,0)","v":"00:00:00"}]
[null,{"$f":"IFERROR(IF(A1796=\"\",\"\",VLOOKUP(A1796,'Banco de Funcionários'!$A$2:$D$1048576,2,0)),\"\")","v":""},null,null,null,null,null,"00:00:00",null,"00:00:00","00:00:00"]
[null,{"$f":"IFERROR(IF(A1797=\"\",\"\",VLOOKUP(A1797,'Banco de Funcionários'!$A$2:$D$1048576,2,0)),\"\")","v":""},null,null,null,null,null,"00:00:00",null,"00:00:00","00:00:00"]
[null,{"$f":"IFERROR(IF(A1798=\"\",\"\",VLOOKUP(A1798,'Banco de Funcionários'!$A$2:$D$1048576,2,0)),\"\")","v":""},null,null,null,null,null,"00:00:00",null,"00:00:00","00:00:00"]
[null,{"$f":"IFERROR(IF(A1799=\"\",\"\",VLOOKUP(A1799,'Banco de Funcionários'!$A$2:$D$1048576,2,0)),\"\")","v":""},null,null,null,null,null,"00:00:00",null,"00:00:00","00:00:00"]
[null,{"$f":"IFERROR(IF(A1800=\"\",\"\",VLOOKUP(A1800,'Banco de Funcionários'!$A$2:$D$1048576,2,0)),\"\")","v":""},null,null,null,null,null,"00:00:00",null,"00:00:00","00:00:00"]
[null,{"$f":"IFERROR(IF(A1801=\"\",\"\",VLOOKUP(A1801,'Banco de Funcionários'!$A$2:$D$1048576,2,0)),\"\")","v":""},null,null,null,null,null,"00:00:00",null,"00:00:00","00:00:00"]
[null,{"$f":"IFERROR(IF(A1802=\"\",\"\",VLOOKUP(A1802,'Banco de Funcionários'!$A$2:$D$1048576,2,0)),\"\")","v":""},null,null,null,null,null,"00:00:00",null,"00:00:00","00:00:00"]
[null,{"$f":"IFERROR(IF(A1803=\"\",\"\",VLOOKUP(A1803,'Banco de Funcionários'!$A$2:$D$1048576,2,0)),\"\")","v":""},null,null,null,null,null,"00:00:00",null,"00:00:00","00:00:00"]
[null,{"$f":"IFERROR(IF(A1804=\"\",\"\",VLOOKUP(A1804,'Banco de Funcionários'!$A$2:$D$1048576,2,0)),\"\")","v":""},null,null,null,null,null,"00:00:00",null,"00:00:00","00:00:00"]
[null,{"$f":"IFERROR(IF(A1805=\"\",\"\",VLOOKUP(A1805,'Banco de Funcionários'!$A$2:$D$1048576,2,0)),\"\")","v":""},null,null,null,null,null,"00:00:00",null,"00:00:00","00:00:00"]
[null,{"$f":"IFERROR(IF(A1806=\"\",\"\",VLOOKUP(A1806,'Banco de Funcionários'!$A$2:$D$1048576,2,0)),\"\")","v":""},null,null,null,null,null,"00:00:00",null,"00:00:00","00:00:00"]
[null,{"$f":"IFERROR(IF(A1807=\"\",\"\",VLOOKUP(A1807,'Banco de Funcionários'!$A$2:$D$1048576,2,0)),\"\")","v":""},null,null,null,null,null,"00:00:00",null,"00:00:00","00:00:00"]
[null,{"$f":"IFERROR(IF(A1808=\"\",\"\",VLOOKUP(A1808,'Banco de Funcionários'!$A$2:$D$1048576,2,0)),\"\")","v":""},null,null,null,null,null,"00:00:00",null,"00:00:00","00:00:00"]
[null,{"$f":"IFERROR(IF(A1809=\"\",\"\",VLOOKUP(A1809,'Banco de Funcionários'!$A$2:$D$1048576,2,0)),\"\")","v":""},null,null,null,null,null,"00:00:00",null,"00:00:00","00:00:00"]
[null,{"$f":"IFERROR(IF(A1810=\"\",\"\",VLOOKUP(A1810,'Banco de Funcionários'!$A$2:$D$1048576,2,0)),\"\")","v":""},null,null,null,null,null,"00:00:00",null,"00:00:00","00:00:00"]
[null,{"$f":"IFERROR(IF(A1811=\"\",\"\",VLOOKUP(A1811,'Banco de Funcionários'!$A$2:$D$1048576,2,0)),\"\")","v":""},null,null,null,null,null,"00:00:00",null,"00:00:00","00:00:00"]
[null,{"$f":"IFERROR(IF(A1812=\"\",\"\",VLOOKUP(A1812,'Banco de Funcionários'!$A$2:$D$1048576,2,0)),\"\")","v":""},null,null,null,null,null,"00:00:00",null,"00:00:00","00:00:00"]
[null,{"$f":"IFERROR(IF(A1813=\"\",\"\",VLOOKUP(A1813,'Banco de Funcionários'!$A$2:$D$1048576,2,0)),\"\")","v":""},null,null,null,null,null,"00:00:00",null,"00:00:00","00:00:00"]
[null,{"$f":"IFERROR(IF(A1814=\"\",\"\",VLOOKUP(A1814,'Banco de Funcionários'!$A$2:$D$1048576,2,0)),\"\")","v":""},null,null,null,null,null,"00:00:00",null,"00:00:00","00:00:00"]
[null,{"$f":"IFERROR(IF(A1815=\"\",\"\",VLOOKUP(A1815,'Banco de Funcionários'!$A$2:$D$1048576,2,0)),\"\")","v":""},null,null,null,null,null,"00:00:00",null,"00:00:00","00:00:00"]
[null,{"$f":"IFERROR(IF(A1816=\"\",\"\",VLOOKUP(A1816,'Banco de Funcionários'!$A$2:$D$1048576,2,0)),\"\")","v":""},null,null,null,null,null,"00:00:00",null,"00:00:00","00:00:00"]
[null,{"$f":"IFERROR(IF(A1817=\"\",\"\",VLOOKUP(A1817,'Banco de Funcionários'!$A$2:$D$1048576,2,0)),\"\")","v":""},null,null,null,null,null,"00:00:00",null,"00:00:00","00:00:00"]
[null,{"$f":"IFERROR(IF(A1818=\"\",\"\",VLOOKUP(A1818,'Banco de Funcionários'!$A$2:$D$1048576,2,0)),\"\")","v":""},null,null,null,null,null,"00:00:00",null,"00:00:00","00:00:00"]
[null,{"$f":"IFERROR(IF(A1819=\"\",\"\",VLOOKUP(A1819,'Banco de Funcionários'!$A$2:$D$1048576,2,0)),\"\")","v":""},null,null,null,null,null,"00:00:00",null,"00:00:00","00:00:00"]
[null,{"$f":"IFERROR(IF(A1820=\"\",\"\",VLOOKUP(A1820,'Banco de Funcionários'!$A$2:$D$1048576,2,0)),\"\")","v":""},null,null,null,null,null,"00:00:00",null,"00:00:00","00:00:00"]
[null,{"$f":"IFERROR(IF(A1821=\"\",\"\",VLOOKUP(A1821,'Banco de Funcionários'!$A$2:$D$1048576,2,0)),\"\")","v":""},null,null,null,null,null,"00:00:00",null,"00:00:00","00:00:00"]
[null,{"$f":"IFERROR(IF(A1822=\"\",\"\",VLOOKUP(A1822,'Banco de Funcionários'!$A$2:$D$1048576,2,0)),\"\")","v":""},null,null,null,null,null,"00:00:00",null,"00:00:00","00:00:00"]
[null,{"$f":"IFERROR(IF(A1823=\"\",\"\",VLOOKUP(A1823,'Banco de Funcionários'!$A$2:$D$1048576,2,0)),\"\")","v":""},null,null,null,null,null,"00:00:00",null,"00:00:00","00:00:00"]
[null,{"$f":"IFERROR(IF(A1824=\"\",\"\",VLOOKUP(A1824,'Banco de Funcionários'!$A$2:$D$1048576,2,0)),\"\")","v":""},null,null,null,null,null,"00:00:00",null,"00:00:00","00:00:00"]
[null,{"$f":"IFERROR(IF(A1825=\"\",\"\",VLOOKUP(A1825,'Banco de Funcionários'!$A$2:$D$1048576,2,0)),\"\")","v":""},null,null,null,null,null,"00:00:00",null,"00:00:00","00:00:00"]
[null,{"$f":"IFERROR(IF(A1826=\"\",\"\",VLOOKUP(A1826,'Banco de Funcionários'!$A$2:$D$1048576,2,0)),\"\")","v":""},null,null,null,null,null,"00:00:00",null,"00:00:00","00:00:00"]
[null,{"$f":"IFERROR(IF(A1827=\"\",\"\",VLOOKUP(A1827,'Banco de Funcionários'!$A$2:$D$1048576,2,0)),\"\")","v":""},null,null,null,null,null,"00:00:00",null,"00:00:00","00:00:00"]
[null,{"$f":"IFERROR(IF(A1828=\"\",\"\",VLOOKUP(A1828,'Banco de Funcionários'!$A$2:$D$1048576,2,0)),\"\")","v":""},null,null,null,null,null,"00:00:00",null,"00:00:00","00:00:00"]
[null,{"$f":"IFERROR(IF(A1829=\"\",\"\",VLOOKUP(A1829,'Banco de Funcionários'!$A$2:$D$1048576,2,0)),\"\")","v":""},null,null,null,null,null,"00:00:00",null,"00:00:00","00:00:00"]
[null,{"$f":"IFERROR(IF(A1830=\"\",\"\",VLOOKUP(A1830,'Banco de Funcionários'!$A$2:$D$1048576,2,0)),\"\")","v":""},null,null,null,null,null,"00:00:00",null,"00:00:00","00:00:00"]
[null,{"$f":"IFERROR(IF(A1831=\"\",\"\",VLOOKUP(A1831,'Banco de Funcionários'!$A$2:$D$1048576,2,0)),\"\")","v":""},null,null,null,null,null,"00:00:00",null,"00:00:00","00:00:00"]
[null,{"$f":"IFERROR(IF(A1832=\"\",\"\",VLOOKUP(A1832,'Banco de Funcionários'!$A$2:$D$1048576,2,0)),\"\")","v":""},null,null,null,null,null,"00:00:00",null,"00:00:00","00:00:00"]
[null,{"$f":"IFERROR(IF(A1833=\"\",\"\",VLOOKUP(A1833,'Banco de Funcionários'!$A$2:$D$1048576,2,0)),\"\")","v":""},null,null,null,null,null,"00:00:00",null,"00:00:00","00:00:00"]
[null,{"$f":"IFERROR(IF(A1834=\"\",\"\",VLOOKUP(A1834,'Banco de Funcionários'!$A$2:$D$1048576,2,0)),\"\")","v":""},null,null,null,null,null,"00:00:00",null,"00:00:00","00:00:00"]
[null,{"$f":"IFERROR(IF(A1835=\"\",\"\",VLOOKUP(A1835,'Banco de Funcionários'!$A$2:$D$1048576,2,0)),\"\")","v":""},null,null,null,null,null,"00:00:00",null,"00:00:00","00:00:00"]
[null,{"$f":"IFERROR(IF(A1836=\"\",\"\",VLOOKUP(A1836,'Banco de Funcionários'!$A$2:$D$1048576,2,0)),\"\")","v":""},null,null,null,null,null,"00:00:00",null,"00:00:00","00:00:00"]
[null,{"$f":"IFERROR(IF(A1837=\"\",\"\",VLOOKUP(A1837,'Banco de Funcionários'!$A$2:$D$1048576,2,0)),\"\")","v":""},null,null,null,null,null,"00:00:00",null,"00:00:00","00:00:00"]
[null,{"$f":"IFERROR(IF(A1838=\"\",\"\",VLOOKUP(A1838,'Banco de Funcionários'!$A$2:$D$1048576,2,0)),\"\")","v":""},null,null,null,null,null,"00:00:00",null,"00:00:00","00:00:00"]
[null,{"$f":"IFERROR(IF(A1839=\"\",\"\",VLOOKUP(A1839,'Banco de Funcionários'!$A$2:$D$1048576,2,0)),\"\")","v":""},null,null,null,null,null,"00:00:00",null,"00:00:00","00:00:00"]
[null,{"$f":"IFERROR(IF(A1840=\"\",\"\",VLOOKUP(A1840,'Banco de Funcionários'!$A$2:$D$1048576,2,0)),\"\")","v":""},null,null,null,null,null,"00:00:00",null,"00:00:00","00:00:00"]
[null,{"$f":"IFERROR(IF(A1841=\"\",\"\",VLOOKUP(A1841,'Banco de Funcionários'!$A$2:$D$1048576,2,0)),\"\")","v":""},null,null,null,null,null,"00:00:00",null,"00:00:00","00:00:00"]
[null,{"$f":"IFERROR(IF(A1842=\"\",\"\",VLOOKUP(A1842,'Banco de Funcionários'!$A$2:$D$1048576,2,0)),\"\")","v":""},null,null,null,null,null,"00:00:00",null,"00:00:00","00:00:00"]
[null,{"$f":"IFERROR(IF(A1843=\"\",\"\",VLOOKUP(A1843,'Banco de Funcionários'!$A$2:$D$1048576,2,0)),\"\")","v":""},null,null,null,null,null,"00:00:00",null,"00:00:00","00:00:00"]
[null,{"$f":"IFERROR(IF(A1844=\"\",\"\",VLOOKUP(A1844,'Banco de Funcionários'!$A$2:$D$1048576,2,0)),\"\")","v":""},null,null,null,null,null,"00:00:00",null,"00:00:00","00:00:00"]
[null,{"$f":"IFERROR(IF(A1845=\"\",\"\",VLOOKUP(A1845,'Banco de Funcionários'!$A$2:$D$1048576,2,0)),\"\")","v":""},null,null,null,null,null,"00:00:00",null,"00:00:00","00:00:00"]
[null,{"$f":"IFERROR(IF(A1846=\"\",\"\",VLOOKUP(A1846,'Banco de Funcionários'!$A$2:$D$1048576,2,0)),\"\")","v":""},null,null,null,null,null,"00:00:00",null,"00:00:00","00:00:00"]
[null,{"$f":"IFERROR(IF(A1847=\"\",\"\",VLOOKUP(A1847,'Banco de Funcionários'!$A$2:$D$1048576,2,0)),\"\")","v":""},null,null,null,null,null,"00:00:00",null,"00:00:00","00:00:00"]
[null,{"$f":"IFERROR(IF(A1848=\"\",\"\",VLOOKUP(A1848,'Banco de Funcionários'!$A$2:$D$1048576,2,0)),\"\")","v":""},null,null,null,null,null,"00:00:00",null,"00:00:00","00:00:00"]
[null,{"$f":"IFERROR(IF(A1849=\"\",\"\",VLOOKUP(A1849,'Banco de Funcionários'!$A$2:$D$1048576,2,0)),\"\")","v":""},null,null,null,null,null,"00:00:00",null,"00:00:00","00:00:00"]
[null,{"$f":"IFERROR(IF(A1850=\"\",\"\",VLOOKUP(A1850,'Banco de Funcionários'!$A$2:$D$1048576,2,0)),\"\")","v":""},null,null,null,null,null,"00:00:00",null,"00:00:00","00:00:00"]
[null,{"$f":"IFERROR(IF(A1851=\"\",\"\",VLOOKUP(A1851,'Banco de Funcionários'!$A$2:$D$1048576,2,0)),\"\")","v":""},null,null,null,null,null,"00:00:00",null,"00:00:00","00:00:00"]
[null,{"$f":"IFERROR(IF(A1852=\"\",\"\",VLOOKUP(A1852,'Banco de Funcionários'!$A$2:$D$1048576,2,0)),\"\")","v":""},null,null,null,null,null,"00:00:00",null,"00:00:00","00:00:00"]
[null,{"$f":"IFERROR(IF(A1853=\"\",\"\",VLOOKUP(A1853,'Banco de Funcionários'!$A$2:$D$1048576,2,0)),\"\")","v":""},null,null,null,null,null,"00:00:00",null,"00:00:00","00:00:00"]
[null,{"$f":"IFERROR(IF(A1854=\"\",\"\",VLOOKUP(A1854,'Banco de Funcionários'!$A$2:$D$1048576,2,0)),\"\")","v":""},null,null,null,null,null,"00:00:00",null,"00:00:00","00:00:00"]
[null,{"$f":"IFERROR(IF(A1855=\"\",\"\",VLOOKUP(A1855,'Banco de Funcionários'!$A$2:$D$1048576,2,0)),\"\")","v":""},null,null,null,null,null,"00:00:00",null,"00:00:00","00:00:00"]
[null,{"$f":"IFERROR(IF(A1856=\"\",\"\",VLOOKUP(A1856,'Banco de Funcionários'!$A$2:$D$1048576,2,0)),\"\")","v":""},null,null,null,null,null,"00:00:00",null,"00:00:00","00:00:00"]
[null,{"$f":"IFERROR(IF(A1857=\"\",\"\",VLOOKUP(A1857,'Banco de Funcionários'!$A$2:$D$1048576,2,0)),\"\")","v":""},null,null,null,null,null,"00:00:00",null,"00:00:00","00:00:00"]
[null,{"$f":"IFERROR(IF(A1858=\"\",\"\",VLOOKUP(A1858,'Banco de Funcionários'!$A$2:$D$1048576,2,0)),\"\")","v":""},null,null,null,null,null,"00:00:00",null,"00:00:00","00:00:00"]
[null,{"$f":"IFERROR(IF(A1859=\"\",\"\",VLOOKUP(A1859,'Banco de Funcionários'!$A$2:$D$1048576,2,0)),\"\")","v":""},null,null,null,null,null,{"$f":"(F1859-E1859)-G1859","v":"00:00:00"},null,{"$f":"IFERROR(H1859-I1859,\"\")","v":"00:00:00"},{"$f":"IFERROR(H1859+J1859,0)","v":"00:00:00"}]
[null,{"$f":"IFERROR(IF(A1860=\"\",\"\",VLOOKUP(A1860,'Banco de Funcionários'!$A$2:$D$1048576,2,0)),\"\")","v":""},null,null,null,null,null,"00:00:00",null,"00:00:00","00:00:00"]
[null,{"$f":"IFERROR(IF(A1861=\"\",\"\",VLOOKUP(A1861,'Banco de Funcionários'!$A$2:$D$1048576,2,0)),\"\")","v":""},null,null,null,null,null,"00:00:00",null,"00:00:00","00:00:00"]
[null,{"$f":"IFERROR(IF(A1862=\"\",\"\",VLOOKUP(A1862,'Banco de Funcionários'!$A$2:$D$1048576,2,0)),\"\")","v":""},null,null,null,null,null,"00:00:00",null,"00:00:00","00:00:00"]
[null,{"$f":"IFERROR(IF(A1863=\"\",\"\",VLOOKUP(A1863,'Banco de Funcionários'!$A$2:$D$1048576,2,0)),\"\")","v":""},null,null,null,null,null,"00:00:00",null,"00:00:00","00:00:00"]
[null,{"$f":"IFERROR(IF(A1864=\"\",\"\",VLOOKUP(A1864,'Banco de Funcionários'!$A$2:$D$1048576,2,0)),\"\")","v":""},null,null,null,null,null,"00:00:00",null,"00:00:00","00:00:00"]
[null,{"$f":"IFERROR(IF(A1865=\"\",\"\",VLOOKUP(A1865,'Banco de Funcionários'!$A$2:$D$1048576,2,0)),\"\")","v":""},null,null,null,null,null,"00:00:00",null,"00:00:00","00:00:00"]
[null,{"$f":"IFERROR(IF(A1866=\"\",\"\",VLOOKUP(A1866,'Banco de Funcionários'!$A$2:$D$1048576,2,0)),\"\")","v":""},null,null,null,null,null,"00:00:00",null,"00:00:00","00:00:00"]
[null,{"$f":"IFERROR(IF(A1867=\"\",\"\",VLOOKUP(A1867,'Banco de Funcionários'!$A$2:$D$1048576,2,0)),\"\")","v":""},null,null,null,null,null,"00:00:00",null,"00:00:00","00:00:00"]
[null,{"$f":"IFERROR(IF(A1868=\"\",\"\",VLOOKUP(A1868,'Banco de Funcionários'!$A$2:$D$1048576,2,0)),\"\")","v":""},null,null,null,null,null,"00:00:00",null,"00:00:00","00:00:00"]
[null,{"$f":"IFERROR(IF(A1869=\"\",\"\",VLOOKUP(A1869,'Banco de Funcionários'!$A$2:$D$1048576,2,0)),\"\")","v":""},null,null,null,null,null,"00:00:00",null,"00:00:00","00:00:00"]
[null,{"$f":"IFERROR(IF(A1870=\"\",\"\",VLOOKUP(A1870,'Banco de Funcionários'!$A$2:$D$1048576,2,0)),\"\")","v":""},null,null,null,null,null,"00:00:00",null,"00:00:00","00:00:00"]
[null,{"$f":"IFERROR(IF(A1871=\"\",\"\",VLOOKUP(A1871,'Banco de Funcionários'!$A$2:$D$1048576,2,0)),\"\")","v":""},null,null,null,null,null,"00:00:00",null,"00:00:00","00:00:00"]
[null,{"$f":"IFERROR(IF(A1872=\"\",\"\",VLOOKUP(A1872,'Banco de Funcionários'!$A$2:$D$1048576,2,0)),\"\")","v":""},null,null,null,null,null,"00:00:00",null,"00:00:00","00:00:00"]
[null,{"$f":"IFERROR(IF(A1873=\"\",\"\",VLOOKUP(A1873,'Banco de Funcionários'!$A$2:$D$1048576,2,0)),\"\")","v":""},null,null,null,null,null,"00:00:00",null,"00:00:00","00:00:00"]
[null,{"$f":"IFERROR(IF(A1874=\"\",\"\",VLOOKUP(A1874,'Banco de Funcionários'!$A$2:$D$1048576,2,0)),\"\")","v":""},null,null,null,null,null,"00:00:00",null,"00:00:00","00:00:00"]
[null,{"$f":"IFERROR(IF(A1875=\"\",\"\",VLOOKUP(A1875,'Banco de Funcionários'!$A$2:$D$1048576,2,0)),\"\")","v":""},null,null,null,null,null,"00:00:00",null,"00:00:00","00:00:00"]
[null,{"$f":"IFERROR(IF(A1876=\"\",\"\",VLOOKUP(A1876,'Banco de Funcionários'!$A$2:$D$1048576,2,0)),\"\")","v":""},null,null,null,null,null,"00:00:00",null,"00:00:00","00:00:00"]
[null,{"$f":"IFERROR(IF(A1877=\"\",\"\",VLOOKUP(A1877,'Banco de Funcionários'!$A$2:$D$1048576,2,0)),\"\")","v":""},null,null,null,null,null,"00:00:00",null,"00:00:00","00:00:00"]
[null,{"$f":"IFERROR(IF(A1878=\"\",\"\",VLOOKUP(A1878,'Banco de Funcionários'!$A$2:$D$1048576,2,0)),\"\")","v":""},null,null,null,null,null,"00:00:00",null,"00:00:00","00:00:00"]
[null,{"$f":"IFERROR(IF(A1879=\"\",\"\",VLOOKUP(A1879,'Banco de Funcionários'!$A$2:$D$1048576,2,0)),\"\")","v":""},null,null,null,null,null,"00:00:00",null,"00:00:00","00:00:00"]
[null,{"$f":"IFERROR(IF(A1880=\"\",\"\",VLOOKUP(A1880,'Banco de Funcionários'!$A$2:$D$1048576,2,0)),\"\")","v":""},null,null,null,null,null,"00:00:00",null,"00:00:00","00:00:00"]
[null,{"$f":"IFERROR(IF(A1881=\"\",\"\",VLOOKUP(A1881,'Banco de Funcionários'!$A$2:$D$1048576,2,0)),\"\")","v":""},null,null,null,null,null,"00:00:00",null,"00:00:00","00:00:00"]
[null,{"$f":"IFERROR(IF(A1882=\"\",\"\",VLOOKUP(A1882,'Banco de Funcionários'!$A$2:$D$1048576,2,0)),\"\")","v":""},null,null,null,null,null,"00:00:00",null,"00:00:00","00:00:00"]
[null,{"$f":"IFERROR(IF(A1883=\"\",\"\",VLOOKUP(A1883,'Banco de Funcionários'!$A$2:$D$1048576,2,0)),\"\")","v":""},null,null,null,null,null,"00:00:00",null,"00:00:00","00:00:00"]
[null,{"$f":"IFERROR(IF(A1884=\"\",\"\",VLOOKUP(A1884,'Banco de Funcionários'!$A$2:$D$1048576,2,0)),\"\")","v":""},null,null,null,null,null,"00:00:00",null,"00:00:00","00:00:00"]
[null,{"$f":"IFERROR(IF(A1885=\"\",\"\",VLOOKUP(A1885,'Banco de Funcionários'!$A$2:$D$1048576,2,0)),\"\")","v":""},null,null,null,null,null,"00:00:00",null,"00:00:00","00:00:00"]
[null,{"$f":"IFERROR(IF(A1886=\"\",\"\",VLOOKUP(A1886,'Banco de Funcionários'!$A$2:$D$1048576,2,0)),\"\")","v":""},null,null,null,null,null,"00:00:00",null,"00:00:00","00:00:00"]
[null,{"$f":"IFERROR(IF(A1887=\"\",\"\",VLOOKUP(A1887,'Banco de Funcionários'!$A$2:$D$1048576,2,0)),\"\")","v":""},null,null,null,null,null,"00:00:00",null,"00:00:00","00:00:00"]
[null,{"$f":"IFERROR(IF(A1888=\"\",\"\",VLOOKUP(A1888,'Banco de Funcionários'!$A$2:$D$1048576,2,0)),\"\")","v":""},null,null,null,null,null,"00:00:00",null,"00:00:00","00:00:00"]
[null,{"$f":"IFERROR(IF(A1889=\"\",\"\",VLOOKUP(A1889,'Banco de Funcionários'!$A$2:$D$1048576,2,0)),\"\")","v":""},null,null,null,null,null,"00:00:00",null,"00:00:00","00:00:00"]
[null,{"$f":"IFERROR(IF(A1890=\"\",\"\",VLOOKUP(A1890,'Banco de Funcionários'!$A$2:$D$1048576,2,0)),\"\")","v":""},null,null,null,null,null,"00:00:00",null,"00:00:00","00:00:00"]
[null,{"$f":"IFERROR(IF(A1891=\"\",\"\",VLOOKUP(A1891,'Banco de Funcionários'!$A$2:$D$1048576,2,0)),\"\")","v":""},null,null,null,null,null,"00:00:00",null,"00:00:00","00:00:00"]
[null,{"$f":"IFERROR(IF(A1892=\"\",\"\",VLOOKUP(A1892,'Banco de Funcionários'!$A$2:$D$1048576,2,0)),\"\")","v":""},null,null,null,null,null,"00:00:00",null,"00:00:00","00:00:00"]
[null,{"$f":"IFERROR(IF(A1893=\"\",\"\",VLOOKUP(A1893,'Banco de Funcionários'!$A$2:$D$1048576,2,0)),\"\")","v":""},null,null,null,null,null,"00:00:00",null,"00:00:00","00:00:00"]
[null,{"$f":"IFERROR(IF(A1894=\"\",\"\",VLOOKUP(A1894,'Banco de Funcionários'!$A$2:$D$1048576,2,0)),\"\")","v":""},null,null,null,null,null,"00:00:00",null,"00:00:00","00:00:00"]
[null,{"$f":"IFERROR(IF(A1895=\"\",\"\",VLOOKUP(A1895,'Banco de Funcionários'!$A$2:$D$1048576,2,0)),\"\")","v":""},null,null,null,null,null,"00:00:00",null,"00:00:00","00:00:00"]
[null,{"$f":"IFERROR(IF(A1896=\"\",\"\",VLOOKUP(A1896,'Banco de Funcionários'!$A$2:$D$1048576,2,0)),\"\")","v":""},null,null,null,null,null,"00:00:00",null,"00:00:00","00:00:00"]
[null,{"$f":"IFERROR(IF(A1897=\"\",\"\",VLOOKUP(A1897,'Banco de Funcionários'!$A$2:$D$1048576,2,0)),\"\")","v":""},null,null,null,null,null,"00:00:00",null,"00:00:00","00:00:00"]
[null,{"$f":"IFERROR(IF(A1898=\"\",\"\",VLOOKUP(A1898,'Banco de Funcionários'!$A$2:$D$1048576,2,0)),\"\")","v":""},null,null,null,null,null,"00:00:00",null,"00:00:00","00:00:00"]
[null,{"$f":"IFERROR(IF(A1899=\"\",\"\",VLOOKUP(A1899,'Banco de Funcionários'!$A$2:$D$1048576,2,0)),\"\")","v":""},null,null,null,null,null,"00:00:00",null,"00:00:00","00:00:00"]
[null,{"$f":"IFERROR(IF(A1900=\"\",\"\",VLOOKUP(A1900,'Banco de Funcionários'!$A$2:$D$1048576,2,0)),\"\")","v":""},null,null,null,null,null,"00:00:00",null,"00:00:00","00:00:00"]
[null,{"$f":"IFERROR(IF(A1901=\"\",\"\",VLOOKUP(A1901,'Banco de Funcionários'!$A$2:$D$1048576,2,0)),\"\")","v":""},null,null,null,null,null,"00:00:00",null,"00:00:00","00:00:00"]
[null,{"$f":"IFERROR(IF(A1902=\"\",\"\",VLOOKUP(A1902,'Banco de Funcionários'!$A$2:$D$1048576,2,0)),\"\")","v":""},null,null,null,null,null,"00:00:00",null,"00:00:00","00:00:00"]
[null,{"$f":"IFERROR(IF(A1903=\"\",\"\",VLOOKUP(A1903,'Banco de Funcionários'!$A$2:$D$1048576,2,0)),\"\")","v":""},null,null,null,null,null,"00:00:00",null,"00:00:00","00:00:00"]
[null,{"$f":"IFERROR(IF(A1904=\"\",\"\",VLOOKUP(A1904,'Banco de Funcionários'!$A$2:$D$1048576,2,0)),\"\")","v":""},null,null,null,null,null,"00:00:00",null,"00:00:00","00:00:00"]
[null,{"$f":"IFERROR(IF(A1905=\"\",\"\",VLOOKUP(A1905,'Banco de Funcionários'!$A$2:$D$1048576,2,0)),\"\")","v":""},null,null,null,null,null,"00:00:00",null,"00:00:00","00:00:00"]
[null,{"$f":"IFERROR(IF(A1906=\"\",\"\",VLOOKUP(A1906,'Banco de Funcionários'!$A$2:$D$1048576,2,0)),\"\")","v":""},null,null,null,null,null,"00:00:00",null,"00:00:00","00:00:00"]
[null,{"$f":"IFERROR(IF(A1907=\"\",\"\",VLOOKUP(A1907,'Banco de Funcionários'!$A$2:$D$1048576,2,0)),\"\")","v":""},null,null,null,null,null,"00:00:00",null,"00:00:00","00:00:00"]
[null,{"$f":"IFERROR(IF(A1908=\"\",\"\",VLOOKUP(A1908,'Banco de Funcionários'!$A$2:$D$1048576,2,0)),\"\")","v":""},null,null,null,null,null,"00:00:00",null,"00:00:00","00:00:00"]
[null,{"$f":"IFERROR(IF(A1909=\"\",\"\",VLOOKUP(A1909,'Banco de Funcionários'!$A$2:$D$1048576,2,0)),\"\")","v":""},null,null,null,null,null,"00:00:00",null,"00:00:00","00:00:00"]
[null,{"$f":"IFERROR(IF(A1910=\"\",\"\",VLOOKUP(A1910,'Banco de Funcionários'!$A$2:$D$1048576,2,0)),\"\")","v":""},null,null,null,null,null,"00:00:00",null,"00:00:00","00:00:00"]
[null,{"$f":"IFERROR(IF(A1911=\"\",\"\",VLOOKUP(A1911,'Banco de Funcionários'!$A$2:$D$1048576,2,0)),\"\")","v":""},null,null,null,null,null,"00:00:00",null,"00:00:00","00:00:00"]
[null,{"$f":"IFERROR(IF(A1912=\"\",\"\",VLOOKUP(A1912,'Banco de Funcionários'!$A$2:$D$1048576,2,0)),\"\")","v":""},null,null,null,null,null,"00:00:00",null,"00:00:00","00:00:00"]
[null,{"$f":"IFERROR(IF(A1913=\"\",\"\",VLOOKUP(A1913,'Banco de Funcionários'!$A$2:$D$1048576,2,0)),\"\")","v":""},null,null,null,null,null,"00:00:00",null,"00:00:00","00:00:00"]
[null,{"$f":"IFERROR(IF(A1914=\"\",\"\",VLOOKUP(A1914,'Banco de Funcionários'!$A$2:$D$1048576,2,0)),\"\")","v":""},null,null,null,null,null,"00:00:00",null,"00:00:00","00:00:00"]
[null,{"$f":"IFERROR(IF(A1915=\"\",\"\",VLOOKUP(A1915,'Banco de Funcionários'!$A$2:$D$1048576,2,0)),\"\")","v":""},null,null,null,null,null,"00:00:00",null,"00:00:00","00:00:00"]
[null,{"$f":"IFERROR(IF(A1916=\"\",\"\",VLOOKUP(A1916,'Banco de Funcionários'!$A$2:$D$1048576,2,0)),\"\")","v":""},null,null,null,null,null,"00:00:00",null,"00:00:00","00:00:00"]
[null,{"$f":"IFERROR(IF(A1917=\"\",\"\",VLOOKUP(A1917,'Banco de Funcionários'!$A$2:$D$1048576,2,0)),\"\")","v":""},null,null,null,null,null,"00:00:00",null,"00:00:00","00:00:00"]
[null,{"$f":"IFERROR(IF(A1918=\"\",\"\",VLOOKUP(A1918,'Banco de Funcionários'!$A$2:$D$1048576,2,0)),\"\")","v":""},null,null,null,null,null,"00:00:00",null,"00:00:00","00:00:00"]
[null,{"$f":"IFERROR(IF(A1919=\"\",\"\",VLOOKUP(A1919,'Banco de Funcionários'!$A$2:$D$1048576,2,0)),\"\")","v":""},null,null,null,null,null,"00:00:00",null,"00:00:00","00:00:00"]
[null,{"$f":"IFERROR(IF(A1920=\"\",\"\",VLOOKUP(A1920,'Banco de Funcionários'!$A$2:$D$1048576,2,0)),\"\")","v":""},null,null,null,null,null,"00:00:00",null,"00:00:00","00:00:00"]
[null,{"$f":"IFERROR(IF(A1921=\"\",\"\",VLOOKUP(A1921,'Banco de Funcionários'!$A$2:$D$1048576,2,0)),\"\")","v":""},null,null,null,null,null,"00:00:00",null,"00:00:00","00:00:00"]
[null,{"$f":"IFERROR(IF(A1922=\"\",\"\",VLOOKUP(A1922,'Banco de Funcionários'!$A$2:$D$1048576,2,0)),\"\")","v":""},null,null,null,null,null,"00:00:00",null,"00:00:00","00:00:00"]
[null,{"$f":"IFERROR(IF(A1923=\"\",\"\",VLOOKUP(A1923,'Banco de Funcionários'!$A$2:$D$1048576,2,0)),\"\")","v":""},null,null,null,null,null,{"$f":"(F1923-E1923)-G1923","v":"00:00:00"},null,{"$f":"IFERROR(H1923-I1923,\"\")","v":"00:00:00"},{"$f":"IFERROR(H1923+J1923,0)","v":"00:00:00"}]
[null,{"$f":"IFERROR(IF(A1924=\"\",\"\",VLOOKUP(A1924,'Banco de Funcionários'!$A$2:$D$1048576,2,0)),\"\")","v":""},null,null,null,null,null,"00:00:00",null,"00:00:00","00:00:00"]
[null,{"$f":"IFERROR(IF(A1925=\"\",\"\",VLOOKUP(A1925,'Banco de Funcionários'!$A$2:$D$1048576,2,0)),\"\")","v":""},null,null,null,null,null,"00:00:00",null,"00:00:00","00:00:00"]
[null,{"$f":"IFERROR(IF(A1926=\"\",\"\",VLOOKUP(A1926,'Banco de Funcionários'!$A$2:$D$1048576,2,0)),\"\")","v":""},null,null,null,null,null,"00:00:00",null,"00:00:00","00:00:00"]
[null,{"$f":"IFERROR(IF(A1927=\"\",\"\",VLOOKUP(A1927,'Banco de Funcionários'!$A$2:$D$1048576,2,0)),\"\")","v":""},null,null,null,null,null,"00:00:00",null,"00:00:00","00:00:00"]
[null,{"$f":"IFERROR(IF(A1928=\"\",\"\",VLOOKUP(A1928,'Banco de Funcionários'!$A$2:$D$1048576,2,0)),\"\")","v":""},null,null,null,null,null,"00:00:00",null,"00:00:00","00:00:00"]
[null,{"$f":"IFERROR(IF(A1929=\"\",\"\",VLOOKUP(A1929,'Banco de Funcionários'!$A$2:$D$1048576,2,0)),\"\")","v":""},null,null,null,null,null,"00:00:00",null,"00:00:00","00:00:00"]
[null,{"$f":"IFERROR(IF(A1930=\"\",\"\",VLOOKUP(A1930,'Banco de Funcionários'!$A$2:$D$1048576,2,0)),\"\")","v":""},null,null,null,null,null,"00:00:00",null,"00:00:00","00:00:00"]
[null,{"$f":"IFERROR(IF(A1931=\"\",\"\",VLOOKUP(A1931,'Banco de Funcionários'!$A$2:$D$1048576,2,0)),\"\")","v":""},null,null,null,null,null,"00:00:00",null,"00:00:00","00:00:00"]
[null,{"$f":"IFERROR(IF(A1932=\"\",\"\",VLOOKUP(A1932,'Banco de Funcionários'!$A$2:$D$1048576,2,0)),\"\")","v":""},null,null,null,null,null,"00:00:00",null,"00:00:00","00:00:00"]
[null,{"$f":"IFERROR(IF(A1933=\"\",\"\",VLOOKUP(A1933,'Banco de Funcionários'!$A$2:$D$1048576,2,0)),\"\")","v":""},null,null,null,null,null,"00:00:00",null,"00:00:00","00:00:00"]
[null,{"$f":"IFERROR(IF(A1934=\"\",\"\",VLOOKUP(A1934,'Banco de Funcionários'!$A$2:$D$1048576,2,0)),\"\")","v":""},null,null,null,null,null,"00:00:00",null,"00:00:00","00:00:00"]
[null,{"$f":"IFERROR(IF(A1935=\"\",\"\",VLOOKUP(A1935,'Banco de Funcionários'!$A$2:$D$1048576,2,0)),\"\")","v":""},null,null,null,null,null,"00:00:00",null,"00:00:00","00:00:00"]
[null,{"$f":"IFERROR(IF(A1936=\"\",\"\",VLOOKUP(A1936,'Banco de Funcionários'!$A$2:$D$1048576,2,0)),\"\")","v":""},null,null,null,null,null,"00:00:00",null,"00:00:00","00:00:00"]
[null,{"$f":"IFERROR(IF(A1937=\"\",\"\",VLOOKUP(A1937,'Banco de Funcionários'!$A$2:$D$1048576,2,0)),\"\")","v":""},null,null,null,null,null,"00:00:00",null,"00:00:00","00:00:00"]
[null,{"$f":"IFERROR(IF(A1938=\"\",\"\",VLOOKUP(A1938,'Banco de Funcionários'!$A$2:$D$1048576,2,0)),\"\")","v":""},null,null,null,null,null,"00:00:00",null,"00:00:00","00:00:00"]
[null,{"$f":"IFERROR(IF(A1939=\"\",\"\",VLOOKUP(A1939,'Banco de Funcionários'!$A$2:$D$1048576,2,0)),\"\")","v":""},null,null,null,null,null,"00:00:00",null,"00:00:00","00:00:00"]
[null,{"$f":"IFERROR(IF(A1940=\"\",\"\",VLOOKUP(A1940,'Banco de Funcionários'!$A$2:$D$1048576,2,0)),\"\")","v":""},null,null,null,null,null,"00:00:00",null,"00:00:00","00:00:00"]
[null,{"$f":"IFERROR(IF(A1941=\"\",\"\",VLOOKUP(A1941,'Banco de Funcionários'!$A$2:$D$1048576,2,0)),\"\")","v":""},null,null,null,null,null,"00:00:00",null,"00:00:00","00:00:00"]
[null,{"$f":"IFERROR(IF(A1942=\"\",\"\",VLOOKUP(A1942,'Banco de Funcionários'!$A$2:$D$1048576,2,0)),\"\")","v":""},null,null,null,null,null,"00:00:00",null,"00:00:00","00:00:00"]
[null,{"$f":"IFERROR(IF(A1943=\"\",\"\",VLOOKUP(A1943,'Banco de Funcionários'!$A$2:$D$1048576,2,0)),\"\")","v":""},null,null,null,null,null,"00:00:00",null,"00:00:00","00:00:00"]
[null,{"$f":"IFERROR(IF(A1944=\"\",\"\",VLOOKUP(A1944,'Banco de Funcionários'!$A$2:$D$1048576,2,0)),\"\")","v":""},null,null,null,null,null,"00:00:00",null,"00:00:00","00:00:00"]
[null,{"$f":"IFERROR(IF(A1945=\"\",\"\",VLOOKUP(A1945,'Banco de Funcionários'!$A$2:$D$1048576,2,0)),\"\")","v":""},null,null,null,null,null,"00:00:00",null,"00:00:00","00:00:00"]
[null,{"$f":"IFERROR(IF(A1946=\"\",\"\",VLOOKUP(A1946,'Banco de Funcionários'!$A$2:$D$1048576,2,0)),\"\")","v":""},null,null,null,null,null,"00:00:00",null,"00:00:00","00:00:00"]
[null,{"$f":"IFERROR(IF(A1947=\"\",\"\",VLOOKUP(A1947,'Banco de Funcionários'!$A$2:$D$1048576,2,0)),\"\")","v":""},null,null,null,null,null,"00:00:00",null,"00:00:00","00:00:00"]
[null,{"$f":"IFERROR(IF(A1948=\"\",\"\",VLOOKUP(A1948,'Banco de Funcionários'!$A$2:$D$1048576,2,0)),\"\")","v":""},null,null,null,null,null,"00:00:00",null,"00:00:00","00:00:00"]
[null,{"$f":"IFERROR(IF(A1949=\"\",\"\",VLOOKUP(A1949,'Banco de Funcionários'!$A$2:$D$1048576,2,0)),\"\")","v":""},null,null,null,null,null,"00:00:00",null,"00:00:00","00:00:00"]
[null,{"$f":"IFERROR(IF(A1950=\"\",\"\",VLOOKUP(A1950,'Banco de Funcionários'!$A$2:$D$1048576,2,0)),\"\")","v":""},null,null,null,null,null,"00:00:00",null,"00:00:00","00:00:00"]
[null,{"$f":"IFERROR(IF(A1951=\"\",\"\",VLOOKUP(A1951,'Banco de Funcionários'!$A$2:$D$1048576,2,0)),\"\")","v":""},null,null,null,null,null,"00:00:00",null,"00:00:00","00:00:00"]
[null,{"$f":"IFERROR(IF(A1952=\"\",\"\",VLOOKUP(A1952,'Banco de Funcionários'!$A$2:$D$1048576,2,0)),\"\")","v":""},null,null,null,null,null,"00:00:00",null,"00:00:00","00:00:00"]
[null,{"$f":"IFERROR(IF(A1953=\"\",\"\",VLOOKUP(A1953,'Banco de Funcionários'!$A$2:$D$1048576,2,0)),\"\")","v":""},null,null,null,null,null,"00:00:00",null,"00:00:00","00:00:00"]
[null,{"$f":"IFERROR(IF(A1954=\"\",\"\",VLOOKUP(A1954,'Banco de Funcionários'!$A$2:$D$1048576,2,0)),\"\")","v":""},null,null,null,null,null,"00:00:00",null,"00:00:00","00:00:00"]
[null,{"$f":"IFERROR(IF(A1955=\"\",\"\",VLOOKUP(A1955,'Banco de Funcionários'!$A$2:$D$1048576,2,0)),\"\")","v":""},null,null,null,null,null,"00:00:00",null,"00:00:00","00:00:00"]
[null,{"$f":"IFERROR(IF(A1956=\"\",\"\",VLOOKUP(A1956,'Banco de Funcionários'!$A$2:$D$1048576,2,0)),\"\")","v":""},null,null,null,null,null,"00:00:00",null,"00:00:00","00:00:00"]
[null,{"$f":"IFERROR(IF(A1957=\"\",\"\",VLOOKUP(A1957,'Banco de Funcionários'!$A$2:$D$1048576,2,0)),\"\")","v":""},null,null,null,null,null,"00:00:00",null,"00:00:00","00:00:00"]
[null,{"$f":"IFERROR(IF(A1958=\"\",\"\",VLOOKUP(A1958,'Banco de Funcionários'!$A$2:$D$1048576,2,0)),\"\")","v":""},null,null,null,null,null,"00:00:00",null,"00:00:00","00:00:00"]
[null,{"$f":"IFERROR(IF(A1959=\"\",\"\",VLOOKUP(A1959,'Banco de Funcionários'!$A$2:$D$1048576,2,0)),\"\")","v":""},null,null,null,null,null,"00:00:00",null,"00:00:00","00:00:00"]
[null,{"$f":"IFERROR(IF(A1960=\"\",\"\",VLOOKUP(A1960,'Banco de Funcionários'!$A$2:$D$1048576,2,0)),\"\")","v":""},null,null,null,null,null,"00:00:00",null,"00:00:00","00:00:00"]
[null,{"$f":"IFERROR(IF(A1961=\"\",\"\",VLOOKUP(A1961,'Banco de Funcionários'!$A$2:$D$1048576,2,0)),\"\")","v":""},null,null,null,null,null,"00:00:00",null,"00:00:00","00:00:00"]
[null,{"$f":"IFERROR(IF(A1962=\"\",\"\",VLOOKUP(A1962,'Banco de Funcionários'!$A$2:$D$1048576,2,0)),\"\")","v":""},null,null,null,null,null,"00:00:00",null,"00:00:00","00:00:00"]
[null,{"$f":"IFERROR(IF(A1963=\"\",\"\",VLOOKUP(A1963,'Banco de Funcionários'!$A$2:$D$1048576,2,0)),\"\")","v":""},null,null,null,null,null,"00:00:00",null,"00:00:00","00:00:00"]
[null,{"$f":"IFERROR(IF(A1964=\"\",\"\",VLOOKUP(A1964,'Banco de Funcionários'!$A$2:$D$1048576,2,0)),\"\")","v":""},null,null,null,null,null,"00:00:00",null,"00:00:00","00:00:00"]
[null,{"$f":"IFERROR(IF(A1965=\"\",\"\",VLOOKUP(A1965,'Banco de Funcionários'!$A$2:$D$1048576,2,0)),\"\")","v":""},null,null,null,null,null,"00:00:00",null,"00:00:00","00:00:00"]
[null,{"$f":"IFERROR(IF(A1966=\"\",\"\",VLOOKUP(A1966,'Banco de Funcionários'!$A$2:$D$1048576,2,0)),\"\")","v":""},null,null,null,null,null,"00:00:00",null,"00:00:00","00:00:00"]
[null,{"$f":"IFERROR(IF(A1967=\"\",\"\",VLOOKUP(A1967,'Banco de Funcionários'!$A$2:$D$1048576,2,0)),\"\")","v":""},null,null,null,null,null,"00:00:00",null,"00:00:00","00:00:00"]
[null,{"$f":"IFERROR(IF(A1968=\"\",\"\",VLOOKUP(A1968,'Banco de Funcionários'!$A$2:$D$1048576,2,0)),\"\")","v":""},null,null,null,null,null,"00:00:00",null,"00:00:00","00:00:00"]
[null,{"$f":"IFERROR(IF(A1969=\"\",\"\",VLOOKUP(A1969,'Banco de Funcionários'!$A$2:$D$1048576,2,0)),\"\")","v":""},null,null,null,null,null,"00:00:00",null,"00:00:00","00:00:00"]
[null,{"$f":"IFERROR(IF(A1970=\"\",\"\",VLOOKUP(A1970,'Banco de Funcionários'!$A$2:$D$1048576,2,0)),\"\")","v":""},null,null,null,null,null,"00:00:00",null,"00:00:00","00:00:00"]
[null,{"$f":"IFERROR(IF(A1971=\"\",\"\",VLOOKUP(A1971,'Banco de Funcionários'!$A$2:$D$1048576,2,0)),\"\")","v":""},null,null,null,null,null,"00:00:00",null,"00:00:00","00:00:00"]
[null,{"$f":"IFERROR(IF(A1972=\"\",\"\",VLOOKUP(A1972,'Banco de Funcionários'!$A$2:$D$1048576,2,0)),\"\")","v":""},null,null,null,null,null,"00:00:00",null,"00:00:00","00:00:00"]
[null,{"$f":"IFERROR(IF(A1973=\"\",\"\",VLOOKUP(A1973,'Banco de Funcionários'!$A$2:$D$1048576,2,0)),\"\")","v":""},null,null,null,null,null,"00:00:00",null,"00:00:00","00:00:00"]
[null,{"$f":"IFERROR(IF(A1974=\"\",\"\",VLOOKUP(A1974,'Banco de Funcionários'!$A$2:$D$1048576,2,0)),\"\")","v":""},null,null,null,null,null,"00:00:00",null,"00:00:00","00:00:00"]
[null,{"$f":"IFERROR(IF(A1975=\"\",\"\",VLOOKUP(A1975,'Banco de Funcionários'!$A$2:$D$1048576,2,0)),\"\")","v":""},null,null,null,null,null,"00:00:00",null,"00:00:00","00:00:00"]
[null,{"$f":"IFERROR(IF(A1976=\"\",\"\",VLOOKUP(A1976,'Banco de Funcionários'!$A$2:$D$1048576,2,0)),\"\")","v":""},null,null,null,null,null,"00:00:00",null,"00:00:00","00:00:00"]
[null,{"$f":"IFERROR(IF(A1977=\"\",\"\",VLOOKUP(A1977,'Banco de Funcionários'!$A$2:$D$1048576,2,0)),\"\")","v":""},null,null,null,null,null,"00:00:00",null,"00:00:00","00:00:00"]
[null,{"$f":"IFERROR(IF(A1978=\"\",\"\",VLOOKUP(A1978,'Banco de Funcionários'!$A$2:$D$1048576,2,0)),\"\")","v":""},null,null,null,null,null,"00:00:00",null,"00:00:00","00:00:00"]
[null,{"$f":"IFERROR(IF(A1979=\"\",\"\",VLOOKUP(A1979,'Banco de Funcionários'!$A$2:$D$1048576,2,0)),\"\")","v":""},null,null,null,null,null,"00:00:00",null,"00:00:00","00:00:00"]
[null,{"$f":"IFERROR(IF(A1980=\"\",\"\",VLOOKUP(A1980,'Banco de Funcionários'!$A$2:$D$1048576,2,0)),\"\")","v":""},null,null,null,null,null,"00:00:00",null,"00:00:00","00:00:00"]
[null,{"$f":"IFERROR(IF(A1981=\"\",\"\",VLOOKUP(A1981,'Banco de Funcionários'!$A$2:$D$1048576,2,0)),\"\")","v":""},null,null,null,null,null,"00:00:00",null,"00:00:00","00:00:00"]
[null,{"$f":"IFERROR(IF(A1982=\"\",\"\",VLOOKUP(A1982,'Banco de Funcionários'!$A$2:$D$1048576,2,0)),\"\")","v":""},null,null,null,null,null,"00:00:00",null,"00:00:00","00:00:00"]
[null,{"$f":"IFERROR(IF(A1983=\"\",\"\",VLOOKUP(A1983,'Banco de Funcionários'!$A$2:$D$1048576,2,0)),\"\")","v":""},null,null,null,null,null,"00:00:00",null,"00:00:00","00:00:00"]
[null,{"$f":"IFERROR(IF(A1984=\"\",\"\",VLOOKUP(A1984,'Banco de Funcionários'!$A$2:$D$1048576,2,0)),\"\")","v":""},null,null,null,null,null,"00:00:00",null,"00:00:00","00:00:00"]
[null,{"$f":"IFERROR(IF(A1985=\"\",\"\",VLOOKUP(A1985,'Banco de Funcionários'!$A$2:$D$1048576,2,0)),\"\")","v":""},null,null,null,null,null,"00:00:00",null,"00:00:00","00:00:00"]
[null,{"$f":"IFERROR(IF(A1986=\"\",\"\",VLOOKUP(A1986,'Banco de Funcionários'!$A$2:$D$1048576,2,0)),\"\")","v":""},null,null,null,null,null,"00:00:00",null,"00:00:00","00:00:00"]
[null,{"$f":"IFERROR(IF(A1987=\"\",\"\",VLOOKUP(A1987,'Banco de Funcionários'!$A$2:$D$1048576,2,0)),\"\")","v":""},null,null,null,null,null,{"$f":"(F1987-E1987)-G1987","v":"00:00:00"},null,{"$f":"IFERROR(H1987-I1987,\"\")","v":"00:00:00"},{"$f":"IFERROR(H1987+J1987,0)","v":"00:00:00"}]
[null,{"$f":"IFERROR(IF(A1988=\"\",\"\",VLOOKUP(A1988,'Banco de Funcionários'!$A$2:$D$1048576,2,0)),\"\")","v":""},null,null,null,null,null,"00:00:00",null,"00:00:00","00:00:00"]
[null,{"$f":"IFERROR(IF(A1989=\"\",\"\",VLOOKUP(A1989,'Banco de Funcionários'!$A$2:$D$1048576,2,0)),\"\")","v":""},null,null,null,null,null,"00:00:00",null,"00:00:00","00:00:00"]
[null,{"$f":"IFERROR(IF(A1990=\"\",\"\",VLOOKUP(A1990,'Banco de Funcionários'!$A$2:$D$1048576,2,0)),\"\")","v":""},null,null,null,null,null,"00:00:00",null,"00:00:00","00:00:00"]
[null,{"$f":"IFERROR(IF(A1991=\"\",\"\",VLOOKUP(A1991,'Banco de Funcionários'!$A$2:$D$1048576,2,0)),\"\")","v":""},null,null,null,null,null,"00:00:00",null,"00:00:00","00:00:00"]
[null,{"$f":"IFERROR(IF(A1992=\"\",\"\",VLOOKUP(A1992,'Banco de Funcionários'!$A$2:$D$1048576,2,0)),\"\")","v":""},null,null,null,null,null,"00:00:00",null,"00:00:00","00:00:00"]
[null,{"$f":"IFERROR(IF(A1993=\"\",\"\",VLOOKUP(A1993,'Banco de Funcionários'!$A$2:$D$1048576,2,0)),\"\")","v":""},null,null,null,null,null,"00:00:00",null,"00:00:00","00:00:00"]
[null,{"$f":"IFERROR(IF(A1994=\"\",\"\",VLOOKUP(A1994,'Banco de Funcionários'!$A$2:$D$1048576,2,0)),\"\")","v":""},null,null,null,null,null,"00:00:00",null,"00:00:00","00:00:00"]
[null,{"$f":"IFERROR(IF(A1995=\"\",\"\",VLOOKUP(A1995,'Banco de Funcionários'!$A$2:$D$1048576,2,0)),\"\")","v":""},null,null,null,null,null,"00:00:00",null,"00:00:00","00:00:00"]
[null,{"$f":"IFERROR(IF(A1996=\"\",\"\",VLOOKUP(A1996,'Banco de Funcionários'!$A$2:$D$1048576,2,0)),\"\")","v":""},null,null,null,null,null,"00:00:00",null,"00:00:00","00:00:00"]
[null,{"$f":"IFERROR(IF(A1997=\"\",\"\",VLOOKUP(A1997,'Banco de Funcionários'!$A$2:$D$1048576,2,0)),\"\")","v":""},null,null,null,null,null,"00:00:00",null,"00:00:00","00:00:00"]
[null,{"$f":"IFERROR(IF(A1998=\"\",\"\",VLOOKUP(A1998,'Banco de Funcionários'!$A$2:$D$1048576,2,0)),\"\")","v":""},null,null,null,null,null,"00:00:00",null,"00:00:00","00:00:00"]
[null,{"$f":"IFERROR(IF(A1999=\"\",\"\",VLOOKUP(A1999,'Banco de Funcionários'!$A$2:$D$1048576,2,0)),\"\")","v":""},null,null,null,null,null,"00:00:00",null,"00:00:00","00:00:00"]
[null,{"$f":"IFERROR(IF(A2000=\"\",\"\",VLOOKUP(A2000,'Banco de Funcionários'!$A$2:$D$1048576,2,0)),\"\")","v":""},null,null,null,null,null,"00:00:00",null,"00:00:00","00:00:00"]
[null,{"$f":"IFERROR(IF(A2002=\"\",\"\",VLOOKUP(A2002,'Banco de Funcionários'!$A$2:$D$1048576,2,0)),\"\")","v":""},null,null,null,null,null,"00:00:00",null,"00:00:00","00:00:00"]
[null,{"$f":"IFERROR(IF(A2006=\"\",\"\",VLOOKUP(A2006,'Banco de Funcionários'!$A$2:$D$1048576,2,0)),\"\")","v":""},null,null,null,null,null,"00:00:00",null,"00:00:00","00:00:00"]
[null,{"$f":"IFERROR(IF(A2011=\"\",\"\",VLOOKUP(A2011,'Banco de Funcionários'!$A$2:$D$1048576,2,0)),\"\")","v":""},null,null,null,null,null,"00:00:00",null,"00:00:00","00:00:00"]
[null,{"$f":"IFERROR(IF(A2017=\"\",\"\",VLOOKUP(A2017,'Banco de Funcionários'!$A$2:$D$1048576,2,0)),\"\")","v":""},null,null,null,null,null,"00:00:00",null,"00:00:00","00:00:00"]
[null,{"$f":"IFERROR(IF(A2022=\"\",\"\",VLOOKUP(A2022,'Banco de Funcionários'!$A$2:$D$1048576,2,0)),\"\")","v":""},null,null,null,null,null,"00:00:00",null,"00:00:00","00:00:00"]
[null,{"$f":"IFERROR(IF(A2027=\"\",\"\",VLOOKUP(A2027,'Banco de Funcionários'!$A$2:$D$1048576,2,0)),\"\")","v":""},null,null,null,null,null,"00:00:00",null,"00:00:00","00:00:00"]
[null,{"$f":"IFERROR(IF(A2033=\"\",\"\",VLOOKUP(A2033,'Banco de Funcionários'!$A$2:$D$1048576,2,0)),\"\")","v":""},null,null,null,null,null,"00:00:00",null,"00:00:00","00:00:00"]
[null,{"$f":"IFERROR(IF(A2038=\"\",\"\",VLOOKUP(A2038,'Banco de Funcionários'!$A$2:$D$1048576,2,0)),\"\")","v":""},null,null,null,null,null,"00:00:00",null,"00:00:00","00:00:00"]
[null,{"$f":"IFERROR(IF(A2044=\"\",\"\",VLOOKUP(A2044,'Banco de Funcionários'!$A$2:$D$1048576,2,0)),\"\")","v":""},null,null,null,null,null,"00:00:00",null,"00:00:00","00:00:00"]
[null,{"$f":"IFERROR(IF(A2049=\"\",\"\",VLOOKUP(A2049,'Banco de Funcionários'!$A$2:$D$1048576,2,0)),\"\")","v":""},null,null,null,null,null,"00:00:00",null,"00:00:00","00:00:00"]
[null,{"$f":"IFERROR(IF(A2054=\"\",\"\",VLOOKUP(A2054,'Banco de Funcionários'!$A$2:$D$1048576,2,0)),\"\")","v":""},null,null,null,null,null,"00:00:00",null,"00:00:00","00:00:00"]
[null,{"$f":"IFERROR(IF(A2055=\"\",\"\",VLOOKUP(A2055,'Banco de Funcionários'!$A$2:$D$1048576,2,0)),\"\")","v":""},null,null,null,null,null,"00:00:00",null,"00:00:00","00:00:00"]
[null,{"$f":"IFERROR(IF(A2060=\"\",\"\",VLOOKUP(A2060,'Banco de Funcionários'!$A$2:$D$1048576,2,0)),\"\")","v":""},null,null,null,null,null,"00:00:00",null,"00:00:00","00:00:00"]
[null,{"$f":"IFERROR(IF(A2065=\"\",\"\",VLOOKUP(A2065,'Banco de Funcionários'!$A$2:$D$1048576,2,0)),\"\")","v":""},null,null,null,null,null,"00:00:00",null,"00:00:00","00:00:00"]
[null,{"$f":"IFERROR(IF(A2071=\"\",\"\",VLOOKUP(A2071,'Banco de Funcionários'!$A$2:$D$1048576,2,0)),\"\")","v":""},null,null,null,null,null,"00:00:00",null,"00:00:00","00:00:00"]
[null,{"$f":"IFERROR(IF(A2076=\"\",\"\",VLOOKUP(A2076,'Banco de Funcionários'!$A$2:$D$1048576,2,0)),\"\")","v":""},null,null,null,null,null,"00:00:00",null,"00:00:00","00:00:00"]
[null,{"$f":"IFERROR(IF(A2082=\"\",\"\",VLOOKUP(A2082,'Banco de Funcionários'!$A$2:$D$1048576,2,0)),\"\")","v":""},null,null,null,null,null,"00:00:00",null,"00:00:00","00:00:00"]
[null,{"$f":"IFERROR(IF(A2087=\"\",\"\",VLOOKUP(A2087,'Banco de Funcionários'!$A$2:$D$1048576,2,0)),\"\")","v":""},null,null,null,null,null,"00:00:00",null,"00:00:00","00:00:00"]
[null,{"$f":"IFERROR(IF(A2092=\"\",\"\",VLOOKUP(A2092,'Banco de Funcionários'!$A$2:$D$1048576,2,0)),\"\")","v":""},null,null,null,null,null,"00:00:00",null,"00:00:00","00:00:00"]
[null,{"$f":"IFERROR(IF(A2098=\"\",\"\",VLOOKUP(A2098,'Banco de Funcionários'!$A$2:$D$1048576,2,0)),\"\")","v":""},null,null,null,null,null,"00:00:00",null,"00:00:00","00:00:00"]
[null,{"$f":"IFERROR(IF(A2103=\"\",\"\",VLOOKUP(A2103,'Banco de Funcionários'!$A$2:$D$1048576,2,0)),\"\")","v":""},null,null,null,null,null,"00:00:00",null,"00:00:00","00:00:00"]
[null,{"$f":"IFERROR(IF(A2109=\"\",\"\",VLOOKUP(A2109,'Banco de Funcionários'!$A$2:$D$1048576,2,0)),\"\")","v":""},null,null,null,null,null,"00:00:00",null,"00:00:00","00:00:00"]
[null,{"$f":"IFERROR(IF(A2113=\"\",\"\",VLOOKUP(A2113,'Banco de Funcionários'!$A$2:$D$1048576,2,0)),\"\")","v":""},null,null,null,null,null,"00:00:00",null,"00:00:00","00:00:00"]
[null,{"$f":"IFERROR(IF(A2118=\"\",\"\",VLOOKUP(A2118,'Banco de Funcionários'!$A$2:$D$1048576,2,0)),\"\")","v":""},null,null,null,null,null,"00:00:00",null,"00:00:00","00:00:00"]
[null,{"$f":"IFERROR(IF(A2119=\"\",\"\",VLOOKUP(A2119,'Banco de Funcionários'!$A$2:$D$1048576,2,0)),\"\")","v":""},null,null,null,null,null,"00:00:00",null,"00:00:00","00:00:00"]
[null,{"$f":"IFERROR(IF(A2124=\"\",\"\",VLOOKUP(A2124,'Banco de Funcionários'!$A$2:$D$1048576,2,0)),\"\")","v":""},null,null,null,null,null,"00:00:00",null,"00:00:00","00:00:00"]
[null,{"$f":"IFERROR(IF(A2129=\"\",\"\",VLOOKUP(A2129,'Banco de Funcionários'!$A$2:$D$1048576,2,0)),\"\")","v":""},null,null,null,null,null,"00:00:00",null,"00:00:00","00:00:00"]
[null,{"$f":"IFERROR(IF(A2135=\"\",\"\",VLOOKUP(A2135,'Banco de Funcionários'!$A$2:$D$1048576,2,0)),\"\")","v":""},null,null,null,null,null,"00:00:00",null,"00:00:00","00:00:00"]
[null,{"$f":"IFERROR(IF(A2140=\"\",\"\",VLOOKUP(A2140,'Banco de Funcionários'!$A$2:$D$1048576,2,0)),\"\")","v":""},null,null,null,null,null,"00:00:00",null,"00:00:00","00:00:00"]
[null,{"$f":"IFERROR(IF(A2146=\"\",\"\",VLOOKUP(A2146,'Banco de Funcionários'!$A$2:$D$1048576,2,0)),\"\")","v":""},null,null,null,null,null,"00:00:00",null,"00:00:00","00:00:00"]
[null,{"$f":"IFERROR(IF(A2151=\"\",\"\",VLOOKUP(A2151,'Banco de Funcionários'!$A$2:$D$1048576,2,0)),\"\")","v":""},null,null,null,null,null,"00:00:00",null,"00:00:00","00:00:00"]
[null,{"$f":"IFERROR(IF(A2156=\"\",\"\",VLOOKUP(A2156,'Banco de Funcionários'!$A$2:$D$1048576,2,0)),\"\")","v":""},null,null,null,null,null,"00:00:00",null,"00:00:00","00:00:00"]
[null,{"$f":"IFERROR(IF(A2162=\"\",\"\",VLOOKUP(A2162,'Banco de Funcionários'!$A$2:$D$1048576,2,0)),\"\")","v":""},null,null,null,null,null,"00:00:00",null,"00:00:00","00:00:00"]
[null,{"$f":"IFERROR(IF(A2167=\"\",\"\",VLOOKUP(A2167,'Banco de Funcionários'!$A$2:$D$1048576,2,0)),\"\")","v":""},null,null,null,null,null,"00:00:00",null,"00:00:00","00:00:00"]
[null,{"$f":"IFERROR(IF(A2172=\"\",\"\",VLOOKUP(A2172,'Banco de Funcionários'!$A$2:$D$1048576,2,0)),\"\")","v":""},null,null,null,null,null,"00:00:00",null,"00:00:00","00:00:00"]
[null,{"$f":"IFERROR(IF(A2178=\"\",\"\",VLOOKUP(A2178,'Banco de Funcionários'!$A$2:$D$1048576,2,0)),\"\")","v":""},null,null,null,null,null,"00:00:00",null,"00:00:00","00:00:00"]
[null,{"$f":"IFERROR(IF(A2183=\"\",\"\",VLOOKUP(A2183,'Banco de Funcionários'!$A$2:$D$1048576,2,0)),\"\")","v":""},null,null,null,null,null,"00:00:00",null,"00:00:00","00:00:00"]
[null,{"$f":"IFERROR(IF(A2184=\"\",\"\",VLOOKUP(A2184,'Banco de Funcionários'!$A$2:$D$1048576,2,0)),\"\")","v":""},null,null,null,null,null,"00:00:00",null,"00:00:00","00:00:00"]
[null,{"$f":"IFERROR(IF(A2189=\"\",\"\",VLOOKUP(A2189,'Banco de Funcionários'!$A$2:$D$1048576,2,0)),\"\")","v":""},null,null,null,null,null,"00:00:00",null,"00:00:00","00:00:00"]
[null,{"$f":"IFERROR(IF(A2194=\"\",\"\",VLOOKUP(A2194,'Banco de Funcionários'!$A$2:$D$1048576,2,0)),\"\")","v":""},null,null,null,null,null,"00:00:00",null,"00:00:00","00:00:00"]
[null,{"$f":"IFERROR(IF(A2200=\"\",\"\",VLOOKUP(A2200,'Banco de Funcionários'!$A$2:$D$1048576,2,0)),\"\")","v":""},null,null,null,null,null,"00:00:00",null,"00:00:00","00:00:00"]
[null,{"$f":"IFERROR(IF(A2205=\"\",\"\",VLOOKUP(A2205,'Banco de Funcionários'!$A$2:$D$1048576,2,0)),\"\")","v":""},null,null,null,null,null,"00:00:00",null,"00:00:00","00:00:00"]
[null,{"$f":"IFERROR(IF(A2211=\"\",\"\",VLOOKUP(A2211,'Banco de Funcionários'!$A$2:$D$1048576,2,0)),\"\")","v":""},null,null,null,null,null,"00:00:00",null,"00:00:00","00:00:00"]
[null,{"$f":"IFERROR(IF(A2216=\"\",\"\",VLOOKUP(A2216,'Banco de Funcionários'!$A$2:$D$1048576,2,0)),\"\")","v":""},null,null,null,null,null,"00:00:00",null,"00:00:00","00:00:00"]
[null,{"$f":"IFERROR(IF(A2220=\"\",\"\",VLOOKUP(A2220,'Banco de Funcionários'!$A$2:$D$1048576,2,0)),\"\")","v":""},null,null,null,null,null,"00:00:00",null,"00:00:00","00:00:00"]
[null,{"$f":"IFERROR(IF(A2226=\"\",\"\",VLOOKUP(A2226,'Banco de Funcionários'!$A$2:$D$1048576,2,0)),\"\")","v":""},null,null,null,null,null,"00:00:00",null,"00:00:00","00:00:00"]
[null,{"$f":"IFERROR(IF(A2231=\"\",\"\",VLOOKUP(A2231,'Banco de Funcionários'!$A$2:$D$1048576,2,0)),\"\")","v":""},null,null,null,null,null,"00:00:00",null,"00:00:00","00:00:00"]
[null,{"$f":"IFERROR(IF(A2236=\"\",\"\",VLOOKUP(A2236,'Banco de Funcionários'!$A$2:$D$1048576,2,0)),\"\")","v":""},null,null,null,null,null,"00:00:00",null,"00:00:00","00:00:00"]
[null,{"$f":"IFERROR(IF(A2242=\"\",\"\",VLOOKUP(A2242,'Banco de Funcionários'!$A$2:$D$1048576,2,0)),\"\")","v":""},null,null,null,null,null,"00:00:00",null,"00:00:00","00:00:00"]
[null,{"$f":"IFERROR(IF(A2247=\"\",\"\",VLOOKUP(A2247,'Banco de Funcionários'!$A$2:$D$1048576,2,0)),\"\")","v":""},null,null,null,null,null,"00:00:00",null,"00:00:00","00:00:00"]
[null,{"$f":"IFERROR(IF(A2248=\"\",\"\",VLOOKUP(A2248,'Banco de Funcionários'!$A$2:$D$1048576,2,0)),\"\")","v":""},null,null,null,null,null,"00:00:00",null,"00:00:00","00:00:00"]
[null,{"$f":"IFERROR(IF(A2253=\"\",\"\",VLOOKUP(A2253,'Banco de Funcionários'!$A$2:$D$1048576,2,0)),\"\")","v":""},null,null,null,null,null,"00:00:00",null,"00:00:00","00:00:00"]
[null,{"$f":"IFERROR(IF(A2258=\"\",\"\",VLOOKUP(A2258,'Banco de Funcionários'!$A$2:$D$1048576,2,0)),\"\")","v":""},null,null,null,null,null,"00:00:00",null,"00:00:00","00:00:00"]
[null,{"$f":"IFERROR(IF(A2264=\"\",\"\",VLOOKUP(A2264,'Banco de Funcionários'!$A$2:$D$1048576,2,0)),\"\")","v":""},null,null,null,null,null,"00:00:00",null,"00:00:00","00:00:00"]
[null,{"$f":"IFERROR(IF(A2269=\"\",\"\",VLOOKUP(A2269,'Banco de Funcionários'!$A$2:$D$1048576,2,0)),\"\")","v":""},null,null,null,null,null,"00:00:00",null,"00:00:00","00:00:00"]
[null,{"$f":"IFERROR(IF(A2275=\"\",\"\",VLOOKUP(A2275,'Banco de Funcionários'!$A$2:$D$1048576,2,0)),\"\")","v":""},null,null,null,null,null,"00:00:00",null,"00:00:00","00:00:00"]
[null,{"$f":"IFERROR(IF(A2280=\"\",\"\",VLOOKUP(A2280,'Banco de Funcionários'!$A$2:$D$1048576,2,0)),\"\")","v":""},null,null,null,null,null,"00:00:00",null,"00:00:00","00:00:00"]
[null,{"$f":"IFERROR(IF(A2285=\"\",\"\",VLOOKUP(A2285,'Banco de Funcionários'!$A$2:$D$1048576,2,0)),\"\")","v":""},null,null,null,null,null,"00:00:00",null,"00:00:00","00:00:00"]
[null,{"$f":"IFERROR(IF(A2291=\"\",\"\",VLOOKUP(A2291,'Banco de Funcionários'!$A$2:$D$1048576,2,0)),\"\")","v":""},null,null,null,null,null,"00:00:00",null,"00:00:00","00:00:00"]
[null,{"$f":"IFERROR(IF(A2296=\"\",\"\",VLOOKUP(A2296,'Banco de Funcionários'!$A$2:$D$1048576,2,0)),\"\")","v":""},null,null,null,null,null,"00:00:00",null,"00:00:00","00:00:00"]
[null,{"$f":"IFERROR(IF(A2301=\"\",\"\",VLOOKUP(A2301,'Banco de Funcionários'!$A$2:$D$1048576,2,0)),\"\")","v":""},null,null,null,null,null,"00:00:00",null,"00:00:00","00:00:00"]
[null,{"$f":"IFERROR(IF(A2307=\"\",\"\",VLOOKUP(A2307,'Banco de Funcionários'!$A$2:$D$1048576,2,0)),\"\")","v":""},null,null,null,null,null,{"$f":"(F2307-E2307)-G2307","v":"00:00:00"},null,{"$f":"IFERROR(H2307-I2307,\"\")","v":"00:00:00"},{"$f":"IFERROR(H2307+J2307,0)","v":"00:00:00"}]
[null,{"$f":"IFERROR(IF(A2312=\"\",\"\",VLOOKUP(A2312,'Banco de Funcionários'!$A$2:$D$1048576,2,0)),\"\")","v":""},null,null,null,null,null,"00:00:00",null,"00:00:00","00:00:00"]
[null,{"$f":"IFERROR(IF(A2313=\"\",\"\",VLOOKUP(A2313,'Banco de Funcionários'!$A$2:$D$1048576,2,0)),\"\")","v":""},null,null,null,null,null,"00:00:00",null,"00:00:00","00:00:00"]
[null,{"$f":"IFERROR(IF(A2318=\"\",\"\",VLOOKUP(A2318,'Banco de Funcionários'!$A$2:$D$1048576,2,0)),\"\")","v":""},null,null,null,null,null,"00:00:00",null,"00:00:00","00:00:00"]
[null,{"$f":"IFERROR(IF(A2323=\"\",\"\",VLOOKUP(A2323,'Banco de Funcionários'!$A$2:$D$1048576,2,0)),\"\")","v":""},null,null,null,null,null,"00:00:00",null,"00:00:00","00:00:00"]
[null,{"$f":"IFERROR(IF(A2329=\"\",\"\",VLOOKUP(A2329,'Banco de Funcionários'!$A$2:$D$1048576,2,0)),\"\")","v":""},null,null,null,null,null,"00:00:00",null,"00:00:00","00:00:00"]
[null,{"$f":"IFERROR(IF(A2333=\"\",\"\",VLOOKUP(A2333,'Banco de Funcionários'!$A$2:$D$1048576,2,0)),\"\")","v":""},null,null,null,null,null,"00:00:00",null,"00:00:00","00:00:00"]
[null,{"$f":"IFERROR(IF(A2338=\"\",\"\",VLOOKUP(A2338,'Banco de Funcionários'!$A$2:$D$1048576,2,0)),\"\")","v":""},null,null,null,null,null,"00:00:00",null,"00:00:00","00:00:00"]
[null,{"$f":"IFERROR(IF(A2344=\"\",\"\",VLOOKUP(A2344,'Banco de Funcionários'!$A$2:$D$1048576,2,0)),\"\")","v":""},null,null,null,null,null,"00:00:00",null,"00:00:00","00:00:00"]
[null,{"$f":"IFERROR(IF(A2349=\"\",\"\",VLOOKUP(A2349,'Banco de Funcionários'!$A$2:$D$1048576,2,0)),\"\")","v":""},null,null,null,null,null,"00:00:00",null,"00:00:00","00:00:00"]
[null,{"$f":"IFERROR(IF(A2355=\"\",\"\",VLOOKUP(A2355,'Banco de Funcionários'!$A$2:$D$1048576,2,0)),\"\")","v":""},null,null,null,null,null,"00:00:00",null,"00:00:00","00:00:00"]
[null,{"$f":"IFERROR(IF(A2360=\"\",\"\",VLOOKUP(A2360,'Banco de Funcionários'!$A$2:$D$1048576,2,0)),\"\")","v":""},null,null,null,null,null,"00:00:00",null,"00:00:00","00:00:00"]
[null,{"$f":"IFERROR(IF(A2365=\"\",\"\",VLOOKUP(A2365,'Banco de Funcionários'!$A$2:$D$1048576,2,0)),\"\")","v":""},null,null,null,null,null,"00:00:00",null,"00:00:00","00:00:00"]
[null,{"$f":"IFERROR(IF(A2371=\"\",\"\",VLOOKUP(A2371,'Banco de Funcionários'!$A$2:$D$1048576,2,0)),\"\")","v":""},null,null,null,null,null,{"$f":"(F2371-E2371)-G2371","v":"00:00:00"},null,{"$f":"IFERROR(H2371-I2371,\"\")","v":"00:00:00"},{"$f":"IFERROR(H2371+J2371,0)","v":"00:00:00"}]
[null,{"$f":"IFERROR(IF(A2376=\"\",\"\",VLOOKUP(A2376,'Banco de Funcionários'!$A$2:$D$1048576,2,0)),\"\")","v":""},null,null,null,null,null,"00:00:00",null,"00:00:00","00:00:00"]
[null,{"$f":"IFERROR(IF(A2377=\"\",\"\",VLOOKUP(A2377,'Banco de Funcionários'!$A$2:$D$1048576,2,0)),\"\")","v":""},null,null,null,null,null,"00:00:00",null,"00:00:00","00:00:00"]
[null,{"$f":"IFERROR(IF(A2382=\"\",\"\",VLOOKUP(A2382,'Banco de Funcionários'!$A$2:$D$1048576,2,0)),\"\")","v":""},null,null,null,null,null,"00:00:00",null,"00:00:00","00:00:00"]
[null,{"$f":"IFERROR(IF(A2387=\"\",\"\",VLOOKUP(A2387,'Banco de Funcionários'!$A$2:$D$1048576,2,0)),\"\")","v":""},null,null,null,null,null,"00:00:00",null,"00:00:00","00:00:00"]
[null,{"$f":"IFERROR(IF(A2393=\"\",\"\",VLOOKUP(A2393,'Banco de Funcionários'!$A$2:$D$1048576,2,0)),\"\")","v":""},null,null,null,null,null,"00:00:00",null,"00:00:00","00:00:00"]
[null,{"$f":"IFERROR(IF(A2398=\"\",\"\",VLOOKUP(A2398,'Banco de Funcionários'!$A$2:$D$1048576,2,0)),\"\")","v":""},null,null,null,null,null,"00:00:00",null,"00:00:00","00:00:00"]
[null,{"$f":"IFERROR(IF(A2403=\"\",\"\",VLOOKUP(A2403,'Banco de Funcionários'!$A$2:$D$1048576,2,0)),\"\")","v":""},null,null,null,null,null,"00:00:00",null,"00:00:00","00:00:00"]
[null,{"$f":"IFERROR(IF(A2409=\"\",\"\",VLOOKUP(A2409,'Banco de Funcionários'!$A$2:$D$1048576,2,0)),\"\")","v":""},null,null,null,null,null,"00:00:00",null,"00:00:00","00:00:00"]
[null,{"$f":"IFERROR(IF(A2414=\"\",\"\",VLOOKUP(A2414,'Banco de Funcionários'!$A$2:$D$1048576,2,0)),\"\")","v":""},null,null,null,null,null,"00:00:00",null,"00:00:00","00:00:00"]
[null,{"$f":"IFERROR(IF(A2420=\"\",\"\",VLOOKUP(A2420,'Banco de Funcionários'!$A$2:$D$1048576,2,0)),\"\")","v":""},null,null,null,null,null,"00:00:00",null,"00:00:00","00:00:00"]
[null,{"$f":"IFERROR(IF(A2425=\"\",\"\",VLOOKUP(A2425,'Banco de Funcionários'!$A$2:$D$1048576,2,0)),\"\")","v":""},null,null,null,null,null,"00:00:00",null,"00:00:00","00:00:00"]
[null,{"$f":"IFERROR(IF(A2430=\"\",\"\",VLOOKUP(A2430,'Banco de Funcionários'!$A$2:$D$1048576,2,0)),\"\")","v":""},null,null,null,null,null,"00:00:00",null,"00:00:00","00:00:00"]
[null,{"$f":"IFERROR(IF(A2436=\"\",\"\",VLOOKUP(A2436,'Banco de Funcionários'!$A$2:$D$1048576,2,0)),\"\")","v":""},null,null,null,null,null,"00:00:00",null,"00:00:00","00:00:00"]
[null,{"$f":"IFERROR(IF(A2441=\"\",\"\",VLOOKUP(A2441,'Banco de Funcionários'!$A$2:$D$1048576,2,0)),\"\")","v":""},null,null,null,null,null,"00:00:00",null,"00:00:00","00:00:00"]
[null,{"$f":"IFERROR(IF(A2444=\"\",\"\",VLOOKUP(A2444,'Banco de Funcionários'!$A$2:$D$1048576,2,0)),\"\")","v":""},null,null,null,null,null,"00:00:00",null,"00:00:00","00:00:00"]
[null,{"$f":"IFERROR(IF(A2446=\"\",\"\",VLOOKUP(A2446,'Banco de Funcionários'!$A$2:$D$1048576,2,0)),\"\")","v":""},null,null,null,null,null,"00:00:00",null,"00:00:00","00:00:00"]
[null,{"$f":"IFERROR(IF(A2451=\"\",\"\",VLOOKUP(A2451,'Banco de Funcionários'!$A$2:$D$1048576,2,0)),\"\")","v":""},null,null,null,null,null,"00:00:00",null,"00:00:00","00:00:00"]
[null,{"$f":"IFERROR(IF(A2457=\"\",\"\",VLOOKUP(A2457,'Banco de Funcionários'!$A$2:$D$1048576,2,0)),\"\")","v":""},null,null,null,null,null,"00:00:00",null,"00:00:00","00:00:00"]
[null,{"$f":"IFERROR(IF(A2462=\"\",\"\",VLOOKUP(A2462,'Banco de Funcionários'!$A$2:$D$1048576,2,0)),\"\")","v":""},null,null,null,null,null,"00:00:00",null,"00:00:00","00:00:00"]
[null,{"$f":"IFERROR(IF(A2467=\"\",\"\",VLOOKUP(A2467,'Banco de Funcionários'!$A$2:$D$1048576,2,0)),\"\")","v":""},null,null,null,null,null,"00:00:00",null,"00:00:00","00:00:00"]
[null,{"$f":"IFERROR(IF(A2473=\"\",\"\",VLOOKUP(A2473,'Banco de Funcionários'!$A$2:$D$1048576,2,0)),\"\")","v":""},null,null,null,null,null,"00:00:00",null,"00:00:00","00:00:00"]
[null,{"$f":"IFERROR(IF(A2478=\"\",\"\",VLOOKUP(A2478,'Banco de Funcionários'!$A$2:$D$1048576,2,0)),\"\")","v":""},null,null,null,null,null,"00:00:00",null,"00:00:00","00:00:00"]
[null,{"$f":"IFERROR(IF(A2484=\"\",\"\",VLOOKUP(A2484,'Banco de Funcionários'!$A$2:$D$1048576,2,0)),\"\")","v":""},null,null,null,null,null,"00:00:00",null,"00:00:00","00:00:00"]
[null,{"$f":"IFERROR(IF(A2489=\"\",\"\",VLOOKUP(A2489,'Banco de Funcionários'!$A$2:$D$1048576,2,0)),\"\")","v":""},null,null,null,null,null,"00:00:00",null,"00:00:00","00:00:00"]
[null,{"$f":"IFERROR(IF(A2494=\"\",\"\",VLOOKUP(A2494,'Banco de Funcionários'!$A$2:$D$1048576,2,0)),\"\")","v":""},null,null,null,null,null,"00:00:00",null,"00:00:00","00:00:00"]
[null,{"$f":"IFERROR(IF(A2500=\"\",\"\",VLOOKUP(A2500,'Banco de Funcionários'!$A$2:$D$1048576,2,0)),\"\")","v":""},null,null,null,null,null,"00:00:00",null,"00:00:00","00:00:00"]
[null,{"$f":"IFERROR(IF(A2505=\"\",\"\",VLOOKUP(A2505,'Banco de Funcionários'!$A$2:$D$1048576,2,0)),\"\")","v":""},null,null,null,null,null,"00:00:00",null,"00:00:00","00:00:00"]
[null,{"$f":"IFERROR(IF(A2510=\"\",\"\",VLOOKUP(A2510,'Banco de Funcionários'!$A$2:$D$1048576,2,0)),\"\")","v":""},null,null,null,null,null,"00:00:00",null,"00:00:00","00:00:00"]
[null,{"$f":"IFERROR(IF(A2511=\"\",\"\",VLOOKUP(A2511,'Banco de Funcionários'!$A$2:$D$1048576,2,0)),\"\")","v":""},null,null,null,null,null,"00:00:00",null,"00:00:00","00:00:00"]
[null,{"$f":"IFERROR(IF(A2516=\"\",\"\",VLOOKUP(A2516,'Banco de Funcionários'!$A$2:$D$1048576,2,0)),\"\")","v":""},null,null,null,null,null,"00:00:00",null,"00:00:00","00:00:00"]
[null,{"$f":"IFERROR(IF(A2522=\"\",\"\",VLOOKUP(A2522,'Banco de Funcionários'!$A$2:$D$1048576,2,0)),\"\")","v":""},null,null,null,null,null,"00:00:00",null,"00:00:00","00:00:00"]
[null,{"$f":"IFERROR(IF(A2527=\"\",\"\",VLOOKUP(A2527,'Banco de Funcionários'!$A$2:$D$1048576,2,0)),\"\")","v":""},null,null,null,null,null,"00:00:00",null,"00:00:00","00:00:00"]
[null,{"$f":"IFERROR(IF(A2532=\"\",\"\",VLOOKUP(A2532,'Banco de Funcionários'!$A$2:$D$1048576,2,0)),\"\")","v":""},null,null,null,null,null,"00:00:00",null,"00:00:00","00:00:00"]
[null,{"$f":"IFERROR(IF(A2538=\"\",\"\",VLOOKUP(A2538,'Banco de Funcionários'!$A$2:$D$1048576,2,0)),\"\")","v":""},null,null,null,null,null,"00:00:00",null,"00:00:00","00:00:00"]
[null,{"$f":"IFERROR(IF(A2543=\"\",\"\",VLOOKUP(A2543,'Banco de Funcionários'!$A$2:$D$1048576,2,0)),\"\")","v":""},null,null,null,null,null,"00:00:00",null,"00:00:00","00:00:00"]
[null,{"$f":"IFERROR(IF(A2549=\"\",\"\",VLOOKUP(A2549,'Banco de Funcionários'!$A$2:$D$1048576,2,0)),\"\")","v":""},null,null,null,null,null,"00:00:00",null,"00:00:00","00:00:00"]
[null,{"$f":"IFERROR(IF(A2554=\"\",\"\",VLOOKUP(A2554,'Banco de Funcionários'!$A$2:$D$1048576,2,0)),\"\")","v":""},null,null,null,null,null,"00:00:00",null,"00:00:00","00:00:00"]
[null,{"$f":"IFERROR(IF(A2557=\"\",\"\",VLOOKUP(A2557,'Banco de Funcionários'!$A$2:$D$1048576,2,0)),\"\")","v":""},null,null,null,null,null,"00:00:00",null,"00:00:00","00:00:00"]
[null,{"$f":"IFERROR(IF(A2564=\"\",\"\",VLOOKUP(A2564,'Banco de Funcionários'!$A$2:$D$1048576,2,0)),\"\")","v":""},null,null,null,null,null,"00:00:00",null,"00:00:00","00:00:00"]
[null,{"$f":"IFERROR(IF(A2569=\"\",\"\",VLOOKUP(A2569,'Banco de Funcionários'!$A$2:$D$1048576,2,0)),\"\")","v":""},null,null,null,null,null,"00:00:00",null,"00:00:00","00:00:00"]
[null,{"$f":"IFERROR(IF(A2574=\"\",\"\",VLOOKUP(A2574,'Banco de Funcionários'!$A$2:$D$1048576,2,0)),\"\")","v":""},null,null,null,null,null,"00:00:00",null,"00:00:00","00:00:00"]
[null,{"$f":"IFERROR(IF(A2575=\"\",\"\",VLOOKUP(A2575,'Banco de Funcionários'!$A$2:$D$1048576,2,0)),\"\")","v":""},null,null,null,null,null,"00:00:00",null,"00:00:00","00:00:00"]
[null,{"$f":"IFERROR(IF(A2580=\"\",\"\",VLOOKUP(A2580,'Banco de Funcionários'!$A$2:$D$1048576,2,0)),\"\")","v":""},null,null,null,null,null,"00:00:00",null,"00:00:00","00:00:00"]
[null,{"$f":"IFERROR(IF(A2586=\"\",\"\",VLOOKUP(A2586,'Banco de Funcionários'!$A$2:$D$1048576,2,0)),\"\")","v":""},null,null,null,null,null,"00:00:00",null,"00:00:00","00:00:00"]
[null,{"$f":"IFERROR(IF(A2591=\"\",\"\",VLOOKUP(A2591,'Banco de Funcionários'!$A$2:$D$1048576,2,0)),\"\")","v":""},null,null,null,null,null,"00:00:00",null,"00:00:00","00:00:00"]
[null,{"$f":"IFERROR(IF(A2596=\"\",\"\",VLOOKUP(A2596,'Banco de Funcionários'!$A$2:$D$1048576,2,0)),\"\")","v":""},null,null,null,null,null,"00:00:00",null,"00:00:00","00:00:00"]
[null,{"$f":"IFERROR(IF(A2602=\"\",\"\",VLOOKUP(A2602,'Banco de Funcionários'!$A$2:$D$1048576,2,0)),\"\")","v":""},null,null,null,null,null,"00:00:00",null,"00:00:00","00:00:00"]
[null,{"$f":"IFERROR(IF(A2607=\"\",\"\",VLOOKUP(A2607,'Banco de Funcionários'!$A$2:$D$1048576,2,0)),\"\")","v":""},null,null,null,null,null,"00:00:00",null,"00:00:00","00:00:00"]
[null,{"$f":"IFERROR(IF(A2612=\"\",\"\",VLOOKUP(A2612,'Banco de Funcionários'!$A$2:$D$1048576,2,0)),\"\")","v":""},null,null,null,null,null,"00:00:00",null,"00:00:00","00:00:00"]
[null,{"$f":"IFERROR(IF(A2618=\"\",\"\",VLOOKUP(A2618,'Banco de Funcionários'!$A$2:$D$1048576,2,0)),\"\")","v":""},null,null,null,null,null,"00:00:00",null,"00:00:00","00:00:00"]
[null,{"$f":"IFERROR(IF(A2623=\"\",\"\",VLOOKUP(A2623,'Banco de Funcionários'!$A$2:$D$1048576,2,0)),\"\")","v":""},null,null,null,null,null,"00:00:00",null,"00:00:00","00:00:00"]
[null,{"$f":"IFERROR(IF(A2629=\"\",\"\",VLOOKUP(A2629,'Banco de Funcionários'!$A$2:$D$1048576,2,0)),\"\")","v":""},null,null,null,null,null,"00:00:00",null,"00:00:00","00:00:00"]
[null,{"$f":"IFERROR(IF(A2634=\"\",\"\",VLOOKUP(A2634,'Banco de Funcionários'!$A$2:$D$1048576,2,0)),\"\")","v":""},null,null,null,null,null,"00:00:00",null,"00:00:00","00:00:00"]
[null,{"$f":"IFERROR(IF(A2639=\"\",\"\",VLOOKUP(A2639,'Banco de Funcionários'!$A$2:$D$1048576,2,0)),\"\")","v":""},null,null,null,null,null,"00:00:00",null,"00:00:00","00:00:00"]
[null,{"$f":"IFERROR(IF(A2640=\"\",\"\",VLOOKUP(A2640,'Banco de Funcionários'!$A$2:$D$1048576,2,0)),\"\")","v":""},null,null,null,null,null,"00:00:00",null,"00:00:00","00:00:00"]
[null,{"$f":"IFERROR(IF(A2645=\"\",\"\",VLOOKUP(A2645,'Banco de Funcionários'!$A$2:$D$1048576,2,0)),\"\")","v":""},null,null,null,null,null,"00:00:00",null,"00:00:00","00:00:00"]
[null,{"$f":"IFERROR(IF(A2651=\"\",\"\",VLOOKUP(A2651,'Banco de Funcionários'!$A$2:$D$1048576,2,0)),\"\")","v":""},null,null,null,null,null,"00:00:00",null,"00:00:00","00:00:00"]
[null,{"$f":"IFERROR(IF(A2656=\"\",\"\",VLOOKUP(A2656,'Banco de Funcionários'!$A$2:$D$1048576,2,0)),\"\")","v":""},null,null,null,null,null,"00:00:00",null,"00:00:00","00:00:00"]
[null,{"$f":"IFERROR(IF(A2661=\"\",\"\",VLOOKUP(A2661,'Banco de Funcionários'!$A$2:$D$1048576,2,0)),\"\")","v":""},null,null,null,null,null,"00:00:00",null,"00:00:00","00:00:00"]
[null,{"$f":"IFERROR(IF(A2668=\"\",\"\",VLOOKUP(A2668,'Banco de Funcionários'!$A$2:$D$1048576,2,0)),\"\")","v":""},null,null,null,null,null,"00:00:00",null,"00:00:00","00:00:00"]
[null,{"$f":"IFERROR(IF(A2671=\"\",\"\",VLOOKUP(A2671,'Banco de Funcionários'!$A$2:$D$1048576,2,0)),\"\")","v":""},null,null,null,null,null,"00:00:00",null,"00:00:00","00:00:00"]
[null,{"$f":"IFERROR(IF(A2676=\"\",\"\",VLOOKUP(A2676,'Banco de Funcionários'!$A$2:$D$1048576,2,0)),\"\")","v":""},null,null,null,null,null,"00:00:00",null,"00:00:00","00:00:00"]
[null,{"$f":"IFERROR(IF(A2682=\"\",\"\",VLOOKUP(A2682,'Banco de Funcionários'!$A$2:$D$1048576,2,0)),\"\")","v":""},null,null,null,null,null,"00:00:00",null,"00:00:00","00:00:00"]
[null,{"$f":"IFERROR(IF(A2687=\"\",\"\",VLOOKUP(A2687,'Banco de Funcionários'!$A$2:$D$1048576,2,0)),\"\")","v":""},null,null,null,null,null,"00:00:00",null,"00:00:00","00:00:00"]
[null,{"$f":"IFERROR(IF(A2693=\"\",\"\",VLOOKUP(A2693,'Banco de Funcionários'!$A$2:$D$1048576,2,0)),\"\")","v":""},null,null,null,null,null,"00:00:00",null,"00:00:00","00:00:00"]
[null,{"$f":"IFERROR(IF(A2698=\"\",\"\",VLOOKUP(A2698,'Banco de Funcionários'!$A$2:$D$1048576,2,0)),\"\")","v":""},null,null,null,null,null,"00:00:00",null,"00:00:00","00:00:00"]
[null,{"$f":"IFERROR(IF(A2703=\"\",\"\",VLOOKUP(A2703,'Banco de Funcionários'!$A$2:$D$1048576,2,0)),\"\")","v":""},null,null,null,null,null,"00:00:00",null,"00:00:00","00:00:00"]
[null,{"$f":"IFERROR(IF(A2704=\"\",\"\",VLOOKUP(A2704,'Banco de Funcionários'!$A$2:$D$1048576,2,0)),\"\")","v":""},null,null,null,null,null,"00:00:00",null,"00:00:00","00:00:00"]
[null,{"$f":"IFERROR(IF(A2709=\"\",\"\",VLOOKUP(A2709,'Banco de Funcionários'!$A$2:$D$1048576,2,0)),\"\")","v":""},null,null,null,null,null,"00:00:00",null,"00:00:00","00:00:00"]
[null,{"$f":"IFERROR(IF(A2715=\"\",\"\",VLOOKUP(A2715,'Banco de Funcionários'!$A$2:$D$1048576,2,0)),\"\")","v":""},null,null,null,null,null,"00:00:00",null,"00:00:00","00:00:00"]
[null,{"$f":"IFERROR(IF(A2720=\"\",\"\",VLOOKUP(A2720,'Banco de Funcionários'!$A$2:$D$1048576,2,0)),\"\")","v":""},null,null,null,null,null,"00:00:00",null,"00:00:00","00:00:00"]
[null,{"$f":"IFERROR(IF(A2725=\"\",\"\",VLOOKUP(A2725,'Banco de Funcionários'!$A$2:$D$1048576,2,0)),\"\")","v":""},null,null,null,null,null,"00:00:00",null,"00:00:00","00:00:00"]
[null,{"$f":"IFERROR(IF(A2731=\"\",\"\",VLOOKUP(A2731,'Banco de Funcionários'!$A$2:$D$1048576,2,0)),\"\")","v":""},null,null,null,null,null,"00:00:00",null,"00:00:00","00:00:00"]
[null,{"$f":"IFERROR(IF(A2736=\"\",\"\",VLOOKUP(A2736,'Banco de Funcionários'!$A$2:$D$1048576,2,0)),\"\")","v":""},null,null,null,null,null,"00:00:00",null,"00:00:00","00:00:00"]
[null,{"$f":"IFERROR(IF(A2741=\"\",\"\",VLOOKUP(A2741,'Banco de Funcionários'!$A$2:$D$1048576,2,0)),\"\")","v":""},null,null,null,null,null,"00:00:00",null,"00:00:00","00:00:00"]
[null,{"$f":"IFERROR(IF(A2747=\"\",\"\",VLOOKUP(A2747,'Banco de Funcionários'!$A$2:$D$1048576,2,0)),\"\")","v":""},null,null,null,null,null,"00:00:00",null,"00:00:00","00:00:00"]
[null,{"$f":"IFERROR(IF(A2752=\"\",\"\",VLOOKUP(A2752,'Banco de Funcionários'!$A$2:$D$1048576,2,0)),\"\")","v":""},null,null,null,null,null,"00:00:00",null,"00:00:00","00:00:00"]
[null,{"$f":"IFERROR(IF(A2758=\"\",\"\",VLOOKUP(A2758,'Banco de Funcionários'!$A$2:$D$1048576,2,0)),\"\")","v":""},null,null,null,null,null,"00:00:00",null,"00:00:00","00:00:00"]
[null,{"$f":"IFERROR(IF(A2763=\"\",\"\",VLOOKUP(A2763,'Banco de Funcionários'!$A$2:$D$1048576,2,0)),\"\")","v":""},null,null,null,null,null,"00:00:00",null,"00:00:00","00:00:00"]
[null,{"$f":"IFERROR(IF(A2768=\"\",\"\",VLOOKUP(A2768,'Banco de Funcionários'!$A$2:$D$1048576,2,0)),\"\")","v":""},null,null,null,null,null,"00:00:00",null,"00:00:00","00:00:00"]
[null,{"$f":"IFERROR(IF(A2769=\"\",\"\",VLOOKUP(A2769,'Banco de Funcionários'!$A$2:$D$1048576,2,0)),\"\")","v":""},null,null,null,null,null,"00:00:00",null,"00:00:00","00:00:00"]
[null,{"$f":"IFERROR(IF(A2774=\"\",\"\",VLOOKUP(A2774,'Banco de Funcionários'!$A$2:$D$1048576,2,0)),\"\")","v":""},null,null,null,null,null,"00:00:00",null,"00:00:00","00:00:00"]
[null,{"$f":"IFERROR(IF(A2781=\"\",\"\",VLOOKUP(A2781,'Banco de Funcionários'!$A$2:$D$1048576,2,0)),\"\")","v":""},null,null,null,null,null,"00:00:00",null,"00:00:00","00:00:00"]
[null,{"$f":"IFERROR(IF(A2784=\"\",\"\",VLOOKUP(A2784,'Banco de Funcionários'!$A$2:$D$1048576,2,0)),\"\")","v":""},null,null,null,null,null,"00:00:00",null,"00:00:00","00:00:00"]
[null,{"$f":"IFERROR(IF(A2789=\"\",\"\",VLOOKUP(A2789,'Banco de Funcionários'!$A$2:$D$1048576,2,0)),\"\")","v":""},null,null,null,null,null,"00:00:00",null,"00:00:00","00:00:00"]
[null,{"$f":"IFERROR(IF(A2795=\"\",\"\",VLOOKUP(A2795,'Banco de Funcionários'!$A$2:$D$1048576,2,0)),\"\")","v":""},null,null,null,null,null,"00:00:00",null,"00:00:00","00:00:00"]
[null,{"$f":"IFERROR(IF(A2800=\"\",\"\",VLOOKUP(A2800,'Banco de Funcionários'!$A$2:$D$1048576,2,0)),\"\")","v":""},null,null,null,null,null,"00:00:00",null,"00:00:00","00:00:00"]
[null,{"$f":"IFERROR(IF(A2805=\"\",\"\",VLOOKUP(A2805,'Banco de Funcionários'!$A$2:$D$1048576,2,0)),\"\")","v":""},null,null,null,null,null,"00:00:00",null,"00:00:00","00:00:00"]
[null,{"$f":"IFERROR(IF(A2811=\"\",\"\",VLOOKUP(A2811,'Banco de Funcionários'!$A$2:$D$1048576,2,0)),\"\")","v":""},null,null,null,null,null,"00:00:00",null,"00:00:00","00:00:00"]
[null,{"$f":"IFERROR(IF(A2816=\"\",\"\",VLOOKUP(A2816,'Banco de Funcionários'!$A$2:$D$1048576,2,0)),\"\")","v":""},null,null,null,null,null,"00:00:00",null,"00:00:00","00:00:00"]
[null,{"$f":"IFERROR(IF(A2822=\"\",\"\",VLOOKUP(A2822,'Banco de Funcionários'!$A$2:$D$1048576,2,0)),\"\")","v":""},null,null,null,null,null,"00:00:00",null,"00:00:00","00:00:00"]
[null,{"$f":"IFERROR(IF(A2827=\"\",\"\",VLOOKUP(A2827,'Banco de Funcionários'!$A$2:$D$1048576,2,0)),\"\")","v":""},null,null,null,null,null,"00:00:00",null,"00:00:00","00:00:00"]
[null,{"$f":"IFERROR(IF(A2832=\"\",\"\",VLOOKUP(A2832,'Banco de Funcionários'!$A$2:$D$1048576,2,0)),\"\")","v":""},null,null,null,null,null,"00:00:00",null,"00:00:00","00:00:00"]
[null,{"$f":"IFERROR(IF(A2833=\"\",\"\",VLOOKUP(A2833,'Banco de Funcionários'!$A$2:$D$1048576,2,0)),\"\")","v":""},null,null,null,null,null,"00:00:00",null,"00:00:00","00:00:00"]
[null,{"$f":"IFERROR(IF(A2838=\"\",\"\",VLOOKUP(A2838,'Banco de Funcionários'!$A$2:$D$1048576,2,0)),\"\")","v":""},null,null,null,null,null,"00:00:00",null,"00:00:00","00:00:00"]
[null,{"$f":"IFERROR(IF(A2843=\"\",\"\",VLOOKUP(A2843,'Banco de Funcionários'!$A$2:$D$1048576,2,0)),\"\")","v":""},null,null,null,null,null,"00:00:00",null,"00:00:00","00:00:00"]
[null,{"$f":"IFERROR(IF(A2849=\"\",\"\",VLOOKUP(A2849,'Banco de Funcionários'!$A$2:$D$1048576,2,0)),\"\")","v":""},null,null,null,null,null,"00:00:00",null,"00:00:00","00:00:00"]
[null,{"$f":"IFERROR(IF(A2854=\"\",\"\",VLOOKUP(A2854,'Banco de Funcionários'!$A$2:$D$1048576,2,0)),\"\")","v":""},null,null,null,null,null,"00:00:00",null,"00:00:00","00:00:00"]
[null,{"$f":"IFERROR(IF(A2860=\"\",\"\",VLOOKUP(A2860,'Banco de Funcionários'!$A$2:$D$1048576,2,0)),\"\")","v":""},null,null,null,null,null,"00:00:00",null,"00:00:00","00:00:00"]
[null,{"$f":"IFERROR(IF(A2865=\"\",\"\",VLOOKUP(A2865,'Banco de Funcionários'!$A$2:$D$1048576,2,0)),\"\")","v":""},null,null,null,null,null,"00:00:00",null,"00:00:00","00:00:00"]
[null,{"$f":"IFERROR(IF(A2870=\"\",\"\",VLOOKUP(A2870,'Banco de Funcionários'!$A$2:$D$1048576,2,0)),\"\")","v":""},null,null,null,null,null,"00:00:00",null,"00:00:00","00:00:00"]
[null,{"$f":"IFERROR(IF(A2876=\"\",\"\",VLOOKUP(A2876,'Banco de Funcionários'!$A$2:$D$1048576,2,0)),\"\")","v":""},null,null,null,null,null,"00:00:00",null,"00:00:00","00:00:00"]
[null,{"$f":"IFERROR(IF(A2881=\"\",\"\",VLOOKUP(A2881,'Banco de Funcionários'!$A$2:$D$1048576,2,0)),\"\")","v":""},null,null,null,null,null,"00:00:00",null,"00:00:00","00:00:00"]
[null,{"$f":"IFERROR(IF(A2886=\"\",\"\",VLOOKUP(A2886,'Banco de Funcionários'!$A$2:$D$1048576,2,0)),\"\")","v":""},null,null,null,null,null,"00:00:00",null,"00:00:00","00:00:00"]
[null,{"$f":"IFERROR(IF(A2888=\"\",\"\",VLOOKUP(A2888,'Banco de Funcionários'!$A$2:$D$1048576,2,0)),\"\")","v":""},null,null,null,null,null,"00:00:00",null,"00:00:00","00:00:00"]
[null,{"$f":"IFERROR(IF(A2896=\"\",\"\",VLOOKUP(A2896,'Banco de Funcionários'!$A$2:$D$1048576,2,0)),\"\")","v":""},null,null,null,null,null,"00:00:00",null,"00:00:00","00:00:00"]
[null,{"$f":"IFERROR(IF(A2897=\"\",\"\",VLOOKUP(A2897,'Banco de Funcionários'!$A$2:$D$1048576,2,0)),\"\")","v":""},null,null,null,null,null,"00:00:00",null,"00:00:00","00:00:00"]
[null,{"$f":"IFERROR(IF(A2902=\"\",\"\",VLOOKUP(A2902,'Banco de Funcionários'!$A$2:$D$1048576,2,0)),\"\")","v":""},null,null,null,null,null,"00:00:00",null,"00:00:00","00:00:00"]
[null,{"$f":"IFERROR(IF(A2907=\"\",\"\",VLOOKUP(A2907,'Banco de Funcionários'!$A$2:$D$1048576,2,0)),\"\")","v":""},null,null,null,null,null,"00:00:00",null,"00:00:00","00:00:00"]
[null,{"$f":"IFERROR(IF(A2913=\"\",\"\",VLOOKUP(A2913,'Banco de Funcionários'!$A$2:$D$1048576,2,0)),\"\")","v":""},null,null,null,null,null,"00:00:00",null,"00:00:00","00:00:00"]
[null,{"$f":"IFERROR(IF(A2918=\"\",\"\",VLOOKUP(A2918,'Banco de Funcionários'!$A$2:$D$1048576,2,0)),\"\")","v":""},null,null,null,null,null,"00:00:00",null,"00:00:00","00:00:00"]
[null,{"$f":"IFERROR(IF(A2924=\"\",\"\",VLOOKUP(A2924,'Banco de Funcionários'!$A$2:$D$1048576,2,0)),\"\")","v":""},null,null,null,null,null,"00:00:00",null,"00:00:00","00:00:00"]
[null,{"$f":"IFERROR(IF(A2929=\"\",\"\",VLOOKUP(A2929,'Banco de Funcionários'!$A$2:$D$1048576,2,0)),\"\")","v":""},null,null,null,null,null,"00:00:00",null,"00:00:00","00:00:00"]
[null,{"$f":"IFERROR(IF(A2934=\"\",\"\",VLOOKUP(A2934,'Banco de Funcionários'!$A$2:$D$1048576,2,0)),\"\")","v":""},null,null,null,null,null,"00:00:00",null,"00:00:00","00:00:00"]
[null,{"$f":"IFERROR(IF(A2940=\"\",\"\",VLOOKUP(A2940,'Banco de Funcionários'!$A$2:$D$1048576,2,0)),\"\")","v":""},null,null,null,null,null,"00:00:00",null,"00:00:00","00:00:00"]
[null,{"$f":"IFERROR(IF(A2945=\"\",\"\",VLOOKUP(A2945,'Banco de Funcionários'!$A$2:$D$1048576,2,0)),\"\")","v":""},null,null,null,null,null,"00:00:00",null,"00:00:00","00:00:00"]
[null,{"$f":"IFERROR(IF(A2950=\"\",\"\",VLOOKUP(A2950,'Banco de Funcionários'!$A$2:$D$1048576,2,0)),\"\")","v":""},null,null,null,null,null,"00:00:00",null,"00:00:00","00:00:00"]
[null,{"$f":"IFERROR(IF(A2956=\"\",\"\",VLOOKUP(A2956,'Banco de Funcionários'!$A$2:$D$1048576,2,0)),\"\")","v":""},null,null,null,null,null,"00:00:00",null,"00:00:00","00:00:00"]
[null,{"$f":"IFERROR(IF(A2961=\"\",\"\",VLOOKUP(A2961,'Banco de Funcionários'!$A$2:$D$1048576,2,0)),\"\")","v":""},null,null,null,null,null,"00:00:00",null,"00:00:00","00:00:00"]
[null,{"$f":"IFERROR(IF(A2962=\"\",\"\",VLOOKUP(A2962,'Banco de Funcionários'!$A$2:$D$1048576,2,0)),\"\")","v":""},null,null,null,null,null,"00:00:00",null,"00:00:00","00:00:00"]
[null,{"$f":"IFERROR(IF(A2967=\"\",\"\",VLOOKUP(A2967,'Banco de Funcionários'!$A$2:$D$1048576,2,0)),\"\")","v":""},null,null,null,null,null,"00:00:00",null,"00:00:00","00:00:00"]
[null,{"$f":"IFERROR(IF(A2972=\"\",\"\",VLOOKUP(A2972,'Banco de Funcionários'!$A$2:$D$1048576,2,0)),\"\")","v":""},null,null,null,null,null,"00:00:00",null,"00:00:00","00:00:00"]
[null,{"$f":"IFERROR(IF(A2978=\"\",\"\",VLOOKUP(A2978,'Banco de Funcionários'!$A$2:$D$1048576,2,0)),\"\")","v":""},null,null,null,null,null,"00:00:00",null,"00:00:00","00:00:00"]
[null,{"$f":"IFERROR(IF(A2983=\"\",\"\",VLOOKUP(A2983,'Banco de Funcionários'!$A$2:$D$1048576,2,0)),\"\")","v":""},null,null,null,null,null,"00:00:00",null,"00:00:00","00:00:00"]
[null,{"$f":"IFERROR(IF(A2989=\"\",\"\",VLOOKUP(A2989,'Banco de Funcionários'!$A$2:$D$1048576,2,0)),\"\")","v":""},null,null,null,null,null,"00:00:00",null,"00:00:00","00:00:00"]
[null,{"$f":"IFERROR(IF(A2994=\"\",\"\",VLOOKUP(A2994,'Banco de Funcionários'!$A$2:$D$1048576,2,0)),\"\")","v":""},null,null,null,null,null,"00:00:00",null,"00:00:00","00:00:00"]
[null,{"$f":"IFERROR(IF(A2999=\"\",\"\",VLOOKUP(A2999,'Banco de Funcionários'!$A$2:$D$1048576,2,0)),\"\")","v":""},null,null,null,null,null,"00:00:00",null,"00:00:00","00:00:00"]
[null,{"$f":"IFERROR(IF(A3005=\"\",\"\",VLOOKUP(A3005,'Banco de Funcionários'!$A$2:$D$1048576,2,0)),\"\")","v":""},null,null,null,null,null,"00:00:00",null,"00:00:00","00:00:00"]
[null,{"$f":"IFERROR(IF(A3009=\"\",\"\",VLOOKUP(A3009,'Banco de Funcionários'!$A$2:$D$1048576,2,0)),\"\")","v":""},null,null,null,null,null,"00:00:00",null,"00:00:00","00:00:00"]
[null,{"$f":"IFERROR(IF(A3014=\"\",\"\",VLOOKUP(A3014,'Banco de Funcionários'!$A$2:$D$1048576,2,0)),\"\")","v":""},null,null,null,null,null,"00:00:00",null,"00:00:00","00:00:00"]
[null,{"$f":"IFERROR(IF(A3020=\"\",\"\",VLOOKUP(A3020,'Banco de Funcionários'!$A$2:$D$1048576,2,0)),\"\")","v":""},null,null,null,null,null,"00:00:00",null,"00:00:00","00:00:00"]
[null,{"$f":"IFERROR(IF(A3025=\"\",\"\",VLOOKUP(A3025,'Banco de Funcionários'!$A$2:$D$1048576,2,0)),\"\")","v":""},null,null,null,null,null,"00:00:00",null,"00:00:00","00:00:00"]
[null,{"$f":"IFERROR(IF(A3026=\"\",\"\",VLOOKUP(A3026,'Banco de Funcionários'!$A$2:$D$1048576,2,0)),\"\")","v":""},null,null,null,null,null,"00:00:00",null,"00:00:00","00:00:00"]
[null,{"$f":"IFERROR(IF(A3031=\"\",\"\",VLOOKUP(A3031,'Banco de Funcionários'!$A$2:$D$1048576,2,0)),\"\")","v":""},null,null,null,null,null,"00:00:00",null,"00:00:00","00:00:00"]
[null,{"$f":"IFERROR(IF(A3036=\"\",\"\",VLOOKUP(A3036,'Banco de Funcionários'!$A$2:$D$1048576,2,0)),\"\")","v":""},null,null,null,null,null,"00:00:00",null,"00:00:00","00:00:00"]
[null,{"$f":"IFERROR(IF(A3042=\"\",\"\",VLOOKUP(A3042,'Banco de Funcionários'!$A$2:$D$1048576,2,0)),\"\")","v":""},null,null,null,null,null,"00:00:00",null,"00:00:00","00:00:00"]
[null,{"$f":"IFERROR(IF(A3047=\"\",\"\",VLOOKUP(A3047,'Banco de Funcionários'!$A$2:$D$1048576,2,0)),\"\")","v":""},null,null,null,null,null,"00:00:00",null,"00:00:00","00:00:00"]
[null,{"$f":"IFERROR(IF(A3052=\"\",\"\",VLOOKUP(A3052,'Banco de Funcionários'!$A$2:$D$1048576,2,0)),\"\")","v":""},null,null,null,null,null,"00:00:00",null,"00:00:00","00:00:00"]
[null,{"$f":"IFERROR(IF(A3058=\"\",\"\",VLOOKUP(A3058,'Banco de Funcionários'!$A$2:$D$1048576,2,0)),\"\")","v":""},null,null,null,null,null,"00:00:00",null,"00:00:00","00:00:00"]
[null,{"$f":"IFERROR(IF(A3063=\"\",\"\",VLOOKUP(A3063,'Banco de Funcionários'!$A$2:$D$1048576,2,0)),\"\")","v":""},null,null,null,null,null,"00:00:00",null,"00:00:00","00:00:00"]
[null,{"$f":"IFERROR(IF(A3069=\"\",\"\",VLOOKUP(A3069,'Banco de Funcionários'!$A$2:$D$1048576,2,0)),\"\")","v":""},null,null,null,null,null,"00:00:00",null,"00:00:00","00:00:00"]
[null,{"$f":"IFERROR(IF(A3074=\"\",\"\",VLOOKUP(A3074,'Banco de Funcionários'!$A$2:$D$1048576,2,0)),\"\")","v":""},null,null,null,null,null,"00:00:00",null,"00:00:00","00:00:00"]
[null,{"$f":"IFERROR(IF(A3079=\"\",\"\",VLOOKUP(A3079,'Banco de Funcionários'!$A$2:$D$1048576,2,0)),\"\")","v":""},null,null,null,null,null,"00:00:00",null,"00:00:00","00:00:00"]
[null,{"$f":"IFERROR(IF(A3085=\"\",\"\",VLOOKUP(A3085,'Banco de Funcionários'!$A$2:$D$1048576,2,0)),\"\")","v":""},null,null,null,null,null,"00:00:00",null,"00:00:00","00:00:00"]
[null,{"$f":"IFERROR(IF(A3090=\"\",\"\",VLOOKUP(A3090,'Banco de Funcionários'!$A$2:$D$1048576,2,0)),\"\")","v":""},null,null,null,null,null,"00:00:00",null,"00:00:00","00:00:00"]
[null,{"$f":"IFERROR(IF(A3091=\"\",\"\",VLOOKUP(A3091,'Banco de Funcionários'!$A$2:$D$1048576,2,0)),\"\")","v":""},null,null,null,null,null,"00:00:00",null,"00:00:00","00:00:00"]
[null,{"$f":"IFERROR(IF(A3096=\"\",\"\",VLOOKUP(A3096,'Banco de Funcionários'!$A$2:$D$1048576,2,0)),\"\")","v":""},null,null,null,null,null,"00:00:00",null,"00:00:00","00:00:00"]
[null,{"$f":"IFERROR(IF(A3101=\"\",\"\",VLOOKUP(A3101,'Banco de Funcionários'!$A$2:$D$1048576,2,0)),\"\")","v":""},null,null,null,null,null,"00:00:00",null,"00:00:00","00:00:00"]
[null,{"$f":"IFERROR(IF(A3107=\"\",\"\",VLOOKUP(A3107,'Banco de Funcionários'!$A$2:$D$1048576,2,0)),\"\")","v":""},null,null,null,null,null,"00:00:00",null,"00:00:00","00:00:00"]
[null,{"$f":"IFERROR(IF(A3112=\"\",\"\",VLOOKUP(A3112,'Banco de Funcionários'!$A$2:$D$1048576,2,0)),\"\")","v":""},null,null,null,null,null,"00:00:00",null,"00:00:00","00:00:00"]
[null,{"$f":"IFERROR(IF(A3116=\"\",\"\",VLOOKUP(A3116,'Banco de Funcionários'!$A$2:$D$1048576,2,0)),\"\")","v":""},null,null,null,null,null,"00:00:00",null,"00:00:00","00:00:00"]
[null,{"$f":"IFERROR(IF(A3122=\"\",\"\",VLOOKUP(A3122,'Banco de Funcionários'!$A$2:$D$1048576,2,0)),\"\")","v":""},null,null,null,null,null,"00:00:00",null,"00:00:00","00:00:00"]
[null,{"$f":"IFERROR(IF(A3127=\"\",\"\",VLOOKUP(A3127,'Banco de Funcionários'!$A$2:$D$1048576,2,0)),\"\")","v":""},null,null,null,null,null,"00:00:00",null,"00:00:00","00:00:00"]
[null,{"$f":"IFERROR(IF(A3133=\"\",\"\",VLOOKUP(A3133,'Banco de Funcionários'!$A$2:$D$1048576,2,0)),\"\")","v":""},null,null,null,null,null,"00:00:00",null,"00:00:00","00:00:00"]
[null,{"$f":"IFERROR(IF(A3138=\"\",\"\",VLOOKUP(A3138,'Banco de Funcionários'!$A$2:$D$1048576,2,0)),\"\")","v":""},null,null,null,null,null,"00:00:00",null,"00:00:00","00:00:00"]
[null,{"$f":"IFERROR(IF(A3143=\"\",\"\",VLOOKUP(A3143,'Banco de Funcionários'!$A$2:$D$1048576,2,0)),\"\")","v":""},null,null,null,null,null,"00:00:00",null,"00:00:00","00:00:00"]
[null,{"$f":"IFERROR(IF(A3149=\"\",\"\",VLOOKUP(A3149,'Banco de Funcionários'!$A$2:$D$1048576,2,0)),\"\")","v":""},null,null,null,null,null,"00:00:00",null,"00:00:00","00:00:00"]
[null,{"$f":"IFERROR(IF(A3154=\"\",\"\",VLOOKUP(A3154,'Banco de Funcionários'!$A$2:$D$1048576,2,0)),\"\")","v":""},null,null,null,null,null,"00:00:00",null,"00:00:00","00:00:00"]
[null,{"$f":"IFERROR(IF(A3159=\"\",\"\",VLOOKUP(A3159,'Banco de Funcionários'!$A$2:$D$1048576,2,0)),\"\")","v":""},null,null,null,null,null,"00:00:00",null,"00:00:00","00:00:00"]
[null,{"$f":"IFERROR(IF(A3160=\"\",\"\",VLOOKUP(A3160,'Banco de Funcionários'!$A$2:$D$1048576,2,0)),\"\")","v":""},null,null,null,null,null,"00:00:00",null,"00:00:00","00:00:00"]
[null,{"$f":"IFERROR(IF(A3165=\"\",\"\",VLOOKUP(A3165,'Banco de Funcionários'!$A$2:$D$1048576,2,0)),\"\")","v":""},null,null,null,null,null,"00:00:00",null,"00:00:00","00:00:00"]
[null,{"$f":"IFERROR(IF(A3171=\"\",\"\",VLOOKUP(A3171,'Banco de Funcionários'!$A$2:$D$1048576,2,0)),\"\")","v":""},null,null,null,null,null,"00:00:00",null,"00:00:00","00:00:00"]
[null,{"$f":"IFERROR(IF(A3176=\"\",\"\",VLOOKUP(A3176,'Banco de Funcionários'!$A$2:$D$1048576,2,0)),\"\")","v":""},null,null,null,null,null,"00:00:00",null,"00:00:00","00:00:00"]
[null,{"$f":"IFERROR(IF(A3181=\"\",\"\",VLOOKUP(A3181,'Banco de Funcionários'!$A$2:$D$1048576,2,0)),\"\")","v":""},null,null,null,null,null,"00:00:00",null,"00:00:00","00:00:00"]
[null,{"$f":"IFERROR(IF(A3187=\"\",\"\",VLOOKUP(A3187,'Banco de Funcionários'!$A$2:$D$1048576,2,0)),\"\")","v":""},null,null,null,null,null,"00:00:00",null,"00:00:00","00:00:00"]
[null,{"$f":"IFERROR(IF(A3192=\"\",\"\",VLOOKUP(A3192,'Banco de Funcionários'!$A$2:$D$1048576,2,0)),\"\")","v":""},null,null,null,null,null,"00:00:00",null,"00:00:00","00:00:00"]
[null,{"$f":"IFERROR(IF(A3198=\"\",\"\",VLOOKUP(A3198,'Banco de Funcionários'!$A$2:$D$1048576,2,0)),\"\")","v":""},null,null,null,null,null,"00:00:00",null,"00:00:00","00:00:00"]
[null,{"$f":"IFERROR(IF(A3203=\"\",\"\",VLOOKUP(A3203,'Banco de Funcionários'!$A$2:$D$1048576,2,0)),\"\")","v":""},null,null,null,null,null,{"$f":"(F3203-E3203)-G3203","v":"00:00:00"},null,{"$f":"IFERROR(H3203-I3203,\"\")","v":"00:00:00"},{"$f":"IFERROR(H3203+J3203,0)","v":"00:00:00"}]
[null,{"$f":"IFERROR(IF(A3208=\"\",\"\",VLOOKUP(A3208,'Banco de Funcionários'!$A$2:$D$1048576,2,0)),\"\")","v":""},null,null,null,null,null,"00:00:00",null,"00:00:00","00:00:00"]
[null,{"$f":"IFERROR(IF(A3214=\"\",\"\",VLOOKUP(A3214,'Banco de Funcionários'!$A$2:$D$1048576,2,0)),\"\")","v":""},null,null,null,null,null,"00:00:00",null,"00:00:00","00:00:00"]
[null,{"$f":"IFERROR(IF(A3219=\"\",\"\",VLOOKUP(A3219,'Banco de Funcionários'!$A$2:$D$1048576,2,0)),\"\")","v":""},null,null,null,null,null,"00:00:00",null,"00:00:00","00:00:00"]
[null,{"$f":"IFERROR(IF(A3224=\"\",\"\",VLOOKUP(A3224,'Banco de Funcionários'!$A$2:$D$1048576,2,0)),\"\")","v":""},null,null,null,null,null,"00:00:00",null,"00:00:00","00:00:00"]
[null,{"$f":"IFERROR(IF(A3225=\"\",\"\",VLOOKUP(A3225,'Banco de Funcionários'!$A$2:$D$1048576,2,0)),\"\")","v":""},null,null,null,null,null,"00:00:00",null,"00:00:00","00:00:00"]
[null,{"$f":"IFERROR(IF(A3229=\"\",\"\",VLOOKUP(A3229,'Banco de Funcionários'!$A$2:$D$1048576,2,0)),\"\")","v":""},null,null,null,null,null,"00:00:00",null,"00:00:00","00:00:00"]
[null,{"$f":"IFERROR(IF(A3235=\"\",\"\",VLOOKUP(A3235,'Banco de Funcionários'!$A$2:$D$1048576,2,0)),\"\")","v":""},null,null,null,null,null,"00:00:00",null,"00:00:00","00:00:00"]
[null,{"$f":"IFERROR(IF(A3240=\"\",\"\",VLOOKUP(A3240,'Banco de Funcionários'!$A$2:$D$1048576,2,0)),\"\")","v":""},null,null,null,null,null,"00:00:00",null,"00:00:00","00:00:00"]
[null,{"$f":"IFERROR(IF(A3245=\"\",\"\",VLOOKUP(A3245,'Banco de Funcionários'!$A$2:$D$1048576,2,0)),\"\")","v":""},null,null,null,null,null,"00:00:00",null,"00:00:00","00:00:00"]
[null,{"$f":"IFERROR(IF(A3251=\"\",\"\",VLOOKUP(A3251,'Banco de Funcionários'!$A$2:$D$1048576,2,0)),\"\")","v":""},null,null,null,null,null,"00:00:00",null,"00:00:00","00:00:00"]
[null,{"$f":"IFERROR(IF(A3256=\"\",\"\",VLOOKUP(A3256,'Banco de Funcionários'!$A$2:$D$1048576,2,0)),\"\")","v":""},null,null,null,null,null,"00:00:00",null,"00:00:00","00:00:00"]
[null,{"$f":"IFERROR(IF(A3262=\"\",\"\",VLOOKUP(A3262,'Banco de Funcionários'!$A$2:$D$1048576,2,0)),\"\")","v":""},null,null,null,null,null,"00:00:00",null,"00:00:00","00:00:00"]
[null,{"$f":"IFERROR(IF(A3267=\"\",\"\",VLOOKUP(A3267,'Banco de Funcionários'!$A$2:$D$1048576,2,0)),\"\")","v":""},null,null,null,null,null,{"$f":"(F3267-E3267)-G3267","v":"00:00:00"},null,{"$f":"IFERROR(H3267-I3267,\"\")","v":"00:00:00"},{"$f":"IFERROR(H3267+J3267,0)","v":"00:00:00"}]
[null,{"$f":"IFERROR(IF(A3272=\"\",\"\",VLOOKUP(A3272,'Banco de Funcionários'!$A$2:$D$1048576,2,0)),\"\")","v":""},null,null,null,null,null,"00:00:00",null,"00:00:00","00:00:00"]
[null,{"$f":"IFERROR(IF(A3278=\"\",\"\",VLOOKUP(A3278,'Banco de Funcionários'!$A$2:$D$1048576,2,0)),\"\")","v":""},null,null,null,null,null,"00:00:00",null,"00:00:00","00:00:00"]
[null,{"$f":"IFERROR(IF(A3283=\"\",\"\",VLOOKUP(A3283,'Banco de Funcionários'!$A$2:$D$1048576,2,0)),\"\")","v":""},null,null,null,null,null,"00:00:00",null,"00:00:00","00:00:00"]
[null,{"$f":"IFERROR(IF(A3288=\"\",\"\",VLOOKUP(A3288,'Banco de Funcionários'!$A$2:$D$1048576,2,0)),\"\")","v":""},null,null,null,null,null,"00:00:00",null,"00:00:00","00:00:00"]
[null,{"$f":"IFERROR(IF(A3289=\"\",\"\",VLOOKUP(A3289,'Banco de Funcionários'!$A$2:$D$1048576,2,0)),\"\")","v":""},null,null,null,null,null,"00:00:00",null,"00:00:00","00:00:00"]
[null,{"$f":"IFERROR(IF(A3294=\"\",\"\",VLOOKUP(A3294,'Banco de Funcionários'!$A$2:$D$1048576,2,0)),\"\")","v":""},null,null,null,null,null,"00:00:00",null,"00:00:00","00:00:00"]
[null,{"$f":"IFERROR(IF(A3300=\"\",\"\",VLOOKUP(A3300,'Banco de Funcionários'!$A$2:$D$1048576,2,0)),\"\")","v":""},null,null,null,null,null,"00:00:00",null,"00:00:00","00:00:00"]
[null,{"$f":"IFERROR(IF(A3305=\"\",\"\",VLOOKUP(A3305,'Banco de Funcionários'!$A$2:$D$1048576,2,0)),\"\")","v":""},null,null,null,null,null,"00:00:00",null,"00:00:00","00:00:00"]
[null,{"$f":"IFERROR(IF(A3310=\"\",\"\",VLOOKUP(A3310,'Banco de Funcionários'!$A$2:$D$1048576,2,0)),\"\")","v":""},null,null,null,null,null,"00:00:00",null,"00:00:00","00:00:00"]
[null,{"$f":"IFERROR(IF(A3316=\"\",\"\",VLOOKUP(A3316,'Banco de Funcionários'!$A$2:$D$1048576,2,0)),\"\")","v":""},null,null,null,null,null,"00:00:00",null,"00:00:00","00:00:00"]
[null,{"$f":"IFERROR(IF(A3321=\"\",\"\",VLOOKUP(A3321,'Banco de Funcionários'!$A$2:$D$1048576,2,0)),\"\")","v":""},null,null,null,null,null,"00:00:00",null,"00:00:00","00:00:00"]
[null,{"$f":"IFERROR(IF(A3326=\"\",\"\",VLOOKUP(A3326,'Banco de Funcionários'!$A$2:$D$1048576,2,0)),\"\")","v":""},null,null,null,null,null,"00:00:00",null,"00:00:00","00:00:00"]
[null,{"$f":"IFERROR(IF(A3332=\"\",\"\",VLOOKUP(A3332,'Banco de Funcionários'!$A$2:$D$1048576,2,0)),\"\")","v":""},null,null,null,null,null,"00:00:00",null,"00:00:00","00:00:00"]
[null,{"$f":"IFERROR(IF(A3336=\"\",\"\",VLOOKUP(A3336,'Banco de Funcionários'!$A$2:$D$1048576,2,0)),\"\")","v":""},null,null,null,null,null,"00:00:00",null,"00:00:00","00:00:00"]
[null,{"$f":"IFERROR(IF(A3342=\"\",\"\",VLOOKUP(A3342,'Banco de Funcionários'!$A$2:$D$1048576,2,0)),\"\")","v":""},null,null,null,null,null,"00:00:00",null,"00:00:00","00:00:00"]
[null,{"$f":"IFERROR(IF(A3347=\"\",\"\",VLOOKUP(A3347,'Banco de Funcionários'!$A$2:$D$1048576,2,0)),\"\")","v":""},null,null,null,null,null,"00:00:00",null,"00:00:00","00:00:00"]
[null,{"$f":"IFERROR(IF(A3352=\"\",\"\",VLOOKUP(A3352,'Banco de Funcionários'!$A$2:$D$1048576,2,0)),\"\")","v":""},null,null,null,null,null,"00:00:00",null,"00:00:00","00:00:00"]
[null,{"$f":"IFERROR(IF(A3353=\"\",\"\",VLOOKUP(A3353,'Banco de Funcionários'!$A$2:$D$1048576,2,0)),\"\")","v":""},null,null,null,null,null,"00:00:00",null,"00:00:00","00:00:00"]
[null,{"$f":"IFERROR(IF(A3358=\"\",\"\",VLOOKUP(A3358,'Banco de Funcionários'!$A$2:$D$1048576,2,0)),\"\")","v":""},null,null,null,null,null,"00:00:00",null,"00:00:00","00:00:00"]
[null,{"$f":"IFERROR(IF(A3364=\"\",\"\",VLOOKUP(A3364,'Banco de Funcionários'!$A$2:$D$1048576,2,0)),\"\")","v":""},null,null,null,null,null,"00:00:00",null,"00:00:00","00:00:00"]
[null,{"$f":"IFERROR(IF(A3369=\"\",\"\",VLOOKUP(A3369,'Banco de Funcionários'!$A$2:$D$1048576,2,0)),\"\")","v":""},null,null,null,null,null,"00:00:00",null,"00:00:00","00:00:00"]
[null,{"$f":"IFERROR(IF(A3374=\"\",\"\",VLOOKUP(A3374,'Banco de Funcionários'!$A$2:$D$1048576,2,0)),\"\")","v":""},null,null,null,null,null,"00:00:00",null,"00:00:00","00:00:00"]
[null,{"$f":"IFERROR(IF(A3380=\"\",\"\",VLOOKUP(A3380,'Banco de Funcionários'!$A$2:$D$1048576,2,0)),\"\")","v":""},null,null,null,null,null,"00:00:00",null,"00:00:00","00:00:00"]
[null,{"$f":"IFERROR(IF(A3385=\"\",\"\",VLOOKUP(A3385,'Banco de Funcionários'!$A$2:$D$1048576,2,0)),\"\")","v":""},null,null,null,null,null,"00:00:00",null,"00:00:00","00:00:00"]
[null,{"$f":"IFERROR(IF(A3390=\"\",\"\",VLOOKUP(A3390,'Banco de Funcionários'!$A$2:$D$1048576,2,0)),\"\")","v":""},null,null,null,null,null,"00:00:00",null,"00:00:00","00:00:00"]
[null,{"$f":"IFERROR(IF(A3396=\"\",\"\",VLOOKUP(A3396,'Banco de Funcionários'!$A$2:$D$1048576,2,0)),\"\")","v":""},null,null,null,null,null,"00:00:00",null,"00:00:00","00:00:00"]
[null,{"$f":"IFERROR(IF(A3401=\"\",\"\",VLOOKUP(A3401,'Banco de Funcionários'!$A$2:$D$1048576,2,0)),\"\")","v":""},null,null,null,null,null,"00:00:00",null,"00:00:00","00:00:00"]
[null,{"$f":"IFERROR(IF(A3407=\"\",\"\",VLOOKUP(A3407,'Banco de Funcionários'!$A$2:$D$1048576,2,0)),\"\")","v":""},null,null,null,null,null,"00:00:00",null,"00:00:00","00:00:00"]
[null,{"$f":"IFERROR(IF(A3412=\"\",\"\",VLOOKUP(A3412,'Banco de Funcionários'!$A$2:$D$1048576,2,0)),\"\")","v":""},null,null,null,null,null,"00:00:00",null,"00:00:00","00:00:00"]
[null,{"$f":"IFERROR(IF(A3417=\"\",\"\",VLOOKUP(A3417,'Banco de Funcionários'!$A$2:$D$1048576,2,0)),\"\")","v":""},null,null,null,null,null,"00:00:00",null,"00:00:00","00:00:00"]
[null,{"$f":"IFERROR(IF(A3418=\"\",\"\",VLOOKUP(A3418,'Banco de Funcionários'!$A$2:$D$1048576,2,0)),\"\")","v":""},null,null,null,null,null,"00:00:00",null,"00:00:00","00:00:00"]
[null,{"$f":"IFERROR(IF(A3423=\"\",\"\",VLOOKUP(A3423,'Banco de Funcionários'!$A$2:$D$1048576,2,0)),\"\")","v":""},null,null,null,null,null,"00:00:00",null,"00:00:00","00:00:00"]
[null,{"$f":"IFERROR(IF(A3429=\"\",\"\",VLOOKUP(A3429,'Banco de Funcionários'!$A$2:$D$1048576,2,0)),\"\")","v":""},null,null,null,null,null,"00:00:00",null,"00:00:00","00:00:00"]
[null,{"$f":"IFERROR(IF(A3434=\"\",\"\",VLOOKUP(A3434,'Banco de Funcionários'!$A$2:$D$1048576,2,0)),\"\")","v":""},null,null,null,null,null,"00:00:00",null,"00:00:00","00:00:00"]
[null,{"$f":"IFERROR(IF(A3439=\"\",\"\",VLOOKUP(A3439,'Banco de Funcionários'!$A$2:$D$1048576,2,0)),\"\")","v":""},null,null,null,null,null,"00:00:00",null,"00:00:00","00:00:00"]
[null,{"$f":"IFERROR(IF(A3445=\"\",\"\",VLOOKUP(A3445,'Banco de Funcionários'!$A$2:$D$1048576,2,0)),\"\")","v":""},null,null,null,null,null,"00:00:00",null,"00:00:00","00:00:00"]
[null,{"$f":"IFERROR(IF(A3449=\"\",\"\",VLOOKUP(A3449,'Banco de Funcionários'!$A$2:$D$1048576,2,0)),\"\")","v":""},null,null,null,null,null,"00:00:00",null,"00:00:00","00:00:00"]
[null,{"$f":"IFERROR(IF(A3454=\"\",\"\",VLOOKUP(A3454,'Banco de Funcionários'!$A$2:$D$1048576,2,0)),\"\")","v":""},null,null,null,null,null,"00:00:00",null,"00:00:00","00:00:00"]
[null,{"$f":"IFERROR(IF(A3460=\"\",\"\",VLOOKUP(A3460,'Banco de Funcionários'!$A$2:$D$1048576,2,0)),\"\")","v":""},null,null,null,null,null,"00:00:00",null,"00:00:00","00:00:00"]
[null,{"$f":"IFERROR(IF(A3465=\"\",\"\",VLOOKUP(A3465,'Banco de Funcionários'!$A$2:$D$1048576,2,0)),\"\")","v":""},null,null,null,null,null,"00:00:00",null,"00:00:00","00:00:00"]
[null,{"$f":"IFERROR(IF(A3471=\"\",\"\",VLOOKUP(A3471,'Banco de Funcionários'!$A$2:$D$1048576,2,0)),\"\")","v":""},null,null,null,null,null,"00:00:00",null,"00:00:00","00:00:00"]
[null,{"$f":"IFERROR(IF(A3476=\"\",\"\",VLOOKUP(A3476,'Banco de Funcionários'!$A$2:$D$1048576,2,0)),\"\")","v":""},null,null,null,null,null,"00:00:00",null,"00:00:00","00:00:00"]
[null,{"$f":"IFERROR(IF(A3481=\"\",\"\",VLOOKUP(A3481,'Banco de Funcionários'!$A$2:$D$1048576,2,0)),\"\")","v":""},null,null,null,null,null,"00:00:00",null,"00:00:00","00:00:00"]
[null,{"$f":"IFERROR(IF(A3482=\"\",\"\",VLOOKUP(A3482,'Banco de Funcionários'!$A$2:$D$1048576,2,0)),\"\")","v":""},null,null,null,null,null,"00:00:00",null,"00:00:00","00:00:00"]
[null,{"$f":"IFERROR(IF(A3487=\"\",\"\",VLOOKUP(A3487,'Banco de Funcionários'!$A$2:$D$1048576,2,0)),\"\")","v":""},null,null,null,null,null,"00:00:00",null,"00:00:00","00:00:00"]
[null,{"$f":"IFERROR(IF(A3492=\"\",\"\",VLOOKUP(A3492,'Banco de Funcionários'!$A$2:$D$1048576,2,0)),\"\")","v":""},null,null,null,null,null,"00:00:00",null,"00:00:00","00:00:00"]
[null,{"$f":"IFERROR(IF(A3498=\"\",\"\",VLOOKUP(A3498,'Banco de Funcionários'!$A$2:$D$1048576,2,0)),\"\")","v":""},null,null,null,null,null,"00:00:00",null,"00:00:00","00:00:00"]
[null,{"$f":"IFERROR(IF(A3503=\"\",\"\",VLOOKUP(A3503,'Banco de Funcionários'!$A$2:$D$1048576,2,0)),\"\")","v":""},null,null,null,null,null,"00:00:00",null,"00:00:00","00:00:00"]
[null,{"$f":"IFERROR(IF(A3509=\"\",\"\",VLOOKUP(A3509,'Banco de Funcionários'!$A$2:$D$1048576,2,0)),\"\")","v":""},null,null,null,null,null,"00:00:00",null,"00:00:00","00:00:00"]
[null,{"$f":"IFERROR(IF(A3514=\"\",\"\",VLOOKUP(A3514,'Banco de Funcionários'!$A$2:$D$1048576,2,0)),\"\")","v":""},null,null,null,null,null,"00:00:00",null,"00:00:00","00:00:00"]
[null,{"$f":"IFERROR(IF(A3519=\"\",\"\",VLOOKUP(A3519,'Banco de Funcionários'!$A$2:$D$1048576,2,0)),\"\")","v":""},null,null,null,null,null,"00:00:00",null,"00:00:00","00:00:00"]
[null,{"$f":"IFERROR(IF(A3525=\"\",\"\",VLOOKUP(A3525,'Banco de Funcionários'!$A$2:$D$1048576,2,0)),\"\")","v":""},null,null,null,null,null,"00:00:00",null,"00:00:00","00:00:00"]
[null,{"$f":"IFERROR(IF(A3530=\"\",\"\",VLOOKUP(A3530,'Banco de Funcionários'!$A$2:$D$1048576,2,0)),\"\")","v":""},null,null,null,null,null,"00:00:00",null,"00:00:00","00:00:00"]
[null,{"$f":"IFERROR(IF(A3536=\"\",\"\",VLOOKUP(A3536,'Banco de Funcionários'!$A$2:$D$1048576,2,0)),\"\")","v":""},null,null,null,null,null,"00:00:00",null,"00:00:00","00:00:00"]
[null,{"$f":"IFERROR(IF(A3541=\"\",\"\",VLOOKUP(A3541,'Banco de Funcionários'!$A$2:$D$1048576,2,0)),\"\")","v":""},null,null,null,null,null,"00:00:00",null,"00:00:00","00:00:00"]
[null,{"$f":"IFERROR(IF(A3546=\"\",\"\",VLOOKUP(A3546,'Banco de Funcionários'!$A$2:$D$1048576,2,0)),\"\")","v":""},null,null,null,null,null,"00:00:00",null,"00:00:00","00:00:00"]
[null,{"$f":"IFERROR(IF(A3547=\"\",\"\",VLOOKUP(A3547,'Banco de Funcionários'!$A$2:$D$1048576,2,0)),\"\")","v":""},null,null,null,null,null,"00:00:00",null,"00:00:00","00:00:00"]
[null,{"$f":"IFERROR(IF(A3552=\"\",\"\",VLOOKUP(A3552,'Banco de Funcionários'!$A$2:$D$1048576,2,0)),\"\")","v":""},null,null,null,null,null,"00:00:00",null,"00:00:00","00:00:00"]
[null,{"$f":"IFERROR(IF(A3560=\"\",\"\",VLOOKUP(A3560,'Banco de Funcionários'!$A$2:$D$1048576,2,0)),\"\")","v":""},null,null,null,null,null,"00:00:00",null,"00:00:00","00:00:00"]
[null,{"$f":"IFERROR(IF(A3562=\"\",\"\",VLOOKUP(A3562,'Banco de Funcionários'!$A$2:$D$1048576,2,0)),\"\")","v":""},null,null,null,null,null,"00:00:00",null,"00:00:00","00:00:00"]
[null,{"$f":"IFERROR(IF(A3567=\"\",\"\",VLOOKUP(A3567,'Banco de Funcionários'!$A$2:$D$1048576,2,0)),\"\")","v":""},null,null,null,null,null,"00:00:00",null,"00:00:00","00:00:00"]
[null,{"$f":"IFERROR(IF(A3573=\"\",\"\",VLOOKUP(A3573,'Banco de Funcionários'!$A$2:$D$1048576,2,0)),\"\")","v":""},null,null,null,null,null,"00:00:00",null,"00:00:00","00:00:00"]
[null,{"$f":"IFERROR(IF(A3578=\"\",\"\",VLOOKUP(A3578,'Banco de Funcionários'!$A$2:$D$1048576,2,0)),\"\")","v":""},null,null,null,null,null,"00:00:00",null,"00:00:00","00:00:00"]
[null,{"$f":"IFERROR(IF(A3583=\"\",\"\",VLOOKUP(A3583,'Banco de Funcionários'!$A$2:$D$1048576,2,0)),\"\")","v":""},null,null,null,null,null,"00:00:00",null,"00:00:00","00:00:00"]
[null,{"$f":"IFERROR(IF(A3589=\"\",\"\",VLOOKUP(A3589,'Banco de Funcionários'!$A$2:$D$1048576,2,0)),\"\")","v":""},null,null,null,null,null,"00:00:00",null,"00:00:00","00:00:00"]
[null,{"$f":"IFERROR(IF(A3594=\"\",\"\",VLOOKUP(A3594,'Banco de Funcionários'!$A$2:$D$1048576,2,0)),\"\")","v":""},null,null,null,null,null,"00:00:00",null,"00:00:00","00:00:00"]
[null,{"$f":"IFERROR(IF(A3599=\"\",\"\",VLOOKUP(A3599,'Banco de Funcionários'!$A$2:$D$1048576,2,0)),\"\")","v":""},null,null,null,null,null,"00:00:00",null,"00:00:00","00:00:00"]
[null,{"$f":"IFERROR(IF(A3605=\"\",\"\",VLOOKUP(A3605,'Banco de Funcionários'!$A$2:$D$1048576,2,0)),\"\")","v":""},null,null,null,null,null,"00:00:00",null,"00:00:00","00:00:00"]
[null,{"$f":"IFERROR(IF(A3610=\"\",\"\",VLOOKUP(A3610,'Banco de Funcionários'!$A$2:$D$1048576,2,0)),\"\")","v":""},null,null,null,null,null,"00:00:00",null,"00:00:00","00:00:00"]
[null,{"$f":"IFERROR(IF(A3611=\"\",\"\",VLOOKUP(A3611,'Banco de Funcionários'!$A$2:$D$1048576,2,0)),\"\")","v":""},null,null,null,null,null,"00:00:00",null,"00:00:00","00:00:00"]
[null,{"$f":"IFERROR(IF(A3616=\"\",\"\",VLOOKUP(A3616,'Banco de Funcionários'!$A$2:$D$1048576,2,0)),\"\")","v":""},null,null,null,null,null,"00:00:00",null,"00:00:00","00:00:00"]
[null,{"$f":"IFERROR(IF(A3621=\"\",\"\",VLOOKUP(A3621,'Banco de Funcionários'!$A$2:$D$1048576,2,0)),\"\")","v":""},null,null,null,null,null,"00:00:00",null,"00:00:00","00:00:00"]
[null,{"$f":"IFERROR(IF(A3627=\"\",\"\",VLOOKUP(A3627,'Banco de Funcionários'!$A$2:$D$1048576,2,0)),\"\")","v":""},null,null,null,null,null,"00:00:00",null,"00:00:00","00:00:00"]
[null,{"$f":"IFERROR(IF(A3632=\"\",\"\",VLOOKUP(A3632,'Banco de Funcionários'!$A$2:$D$1048576,2,0)),\"\")","v":""},null,null,null,null,null,"00:00:00",null,"00:00:00","00:00:00"]
[null,{"$f":"IFERROR(IF(A3638=\"\",\"\",VLOOKUP(A3638,'Banco de Funcionários'!$A$2:$D$1048576,2,0)),\"\")","v":""},null,null,null,null,null,"00:00:00",null,"00:00:00","00:00:00"]
[null,{"$f":"IFERROR(IF(A3643=\"\",\"\",VLOOKUP(A3643,'Banco de Funcionários'!$A$2:$D$1048576,2,0)),\"\")","v":""},null,null,null,null,null,"00:00:00",null,"00:00:00","00:00:00"]
[null,{"$f":"IFERROR(IF(A3648=\"\",\"\",VLOOKUP(A3648,'Banco de Funcionários'!$A$2:$D$1048576,2,0)),\"\")","v":""},null,null,null,null,null,"00:00:00",null,"00:00:00","00:00:00"]
[null,{"$f":"IFERROR(IF(A3654=\"\",\"\",VLOOKUP(A3654,'Banco de Funcionários'!$A$2:$D$1048576,2,0)),\"\")","v":""},null,null,null,null,null,"00:00:00",null,"00:00:00","00:00:00"]
[null,{"$f":"IFERROR(IF(A3659=\"\",\"\",VLOOKUP(A3659,'Banco de Funcionários'!$A$2:$D$1048576,2,0)),\"\")","v":""},null,null,null,null,null,"00:00:00",null,"00:00:00","00:00:00"]
[null,{"$f":"IFERROR(IF(A3664=\"\",\"\",VLOOKUP(A3664,'Banco de Funcionários'!$A$2:$D$1048576,2,0)),\"\")","v":""},null,null,null,null,null,"00:00:00",null,"00:00:00","00:00:00"]
[null,{"$f":"IFERROR(IF(A3670=\"\",\"\",VLOOKUP(A3670,'Banco de Funcionários'!$A$2:$D$1048576,2,0)),\"\")","v":""},null,null,null,null,null,"00:00:00",null,"00:00:00","00:00:00"]
[null,{"$f":"IFERROR(IF(A3673=\"\",\"\",VLOOKUP(A3673,'Banco de Funcionários'!$A$2:$D$1048576,2,0)),\"\")","v":""},null,null,null,null,null,"00:00:00",null,"00:00:00","00:00:00"]
[null,{"$f":"IFERROR(IF(A3675=\"\",\"\",VLOOKUP(A3675,'Banco de Funcionários'!$A$2:$D$1048576,2,0)),\"\")","v":""},null,null,null,null,null,"00:00:00",null,"00:00:00","00:00:00"]
[null,{"$f":"IFERROR(IF(A3680=\"\",\"\",VLOOKUP(A3680,'Banco de Funcionários'!$A$2:$D$1048576,2,0)),\"\")","v":""},null,null,null,null,null,"00:00:00",null,"00:00:00","00:00:00"]
[null,{"$f":"IFERROR(IF(A3685=\"\",\"\",VLOOKUP(A3685,'Banco de Funcionários'!$A$2:$D$1048576,2,0)),\"\")","v":""},null,null,null,null,null,"00:00:00",null,"00:00:00","00:00:00"]
[null,{"$f":"IFERROR(IF(A3691=\"\",\"\",VLOOKUP(A3691,'Banco de Funcionários'!$A$2:$D$1048576,2,0)),\"\")","v":""},null,null,null,null,null,"00:00:00",null,"00:00:00","00:00:00"]
[null,{"$f":"IFERROR(IF(A3696=\"\",\"\",VLOOKUP(A3696,'Banco de Funcionários'!$A$2:$D$1048576,2,0)),\"\")","v":""},null,null,null,null,null,"00:00:00",null,"00:00:00","00:00:00"]
[null,{"$f":"IFERROR(IF(A3702=\"\",\"\",VLOOKUP(A3702,'Banco de Funcionários'!$A$2:$D$1048576,2,0)),\"\")","v":""},null,null,null,null,null,"00:00:00",null,"00:00:00","00:00:00"]
[null,{"$f":"IFERROR(IF(A3707=\"\",\"\",VLOOKUP(A3707,'Banco de Funcionários'!$A$2:$D$1048576,2,0)),\"\")","v":""},null,null,null,null,null,"00:00:00",null,"00:00:00","00:00:00"]
[null,{"$f":"IFERROR(IF(A3712=\"\",\"\",VLOOKUP(A3712,'Banco de Funcionários'!$A$2:$D$1048576,2,0)),\"\")","v":""},null,null,null,null,null,"00:00:00",null,"00:00:00","00:00:00"]
[null,{"$f":"IFERROR(IF(A3718=\"\",\"\",VLOOKUP(A3718,'Banco de Funcionários'!$A$2:$D$1048576,2,0)),\"\")","v":""},null,null,null,null,null,"00:00:00",null,"00:00:00","00:00:00"]
[null,{"$f":"IFERROR(IF(A3723=\"\",\"\",VLOOKUP(A3723,'Banco de Funcionários'!$A$2:$D$1048576,2,0)),\"\")","v":""},null,null,null,null,null,"00:00:00",null,"00:00:00","00:00:00"]
[null,{"$f":"IFERROR(IF(A3728=\"\",\"\",VLOOKUP(A3728,'Banco de Funcionários'!$A$2:$D$1048576,2,0)),\"\")","v":""},null,null,null,null,null,"00:00:00",null,"00:00:00","00:00:00"]
[null,{"$f":"IFERROR(IF(A3734=\"\",\"\",VLOOKUP(A3734,'Banco de Funcionários'!$A$2:$D$1048576,2,0)),\"\")","v":""},null,null,null,null,null,"00:00:00",null,"00:00:00","00:00:00"]
[null,{"$f":"IFERROR(IF(A3739=\"\",\"\",VLOOKUP(A3739,'Banco de Funcionários'!$A$2:$D$1048576,2,0)),\"\")","v":""},null,null,null,null,null,"00:00:00",null,"00:00:00","00:00:00"]
[null,{"$f":"IFERROR(IF(A3740=\"\",\"\",VLOOKUP(A3740,'Banco de Funcionários'!$A$2:$D$1048576,2,0)),\"\")","v":""},null,null,null,null,null,"00:00:00",null,"00:00:00","00:00:00"]
[null,{"$f":"IFERROR(IF(A3745=\"\",\"\",VLOOKUP(A3745,'Banco de Funcionários'!$A$2:$D$1048576,2,0)),\"\")","v":""},null,null,null,null,null,"00:00:00",null,"00:00:00","00:00:00"]
[null,{"$f":"IFERROR(IF(A3750=\"\",\"\",VLOOKUP(A3750,'Banco de Funcionários'!$A$2:$D$1048576,2,0)),\"\")","v":""},null,null,null,null,null,"00:00:00",null,"00:00:00","00:00:00"]
[null,{"$f":"IFERROR(IF(A3756=\"\",\"\",VLOOKUP(A3756,'Banco de Funcionários'!$A$2:$D$1048576,2,0)),\"\")","v":""},null,null,null,null,null,"00:00:00",null,"00:00:00","00:00:00"]
[null,{"$f":"IFERROR(IF(A3761=\"\",\"\",VLOOKUP(A3761,'Banco de Funcionários'!$A$2:$D$1048576,2,0)),\"\")","v":""},null,null,null,null,null,"00:00:00",null,"00:00:00","00:00:00"]
[null,{"$f":"IFERROR(IF(A3766=\"\",\"\",VLOOKUP(A3766,'Banco de Funcionários'!$A$2:$D$1048576,2,0)),\"\")","v":""},null,null,null,null,null,"00:00:00",null,"00:00:00","00:00:00"]
[null,{"$f":"IFERROR(IF(A3772=\"\",\"\",VLOOKUP(A3772,'Banco de Funcionários'!$A$2:$D$1048576,2,0)),\"\")","v":""},null,null,null,null,null,"00:00:00",null,"00:00:00","00:00:00"]
[null,{"$f":"IFERROR(IF(A3777=\"\",\"\",VLOOKUP(A3777,'Banco de Funcionários'!$A$2:$D$1048576,2,0)),\"\")","v":""},null,null,null,null,null,"00:00:00",null,"00:00:00","00:00:00"]
[null,{"$f":"IFERROR(IF(A3780=\"\",\"\",VLOOKUP(A3780,'Banco de Funcionários'!$A$2:$D$1048576,2,0)),\"\")","v":""},null,null,null,null,null,"00:00:00",null,"00:00:00","00:00:00"]
[null,{"$f":"IFERROR(IF(A3787=\"\",\"\",VLOOKUP(A3787,'Banco de Funcionários'!$A$2:$D$1048576,2,0)),\"\")","v":""},null,null,null,null,null,"00:00:00",null,"00:00:00","00:00:00"]
[null,{"$f":"IFERROR(IF(A3792=\"\",\"\",VLOOKUP(A3792,'Banco de Funcionários'!$A$2:$D$1048576,2,0)),\"\")","v":""},null,null,null,null,null,"00:00:00",null,"00:00:00","00:00:00"]
[null,{"$f":"IFERROR(IF(A3798=\"\",\"\",VLOOKUP(A3798,'Banco de Funcionários'!$A$2:$D$1048576,2,0)),\"\")","v":""},null,null,null,null,null,"00:00:00",null,"00:00:00","00:00:00"]
[null,{"$f":"IFERROR(IF(A3803=\"\",\"\",VLOOKUP(A3803,'Banco de Funcionários'!$A$2:$D$1048576,2,0)),\"\")","v":""},null,null,null,null,null,"00:00:00",null,"00:00:00","00:00:00"]
[null,{"$f":"IFERROR(IF(A3804=\"\",\"\",VLOOKUP(A3804,'Banco de Funcionários'!$A$2:$D$1048576,2,0)),\"\")","v":""},null,null,null,null,null,"00:00:00",null,"00:00:00","00:00:00"]
[null,{"$f":"IFERROR(IF(A3809=\"\",\"\",VLOOKUP(A3809,'Banco de Funcionários'!$A$2:$D$1048576,2,0)),\"\")","v":""},null,null,null,null,null,"00:00:00",null,"00:00:00","00:00:00"]
[null,{"$f":"IFERROR(IF(A3814=\"\",\"\",VLOOKUP(A3814,'Banco de Funcionários'!$A$2:$D$1048576,2,0)),\"\")","v":""},null,null,null,null,null,"00:00:00",null,"00:00:00","00:00:00"]
[null,{"$f":"IFERROR(IF(A3820=\"\",\"\",VLOOKUP(A3820,'Banco de Funcionários'!$A$2:$D$1048576,2,0)),\"\")","v":""},null,null,null,null,null,"00:00:00",null,"00:00:00","00:00:00"]
[null,{"$f":"IFERROR(IF(A3825=\"\",\"\",VLOOKUP(A3825,'Banco de Funcionários'!$A$2:$D$1048576,2,0)),\"\")","v":""},null,null,null,null,null,"00:00:00",null,"00:00:00","00:00:00"]
[null,{"$f":"IFERROR(IF(A3830=\"\",\"\",VLOOKUP(A3830,'Banco de Funcionários'!$A$2:$D$1048576,2,0)),\"\")","v":""},null,null,null,null,null,"00:00:00",null,"00:00:00","00:00:00"]
[null,{"$f":"IFERROR(IF(A3836=\"\",\"\",VLOOKUP(A3836,'Banco de Funcionários'!$A$2:$D$1048576,2,0)),\"\")","v":""},null,null,null,null,null,"00:00:00",null,"00:00:00","00:00:00"]
[null,{"$f":"IFERROR(IF(A3841=\"\",\"\",VLOOKUP(A3841,'Banco de Funcionários'!$A$2:$D$1048576,2,0)),\"\")","v":""},null,null,null,null,null,"00:00:00",null,"00:00:00","00:00:00"]
[null,{"$f":"IFERROR(IF(A3847=\"\",\"\",VLOOKUP(A3847,'Banco de Funcionários'!$A$2:$D$1048576,2,0)),\"\")","v":""},null,null,null,null,null,"00:00:00",null,"00:00:00","00:00:00"]
[null,{"$f":"IFERROR(IF(A3852=\"\",\"\",VLOOKUP(A3852,'Banco de Funcionários'!$A$2:$D$1048576,2,0)),\"\")","v":""},null,null,null,null,null,"00:00:00",null,"00:00:00","00:00:00"]
[null,{"$f":"IFERROR(IF(A3857=\"\",\"\",VLOOKUP(A3857,'Banco de Funcionários'!$A$2:$D$1048576,2,0)),\"\")","v":""},null,null,null,null,null,"00:00:00",null,"00:00:00","00:00:00"]
[null,{"$f":"IFERROR(IF(A3863=\"\",\"\",VLOOKUP(A3863,'Banco de Funcionários'!$A$2:$D$1048576,2,0)),\"\")","v":""},null,null,null,null,null,"00:00:00",null,"00:00:00","00:00:00"]
[null,{"$f":"IFERROR(IF(A3868=\"\",\"\",VLOOKUP(A3868,'Banco de Funcionários'!$A$2:$D$1048576,2,0)),\"\")","v":""},null,null,null,null,null,"00:00:00",null,"00:00:00","00:00:00"]
[null,{"$f":"IFERROR(IF(A3869=\"\",\"\",VLOOKUP(A3869,'Banco de Funcionários'!$A$2:$D$1048576,2,0)),\"\")","v":""},null,null,null,null,null,"00:00:00",null,"00:00:00","00:00:00"]
[null,{"$f":"IFERROR(IF(A3874=\"\",\"\",VLOOKUP(A3874,'Banco de Funcionários'!$A$2:$D$1048576,2,0)),\"\")","v":""},null,null,null,null,null,"00:00:00",null,"00:00:00","00:00:00"]
[null,{"$f":"IFERROR(IF(A3879=\"\",\"\",VLOOKUP(A3879,'Banco de Funcionários'!$A$2:$D$1048576,2,0)),\"\")","v":""},null,null,null,null,null,"00:00:00",null,"00:00:00","00:00:00"]
[null,{"$f":"IFERROR(IF(A3885=\"\",\"\",VLOOKUP(A3885,'Banco de Funcionários'!$A$2:$D$1048576,2,0)),\"\")","v":""},null,null,null,null,null,"00:00:00",null,"00:00:00","00:00:00"]
[null,{"$f":"IFERROR(IF(A3890=\"\",\"\",VLOOKUP(A3890,'Banco de Funcionários'!$A$2:$D$1048576,2,0)),\"\")","v":""},null,null,null,null,null,"00:00:00",null,"00:00:00","00:00:00"]
[null,{"$f":"IFERROR(IF(A3897=\"\",\"\",VLOOKUP(A3897,'Banco de Funcionários'!$A$2:$D$1048576,2,0)),\"\")","v":""},null,null,null,null,null,"00:00:00",null,"00:00:00","00:00:00"]
[null,{"$f":"IFERROR(IF(A3900=\"\",\"\",VLOOKUP(A3900,'Banco de Funcionários'!$A$2:$D$1048576,2,0)),\"\")","v":""},null,null,null,null,null,"00:00:00",null,"00:00:00","00:00:00"]
[null,{"$f":"IFERROR(IF(A3905=\"\",\"\",VLOOKUP(A3905,'Banco de Funcionários'!$A$2:$D$1048576,2,0)),\"\")","v":""},null,null,null,null,null,"00:00:00",null,"00:00:00","00:00:00"]
[null,{"$f":"IFERROR(IF(A3911=\"\",\"\",VLOOKUP(A3911,'Banco de Funcionários'!$A$2:$D$1048576,2,0)),\"\")","v":""},null,null,null,null,null,"00:00:00",null,"00:00:00","00:00:00"]
[null,{"$f":"IFERROR(IF(A3916=\"\",\"\",VLOOKUP(A3916,'Banco de Funcionários'!$A$2:$D$1048576,2,0)),\"\")","v":""},null,null,null,null,null,"00:00:00",null,"00:00:00","00:00:00"]
[null,{"$f":"IFERROR(IF(A3921=\"\",\"\",VLOOKUP(A3921,'Banco de Funcionários'!$A$2:$D$1048576,2,0)),\"\")","v":""},null,null,null,null,null,"00:00:00",null,"00:00:00","00:00:00"]
[null,{"$f":"IFERROR(IF(A3927=\"\",\"\",VLOOKUP(A3927,'Banco de Funcionários'!$A$2:$D$1048576,2,0)),\"\")","v":""},null,null,null,null,null,"00:00:00",null,"00:00:00","00:00:00"]
[null,{"$f":"IFERROR(IF(A3932=\"\",\"\",VLOOKUP(A3932,'Banco de Funcionários'!$A$2:$D$1048576,2,0)),\"\")","v":""},null,null,null,null,null,"00:00:00",null,"00:00:00","00:00:00"]
[null,{"$f":"IFERROR(IF(A3937=\"\",\"\",VLOOKUP(A3937,'Banco de Funcionários'!$A$2:$D$1048576,2,0)),\"\")","v":""},null,null,null,null,null,"00:00:00",null,"00:00:00","00:00:00"]
[null,{"$f":"IFERROR(IF(A3938=\"\",\"\",VLOOKUP(A3938,'Banco de Funcionários'!$A$2:$D$1048576,2,0)),\"\")","v":""},null,null,null,null,null,"00:00:00",null,"00:00:00","00:00:00"]
[null,{"$f":"IFERROR(IF(A3943=\"\",\"\",VLOOKUP(A3943,'Banco de Funcionários'!$A$2:$D$1048576,2,0)),\"\")","v":""},null,null,null,null,null,"00:00:00",null,"00:00:00","00:00:00"]
[null,{"$f":"IFERROR(IF(A3949=\"\",\"\",VLOOKUP(A3949,'Banco de Funcionários'!$A$2:$D$1048576,2,0)),\"\")","v":""},null,null,null,null,null,"00:00:00",null,"00:00:00","00:00:00"]
[null,{"$f":"IFERROR(IF(A3954=\"\",\"\",VLOOKUP(A3954,'Banco de Funcionários'!$A$2:$D$1048576,2,0)),\"\")","v":""},null,null,null,null,null,"00:00:00",null,"00:00:00","00:00:00"]
[null,{"$f":"IFERROR(IF(A3959=\"\",\"\",VLOOKUP(A3959,'Banco de Funcionários'!$A$2:$D$1048576,2,0)),\"\")","v":""},null,null,null,null,null,"00:00:00",null,"00:00:00","00:00:00"]
[null,{"$f":"IFERROR(IF(A3965=\"\",\"\",VLOOKUP(A3965,'Banco de Funcionários'!$A$2:$D$1048576,2,0)),\"\")","v":""},null,null,null,null,null,"00:00:00",null,"00:00:00","00:00:00"]
[null,{"$f":"IFERROR(IF(A3970=\"\",\"\",VLOOKUP(A3970,'Banco de Funcionários'!$A$2:$D$1048576,2,0)),\"\")","v":""},null,null,null,null,null,"00:00:00",null,"00:00:00","00:00:00"]
[null,{"$f":"IFERROR(IF(A3976=\"\",\"\",VLOOKUP(A3976,'Banco de Funcionários'!$A$2:$D$1048576,2,0)),\"\")","v":""},null,null,null,null,null,"00:00:00",null,"00:00:00","00:00:00"]
[null,{"$f":"IFERROR(IF(A3981=\"\",\"\",VLOOKUP(A3981,'Banco de Funcionários'!$A$2:$D$1048576,2,0)),\"\")","v":""},null,null,null,null,null,"00:00:00",null,"00:00:00","00:00:00"]
[null,{"$f":"IFERROR(IF(A3986=\"\",\"\",VLOOKUP(A3986,'Banco de Funcionários'!$A$2:$D$1048576,2,0)),\"\")","v":""},null,null,null,null,null,"00:00:00",null,"00:00:00","00:00:00"]
[null,{"$f":"IFERROR(IF(A3992=\"\",\"\",VLOOKUP(A3992,'Banco de Funcionários'!$A$2:$D$1048576,2,0)),\"\")","v":""},null,null,null,null,null,"00:00:00",null,"00:00:00","00:00:00"]
[null,{"$f":"IFERROR(IF(A3997=\"\",\"\",VLOOKUP(A3997,'Banco de Funcionários'!$A$2:$D$1048576,2,0)),\"\")","v":""},null,null,null,null,null,"00:00:00",null,"00:00:00","00:00:00"]
[null,{"$f":"IFERROR(IF(A4002=\"\",\"\",VLOOKUP(A4002,'Banco de Funcionários'!$A$2:$D$1048576,2,0)),\"\")","v":""},null,null,null,null,null,"00:00:00",null,"00:00:00","00:00:00"]
[null,{"$f":"IFERROR(IF(A4004=\"\",\"\",VLOOKUP(A4004,'Banco de Funcionários'!$A$2:$D$1048576,2,0)),\"\")","v":""},null,null,null,null,null,"00:00:00",null,"00:00:00","00:00:00"]
[null,{"$f":"IFERROR(IF(A4007=\"\",\"\",VLOOKUP(A4007,'Banco de Funcionários'!$A$2:$D$1048576,2,0)),\"\")","v":""},null,null,null,null,null,"00:00:00",null,"00:00:00","00:00:00"]
[null,{"$f":"IFERROR(IF(A4013=\"\",\"\",VLOOKUP(A4013,'Banco de Funcionários'!$A$2:$D$1048576,2,0)),\"\")","v":""},null,null,null,null,null,"00:00:00",null,"00:00:00","00:00:00"]
[null,{"$f":"IFERROR(IF(A4018=\"\",\"\",VLOOKUP(A4018,'Banco de Funcionários'!$A$2:$D$1048576,2,0)),\"\")","v":""},null,null,null,null,null,"00:00:00",null,"00:00:00","00:00:00"]
[null,{"$f":"IFERROR(IF(A4023=\"\",\"\",VLOOKUP(A4023,'Banco de Funcionários'!$A$2:$D$1048576,2,0)),\"\")","v":""},null,null,null,null,null,"00:00:00",null,"00:00:00","00:00:00"]
[null,{"$f":"IFERROR(IF(A4029=\"\",\"\",VLOOKUP(A4029,'Banco de Funcionários'!$A$2:$D$1048576,2,0)),\"\")","v":""},null,null,null,null,null,"00:00:00",null,"00:00:00","00:00:00"]
[null,{"$f":"IFERROR(IF(A4034=\"\",\"\",VLOOKUP(A4034,'Banco de Funcionários'!$A$2:$D$1048576,2,0)),\"\")","v":""},null,null,null,null,null,"00:00:00",null,"00:00:00","00:00:00"]
[null,{"$f":"IFERROR(IF(A4039=\"\",\"\",VLOOKUP(A4039,'Banco de Funcionários'!$A$2:$D$1048576,2,0)),\"\")","v":""},null,null,null,null,null,"00:00:00",null,"00:00:00","00:00:00"]
[null,{"$f":"IFERROR(IF(A4045=\"\",\"\",VLOOKUP(A4045,'Banco de Funcionários'!$A$2:$D$1048576,2,0)),\"\")","v":""},null,null,null,null,null,"00:00:00",null,"00:00:00","00:00:00"]
[null,{"$f":"IFERROR(IF(A4050=\"\",\"\",VLOOKUP(A4050,'Banco de Funcionários'!$A$2:$D$1048576,2,0)),\"\")","v":""},null,null,null,null,null,"00:00:00",null,"00:00:00","00:00:00"]
[null,{"$f":"IFERROR(IF(A4056=\"\",\"\",VLOOKUP(A4056,'Banco de Funcionários'!$A$2:$D$1048576,2,0)),\"\")","v":""},null,null,null,null,null,"00:00:00",null,"00:00:00","00:00:00"]
[null,{"$f":"IFERROR(IF(A4061=\"\",\"\",VLOOKUP(A4061,'Banco de Funcionários'!$A$2:$D$1048576,2,0)),\"\")","v":""},null,null,null,null,null,"00:00:00",null,"00:00:00","00:00:00"]
[null,{"$f":"IFERROR(IF(A4066=\"\",\"\",VLOOKUP(A4066,'Banco de Funcionários'!$A$2:$D$1048576,2,0)),\"\")","v":""},null,null,null,null,null,"00:00:00",null,"00:00:00","00:00:00"]
[null,{"$f":"IFERROR(IF(A4067=\"\",\"\",VLOOKUP(A4067,'Banco de Funcionários'!$A$2:$D$1048576,2,0)),\"\")","v":""},null,null,null,null,null,"00:00:00",null,"00:00:00","00:00:00"]
[null,{"$f":"IFERROR(IF(A4072=\"\",\"\",VLOOKUP(A4072,'Banco de Funcionários'!$A$2:$D$1048576,2,0)),\"\")","v":""},null,null,null,null,null,"00:00:00",null,"00:00:00","00:00:00"]
[null,{"$f":"IFERROR(IF(A4078=\"\",\"\",VLOOKUP(A4078,'Banco de Funcionários'!$A$2:$D$1048576,2,0)),\"\")","v":""},null,null,null,null,null,"00:00:00",null,"00:00:00","00:00:00"]
[null,{"$f":"IFERROR(IF(A4083=\"\",\"\",VLOOKUP(A4083,'Banco de Funcionários'!$A$2:$D$1048576,2,0)),\"\")","v":""},null,null,null,null,null,"00:00:00",null,"00:00:00","00:00:00"]
[null,{"$f":"IFERROR(IF(A4088=\"\",\"\",VLOOKUP(A4088,'Banco de Funcionários'!$A$2:$D$1048576,2,0)),\"\")","v":""},null,null,null,null,null,"00:00:00",null,"00:00:00","00:00:00"]
[null,{"$f":"IFERROR(IF(A4094=\"\",\"\",VLOOKUP(A4094,'Banco de Funcionários'!$A$2:$D$1048576,2,0)),\"\")","v":""},null,null,null,null,null,"00:00:00",null,"00:00:00","00:00:00"]
[null,{"$f":"IFERROR(IF(A4099=\"\",\"\",VLOOKUP(A4099,'Banco de Funcionários'!$A$2:$D$1048576,2,0)),\"\")","v":""},null,null,null,null,null,{"$f":"(F4099-E4099)-G4099","v":"00:00:00"},null,{"$f":"IFERROR(H4099-I4099,\"\")","v":"00:00:00"},{"$f":"IFERROR(H4099+J4099,0)","v":"00:00:00"}]
[null,{"$f":"IFERROR(IF(A4104=\"\",\"\",VLOOKUP(A4104,'Banco de Funcionários'!$A$2:$D$1048576,2,0)),\"\")","v":""},null,null,null,null,null,"00:00:00",null,"00:00:00","00:00:00"]
[null,{"$f":"IFERROR(IF(A4110=\"\",\"\",VLOOKUP(A4110,'Banco de Funcionários'!$A$2:$D$1048576,2,0)),\"\")","v":""},null,null,null,null,null,"00:00:00",null,"00:00:00","00:00:00"]
[null,{"$f":"IFERROR(IF(A4115=\"\",\"\",VLOOKUP(A4115,'Banco de Funcionários'!$A$2:$D$1048576,2,0)),\"\")","v":""},null,null,null,null,null,"00:00:00",null,"00:00:00","00:00:00"]
[null,{"$f":"IFERROR(IF(A4120=\"\",\"\",VLOOKUP(A4120,'Banco de Funcionários'!$A$2:$D$1048576,2,0)),\"\")","v":""},null,null,null,null,null,"00:00:00",null,"00:00:00","00:00:00"]
[null,{"$f":"IFERROR(IF(A4125=\"\",\"\",VLOOKUP(A4125,'Banco de Funcionários'!$A$2:$D$1048576,2,0)),\"\")","v":""},null,null,null,null,null,"00:00:00",null,"00:00:00","00:00:00"]
[null,{"$f":"IFERROR(IF(A4130=\"\",\"\",VLOOKUP(A4130,'Banco de Funcionários'!$A$2:$D$1048576,2,0)),\"\")","v":""},null,null,null,null,null,"00:00:00",null,"00:00:00","00:00:00"]
[null,{"$f":"IFERROR(IF(A4131=\"\",\"\",VLOOKUP(A4131,'Banco de Funcionários'!$A$2:$D$1048576,2,0)),\"\")","v":""},null,null,null,null,null,"00:00:00",null,"00:00:00","00:00:00"]
[null,{"$f":"IFERROR(IF(A4136=\"\",\"\",VLOOKUP(A4136,'Banco de Funcionários'!$A$2:$D$1048576,2,0)),\"\")","v":""},null,null,null,null,null,"00:00:00",null,"00:00:00","00:00:00"]
[null,{"$f":"IFERROR(IF(A4142=\"\",\"\",VLOOKUP(A4142,'Banco de Funcionários'!$A$2:$D$1048576,2,0)),\"\")","v":""},null,null,null,null,null,"00:00:00",null,"00:00:00","00:00:00"]
[null,{"$f":"IFERROR(IF(A4147=\"\",\"\",VLOOKUP(A4147,'Banco de Funcionários'!$A$2:$D$1048576,2,0)),\"\")","v":""},null,null,null,null,null,"00:00:00",null,"00:00:00","00:00:00"]
[null,{"$f":"IFERROR(IF(A4152=\"\",\"\",VLOOKUP(A4152,'Banco de Funcionários'!$A$2:$D$1048576,2,0)),\"\")","v":""},null,null,null,null,null,"00:00:00",null,"00:00:00","00:00:00"]
[null,{"$f":"IFERROR(IF(A4158=\"\",\"\",VLOOKUP(A4158,'Banco de Funcionários'!$A$2:$D$1048576,2,0)),\"\")","v":""},null,null,null,null,null,"00:00:00",null,"00:00:00","00:00:00"]
[null,{"$f":"IFERROR(IF(A4163=\"\",\"\",VLOOKUP(A4163,'Banco de Funcionários'!$A$2:$D$1048576,2,0)),\"\")","v":""},null,null,null,null,null,{"$f":"(F4163-E4163)-G4163","v":"00:00:00"},null,{"$f":"IFERROR(H4163-I4163,\"\")","v":"00:00:00"},{"$f":"IFERROR(H4163+J4163,0)","v":"00:00:00"}]
[null,{"$f":"IFERROR(IF(A4168=\"\",\"\",VLOOKUP(A4168,'Banco de Funcionários'!$A$2:$D$1048576,2,0)),\"\")","v":""},null,null,null,null,null,"00:00:00",null,"00:00:00","00:00:00"]
[null,{"$f":"IFERROR(IF(A4174=\"\",\"\",VLOOKUP(A4174,'Banco de Funcionários'!$A$2:$D$1048576,2,0)),\"\")","v":""},null,null,null,null,null,"00:00:00",null,"00:00:00","00:00:00"]
[null,{"$f":"IFERROR(IF(A4179=\"\",\"\",VLOOKUP(A4179,'Banco de Funcionários'!$A$2:$D$1048576,2,0)),\"\")","v":""},null,null,null,null,null,"00:00:00",null,"00:00:00","00:00:00"]
[null,{"$f":"IFERROR(IF(A4185=\"\",\"\",VLOOKUP(A4185,'Banco de Funcionários'!$A$2:$D$1048576,2,0)),\"\")","v":""},null,null,null,null,null,"00:00:00",null,"00:00:00","00:00:00"]
[null,{"$f":"IFERROR(IF(A4190=\"\",\"\",VLOOKUP(A4190,'Banco de Funcionários'!$A$2:$D$1048576,2,0)),\"\")","v":""},null,null,null,null,null,"00:00:00",null,"00:00:00","00:00:00"]
[null,{"$f":"IFERROR(IF(A4195=\"\",\"\",VLOOKUP(A4195,'Banco de Funcionários'!$A$2:$D$1048576,2,0)),\"\")","v":""},null,null,null,null,null,"00:00:00",null,"00:00:00","00:00:00"]
[null,{"$f":"IFERROR(IF(A4196=\"\",\"\",VLOOKUP(A4196,'Banco de Funcionários'!$A$2:$D$1048576,2,0)),\"\")","v":""},null,null,null,null,null,"00:00:00",null,"00:00:00","00:00:00"]
[null,{"$f":"IFERROR(IF(A4201=\"\",\"\",VLOOKUP(A4201,'Banco de Funcionários'!$A$2:$D$1048576,2,0)),\"\")","v":""},null,null,null,null,null,"00:00:00",null,"00:00:00","00:00:00"]
[null,{"$f":"IFERROR(IF(A4206=\"\",\"\",VLOOKUP(A4206,'Banco de Funcionários'!$A$2:$D$1048576,2,0)),\"\")","v":""},null,null,null,null,null,"00:00:00",null,"00:00:00","00:00:00"]
[null,{"$f":"IFERROR(IF(A4212=\"\",\"\",VLOOKUP(A4212,'Banco de Funcionários'!$A$2:$D$1048576,2,0)),\"\")","v":""},null,null,null,null,null,"00:00:00",null,"00:00:00","00:00:00"]
[null,{"$f":"IFERROR(IF(A4217=\"\",\"\",VLOOKUP(A4217,'Banco de Funcionários'!$A$2:$D$1048576,2,0)),\"\")","v":""},null,null,null,null,null,"00:00:00",null,"00:00:00","00:00:00"]
[null,{"$f":"IFERROR(IF(A4223=\"\",\"\",VLOOKUP(A4223,'Banco de Funcionários'!$A$2:$D$1048576,2,0)),\"\")","v":""},null,null,null,null,null,"00:00:00",null,"00:00:00","00:00:00"]
[null,{"$f":"IFERROR(IF(A4228=\"\",\"\",VLOOKUP(A4228,'Banco de Funcionários'!$A$2:$D$1048576,2,0)),\"\")","v":""},null,null,null,null,null,"00:00:00",null,"00:00:00","00:00:00"]
[null,{"$f":"IFERROR(IF(A4232=\"\",\"\",VLOOKUP(A4232,'Banco de Funcionários'!$A$2:$D$1048576,2,0)),\"\")","v":""},null,null,null,null,null,"00:00:00",null,"00:00:00","00:00:00"]
[null,{"$f":"IFERROR(IF(A4238=\"\",\"\",VLOOKUP(A4238,'Banco de Funcionários'!$A$2:$D$1048576,2,0)),\"\")","v":""},null,null,null,null,null,"00:00:00",null,"00:00:00","00:00:00"]
[null,{"$f":"IFERROR(IF(A4243=\"\",\"\",VLOOKUP(A4243,'Banco de Funcionários'!$A$2:$D$1048576,2,0)),\"\")","v":""},null,null,null,null,null,"00:00:00",null,"00:00:00","00:00:00"]
[null,{"$f":"IFERROR(IF(A4249=\"\",\"\",VLOOKUP(A4249,'Banco de Funcionários'!$A$2:$D$1048576,2,0)),\"\")","v":""},null,null,null,null,null,"00:00:00",null,"00:00:00","00:00:00"]
[null,{"$f":"IFERROR(IF(A4254=\"\",\"\",VLOOKUP(A4254,'Banco de Funcionários'!$A$2:$D$1048576,2,0)),\"\")","v":""},null,null,null,null,null,"00:00:00",null,"00:00:00","00:00:00"]
[null,{"$f":"IFERROR(IF(A4259=\"\",\"\",VLOOKUP(A4259,'Banco de Funcionários'!$A$2:$D$1048576,2,0)),\"\")","v":""},null,null,null,null,null,"00:00:00",null,"00:00:00","00:00:00"]
[null,{"$f":"IFERROR(IF(A4260=\"\",\"\",VLOOKUP(A4260,'Banco de Funcionários'!$A$2:$D$1048576,2,0)),\"\")","v":""},null,null,null,null,null,"00:00:00",null,"00:00:00","00:00:00"]
[null,{"$f":"IFERROR(IF(A4265=\"\",\"\",VLOOKUP(A4265,'Banco de Funcionários'!$A$2:$D$1048576,2,0)),\"\")","v":""},null,null,null,null,null,"00:00:00",null,"00:00:00","00:00:00"]
[null,{"$f":"IFERROR(IF(A4270=\"\",\"\",VLOOKUP(A4270,'Banco de Funcionários'!$A$2:$D$1048576,2,0)),\"\")","v":""},null,null,null,null,null,"00:00:00",null,"00:00:00","00:00:00"]
[null,{"$f":"IFERROR(IF(A4276=\"\",\"\",VLOOKUP(A4276,'Banco de Funcionários'!$A$2:$D$1048576,2,0)),\"\")","v":""},null,null,null,null,null,"00:00:00",null,"00:00:00","00:00:00"]
[null,{"$f":"IFERROR(IF(A4281=\"\",\"\",VLOOKUP(A4281,'Banco de Funcionários'!$A$2:$D$1048576,2,0)),\"\")","v":""},null,null,null,null,null,"00:00:00",null,"00:00:00","00:00:00"]
[null,{"$f":"IFERROR(IF(A4287=\"\",\"\",VLOOKUP(A4287,'Banco de Funcionários'!$A$2:$D$1048576,2,0)),\"\")","v":""},null,null,null,null,null,"00:00:00",null,"00:00:00","00:00:00"]
[null,{"$f":"IFERROR(IF(A4292=\"\",\"\",VLOOKUP(A4292,'Banco de Funcionários'!$A$2:$D$1048576,2,0)),\"\")","v":""},null,null,null,null,null,"00:00:00",null,"00:00:00","00:00:00"]
[null,{"$f":"IFERROR(IF(A4297=\"\",\"\",VLOOKUP(A4297,'Banco de Funcionários'!$A$2:$D$1048576,2,0)),\"\")","v":""},null,null,null,null,null,"00:00:00",null,"00:00:00","00:00:00"]
[null,{"$f":"IFERROR(IF(A4303=\"\",\"\",VLOOKUP(A4303,'Banco de Funcionários'!$A$2:$D$1048576,2,0)),\"\")","v":""},null,null,null,null,null,"00:00:00",null,"00:00:00","00:00:00"]
[null,{"$f":"IFERROR(IF(A4308=\"\",\"\",VLOOKUP(A4308,'Banco de Funcionários'!$A$2:$D$1048576,2,0)),\"\")","v":""},null,null,null,null,null,"00:00:00",null,"00:00:00","00:00:00"]
[null,{"$f":"IFERROR(IF(A4313=\"\",\"\",VLOOKUP(A4313,'Banco de Funcionários'!$A$2:$D$1048576,2,0)),\"\")","v":""},null,null,null,null,null,"00:00:00",null,"00:00:00","00:00:00"]
[null,{"$f":"IFERROR(IF(A4319=\"\",\"\",VLOOKUP(A4319,'Banco de Funcionários'!$A$2:$D$1048576,2,0)),\"\")","v":""},null,null,null,null,null,"00:00:00",null,"00:00:00","00:00:00"]
[null,{"$f":"IFERROR(IF(A4324=\"\",\"\",VLOOKUP(A4324,'Banco de Funcionários'!$A$2:$D$1048576,2,0)),\"\")","v":""},null,null,null,null,null,"00:00:00",null,"00:00:00","00:00:00"]
[null,{"$f":"IFERROR(IF(A4325=\"\",\"\",VLOOKUP(A4325,'Banco de Funcionários'!$A$2:$D$1048576,2,0)),\"\")","v":""},null,null,null,null,null,"00:00:00",null,"00:00:00","00:00:00"]
[null,{"$f":"IFERROR(IF(A4330=\"\",\"\",VLOOKUP(A4330,'Banco de Funcionários'!$A$2:$D$1048576,2,0)),\"\")","v":""},null,null,null,null,null,"00:00:00",null,"00:00:00","00:00:00"]
[null,{"$f":"IFERROR(IF(A4335=\"\",\"\",VLOOKUP(A4335,'Banco de Funcionários'!$A$2:$D$1048576,2,0)),\"\")","v":""},null,null,null,null,null,"00:00:00",null,"00:00:00","00:00:00"]
[null,{"$f":"IFERROR(IF(A4340=\"\",\"\",VLOOKUP(A4340,'Banco de Funcionários'!$A$2:$D$1048576,2,0)),\"\")","v":""},null,null,null,null,null,"00:00:00",null,"00:00:00","00:00:00"]
[null,{"$f":"IFERROR(IF(A4345=\"\",\"\",VLOOKUP(A4345,'Banco de Funcionários'!$A$2:$D$1048576,2,0)),\"\")","v":""},null,null,null,null,null,"00:00:00",null,"00:00:00","00:00:00"]
[null,{"$f":"IFERROR(IF(A4351=\"\",\"\",VLOOKUP(A4351,'Banco de Funcionários'!$A$2:$D$1048576,2,0)),\"\")","v":""},null,null,null,null,null,"00:00:00",null,"00:00:00","00:00:00"]
[null,{"$f":"IFERROR(IF(A4356=\"\",\"\",VLOOKUP(A4356,'Banco de Funcionários'!$A$2:$D$1048576,2,0)),\"\")","v":""},null,null,null,null,null,"00:00:00",null,"00:00:00","00:00:00"]
[null,{"$f":"IFERROR(IF(A4361=\"\",\"\",VLOOKUP(A4361,'Banco de Funcionários'!$A$2:$D$1048576,2,0)),\"\")","v":""},null,null,null,null,null,"00:00:00",null,"00:00:00","00:00:00"]
[null,{"$f":"IFERROR(IF(A4367=\"\",\"\",VLOOKUP(A4367,'Banco de Funcionários'!$A$2:$D$1048576,2,0)),\"\")","v":""},null,null,null,null,null,"00:00:00",null,"00:00:00","00:00:00"]
[null,{"$f":"IFERROR(IF(A4372=\"\",\"\",VLOOKUP(A4372,'Banco de Funcionários'!$A$2:$D$1048576,2,0)),\"\")","v":""},null,null,null,null,null,"00:00:00",null,"00:00:00","00:00:00"]
[null,{"$f":"IFERROR(IF(A4377=\"\",\"\",VLOOKUP(A4377,'Banco de Funcionários'!$A$2:$D$1048576,2,0)),\"\")","v":""},null,null,null,null,null,"00:00:00",null,"00:00:00","00:00:00"]
[null,{"$f":"IFERROR(IF(A4383=\"\",\"\",VLOOKUP(A4383,'Banco de Funcionários'!$A$2:$D$1048576,2,0)),\"\")","v":""},null,null,null,null,null,"00:00:00",null,"00:00:00","00:00:00"]
[null,{"$f":"IFERROR(IF(A4388=\"\",\"\",VLOOKUP(A4388,'Banco de Funcionários'!$A$2:$D$1048576,2,0)),\"\")","v":""},null,null,null,null,null,"00:00:00",null,"00:00:00","00:00:00"]
[null,{"$f":"IFERROR(IF(A4389=\"\",\"\",VLOOKUP(A4389,'Banco de Funcionários'!$A$2:$D$1048576,2,0)),\"\")","v":""},null,null,null,null,null,"00:00:00",null,"00:00:00","00:00:00"]
[null,{"$f":"IFERROR(IF(A4394=\"\",\"\",VLOOKUP(A4394,'Banco de Funcionários'!$A$2:$D$1048576,2,0)),\"\")","v":""},null,null,null,null,null,"00:00:00",null,"00:00:00","00:00:00"]
[null,{"$f":"IFERROR(IF(A4399=\"\",\"\",VLOOKUP(A4399,'Banco de Funcionários'!$A$2:$D$1048576,2,0)),\"\")","v":""},null,null,null,null,null,"00:00:00",null,"00:00:00","00:00:00"]
[null,{"$f":"IFERROR(IF(A4405=\"\",\"\",VLOOKUP(A4405,'Banco de Funcionários'!$A$2:$D$1048576,2,0)),\"\")","v":""},null,null,null,null,null,"00:00:00",null,"00:00:00","00:00:00"]
[null,{"$f":"IFERROR(IF(A4410=\"\",\"\",VLOOKUP(A4410,'Banco de Funcionários'!$A$2:$D$1048576,2,0)),\"\")","v":""},null,null,null,null,null,"00:00:00",null,"00:00:00","00:00:00"]
[null,{"$f":"IFERROR(IF(A4416=\"\",\"\",VLOOKUP(A4416,'Banco de Funcionários'!$A$2:$D$1048576,2,0)),\"\")","v":""},null,null,null,null,null,"00:00:00",null,"00:00:00","00:00:00"]
[null,{"$f":"IFERROR(IF(A4421=\"\",\"\",VLOOKUP(A4421,'Banco de Funcionários'!$A$2:$D$1048576,2,0)),\"\")","v":""},null,null,null,null,null,"00:00:00",null,"00:00:00","00:00:00"]
[null,{"$f":"IFERROR(IF(A4426=\"\",\"\",VLOOKUP(A4426,'Banco de Funcionários'!$A$2:$D$1048576,2,0)),\"\")","v":""},null,null,null,null,null,"00:00:00",null,"00:00:00","00:00:00"]
[null,{"$f":"IFERROR(IF(A4432=\"\",\"\",VLOOKUP(A4432,'Banco de Funcionários'!$A$2:$D$1048576,2,0)),\"\")","v":""},null,null,null,null,null,"00:00:00",null,"00:00:00","00:00:00"]
[null,{"$f":"IFERROR(IF(A4437=\"\",\"\",VLOOKUP(A4437,'Banco de Funcionários'!$A$2:$D$1048576,2,0)),\"\")","v":""},null,null,null,null,null,"00:00:00",null,"00:00:00","00:00:00"]
[null,{"$f":"IFERROR(IF(A4442=\"\",\"\",VLOOKUP(A4442,'Banco de Funcionários'!$A$2:$D$1048576,2,0)),\"\")","v":""},null,null,null,null,null,"00:00:00",null,"00:00:00","00:00:00"]
[null,{"$f":"IFERROR(IF(A4448=\"\",\"\",VLOOKUP(A4448,'Banco de Funcionários'!$A$2:$D$1048576,2,0)),\"\")","v":""},null,null,null,null,null,"00:00:00",null,"00:00:00","00:00:00"]
[null,{"$f":"IFERROR(IF(A4452=\"\",\"\",VLOOKUP(A4452,'Banco de Funcionários'!$A$2:$D$1048576,2,0)),\"\")","v":""},null,null,null,null,null,"00:00:00",null,"00:00:00","00:00:00"]
[null,{"$f":"IFERROR(IF(A4453=\"\",\"\",VLOOKUP(A4453,'Banco de Funcionários'!$A$2:$D$1048576,2,0)),\"\")","v":""},null,null,null,null,null,"00:00:00",null,"00:00:00","00:00:00"]
[null,{"$f":"IFERROR(IF(A4458=\"\",\"\",VLOOKUP(A4458,'Banco de Funcionários'!$A$2:$D$1048576,2,0)),\"\")","v":""},null,null,null,null,null,"00:00:00",null,"00:00:00","00:00:00"]
[null,{"$f":"IFERROR(IF(A4463=\"\",\"\",VLOOKUP(A4463,'Banco de Funcionários'!$A$2:$D$1048576,2,0)),\"\")","v":""},null,null,null,null,null,"00:00:00",null,"00:00:00","00:00:00"]
[null,{"$f":"IFERROR(IF(A4469=\"\",\"\",VLOOKUP(A4469,'Banco de Funcionários'!$A$2:$D$1048576,2,0)),\"\")","v":""},null,null,null,null,null,"00:00:00",null,"00:00:00","00:00:00"]
[null,{"$f":"IFERROR(IF(A4474=\"\",\"\",VLOOKUP(A4474,'Banco de Funcionários'!$A$2:$D$1048576,2,0)),\"\")","v":""},null,null,null,null,null,"00:00:00",null,"00:00:00","00:00:00"]
[null,{"$f":"IFERROR(IF(A4479=\"\",\"\",VLOOKUP(A4479,'Banco de Funcionários'!$A$2:$D$1048576,2,0)),\"\")","v":""},null,null,null,null,null,"00:00:00",null,"00:00:00","00:00:00"]
[null,{"$f":"IFERROR(IF(A4485=\"\",\"\",VLOOKUP(A4485,'Banco de Funcionários'!$A$2:$D$1048576,2,0)),\"\")","v":""},null,null,null,null,null,"00:00:00",null,"00:00:00","00:00:00"]
[null,{"$f":"IFERROR(IF(A4490=\"\",\"\",VLOOKUP(A4490,'Banco de Funcionários'!$A$2:$D$1048576,2,0)),\"\")","v":""},null,null,null,null,null,"00:00:00",null,"00:00:00","00:00:00"]
[null,{"$f":"IFERROR(IF(A4496=\"\",\"\",VLOOKUP(A4496,'Banco de Funcionários'!$A$2:$D$1048576,2,0)),\"\")","v":""},null,null,null,null,null,"00:00:00",null,"00:00:00","00:00:00"]
[null,{"$f":"IFERROR(IF(A4501=\"\",\"\",VLOOKUP(A4501,'Banco de Funcionários'!$A$2:$D$1048576,2,0)),\"\")","v":""},null,null,null,null,null,"00:00:00",null,"00:00:00","00:00:00"]
[null,{"$f":"IFERROR(IF(A4506=\"\",\"\",VLOOKUP(A4506,'Banco de Funcionários'!$A$2:$D$1048576,2,0)),\"\")","v":""},null,null,null,null,null,"00:00:00",null,"00:00:00","00:00:00"]
[null,{"$f":"IFERROR(IF(A4512=\"\",\"\",VLOOKUP(A4512,'Banco de Funcionários'!$A$2:$D$1048576,2,0)),\"\")","v":""},null,null,null,null,null,"00:00:00",null,"00:00:00","00:00:00"]
[null,{"$f":"IFERROR(IF(A4517=\"\",\"\",VLOOKUP(A4517,'Banco de Funcionários'!$A$2:$D$1048576,2,0)),\"\")","v":""},null,null,null,null,null,"00:00:00",null,"00:00:00","00:00:00"]
[null,{"$f":"IFERROR(IF(A4518=\"\",\"\",VLOOKUP(A4518,'Banco de Funcionários'!$A$2:$D$1048576,2,0)),\"\")","v":""},null,null,null,null,null,"00:00:00",null,"00:00:00","00:00:00"]
[null,{"$f":"IFERROR(IF(A4523=\"\",\"\",VLOOKUP(A4523,'Banco de Funcionários'!$A$2:$D$1048576,2,0)),\"\")","v":""},null,null,null,null,null,"00:00:00",null,"00:00:00","00:00:00"]
[null,{"$f":"IFERROR(IF(A4528=\"\",\"\",VLOOKUP(A4528,'Banco de Funcionários'!$A$2:$D$1048576,2,0)),\"\")","v":""},null,null,null,null,null,"00:00:00",null,"00:00:00","00:00:00"]
[null,{"$f":"IFERROR(IF(A4534=\"\",\"\",VLOOKUP(A4534,'Banco de Funcionários'!$A$2:$D$1048576,2,0)),\"\")","v":""},null,null,null,null,null,"00:00:00",null,"00:00:00","00:00:00"]
[null,{"$f":"IFERROR(IF(A4539=\"\",\"\",VLOOKUP(A4539,'Banco de Funcionários'!$A$2:$D$1048576,2,0)),\"\")","v":""},null,null,null,null,null,"00:00:00",null,"00:00:00","00:00:00"]
[null,{"$f":"IFERROR(IF(A4544=\"\",\"\",VLOOKUP(A4544,'Banco de Funcionários'!$A$2:$D$1048576,2,0)),\"\")","v":""},null,null,null,null,null,"00:00:00",null,"00:00:00","00:00:00"]
[null,{"$f":"IFERROR(IF(A4550=\"\",\"\",VLOOKUP(A4550,'Banco de Funcionários'!$A$2:$D$1048576,2,0)),\"\")","v":""},null,null,null,null,null,"00:00:00",null,"00:00:00","00:00:00"]
[null,{"$f":"IFERROR(IF(A4555=\"\",\"\",VLOOKUP(A4555,'Banco de Funcionários'!$A$2:$D$1048576,2,0)),\"\")","v":""},null,null,null,null,null,"00:00:00",null,"00:00:00","00:00:00"]
[null,{"$f":"IFERROR(IF(A4559=\"\",\"\",VLOOKUP(A4559,'Banco de Funcionários'!$A$2:$D$1048576,2,0)),\"\")","v":""},null,null,null,null,null,"00:00:00",null,"00:00:00","00:00:00"]
[null,{"$f":"IFERROR(IF(A4565=\"\",\"\",VLOOKUP(A4565,'Banco de Funcionários'!$A$2:$D$1048576,2,0)),\"\")","v":""},null,null,null,null,null,"00:00:00",null,"00:00:00","00:00:00"]
[null,{"$f":"IFERROR(IF(A4570=\"\",\"\",VLOOKUP(A4570,'Banco de Funcionários'!$A$2:$D$1048576,2,0)),\"\")","v":""},null,null,null,null,null,"00:00:00",null,"00:00:00","00:00:00"]
[null,{"$f":"IFERROR(IF(A4576=\"\",\"\",VLOOKUP(A4576,'Banco de Funcionários'!$A$2:$D$1048576,2,0)),\"\")","v":""},null,null,null,null,null,"00:00:00",null,"00:00:00","00:00:00"]
[null,{"$f":"IFERROR(IF(A4581=\"\",\"\",VLOOKUP(A4581,'Banco de Funcionários'!$A$2:$D$1048576,2,0)),\"\")","v":""},null,null,null,null,null,"00:00:00",null,"00:00:00","00:00:00"]
[null,{"$f":"IFERROR(IF(A4582=\"\",\"\",VLOOKUP(A4582,'Banco de Funcionários'!$A$2:$D$1048576,2,0)),\"\")","v":""},null,null,null,null,null,"00:00:00",null,"00:00:00","00:00:00"]
[null,{"$f":"IFERROR(IF(A4587=\"\",\"\",VLOOKUP(A4587,'Banco de Funcionários'!$A$2:$D$1048576,2,0)),\"\")","v":""},null,null,null,null,null,"00:00:00",null,"00:00:00","00:00:00"]
[null,{"$f":"IFERROR(IF(A4592=\"\",\"\",VLOOKUP(A4592,'Banco de Funcionários'!$A$2:$D$1048576,2,0)),\"\")","v":""},null,null,null,null,null,"00:00:00",null,"00:00:00","00:00:00"]
[null,{"$f":"IFERROR(IF(A4598=\"\",\"\",VLOOKUP(A4598,'Banco de Funcionários'!$A$2:$D$1048576,2,0)),\"\")","v":""},null,null,null,null,null,"00:00:00",null,"00:00:00","00:00:00"]
[null,{"$f":"IFERROR(IF(A4603=\"\",\"\",VLOOKUP(A4603,'Banco de Funcionários'!$A$2:$D$1048576,2,0)),\"\")","v":""},null,null,null,null,null,"00:00:00",null,"00:00:00","00:00:00"]
[null,{"$f":"IFERROR(IF(A4608=\"\",\"\",VLOOKUP(A4608,'Banco de Funcionários'!$A$2:$D$1048576,2,0)),\"\")","v":""},null,null,null,null,null,"00:00:00",null,"00:00:00","00:00:00"]
[null,{"$f":"IFERROR(IF(A4614=\"\",\"\",VLOOKUP(A4614,'Banco de Funcionários'!$A$2:$D$1048576,2,0)),\"\")","v":""},null,null,null,null,null,"00:00:00",null,"00:00:00","00:00:00"]
[null,{"$f":"IFERROR(IF(A4619=\"\",\"\",VLOOKUP(A4619,'Banco de Funcionários'!$A$2:$D$1048576,2,0)),\"\")","v":""},null,null,null,null,null,"00:00:00",null,"00:00:00","00:00:00"]
[null,{"$f":"IFERROR(IF(A4625=\"\",\"\",VLOOKUP(A4625,'Banco de Funcionários'!$A$2:$D$1048576,2,0)),\"\")","v":""},null,null,null,null,null,"00:00:00",null,"00:00:00","00:00:00"]
[null,{"$f":"IFERROR(IF(A4630=\"\",\"\",VLOOKUP(A4630,'Banco de Funcionários'!$A$2:$D$1048576,2,0)),\"\")","v":""},null,null,null,null,null,"00:00:00",null,"00:00:00","00:00:00"]
[null,{"$f":"IFERROR(IF(A4635=\"\",\"\",VLOOKUP(A4635,'Banco de Funcionários'!$A$2:$D$1048576,2,0)),\"\")","v":""},null,null,null,null,null,"00:00:00",null,"00:00:00","00:00:00"]
[null,{"$f":"IFERROR(IF(A4641=\"\",\"\",VLOOKUP(A4641,'Banco de Funcionários'!$A$2:$D$1048576,2,0)),\"\")","v":""},null,null,null,null,null,"00:00:00",null,"00:00:00","00:00:00"]
[null,{"$f":"IFERROR(IF(A4646=\"\",\"\",VLOOKUP(A4646,'Banco de Funcionários'!$A$2:$D$1048576,2,0)),\"\")","v":""},null,null,null,null,null,"00:00:00",null,"00:00:00","00:00:00"]
[null,{"$f":"IFERROR(IF(A4651=\"\",\"\",VLOOKUP(A4651,'Banco de Funcionários'!$A$2:$D$1048576,2,0)),\"\")","v":""},null,null,null,null,null,"00:00:00",null,"00:00:00","00:00:00"]
[null,{"$f":"IFERROR(IF(A4652=\"\",\"\",VLOOKUP(A4652,'Banco de Funcionários'!$A$2:$D$1048576,2,0)),\"\")","v":""},null,null,null,null,null,"00:00:00",null,"00:00:00","00:00:00"]
[null,{"$f":"IFERROR(IF(A4657=\"\",\"\",VLOOKUP(A4657,'Banco de Funcionários'!$A$2:$D$1048576,2,0)),\"\")","v":""},null,null,null,null,null,"00:00:00",null,"00:00:00","00:00:00"]
[null,{"$f":"IFERROR(IF(A4663=\"\",\"\",VLOOKUP(A4663,'Banco de Funcionários'!$A$2:$D$1048576,2,0)),\"\")","v":""},null,null,null,null,null,"00:00:00",null,"00:00:00","00:00:00"]
[null,{"$f":"IFERROR(IF(A4668=\"\",\"\",VLOOKUP(A4668,'Banco de Funcionários'!$A$2:$D$1048576,2,0)),\"\")","v":""},null,null,null,null,null,"00:00:00",null,"00:00:00","00:00:00"]
[null,{"$f":"IFERROR(IF(A4672=\"\",\"\",VLOOKUP(A4672,'Banco de Funcionários'!$A$2:$D$1048576,2,0)),\"\")","v":""},null,null,null,null,null,"00:00:00",null,"00:00:00","00:00:00"]
[null,{"$f":"IFERROR(IF(A4678=\"\",\"\",VLOOKUP(A4678,'Banco de Funcionários'!$A$2:$D$1048576,2,0)),\"\")","v":""},null,null,null,null,null,"00:00:00",null,"00:00:00","00:00:00"]
[null,{"$f":"IFERROR(IF(A4683=\"\",\"\",VLOOKUP(A4683,'Banco de Funcionários'!$A$2:$D$1048576,2,0)),\"\")","v":""},null,null,null,null,null,"00:00:00",null,"00:00:00","00:00:00"]
[null,{"$f":"IFERROR(IF(A4689=\"\",\"\",VLOOKUP(A4689,'Banco de Funcionários'!$A$2:$D$1048576,2,0)),\"\")","v":""},null,null,null,null,null,"00:00:00",null,"00:00:00","00:00:00"]
[null,{"$f":"IFERROR(IF(A4694=\"\",\"\",VLOOKUP(A4694,'Banco de Funcionários'!$A$2:$D$1048576,2,0)),\"\")","v":""},null,null,null,null,null,"00:00:00",null,"00:00:00","00:00:00"]
[null,{"$f":"IFERROR(IF(A4699=\"\",\"\",VLOOKUP(A4699,'Banco de Funcionários'!$A$2:$D$1048576,2,0)),\"\")","v":""},null,null,null,null,null,"00:00:00",null,"00:00:00","00:00:00"]
[null,{"$f":"IFERROR(IF(A4705=\"\",\"\",VLOOKUP(A4705,'Banco de Funcionários'!$A$2:$D$1048576,2,0)),\"\")","v":""},null,null,null,null,null,"00:00:00",null,"00:00:00","00:00:00"]
[null,{"$f":"IFERROR(IF(A4710=\"\",\"\",VLOOKUP(A4710,'Banco de Funcionários'!$A$2:$D$1048576,2,0)),\"\")","v":""},null,null,null,null,null,"00:00:00",null,"00:00:00","00:00:00"]
[null,{"$f":"IFERROR(IF(A4715=\"\",\"\",VLOOKUP(A4715,'Banco de Funcionários'!$A$2:$D$1048576,2,0)),\"\")","v":""},null,null,null,null,null,"00:00:00",null,"00:00:00","00:00:00"]
[null,{"$f":"IFERROR(IF(A4716=\"\",\"\",VLOOKUP(A4716,'Banco de Funcionários'!$A$2:$D$1048576,2,0)),\"\")","v":""},null,null,null,null,null,"00:00:00",null,"00:00:00","00:00:00"]
[null,{"$f":"IFERROR(IF(A4721=\"\",\"\",VLOOKUP(A4721,'Banco de Funcionários'!$A$2:$D$1048576,2,0)),\"\")","v":""},null,null,null,null,null,"00:00:00",null,"00:00:00","00:00:00"]
[null,{"$f":"IFERROR(IF(A4727=\"\",\"\",VLOOKUP(A4727,'Banco de Funcionários'!$A$2:$D$1048576,2,0)),\"\")","v":""},null,null,null,null,null,"00:00:00",null,"00:00:00","00:00:00"]
[null,{"$f":"IFERROR(IF(A4732=\"\",\"\",VLOOKUP(A4732,'Banco de Funcionários'!$A$2:$D$1048576,2,0)),\"\")","v":""},null,null,null,null,null,"00:00:00",null,"00:00:00","00:00:00"]
[null,{"$f":"IFERROR(IF(A4737=\"\",\"\",VLOOKUP(A4737,'Banco de Funcionários'!$A$2:$D$1048576,2,0)),\"\")","v":""},null,null,null,null,null,"00:00:00",null,"00:00:00","00:00:00"]
[null,{"$f":"IFERROR(IF(A4743=\"\",\"\",VLOOKUP(A4743,'Banco de Funcionários'!$A$2:$D$1048576,2,0)),\"\")","v":""},null,null,null,null,null,"00:00:00",null,"00:00:00","00:00:00"]
[null,{"$f":"IFERROR(IF(A4748=\"\",\"\",VLOOKUP(A4748,'Banco de Funcionários'!$A$2:$D$1048576,2,0)),\"\")","v":""},null,null,null,null,null,"00:00:00",null,"00:00:00","00:00:00"]
[null,{"$f":"IFERROR(IF(A4753=\"\",\"\",VLOOKUP(A4753,'Banco de Funcionários'!$A$2:$D$1048576,2,0)),\"\")","v":""},null,null,null,null,null,"00:00:00",null,"00:00:00","00:00:00"]
[null,{"$f":"IFERROR(IF(A4759=\"\",\"\",VLOOKUP(A4759,'Banco de Funcionários'!$A$2:$D$1048576,2,0)),\"\")","v":""},null,null,null,null,null,"00:00:00",null,"00:00:00","00:00:00"]
[null,{"$f":"IFERROR(IF(A4764=\"\",\"\",VLOOKUP(A4764,'Banco de Funcionários'!$A$2:$D$1048576,2,0)),\"\")","v":""},null,null,null,null,null,"00:00:00",null,"00:00:00","00:00:00"]
[null,{"$f":"IFERROR(IF(A4770=\"\",\"\",VLOOKUP(A4770,'Banco de Funcionários'!$A$2:$D$1048576,2,0)),\"\")","v":""},null,null,null,null,null,"00:00:00",null,"00:00:00","00:00:00"]
[null,{"$f":"IFERROR(IF(A4775=\"\",\"\",VLOOKUP(A4775,'Banco de Funcionários'!$A$2:$D$1048576,2,0)),\"\")","v":""},null,null,null,null,null,"00:00:00",null,"00:00:00","00:00:00"]
[null,{"$f":"IFERROR(IF(A4780=\"\",\"\",VLOOKUP(A4780,'Banco de Funcionários'!$A$2:$D$1048576,2,0)),\"\")","v":""},null,null,null,null,null,"00:00:00",null,"00:00:00","00:00:00"]
[null,{"$f":"IFERROR(IF(A4783=\"\",\"\",VLOOKUP(A4783,'Banco de Funcionários'!$A$2:$D$1048576,2,0)),\"\")","v":""},null,null,null,null,null,"00:00:00",null,"00:00:00","00:00:00"]
[null,{"$f":"IFERROR(IF(A4785=\"\",\"\",VLOOKUP(A4785,'Banco de Funcionários'!$A$2:$D$1048576,2,0)),\"\")","v":""},null,null,null,null,null,"00:00:00",null,"00:00:00","00:00:00"]
[null,{"$f":"IFERROR(IF(A4791=\"\",\"\",VLOOKUP(A4791,'Banco de Funcionários'!$A$2:$D$1048576,2,0)),\"\")","v":""},null,null,null,null,null,"00:00:00",null,"00:00:00","00:00:00"]
[null,{"$f":"IFERROR(IF(A4796=\"\",\"\",VLOOKUP(A4796,'Banco de Funcionários'!$A$2:$D$1048576,2,0)),\"\")","v":""},null,null,null,null,null,"00:00:00",null,"00:00:00","00:00:00"]
[null,{"$f":"IFERROR(IF(A4801=\"\",\"\",VLOOKUP(A4801,'Banco de Funcionários'!$A$2:$D$1048576,2,0)),\"\")","v":""},null,null,null,null,null,"00:00:00",null,"00:00:00","00:00:00"]
[null,{"$f":"IFERROR(IF(A4807=\"\",\"\",VLOOKUP(A4807,'Banco de Funcionários'!$A$2:$D$1048576,2,0)),\"\")","v":""},null,null,null,null,null,"00:00:00",null,"00:00:00","00:00:00"]
[null,{"$f":"IFERROR(IF(A4812=\"\",\"\",VLOOKUP(A4812,'Banco de Funcionários'!$A$2:$D$1048576,2,0)),\"\")","v":""},null,null,null,null,null,"00:00:00",null,"00:00:00","00:00:00"]
[null,{"$f":"IFERROR(IF(A4817=\"\",\"\",VLOOKUP(A4817,'Banco de Funcionários'!$A$2:$D$1048576,2,0)),\"\")","v":""},null,null,null,null,null,"00:00:00",null,"00:00:00","00:00:00"]
[null,{"$f":"IFERROR(IF(A4823=\"\",\"\",VLOOKUP(A4823,'Banco de Funcionários'!$A$2:$D$1048576,2,0)),\"\")","v":""},null,null,null,null,null,"00:00:00",null,"00:00:00","00:00:00"]
[null,{"$f":"IFERROR(IF(A4828=\"\",\"\",VLOOKUP(A4828,'Banco de Funcionários'!$A$2:$D$1048576,2,0)),\"\")","v":""},null,null,null,null,null,"00:00:00",null,"00:00:00","00:00:00"]
[null,{"$f":"IFERROR(IF(A4834=\"\",\"\",VLOOKUP(A4834,'Banco de Funcionários'!$A$2:$D$1048576,2,0)),\"\")","v":""},null,null,null,null,null,"00:00:00",null,"00:00:00","00:00:00"]
[null,{"$f":"IFERROR(IF(A4839=\"\",\"\",VLOOKUP(A4839,'Banco de Funcionários'!$A$2:$D$1048576,2,0)),\"\")","v":""},null,null,null,null,null,"00:00:00",null,"00:00:00","00:00:00"]
[null,{"$f":"IFERROR(IF(A4844=\"\",\"\",VLOOKUP(A4844,'Banco de Funcionários'!$A$2:$D$1048576,2,0)),\"\")","v":""},null,null,null,null,null,"00:00:00",null,"00:00:00","00:00:00"]
[null,{"$f":"IFERROR(IF(A4845=\"\",\"\",VLOOKUP(A4845,'Banco de Funcionários'!$A$2:$D$1048576,2,0)),\"\")","v":""},null,null,null,null,null,"00:00:00",null,"00:00:00","00:00:00"]
[null,{"$f":"IFERROR(IF(A4850=\"\",\"\",VLOOKUP(A4850,'Banco de Funcionários'!$A$2:$D$1048576,2,0)),\"\")","v":""},null,null,null,null,null,"00:00:00",null,"00:00:00","00:00:00"]
[null,{"$f":"IFERROR(IF(A4856=\"\",\"\",VLOOKUP(A4856,'Banco de Funcionários'!$A$2:$D$1048576,2,0)),\"\")","v":""},null,null,null,null,null,"00:00:00",null,"00:00:00","00:00:00"]
[null,{"$f":"IFERROR(IF(A4861=\"\",\"\",VLOOKUP(A4861,'Banco de Funcionários'!$A$2:$D$1048576,2,0)),\"\")","v":""},null,null,null,null,null,"00:00:00",null,"00:00:00","00:00:00"]
[null,{"$f":"IFERROR(IF(A4866=\"\",\"\",VLOOKUP(A4866,'Banco de Funcionários'!$A$2:$D$1048576,2,0)),\"\")","v":""},null,null,null,null,null,"00:00:00",null,"00:00:00","00:00:00"]
[null,{"$f":"IFERROR(IF(A4872=\"\",\"\",VLOOKUP(A4872,'Banco de Funcionários'!$A$2:$D$1048576,2,0)),\"\")","v":""},null,null,null,null,null,"00:00:00",null,"00:00:00","00:00:00"]
[null,{"$f":"IFERROR(IF(A4877=\"\",\"\",VLOOKUP(A4877,'Banco de Funcionários'!$A$2:$D$1048576,2,0)),\"\")","v":""},null,null,null,null,null,"00:00:00",null,"00:00:00","00:00:00"]
[null,{"$f":"IFERROR(IF(A4882=\"\",\"\",VLOOKUP(A4882,'Banco de Funcionários'!$A$2:$D$1048576,2,0)),\"\")","v":""},null,null,null,null,null,"00:00:00",null,"00:00:00","00:00:00"]
[null,{"$f":"IFERROR(IF(A4888=\"\",\"\",VLOOKUP(A4888,'Banco de Funcionários'!$A$2:$D$1048576,2,0)),\"\")","v":""},null,null,null,null,null,"00:00:00",null,"00:00:00","00:00:00"]
[null,{"$f":"IFERROR(IF(A4893=\"\",\"\",VLOOKUP(A4893,'Banco de Funcionários'!$A$2:$D$1048576,2,0)),\"\")","v":""},null,null,null,null,null,"00:00:00",null,"00:00:00","00:00:00"]
[null,{"$f":"IFERROR(IF(A4896=\"\",\"\",VLOOKUP(A4896,'Banco de Funcionários'!$A$2:$D$1048576,2,0)),\"\")","v":""},null,null,null,null,null,"00:00:00",null,"00:00:00","00:00:00"]
[null,{"$f":"IFERROR(IF(A4903=\"\",\"\",VLOOKUP(A4903,'Banco de Funcionários'!$A$2:$D$1048576,2,0)),\"\")","v":""},null,null,null,null,null,"00:00:00",null,"00:00:00","00:00:00"]
[null,{"$f":"IFERROR(IF(A4908=\"\",\"\",VLOOKUP(A4908,'Banco de Funcionários'!$A$2:$D$1048576,2,0)),\"\")","v":""},null,null,null,null,null,"00:00:00",null,"00:00:00","00:00:00"]
[null,{"$f":"IFERROR(IF(A4909=\"\",\"\",VLOOKUP(A4909,'Banco de Funcionários'!$A$2:$D$1048576,2,0)),\"\")","v":""},null,null,null,null,null,"00:00:00",null,"00:00:00","00:00:00"]
[null,{"$f":"IFERROR(IF(A4914=\"\",\"\",VLOOKUP(A4914,'Banco de Funcionários'!$A$2:$D$1048576,2,0)),\"\")","v":""},null,null,null,null,null,"00:00:00",null,"00:00:00","00:00:00"]
[null,{"$f":"IFERROR(IF(A4919=\"\",\"\",VLOOKUP(A4919,'Banco de Funcionários'!$A$2:$D$1048576,2,0)),\"\")","v":""},null,null,null,null,null,"00:00:00",null,"00:00:00","00:00:00"]
[null,{"$f":"IFERROR(IF(A4925=\"\",\"\",VLOOKUP(A4925,'Banco de Funcionários'!$A$2:$D$1048576,2,0)),\"\")","v":""},null,null,null,null,null,"00:00:00",null,"00:00:00","00:00:00"]
[null,{"$f":"IFERROR(IF(A4930=\"\",\"\",VLOOKUP(A4930,'Banco de Funcionários'!$A$2:$D$1048576,2,0)),\"\")","v":""},null,null,null,null,null,"00:00:00",null,"00:00:00","00:00:00"]
[null,{"$f":"IFERROR(IF(A4936=\"\",\"\",VLOOKUP(A4936,'Banco de Funcionários'!$A$2:$D$1048576,2,0)),\"\")","v":""},null,null,null,null,null,"00:00:00",null,"00:00:00","00:00:00"]
[null,{"$f":"IFERROR(IF(A4941=\"\",\"\",VLOOKUP(A4941,'Banco de Funcionários'!$A$2:$D$1048576,2,0)),\"\")","v":""},null,null,null,null,null,"00:00:00",null,"00:00:00","00:00:00"]
[null,{"$f":"IFERROR(IF(A4946=\"\",\"\",VLOOKUP(A4946,'Banco de Funcionários'!$A$2:$D$1048576,2,0)),\"\")","v":""},null,null,null,null,null,"00:00:00",null,"00:00:00","00:00:00"]
[null,{"$f":"IFERROR(IF(A4952=\"\",\"\",VLOOKUP(A4952,'Banco de Funcionários'!$A$2:$D$1048576,2,0)),\"\")","v":""},null,null,null,null,null,"00:00:00",null,"00:00:00","00:00:00"]
[null,{"$f":"IFERROR(IF(A4957=\"\",\"\",VLOOKUP(A4957,'Banco de Funcionários'!$A$2:$D$1048576,2,0)),\"\")","v":""},null,null,null,null,null,"00:00:00",null,"00:00:00","00:00:00"]
[null,{"$f":"IFERROR(IF(A4963=\"\",\"\",VLOOKUP(A4963,'Banco de Funcionários'!$A$2:$D$1048576,2,0)),\"\")","v":""},null,null,null,null,null,"00:00:00",null,"00:00:00","00:00:00"]
[null,{"$f":"IFERROR(IF(A4968=\"\",\"\",VLOOKUP(A4968,'Banco de Funcionários'!$A$2:$D$1048576,2,0)),\"\")","v":""},null,null,null,null,null,"00:00:00",null,"00:00:00","00:00:00"]
[null,{"$f":"IFERROR(IF(A4973=\"\",\"\",VLOOKUP(A4973,'Banco de Funcionários'!$A$2:$D$1048576,2,0)),\"\")","v":""},null,null,null,null,null,"00:00:00",null,"00:00:00","00:00:00"]
[null,{"$f":"IFERROR(IF(A4974=\"\",\"\",VLOOKUP(A4974,'Banco de Funcionários'!$A$2:$D$1048576,2,0)),\"\")","v":""},null,null,null,null,null,"00:00:00",null,"00:00:00","00:00:00"]
[null,{"$f":"IFERROR(IF(A4979=\"\",\"\",VLOOKUP(A4979,'Banco de Funcionários'!$A$2:$D$1048576,2,0)),\"\")","v":""},null,null,null,null,null,"00:00:00",null,"00:00:00","00:00:00"]
[null,{"$f":"IFERROR(IF(A4984=\"\",\"\",VLOOKUP(A4984,'Banco de Funcionários'!$A$2:$D$1048576,2,0)),\"\")","v":""},null,null,null,null,null,"00:00:00",null,"00:00:00","00:00:00"]
[null,{"$f":"IFERROR(IF(A4990=\"\",\"\",VLOOKUP(A4990,'Banco de Funcionários'!$A$2:$D$1048576,2,0)),\"\")","v":""},null,null,null,null,null,"00:00:00",null,"00:00:00","00:00:00"]
[null,{"$f":"IFERROR(IF(A4995=\"\",\"\",VLOOKUP(A4995,'Banco de Funcionários'!$A$2:$D$1048576,2,0)),\"\")","v":""},null,null,null,null,null,{"$f":"(F4995-E4995)-G4995","v":"00:00:00"},null,{"$f":"IFERROR(H4995-I4995,\"\")","v":"00:00:00"},{"$f":"IFERROR(H4995+J4995,0)","v":"00:00:00"}]
[null,{"$f":"IFERROR(IF(A5001=\"\",\"\",VLOOKUP(A5001,'Banco de Funcionários'!$A$2:$D$1048576,2,0)),\"\")","v":""},null,null,null,null,null,"00:00:00",null,"00:00:00","00:00:00"]
[null,{"$f":"IFERROR(IF(A5007=\"\",\"\",VLOOKUP(A5007,'Banco de Funcionários'!$A$2:$D$1048576,2,0)),\"\")","v":""},null,null,null,null,null,"00:00:00",null,"00:00:00","00:00:00"]
[null,{"$f":"IFERROR(IF(A5010=\"\",\"\",VLOOKUP(A5010,'Banco de Funcionários'!$A$2:$D$1048576,2,0)),\"\")","v":""},null,null,null,null,null,"00:00:00",null,"00:00:00","00:00:00"]
[null,{"$f":"IFERROR(IF(A5016=\"\",\"\",VLOOKUP(A5016,'Banco de Funcionários'!$A$2:$D$1048576,2,0)),\"\")","v":""},null,null,null,null,null,"00:00:00",null,"00:00:00","00:00:00"]
[null,{"$f":"IFERROR(IF(A5021=\"\",\"\",VLOOKUP(A5021,'Banco de Funcionários'!$A$2:$D$1048576,2,0)),\"\")","v":""},null,null,null,null,null,"00:00:00",null,"00:00:00","00:00:00"]
[null,{"$f":"IFERROR(IF(A5026=\"\",\"\",VLOOKUP(A5026,'Banco de Funcionários'!$A$2:$D$1048576,2,0)),\"\")","v":""},null,null,null,null,null,"00:00:00",null,"00:00:00","00:00:00"]
[null,{"$f":"IFERROR(IF(A5032=\"\",\"\",VLOOKUP(A5032,'Banco de Funcionários'!$A$2:$D$1048576,2,0)),\"\")","v":""},null,null,null,null,null,"00:00:00",null,"00:00:00","00:00:00"]
[null,{"$f":"IFERROR(IF(A5037=\"\",\"\",VLOOKUP(A5037,'Banco de Funcionários'!$A$2:$D$1048576,2,0)),\"\")","v":""},null,null,null,null,null,"00:00:00",null,"00:00:00","00:00:00"]
[null,{"$f":"IFERROR(IF(A5038=\"\",\"\",VLOOKUP(A5038,'Banco de Funcionários'!$A$2:$D$1048576,2,0)),\"\")","v":""},null,null,null,null,null,"00:00:00",null,"00:00:00","00:00:00"]
[null,{"$f":"IFERROR(IF(A5043=\"\",\"\",VLOOKUP(A5043,'Banco de Funcionários'!$A$2:$D$1048576,2,0)),\"\")","v":""},null,null,null,null,null,"00:00:00",null,"00:00:00","00:00:00"]
[null,{"$f":"IFERROR(IF(A5048=\"\",\"\",VLOOKUP(A5048,'Banco de Funcionários'!$A$2:$D$1048576,2,0)),\"\")","v":""},null,null,null,null,null,"00:00:00",null,"00:00:00","00:00:00"]
[null,{"$f":"IFERROR(IF(A5054=\"\",\"\",VLOOKUP(A5054,'Banco de Funcionários'!$A$2:$D$1048576,2,0)),\"\")","v":""},null,null,null,null,null,"00:00:00",null,"00:00:00","00:00:00"]
[null,{"$f":"IFERROR(IF(A5059=\"\",\"\",VLOOKUP(A5059,'Banco de Funcionários'!$A$2:$D$1048576,2,0)),\"\")","v":""},null,null,null,null,null,{"$f":"(F5059-E5059)-G5059","v":"00:00:00"},null,{"$f":"IFERROR(H5059-I5059,\"\")","v":"00:00:00"},{"$f":"IFERROR(H5059+J5059,0)","v":"00:00:00"}]
[null,{"$f":"IFERROR(IF(A5065=\"\",\"\",VLOOKUP(A5065,'Banco de Funcionários'!$A$2:$D$1048576,2,0)),\"\")","v":""},null,null,null,null,null,"00:00:00",null,"00:00:00","00:00:00"]
[null,{"$f":"IFERROR(IF(A5070=\"\",\"\",VLOOKUP(A5070,'Banco de Funcionários'!$A$2:$D$1048576,2,0)),\"\")","v":""},null,null,null,null,null,"00:00:00",null,"00:00:00","00:00:00"]
[null,{"$f":"IFERROR(IF(A5075=\"\",\"\",VLOOKUP(A5075,'Banco de Funcionários'!$A$2:$D$1048576,2,0)),\"\")","v":""},null,null,null,null,null,"00:00:00",null,"00:00:00","00:00:00"]
[null,{"$f":"IFERROR(IF(A5081=\"\",\"\",VLOOKUP(A5081,'Banco de Funcionários'!$A$2:$D$1048576,2,0)),\"\")","v":""},null,null,null,null,null,"00:00:00",null,"00:00:00","00:00:00"]
[null,{"$f":"IFERROR(IF(A5086=\"\",\"\",VLOOKUP(A5086,'Banco de Funcionários'!$A$2:$D$1048576,2,0)),\"\")","v":""},null,null,null,null,null,"00:00:00",null,"00:00:00","00:00:00"]
[null,{"$f":"IFERROR(IF(A5091=\"\",\"\",VLOOKUP(A5091,'Banco de Funcionários'!$A$2:$D$1048576,2,0)),\"\")","v":""},null,null,null,null,null,"00:00:00",null,"00:00:00","00:00:00"]
[null,{"$f":"IFERROR(IF(A5097=\"\",\"\",VLOOKUP(A5097,'Banco de Funcionários'!$A$2:$D$1048576,2,0)),\"\")","v":""},null,null,null,null,null,"00:00:00",null,"00:00:00","00:00:00"]
[null,{"$f":"IFERROR(IF(A5102=\"\",\"\",VLOOKUP(A5102,'Banco de Funcionários'!$A$2:$D$1048576,2,0)),\"\")","v":""},null,null,null,null,null,"00:00:00",null,"00:00:00","00:00:00"]
[null,{"$f":"IFERROR(IF(A5103=\"\",\"\",VLOOKUP(A5103,'Banco de Funcionários'!$A$2:$D$1048576,2,0)),\"\")","v":""},null,null,null,null,null,"00:00:00",null,"00:00:00","00:00:00"]
[null,{"$f":"IFERROR(IF(A5108=\"\",\"\",VLOOKUP(A5108,'Banco de Funcionários'!$A$2:$D$1048576,2,0)),\"\")","v":""},null,null,null,null,null,"00:00:00",null,"00:00:00","00:00:00"]
[null,{"$f":"IFERROR(IF(A5113=\"\",\"\",VLOOKUP(A5113,'Banco de Funcionários'!$A$2:$D$1048576,2,0)),\"\")","v":""},null,null,null,null,null,"00:00:00",null,"00:00:00","00:00:00"]
[null,{"$f":"IFERROR(IF(A5120=\"\",\"\",VLOOKUP(A5120,'Banco de Funcionários'!$A$2:$D$1048576,2,0)),\"\")","v":""},null,null,null,null,null,"00:00:00",null,"00:00:00","00:00:00"]
[null,{"$f":"IFERROR(IF(A5123=\"\",\"\",VLOOKUP(A5123,'Banco de Funcionários'!$A$2:$D$1048576,2,0)),\"\")","v":""},null,null,null,null,null,{"$f":"(F5123-E5123)-G5123","v":"00:00:00"},null,{"$f":"IFERROR(H5123-I5123,\"\")","v":"00:00:00"},{"$f":"IFERROR(H5123+J5123,0)","v":"00:00:00"}]
[null,{"$f":"IFERROR(IF(A5129=\"\",\"\",VLOOKUP(A5129,'Banco de Funcionários'!$A$2:$D$1048576,2,0)),\"\")","v":""},null,null,null,null,null,"00:00:00",null,"00:00:00","00:00:00"]
[null,{"$f":"IFERROR(IF(A5134=\"\",\"\",VLOOKUP(A5134,'Banco de Funcionários'!$A$2:$D$1048576,2,0)),\"\")","v":""},null,null,null,null,null,"00:00:00",null,"00:00:00","00:00:00"]
[null,{"$f":"IFERROR(IF(A5139=\"\",\"\",VLOOKUP(A5139,'Banco de Funcionários'!$A$2:$D$1048576,2,0)),\"\")","v":""},null,null,null,null,null,"00:00:00",null,"00:00:00","00:00:00"]
[null,{"$f":"IFERROR(IF(A5145=\"\",\"\",VLOOKUP(A5145,'Banco de Funcionários'!$A$2:$D$1048576,2,0)),\"\")","v":""},null,null,null,null,null,"00:00:00",null,"00:00:00","00:00:00"]
[null,{"$f":"IFERROR(IF(A5150=\"\",\"\",VLOOKUP(A5150,'Banco de Funcionários'!$A$2:$D$1048576,2,0)),\"\")","v":""},null,null,null,null,null,"00:00:00",null,"00:00:00","00:00:00"]
[null,{"$f":"IFERROR(IF(A5155=\"\",\"\",VLOOKUP(A5155,'Banco de Funcionários'!$A$2:$D$1048576,2,0)),\"\")","v":""},null,null,null,null,null,"00:00:00",null,"00:00:00","00:00:00"]
[null,{"$f":"IFERROR(IF(A5161=\"\",\"\",VLOOKUP(A5161,'Banco de Funcionários'!$A$2:$D$1048576,2,0)),\"\")","v":""},null,null,null,null,null,"00:00:00",null,"00:00:00","00:00:00"]
[null,{"$f":"IFERROR(IF(A5166=\"\",\"\",VLOOKUP(A5166,'Banco de Funcionários'!$A$2:$D$1048576,2,0)),\"\")","v":""},null,null,null,null,null,"00:00:00",null,"00:00:00","00:00:00"]
[null,{"$f":"IFERROR(IF(A5167=\"\",\"\",VLOOKUP(A5167,'Banco de Funcionários'!$A$2:$D$1048576,2,0)),\"\")","v":""},null,null,null,null,null,"00:00:00",null,"00:00:00","00:00:00"]
[null,{"$f":"IFERROR(IF(A5172=\"\",\"\",VLOOKUP(A5172,'Banco de Funcionários'!$A$2:$D$1048576,2,0)),\"\")","v":""},null,null,null,null,null,"00:00:00",null,"00:00:00","00:00:00"]
[null,{"$f":"IFERROR(IF(A5177=\"\",\"\",VLOOKUP(A5177,'Banco de Funcionários'!$A$2:$D$1048576,2,0)),\"\")","v":""},null,null,null,null,null,"00:00:00",null,"00:00:00","00:00:00"]
[null,{"$f":"IFERROR(IF(A5183=\"\",\"\",VLOOKUP(A5183,'Banco de Funcionários'!$A$2:$D$1048576,2,0)),\"\")","v":""},null,null,null,null,null,"00:00:00",null,"00:00:00","00:00:00"]
[null,{"$f":"IFERROR(IF(A5188=\"\",\"\",VLOOKUP(A5188,'Banco de Funcionários'!$A$2:$D$1048576,2,0)),\"\")","v":""},null,null,null,null,null,"00:00:00",null,"00:00:00","00:00:00"]
[null,{"$f":"IFERROR(IF(A5193=\"\",\"\",VLOOKUP(A5193,'Banco de Funcionários'!$A$2:$D$1048576,2,0)),\"\")","v":""},null,null,null,null,null,"00:00:00",null,"00:00:00","00:00:00"]
[null,{"$f":"IFERROR(IF(A5199=\"\",\"\",VLOOKUP(A5199,'Banco de Funcionários'!$A$2:$D$1048576,2,0)),\"\")","v":""},null,null,null,null,null,"00:00:00",null,"00:00:00","00:00:00"]
[null,{"$f":"IFERROR(IF(A5204=\"\",\"\",VLOOKUP(A5204,'Banco de Funcionários'!$A$2:$D$1048576,2,0)),\"\")","v":""},null,null,null,null,null,"00:00:00",null,"00:00:00","00:00:00"]
[null,{"$f":"IFERROR(IF(A5210=\"\",\"\",VLOOKUP(A5210,'Banco de Funcionários'!$A$2:$D$1048576,2,0)),\"\")","v":""},null,null,null,null,null,"00:00:00",null,"00:00:00","00:00:00"]
[null,{"$f":"IFERROR(IF(A5215=\"\",\"\",VLOOKUP(A5215,'Banco de Funcionários'!$A$2:$D$1048576,2,0)),\"\")","v":""},null,null,null,null,null,"00:00:00",null,"00:00:00","00:00:00"]
[null,{"$f":"IFERROR(IF(A5220=\"\",\"\",VLOOKUP(A5220,'Banco de Funcionários'!$A$2:$D$1048576,2,0)),\"\")","v":""},null,null,null,null,null,"00:00:00",null,"00:00:00","00:00:00"]
[null,{"$f":"IFERROR(IF(A5226=\"\",\"\",VLOOKUP(A5226,'Banco de Funcionários'!$A$2:$D$1048576,2,0)),\"\")","v":""},null,null,null,null,null,"00:00:00",null,"00:00:00","00:00:00"]
[null,{"$f":"IFERROR(IF(A5227=\"\",\"\",VLOOKUP(A5227,'Banco de Funcionários'!$A$2:$D$1048576,2,0)),\"\")","v":""},null,null,null,null,null,"00:00:00",null,"00:00:00","00:00:00"]
[null,{"$f":"IFERROR(IF(A5231=\"\",\"\",VLOOKUP(A5231,'Banco de Funcionários'!$A$2:$D$1048576,2,0)),\"\")","v":""},null,null,null,null,null,"00:00:00",null,"00:00:00","00:00:00"]
[null,{"$f":"IFERROR(IF(A5236=\"\",\"\",VLOOKUP(A5236,'Banco de Funcionários'!$A$2:$D$1048576,2,0)),\"\")","v":""},null,null,null,null,null,"00:00:00",null,"00:00:00","00:00:00"]
[null,{"$f":"IFERROR(IF(A5241=\"\",\"\",VLOOKUP(A5241,'Banco de Funcionários'!$A$2:$D$1048576,2,0)),\"\")","v":""},null,null,null,null,null,"00:00:00",null,"00:00:00","00:00:00"]
[null,{"$f":"IFERROR(IF(A5247=\"\",\"\",VLOOKUP(A5247,'Banco de Funcionários'!$A$2:$D$1048576,2,0)),\"\")","v":""},null,null,null,null,null,"00:00:00",null,"00:00:00","00:00:00"]
[null,{"$f":"IFERROR(IF(A5252=\"\",\"\",VLOOKUP(A5252,'Banco de Funcionários'!$A$2:$D$1048576,2,0)),\"\")","v":""},null,null,null,null,null,"00:00:00",null,"00:00:00","00:00:00"]
[null,{"$f":"IFERROR(IF(A5257=\"\",\"\",VLOOKUP(A5257,'Banco de Funcionários'!$A$2:$D$1048576,2,0)),\"\")","v":""},null,null,null,null,null,"00:00:00",null,"00:00:00","00:00:00"]
[null,{"$f":"IFERROR(IF(A5263=\"\",\"\",VLOOKUP(A5263,'Banco de Funcionários'!$A$2:$D$1048576,2,0)),\"\")","v":""},null,null,null,null,null,"00:00:00",null,"00:00:00","00:00:00"]
[null,{"$f":"IFERROR(IF(A5268=\"\",\"\",VLOOKUP(A5268,'Banco de Funcionários'!$A$2:$D$1048576,2,0)),\"\")","v":""},null,null,null,null,null,"00:00:00",null,"00:00:00","00:00:00"]
[null,{"$f":"IFERROR(IF(A5274=\"\",\"\",VLOOKUP(A5274,'Banco de Funcionários'!$A$2:$D$1048576,2,0)),\"\")","v":""},null,null,null,null,null,"00:00:00",null,"00:00:00","00:00:00"]
[null,{"$f":"IFERROR(IF(A5279=\"\",\"\",VLOOKUP(A5279,'Banco de Funcionários'!$A$2:$D$1048576,2,0)),\"\")","v":""},null,null,null,null,null,"00:00:00",null,"00:00:00","00:00:00"]
[null,{"$f":"IFERROR(IF(A5284=\"\",\"\",VLOOKUP(A5284,'Banco de Funcionários'!$A$2:$D$1048576,2,0)),\"\")","v":""},null,null,null,null,null,"00:00:00",null,"00:00:00","00:00:00"]
[null,{"$f":"IFERROR(IF(A5290=\"\",\"\",VLOOKUP(A5290,'Banco de Funcionários'!$A$2:$D$1048576,2,0)),\"\")","v":""},null,null,null,null,null,"00:00:00",null,"00:00:00","00:00:00"]
[null,{"$f":"IFERROR(IF(A5295=\"\",\"\",VLOOKUP(A5295,'Banco de Funcionários'!$A$2:$D$1048576,2,0)),\"\")","v":""},null,null,null,null,null,"00:00:00",null,"00:00:00","00:00:00"]
[null,{"$f":"IFERROR(IF(A5296=\"\",\"\",VLOOKUP(A5296,'Banco de Funcionários'!$A$2:$D$1048576,2,0)),\"\")","v":""},null,null,null,null,null,"00:00:00",null,"00:00:00","00:00:00"]
[null,{"$f":"IFERROR(IF(A5301=\"\",\"\",VLOOKUP(A5301,'Banco de Funcionários'!$A$2:$D$1048576,2,0)),\"\")","v":""},null,null,null,null,null,"00:00:00",null,"00:00:00","00:00:00"]
[null,{"$f":"IFERROR(IF(A5306=\"\",\"\",VLOOKUP(A5306,'Banco de Funcionários'!$A$2:$D$1048576,2,0)),\"\")","v":""},null,null,null,null,null,"00:00:00",null,"00:00:00","00:00:00"]
[null,{"$f":"IFERROR(IF(A5312=\"\",\"\",VLOOKUP(A5312,'Banco de Funcionários'!$A$2:$D$1048576,2,0)),\"\")","v":""},null,null,null,null,null,"00:00:00",null,"00:00:00","00:00:00"]
[null,{"$f":"IFERROR(IF(A5317=\"\",\"\",VLOOKUP(A5317,'Banco de Funcionários'!$A$2:$D$1048576,2,0)),\"\")","v":""},null,null,null,null,null,"00:00:00",null,"00:00:00","00:00:00"]
[null,{"$f":"IFERROR(IF(A5322=\"\",\"\",VLOOKUP(A5322,'Banco de Funcionários'!$A$2:$D$1048576,2,0)),\"\")","v":""},null,null,null,null,null,"00:00:00",null,"00:00:00","00:00:00"]
[null,{"$f":"IFERROR(IF(A5328=\"\",\"\",VLOOKUP(A5328,'Banco de Funcionários'!$A$2:$D$1048576,2,0)),\"\")","v":""},null,null,null,null,null,"00:00:00",null,"00:00:00","00:00:00"]
[null,{"$f":"IFERROR(IF(A5333=\"\",\"\",VLOOKUP(A5333,'Banco de Funcionários'!$A$2:$D$1048576,2,0)),\"\")","v":""},null,null,null,null,null,"00:00:00",null,"00:00:00","00:00:00"]
[null,{"$f":"IFERROR(IF(A5339=\"\",\"\",VLOOKUP(A5339,'Banco de Funcionários'!$A$2:$D$1048576,2,0)),\"\")","v":""},null,null,null,null,null,"00:00:00",null,"00:00:00","00:00:00"]
[null,{"$f":"IFERROR(IF(A5344=\"\",\"\",VLOOKUP(A5344,'Banco de Funcionários'!$A$2:$D$1048576,2,0)),\"\")","v":""},null,null,null,null,null,"00:00:00",null,"00:00:00","00:00:00"]
[null,{"$f":"IFERROR(IF(A5348=\"\",\"\",VLOOKUP(A5348,'Banco de Funcionários'!$A$2:$D$1048576,2,0)),\"\")","v":""},null,null,null,null,null,"00:00:00",null,"00:00:00","00:00:00"]
[null,{"$f":"IFERROR(IF(A5354=\"\",\"\",VLOOKUP(A5354,'Banco de Funcionários'!$A$2:$D$1048576,2,0)),\"\")","v":""},null,null,null,null,null,"00:00:00",null,"00:00:00","00:00:00"]
[null,{"$f":"IFERROR(IF(A5359=\"\",\"\",VLOOKUP(A5359,'Banco de Funcionários'!$A$2:$D$1048576,2,0)),\"\")","v":""},null,null,null,null,null,"00:00:00",null,"00:00:00","00:00:00"]
[null,{"$f":"IFERROR(IF(A5364=\"\",\"\",VLOOKUP(A5364,'Banco de Funcionários'!$A$2:$D$1048576,2,0)),\"\")","v":""},null,null,null,null,null,"00:00:00",null,"00:00:00","00:00:00"]
[null,{"$f":"IFERROR(IF(A5365=\"\",\"\",VLOOKUP(A5365,'Banco de Funcionários'!$A$2:$D$1048576,2,0)),\"\")","v":""},null,null,null,null,null,"00:00:00",null,"00:00:00","00:00:00"]
[null,{"$f":"IFERROR(IF(A5370=\"\",\"\",VLOOKUP(A5370,'Banco de Funcionários'!$A$2:$D$1048576,2,0)),\"\")","v":""},null,null,null,null,null,"00:00:00",null,"00:00:00","00:00:00"]
[null,{"$f":"IFERROR(IF(A5376=\"\",\"\",VLOOKUP(A5376,'Banco de Funcionários'!$A$2:$D$1048576,2,0)),\"\")","v":""},null,null,null,null,null,"00:00:00",null,"00:00:00","00:00:00"]
[null,{"$f":"IFERROR(IF(A5381=\"\",\"\",VLOOKUP(A5381,'Banco de Funcionários'!$A$2:$D$1048576,2,0)),\"\")","v":""},null,null,null,null,null,"00:00:00",null,"00:00:00","00:00:00"]
[null,{"$f":"IFERROR(IF(A5386=\"\",\"\",VLOOKUP(A5386,'Banco de Funcionários'!$A$2:$D$1048576,2,0)),\"\")","v":""},null,null,null,null,null,"00:00:00",null,"00:00:00","00:00:00"]
[null,{"$f":"IFERROR(IF(A5392=\"\",\"\",VLOOKUP(A5392,'Banco de Funcionários'!$A$2:$D$1048576,2,0)),\"\")","v":""},null,null,null,null,null,"00:00:00",null,"00:00:00","00:00:00"]
[null,{"$f":"IFERROR(IF(A5397=\"\",\"\",VLOOKUP(A5397,'Banco de Funcionários'!$A$2:$D$1048576,2,0)),\"\")","v":""},null,null,null,null,null,"00:00:00",null,"00:00:00","00:00:00"]
[null,{"$f":"IFERROR(IF(A5403=\"\",\"\",VLOOKUP(A5403,'Banco de Funcionários'!$A$2:$D$1048576,2,0)),\"\")","v":""},null,null,null,null,null,"00:00:00",null,"00:00:00","00:00:00"]
[null,{"$f":"IFERROR(IF(A5408=\"\",\"\",VLOOKUP(A5408,'Banco de Funcionários'!$A$2:$D$1048576,2,0)),\"\")","v":""},null,null,null,null,null,"00:00:00",null,"00:00:00","00:00:00"]
[null,{"$f":"IFERROR(IF(A5413=\"\",\"\",VLOOKUP(A5413,'Banco de Funcionários'!$A$2:$D$1048576,2,0)),\"\")","v":""},null,null,null,null,null,"00:00:00",null,"00:00:00","00:00:00"]
[null,{"$f":"IFERROR(IF(A5419=\"\",\"\",VLOOKUP(A5419,'Banco de Funcionários'!$A$2:$D$1048576,2,0)),\"\")","v":""},null,null,null,null,null,"00:00:00",null,"00:00:00","00:00:00"]
[null,{"$f":"IFERROR(IF(A5424=\"\",\"\",VLOOKUP(A5424,'Banco de Funcionários'!$A$2:$D$1048576,2,0)),\"\")","v":""},null,null,null,null,null,"00:00:00",null,"00:00:00","00:00:00"]
[null,{"$f":"IFERROR(IF(A5429=\"\",\"\",VLOOKUP(A5429,'Banco de Funcionários'!$A$2:$D$1048576,2,0)),\"\")","v":""},null,null,null,null,null,"00:00:00",null,"00:00:00","00:00:00"]
[null,{"$f":"IFERROR(IF(A5430=\"\",\"\",VLOOKUP(A5430,'Banco de Funcionários'!$A$2:$D$1048576,2,0)),\"\")","v":""},null,null,null,null,null,"00:00:00",null,"00:00:00","00:00:00"]
[null,{"$f":"IFERROR(IF(A5435=\"\",\"\",VLOOKUP(A5435,'Banco de Funcionários'!$A$2:$D$1048576,2,0)),\"\")","v":""},null,null,null,null,null,"00:00:00",null,"00:00:00","00:00:00"]
[null,{"$f":"IFERROR(IF(A5441=\"\",\"\",VLOOKUP(A5441,'Banco de Funcionários'!$A$2:$D$1048576,2,0)),\"\")","v":""},null,null,null,null,null,"00:00:00",null,"00:00:00","00:00:00"]
[null,{"$f":"IFERROR(IF(A5446=\"\",\"\",VLOOKUP(A5446,'Banco de Funcionários'!$A$2:$D$1048576,2,0)),\"\")","v":""},null,null,null,null,null,"00:00:00",null,"00:00:00","00:00:00"]
[null,{"$f":"IFERROR(IF(A5451=\"\",\"\",VLOOKUP(A5451,'Banco de Funcionários'!$A$2:$D$1048576,2,0)),\"\")","v":""},null,null,null,null,null,"00:00:00",null,"00:00:00","00:00:00"]
[null,{"$f":"IFERROR(IF(A5456=\"\",\"\",VLOOKUP(A5456,'Banco de Funcionários'!$A$2:$D$1048576,2,0)),\"\")","v":""},null,null,null,null,null,"00:00:00",null,"00:00:00","00:00:00"]
[null,{"$f":"IFERROR(IF(A5461=\"\",\"\",VLOOKUP(A5461,'Banco de Funcionários'!$A$2:$D$1048576,2,0)),\"\")","v":""},null,null,null,null,null,"00:00:00",null,"00:00:00","00:00:00"]
[null,{"$f":"IFERROR(IF(A5466=\"\",\"\",VLOOKUP(A5466,'Banco de Funcionários'!$A$2:$D$1048576,2,0)),\"\")","v":""},null,null,null,null,null,"00:00:00",null,"00:00:00","00:00:00"]
[null,{"$f":"IFERROR(IF(A5472=\"\",\"\",VLOOKUP(A5472,'Banco de Funcionários'!$A$2:$D$1048576,2,0)),\"\")","v":""},null,null,null,null,null,"00:00:00",null,"00:00:00","00:00:00"]
[null,{"$f":"IFERROR(IF(A5477=\"\",\"\",VLOOKUP(A5477,'Banco de Funcionários'!$A$2:$D$1048576,2,0)),\"\")","v":""},null,null,null,null,null,"00:00:00",null,"00:00:00","00:00:00"]
[null,{"$f":"IFERROR(IF(A5483=\"\",\"\",VLOOKUP(A5483,'Banco de Funcionários'!$A$2:$D$1048576,2,0)),\"\")","v":""},null,null,null,null,null,"00:00:00",null,"00:00:00","00:00:00"]
[null,{"$f":"IFERROR(IF(A5488=\"\",\"\",VLOOKUP(A5488,'Banco de Funcionários'!$A$2:$D$1048576,2,0)),\"\")","v":""},null,null,null,null,null,"00:00:00",null,"00:00:00","00:00:00"]
[null,{"$f":"IFERROR(IF(A5493=\"\",\"\",VLOOKUP(A5493,'Banco de Funcionários'!$A$2:$D$1048576,2,0)),\"\")","v":""},null,null,null,null,null,"00:00:00",null,"00:00:00","00:00:00"]
[null,{"$f":"IFERROR(IF(A5494=\"\",\"\",VLOOKUP(A5494,'Banco de Funcionários'!$A$2:$D$1048576,2,0)),\"\")","v":""},null,null,null,null,null,"00:00:00",null,"00:00:00","00:00:00"]
[null,{"$f":"IFERROR(IF(A5499=\"\",\"\",VLOOKUP(A5499,'Banco de Funcionários'!$A$2:$D$1048576,2,0)),\"\")","v":""},null,null,null,null,null,"00:00:00",null,"00:00:00","00:00:00"]
[null,{"$f":"IFERROR(IF(A5505=\"\",\"\",VLOOKUP(A5505,'Banco de Funcionários'!$A$2:$D$1048576,2,0)),\"\")","v":""},null,null,null,null,null,"00:00:00",null,"00:00:00","00:00:00"]
[null,{"$f":"IFERROR(IF(A5510=\"\",\"\",VLOOKUP(A5510,'Banco de Funcionários'!$A$2:$D$1048576,2,0)),\"\")","v":""},null,null,null,null,null,"00:00:00",null,"00:00:00","00:00:00"]
[null,{"$f":"IFERROR(IF(A5515=\"\",\"\",VLOOKUP(A5515,'Banco de Funcionários'!$A$2:$D$1048576,2,0)),\"\")","v":""},null,null,null,null,null,"00:00:00",null,"00:00:00","00:00:00"]
[null,{"$f":"IFERROR(IF(A5521=\"\",\"\",VLOOKUP(A5521,'Banco de Funcionários'!$A$2:$D$1048576,2,0)),\"\")","v":""},null,null,null,null,null,"00:00:00",null,"00:00:00","00:00:00"]
[null,{"$f":"IFERROR(IF(A5526=\"\",\"\",VLOOKUP(A5526,'Banco de Funcionários'!$A$2:$D$1048576,2,0)),\"\")","v":""},null,null,null,null,null,"00:00:00",null,"00:00:00","00:00:00"]
[null,{"$f":"IFERROR(IF(A5531=\"\",\"\",VLOOKUP(A5531,'Banco de Funcionários'!$A$2:$D$1048576,2,0)),\"\")","v":""},null,null,null,null,null,"00:00:00",null,"00:00:00","00:00:00"]
[null,{"$f":"IFERROR(IF(A5537=\"\",\"\",VLOOKUP(A5537,'Banco de Funcionários'!$A$2:$D$1048576,2,0)),\"\")","v":""},null,null,null,null,null,"00:00:00",null,"00:00:00","00:00:00"]
[null,{"$f":"IFERROR(IF(A5542=\"\",\"\",VLOOKUP(A5542,'Banco de Funcionários'!$A$2:$D$1048576,2,0)),\"\")","v":""},null,null,null,null,null,"00:00:00",null,"00:00:00","00:00:00"]
[null,{"$f":"IFERROR(IF(A5548=\"\",\"\",VLOOKUP(A5548,'Banco de Funcionários'!$A$2:$D$1048576,2,0)),\"\")","v":""},null,null,null,null,null,"00:00:00",null,"00:00:00","00:00:00"]
[null,{"$f":"IFERROR(IF(A5553=\"\",\"\",VLOOKUP(A5553,'Banco de Funcionários'!$A$2:$D$1048576,2,0)),\"\")","v":""},null,null,null,null,null,"00:00:00",null,"00:00:00","00:00:00"]
[null,{"$f":"IFERROR(IF(A5558=\"\",\"\",VLOOKUP(A5558,'Banco de Funcionários'!$A$2:$D$1048576,2,0)),\"\")","v":""},null,null,null,null,null,"00:00:00",null,"00:00:00","00:00:00"]
[null,{"$f":"IFERROR(IF(A5559=\"\",\"\",VLOOKUP(A5559,'Banco de Funcionários'!$A$2:$D$1048576,2,0)),\"\")","v":""},null,null,null,null,null,"00:00:00",null,"00:00:00","00:00:00"]
[null,{"$f":"IFERROR(IF(A5564=\"\",\"\",VLOOKUP(A5564,'Banco de Funcionários'!$A$2:$D$1048576,2,0)),\"\")","v":""},null,null,null,null,null,"00:00:00",null,"00:00:00","00:00:00"]
[null,{"$f":"IFERROR(IF(A5569=\"\",\"\",VLOOKUP(A5569,'Banco de Funcionários'!$A$2:$D$1048576,2,0)),\"\")","v":""},null,null,null,null,null,"00:00:00",null,"00:00:00","00:00:00"]
[null,{"$f":"IFERROR(IF(A5574=\"\",\"\",VLOOKUP(A5574,'Banco de Funcionários'!$A$2:$D$1048576,2,0)),\"\")","v":""},null,null,null,null,null,"00:00:00",null,"00:00:00","00:00:00"]
[null,{"$f":"IFERROR(IF(A5579=\"\",\"\",VLOOKUP(A5579,'Banco de Funcionários'!$A$2:$D$1048576,2,0)),\"\")","v":""},null,null,null,null,null,"00:00:00",null,"00:00:00","00:00:00"]
[null,{"$f":"IFERROR(IF(A5585=\"\",\"\",VLOOKUP(A5585,'Banco de Funcionários'!$A$2:$D$1048576,2,0)),\"\")","v":""},null,null,null,null,null,"00:00:00",null,"00:00:00","00:00:00"]
[null,{"$f":"IFERROR(IF(A5590=\"\",\"\",VLOOKUP(A5590,'Banco de Funcionários'!$A$2:$D$1048576,2,0)),\"\")","v":""},null,null,null,null,null,"00:00:00",null,"00:00:00","00:00:00"]
[null,{"$f":"IFERROR(IF(A5595=\"\",\"\",VLOOKUP(A5595,'Banco de Funcionários'!$A$2:$D$1048576,2,0)),\"\")","v":""},null,null,null,null,null,"00:00:00",null,"00:00:00","00:00:00"]
[null,{"$f":"IFERROR(IF(A5601=\"\",\"\",VLOOKUP(A5601,'Banco de Funcionários'!$A$2:$D$1048576,2,0)),\"\")","v":""},null,null,null,null,null,"00:00:00",null,"00:00:00","00:00:00"]
[null,{"$f":"IFERROR(IF(A5606=\"\",\"\",VLOOKUP(A5606,'Banco de Funcionários'!$A$2:$D$1048576,2,0)),\"\")","v":""},null,null,null,null,null,"00:00:00",null,"00:00:00","00:00:00"]
[null,{"$f":"IFERROR(IF(A5612=\"\",\"\",VLOOKUP(A5612,'Banco de Funcionários'!$A$2:$D$1048576,2,0)),\"\")","v":""},null,null,null,null,null,"00:00:00",null,"00:00:00","00:00:00"]
[null,{"$f":"IFERROR(IF(A5617=\"\",\"\",VLOOKUP(A5617,'Banco de Funcionários'!$A$2:$D$1048576,2,0)),\"\")","v":""},null,null,null,null,null,"00:00:00",null,"00:00:00","00:00:00"]
[null,{"$f":"IFERROR(IF(A5622=\"\",\"\",VLOOKUP(A5622,'Banco de Funcionários'!$A$2:$D$1048576,2,0)),\"\")","v":""},null,null,null,null,null,"00:00:00",null,"00:00:00","00:00:00"]
[null,{"$f":"IFERROR(IF(A5623=\"\",\"\",VLOOKUP(A5623,'Banco de Funcionários'!$A$2:$D$1048576,2,0)),\"\")","v":""},null,null,null,null,null,"00:00:00",null,"00:00:00","00:00:00"]
[null,{"$f":"IFERROR(IF(A5628=\"\",\"\",VLOOKUP(A5628,'Banco de Funcionários'!$A$2:$D$1048576,2,0)),\"\")","v":""},null,null,null,null,null,"00:00:00",null,"00:00:00","00:00:00"]
[null,{"$f":"IFERROR(IF(A5633=\"\",\"\",VLOOKUP(A5633,'Banco de Funcionários'!$A$2:$D$1048576,2,0)),\"\")","v":""},null,null,null,null,null,"00:00:00",null,"00:00:00","00:00:00"]
[null,{"$f":"IFERROR(IF(A5639=\"\",\"\",VLOOKUP(A5639,'Banco de Funcionários'!$A$2:$D$1048576,2,0)),\"\")","v":""},null,null,null,null,null,"00:00:00",null,"00:00:00","00:00:00"]
[null,{"$f":"IFERROR(IF(A5644=\"\",\"\",VLOOKUP(A5644,'Banco de Funcionários'!$A$2:$D$1048576,2,0)),\"\")","v":""},null,null,null,null,null,"00:00:00",null,"00:00:00","00:00:00"]
[null,{"$f":"IFERROR(IF(A5650=\"\",\"\",VLOOKUP(A5650,'Banco de Funcionários'!$A$2:$D$1048576,2,0)),\"\")","v":""},null,null,null,null,null,"00:00:00",null,"00:00:00","00:00:00"]
[null,{"$f":"IFERROR(IF(A5655=\"\",\"\",VLOOKUP(A5655,'Banco de Funcionários'!$A$2:$D$1048576,2,0)),\"\")","v":""},null,null,null,null,null,"00:00:00",null,"00:00:00","00:00:00"]
[null,{"$f":"IFERROR(IF(A5660=\"\",\"\",VLOOKUP(A5660,'Banco de Funcionários'!$A$2:$D$1048576,2,0)),\"\")","v":""},null,null,null,null,null,"00:00:00",null,"00:00:00","00:00:00"]
[null,{"$f":"IFERROR(IF(A5666=\"\",\"\",VLOOKUP(A5666,'Banco de Funcionários'!$A$2:$D$1048576,2,0)),\"\")","v":""},null,null,null,null,null,"00:00:00",null,"00:00:00","00:00:00"]
[null,{"$f":"IFERROR(IF(A5671=\"\",\"\",VLOOKUP(A5671,'Banco de Funcionários'!$A$2:$D$1048576,2,0)),\"\")","v":""},null,null,null,null,null,"00:00:00",null,"00:00:00","00:00:00"]
[null,{"$f":"IFERROR(IF(A5675=\"\",\"\",VLOOKUP(A5675,'Banco de Funcionários'!$A$2:$D$1048576,2,0)),\"\")","v":""},null,null,null,null,null,"00:00:00",null,"00:00:00","00:00:00"]
[null,{"$f":"IFERROR(IF(A5681=\"\",\"\",VLOOKUP(A5681,'Banco de Funcionários'!$A$2:$D$1048576,2,0)),\"\")","v":""},null,null,null,null,null,"00:00:00",null,"00:00:00","00:00:00"]
[null,{"$f":"IFERROR(IF(A5686=\"\",\"\",VLOOKUP(A5686,'Banco de Funcionários'!$A$2:$D$1048576,2,0)),\"\")","v":""},null,null,null,null,null,"00:00:00",null,"00:00:00","00:00:00"]
[null,{"$f":"IFERROR(IF(A5687=\"\",\"\",VLOOKUP(A5687,'Banco de Funcionários'!$A$2:$D$1048576,2,0)),\"\")","v":""},null,null,null,null,null,"00:00:00",null,"00:00:00","00:00:00"]
[null,{"$f":"IFERROR(IF(A5692=\"\",\"\",VLOOKUP(A5692,'Banco de Funcionários'!$A$2:$D$1048576,2,0)),\"\")","v":""},null,null,null,null,null,"00:00:00",null,"00:00:00","00:00:00"]
[null,{"$f":"IFERROR(IF(A5697=\"\",\"\",VLOOKUP(A5697,'Banco de Funcionários'!$A$2:$D$1048576,2,0)),\"\")","v":""},null,null,null,null,null,"00:00:00",null,"00:00:00","00:00:00"]
[null,{"$f":"IFERROR(IF(A5703=\"\",\"\",VLOOKUP(A5703,'Banco de Funcionários'!$A$2:$D$1048576,2,0)),\"\")","v":""},null,null,null,null,null,"00:00:00",null,"00:00:00","00:00:00"]
[null,{"$f":"IFERROR(IF(A5708=\"\",\"\",VLOOKUP(A5708,'Banco de Funcionários'!$A$2:$D$1048576,2,0)),\"\")","v":""},null,null,null,null,null,"00:00:00",null,"00:00:00","00:00:00"]
[null,{"$f":"IFERROR(IF(A5714=\"\",\"\",VLOOKUP(A5714,'Banco de Funcionários'!$A$2:$D$1048576,2,0)),\"\")","v":""},null,null,null,null,null,"00:00:00",null,"00:00:00","00:00:00"]
[null,{"$f":"IFERROR(IF(A5719=\"\",\"\",VLOOKUP(A5719,'Banco de Funcionários'!$A$2:$D$1048576,2,0)),\"\")","v":""},null,null,null,null,null,"00:00:00",null,"00:00:00","00:00:00"]
[null,{"$f":"IFERROR(IF(A5724=\"\",\"\",VLOOKUP(A5724,'Banco de Funcionários'!$A$2:$D$1048576,2,0)),\"\")","v":""},null,null,null,null,null,"00:00:00",null,"00:00:00","00:00:00"]
[null,{"$f":"IFERROR(IF(A5730=\"\",\"\",VLOOKUP(A5730,'Banco de Funcionários'!$A$2:$D$1048576,2,0)),\"\")","v":""},null,null,null,null,null,"00:00:00",null,"00:00:00","00:00:00"]
[null,{"$f":"IFERROR(IF(A5735=\"\",\"\",VLOOKUP(A5735,'Banco de Funcionários'!$A$2:$D$1048576,2,0)),\"\")","v":""},null,null,null,null,null,"00:00:00",null,"00:00:00","00:00:00"]
[null,{"$f":"IFERROR(IF(A5741=\"\",\"\",VLOOKUP(A5741,'Banco de Funcionários'!$A$2:$D$1048576,2,0)),\"\")","v":""},null,null,null,null,null,"00:00:00",null,"00:00:00","00:00:00"]
[null,{"$f":"IFERROR(IF(A5746=\"\",\"\",VLOOKUP(A5746,'Banco de Funcionários'!$A$2:$D$1048576,2,0)),\"\")","v":""},null,null,null,null,null,"00:00:00",null,"00:00:00","00:00:00"]
[null,{"$f":"IFERROR(IF(A5751=\"\",\"\",VLOOKUP(A5751,'Banco de Funcionários'!$A$2:$D$1048576,2,0)),\"\")","v":""},null,null,null,null,null,"00:00:00",null,"00:00:00","00:00:00"]
[null,{"$f":"IFERROR(IF(A5752=\"\",\"\",VLOOKUP(A5752,'Banco de Funcionários'!$A$2:$D$1048576,2,0)),\"\")","v":""},null,null,null,null,null,"00:00:00",null,"00:00:00","00:00:00"]
[null,{"$f":"IFERROR(IF(A5757=\"\",\"\",VLOOKUP(A5757,'Banco de Funcionários'!$A$2:$D$1048576,2,0)),\"\")","v":""},null,null,null,null,null,"00:00:00",null,"00:00:00","00:00:00"]
[null,{"$f":"IFERROR(IF(A5762=\"\",\"\",VLOOKUP(A5762,'Banco de Funcionários'!$A$2:$D$1048576,2,0)),\"\")","v":""},null,null,null,null,null,"00:00:00",null,"00:00:00","00:00:00"]
[null,{"$f":"IFERROR(IF(A5768=\"\",\"\",VLOOKUP(A5768,'Banco de Funcionários'!$A$2:$D$1048576,2,0)),\"\")","v":""},null,null,null,null,null,"00:00:00",null,"00:00:00","00:00:00"]
[null,{"$f":"IFERROR(IF(A5773=\"\",\"\",VLOOKUP(A5773,'Banco de Funcionários'!$A$2:$D$1048576,2,0)),\"\")","v":""},null,null,null,null,null,"00:00:00",null,"00:00:00","00:00:00"]
[null,{"$f":"IFERROR(IF(A5779=\"\",\"\",VLOOKUP(A5779,'Banco de Funcionários'!$A$2:$D$1048576,2,0)),\"\")","v":""},null,null,null,null,null,"00:00:00",null,"00:00:00","00:00:00"]
[null,{"$f":"IFERROR(IF(A5784=\"\",\"\",VLOOKUP(A5784,'Banco de Funcionários'!$A$2:$D$1048576,2,0)),\"\")","v":""},null,null,null,null,null,"00:00:00",null,"00:00:00","00:00:00"]
[null,{"$f":"IFERROR(IF(A5788=\"\",\"\",VLOOKUP(A5788,'Banco de Funcionários'!$A$2:$D$1048576,2,0)),\"\")","v":""},null,null,null,null,null,"00:00:00",null,"00:00:00","00:00:00"]
[null,{"$f":"IFERROR(IF(A5794=\"\",\"\",VLOOKUP(A5794,'Banco de Funcionários'!$A$2:$D$1048576,2,0)),\"\")","v":""},null,null,null,null,null,"00:00:00",null,"00:00:00","00:00:00"]
[null,{"$f":"IFERROR(IF(A5799=\"\",\"\",VLOOKUP(A5799,'Banco de Funcionários'!$A$2:$D$1048576,2,0)),\"\")","v":""},null,null,null,null,null,"00:00:00",null,"00:00:00","00:00:00"]
[null,{"$f":"IFERROR(IF(A5804=\"\",\"\",VLOOKUP(A5804,'Banco de Funcionários'!$A$2:$D$1048576,2,0)),\"\")","v":""},null,null,null,null,null,"00:00:00",null,"00:00:00","00:00:00"]
[null,{"$f":"IFERROR(IF(A5810=\"\",\"\",VLOOKUP(A5810,'Banco de Funcionários'!$A$2:$D$1048576,2,0)),\"\")","v":""},null,null,null,null,null,"00:00:00",null,"00:00:00","00:00:00"]
[null,{"$f":"IFERROR(IF(A5815=\"\",\"\",VLOOKUP(A5815,'Banco de Funcionários'!$A$2:$D$1048576,2,0)),\"\")","v":""},null,null,null,null,null,"00:00:00",null,"00:00:00","00:00:00"]
[null,{"$f":"IFERROR(IF(A5816=\"\",\"\",VLOOKUP(A5816,'Banco de Funcionários'!$A$2:$D$1048576,2,0)),\"\")","v":""},null,null,null,null,null,"00:00:00",null,"00:00:00","00:00:00"]
[null,{"$f":"IFERROR(IF(A5821=\"\",\"\",VLOOKUP(A5821,'Banco de Funcionários'!$A$2:$D$1048576,2,0)),\"\")","v":""},null,null,null,null,null,"00:00:00",null,"00:00:00","00:00:00"]
[null,{"$f":"IFERROR(IF(A5826=\"\",\"\",VLOOKUP(A5826,'Banco de Funcionários'!$A$2:$D$1048576,2,0)),\"\")","v":""},null,null,null,null,null,"00:00:00",null,"00:00:00","00:00:00"]
[null,{"$f":"IFERROR(IF(A5832=\"\",\"\",VLOOKUP(A5832,'Banco de Funcionários'!$A$2:$D$1048576,2,0)),\"\")","v":""},null,null,null,null,null,"00:00:00",null,"00:00:00","00:00:00"]
[null,{"$f":"IFERROR(IF(A5837=\"\",\"\",VLOOKUP(A5837,'Banco de Funcionários'!$A$2:$D$1048576,2,0)),\"\")","v":""},null,null,null,null,null,"00:00:00",null,"00:00:00","00:00:00"]
[null,{"$f":"IFERROR(IF(A5843=\"\",\"\",VLOOKUP(A5843,'Banco de Funcionários'!$A$2:$D$1048576,2,0)),\"\")","v":""},null,null,null,null,null,"00:00:00",null,"00:00:00","00:00:00"]
[null,{"$f":"IFERROR(IF(A5848=\"\",\"\",VLOOKUP(A5848,'Banco de Funcionários'!$A$2:$D$1048576,2,0)),\"\")","v":""},null,null,null,null,null,"00:00:00",null,"00:00:00","00:00:00"]
[null,{"$f":"IFERROR(IF(A5853=\"\",\"\",VLOOKUP(A5853,'Banco de Funcionários'!$A$2:$D$1048576,2,0)),\"\")","v":""},null,null,null,null,null,"00:00:00",null,"00:00:00","00:00:00"]
[null,{"$f":"IFERROR(IF(A5859=\"\",\"\",VLOOKUP(A5859,'Banco de Funcionários'!$A$2:$D$1048576,2,0)),\"\")","v":""},null,null,null,null,null,"00:00:00",null,"00:00:00","00:00:00"]
[null,{"$f":"IFERROR(IF(A5864=\"\",\"\",VLOOKUP(A5864,'Banco de Funcionários'!$A$2:$D$1048576,2,0)),\"\")","v":""},null,null,null,null,null,"00:00:00",null,"00:00:00","00:00:00"]
[null,{"$f":"IFERROR(IF(A5869=\"\",\"\",VLOOKUP(A5869,'Banco de Funcionários'!$A$2:$D$1048576,2,0)),\"\")","v":""},null,null,null,null,null,"00:00:00",null,"00:00:00","00:00:00"]
[null,{"$f":"IFERROR(IF(A5875=\"\",\"\",VLOOKUP(A5875,'Banco de Funcionários'!$A$2:$D$1048576,2,0)),\"\")","v":""},null,null,null,null,null,"00:00:00",null,"00:00:00","00:00:00"]
[null,{"$f":"IFERROR(IF(A5880=\"\",\"\",VLOOKUP(A5880,'Banco de Funcionários'!$A$2:$D$1048576,2,0)),\"\")","v":""},null,null,null,null,null,"00:00:00",null,"00:00:00","00:00:00"]
[null,{"$f":"IFERROR(IF(A5881=\"\",\"\",VLOOKUP(A5881,'Banco de Funcionários'!$A$2:$D$1048576,2,0)),\"\")","v":""},null,null,null,null,null,"00:00:00",null,"00:00:00","00:00:00"]
[null,{"$f":"IFERROR(IF(A5886=\"\",\"\",VLOOKUP(A5886,'Banco de Funcionários'!$A$2:$D$1048576,2,0)),\"\")","v":""},null,null,null,null,null,"00:00:00",null,"00:00:00","00:00:00"]
[null,{"$f":"IFERROR(IF(A5891=\"\",\"\",VLOOKUP(A5891,'Banco de Funcionários'!$A$2:$D$1048576,2,0)),\"\")","v":""},null,null,null,null,null,{"$f":"(F5891-E5891)-G5891","v":"00:00:00"},null,{"$f":"IFERROR(H5891-I5891,\"\")","v":"00:00:00"},{"$f":"IFERROR(H5891+J5891,0)","v":"00:00:00"}]
[null,{"$f":"IFERROR(IF(A5899=\"\",\"\",VLOOKUP(A5899,'Banco de Funcionários'!$A$2:$D$1048576,2,0)),\"\")","v":""},null,null,null,null,null,"00:00:00",null,"00:00:00","00:00:00"]
[null,{"$f":"IFERROR(IF(A5901=\"\",\"\",VLOOKUP(A5901,'Banco de Funcionários'!$A$2:$D$1048576,2,0)),\"\")","v":""},null,null,null,null,null,"00:00:00",null,"00:00:00","00:00:00"]
[null,{"$f":"IFERROR(IF(A5906=\"\",\"\",VLOOKUP(A5906,'Banco de Funcionários'!$A$2:$D$1048576,2,0)),\"\")","v":""},null,null,null,null,null,"00:00:00",null,"00:00:00","00:00:00"]
[null,{"$f":"IFERROR(IF(A5912=\"\",\"\",VLOOKUP(A5912,'Banco de Funcionários'!$A$2:$D$1048576,2,0)),\"\")","v":""},null,null,null,null,null,"00:00:00",null,"00:00:00","00:00:00"]
[null,{"$f":"IFERROR(IF(A5917=\"\",\"\",VLOOKUP(A5917,'Banco de Funcionários'!$A$2:$D$1048576,2,0)),\"\")","v":""},null,null,null,null,null,"00:00:00",null,"00:00:00","00:00:00"]
[null,{"$f":"IFERROR(IF(A5923=\"\",\"\",VLOOKUP(A5923,'Banco de Funcionários'!$A$2:$D$1048576,2,0)),\"\")","v":""},null,null,null,null,null,"00:00:00",null,"00:00:00","00:00:00"]
[null,{"$f":"IFERROR(IF(A5928=\"\",\"\",VLOOKUP(A5928,'Banco de Funcionários'!$A$2:$D$1048576,2,0)),\"\")","v":""},null,null,null,null,null,"00:00:00",null,"00:00:00","00:00:00"]
[null,{"$f":"IFERROR(IF(A5933=\"\",\"\",VLOOKUP(A5933,'Banco de Funcionários'!$A$2:$D$1048576,2,0)),\"\")","v":""},null,null,null,null,null,"00:00:00",null,"00:00:00","00:00:00"]
[null,{"$f":"IFERROR(IF(A5939=\"\",\"\",VLOOKUP(A5939,'Banco de Funcionários'!$A$2:$D$1048576,2,0)),\"\")","v":""},null,null,null,null,null,"00:00:00",null,"00:00:00","00:00:00"]
[null,{"$f":"IFERROR(IF(A5944=\"\",\"\",VLOOKUP(A5944,'Banco de Funcionários'!$A$2:$D$1048576,2,0)),\"\")","v":""},null,null,null,null,null,"00:00:00",null,"00:00:00","00:00:00"]
[null,{"$f":"IFERROR(IF(A5945=\"\",\"\",VLOOKUP(A5945,'Banco de Funcionários'!$A$2:$D$1048576,2,0)),\"\")","v":""},null,null,null,null,null,"00:00:00",null,"00:00:00","00:00:00"]
[null,{"$f":"IFERROR(IF(A5950=\"\",\"\",VLOOKUP(A5950,'Banco de Funcionários'!$A$2:$D$1048576,2,0)),\"\")","v":""},null,null,null,null,null,"00:00:00",null,"00:00:00","00:00:00"]
[null,{"$f":"IFERROR(IF(A5955=\"\",\"\",VLOOKUP(A5955,'Banco de Funcionários'!$A$2:$D$1048576,2,0)),\"\")","v":""},null,null,null,null,null,{"$f":"(F5955-E5955)-G5955","v":"00:00:00"},null,{"$f":"IFERROR(H5955-I5955,\"\")","v":"00:00:00"},{"$f":"IFERROR(H5955+J5955,0)","v":"00:00:00"}]
[null,{"$f":"IFERROR(IF(A5961=\"\",\"\",VLOOKUP(A5961,'Banco de Funcionários'!$A$2:$D$1048576,2,0)),\"\")","v":""},null,null,null,null,null,"00:00:00",null,"00:00:00","00:00:00"]
[null,{"$f":"IFERROR(IF(A5966=\"\",\"\",VLOOKUP(A5966,'Banco de Funcionários'!$A$2:$D$1048576,2,0)),\"\")","v":""},null,null,null,null,null,"00:00:00",null,"00:00:00","00:00:00"]
[null,{"$f":"IFERROR(IF(A5971=\"\",\"\",VLOOKUP(A5971,'Banco de Funcionários'!$A$2:$D$1048576,2,0)),\"\")","v":""},null,null,null,null,null,"00:00:00",null,"00:00:00","00:00:00"]
[null,{"$f":"IFERROR(IF(A5977=\"\",\"\",VLOOKUP(A5977,'Banco de Funcionários'!$A$2:$D$1048576,2,0)),\"\")","v":""},null,null,null,null,null,"00:00:00",null,"00:00:00","00:00:00"]
[null,{"$f":"IFERROR(IF(A5982=\"\",\"\",VLOOKUP(A5982,'Banco de Funcionários'!$A$2:$D$1048576,2,0)),\"\")","v":""},null,null,null,null,null,"00:00:00",null,"00:00:00","00:00:00"]
[null,{"$f":"IFERROR(IF(A5988=\"\",\"\",VLOOKUP(A5988,'Banco de Funcionários'!$A$2:$D$1048576,2,0)),\"\")","v":""},null,null,null,null,null,"00:00:00",null,"00:00:00","00:00:00"]
[null,{"$f":"IFERROR(IF(A5993=\"\",\"\",VLOOKUP(A5993,'Banco de Funcionários'!$A$2:$D$1048576,2,0)),\"\")","v":""},null,null,null,null,null,"00:00:00",null,"00:00:00","00:00:00"]
[null,{"$f":"IFERROR(IF(A5998=\"\",\"\",VLOOKUP(A5998,'Banco de Funcionários'!$A$2:$D$1048576,2,0)),\"\")","v":""},null,null,null,null,null,"00:00:00",null,"00:00:00","00:00:00"]
[null,{"$f":"IFERROR(IF(A6004=\"\",\"\",VLOOKUP(A6004,'Banco de Funcionários'!$A$2:$D$1048576,2,0)),\"\")","v":""},null,null,null,null,null,"00:00:00",null,"00:00:00","00:00:00"]
[null,{"$f":"IFERROR(IF(A6006=\"\",\"\",VLOOKUP(A6006,'Banco de Funcionários'!$A$2:$D$1048576,2,0)),\"\")","v":""},null,null,null,null,null,"00:00:00",null,"00:00:00","00:00:00"]
[null,{"$f":"IFERROR(IF(A6009=\"\",\"\",VLOOKUP(A6009,'Banco de Funcionários'!$A$2:$D$1048576,2,0)),\"\")","v":""},null,null,null,null,null,"00:00:00",null,"00:00:00","00:00:00"]
[null,{"$f":"IFERROR(IF(A6014=\"\",\"\",VLOOKUP(A6014,'Banco de Funcionários'!$A$2:$D$1048576,2,0)),\"\")","v":""},null,null,null,null,null,"00:00:00",null,"00:00:00","00:00:00"]
[null,{"$f":"IFERROR(IF(A6019=\"\",\"\",VLOOKUP(A6019,'Banco de Funcionários'!$A$2:$D$1048576,2,0)),\"\")","v":""},null,null,null,null,null,{"$f":"(F6019-E6019)-G6019","v":"00:00:00"},null,{"$f":"IFERROR(H6019-I6019,\"\")","v":"00:00:00"},{"$f":"IFERROR(H6019+J6019,0)","v":"00:00:00"}]
[null,{"$f":"IFERROR(IF(A6025=\"\",\"\",VLOOKUP(A6025,'Banco de Funcionários'!$A$2:$D$1048576,2,0)),\"\")","v":""},null,null,null,null,null,"00:00:00",null,"00:00:00","00:00:00"]
[null,{"$f":"IFERROR(IF(A6030=\"\",\"\",VLOOKUP(A6030,'Banco de Funcionários'!$A$2:$D$1048576,2,0)),\"\")","v":""},null,null,null,null,null,"00:00:00",null,"00:00:00","00:00:00"]
[null,{"$f":"IFERROR(IF(A6035=\"\",\"\",VLOOKUP(A6035,'Banco de Funcionários'!$A$2:$D$1048576,2,0)),\"\")","v":""},null,null,null,null,null,"00:00:00",null,"00:00:00","00:00:00"]
[null,{"$f":"IFERROR(IF(A6041=\"\",\"\",VLOOKUP(A6041,'Banco de Funcionários'!$A$2:$D$1048576,2,0)),\"\")","v":""},null,null,null,null,null,"00:00:00",null,"00:00:00","00:00:00"]
[null,{"$f":"IFERROR(IF(A6046=\"\",\"\",VLOOKUP(A6046,'Banco de Funcionários'!$A$2:$D$1048576,2,0)),\"\")","v":""},null,null,null,null,null,"00:00:00",null,"00:00:00","00:00:00"]
[null,{"$f":"IFERROR(IF(A6052=\"\",\"\",VLOOKUP(A6052,'Banco de Funcionários'!$A$2:$D$1048576,2,0)),\"\")","v":""},null,null,null,null,null,"00:00:00",null,"00:00:00","00:00:00"]
[null,{"$f":"IFERROR(IF(A6057=\"\",\"\",VLOOKUP(A6057,'Banco de Funcionários'!$A$2:$D$1048576,2,0)),\"\")","v":""},null,null,null,null,null,"00:00:00",null,"00:00:00","00:00:00"]
[null,{"$f":"IFERROR(IF(A6062=\"\",\"\",VLOOKUP(A6062,'Banco de Funcionários'!$A$2:$D$1048576,2,0)),\"\")","v":""},null,null,null,null,null,"00:00:00",null,"00:00:00","00:00:00"]
[null,{"$f":"IFERROR(IF(A6068=\"\",\"\",VLOOKUP(A6068,'Banco de Funcionários'!$A$2:$D$1048576,2,0)),\"\")","v":""},null,null,null,null,null,"00:00:00",null,"00:00:00","00:00:00"]
[null,{"$f":"IFERROR(IF(A6073=\"\",\"\",VLOOKUP(A6073,'Banco de Funcionários'!$A$2:$D$1048576,2,0)),\"\")","v":""},null,null,null,null,null,"00:00:00",null,"00:00:00","00:00:00"]
[null,{"$f":"IFERROR(IF(A6078=\"\",\"\",VLOOKUP(A6078,'Banco de Funcionários'!$A$2:$D$1048576,2,0)),\"\")","v":""},null,null,null,null,null,"00:00:00",null,"00:00:00","00:00:00"]
[null,{"$f":"IFERROR(IF(A6079=\"\",\"\",VLOOKUP(A6079,'Banco de Funcionários'!$A$2:$D$1048576,2,0)),\"\")","v":""},null,null,null,null,null,"00:00:00",null,"00:00:00","00:00:00"]
[null,{"$f":"IFERROR(IF(A6084=\"\",\"\",VLOOKUP(A6084,'Banco de Funcionários'!$A$2:$D$1048576,2,0)),\"\")","v":""},null,null,null,null,null,"00:00:00",null,"00:00:00","00:00:00"]
[null,{"$f":"IFERROR(IF(A6090=\"\",\"\",VLOOKUP(A6090,'Banco de Funcionários'!$A$2:$D$1048576,2,0)),\"\")","v":""},null,null,null,null,null,"00:00:00",null,"00:00:00","00:00:00"]
[null,{"$f":"IFERROR(IF(A6095=\"\",\"\",VLOOKUP(A6095,'Banco de Funcionários'!$A$2:$D$1048576,2,0)),\"\")","v":""},null,null,null,null,null,"00:00:00",null,"00:00:00","00:00:00"]
[null,{"$f":"IFERROR(IF(A6100=\"\",\"\",VLOOKUP(A6100,'Banco de Funcionários'!$A$2:$D$1048576,2,0)),\"\")","v":""},null,null,null,null,null,"00:00:00",null,"00:00:00","00:00:00"]
[null,{"$f":"IFERROR(IF(A6106=\"\",\"\",VLOOKUP(A6106,'Banco de Funcionários'!$A$2:$D$1048576,2,0)),\"\")","v":""},null,null,null,null,null,"00:00:00",null,"00:00:00","00:00:00"]
[null,{"$f":"IFERROR(IF(A6111=\"\",\"\",VLOOKUP(A6111,'Banco de Funcionários'!$A$2:$D$1048576,2,0)),\"\")","v":""},null,null,null,null,null,"00:00:00",null,"00:00:00","00:00:00"]
[null,{"$f":"IFERROR(IF(A6117=\"\",\"\",VLOOKUP(A6117,'Banco de Funcionários'!$A$2:$D$1048576,2,0)),\"\")","v":""},null,null,null,null,null,"00:00:00",null,"00:00:00","00:00:00"]
[null,{"$f":"IFERROR(IF(A6119=\"\",\"\",VLOOKUP(A6119,'Banco de Funcionários'!$A$2:$D$1048576,2,0)),\"\")","v":""},null,null,null,null,null,"00:00:00",null,"00:00:00","00:00:00"]
[null,{"$f":"IFERROR(IF(A6126=\"\",\"\",VLOOKUP(A6126,'Banco de Funcionários'!$A$2:$D$1048576,2,0)),\"\")","v":""},null,null,null,null,null,"00:00:00",null,"00:00:00","00:00:00"]
[null,{"$f":"IFERROR(IF(A6132=\"\",\"\",VLOOKUP(A6132,'Banco de Funcionários'!$A$2:$D$1048576,2,0)),\"\")","v":""},null,null,null,null,null,"00:00:00",null,"00:00:00","00:00:00"]
[null,{"$f":"IFERROR(IF(A6137=\"\",\"\",VLOOKUP(A6137,'Banco de Funcionários'!$A$2:$D$1048576,2,0)),\"\")","v":""},null,null,null,null,null,"00:00:00",null,"00:00:00","00:00:00"]
[null,{"$f":"IFERROR(IF(A6142=\"\",\"\",VLOOKUP(A6142,'Banco de Funcionários'!$A$2:$D$1048576,2,0)),\"\")","v":""},null,null,null,null,null,"00:00:00",null,"00:00:00","00:00:00"]
[null,{"$f":"IFERROR(IF(A6143=\"\",\"\",VLOOKUP(A6143,'Banco de Funcionários'!$A$2:$D$1048576,2,0)),\"\")","v":""},null,null,null,null,null,"00:00:00",null,"00:00:00","00:00:00"]
[null,{"$f":"IFERROR(IF(A6148=\"\",\"\",VLOOKUP(A6148,'Banco de Funcionários'!$A$2:$D$1048576,2,0)),\"\")","v":""},null,null,null,null,null,"00:00:00",null,"00:00:00","00:00:00"]
[null,{"$f":"IFERROR(IF(A6154=\"\",\"\",VLOOKUP(A6154,'Banco de Funcionários'!$A$2:$D$1048576,2,0)),\"\")","v":""},null,null,null,null,null,"00:00:00",null,"00:00:00","00:00:00"]
[null,{"$f":"IFERROR(IF(A6159=\"\",\"\",VLOOKUP(A6159,'Banco de Funcionários'!$A$2:$D$1048576,2,0)),\"\")","v":""},null,null,null,null,null,"00:00:00",null,"00:00:00","00:00:00"]
[null,{"$f":"IFERROR(IF(A6164=\"\",\"\",VLOOKUP(A6164,'Banco de Funcionários'!$A$2:$D$1048576,2,0)),\"\")","v":""},null,null,null,null,null,"00:00:00",null,"00:00:00","00:00:00"]
[null,{"$f":"IFERROR(IF(A6170=\"\",\"\",VLOOKUP(A6170,'Banco de Funcionários'!$A$2:$D$1048576,2,0)),\"\")","v":""},null,null,null,null,null,"00:00:00",null,"00:00:00","00:00:00"]
[null,{"$f":"IFERROR(IF(A6175=\"\",\"\",VLOOKUP(A6175,'Banco de Funcionários'!$A$2:$D$1048576,2,0)),\"\")","v":""},null,null,null,null,null,"00:00:00",null,"00:00:00","00:00:00"]
[null,{"$f":"IFERROR(IF(A6180=\"\",\"\",VLOOKUP(A6180,'Banco de Funcionários'!$A$2:$D$1048576,2,0)),\"\")","v":""},null,null,null,null,null,"00:00:00",null,"00:00:00","00:00:00"]
[null,{"$f":"IFERROR(IF(A6186=\"\",\"\",VLOOKUP(A6186,'Banco de Funcionários'!$A$2:$D$1048576,2,0)),\"\")","v":""},null,null,null,null,null,"00:00:00",null,"00:00:00","00:00:00"]
[null,{"$f":"IFERROR(IF(A6191=\"\",\"\",VLOOKUP(A6191,'Banco de Funcionários'!$A$2:$D$1048576,2,0)),\"\")","v":""},null,null,null,null,null,"00:00:00",null,"00:00:00","00:00:00"]
[null,{"$f":"IFERROR(IF(A6197=\"\",\"\",VLOOKUP(A6197,'Banco de Funcionários'!$A$2:$D$1048576,2,0)),\"\")","v":""},null,null,null,null,null,"00:00:00",null,"00:00:00","00:00:00"]
[null,{"$f":"IFERROR(IF(A6202=\"\",\"\",VLOOKUP(A6202,'Banco de Funcionários'!$A$2:$D$1048576,2,0)),\"\")","v":""},null,null,null,null,null,"00:00:00",null,"00:00:00","00:00:00"]
[null,{"$f":"IFERROR(IF(A6207=\"\",\"\",VLOOKUP(A6207,'Banco de Funcionários'!$A$2:$D$1048576,2,0)),\"\")","v":""},null,null,null,null,null,"00:00:00",null,"00:00:00","00:00:00"]
[null,{"$f":"IFERROR(IF(A6208=\"\",\"\",VLOOKUP(A6208,'Banco de Funcionários'!$A$2:$D$1048576,2,0)),\"\")","v":""},null,null,null,null,null,"00:00:00",null,"00:00:00","00:00:00"]
[null,{"$f":"IFERROR(IF(A6213=\"\",\"\",VLOOKUP(A6213,'Banco de Funcionários'!$A$2:$D$1048576,2,0)),\"\")","v":""},null,null,null,null,null,"00:00:00",null,"00:00:00","00:00:00"]
[null,{"$f":"IFERROR(IF(A6219=\"\",\"\",VLOOKUP(A6219,'Banco de Funcionários'!$A$2:$D$1048576,2,0)),\"\")","v":""},null,null,null,null,null,"00:00:00",null,"00:00:00","00:00:00"]
[null,{"$f":"IFERROR(IF(A6224=\"\",\"\",VLOOKUP(A6224,'Banco de Funcionários'!$A$2:$D$1048576,2,0)),\"\")","v":""},null,null,null,null,null,"00:00:00",null,"00:00:00","00:00:00"]
[null,{"$f":"IFERROR(IF(A6230=\"\",\"\",VLOOKUP(A6230,'Banco de Funcionários'!$A$2:$D$1048576,2,0)),\"\")","v":""},null,null,null,null,null,"00:00:00",null,"00:00:00","00:00:00"]
[null,{"$f":"IFERROR(IF(A6234=\"\",\"\",VLOOKUP(A6234,'Banco de Funcionários'!$A$2:$D$1048576,2,0)),\"\")","v":""},null,null,null,null,null,"00:00:00",null,"00:00:00","00:00:00"]
[null,{"$f":"IFERROR(IF(A6239=\"\",\"\",VLOOKUP(A6239,'Banco de Funcionários'!$A$2:$D$1048576,2,0)),\"\")","v":""},null,null,null,null,null,"00:00:00",null,"00:00:00","00:00:00"]
[null,{"$f":"IFERROR(IF(A6244=\"\",\"\",VLOOKUP(A6244,'Banco de Funcionários'!$A$2:$D$1048576,2,0)),\"\")","v":""},null,null,null,null,null,"00:00:00",null,"00:00:00","00:00:00"]
[null,{"$f":"IFERROR(IF(A6250=\"\",\"\",VLOOKUP(A6250,'Banco de Funcionários'!$A$2:$D$1048576,2,0)),\"\")","v":""},null,null,null,null,null,"00:00:00",null,"00:00:00","00:00:00"]
[null,{"$f":"IFERROR(IF(A6255=\"\",\"\",VLOOKUP(A6255,'Banco de Funcionários'!$A$2:$D$1048576,2,0)),\"\")","v":""},null,null,null,null,null,"00:00:00",null,"00:00:00","00:00:00"]
[null,{"$f":"IFERROR(IF(A6261=\"\",\"\",VLOOKUP(A6261,'Banco de Funcionários'!$A$2:$D$1048576,2,0)),\"\")","v":""},null,null,null,null,null,"00:00:00",null,"00:00:00","00:00:00"]
[null,{"$f":"IFERROR(IF(A6266=\"\",\"\",VLOOKUP(A6266,'Banco de Funcionários'!$A$2:$D$1048576,2,0)),\"\")","v":""},null,null,null,null,null,"00:00:00",null,"00:00:00","00:00:00"]
[null,{"$f":"IFERROR(IF(A6271=\"\",\"\",VLOOKUP(A6271,'Banco de Funcionários'!$A$2:$D$1048576,2,0)),\"\")","v":""},null,null,null,null,null,"00:00:00",null,"00:00:00","00:00:00"]
[null,{"$f":"IFERROR(IF(A6272=\"\",\"\",VLOOKUP(A6272,'Banco de Funcionários'!$A$2:$D$1048576,2,0)),\"\")","v":""},null,null,null,null,null,"00:00:00",null,"00:00:00","00:00:00"]
[null,{"$f":"IFERROR(IF(A6277=\"\",\"\",VLOOKUP(A6277,'Banco de Funcionários'!$A$2:$D$1048576,2,0)),\"\")","v":""},null,null,null,null,null,"00:00:00",null,"00:00:00","00:00:00"]
[null,{"$f":"IFERROR(IF(A6283=\"\",\"\",VLOOKUP(A6283,'Banco de Funcionários'!$A$2:$D$1048576,2,0)),\"\")","v":""},null,null,null,null,null,"00:00:00",null,"00:00:00","00:00:00"]
[null,{"$f":"IFERROR(IF(A6288=\"\",\"\",VLOOKUP(A6288,'Banco de Funcionários'!$A$2:$D$1048576,2,0)),\"\")","v":""},null,null,null,null,null,"00:00:00",null,"00:00:00","00:00:00"]
[null,{"$f":"IFERROR(IF(A6293=\"\",\"\",VLOOKUP(A6293,'Banco de Funcionários'!$A$2:$D$1048576,2,0)),\"\")","v":""},null,null,null,null,null,"00:00:00",null,"00:00:00","00:00:00"]
[null,{"$f":"IFERROR(IF(A6299=\"\",\"\",VLOOKUP(A6299,'Banco de Funcionários'!$A$2:$D$1048576,2,0)),\"\")","v":""},null,null,null,null,null,"00:00:00",null,"00:00:00","00:00:00"]
[null,{"$f":"IFERROR(IF(A6304=\"\",\"\",VLOOKUP(A6304,'Banco de Funcionários'!$A$2:$D$1048576,2,0)),\"\")","v":""},null,null,null,null,null,"00:00:00",null,"00:00:00","00:00:00"]
[null,{"$f":"IFERROR(IF(A6309=\"\",\"\",VLOOKUP(A6309,'Banco de Funcionários'!$A$2:$D$1048576,2,0)),\"\")","v":""},null,null,null,null,null,"00:00:00",null,"00:00:00","00:00:00"]
[null,{"$f":"IFERROR(IF(A6315=\"\",\"\",VLOOKUP(A6315,'Banco de Funcionários'!$A$2:$D$1048576,2,0)),\"\")","v":""},null,null,null,null,null,"00:00:00",null,"00:00:00","00:00:00"]
[null,{"$f":"IFERROR(IF(A6320=\"\",\"\",VLOOKUP(A6320,'Banco de Funcionários'!$A$2:$D$1048576,2,0)),\"\")","v":""},null,null,null,null,null,"00:00:00",null,"00:00:00","00:00:00"]
[null,{"$f":"IFERROR(IF(A6326=\"\",\"\",VLOOKUP(A6326,'Banco de Funcionários'!$A$2:$D$1048576,2,0)),\"\")","v":""},null,null,null,null,null,"00:00:00",null,"00:00:00","00:00:00"]
[null,{"$f":"IFERROR(IF(A6331=\"\",\"\",VLOOKUP(A6331,'Banco de Funcionários'!$A$2:$D$1048576,2,0)),\"\")","v":""},null,null,null,null,null,"00:00:00",null,"00:00:00","00:00:00"]
[null,{"$f":"IFERROR(IF(A6336=\"\",\"\",VLOOKUP(A6336,'Banco de Funcionários'!$A$2:$D$1048576,2,0)),\"\")","v":""},null,null,null,null,null,"00:00:00",null,"00:00:00","00:00:00"]
[null,{"$f":"IFERROR(IF(A6337=\"\",\"\",VLOOKUP(A6337,'Banco de Funcionários'!$A$2:$D$1048576,2,0)),\"\")","v":""},null,null,null,null,null,"00:00:00",null,"00:00:00","00:00:00"]
[null,{"$f":"IFERROR(IF(A6343=\"\",\"\",VLOOKUP(A6343,'Banco de Funcionários'!$A$2:$D$1048576,2,0)),\"\")","v":""},null,null,null,null,null,"00:00:00",null,"00:00:00","00:00:00"]
[null,{"$f":"IFERROR(IF(A6346=\"\",\"\",VLOOKUP(A6346,'Banco de Funcionários'!$A$2:$D$1048576,2,0)),\"\")","v":""},null,null,null,null,null,"00:00:00",null,"00:00:00","00:00:00"]
[null,{"$f":"IFERROR(IF(A6352=\"\",\"\",VLOOKUP(A6352,'Banco de Funcionários'!$A$2:$D$1048576,2,0)),\"\")","v":""},null,null,null,null,null,"00:00:00",null,"00:00:00","00:00:00"]
[null,{"$f":"IFERROR(IF(A6357=\"\",\"\",VLOOKUP(A6357,'Banco de Funcionários'!$A$2:$D$1048576,2,0)),\"\")","v":""},null,null,null,null,null,"00:00:00",null,"00:00:00","00:00:00"]
[null,{"$f":"IFERROR(IF(A6363=\"\",\"\",VLOOKUP(A6363,'Banco de Funcionários'!$A$2:$D$1048576,2,0)),\"\")","v":""},null,null,null,null,null,"00:00:00",null,"00:00:00","00:00:00"]
[null,{"$f":"IFERROR(IF(A6368=\"\",\"\",VLOOKUP(A6368,'Banco de Funcionários'!$A$2:$D$1048576,2,0)),\"\")","v":""},null,null,null,null,null,"00:00:00",null,"00:00:00","00:00:00"]
[null,{"$f":"IFERROR(IF(A6373=\"\",\"\",VLOOKUP(A6373,'Banco de Funcionários'!$A$2:$D$1048576,2,0)),\"\")","v":""},null,null,null,null,null,"00:00:00",null,"00:00:00","00:00:00"]
[null,{"$f":"IFERROR(IF(A6379=\"\",\"\",VLOOKUP(A6379,'Banco de Funcionários'!$A$2:$D$1048576,2,0)),\"\")","v":""},null,null,null,null,null,"00:00:00",null,"00:00:00","00:00:00"]
[null,{"$f":"IFERROR(IF(A6384=\"\",\"\",VLOOKUP(A6384,'Banco de Funcionários'!$A$2:$D$1048576,2,0)),\"\")","v":""},null,null,null,null,null,"00:00:00",null,"00:00:00","00:00:00"]
[null,{"$f":"IFERROR(IF(A6390=\"\",\"\",VLOOKUP(A6390,'Banco de Funcionários'!$A$2:$D$1048576,2,0)),\"\")","v":""},null,null,null,null,null,"00:00:00",null,"00:00:00","00:00:00"]
[null,{"$f":"IFERROR(IF(A6395=\"\",\"\",VLOOKUP(A6395,'Banco de Funcionários'!$A$2:$D$1048576,2,0)),\"\")","v":""},null,null,null,null,null,"00:00:00",null,"00:00:00","00:00:00"]
[null,{"$f":"IFERROR(IF(A6400=\"\",\"\",VLOOKUP(A6400,'Banco de Funcionários'!$A$2:$D$1048576,2,0)),\"\")","v":""},null,null,null,null,null,"00:00:00",null,"00:00:00","00:00:00"]
[null,{"$f":"IFERROR(IF(A6401=\"\",\"\",VLOOKUP(A6401,'Banco de Funcionários'!$A$2:$D$1048576,2,0)),\"\")","v":""},null,null,null,null,null,"00:00:00",null,"00:00:00","00:00:00"]
[null,{"$f":"IFERROR(IF(A6406=\"\",\"\",VLOOKUP(A6406,'Banco de Funcionários'!$A$2:$D$1048576,2,0)),\"\")","v":""},null,null,null,null,null,"00:00:00",null,"00:00:00","00:00:00"]
[null,{"$f":"IFERROR(IF(A6411=\"\",\"\",VLOOKUP(A6411,'Banco de Funcionários'!$A$2:$D$1048576,2,0)),\"\")","v":""},null,null,null,null,null,"00:00:00",null,"00:00:00","00:00:00"]
[null,{"$f":"IFERROR(IF(A6417=\"\",\"\",VLOOKUP(A6417,'Banco de Funcionários'!$A$2:$D$1048576,2,0)),\"\")","v":""},null,null,null,null,null,"00:00:00",null,"00:00:00","00:00:00"]
[null,{"$f":"IFERROR(IF(A6422=\"\",\"\",VLOOKUP(A6422,'Banco de Funcionários'!$A$2:$D$1048576,2,0)),\"\")","v":""},null,null,null,null,null,"00:00:00",null,"00:00:00","00:00:00"]
[null,{"$f":"IFERROR(IF(A6428=\"\",\"\",VLOOKUP(A6428,'Banco de Funcionários'!$A$2:$D$1048576,2,0)),\"\")","v":""},null,null,null,null,null,"00:00:00",null,"00:00:00","00:00:00"]
[null,{"$f":"IFERROR(IF(A6433=\"\",\"\",VLOOKUP(A6433,'Banco de Funcionários'!$A$2:$D$1048576,2,0)),\"\")","v":""},null,null,null,null,null,"00:00:00",null,"00:00:00","00:00:00"]
[null,{"$f":"IFERROR(IF(A6438=\"\",\"\",VLOOKUP(A6438,'Banco de Funcionários'!$A$2:$D$1048576,2,0)),\"\")","v":""},null,null,null,null,null,"00:00:00",null,"00:00:00","00:00:00"]
[null,{"$f":"IFERROR(IF(A6444=\"\",\"\",VLOOKUP(A6444,'Banco de Funcionários'!$A$2:$D$1048576,2,0)),\"\")","v":""},null,null,null,null,null,"00:00:00",null,"00:00:00","00:00:00"]
[null,{"$f":"IFERROR(IF(A6449=\"\",\"\",VLOOKUP(A6449,'Banco de Funcionários'!$A$2:$D$1048576,2,0)),\"\")","v":""},null,null,null,null,null,"00:00:00",null,"00:00:00","00:00:00"]
[null,{"$f":"IFERROR(IF(A6454=\"\",\"\",VLOOKUP(A6454,'Banco de Funcionários'!$A$2:$D$1048576,2,0)),\"\")","v":""},null,null,null,null,null,"00:00:00",null,"00:00:00","00:00:00"]
[null,{"$f":"IFERROR(IF(A6459=\"\",\"\",VLOOKUP(A6459,'Banco de Funcionários'!$A$2:$D$1048576,2,0)),\"\")","v":""},null,null,null,null,null,"00:00:00",null,"00:00:00","00:00:00"]
[null,{"$f":"IFERROR(IF(A6464=\"\",\"\",VLOOKUP(A6464,'Banco de Funcionários'!$A$2:$D$1048576,2,0)),\"\")","v":""},null,null,null,null,null,"00:00:00",null,"00:00:00","00:00:00"]
[null,{"$f":"IFERROR(IF(A6465=\"\",\"\",VLOOKUP(A6465,'Banco de Funcionários'!$A$2:$D$1048576,2,0)),\"\")","v":""},null,null,null,null,null,"00:00:00",null,"00:00:00","00:00:00"]
[null,{"$f":"IFERROR(IF(A6470=\"\",\"\",VLOOKUP(A6470,'Banco de Funcionários'!$A$2:$D$1048576,2,0)),\"\")","v":""},null,null,null,null,null,"00:00:00",null,"00:00:00","00:00:00"]
[null,{"$f":"IFERROR(IF(A6475=\"\",\"\",VLOOKUP(A6475,'Banco de Funcionários'!$A$2:$D$1048576,2,0)),\"\")","v":""},null,null,null,null,null,"00:00:00",null,"00:00:00","00:00:00"]
[null,{"$f":"IFERROR(IF(A6481=\"\",\"\",VLOOKUP(A6481,'Banco de Funcionários'!$A$2:$D$1048576,2,0)),\"\")","v":""},null,null,null,null,null,"00:00:00",null,"00:00:00","00:00:00"]
[null,{"$f":"IFERROR(IF(A6486=\"\",\"\",VLOOKUP(A6486,'Banco de Funcionários'!$A$2:$D$1048576,2,0)),\"\")","v":""},null,null,null,null,null,"00:00:00",null,"00:00:00","00:00:00"]
[null,{"$f":"IFERROR(IF(A6492=\"\",\"\",VLOOKUP(A6492,'Banco de Funcionários'!$A$2:$D$1048576,2,0)),\"\")","v":""},null,null,null,null,null,"00:00:00",null,"00:00:00","00:00:00"]
[null,{"$f":"IFERROR(IF(A6497=\"\",\"\",VLOOKUP(A6497,'Banco de Funcionários'!$A$2:$D$1048576,2,0)),\"\")","v":""},null,null,null,null,null,"00:00:00",null,"00:00:00","00:00:00"]
[null,{"$f":"IFERROR(IF(A6502=\"\",\"\",VLOOKUP(A6502,'Banco de Funcionários'!$A$2:$D$1048576,2,0)),\"\")","v":""},null,null,null,null,null,"00:00:00",null,"00:00:00","00:00:00"]
[null,{"$f":"IFERROR(IF(A6508=\"\",\"\",VLOOKUP(A6508,'Banco de Funcionários'!$A$2:$D$1048576,2,0)),\"\")","v":""},null,null,null,null,null,"00:00:00",null,"00:00:00","00:00:00"]
[null,{"$f":"IFERROR(IF(A6513=\"\",\"\",VLOOKUP(A6513,'Banco de Funcionários'!$A$2:$D$1048576,2,0)),\"\")","v":""},null,null,null,null,null,"00:00:00",null,"00:00:00","00:00:00"]
[null,{"$f":"IFERROR(IF(A6518=\"\",\"\",VLOOKUP(A6518,'Banco de Funcionários'!$A$2:$D$1048576,2,0)),\"\")","v":""},null,null,null,null,null,"00:00:00",null,"00:00:00","00:00:00"]
[null,{"$f":"IFERROR(IF(A6524=\"\",\"\",VLOOKUP(A6524,'Banco de Funcionários'!$A$2:$D$1048576,2,0)),\"\")","v":""},null,null,null,null,null,"00:00:00",null,"00:00:00","00:00:00"]
[null,{"$f":"IFERROR(IF(A6529=\"\",\"\",VLOOKUP(A6529,'Banco de Funcionários'!$A$2:$D$1048576,2,0)),\"\")","v":""},null,null,null,null,null,"00:00:00",null,"00:00:00","00:00:00"]
[null,{"$f":"IFERROR(IF(A6530=\"\",\"\",VLOOKUP(A6530,'Banco de Funcionários'!$A$2:$D$1048576,2,0)),\"\")","v":""},null,null,null,null,null,"00:00:00",null,"00:00:00","00:00:00"]
[null,{"$f":"IFERROR(IF(A6535=\"\",\"\",VLOOKUP(A6535,'Banco de Funcionários'!$A$2:$D$1048576,2,0)),\"\")","v":""},null,null,null,null,null,"00:00:00",null,"00:00:00","00:00:00"]
[null,{"$f":"IFERROR(IF(A6540=\"\",\"\",VLOOKUP(A6540,'Banco de Funcionários'!$A$2:$D$1048576,2,0)),\"\")","v":""},null,null,null,null,null,"00:00:00",null,"00:00:00","00:00:00"]
[null,{"$f":"IFERROR(IF(A6546=\"\",\"\",VLOOKUP(A6546,'Banco de Funcionários'!$A$2:$D$1048576,2,0)),\"\")","v":""},null,null,null,null,null,"00:00:00",null,"00:00:00","00:00:00"]
[null,{"$f":"IFERROR(IF(A6551=\"\",\"\",VLOOKUP(A6551,'Banco de Funcionários'!$A$2:$D$1048576,2,0)),\"\")","v":""},null,null,null,null,null,"00:00:00",null,"00:00:00","00:00:00"]
[null,{"$f":"IFERROR(IF(A6557=\"\",\"\",VLOOKUP(A6557,'Banco de Funcionários'!$A$2:$D$1048576,2,0)),\"\")","v":""},null,null,null,null,null,"00:00:00",null,"00:00:00","00:00:00"]
[null,{"$f":"IFERROR(IF(A6562=\"\",\"\",VLOOKUP(A6562,'Banco de Funcionários'!$A$2:$D$1048576,2,0)),\"\")","v":""},null,null,null,null,null,"00:00:00",null,"00:00:00","00:00:00"]
[null,{"$f":"IFERROR(IF(A6567=\"\",\"\",VLOOKUP(A6567,'Banco de Funcionários'!$A$2:$D$1048576,2,0)),\"\")","v":""},null,null,null,null,null,"00:00:00",null,"00:00:00","00:00:00"]
[null,{"$f":"IFERROR(IF(A6572=\"\",\"\",VLOOKUP(A6572,'Banco de Funcionários'!$A$2:$D$1048576,2,0)),\"\")","v":""},null,null,null,null,null,"00:00:00",null,"00:00:00","00:00:00"]
[null,{"$f":"IFERROR(IF(A6577=\"\",\"\",VLOOKUP(A6577,'Banco de Funcionários'!$A$2:$D$1048576,2,0)),\"\")","v":""},null,null,null,null,null,"00:00:00",null,"00:00:00","00:00:00"]
[null,{"$f":"IFERROR(IF(A6582=\"\",\"\",VLOOKUP(A6582,'Banco de Funcionários'!$A$2:$D$1048576,2,0)),\"\")","v":""},null,null,null,null,null,"00:00:00",null,"00:00:00","00:00:00"]
[null,{"$f":"IFERROR(IF(A6588=\"\",\"\",VLOOKUP(A6588,'Banco de Funcionários'!$A$2:$D$1048576,2,0)),\"\")","v":""},null,null,null,null,null,"00:00:00",null,"00:00:00","00:00:00"]
[null,{"$f":"IFERROR(IF(A6593=\"\",\"\",VLOOKUP(A6593,'Banco de Funcionários'!$A$2:$D$1048576,2,0)),\"\")","v":""},null,null,null,null,null,"00:00:00",null,"00:00:00","00:00:00"]
[null,{"$f":"IFERROR(IF(A6594=\"\",\"\",VLOOKUP(A6594,'Banco de Funcionários'!$A$2:$D$1048576,2,0)),\"\")","v":""},null,null,null,null,null,"00:00:00",null,"00:00:00","00:00:00"]
[null,{"$f":"IFERROR(IF(A6599=\"\",\"\",VLOOKUP(A6599,'Banco de Funcionários'!$A$2:$D$1048576,2,0)),\"\")","v":""},null,null,null,null,null,"00:00:00",null,"00:00:00","00:00:00"]
[null,{"$f":"IFERROR(IF(A6604=\"\",\"\",VLOOKUP(A6604,'Banco de Funcionários'!$A$2:$D$1048576,2,0)),\"\")","v":""},null,null,null,null,null,"00:00:00",null,"00:00:00","00:00:00"]
[null,{"$f":"IFERROR(IF(A6610=\"\",\"\",VLOOKUP(A6610,'Banco de Funcionários'!$A$2:$D$1048576,2,0)),\"\")","v":""},null,null,null,null,null,"00:00:00",null,"00:00:00","00:00:00"]
[null,{"$f":"IFERROR(IF(A6615=\"\",\"\",VLOOKUP(A6615,'Banco de Funcionários'!$A$2:$D$1048576,2,0)),\"\")","v":""},null,null,null,null,null,"00:00:00",null,"00:00:00","00:00:00"]
[null,{"$f":"IFERROR(IF(A6620=\"\",\"\",VLOOKUP(A6620,'Banco de Funcionários'!$A$2:$D$1048576,2,0)),\"\")","v":""},null,null,null,null,null,"00:00:00",null,"00:00:00","00:00:00"]
[null,{"$f":"IFERROR(IF(A6626=\"\",\"\",VLOOKUP(A6626,'Banco de Funcionários'!$A$2:$D$1048576,2,0)),\"\")","v":""},null,null,null,null,null,"00:00:00",null,"00:00:00","00:00:00"]
[null,{"$f":"IFERROR(IF(A6631=\"\",\"\",VLOOKUP(A6631,'Banco de Funcionários'!$A$2:$D$1048576,2,0)),\"\")","v":""},null,null,null,null,null,"00:00:00",null,"00:00:00","00:00:00"]
[null,{"$f":"IFERROR(IF(A6637=\"\",\"\",VLOOKUP(A6637,'Banco de Funcionários'!$A$2:$D$1048576,2,0)),\"\")","v":""},null,null,null,null,null,"00:00:00",null,"00:00:00","00:00:00"]
[null,{"$f":"IFERROR(IF(A6642=\"\",\"\",VLOOKUP(A6642,'Banco de Funcionários'!$A$2:$D$1048576,2,0)),\"\")","v":""},null,null,null,null,null,"00:00:00",null,"00:00:00","00:00:00"]
[null,{"$f":"IFERROR(IF(A6647=\"\",\"\",VLOOKUP(A6647,'Banco de Funcionários'!$A$2:$D$1048576,2,0)),\"\")","v":""},null,null,null,null,null,"00:00:00",null,"00:00:00","00:00:00"]
[null,{"$f":"IFERROR(IF(A6653=\"\",\"\",VLOOKUP(A6653,'Banco de Funcionários'!$A$2:$D$1048576,2,0)),\"\")","v":""},null,null,null,null,null,"00:00:00",null,"00:00:00","00:00:00"]
[null,{"$f":"IFERROR(IF(A6658=\"\",\"\",VLOOKUP(A6658,'Banco de Funcionários'!$A$2:$D$1048576,2,0)),\"\")","v":""},null,null,null,null,null,"00:00:00",null,"00:00:00","00:00:00"]
[null,{"$f":"IFERROR(IF(A6659=\"\",\"\",VLOOKUP(A6659,'Banco de Funcionários'!$A$2:$D$1048576,2,0)),\"\")","v":""},null,null,null,null,null,{"$f":"(F6659-E6659)-G6659","v":"00:00:00"},null,{"$f":"IFERROR(H6659-I6659,\"\")","v":"00:00:00"},{"$f":"IFERROR(H6659+J6659,0)","v":"00:00:00"}]
[null,{"$f":"IFERROR(IF(A6664=\"\",\"\",VLOOKUP(A6664,'Banco de Funcionários'!$A$2:$D$1048576,2,0)),\"\")","v":""},null,null,null,null,null,"00:00:00",null,"00:00:00","00:00:00"]
[null,{"$f":"IFERROR(IF(A6669=\"\",\"\",VLOOKUP(A6669,'Banco de Funcionários'!$A$2:$D$1048576,2,0)),\"\")","v":""},null,null,null,null,null,"00:00:00",null,"00:00:00","00:00:00"]
[null,{"$f":"IFERROR(IF(A6674=\"\",\"\",VLOOKUP(A6674,'Banco de Funcionários'!$A$2:$D$1048576,2,0)),\"\")","v":""},null,null,null,null,null,"00:00:00",null,"00:00:00","00:00:00"]
[null,{"$f":"IFERROR(IF(A6679=\"\",\"\",VLOOKUP(A6679,'Banco de Funcionários'!$A$2:$D$1048576,2,0)),\"\")","v":""},null,null,null,null,null,"00:00:00",null,"00:00:00","00:00:00"]
[null,{"$f":"IFERROR(IF(A6684=\"\",\"\",VLOOKUP(A6684,'Banco de Funcionários'!$A$2:$D$1048576,2,0)),\"\")","v":""},null,null,null,null,null,"00:00:00",null,"00:00:00","00:00:00"]
[null,{"$f":"IFERROR(IF(A6690=\"\",\"\",VLOOKUP(A6690,'Banco de Funcionários'!$A$2:$D$1048576,2,0)),\"\")","v":""},null,null,null,null,null,"00:00:00",null,"00:00:00","00:00:00"]
[null,{"$f":"IFERROR(IF(A6695=\"\",\"\",VLOOKUP(A6695,'Banco de Funcionários'!$A$2:$D$1048576,2,0)),\"\")","v":""},null,null,null,null,null,"00:00:00",null,"00:00:00","00:00:00"]
[null,{"$f":"IFERROR(IF(A6701=\"\",\"\",VLOOKUP(A6701,'Banco de Funcionários'!$A$2:$D$1048576,2,0)),\"\")","v":""},null,null,null,null,null,"00:00:00",null,"00:00:00","00:00:00"]
[null,{"$f":"IFERROR(IF(A6706=\"\",\"\",VLOOKUP(A6706,'Banco de Funcionários'!$A$2:$D$1048576,2,0)),\"\")","v":""},null,null,null,null,null,"00:00:00",null,"00:00:00","00:00:00"]
[null,{"$f":"IFERROR(IF(A6711=\"\",\"\",VLOOKUP(A6711,'Banco de Funcionários'!$A$2:$D$1048576,2,0)),\"\")","v":""},null,null,null,null,null,"00:00:00",null,"00:00:00","00:00:00"]
[null,{"$f":"IFERROR(IF(A6717=\"\",\"\",VLOOKUP(A6717,'Banco de Funcionários'!$A$2:$D$1048576,2,0)),\"\")","v":""},null,null,null,null,null,"00:00:00",null,"00:00:00","00:00:00"]
[null,{"$f":"IFERROR(IF(A6722=\"\",\"\",VLOOKUP(A6722,'Banco de Funcionários'!$A$2:$D$1048576,2,0)),\"\")","v":""},null,null,null,null,null,"00:00:00",null,"00:00:00","00:00:00"]
[null,{"$f":"IFERROR(IF(A6723=\"\",\"\",VLOOKUP(A6723,'Banco de Funcionários'!$A$2:$D$1048576,2,0)),\"\")","v":""},null,null,null,null,null,{"$f":"(F6723-E6723)-G6723","v":"00:00:00"},null,{"$f":"IFERROR(H6723-I6723,\"\")","v":"00:00:00"},{"$f":"IFERROR(H6723+J6723,0)","v":"00:00:00"}]
[null,{"$f":"IFERROR(IF(A6728=\"\",\"\",VLOOKUP(A6728,'Banco de Funcionários'!$A$2:$D$1048576,2,0)),\"\")","v":""},null,null,null,null,null,"00:00:00",null,"00:00:00","00:00:00"]
[null,{"$f":"IFERROR(IF(A6733=\"\",\"\",VLOOKUP(A6733,'Banco de Funcionários'!$A$2:$D$1048576,2,0)),\"\")","v":""},null,null,null,null,null,"00:00:00",null,"00:00:00","00:00:00"]
[null,{"$f":"IFERROR(IF(A6739=\"\",\"\",VLOOKUP(A6739,'Banco de Funcionários'!$A$2:$D$1048576,2,0)),\"\")","v":""},null,null,null,null,null,"00:00:00",null,"00:00:00","00:00:00"]
[null,{"$f":"IFERROR(IF(A6744=\"\",\"\",VLOOKUP(A6744,'Banco de Funcionários'!$A$2:$D$1048576,2,0)),\"\")","v":""},null,null,null,null,null,"00:00:00",null,"00:00:00","00:00:00"]
[null,{"$f":"IFERROR(IF(A6749=\"\",\"\",VLOOKUP(A6749,'Banco de Funcionários'!$A$2:$D$1048576,2,0)),\"\")","v":""},null,null,null,null,null,"00:00:00",null,"00:00:00","00:00:00"]
[null,{"$f":"IFERROR(IF(A6755=\"\",\"\",VLOOKUP(A6755,'Banco de Funcionários'!$A$2:$D$1048576,2,0)),\"\")","v":""},null,null,null,null,null,"00:00:00",null,"00:00:00","00:00:00"]
[null,{"$f":"IFERROR(IF(A6760=\"\",\"\",VLOOKUP(A6760,'Banco de Funcionários'!$A$2:$D$1048576,2,0)),\"\")","v":""},null,null,null,null,null,"00:00:00",null,"00:00:00","00:00:00"]
[null,{"$f":"IFERROR(IF(A6766=\"\",\"\",VLOOKUP(A6766,'Banco de Funcionários'!$A$2:$D$1048576,2,0)),\"\")","v":""},null,null,null,null,null,"00:00:00",null,"00:00:00","00:00:00"]
[null,{"$f":"IFERROR(IF(A6771=\"\",\"\",VLOOKUP(A6771,'Banco de Funcionários'!$A$2:$D$1048576,2,0)),\"\")","v":""},null,null,null,null,null,"00:00:00",null,"00:00:00","00:00:00"]
[null,{"$f":"IFERROR(IF(A6776=\"\",\"\",VLOOKUP(A6776,'Banco de Funcionários'!$A$2:$D$1048576,2,0)),\"\")","v":""},null,null,null,null,null,"00:00:00",null,"00:00:00","00:00:00"]
[null,{"$f":"IFERROR(IF(A6782=\"\",\"\",VLOOKUP(A6782,'Banco de Funcionários'!$A$2:$D$1048576,2,0)),\"\")","v":""},null,null,null,null,null,"00:00:00",null,"00:00:00","00:00:00"]
[null,{"$f":"IFERROR(IF(A6787=\"\",\"\",VLOOKUP(A6787,'Banco de Funcionários'!$A$2:$D$1048576,2,0)),\"\")","v":""},null,null,null,null,null,{"$f":"(F6787-E6787)-G6787","v":"00:00:00"},null,{"$f":"IFERROR(H6787-I6787,\"\")","v":"00:00:00"},{"$f":"IFERROR(H6787+J6787,0)","v":"00:00:00"}]
[null,{"$f":"IFERROR(IF(A6791=\"\",\"\",VLOOKUP(A6791,'Banco de Funcionários'!$A$2:$D$1048576,2,0)),\"\")","v":""},null,null,null,null,null,"00:00:00",null,"00:00:00","00:00:00"]
[null,{"$f":"IFERROR(IF(A6792=\"\",\"\",VLOOKUP(A6792,'Banco de Funcionários'!$A$2:$D$1048576,2,0)),\"\")","v":""},null,null,null,null,null,"00:00:00",null,"00:00:00","00:00:00"]
[null,{"$f":"IFERROR(IF(A6797=\"\",\"\",VLOOKUP(A6797,'Banco de Funcionários'!$A$2:$D$1048576,2,0)),\"\")","v":""},null,null,null,null,null,"00:00:00",null,"00:00:00","00:00:00"]
[null,{"$f":"IFERROR(IF(A6803=\"\",\"\",VLOOKUP(A6803,'Banco de Funcionários'!$A$2:$D$1048576,2,0)),\"\")","v":""},null,null,null,null,null,"00:00:00",null,"00:00:00","00:00:00"]
[null,{"$f":"IFERROR(IF(A6808=\"\",\"\",VLOOKUP(A6808,'Banco de Funcionários'!$A$2:$D$1048576,2,0)),\"\")","v":""},null,null,null,null,null,"00:00:00",null,"00:00:00","00:00:00"]
[null,{"$f":"IFERROR(IF(A6813=\"\",\"\",VLOOKUP(A6813,'Banco de Funcionários'!$A$2:$D$1048576,2,0)),\"\")","v":""},null,null,null,null,null,"00:00:00",null,"00:00:00","00:00:00"]
[null,{"$f":"IFERROR(IF(A6819=\"\",\"\",VLOOKUP(A6819,'Banco de Funcionários'!$A$2:$D$1048576,2,0)),\"\")","v":""},null,null,null,null,null,"00:00:00",null,"00:00:00","00:00:00"]
[null,{"$f":"IFERROR(IF(A6824=\"\",\"\",VLOOKUP(A6824,'Banco de Funcionários'!$A$2:$D$1048576,2,0)),\"\")","v":""},null,null,null,null,null,"00:00:00",null,"00:00:00","00:00:00"]
[null,{"$f":"IFERROR(IF(A6830=\"\",\"\",VLOOKUP(A6830,'Banco de Funcionários'!$A$2:$D$1048576,2,0)),\"\")","v":""},null,null,null,null,null,"00:00:00",null,"00:00:00","00:00:00"]
[null,{"$f":"IFERROR(IF(A6835=\"\",\"\",VLOOKUP(A6835,'Banco de Funcionários'!$A$2:$D$1048576,2,0)),\"\")","v":""},null,null,null,null,null,"00:00:00",null,"00:00:00","00:00:00"]
[null,{"$f":"IFERROR(IF(A6840=\"\",\"\",VLOOKUP(A6840,'Banco de Funcionários'!$A$2:$D$1048576,2,0)),\"\")","v":""},null,null,null,null,null,"00:00:00",null,"00:00:00","00:00:00"]
[null,{"$f":"IFERROR(IF(A6846=\"\",\"\",VLOOKUP(A6846,'Banco de Funcionários'!$A$2:$D$1048576,2,0)),\"\")","v":""},null,null,null,null,null,"00:00:00",null,"00:00:00","00:00:00"]
[null,{"$f":"IFERROR(IF(A6851=\"\",\"\",VLOOKUP(A6851,'Banco de Funcionários'!$A$2:$D$1048576,2,0)),\"\")","v":""},null,null,null,null,null,{"$f":"(F6851-E6851)-G6851","v":"00:00:00"},null,{"$f":"IFERROR(H6851-I6851,\"\")","v":"00:00:00"},{"$f":"IFERROR(H6851+J6851,0)","v":"00:00:00"}]
[null,{"$f":"IFERROR(IF(A6856=\"\",\"\",VLOOKUP(A6856,'Banco de Funcionários'!$A$2:$D$1048576,2,0)),\"\")","v":""},null,null,null,null,null,"00:00:00",null,"00:00:00","00:00:00"]
[null,{"$f":"IFERROR(IF(A6857=\"\",\"\",VLOOKUP(A6857,'Banco de Funcionários'!$A$2:$D$1048576,2,0)),\"\")","v":""},null,null,null,null,null,"00:00:00",null,"00:00:00","00:00:00"]
[null,{"$f":"IFERROR(IF(A6862=\"\",\"\",VLOOKUP(A6862,'Banco de Funcionários'!$A$2:$D$1048576,2,0)),\"\")","v":""},null,null,null,null,null,"00:00:00",null,"00:00:00","00:00:00"]
[null,{"$f":"IFERROR(IF(A6868=\"\",\"\",VLOOKUP(A6868,'Banco de Funcionários'!$A$2:$D$1048576,2,0)),\"\")","v":""},null,null,null,null,null,"00:00:00",null,"00:00:00","00:00:00"]
[null,{"$f":"IFERROR(IF(A6873=\"\",\"\",VLOOKUP(A6873,'Banco de Funcionários'!$A$2:$D$1048576,2,0)),\"\")","v":""},null,null,null,null,null,"00:00:00",null,"00:00:00","00:00:00"]
[null,{"$f":"IFERROR(IF(A6878=\"\",\"\",VLOOKUP(A6878,'Banco de Funcionários'!$A$2:$D$1048576,2,0)),\"\")","v":""},null,null,null,null,null,"00:00:00",null,"00:00:00","00:00:00"]
[null,{"$f":"IFERROR(IF(A6884=\"\",\"\",VLOOKUP(A6884,'Banco de Funcionários'!$A$2:$D$1048576,2,0)),\"\")","v":""},null,null,null,null,null,"00:00:00",null,"00:00:00","00:00:00"]
[null,{"$f":"IFERROR(IF(A6889=\"\",\"\",VLOOKUP(A6889,'Banco de Funcionários'!$A$2:$D$1048576,2,0)),\"\")","v":""},null,null,null,null,null,"00:00:00",null,"00:00:00","00:00:00"]
[null,{"$f":"IFERROR(IF(A6895=\"\",\"\",VLOOKUP(A6895,'Banco de Funcionários'!$A$2:$D$1048576,2,0)),\"\")","v":""},null,null,null,null,null,"00:00:00",null,"00:00:00","00:00:00"]
[null,{"$f":"IFERROR(IF(A6898=\"\",\"\",VLOOKUP(A6898,'Banco de Funcionários'!$A$2:$D$1048576,2,0)),\"\")","v":""},null,null,null,null,null,"00:00:00",null,"00:00:00","00:00:00"]
[null,{"$f":"IFERROR(IF(A6904=\"\",\"\",VLOOKUP(A6904,'Banco de Funcionários'!$A$2:$D$1048576,2,0)),\"\")","v":""},null,null,null,null,null,"00:00:00",null,"00:00:00","00:00:00"]
[null,{"$f":"IFERROR(IF(A6910=\"\",\"\",VLOOKUP(A6910,'Banco de Funcionários'!$A$2:$D$1048576,2,0)),\"\")","v":""},null,null,null,null,null,"00:00:00",null,"00:00:00","00:00:00"]
[null,{"$f":"IFERROR(IF(A6915=\"\",\"\",VLOOKUP(A6915,'Banco de Funcionários'!$A$2:$D$1048576,2,0)),\"\")","v":""},null,null,null,null,null,{"$f":"(F6915-E6915)-G6915","v":"00:00:00"},null,{"$f":"IFERROR(H6915-I6915,\"\")","v":"00:00:00"},{"$f":"IFERROR(H6915+J6915,0)","v":"00:00:00"}]
[null,{"$f":"IFERROR(IF(A6920=\"\",\"\",VLOOKUP(A6920,'Banco de Funcionários'!$A$2:$D$1048576,2,0)),\"\")","v":""},null,null,null,null,null,"00:00:00",null,"00:00:00","00:00:00"]
[null,{"$f":"IFERROR(IF(A6921=\"\",\"\",VLOOKUP(A6921,'Banco de Funcionários'!$A$2:$D$1048576,2,0)),\"\")","v":""},null,null,null,null,null,"00:00:00",null,"00:00:00","00:00:00"]
[null,{"$f":"IFERROR(IF(A6926=\"\",\"\",VLOOKUP(A6926,'Banco de Funcionários'!$A$2:$D$1048576,2,0)),\"\")","v":""},null,null,null,null,null,"00:00:00",null,"00:00:00","00:00:00"]
[null,{"$f":"IFERROR(IF(A6932=\"\",\"\",VLOOKUP(A6932,'Banco de Funcionários'!$A$2:$D$1048576,2,0)),\"\")","v":""},null,null,null,null,null,"00:00:00",null,"00:00:00","00:00:00"]
[null,{"$f":"IFERROR(IF(A6937=\"\",\"\",VLOOKUP(A6937,'Banco de Funcionários'!$A$2:$D$1048576,2,0)),\"\")","v":""},null,null,null,null,null,"00:00:00",null,"00:00:00","00:00:00"]
[null,{"$f":"IFERROR(IF(A6942=\"\",\"\",VLOOKUP(A6942,'Banco de Funcionários'!$A$2:$D$1048576,2,0)),\"\")","v":""},null,null,null,null,null,"00:00:00",null,"00:00:00","00:00:00"]
[null,{"$f":"IFERROR(IF(A6948=\"\",\"\",VLOOKUP(A6948,'Banco de Funcionários'!$A$2:$D$1048576,2,0)),\"\")","v":""},null,null,null,null,null,"00:00:00",null,"00:00:00","00:00:00"]
[null,{"$f":"IFERROR(IF(A6953=\"\",\"\",VLOOKUP(A6953,'Banco de Funcionários'!$A$2:$D$1048576,2,0)),\"\")","v":""},null,null,null,null,null,"00:00:00",null,"00:00:00","00:00:00"]
[null,{"$f":"IFERROR(IF(A6958=\"\",\"\",VLOOKUP(A6958,'Banco de Funcionários'!$A$2:$D$1048576,2,0)),\"\")","v":""},null,null,null,null,null,"00:00:00",null,"00:00:00","00:00:00"]
[null,{"$f":"IFERROR(IF(A6964=\"\",\"\",VLOOKUP(A6964,'Banco de Funcionários'!$A$2:$D$1048576,2,0)),\"\")","v":""},null,null,null,null,null,"00:00:00",null,"00:00:00","00:00:00"]
[null,{"$f":"IFERROR(IF(A6969=\"\",\"\",VLOOKUP(A6969,'Banco de Funcionários'!$A$2:$D$1048576,2,0)),\"\")","v":""},null,null,null,null,null,"00:00:00",null,"00:00:00","00:00:00"]
[null,{"$f":"IFERROR(IF(A6975=\"\",\"\",VLOOKUP(A6975,'Banco de Funcionários'!$A$2:$D$1048576,2,0)),\"\")","v":""},null,null,null,null,null,"00:00:00",null,"00:00:00","00:00:00"]
[null,{"$f":"IFERROR(IF(A6980=\"\",\"\",VLOOKUP(A6980,'Banco de Funcionários'!$A$2:$D$1048576,2,0)),\"\")","v":""},null,null,null,null,null,"00:00:00",null,"00:00:00","00:00:00"]
[null,{"$f":"IFERROR(IF(A6985=\"\",\"\",VLOOKUP(A6985,'Banco de Funcionários'!$A$2:$D$1048576,2,0)),\"\")","v":""},null,null,null,null,null,"00:00:00",null,"00:00:00","00:00:00"]
[null,{"$f":"IFERROR(IF(A6986=\"\",\"\",VLOOKUP(A6986,'Banco de Funcionários'!$A$2:$D$1048576,2,0)),\"\")","v":""},null,null,null,null,null,"00:00:00",null,"00:00:00","00:00:00"]
[null,{"$f":"IFERROR(IF(A6991=\"\",\"\",VLOOKUP(A6991,'Banco de Funcionários'!$A$2:$D$1048576,2,0)),\"\")","v":""},null,null,null,null,null,"00:00:00",null,"00:00:00","00:00:00"]
[null,{"$f":"IFERROR(IF(A6997=\"\",\"\",VLOOKUP(A6997,'Banco de Funcionários'!$A$2:$D$1048576,2,0)),\"\")","v":""},null,null,null,null,null,"00:00:00",null,"00:00:00","00:00:00"]
[null,{"$f":"IFERROR(IF(A7002=\"\",\"\",VLOOKUP(A7002,'Banco de Funcionários'!$A$2:$D$1048576,2,0)),\"\")","v":""},null,null,null,null,null,"00:00:00",null,"00:00:00","00:00:00"]
[null,{"$f":"IFERROR(IF(A7007=\"\",\"\",VLOOKUP(A7007,'Banco de Funcionários'!$A$2:$D$1048576,2,0)),\"\")","v":""},null,null,null,null,null,"00:00:00",null,"00:00:00","00:00:00"]
[null,{"$f":"IFERROR(IF(A7011=\"\",\"\",VLOOKUP(A7011,'Banco de Funcionários'!$A$2:$D$1048576,2,0)),\"\")","v":""},null,null,null,null,null,"00:00:00",null,"00:00:00","00:00:00"]
[null,{"$f":"IFERROR(IF(A7017=\"\",\"\",VLOOKUP(A7017,'Banco de Funcionários'!$A$2:$D$1048576,2,0)),\"\")","v":""},null,null,null,null,null,"00:00:00",null,"00:00:00","00:00:00"]
[null,{"$f":"IFERROR(IF(A7022=\"\",\"\",VLOOKUP(A7022,'Banco de Funcionários'!$A$2:$D$1048576,2,0)),\"\")","v":""},null,null,null,null,null,"00:00:00",null,"00:00:00","00:00:00"]
[null,{"$f":"IFERROR(IF(A7028=\"\",\"\",VLOOKUP(A7028,'Banco de Funcionários'!$A$2:$D$1048576,2,0)),\"\")","v":""},null,null,null,null,null,"00:00:00",null,"00:00:00","00:00:00"]
[null,{"$f":"IFERROR(IF(A7033=\"\",\"\",VLOOKUP(A7033,'Banco de Funcionários'!$A$2:$D$1048576,2,0)),\"\")","v":""},null,null,null,null,null,"00:00:00",null,"00:00:00","00:00:00"]
[null,{"$f":"IFERROR(IF(A7039=\"\",\"\",VLOOKUP(A7039,'Banco de Funcionários'!$A$2:$D$1048576,2,0)),\"\")","v":""},null,null,null,null,null,"00:00:00",null,"00:00:00","00:00:00"]
[null,{"$f":"IFERROR(IF(A7044=\"\",\"\",VLOOKUP(A7044,'Banco de Funcionários'!$A$2:$D$1048576,2,0)),\"\")","v":""},null,null,null,null,null,"00:00:00",null,"00:00:00","00:00:00"]
[null,{"$f":"IFERROR(IF(A7049=\"\",\"\",VLOOKUP(A7049,'Banco de Funcionários'!$A$2:$D$1048576,2,0)),\"\")","v":""},null,null,null,null,null,"00:00:00",null,"00:00:00","00:00:00"]
[null,{"$f":"IFERROR(IF(A7050=\"\",\"\",VLOOKUP(A7050,'Banco de Funcionários'!$A$2:$D$1048576,2,0)),\"\")","v":""},null,null,null,null,null,"00:00:00",null,"00:00:00","00:00:00"]
[null,{"$f":"IFERROR(IF(A7055=\"\",\"\",VLOOKUP(A7055,'Banco de Funcionários'!$A$2:$D$1048576,2,0)),\"\")","v":""},null,null,null,null,null,"00:00:00",null,"00:00:00","00:00:00"]
[null,{"$f":"IFERROR(IF(A7060=\"\",\"\",VLOOKUP(A7060,'Banco de Funcionários'!$A$2:$D$1048576,2,0)),\"\")","v":""},null,null,null,null,null,"00:00:00",null,"00:00:00","00:00:00"]
[null,{"$f":"IFERROR(IF(A7066=\"\",\"\",VLOOKUP(A7066,'Banco de Funcionários'!$A$2:$D$1048576,2,0)),\"\")","v":""},null,null,null,null,null,"00:00:00",null,"00:00:00","00:00:00"]
[null,{"$f":"IFERROR(IF(A7071=\"\",\"\",VLOOKUP(A7071,'Banco de Funcionários'!$A$2:$D$1048576,2,0)),\"\")","v":""},null,null,null,null,null,"00:00:00",null,"00:00:00","00:00:00"]
[null,{"$f":"IFERROR(IF(A7077=\"\",\"\",VLOOKUP(A7077,'Banco de Funcionários'!$A$2:$D$1048576,2,0)),\"\")","v":""},null,null,null,null,null,"00:00:00",null,"00:00:00","00:00:00"]
[null,{"$f":"IFERROR(IF(A7082=\"\",\"\",VLOOKUP(A7082,'Banco de Funcionários'!$A$2:$D$1048576,2,0)),\"\")","v":""},null,null,null,null,null,"00:00:00",null,"00:00:00","00:00:00"]
[null,{"$f":"IFERROR(IF(A7087=\"\",\"\",VLOOKUP(A7087,'Banco de Funcionários'!$A$2:$D$1048576,2,0)),\"\")","v":""},null,null,null,null,null,"00:00:00",null,"00:00:00","00:00:00"]
[null,{"$f":"IFERROR(IF(A7093=\"\",\"\",VLOOKUP(A7093,'Banco de Funcionários'!$A$2:$D$1048576,2,0)),\"\")","v":""},null,null,null,null,null,"00:00:00",null,"00:00:00","00:00:00"]
[null,{"$f":"IFERROR(IF(A7098=\"\",\"\",VLOOKUP(A7098,'Banco de Funcionários'!$A$2:$D$1048576,2,0)),\"\")","v":""},null,null,null,null,null,"00:00:00",null,"00:00:00","00:00:00"]
[null,{"$f":"IFERROR(IF(A7104=\"\",\"\",VLOOKUP(A7104,'Banco de Funcionários'!$A$2:$D$1048576,2,0)),\"\")","v":""},null,null,null,null,null,"00:00:00",null,"00:00:00","00:00:00"]
[null,{"$f":"IFERROR(IF(A7109=\"\",\"\",VLOOKUP(A7109,'Banco de Funcionários'!$A$2:$D$1048576,2,0)),\"\")","v":""},null,null,null,null,null,"00:00:00",null,"00:00:00","00:00:00"]
[null,{"$f":"IFERROR(IF(A7114=\"\",\"\",VLOOKUP(A7114,'Banco de Funcionários'!$A$2:$D$1048576,2,0)),\"\")","v":""},null,null,null,null,null,"00:00:00",null,"00:00:00","00:00:00"]
[null,{"$f":"IFERROR(IF(A7115=\"\",\"\",VLOOKUP(A7115,'Banco de Funcionários'!$A$2:$D$1048576,2,0)),\"\")","v":""},null,null,null,null,null,"00:00:00",null,"00:00:00","00:00:00"]
[null,{"$f":"IFERROR(IF(A7122=\"\",\"\",VLOOKUP(A7122,'Banco de Funcionários'!$A$2:$D$1048576,2,0)),\"\")","v":""},null,null,null,null,null,"00:00:00",null,"00:00:00","00:00:00"]
[null,{"$f":"IFERROR(IF(A7124=\"\",\"\",VLOOKUP(A7124,'Banco de Funcionários'!$A$2:$D$1048576,2,0)),\"\")","v":""},null,null,null,null,null,"00:00:00",null,"00:00:00","00:00:00"]
[null,{"$f":"IFERROR(IF(A7130=\"\",\"\",VLOOKUP(A7130,'Banco de Funcionários'!$A$2:$D$1048576,2,0)),\"\")","v":""},null,null,null,null,null,"00:00:00",null,"00:00:00","00:00:00"]
[null,{"$f":"IFERROR(IF(A7135=\"\",\"\",VLOOKUP(A7135,'Banco de Funcionários'!$A$2:$D$1048576,2,0)),\"\")","v":""},null,null,null,null,null,"00:00:00",null,"00:00:00","00:00:00"]
[null,{"$f":"IFERROR(IF(A7141=\"\",\"\",VLOOKUP(A7141,'Banco de Funcionários'!$A$2:$D$1048576,2,0)),\"\")","v":""},null,null,null,null,null,"00:00:00",null,"00:00:00","00:00:00"]
[null,{"$f":"IFERROR(IF(A7146=\"\",\"\",VLOOKUP(A7146,'Banco de Funcionários'!$A$2:$D$1048576,2,0)),\"\")","v":""},null,null,null,null,null,"00:00:00",null,"00:00:00","00:00:00"]
[null,{"$f":"IFERROR(IF(A7151=\"\",\"\",VLOOKUP(A7151,'Banco de Funcionários'!$A$2:$D$1048576,2,0)),\"\")","v":""},null,null,null,null,null,"00:00:00",null,"00:00:00","00:00:00"]
[null,{"$f":"IFERROR(IF(A7157=\"\",\"\",VLOOKUP(A7157,'Banco de Funcionários'!$A$2:$D$1048576,2,0)),\"\")","v":""},null,null,null,null,null,"00:00:00",null,"00:00:00","00:00:00"]
[null,{"$f":"IFERROR(IF(A7162=\"\",\"\",VLOOKUP(A7162,'Banco de Funcionários'!$A$2:$D$1048576,2,0)),\"\")","v":""},null,null,null,null,null,"00:00:00",null,"00:00:00","00:00:00"]
[null,{"$f":"IFERROR(IF(A7168=\"\",\"\",VLOOKUP(A7168,'Banco de Funcionários'!$A$2:$D$1048576,2,0)),\"\")","v":""},null,null,null,null,null,"00:00:00",null,"00:00:00","00:00:00"]
[null,{"$f":"IFERROR(IF(A7173=\"\",\"\",VLOOKUP(A7173,'Banco de Funcionários'!$A$2:$D$1048576,2,0)),\"\")","v":""},null,null,null,null,null,"00:00:00",null,"00:00:00","00:00:00"]
[null,{"$f":"IFERROR(IF(A7178=\"\",\"\",VLOOKUP(A7178,'Banco de Funcionários'!$A$2:$D$1048576,2,0)),\"\")","v":""},null,null,null,null,null,"00:00:00",null,"00:00:00","00:00:00"]
[null,{"$f":"IFERROR(IF(A7179=\"\",\"\",VLOOKUP(A7179,'Banco de Funcionários'!$A$2:$D$1048576,2,0)),\"\")","v":""},null,null,null,null,null,"00:00:00",null,"00:00:00","00:00:00"]
[null,{"$f":"IFERROR(IF(A7184=\"\",\"\",VLOOKUP(A7184,'Banco de Funcionários'!$A$2:$D$1048576,2,0)),\"\")","v":""},null,null,null,null,null,"00:00:00",null,"00:00:00","00:00:00"]
[null,{"$f":"IFERROR(IF(A7189=\"\",\"\",VLOOKUP(A7189,'Banco de Funcionários'!$A$2:$D$1048576,2,0)),\"\")","v":""},null,null,null,null,null,"00:00:00",null,"00:00:00","00:00:00"]
[null,{"$f":"IFERROR(IF(A7195=\"\",\"\",VLOOKUP(A7195,'Banco de Funcionários'!$A$2:$D$1048576,2,0)),\"\")","v":""},null,null,null,null,null,"00:00:00",null,"00:00:00","00:00:00"]
[null,{"$f":"IFERROR(IF(A7200=\"\",\"\",VLOOKUP(A7200,'Banco de Funcionários'!$A$2:$D$1048576,2,0)),\"\")","v":""},null,null,null,null,null,"00:00:00",null,"00:00:00","00:00:00"]
[null,{"$f":"IFERROR(IF(A7206=\"\",\"\",VLOOKUP(A7206,'Banco de Funcionários'!$A$2:$D$1048576,2,0)),\"\")","v":""},null,null,null,null,null,"00:00:00",null,"00:00:00","00:00:00"]
[null,{"$f":"IFERROR(IF(A7211=\"\",\"\",VLOOKUP(A7211,'Banco de Funcionários'!$A$2:$D$1048576,2,0)),\"\")","v":""},null,null,null,null,null,"00:00:00",null,"00:00:00","00:00:00"]
[null,{"$f":"IFERROR(IF(A7216=\"\",\"\",VLOOKUP(A7216,'Banco de Funcionários'!$A$2:$D$1048576,2,0)),\"\")","v":""},null,null,null,null,null,"00:00:00",null,"00:00:00","00:00:00"]
[null,{"$f":"IFERROR(IF(A7222=\"\",\"\",VLOOKUP(A7222,'Banco de Funcionários'!$A$2:$D$1048576,2,0)),\"\")","v":""},null,null,null,null,null,"00:00:00",null,"00:00:00","00:00:00"]
[null,{"$f":"IFERROR(IF(A7227=\"\",\"\",VLOOKUP(A7227,'Banco de Funcionários'!$A$2:$D$1048576,2,0)),\"\")","v":""},null,null,null,null,null,"00:00:00",null,"00:00:00","00:00:00"]
[null,{"$f":"IFERROR(IF(A7232=\"\",\"\",VLOOKUP(A7232,'Banco de Funcionários'!$A$2:$D$1048576,2,0)),\"\")","v":""},null,null,null,null,null,"00:00:00",null,"00:00:00","00:00:00"]
[null,{"$f":"IFERROR(IF(A7235=\"\",\"\",VLOOKUP(A7235,'Banco de Funcionários'!$A$2:$D$1048576,2,0)),\"\")","v":""},null,null,null,null,null,{"$f":"(F7235-E7235)-G7235","v":"00:00:00"},null,{"$f":"IFERROR(H7235-I7235,\"\")","v":"00:00:00"},{"$f":"IFERROR(H7235+J7235,0)","v":"00:00:00"}]
[null,{"$f":"IFERROR(IF(A7242=\"\",\"\",VLOOKUP(A7242,'Banco de Funcionários'!$A$2:$D$1048576,2,0)),\"\")","v":""},null,null,null,null,null,"00:00:00",null,"00:00:00","00:00:00"]
[null,{"$f":"IFERROR(IF(A7243=\"\",\"\",VLOOKUP(A7243,'Banco de Funcionários'!$A$2:$D$1048576,2,0)),\"\")","v":""},null,null,null,null,null,"00:00:00",null,"00:00:00","00:00:00"]
[null,{"$f":"IFERROR(IF(A7248=\"\",\"\",VLOOKUP(A7248,'Banco de Funcionários'!$A$2:$D$1048576,2,0)),\"\")","v":""},null,null,null,null,null,"00:00:00",null,"00:00:00","00:00:00"]
[null,{"$f":"IFERROR(IF(A7253=\"\",\"\",VLOOKUP(A7253,'Banco de Funcionários'!$A$2:$D$1048576,2,0)),\"\")","v":""},null,null,null,null,null,"00:00:00",null,"00:00:00","00:00:00"]
[null,{"$f":"IFERROR(IF(A7259=\"\",\"\",VLOOKUP(A7259,'Banco de Funcionários'!$A$2:$D$1048576,2,0)),\"\")","v":""},null,null,null,null,null,"00:00:00",null,"00:00:00","00:00:00"]
[null,{"$f":"IFERROR(IF(A7264=\"\",\"\",VLOOKUP(A7264,'Banco de Funcionários'!$A$2:$D$1048576,2,0)),\"\")","v":""},null,null,null,null,null,"00:00:00",null,"00:00:00","00:00:00"]
[null,{"$f":"IFERROR(IF(A7270=\"\",\"\",VLOOKUP(A7270,'Banco de Funcionários'!$A$2:$D$1048576,2,0)),\"\")","v":""},null,null,null,null,null,"00:00:00",null,"00:00:00","00:00:00"]
[null,{"$f":"IFERROR(IF(A7275=\"\",\"\",VLOOKUP(A7275,'Banco de Funcionários'!$A$2:$D$1048576,2,0)),\"\")","v":""},null,null,null,null,null,"00:00:00",null,"00:00:00","00:00:00"]
[null,{"$f":"IFERROR(IF(A7280=\"\",\"\",VLOOKUP(A7280,'Banco de Funcionários'!$A$2:$D$1048576,2,0)),\"\")","v":""},null,null,null,null,null,"00:00:00",null,"00:00:00","00:00:00"]
[null,{"$f":"IFERROR(IF(A7286=\"\",\"\",VLOOKUP(A7286,'Banco de Funcionários'!$A$2:$D$1048576,2,0)),\"\")","v":""},null,null,null,null,null,"00:00:00",null,"00:00:00","00:00:00"]
[null,{"$f":"IFERROR(IF(A7291=\"\",\"\",VLOOKUP(A7291,'Banco de Funcionários'!$A$2:$D$1048576,2,0)),\"\")","v":""},null,null,null,null,null,"00:00:00",null,"00:00:00","00:00:00"]
[null,{"$f":"IFERROR(IF(A7296=\"\",\"\",VLOOKUP(A7296,'Banco de Funcionários'!$A$2:$D$1048576,2,0)),\"\")","v":""},null,null,null,null,null,"00:00:00",null,"00:00:00","00:00:00"]
[null,{"$f":"IFERROR(IF(A7302=\"\",\"\",VLOOKUP(A7302,'Banco de Funcionários'!$A$2:$D$1048576,2,0)),\"\")","v":""},null,null,null,null,null,"00:00:00",null,"00:00:00","00:00:00"]
[null,{"$f":"IFERROR(IF(A7307=\"\",\"\",VLOOKUP(A7307,'Banco de Funcionários'!$A$2:$D$1048576,2,0)),\"\")","v":""},null,null,null,null,null,"00:00:00",null,"00:00:00","00:00:00"]
[null,{"$f":"IFERROR(IF(A7308=\"\",\"\",VLOOKUP(A7308,'Banco de Funcionários'!$A$2:$D$1048576,2,0)),\"\")","v":""},null,null,null,null,null,"00:00:00",null,"00:00:00","00:00:00"]
[null,{"$f":"IFERROR(IF(A7313=\"\",\"\",VLOOKUP(A7313,'Banco de Funcionários'!$A$2:$D$1048576,2,0)),\"\")","v":""},null,null,null,null,null,"00:00:00",null,"00:00:00","00:00:00"]
[null,{"$f":"IFERROR(IF(A7318=\"\",\"\",VLOOKUP(A7318,'Banco de Funcionários'!$A$2:$D$1048576,2,0)),\"\")","v":""},null,null,null,null,null,"00:00:00",null,"00:00:00","00:00:00"]
[null,{"$f":"IFERROR(IF(A7324=\"\",\"\",VLOOKUP(A7324,'Banco de Funcionários'!$A$2:$D$1048576,2,0)),\"\")","v":""},null,null,null,null,null,"00:00:00",null,"00:00:00","00:00:00"]
[null,{"$f":"IFERROR(IF(A7329=\"\",\"\",VLOOKUP(A7329,'Banco de Funcionários'!$A$2:$D$1048576,2,0)),\"\")","v":""},null,null,null,null,null,"00:00:00",null,"00:00:00","00:00:00"]
[null,{"$f":"IFERROR(IF(A7334=\"\",\"\",VLOOKUP(A7334,'Banco de Funcionários'!$A$2:$D$1048576,2,0)),\"\")","v":""},null,null,null,null,null,"00:00:00",null,"00:00:00","00:00:00"]
[null,{"$f":"IFERROR(IF(A7340=\"\",\"\",VLOOKUP(A7340,'Banco de Funcionários'!$A$2:$D$1048576,2,0)),\"\")","v":""},null,null,null,null,null,"00:00:00",null,"00:00:00","00:00:00"]
[null,{"$f":"IFERROR(IF(A7346=\"\",\"\",VLOOKUP(A7346,'Banco de Funcionários'!$A$2:$D$1048576,2,0)),\"\")","v":""},null,null,null,null,null,"00:00:00",null,"00:00:00","00:00:00"]
[null,{"$f":"IFERROR(IF(A7350=\"\",\"\",VLOOKUP(A7350,'Banco de Funcionários'!$A$2:$D$1048576,2,0)),\"\")","v":""},null,null,null,null,null,"00:00:00",null,"00:00:00","00:00:00"]
[null,{"$f":"IFERROR(IF(A7355=\"\",\"\",VLOOKUP(A7355,'Banco de Funcionários'!$A$2:$D$1048576,2,0)),\"\")","v":""},null,null,null,null,null,"00:00:00",null,"00:00:00","00:00:00"]
[null,{"$f":"IFERROR(IF(A7360=\"\",\"\",VLOOKUP(A7360,'Banco de Funcionários'!$A$2:$D$1048576,2,0)),\"\")","v":""},null,null,null,null,null,"00:00:00",null,"00:00:00","00:00:00"]
[null,{"$f":"IFERROR(IF(A7366=\"\",\"\",VLOOKUP(A7366,'Banco de Funcionários'!$A$2:$D$1048576,2,0)),\"\")","v":""},null,null,null,null,null,"00:00:00",null,"00:00:00","00:00:00"]
[null,{"$f":"IFERROR(IF(A7371=\"\",\"\",VLOOKUP(A7371,'Banco de Funcionários'!$A$2:$D$1048576,2,0)),\"\")","v":""},null,null,null,null,null,"00:00:00",null,"00:00:00","00:00:00"]
[null,{"$f":"IFERROR(IF(A7372=\"\",\"\",VLOOKUP(A7372,'Banco de Funcionários'!$A$2:$D$1048576,2,0)),\"\")","v":""},null,null,null,null,null,"00:00:00",null,"00:00:00","00:00:00"]
[null,{"$f":"IFERROR(IF(A7377=\"\",\"\",VLOOKUP(A7377,'Banco de Funcionários'!$A$2:$D$1048576,2,0)),\"\")","v":""},null,null,null,null,null,"00:00:00",null,"00:00:00","00:00:00"]
[null,{"$f":"IFERROR(IF(A7382=\"\",\"\",VLOOKUP(A7382,'Banco de Funcionários'!$A$2:$D$1048576,2,0)),\"\")","v":""},null,null,null,null,null,"00:00:00",null,"00:00:00","00:00:00"]
[null,{"$f":"IFERROR(IF(A7388=\"\",\"\",VLOOKUP(A7388,'Banco de Funcionários'!$A$2:$D$1048576,2,0)),\"\")","v":""},null,null,null,null,null,"00:00:00",null,"00:00:00","00:00:00"]
[null,{"$f":"IFERROR(IF(A7393=\"\",\"\",VLOOKUP(A7393,'Banco de Funcionários'!$A$2:$D$1048576,2,0)),\"\")","v":""},null,null,null,null,null,"00:00:00",null,"00:00:00","00:00:00"]
[null,{"$f":"IFERROR(IF(A7398=\"\",\"\",VLOOKUP(A7398,'Banco de Funcionários'!$A$2:$D$1048576,2,0)),\"\")","v":""},null,null,null,null,null,"00:00:00",null,"00:00:00","00:00:00"]
[null,{"$f":"IFERROR(IF(A7404=\"\",\"\",VLOOKUP(A7404,'Banco de Funcionários'!$A$2:$D$1048576,2,0)),\"\")","v":""},null,null,null,null,null,"00:00:00",null,"00:00:00","00:00:00"]
[null,{"$f":"IFERROR(IF(A7409=\"\",\"\",VLOOKUP(A7409,'Banco de Funcionários'!$A$2:$D$1048576,2,0)),\"\")","v":""},null,null,null,null,null,"00:00:00",null,"00:00:00","00:00:00"]
[null,{"$f":"IFERROR(IF(A7415=\"\",\"\",VLOOKUP(A7415,'Banco de Funcionários'!$A$2:$D$1048576,2,0)),\"\")","v":""},null,null,null,null,null,"00:00:00",null,"00:00:00","00:00:00"]
[null,{"$f":"IFERROR(IF(A7420=\"\",\"\",VLOOKUP(A7420,'Banco de Funcionários'!$A$2:$D$1048576,2,0)),\"\")","v":""},null,null,null,null,null,"00:00:00",null,"00:00:00","00:00:00"]
[null,{"$f":"IFERROR(IF(A7425=\"\",\"\",VLOOKUP(A7425,'Banco de Funcionários'!$A$2:$D$1048576,2,0)),\"\")","v":""},null,null,null,null,null,"00:00:00",null,"00:00:00","00:00:00"]
[null,{"$f":"IFERROR(IF(A7431=\"\",\"\",VLOOKUP(A7431,'Banco de Funcionários'!$A$2:$D$1048576,2,0)),\"\")","v":""},null,null,null,null,null,"00:00:00",null,"00:00:00","00:00:00"]
[null,{"$f":"IFERROR(IF(A7436=\"\",\"\",VLOOKUP(A7436,'Banco de Funcionários'!$A$2:$D$1048576,2,0)),\"\")","v":""},null,null,null,null,null,"00:00:00",null,"00:00:00","00:00:00"]
[null,{"$f":"IFERROR(IF(A7437=\"\",\"\",VLOOKUP(A7437,'Banco de Funcionários'!$A$2:$D$1048576,2,0)),\"\")","v":""},null,null,null,null,null,"00:00:00",null,"00:00:00","00:00:00"]
[null,{"$f":"IFERROR(IF(A7442=\"\",\"\",VLOOKUP(A7442,'Banco de Funcionários'!$A$2:$D$1048576,2,0)),\"\")","v":""},null,null,null,null,null,"00:00:00",null,"00:00:00","00:00:00"]
[null,{"$f":"IFERROR(IF(A7447=\"\",\"\",VLOOKUP(A7447,'Banco de Funcionários'!$A$2:$D$1048576,2,0)),\"\")","v":""},null,null,null,null,null,"00:00:00",null,"00:00:00","00:00:00"]
[null,{"$f":"IFERROR(IF(A7453=\"\",\"\",VLOOKUP(A7453,'Banco de Funcionários'!$A$2:$D$1048576,2,0)),\"\")","v":""},null,null,null,null,null,"00:00:00",null,"00:00:00","00:00:00"]
[null,{"$f":"IFERROR(IF(A7459=\"\",\"\",VLOOKUP(A7459,'Banco de Funcionários'!$A$2:$D$1048576,2,0)),\"\")","v":""},null,null,null,null,null,"00:00:00",null,"00:00:00","00:00:00"]
[null,{"$f":"IFERROR(IF(A7462=\"\",\"\",VLOOKUP(A7462,'Banco de Funcionários'!$A$2:$D$1048576,2,0)),\"\")","v":""},null,null,null,null,null,"00:00:00",null,"00:00:00","00:00:00"]
[null,{"$f":"IFERROR(IF(A7468=\"\",\"\",VLOOKUP(A7468,'Banco de Funcionários'!$A$2:$D$1048576,2,0)),\"\")","v":""},null,null,null,null,null,"00:00:00",null,"00:00:00","00:00:00"]
[null,{"$f":"IFERROR(IF(A7473=\"\",\"\",VLOOKUP(A7473,'Banco de Funcionários'!$A$2:$D$1048576,2,0)),\"\")","v":""},null,null,null,null,null,"00:00:00",null,"00:00:00","00:00:00"]
[null,{"$f":"IFERROR(IF(A7479=\"\",\"\",VLOOKUP(A7479,'Banco de Funcionários'!$A$2:$D$1048576,2,0)),\"\")","v":""},null,null,null,null,null,"00:00:00",null,"00:00:00","00:00:00"]
[null,{"$f":"IFERROR(IF(A7484=\"\",\"\",VLOOKUP(A7484,'Banco de Funcionários'!$A$2:$D$1048576,2,0)),\"\")","v":""},null,null,null,null,null,"00:00:00",null,"00:00:00","00:00:00"]
[null,{"$f":"IFERROR(IF(A7489=\"\",\"\",VLOOKUP(A7489,'Banco de Funcionários'!$A$2:$D$1048576,2,0)),\"\")","v":""},null,null,null,null,null,"00:00:00",null,"00:00:00","00:00:00"]
[null,{"$f":"IFERROR(IF(A7495=\"\",\"\",VLOOKUP(A7495,'Banco de Funcionários'!$A$2:$D$1048576,2,0)),\"\")","v":""},null,null,null,null,null,"00:00:00",null,"00:00:00","00:00:00"]
[null,{"$f":"IFERROR(IF(A7500=\"\",\"\",VLOOKUP(A7500,'Banco de Funcionários'!$A$2:$D$1048576,2,0)),\"\")","v":""},null,null,null,null,null,"00:00:00",null,"00:00:00","00:00:00"]
[null,{"$f":"IFERROR(IF(A7505=\"\",\"\",VLOOKUP(A7505,'Banco de Funcionários'!$A$2:$D$1048576,2,0)),\"\")","v":""},null,null,null,null,null,"00:00:00",null,"00:00:00","00:00:00"]
[null,{"$f":"IFERROR(IF(A7506=\"\",\"\",VLOOKUP(A7506,'Banco de Funcionários'!$A$2:$D$1048576,2,0)),\"\")","v":""},null,null,null,null,null,"00:00:00",null,"00:00:00","00:00:00"]
[null,{"$f":"IFERROR(IF(A7511=\"\",\"\",VLOOKUP(A7511,'Banco de Funcionários'!$A$2:$D$1048576,2,0)),\"\")","v":""},null,null,null,null,null,"00:00:00",null,"00:00:00","00:00:00"]
[null,{"$f":"IFERROR(IF(A7517=\"\",\"\",VLOOKUP(A7517,'Banco de Funcionários'!$A$2:$D$1048576,2,0)),\"\")","v":""},null,null,null,null,null,"00:00:00",null,"00:00:00","00:00:00"]
[null,{"$f":"IFERROR(IF(A7522=\"\",\"\",VLOOKUP(A7522,'Banco de Funcionários'!$A$2:$D$1048576,2,0)),\"\")","v":""},null,null,null,null,null,"00:00:00",null,"00:00:00","00:00:00"]
[null,{"$f":"IFERROR(IF(A7527=\"\",\"\",VLOOKUP(A7527,'Banco de Funcionários'!$A$2:$D$1048576,2,0)),\"\")","v":""},null,null,null,null,null,"00:00:00",null,"00:00:00","00:00:00"]
[null,{"$f":"IFERROR(IF(A7533=\"\",\"\",VLOOKUP(A7533,'Banco de Funcionários'!$A$2:$D$1048576,2,0)),\"\")","v":""},null,null,null,null,null,"00:00:00",null,"00:00:00","00:00:00"]
[null,{"$f":"IFERROR(IF(A7538=\"\",\"\",VLOOKUP(A7538,'Banco de Funcionários'!$A$2:$D$1048576,2,0)),\"\")","v":""},null,null,null,null,null,"00:00:00",null,"00:00:00","00:00:00"]
[null,{"$f":"IFERROR(IF(A7544=\"\",\"\",VLOOKUP(A7544,'Banco de Funcionários'!$A$2:$D$1048576,2,0)),\"\")","v":""},null,null,null,null,null,"00:00:00",null,"00:00:00","00:00:00"]
[null,{"$f":"IFERROR(IF(A7549=\"\",\"\",VLOOKUP(A7549,'Banco de Funcionários'!$A$2:$D$1048576,2,0)),\"\")","v":""},null,null,null,null,null,"00:00:00",null,"00:00:00","00:00:00"]
[null,{"$f":"IFERROR(IF(A7554=\"\",\"\",VLOOKUP(A7554,'Banco de Funcionários'!$A$2:$D$1048576,2,0)),\"\")","v":""},null,null,null,null,null,"00:00:00",null,"00:00:00","00:00:00"]
[null,{"$f":"IFERROR(IF(A7560=\"\",\"\",VLOOKUP(A7560,'Banco de Funcionários'!$A$2:$D$1048576,2,0)),\"\")","v":""},null,null,null,null,null,"00:00:00",null,"00:00:00","00:00:00"]
[null,{"$f":"IFERROR(IF(A7565=\"\",\"\",VLOOKUP(A7565,'Banco de Funcionários'!$A$2:$D$1048576,2,0)),\"\")","v":""},null,null,null,null,null,"00:00:00",null,"00:00:00","00:00:00"]
[null,{"$f":"IFERROR(IF(A7566=\"\",\"\",VLOOKUP(A7566,'Banco de Funcionários'!$A$2:$D$1048576,2,0)),\"\")","v":""},null,null,null,null,null,"00:00:00",null,"00:00:00","00:00:00"]
[null,{"$f":"IFERROR(IF(A7570=\"\",\"\",VLOOKUP(A7570,'Banco de Funcionários'!$A$2:$D$1048576,2,0)),\"\")","v":""},null,null,null,null,null,"00:00:00",null,"00:00:00","00:00:00"]
[null,{"$f":"IFERROR(IF(A7575=\"\",\"\",VLOOKUP(A7575,'Banco de Funcionários'!$A$2:$D$1048576,2,0)),\"\")","v":""},null,null,null,null,null,"00:00:00",null,"00:00:00","00:00:00"]
[null,{"$f":"IFERROR(IF(A7581=\"\",\"\",VLOOKUP(A7581,'Banco de Funcionários'!$A$2:$D$1048576,2,0)),\"\")","v":""},null,null,null,null,null,"00:00:00",null,"00:00:00","00:00:00"]
[null,{"$f":"IFERROR(IF(A7586=\"\",\"\",VLOOKUP(A7586,'Banco de Funcionários'!$A$2:$D$1048576,2,0)),\"\")","v":""},null,null,null,null,null,"00:00:00",null,"00:00:00","00:00:00"]
[null,{"$f":"IFERROR(IF(A7591=\"\",\"\",VLOOKUP(A7591,'Banco de Funcionários'!$A$2:$D$1048576,2,0)),\"\")","v":""},null,null,null,null,null,"00:00:00",null,"00:00:00","00:00:00"]
[null,{"$f":"IFERROR(IF(A7597=\"\",\"\",VLOOKUP(A7597,'Banco de Funcionários'!$A$2:$D$1048576,2,0)),\"\")","v":""},null,null,null,null,null,"00:00:00",null,"00:00:00","00:00:00"]
[null,{"$f":"IFERROR(IF(A7602=\"\",\"\",VLOOKUP(A7602,'Banco de Funcionários'!$A$2:$D$1048576,2,0)),\"\")","v":""},null,null,null,null,null,"00:00:00",null,"00:00:00","00:00:00"]
[null,{"$f":"IFERROR(IF(A7608=\"\",\"\",VLOOKUP(A7608,'Banco de Funcionários'!$A$2:$D$1048576,2,0)),\"\")","v":""},null,null,null,null,null,"00:00:00",null,"00:00:00","00:00:00"]
[null,{"$f":"IFERROR(IF(A7613=\"\",\"\",VLOOKUP(A7613,'Banco de Funcionários'!$A$2:$D$1048576,2,0)),\"\")","v":""},null,null,null,null,null,"00:00:00",null,"00:00:00","00:00:00"]
[null,{"$f":"IFERROR(IF(A7618=\"\",\"\",VLOOKUP(A7618,'Banco de Funcionários'!$A$2:$D$1048576,2,0)),\"\")","v":""},null,null,null,null,null,"00:00:00",null,"00:00:00","00:00:00"]
[null,{"$f":"IFERROR(IF(A7624=\"\",\"\",VLOOKUP(A7624,'Banco de Funcionários'!$A$2:$D$1048576,2,0)),\"\")","v":""},null,null,null,null,null,"00:00:00",null,"00:00:00","00:00:00"]
[null,{"$f":"IFERROR(IF(A7629=\"\",\"\",VLOOKUP(A7629,'Banco de Funcionários'!$A$2:$D$1048576,2,0)),\"\")","v":""},null,null,null,null,null,"00:00:00",null,"00:00:00","00:00:00"]
[null,{"$f":"IFERROR(IF(A7634=\"\",\"\",VLOOKUP(A7634,'Banco de Funcionários'!$A$2:$D$1048576,2,0)),\"\")","v":""},null,null,null,null,null,"00:00:00",null,"00:00:00","00:00:00"]
[null,{"$f":"IFERROR(IF(A7635=\"\",\"\",VLOOKUP(A7635,'Banco de Funcionários'!$A$2:$D$1048576,2,0)),\"\")","v":""},null,null,null,null,null,"00:00:00",null,"00:00:00","00:00:00"]
[null,{"$f":"IFERROR(IF(A7640=\"\",\"\",VLOOKUP(A7640,'Banco de Funcionários'!$A$2:$D$1048576,2,0)),\"\")","v":""},null,null,null,null,null,"00:00:00",null,"00:00:00","00:00:00"]
[null,{"$f":"IFERROR(IF(A7646=\"\",\"\",VLOOKUP(A7646,'Banco de Funcionários'!$A$2:$D$1048576,2,0)),\"\")","v":""},null,null,null,null,null,"00:00:00",null,"00:00:00","00:00:00"]
[null,{"$f":"IFERROR(IF(A7651=\"\",\"\",VLOOKUP(A7651,'Banco de Funcionários'!$A$2:$D$1048576,2,0)),\"\")","v":""},null,null,null,null,null,"00:00:00",null,"00:00:00","00:00:00"]
[null,{"$f":"IFERROR(IF(A7656=\"\",\"\",VLOOKUP(A7656,'Banco de Funcionários'!$A$2:$D$1048576,2,0)),\"\")","v":""},null,null,null,null,null,"00:00:00",null,"00:00:00","00:00:00"]
[null,{"$f":"IFERROR(IF(A7662=\"\",\"\",VLOOKUP(A7662,'Banco de Funcionários'!$A$2:$D$1048576,2,0)),\"\")","v":""},null,null,null,null,null,"00:00:00",null,"00:00:00","00:00:00"]
[null,{"$f":"IFERROR(IF(A7667=\"\",\"\",VLOOKUP(A7667,'Banco de Funcionários'!$A$2:$D$1048576,2,0)),\"\")","v":""},null,null,null,null,null,"00:00:00",null,"00:00:00","00:00:00"]
[null,{"$f":"IFERROR(IF(A7672=\"\",\"\",VLOOKUP(A7672,'Banco de Funcionários'!$A$2:$D$1048576,2,0)),\"\")","v":""},null,null,null,null,null,"00:00:00",null,"00:00:00","00:00:00"]
[null,{"$f":"IFERROR(IF(A7678=\"\",\"\",VLOOKUP(A7678,'Banco de Funcionários'!$A$2:$D$1048576,2,0)),\"\")","v":""},null,null,null,null,null,"00:00:00",null,"00:00:00","00:00:00"]
[null,{"$f":"IFERROR(IF(A7683=\"\",\"\",VLOOKUP(A7683,'Banco de Funcionários'!$A$2:$D$1048576,2,0)),\"\")","v":""},null,null,null,null,null,{"$f":"(F7683-E7683)-G7683","v":"00:00:00"},null,{"$f":"IFERROR(H7683-I7683,\"\")","v":"00:00:00"},{"$f":"IFERROR(H7683+J7683,0)","v":"00:00:00"}]
[null,{"$f":"IFERROR(IF(A7688=\"\",\"\",VLOOKUP(A7688,'Banco de Funcionários'!$A$2:$D$1048576,2,0)),\"\")","v":""},null,null,null,null,null,"00:00:00",null,"00:00:00","00:00:00"]
[null,{"$f":"IFERROR(IF(A7693=\"\",\"\",VLOOKUP(A7693,'Banco de Funcionários'!$A$2:$D$1048576,2,0)),\"\")","v":""},null,null,null,null,null,"00:00:00",null,"00:00:00","00:00:00"]
[null,{"$f":"IFERROR(IF(A7698=\"\",\"\",VLOOKUP(A7698,'Banco de Funcionários'!$A$2:$D$1048576,2,0)),\"\")","v":""},null,null,null,null,null,"00:00:00",null,"00:00:00","00:00:00"]
[null,{"$f":"IFERROR(IF(A7699=\"\",\"\",VLOOKUP(A7699,'Banco de Funcionários'!$A$2:$D$1048576,2,0)),\"\")","v":""},null,null,null,null,null,"00:00:00",null,"00:00:00","00:00:00"]
[null,{"$f":"IFERROR(IF(A7704=\"\",\"\",VLOOKUP(A7704,'Banco de Funcionários'!$A$2:$D$1048576,2,0)),\"\")","v":""},null,null,null,null,null,"00:00:00",null,"00:00:00","00:00:00"]
[null,{"$f":"IFERROR(IF(A7710=\"\",\"\",VLOOKUP(A7710,'Banco de Funcionários'!$A$2:$D$1048576,2,0)),\"\")","v":""},null,null,null,null,null,"00:00:00",null,"00:00:00","00:00:00"]
[null,{"$f":"IFERROR(IF(A7715=\"\",\"\",VLOOKUP(A7715,'Banco de Funcionários'!$A$2:$D$1048576,2,0)),\"\")","v":""},null,null,null,null,null,"00:00:00",null,"00:00:00","00:00:00"]
[null,{"$f":"IFERROR(IF(A7720=\"\",\"\",VLOOKUP(A7720,'Banco de Funcionários'!$A$2:$D$1048576,2,0)),\"\")","v":""},null,null,null,null,null,"00:00:00",null,"00:00:00","00:00:00"]
[null,{"$f":"IFERROR(IF(A7726=\"\",\"\",VLOOKUP(A7726,'Banco de Funcionários'!$A$2:$D$1048576,2,0)),\"\")","v":""},null,null,null,null,null,"00:00:00",null,"00:00:00","00:00:00"]
[null,{"$f":"IFERROR(IF(A7731=\"\",\"\",VLOOKUP(A7731,'Banco de Funcionários'!$A$2:$D$1048576,2,0)),\"\")","v":""},null,null,null,null,null,"00:00:00",null,"00:00:00","00:00:00"]
[null,{"$f":"IFERROR(IF(A7736=\"\",\"\",VLOOKUP(A7736,'Banco de Funcionários'!$A$2:$D$1048576,2,0)),\"\")","v":""},null,null,null,null,null,"00:00:00",null,"00:00:00","00:00:00"]
[null,{"$f":"IFERROR(IF(A7742=\"\",\"\",VLOOKUP(A7742,'Banco de Funcionários'!$A$2:$D$1048576,2,0)),\"\")","v":""},null,null,null,null,null,"00:00:00",null,"00:00:00","00:00:00"]
[null,{"$f":"IFERROR(IF(A7747=\"\",\"\",VLOOKUP(A7747,'Banco de Funcionários'!$A$2:$D$1048576,2,0)),\"\")","v":""},null,null,null,null,null,{"$f":"(F7747-E7747)-G7747","v":"00:00:00"},null,{"$f":"IFERROR(H7747-I7747,\"\")","v":"00:00:00"},{"$f":"IFERROR(H7747+J7747,0)","v":"00:00:00"}]
[null,{"$f":"IFERROR(IF(A7753=\"\",\"\",VLOOKUP(A7753,'Banco de Funcionários'!$A$2:$D$1048576,2,0)),\"\")","v":""},null,null,null,null,null,"00:00:00",null,"00:00:00","00:00:00"]
[null,{"$f":"IFERROR(IF(A7758=\"\",\"\",VLOOKUP(A7758,'Banco de Funcionários'!$A$2:$D$1048576,2,0)),\"\")","v":""},null,null,null,null,null,"00:00:00",null,"00:00:00","00:00:00"]
[null,{"$f":"IFERROR(IF(A7763=\"\",\"\",VLOOKUP(A7763,'Banco de Funcionários'!$A$2:$D$1048576,2,0)),\"\")","v":""},null,null,null,null,null,"00:00:00",null,"00:00:00","00:00:00"]
[null,{"$f":"IFERROR(IF(A7764=\"\",\"\",VLOOKUP(A7764,'Banco de Funcionários'!$A$2:$D$1048576,2,0)),\"\")","v":""},null,null,null,null,null,"00:00:00",null,"00:00:00","00:00:00"]
[null,{"$f":"IFERROR(IF(A7769=\"\",\"\",VLOOKUP(A7769,'Banco de Funcionários'!$A$2:$D$1048576,2,0)),\"\")","v":""},null,null,null,null,null,"00:00:00",null,"00:00:00","00:00:00"]
[null,{"$f":"IFERROR(IF(A7774=\"\",\"\",VLOOKUP(A7774,'Banco de Funcionários'!$A$2:$D$1048576,2,0)),\"\")","v":""},null,null,null,null,null,"00:00:00",null,"00:00:00","00:00:00"]
[null,{"$f":"IFERROR(IF(A7780=\"\",\"\",VLOOKUP(A7780,'Banco de Funcionários'!$A$2:$D$1048576,2,0)),\"\")","v":""},null,null,null,null,null,"00:00:00",null,"00:00:00","00:00:00"]
[null,{"$f":"IFERROR(IF(A7785=\"\",\"\",VLOOKUP(A7785,'Banco de Funcionários'!$A$2:$D$1048576,2,0)),\"\")","v":""},null,null,null,null,null,"00:00:00",null,"00:00:00","00:00:00"]
[null,{"$f":"IFERROR(IF(A7790=\"\",\"\",VLOOKUP(A7790,'Banco de Funcionários'!$A$2:$D$1048576,2,0)),\"\")","v":""},null,null,null,null,null,"00:00:00",null,"00:00:00","00:00:00"]
[null,{"$f":"IFERROR(IF(A7795=\"\",\"\",VLOOKUP(A7795,'Banco de Funcionários'!$A$2:$D$1048576,2,0)),\"\")","v":""},null,null,null,null,null,"00:00:00",null,"00:00:00","00:00:00"]
[null,{"$f":"IFERROR(IF(A7800=\"\",\"\",VLOOKUP(A7800,'Banco de Funcionários'!$A$2:$D$1048576,2,0)),\"\")","v":""},null,null,null,null,null,"00:00:00",null,"00:00:00","00:00:00"]
[null,{"$f":"IFERROR(IF(A7806=\"\",\"\",VLOOKUP(A7806,'Banco de Funcionários'!$A$2:$D$1048576,2,0)),\"\")","v":""},null,null,null,null,null,"00:00:00",null,"00:00:00","00:00:00"]
[null,{"$f":"IFERROR(IF(A7811=\"\",\"\",VLOOKUP(A7811,'Banco de Funcionários'!$A$2:$D$1048576,2,0)),\"\")","v":""},null,null,null,null,null,{"$f":"(F7811-E7811)-G7811","v":"00:00:00"},null,{"$f":"IFERROR(H7811-I7811,\"\")","v":"00:00:00"},{"$f":"IFERROR(H7811+J7811,0)","v":"00:00:00"}]
[null,{"$f":"IFERROR(IF(A7817=\"\",\"\",VLOOKUP(A7817,'Banco de Funcionários'!$A$2:$D$1048576,2,0)),\"\")","v":""},null,null,null,null,null,"00:00:00",null,"00:00:00","00:00:00"]
[null,{"$f":"IFERROR(IF(A7822=\"\",\"\",VLOOKUP(A7822,'Banco de Funcionários'!$A$2:$D$1048576,2,0)),\"\")","v":""},null,null,null,null,null,"00:00:00",null,"00:00:00","00:00:00"]
[null,{"$f":"IFERROR(IF(A7827=\"\",\"\",VLOOKUP(A7827,'Banco de Funcionários'!$A$2:$D$1048576,2,0)),\"\")","v":""},null,null,null,null,null,"00:00:00",null,"00:00:00","00:00:00"]
[null,{"$f":"IFERROR(IF(A7828=\"\",\"\",VLOOKUP(A7828,'Banco de Funcionários'!$A$2:$D$1048576,2,0)),\"\")","v":""},null,null,null,null,null,"00:00:00",null,"00:00:00","00:00:00"]
[null,{"$f":"IFERROR(IF(A7833=\"\",\"\",VLOOKUP(A7833,'Banco de Funcionários'!$A$2:$D$1048576,2,0)),\"\")","v":""},null,null,null,null,null,"00:00:00",null,"00:00:00","00:00:00"]
[null,{"$f":"IFERROR(IF(A7838=\"\",\"\",VLOOKUP(A7838,'Banco de Funcionários'!$A$2:$D$1048576,2,0)),\"\")","v":""},null,null,null,null,null,"00:00:00",null,"00:00:00","00:00:00"]
[null,{"$f":"IFERROR(IF(A7844=\"\",\"\",VLOOKUP(A7844,'Banco de Funcionários'!$A$2:$D$1048576,2,0)),\"\")","v":""},null,null,null,null,null,"00:00:00",null,"00:00:00","00:00:00"]
[null,{"$f":"IFERROR(IF(A7849=\"\",\"\",VLOOKUP(A7849,'Banco de Funcionários'!$A$2:$D$1048576,2,0)),\"\")","v":""},null,null,null,null,null,"00:00:00",null,"00:00:00","00:00:00"]
[null,{"$f":"IFERROR(IF(A7855=\"\",\"\",VLOOKUP(A7855,'Banco de Funcionários'!$A$2:$D$1048576,2,0)),\"\")","v":""},null,null,null,null,null,"00:00:00",null,"00:00:00","00:00:00"]
[null,{"$f":"IFERROR(IF(A7860=\"\",\"\",VLOOKUP(A7860,'Banco de Funcionários'!$A$2:$D$1048576,2,0)),\"\")","v":""},null,null,null,null,null,"00:00:00",null,"00:00:00","00:00:00"]
[null,{"$f":"IFERROR(IF(A7865=\"\",\"\",VLOOKUP(A7865,'Banco de Funcionários'!$A$2:$D$1048576,2,0)),\"\")","v":""},null,null,null,null,null,"00:00:00",null,"00:00:00","00:00:00"]
[null,{"$f":"IFERROR(IF(A7871=\"\",\"\",VLOOKUP(A7871,'Banco de Funcionários'!$A$2:$D$1048576,2,0)),\"\")","v":""},null,null,null,null,null,"00:00:00",null,"00:00:00","00:00:00"]
[null,{"$f":"IFERROR(IF(A7876=\"\",\"\",VLOOKUP(A7876,'Banco de Funcionários'!$A$2:$D$1048576,2,0)),\"\")","v":""},null,null,null,null,null,"00:00:00",null,"00:00:00","00:00:00"]
[null,{"$f":"IFERROR(IF(A7882=\"\",\"\",VLOOKUP(A7882,'Banco de Funcionários'!$A$2:$D$1048576,2,0)),\"\")","v":""},null,null,null,null,null,"00:00:00",null,"00:00:00","00:00:00"]
[null,{"$f":"IFERROR(IF(A7887=\"\",\"\",VLOOKUP(A7887,'Banco de Funcionários'!$A$2:$D$1048576,2,0)),\"\")","v":""},null,null,null,null,null,"00:00:00",null,"00:00:00","00:00:00"]
[null,{"$f":"IFERROR(IF(A7892=\"\",\"\",VLOOKUP(A7892,'Banco de Funcionários'!$A$2:$D$1048576,2,0)),\"\")","v":""},null,null,null,null,null,"00:00:00",null,"00:00:00","00:00:00"]
[null,{"$f":"IFERROR(IF(A7893=\"\",\"\",VLOOKUP(A7893,'Banco de Funcionários'!$A$2:$D$1048576,2,0)),\"\")","v":""},null,null,null,null,null,"00:00:00",null,"00:00:00","00:00:00"]
[null,{"$f":"IFERROR(IF(A7898=\"\",\"\",VLOOKUP(A7898,'Banco de Funcionários'!$A$2:$D$1048576,2,0)),\"\")","v":""},null,null,null,null,null,"00:00:00",null,"00:00:00","00:00:00"]
[null,{"$f":"IFERROR(IF(A7903=\"\",\"\",VLOOKUP(A7903,'Banco de Funcionários'!$A$2:$D$1048576,2,0)),\"\")","v":""},null,null,null,null,null,"00:00:00",null,"00:00:00","00:00:00"]
[null,{"$f":"IFERROR(IF(A7908=\"\",\"\",VLOOKUP(A7908,'Banco de Funcionários'!$A$2:$D$1048576,2,0)),\"\")","v":""},null,null,null,null,null,"00:00:00",null,"00:00:00","00:00:00"]
[null,{"$f":"IFERROR(IF(A7913=\"\",\"\",VLOOKUP(A7913,'Banco de Funcionários'!$A$2:$D$1048576,2,0)),\"\")","v":""},null,null,null,null,null,"00:00:00",null,"00:00:00","00:00:00"]
[null,{"$f":"IFERROR(IF(A7919=\"\",\"\",VLOOKUP(A7919,'Banco de Funcionários'!$A$2:$D$1048576,2,0)),\"\")","v":""},null,null,null,null,null,"00:00:00",null,"00:00:00","00:00:00"]
[null,{"$f":"IFERROR(IF(A7924=\"\",\"\",VLOOKUP(A7924,'Banco de Funcionários'!$A$2:$D$1048576,2,0)),\"\")","v":""},null,null,null,null,null,"00:00:00",null,"00:00:00","00:00:00"]
[null,{"$f":"IFERROR(IF(A7929=\"\",\"\",VLOOKUP(A7929,'Banco de Funcionários'!$A$2:$D$1048576,2,0)),\"\")","v":""},null,null,null,null,null,"00:00:00",null,"00:00:00","00:00:00"]
[null,{"$f":"IFERROR(IF(A7935=\"\",\"\",VLOOKUP(A7935,'Banco de Funcionários'!$A$2:$D$1048576,2,0)),\"\")","v":""},null,null,null,null,null,"00:00:00",null,"00:00:00","00:00:00"]
[null,{"$f":"IFERROR(IF(A7940=\"\",\"\",VLOOKUP(A7940,'Banco de Funcionários'!$A$2:$D$1048576,2,0)),\"\")","v":""},null,null,null,null,null,"00:00:00",null,"00:00:00","00:00:00"]
[null,{"$f":"IFERROR(IF(A7945=\"\",\"\",VLOOKUP(A7945,'Banco de Funcionários'!$A$2:$D$1048576,2,0)),\"\")","v":""},null,null,null,null,null,"00:00:00",null,"00:00:00","00:00:00"]
[null,{"$f":"IFERROR(IF(A7951=\"\",\"\",VLOOKUP(A7951,'Banco de Funcionários'!$A$2:$D$1048576,2,0)),\"\")","v":""},null,null,null,null,null,"00:00:00",null,"00:00:00","00:00:00"]
[null,{"$f":"IFERROR(IF(A7956=\"\",\"\",VLOOKUP(A7956,'Banco de Funcionários'!$A$2:$D$1048576,2,0)),\"\")","v":""},null,null,null,null,null,"00:00:00",null,"00:00:00","00:00:00"]
[null,{"$f":"IFERROR(IF(A7957=\"\",\"\",VLOOKUP(A7957,'Banco de Funcionários'!$A$2:$D$1048576,2,0)),\"\")","v":""},null,null,null,null,null,"00:00:00",null,"00:00:00","00:00:00"]
[null,{"$f":"IFERROR(IF(A7962=\"\",\"\",VLOOKUP(A7962,'Banco de Funcionários'!$A$2:$D$1048576,2,0)),\"\")","v":""},null,null,null,null,null,"00:00:00",null,"00:00:00","00:00:00"]
[null,{"$f":"IFERROR(IF(A7967=\"\",\"\",VLOOKUP(A7967,'Banco de Funcionários'!$A$2:$D$1048576,2,0)),\"\")","v":""},null,null,null,null,null,"00:00:00",null,"00:00:00","00:00:00"]
[null,{"$f":"IFERROR(IF(A7973=\"\",\"\",VLOOKUP(A7973,'Banco de Funcionários'!$A$2:$D$1048576,2,0)),\"\")","v":""},null,null,null,null,null,"00:00:00",null,"00:00:00","00:00:00"]
[null,{"$f":"IFERROR(IF(A7978=\"\",\"\",VLOOKUP(A7978,'Banco de Funcionários'!$A$2:$D$1048576,2,0)),\"\")","v":""},null,null,null,null,null,"00:00:00",null,"00:00:00","00:00:00"]
[null,{"$f":"IFERROR(IF(A7984=\"\",\"\",VLOOKUP(A7984,'Banco de Funcionários'!$A$2:$D$1048576,2,0)),\"\")","v":""},null,null,null,null,null,"00:00:00",null,"00:00:00","00:00:00"]
[null,{"$f":"IFERROR(IF(A7989=\"\",\"\",VLOOKUP(A7989,'Banco de Funcionários'!$A$2:$D$1048576,2,0)),\"\")","v":""},null,null,null,null,null,"00:00:00",null,"00:00:00","00:00:00"]
[null,{"$f":"IFERROR(IF(A7994=\"\",\"\",VLOOKUP(A7994,'Banco de Funcionários'!$A$2:$D$1048576,2,0)),\"\")","v":""},null,null,null,null,null,"00:00:00",null,"00:00:00","00:00:00"]
[null,{"$f":"IFERROR(IF(A8000=\"\",\"\",VLOOKUP(A8000,'Banco de Funcionários'!$A$2:$D$1048576,2,0)),\"\")","v":""},null,null,null,null,null,"00:00:00",null,"00:00:00","00:00:00"]
[null,{"$f":"IFERROR(IF(A8005=\"\",\"\",VLOOKUP(A8005,'Banco de Funcionários'!$A$2:$D$1048576,2,0)),\"\")","v":""},null,null,null,null,null,"00:00:00",null,"00:00:00","00:00:00"]
[null,{"$f":"IFERROR(IF(A8010=\"\",\"\",VLOOKUP(A8010,'Banco de Funcionários'!$A$2:$D$1048576,2,0)),\"\")","v":""},null,null,null,null,null,"00:00:00",null,"00:00:00","00:00:00"]
[null,{"$f":"IFERROR(IF(A8014=\"\",\"\",VLOOKUP(A8014,'Banco de Funcionários'!$A$2:$D$1048576,2,0)),\"\")","v":""},null,null,null,null,null,"00:00:00",null,"00:00:00","00:00:00"]
[null,{"$f":"IFERROR(IF(A8020=\"\",\"\",VLOOKUP(A8020,'Banco de Funcionários'!$A$2:$D$1048576,2,0)),\"\")","v":""},null,null,null,null,null,"00:00:00",null,"00:00:00","00:00:00"]
[null,{"$f":"IFERROR(IF(A8021=\"\",\"\",VLOOKUP(A8021,'Banco de Funcionários'!$A$2:$D$1048576,2,0)),\"\")","v":""},null,null,null,null,null,"00:00:00",null,"00:00:00","00:00:00"]
[null,{"$f":"IFERROR(IF(A8026=\"\",\"\",VLOOKUP(A8026,'Banco de Funcionários'!$A$2:$D$1048576,2,0)),\"\")","v":""},null,null,null,null,null,"00:00:00",null,"00:00:00","00:00:00"]
[null,{"$f":"IFERROR(IF(A8031=\"\",\"\",VLOOKUP(A8031,'Banco de Funcionários'!$A$2:$D$1048576,2,0)),\"\")","v":""},null,null,null,null,null,"00:00:00",null,"00:00:00","00:00:00"]
[null,{"$f":"IFERROR(IF(A8037=\"\",\"\",VLOOKUP(A8037,'Banco de Funcionários'!$A$2:$D$1048576,2,0)),\"\")","v":""},null,null,null,null,null,"00:00:00",null,"00:00:00","00:00:00"]
[null,{"$f":"IFERROR(IF(A8042=\"\",\"\",VLOOKUP(A8042,'Banco de Funcionários'!$A$2:$D$1048576,2,0)),\"\")","v":""},null,null,null,null,null,"00:00:00",null,"00:00:00","00:00:00"]
[null,{"$f":"IFERROR(IF(A8047=\"\",\"\",VLOOKUP(A8047,'Banco de Funcionários'!$A$2:$D$1048576,2,0)),\"\")","v":""},null,null,null,null,null,"00:00:00",null,"00:00:00","00:00:00"]
[null,{"$f":"IFERROR(IF(A8053=\"\",\"\",VLOOKUP(A8053,'Banco de Funcionários'!$A$2:$D$1048576,2,0)),\"\")","v":""},null,null,null,null,null,"00:00:00",null,"00:00:00","00:00:00"]
[null,{"$f":"IFERROR(IF(A8058=\"\",\"\",VLOOKUP(A8058,'Banco de Funcionários'!$A$2:$D$1048576,2,0)),\"\")","v":""},null,null,null,null,null,"00:00:00",null,"00:00:00","00:00:00"]
[null,{"$f":"IFERROR(IF(A8064=\"\",\"\",VLOOKUP(A8064,'Banco de Funcionários'!$A$2:$D$1048576,2,0)),\"\")","v":""},null,null,null,null,null,"00:00:00",null,"00:00:00","00:00:00"]
[null,{"$f":"IFERROR(IF(A8069=\"\",\"\",VLOOKUP(A8069,'Banco de Funcionários'!$A$2:$D$1048576,2,0)),\"\")","v":""},null,null,null,null,null,"00:00:00",null,"00:00:00","00:00:00"]
[null,{"$f":"IFERROR(IF(A8074=\"\",\"\",VLOOKUP(A8074,'Banco de Funcionários'!$A$2:$D$1048576,2,0)),\"\")","v":""},null,null,null,null,null,"00:00:00",null,"00:00:00","00:00:00"]
[null,{"$f":"IFERROR(IF(A8080=\"\",\"\",VLOOKUP(A8080,'Banco de Funcionários'!$A$2:$D$1048576,2,0)),\"\")","v":""},null,null,null,null,null,"00:00:00",null,"00:00:00","00:00:00"]
[null,{"$f":"IFERROR(IF(A8085=\"\",\"\",VLOOKUP(A8085,'Banco de Funcionários'!$A$2:$D$1048576,2,0)),\"\")","v":""},null,null,null,null,null,"00:00:00",null,"00:00:00","00:00:00"]
[null,{"$f":"IFERROR(IF(A8086=\"\",\"\",VLOOKUP(A8086,'Banco de Funcionários'!$A$2:$D$1048576,2,0)),\"\")","v":""},null,null,null,null,null,"00:00:00",null,"00:00:00","00:00:00"]
[null,{"$f":"IFERROR(IF(A8091=\"\",\"\",VLOOKUP(A8091,'Banco de Funcionários'!$A$2:$D$1048576,2,0)),\"\")","v":""},null,null,null,null,null,"00:00:00",null,"00:00:00","00:00:00"]
[null,{"$f":"IFERROR(IF(A8096=\"\",\"\",VLOOKUP(A8096,'Banco de Funcionários'!$A$2:$D$1048576,2,0)),\"\")","v":""},null,null,null,null,null,"00:00:00",null,"00:00:00","00:00:00"]
[null,{"$f":"IFERROR(IF(A8102=\"\",\"\",VLOOKUP(A8102,'Banco de Funcionários'!$A$2:$D$1048576,2,0)),\"\")","v":""},null,null,null,null,null,"00:00:00",null,"00:00:00","00:00:00"]
[null,{"$f":"IFERROR(IF(A8107=\"\",\"\",VLOOKUP(A8107,'Banco de Funcionários'!$A$2:$D$1048576,2,0)),\"\")","v":""},null,null,null,null,null,"00:00:00",null,"00:00:00","00:00:00"]
[null,{"$f":"IFERROR(IF(A8112=\"\",\"\",VLOOKUP(A8112,'Banco de Funcionários'!$A$2:$D$1048576,2,0)),\"\")","v":""},null,null,null,null,null,"00:00:00",null,"00:00:00","00:00:00"]
[null,{"$f":"IFERROR(IF(A8118=\"\",\"\",VLOOKUP(A8118,'Banco de Funcionários'!$A$2:$D$1048576,2,0)),\"\")","v":""},null,null,null,null,null,"00:00:00",null,"00:00:00","00:00:00"]
[null,{"$f":"IFERROR(IF(A8121=\"\",\"\",VLOOKUP(A8121,'Banco de Funcionários'!$A$2:$D$1048576,2,0)),\"\")","v":""},null,null,null,null,null,"00:00:00",null,"00:00:00","00:00:00"]
[null,{"$f":"IFERROR(IF(A8128=\"\",\"\",VLOOKUP(A8128,'Banco de Funcionários'!$A$2:$D$1048576,2,0)),\"\")","v":""},null,null,null,null,null,"00:00:00",null,"00:00:00","00:00:00"]
[null,{"$f":"IFERROR(IF(A8133=\"\",\"\",VLOOKUP(A8133,'Banco de Funcionários'!$A$2:$D$1048576,2,0)),\"\")","v":""},null,null,null,null,null,"00:00:00",null,"00:00:00","00:00:00"]
[null,{"$f":"IFERROR(IF(A8138=\"\",\"\",VLOOKUP(A8138,'Banco de Funcionários'!$A$2:$D$1048576,2,0)),\"\")","v":""},null,null,null,null,null,"00:00:00",null,"00:00:00","00:00:00"]
[null,{"$f":"IFERROR(IF(A8144=\"\",\"\",VLOOKUP(A8144,'Banco de Funcionários'!$A$2:$D$1048576,2,0)),\"\")","v":""},null,null,null,null,null,"00:00:00",null,"00:00:00","00:00:00"]
[null,{"$f":"IFERROR(IF(A8149=\"\",\"\",VLOOKUP(A8149,'Banco de Funcionários'!$A$2:$D$1048576,2,0)),\"\")","v":""},null,null,null,null,null,"00:00:00",null,"00:00:00","00:00:00"]
[null,{"$f":"IFERROR(IF(A8150=\"\",\"\",VLOOKUP(A8150,'Banco de Funcionários'!$A$2:$D$1048576,2,0)),\"\")","v":""},null,null,null,null,null,"00:00:00",null,"00:00:00","00:00:00"]
[null,{"$f":"IFERROR(IF(A8155=\"\",\"\",VLOOKUP(A8155,'Banco de Funcionários'!$A$2:$D$1048576,2,0)),\"\")","v":""},null,null,null,null,null,"00:00:00",null,"00:00:00","00:00:00"]
[null,{"$f":"IFERROR(IF(A8160=\"\",\"\",VLOOKUP(A8160,'Banco de Funcionários'!$A$2:$D$1048576,2,0)),\"\")","v":""},null,null,null,null,null,"00:00:00",null,"00:00:00","00:00:00"]
[null,{"$f":"IFERROR(IF(A8166=\"\",\"\",VLOOKUP(A8166,'Banco de Funcionários'!$A$2:$D$1048576,2,0)),\"\")","v":""},null,null,null,null,null,"00:00:00",null,"00:00:00","00:00:00"]
[null,{"$f":"IFERROR(IF(A8171=\"\",\"\",VLOOKUP(A8171,'Banco de Funcionários'!$A$2:$D$1048576,2,0)),\"\")","v":""},null,null,null,null,null,"00:00:00",null,"00:00:00","00:00:00"]
[null,{"$f":"IFERROR(IF(A8176=\"\",\"\",VLOOKUP(A8176,'Banco de Funcionários'!$A$2:$D$1048576,2,0)),\"\")","v":""},null,null,null,null,null,"00:00:00",null,"00:00:00","00:00:00"]
[null,{"$f":"IFERROR(IF(A8182=\"\",\"\",VLOOKUP(A8182,'Banco de Funcionários'!$A$2:$D$1048576,2,0)),\"\")","v":""},null,null,null,null,null,"00:00:00",null,"00:00:00","00:00:00"]
[null,{"$f":"IFERROR(IF(A8187=\"\",\"\",VLOOKUP(A8187,'Banco de Funcionários'!$A$2:$D$1048576,2,0)),\"\")","v":""},null,null,null,null,null,"00:00:00",null,"00:00:00","00:00:00"]
[null,{"$f":"IFERROR(IF(A8193=\"\",\"\",VLOOKUP(A8193,'Banco de Funcionários'!$A$2:$D$1048576,2,0)),\"\")","v":""},null,null,null,null,null,"00:00:00",null,"00:00:00","00:00:00"]
[null,{"$f":"IFERROR(IF(A8198=\"\",\"\",VLOOKUP(A8198,'Banco de Funcionários'!$A$2:$D$1048576,2,0)),\"\")","v":""},null,null,null,null,null,"00:00:00",null,"00:00:00","00:00:00"]
[null,{"$f":"IFERROR(IF(A8203=\"\",\"\",VLOOKUP(A8203,'Banco de Funcionários'!$A$2:$D$1048576,2,0)),\"\")","v":""},null,null,null,null,null,"00:00:00",null,"00:00:00","00:00:00"]
[null,{"$f":"IFERROR(IF(A8209=\"\",\"\",VLOOKUP(A8209,'Banco de Funcionários'!$A$2:$D$1048576,2,0)),\"\")","v":""},null,null,null,null,null,"00:00:00",null,"00:00:00","00:00:00"]
[null,{"$f":"IFERROR(IF(A8214=\"\",\"\",VLOOKUP(A8214,'Banco de Funcionários'!$A$2:$D$1048576,2,0)),\"\")","v":""},null,null,null,null,null,"00:00:00",null,"00:00:00","00:00:00"]
[null,{"$f":"IFERROR(IF(A8219=\"\",\"\",VLOOKUP(A8219,'Banco de Funcionários'!$A$2:$D$1048576,2,0)),\"\")","v":""},null,null,null,null,null,"00:00:00",null,"00:00:00","00:00:00"]
[null,{"$f":"IFERROR(IF(A8220=\"\",\"\",VLOOKUP(A8220,'Banco de Funcionários'!$A$2:$D$1048576,2,0)),\"\")","v":""},null,null,null,null,null,"00:00:00",null,"00:00:00","00:00:00"]
[null,{"$f":"IFERROR(IF(A8225=\"\",\"\",VLOOKUP(A8225,'Banco de Funcionários'!$A$2:$D$1048576,2,0)),\"\")","v":""},null,null,null,null,null,"00:00:00",null,"00:00:00","00:00:00"]
[null,{"$f":"IFERROR(IF(A8231=\"\",\"\",VLOOKUP(A8231,'Banco de Funcionários'!$A$2:$D$1048576,2,0)),\"\")","v":""},null,null,null,null,null,"00:00:00",null,"00:00:00","00:00:00"]
[null,{"$f":"IFERROR(IF(A8238=\"\",\"\",VLOOKUP(A8238,'Banco de Funcionários'!$A$2:$D$1048576,2,0)),\"\")","v":""},null,null,null,null,null,"00:00:00",null,"00:00:00","00:00:00"]
[null,{"$f":"IFERROR(IF(A8240=\"\",\"\",VLOOKUP(A8240,'Banco de Funcionários'!$A$2:$D$1048576,2,0)),\"\")","v":""},null,null,null,null,null,"00:00:00",null,"00:00:00","00:00:00"]
[null,{"$f":"IFERROR(IF(A8246=\"\",\"\",VLOOKUP(A8246,'Banco de Funcionários'!$A$2:$D$1048576,2,0)),\"\")","v":""},null,null,null,null,null,"00:00:00",null,"00:00:00","00:00:00"]
[null,{"$f":"IFERROR(IF(A8251=\"\",\"\",VLOOKUP(A8251,'Banco de Funcionários'!$A$2:$D$1048576,2,0)),\"\")","v":""},null,null,null,null,null,"00:00:00",null,"00:00:00","00:00:00"]
[null,{"$f":"IFERROR(IF(A8257=\"\",\"\",VLOOKUP(A8257,'Banco de Funcionários'!$A$2:$D$1048576,2,0)),\"\")","v":""},null,null,null,null,null,"00:00:00",null,"00:00:00","00:00:00"]
[null,{"$f":"IFERROR(IF(A8262=\"\",\"\",VLOOKUP(A8262,'Banco de Funcionários'!$A$2:$D$1048576,2,0)),\"\")","v":""},null,null,null,null,null,"00:00:00",null,"00:00:00","00:00:00"]
[null,{"$f":"IFERROR(IF(A8267=\"\",\"\",VLOOKUP(A8267,'Banco de Funcionários'!$A$2:$D$1048576,2,0)),\"\")","v":""},null,null,null,null,null,"00:00:00",null,"00:00:00","00:00:00"]
[null,{"$f":"IFERROR(IF(A8273=\"\",\"\",VLOOKUP(A8273,'Banco de Funcionários'!$A$2:$D$1048576,2,0)),\"\")","v":""},null,null,null,null,null,"00:00:00",null,"00:00:00","00:00:00"]
[null,{"$f":"IFERROR(IF(A8278=\"\",\"\",VLOOKUP(A8278,'Banco de Funcionários'!$A$2:$D$1048576,2,0)),\"\")","v":""},null,null,null,null,null,"00:00:00",null,"00:00:00","00:00:00"]
[null,{"$f":"IFERROR(IF(A8283=\"\",\"\",VLOOKUP(A8283,'Banco de Funcionários'!$A$2:$D$1048576,2,0)),\"\")","v":""},null,null,null,null,null,"00:00:00",null,"00:00:00","00:00:00"]
[null,{"$f":"IFERROR(IF(A8284=\"\",\"\",VLOOKUP(A8284,'Banco de Funcionários'!$A$2:$D$1048576,2,0)),\"\")","v":""},null,null,null,null,null,"00:00:00",null,"00:00:00","00:00:00"]
[null,{"$f":"IFERROR(IF(A8289=\"\",\"\",VLOOKUP(A8289,'Banco de Funcionários'!$A$2:$D$1048576,2,0)),\"\")","v":""},null,null,null,null,null,"00:00:00",null,"00:00:00","00:00:00"]
[null,{"$f":"IFERROR(IF(A8295=\"\",\"\",VLOOKUP(A8295,'Banco de Funcionários'!$A$2:$D$1048576,2,0)),\"\")","v":""},null,null,null,null,null,"00:00:00",null,"00:00:00","00:00:00"]
[null,{"$f":"IFERROR(IF(A8300=\"\",\"\",VLOOKUP(A8300,'Banco de Funcionários'!$A$2:$D$1048576,2,0)),\"\")","v":""},null,null,null,null,null,"00:00:00",null,"00:00:00","00:00:00"]
[null,{"$f":"IFERROR(IF(A8305=\"\",\"\",VLOOKUP(A8305,'Banco de Funcionários'!$A$2:$D$1048576,2,0)),\"\")","v":""},null,null,null,null,null,"00:00:00",null,"00:00:00","00:00:00"]
[null,{"$f":"IFERROR(IF(A8311=\"\",\"\",VLOOKUP(A8311,'Banco de Funcionários'!$A$2:$D$1048576,2,0)),\"\")","v":""},null,null,null,null,null,"00:00:00",null,"00:00:00","00:00:00"]
[null,{"$f":"IFERROR(IF(A8316=\"\",\"\",VLOOKUP(A8316,'Banco de Funcionários'!$A$2:$D$1048576,2,0)),\"\")","v":""},null,null,null,null,null,"00:00:00",null,"00:00:00","00:00:00"]
[null,{"$f":"IFERROR(IF(A8322=\"\",\"\",VLOOKUP(A8322,'Banco de Funcionários'!$A$2:$D$1048576,2,0)),\"\")","v":""},null,null,null,null,null,"00:00:00",null,"00:00:00","00:00:00"]
[null,{"$f":"IFERROR(IF(A8327=\"\",\"\",VLOOKUP(A8327,'Banco de Funcionários'!$A$2:$D$1048576,2,0)),\"\")","v":""},null,null,null,null,null,"00:00:00",null,"00:00:00","00:00:00"]
[null,{"$f":"IFERROR(IF(A8332=\"\",\"\",VLOOKUP(A8332,'Banco de Funcionários'!$A$2:$D$1048576,2,0)),\"\")","v":""},null,null,null,null,null,"00:00:00",null,"00:00:00","00:00:00"]
[null,{"$f":"IFERROR(IF(A8338=\"\",\"\",VLOOKUP(A8338,'Banco de Funcionários'!$A$2:$D$1048576,2,0)),\"\")","v":""},null,null,null,null,null,"00:00:00",null,"00:00:00","00:00:00"]
[null,{"$f":"IFERROR(IF(A8343=\"\",\"\",VLOOKUP(A8343,'Banco de Funcionários'!$A$2:$D$1048576,2,0)),\"\")","v":""},null,null,null,null,null,"00:00:00",null,"00:00:00","00:00:00"]
[null,{"$f":"IFERROR(IF(A8345=\"\",\"\",VLOOKUP(A8345,'Banco de Funcionários'!$A$2:$D$1048576,2,0)),\"\")","v":""},null,null,null,null,null,"00:00:00",null,"00:00:00","00:00:00"]
[null,{"$f":"IFERROR(IF(A8348=\"\",\"\",VLOOKUP(A8348,'Banco de Funcionários'!$A$2:$D$1048576,2,0)),\"\")","v":""},null,null,null,null,null,"00:00:00",null,"00:00:00","00:00:00"]
[null,{"$f":"IFERROR(IF(A8353=\"\",\"\",VLOOKUP(A8353,'Banco de Funcionários'!$A$2:$D$1048576,2,0)),\"\")","v":""},null,null,null,null,null,"00:00:00",null,"00:00:00","00:00:00"]
[null,{"$f":"IFERROR(IF(A8359=\"\",\"\",VLOOKUP(A8359,'Banco de Funcionários'!$A$2:$D$1048576,2,0)),\"\")","v":""},null,null,null,null,null,"00:00:00",null,"00:00:00","00:00:00"]
[null,{"$f":"IFERROR(IF(A8364=\"\",\"\",VLOOKUP(A8364,'Banco de Funcionários'!$A$2:$D$1048576,2,0)),\"\")","v":""},null,null,null,null,null,"00:00:00",null,"00:00:00","00:00:00"]
[null,{"$f":"IFERROR(IF(A8369=\"\",\"\",VLOOKUP(A8369,'Banco de Funcionários'!$A$2:$D$1048576,2,0)),\"\")","v":""},null,null,null,null,null,"00:00:00",null,"00:00:00","00:00:00"]
[null,{"$f":"IFERROR(IF(A8375=\"\",\"\",VLOOKUP(A8375,'Banco de Funcionários'!$A$2:$D$1048576,2,0)),\"\")","v":""},null,null,null,null,null,"00:00:00",null,"00:00:00","00:00:00"]
[null,{"$f":"IFERROR(IF(A8380=\"\",\"\",VLOOKUP(A8380,'Banco de Funcionários'!$A$2:$D$1048576,2,0)),\"\")","v":""},null,null,null,null,null,"00:00:00",null,"00:00:00","00:00:00"]
[null,{"$f":"IFERROR(IF(A8385=\"\",\"\",VLOOKUP(A8385,'Banco de Funcionários'!$A$2:$D$1048576,2,0)),\"\")","v":""},null,null,null,null,null,"00:00:00",null,"00:00:00","00:00:00"]
[null,{"$f":"IFERROR(IF(A8391=\"\",\"\",VLOOKUP(A8391,'Banco de Funcionários'!$A$2:$D$1048576,2,0)),\"\")","v":""},null,null,null,null,null,"00:00:00",null,"00:00:00","00:00:00"]
[null,{"$f":"IFERROR(IF(A8396=\"\",\"\",VLOOKUP(A8396,'Banco de Funcionários'!$A$2:$D$1048576,2,0)),\"\")","v":""},null,null,null,null,null,"00:00:00",null,"00:00:00","00:00:00"]
[null,{"$f":"IFERROR(IF(A8402=\"\",\"\",VLOOKUP(A8402,'Banco de Funcionários'!$A$2:$D$1048576,2,0)),\"\")","v":""},null,null,null,null,null,"00:00:00",null,"00:00:00","00:00:00"]
[null,{"$f":"IFERROR(IF(A8407=\"\",\"\",VLOOKUP(A8407,'Banco de Funcionários'!$A$2:$D$1048576,2,0)),\"\")","v":""},null,null,null,null,null,"00:00:00",null,"00:00:00","00:00:00"]
[null,{"$f":"IFERROR(IF(A8412=\"\",\"\",VLOOKUP(A8412,'Banco de Funcionários'!$A$2:$D$1048576,2,0)),\"\")","v":""},null,null,null,null,null,"00:00:00",null,"00:00:00","00:00:00"]
[null,{"$f":"IFERROR(IF(A8413=\"\",\"\",VLOOKUP(A8413,'Banco de Funcionários'!$A$2:$D$1048576,2,0)),\"\")","v":""},null,null,null,null,null,"00:00:00",null,"00:00:00","00:00:00"]
[null,{"$f":"IFERROR(IF(A8418=\"\",\"\",VLOOKUP(A8418,'Banco de Funcionários'!$A$2:$D$1048576,2,0)),\"\")","v":""},null,null,null,null,null,"00:00:00",null,"00:00:00","00:00:00"]
[null,{"$f":"IFERROR(IF(A8424=\"\",\"\",VLOOKUP(A8424,'Banco de Funcionários'!$A$2:$D$1048576,2,0)),\"\")","v":""},null,null,null,null,null,"00:00:00",null,"00:00:00","00:00:00"]
[null,{"$f":"IFERROR(IF(A8429=\"\",\"\",VLOOKUP(A8429,'Banco de Funcionários'!$A$2:$D$1048576,2,0)),\"\")","v":""},null,null,null,null,null,"00:00:00",null,"00:00:00","00:00:00"]
[null,{"$f":"IFERROR(IF(A8434=\"\",\"\",VLOOKUP(A8434,'Banco de Funcionários'!$A$2:$D$1048576,2,0)),\"\")","v":""},null,null,null,null,null,"00:00:00",null,"00:00:00","00:00:00"]
[null,{"$f":"IFERROR(IF(A8440=\"\",\"\",VLOOKUP(A8440,'Banco de Funcionários'!$A$2:$D$1048576,2,0)),\"\")","v":""},null,null,null,null,null,"00:00:00",null,"00:00:00","00:00:00"]
[null,{"$f":"IFERROR(IF(A8445=\"\",\"\",VLOOKUP(A8445,'Banco de Funcionários'!$A$2:$D$1048576,2,0)),\"\")","v":""},null,null,null,null,null,"00:00:00",null,"00:00:00","00:00:00"]
[null,{"$f":"IFERROR(IF(A8450=\"\",\"\",VLOOKUP(A8450,'Banco de Funcionários'!$A$2:$D$1048576,2,0)),\"\")","v":""},null,null,null,null,null,"00:00:00",null,"00:00:00","00:00:00"]
[null,{"$f":"IFERROR(IF(A8456=\"\",\"\",VLOOKUP(A8456,'Banco de Funcionários'!$A$2:$D$1048576,2,0)),\"\")","v":""},null,null,null,null,null,"00:00:00",null,"00:00:00","00:00:00"]
[null,{"$f":"IFERROR(IF(A8458=\"\",\"\",VLOOKUP(A8458,'Banco de Funcionários'!$A$2:$D$1048576,2,0)),\"\")","v":""},null,null,null,null,null,"00:00:00",null,"00:00:00","00:00:00"]
[null,{"$f":"IFERROR(IF(A8466=\"\",\"\",VLOOKUP(A8466,'Banco de Funcionários'!$A$2:$D$1048576,2,0)),\"\")","v":""},null,null,null,null,null,"00:00:00",null,"00:00:00","00:00:00"]
[null,{"$f":"IFERROR(IF(A8471=\"\",\"\",VLOOKUP(A8471,'Banco de Funcionários'!$A$2:$D$1048576,2,0)),\"\")","v":""},null,null,null,null,null,"00:00:00",null,"00:00:00","00:00:00"]
[null,{"$f":"IFERROR(IF(A8476=\"\",\"\",VLOOKUP(A8476,'Banco de Funcionários'!$A$2:$D$1048576,2,0)),\"\")","v":""},null,null,null,null,null,"00:00:00",null,"00:00:00","00:00:00"]
[null,{"$f":"IFERROR(IF(A8477=\"\",\"\",VLOOKUP(A8477,'Banco de Funcionários'!$A$2:$D$1048576,2,0)),\"\")","v":""},null,null,null,null,null,"00:00:00",null,"00:00:00","00:00:00"]
[null,{"$f":"IFERROR(IF(A8482=\"\",\"\",VLOOKUP(A8482,'Banco de Funcionários'!$A$2:$D$1048576,2,0)),\"\")","v":""},null,null,null,null,null,"00:00:00",null,"00:00:00","00:00:00"]
[null,{"$f":"IFERROR(IF(A8487=\"\",\"\",VLOOKUP(A8487,'Banco de Funcionários'!$A$2:$D$1048576,2,0)),\"\")","v":""},null,null,null,null,null,"00:00:00",null,"00:00:00","00:00:00"]
[null,{"$f":"IFERROR(IF(A8493=\"\",\"\",VLOOKUP(A8493,'Banco de Funcionários'!$A$2:$D$1048576,2,0)),\"\")","v":""},null,null,null,null,null,"00:00:00",null,"00:00:00","00:00:00"]
[null,{"$f":"IFERROR(IF(A8498=\"\",\"\",VLOOKUP(A8498,'Banco de Funcionários'!$A$2:$D$1048576,2,0)),\"\")","v":""},null,null,null,null,null,"00:00:00",null,"00:00:00","00:00:00"]
[null,{"$f":"IFERROR(IF(A8504=\"\",\"\",VLOOKUP(A8504,'Banco de Funcionários'!$A$2:$D$1048576,2,0)),\"\")","v":""},null,null,null,null,null,"00:00:00",null,"00:00:00","00:00:00"]
[null,{"$f":"IFERROR(IF(A8509=\"\",\"\",VLOOKUP(A8509,'Banco de Funcionários'!$A$2:$D$1048576,2,0)),\"\")","v":""},null,null,null,null,null,"00:00:00",null,"00:00:00","00:00:00"]
[null,{"$f":"IFERROR(IF(A8514=\"\",\"\",VLOOKUP(A8514,'Banco de Funcionários'!$A$2:$D$1048576,2,0)),\"\")","v":""},null,null,null,null,null,"00:00:00",null,"00:00:00","00:00:00"]
[null,{"$f":"IFERROR(IF(A8520=\"\",\"\",VLOOKUP(A8520,'Banco de Funcionários'!$A$2:$D$1048576,2,0)),\"\")","v":""},null,null,null,null,null,"00:00:00",null,"00:00:00","00:00:00"]
[null,{"$f":"IFERROR(IF(A8525=\"\",\"\",VLOOKUP(A8525,'Banco de Funcionários'!$A$2:$D$1048576,2,0)),\"\")","v":""},null,null,null,null,null,"00:00:00",null,"00:00:00","00:00:00"]
[null,{"$f":"IFERROR(IF(A8531=\"\",\"\",VLOOKUP(A8531,'Banco de Funcionários'!$A$2:$D$1048576,2,0)),\"\")","v":""},null,null,null,null,null,"00:00:00",null,"00:00:00","00:00:00"]
[null,{"$f":"IFERROR(IF(A8536=\"\",\"\",VLOOKUP(A8536,'Banco de Funcionários'!$A$2:$D$1048576,2,0)),\"\")","v":""},null,null,null,null,null,"00:00:00",null,"00:00:00","00:00:00"]
[null,{"$f":"IFERROR(IF(A8541=\"\",\"\",VLOOKUP(A8541,'Banco de Funcionários'!$A$2:$D$1048576,2,0)),\"\")","v":""},null,null,null,null,null,"00:00:00",null,"00:00:00","00:00:00"]
[null,{"$f":"IFERROR(IF(A8542=\"\",\"\",VLOOKUP(A8542,'Banco de Funcionários'!$A$2:$D$1048576,2,0)),\"\")","v":""},null,null,null,null,null,"00:00:00",null,"00:00:00","00:00:00"]
[null,{"$f":"IFERROR(IF(A8547=\"\",\"\",VLOOKUP(A8547,'Banco de Funcionários'!$A$2:$D$1048576,2,0)),\"\")","v":""},null,null,null,null,null,"00:00:00",null,"00:00:00","00:00:00"]
[null,{"$f":"IFERROR(IF(A8552=\"\",\"\",VLOOKUP(A8552,'Banco de Funcionários'!$A$2:$D$1048576,2,0)),\"\")","v":""},null,null,null,null,null,"00:00:00",null,"00:00:00","00:00:00"]
[null,{"$f":"IFERROR(IF(A8558=\"\",\"\",VLOOKUP(A8558,'Banco de Funcionários'!$A$2:$D$1048576,2,0)),\"\")","v":""},null,null,null,null,null,"00:00:00",null,"00:00:00","00:00:00"]
[null,{"$f":"IFERROR(IF(A8563=\"\",\"\",VLOOKUP(A8563,'Banco de Funcionários'!$A$2:$D$1048576,2,0)),\"\")","v":""},null,null,null,null,null,"00:00:00",null,"00:00:00","00:00:00"]
[null,{"$f":"IFERROR(IF(A8569=\"\",\"\",VLOOKUP(A8569,'Banco de Funcionários'!$A$2:$D$1048576,2,0)),\"\")","v":""},null,null,null,null,null,"00:00:00",null,"00:00:00","00:00:00"]
[null,{"$f":"IFERROR(IF(A8573=\"\",\"\",VLOOKUP(A8573,'Banco de Funcionários'!$A$2:$D$1048576,2,0)),\"\")","v":""},null,null,null,null,null,"00:00:00",null,"00:00:00","00:00:00"]
[null,{"$f":"IFERROR(IF(A8578=\"\",\"\",VLOOKUP(A8578,'Banco de Funcionários'!$A$2:$D$1048576,2,0)),\"\")","v":""},null,null,null,null,null,"00:00:00",null,"00:00:00","00:00:00"]
[null,{"$f":"IFERROR(IF(A8584=\"\",\"\",VLOOKUP(A8584,'Banco de Funcionários'!$A$2:$D$1048576,2,0)),\"\")","v":""},null,null,null,null,null,"00:00:00",null,"00:00:00","00:00:00"]
[null,{"$f":"IFERROR(IF(A8589=\"\",\"\",VLOOKUP(A8589,'Banco de Funcionários'!$A$2:$D$1048576,2,0)),\"\")","v":""},null,null,null,null,null,"00:00:00",null,"00:00:00","00:00:00"]
[null,{"$f":"IFERROR(IF(A8595=\"\",\"\",VLOOKUP(A8595,'Banco de Funcionários'!$A$2:$D$1048576,2,0)),\"\")","v":""},null,null,null,null,null,"00:00:00",null,"00:00:00","00:00:00"]
[null,{"$f":"IFERROR(IF(A8600=\"\",\"\",VLOOKUP(A8600,'Banco de Funcionários'!$A$2:$D$1048576,2,0)),\"\")","v":""},null,null,null,null,null,"00:00:00",null,"00:00:00","00:00:00"]
[null,{"$f":"IFERROR(IF(A8605=\"\",\"\",VLOOKUP(A8605,'Banco de Funcionários'!$A$2:$D$1048576,2,0)),\"\")","v":""},null,null,null,null,null,"00:00:00",null,"00:00:00","00:00:00"]
[null,{"$f":"IFERROR(IF(A8606=\"\",\"\",VLOOKUP(A8606,'Banco de Funcionários'!$A$2:$D$1048576,2,0)),\"\")","v":""},null,null,null,null,null,"00:00:00",null,"00:00:00","00:00:00"]
[null,{"$f":"IFERROR(IF(A8611=\"\",\"\",VLOOKUP(A8611,'Banco de Funcionários'!$A$2:$D$1048576,2,0)),\"\")","v":""},null,null,null,null,null,"00:00:00",null,"00:00:00","00:00:00"]
[null,{"$f":"IFERROR(IF(A8616=\"\",\"\",VLOOKUP(A8616,'Banco de Funcionários'!$A$2:$D$1048576,2,0)),\"\")","v":""},null,null,null,null,null,"00:00:00",null,"00:00:00","00:00:00"]
[null,{"$f":"IFERROR(IF(A8622=\"\",\"\",VLOOKUP(A8622,'Banco de Funcionários'!$A$2:$D$1048576,2,0)),\"\")","v":""},null,null,null,null,null,"00:00:00",null,"00:00:00","00:00:00"]
[null,{"$f":"IFERROR(IF(A8627=\"\",\"\",VLOOKUP(A8627,'Banco de Funcionários'!$A$2:$D$1048576,2,0)),\"\")","v":""},null,null,null,null,null,"00:00:00",null,"00:00:00","00:00:00"]
[null,{"$f":"IFERROR(IF(A8633=\"\",\"\",VLOOKUP(A8633,'Banco de Funcionários'!$A$2:$D$1048576,2,0)),\"\")","v":""},null,null,null,null,null,"00:00:00",null,"00:00:00","00:00:00"]
[null,{"$f":"IFERROR(IF(A8638=\"\",\"\",VLOOKUP(A8638,'Banco de Funcionários'!$A$2:$D$1048576,2,0)),\"\")","v":""},null,null,null,null,null,"00:00:00",null,"00:00:00","00:00:00"]
[null,{"$f":"IFERROR(IF(A8643=\"\",\"\",VLOOKUP(A8643,'Banco de Funcionários'!$A$2:$D$1048576,2,0)),\"\")","v":""},null,null,null,null,null,{"$f":"(F8643-E8643)-G8643","v":"00:00:00"},null,{"$f":"IFERROR(H8643-I8643,\"\")","v":"00:00:00"},{"$f":"IFERROR(H8643+J8643,0)","v":"00:00:00"}]
[null,{"$f":"IFERROR(IF(A8649=\"\",\"\",VLOOKUP(A8649,'Banco de Funcionários'!$A$2:$D$1048576,2,0)),\"\")","v":""},null,null,null,null,null,"00:00:00",null,"00:00:00","00:00:00"]
[null,{"$f":"IFERROR(IF(A8654=\"\",\"\",VLOOKUP(A8654,'Banco de Funcionários'!$A$2:$D$1048576,2,0)),\"\")","v":""},null,null,null,null,null,"00:00:00",null,"00:00:00","00:00:00"]
[null,{"$f":"IFERROR(IF(A8659=\"\",\"\",VLOOKUP(A8659,'Banco de Funcionários'!$A$2:$D$1048576,2,0)),\"\")","v":""},null,null,null,null,null,"00:00:00",null,"00:00:00","00:00:00"]
[null,{"$f":"IFERROR(IF(A8665=\"\",\"\",VLOOKUP(A8665,'Banco de Funcionários'!$A$2:$D$1048576,2,0)),\"\")","v":""},null,null,null,null,null,"00:00:00",null,"00:00:00","00:00:00"]
[null,{"$f":"IFERROR(IF(A8670=\"\",\"\",VLOOKUP(A8670,'Banco de Funcionários'!$A$2:$D$1048576,2,0)),\"\")","v":""},null,null,null,null,null,"00:00:00",null,"00:00:00","00:00:00"]
[null,{"$f":"IFERROR(IF(A8671=\"\",\"\",VLOOKUP(A8671,'Banco de Funcionários'!$A$2:$D$1048576,2,0)),\"\")","v":""},null,null,null,null,null,"00:00:00",null,"00:00:00","00:00:00"]
[null,{"$f":"IFERROR(IF(A8676=\"\",\"\",VLOOKUP(A8676,'Banco de Funcionários'!$A$2:$D$1048576,2,0)),\"\")","v":""},null,null,null,null,null,"00:00:00",null,"00:00:00","00:00:00"]
[null,{"$f":"IFERROR(IF(A8682=\"\",\"\",VLOOKUP(A8682,'Banco de Funcionários'!$A$2:$D$1048576,2,0)),\"\")","v":""},null,null,null,null,null,"00:00:00",null,"00:00:00","00:00:00"]
[null,{"$f":"IFERROR(IF(A8686=\"\",\"\",VLOOKUP(A8686,'Banco de Funcionários'!$A$2:$D$1048576,2,0)),\"\")","v":""},null,null,null,null,null,"00:00:00",null,"00:00:00","00:00:00"]
[null,{"$f":"IFERROR(IF(A8691=\"\",\"\",VLOOKUP(A8691,'Banco de Funcionários'!$A$2:$D$1048576,2,0)),\"\")","v":""},null,null,null,null,null,"00:00:00",null,"00:00:00","00:00:00"]
[null,{"$f":"IFERROR(IF(A8697=\"\",\"\",VLOOKUP(A8697,'Banco de Funcionários'!$A$2:$D$1048576,2,0)),\"\")","v":""},null,null,null,null,null,"00:00:00",null,"00:00:00","00:00:00"]
[null,{"$f":"IFERROR(IF(A8702=\"\",\"\",VLOOKUP(A8702,'Banco de Funcionários'!$A$2:$D$1048576,2,0)),\"\")","v":""},null,null,null,null,null,"00:00:00",null,"00:00:00","00:00:00"]
[null,{"$f":"IFERROR(IF(A8707=\"\",\"\",VLOOKUP(A8707,'Banco de Funcionários'!$A$2:$D$1048576,2,0)),\"\")","v":""},null,null,null,null,null,{"$f":"(F8707-E8707)-G8707","v":"00:00:00"},null,{"$f":"IFERROR(H8707-I8707,\"\")","v":"00:00:00"},{"$f":"IFERROR(H8707+J8707,0)","v":"00:00:00"}]
[null,{"$f":"IFERROR(IF(A8713=\"\",\"\",VLOOKUP(A8713,'Banco de Funcionários'!$A$2:$D$1048576,2,0)),\"\")","v":""},null,null,null,null,null,"00:00:00",null,"00:00:00","00:00:00"]
[null,{"$f":"IFERROR(IF(A8718=\"\",\"\",VLOOKUP(A8718,'Banco de Funcionários'!$A$2:$D$1048576,2,0)),\"\")","v":""},null,null,null,null,null,"00:00:00",null,"00:00:00","00:00:00"]
[null,{"$f":"IFERROR(IF(A8723=\"\",\"\",VLOOKUP(A8723,'Banco de Funcionários'!$A$2:$D$1048576,2,0)),\"\")","v":""},null,null,null,null,null,"00:00:00",null,"00:00:00","00:00:00"]
[null,{"$f":"IFERROR(IF(A8729=\"\",\"\",VLOOKUP(A8729,'Banco de Funcionários'!$A$2:$D$1048576,2,0)),\"\")","v":""},null,null,null,null,null,"00:00:00",null,"00:00:00","00:00:00"]
[null,{"$f":"IFERROR(IF(A8734=\"\",\"\",VLOOKUP(A8734,'Banco de Funcionários'!$A$2:$D$1048576,2,0)),\"\")","v":""},null,null,null,null,null,"00:00:00",null,"00:00:00","00:00:00"]
[null,{"$f":"IFERROR(IF(A8735=\"\",\"\",VLOOKUP(A8735,'Banco de Funcionários'!$A$2:$D$1048576,2,0)),\"\")","v":""},null,null,null,null,null,"00:00:00",null,"00:00:00","00:00:00"]
[null,{"$f":"IFERROR(IF(A8740=\"\",\"\",VLOOKUP(A8740,'Banco de Funcionários'!$A$2:$D$1048576,2,0)),\"\")","v":""},null,null,null,null,null,"00:00:00",null,"00:00:00","00:00:00"]
[null,{"$f":"IFERROR(IF(A8745=\"\",\"\",VLOOKUP(A8745,'Banco de Funcionários'!$A$2:$D$1048576,2,0)),\"\")","v":""},null,null,null,null,null,"00:00:00",null,"00:00:00","00:00:00"]
[null,{"$f":"IFERROR(IF(A8751=\"\",\"\",VLOOKUP(A8751,'Banco de Funcionários'!$A$2:$D$1048576,2,0)),\"\")","v":""},null,null,null,null,null,"00:00:00",null,"00:00:00","00:00:00"]
[null,{"$f":"IFERROR(IF(A8756=\"\",\"\",VLOOKUP(A8756,'Banco de Funcionários'!$A$2:$D$1048576,2,0)),\"\")","v":""},null,null,null,null,null,"00:00:00",null,"00:00:00","00:00:00"]
[null,{"$f":"IFERROR(IF(A8762=\"\",\"\",VLOOKUP(A8762,'Banco de Funcionários'!$A$2:$D$1048576,2,0)),\"\")","v":""},null,null,null,null,null,"00:00:00",null,"00:00:00","00:00:00"]
[null,{"$f":"IFERROR(IF(A8767=\"\",\"\",VLOOKUP(A8767,'Banco de Funcionários'!$A$2:$D$1048576,2,0)),\"\")","v":""},null,null,null,null,null,"00:00:00",null,"00:00:00","00:00:00"]
[null,{"$f":"IFERROR(IF(A8772=\"\",\"\",VLOOKUP(A8772,'Banco de Funcionários'!$A$2:$D$1048576,2,0)),\"\")","v":""},null,null,null,null,null,"00:00:00",null,"00:00:00","00:00:00"]
[null,{"$f":"IFERROR(IF(A8778=\"\",\"\",VLOOKUP(A8778,'Banco de Funcionários'!$A$2:$D$1048576,2,0)),\"\")","v":""},null,null,null,null,null,"00:00:00",null,"00:00:00","00:00:00"]
[null,{"$f":"IFERROR(IF(A8783=\"\",\"\",VLOOKUP(A8783,'Banco de Funcionários'!$A$2:$D$1048576,2,0)),\"\")","v":""},null,null,null,null,null,"00:00:00",null,"00:00:00","00:00:00"]
[null,{"$f":"IFERROR(IF(A8788=\"\",\"\",VLOOKUP(A8788,'Banco de Funcionários'!$A$2:$D$1048576,2,0)),\"\")","v":""},null,null,null,null,null,"00:00:00",null,"00:00:00","00:00:00"]
[null,{"$f":"IFERROR(IF(A8793=\"\",\"\",VLOOKUP(A8793,'Banco de Funcionários'!$A$2:$D$1048576,2,0)),\"\")","v":""},null,null,null,null,null,"00:00:00",null,"00:00:00","00:00:00"]
[null,{"$f":"IFERROR(IF(A8798=\"\",\"\",VLOOKUP(A8798,'Banco de Funcionários'!$A$2:$D$1048576,2,0)),\"\")","v":""},null,null,null,null,null,"00:00:00",null,"00:00:00","00:00:00"]
[null,{"$f":"IFERROR(IF(A8799=\"\",\"\",VLOOKUP(A8799,'Banco de Funcionários'!$A$2:$D$1048576,2,0)),\"\")","v":""},null,null,null,null,null,"00:00:00",null,"00:00:00","00:00:00"]
[null,{"$f":"IFERROR(IF(A8804=\"\",\"\",VLOOKUP(A8804,'Banco de Funcionários'!$A$2:$D$1048576,2,0)),\"\")","v":""},null,null,null,null,null,"00:00:00",null,"00:00:00","00:00:00"]
[null,{"$f":"IFERROR(IF(A8809=\"\",\"\",VLOOKUP(A8809,'Banco de Funcionários'!$A$2:$D$1048576,2,0)),\"\")","v":""},null,null,null,null,null,"00:00:00",null,"00:00:00","00:00:00"]
[null,{"$f":"IFERROR(IF(A8815=\"\",\"\",VLOOKUP(A8815,'Banco de Funcionários'!$A$2:$D$1048576,2,0)),\"\")","v":""},null,null,null,null,null,"00:00:00",null,"00:00:00","00:00:00"]
[null,{"$f":"IFERROR(IF(A8820=\"\",\"\",VLOOKUP(A8820,'Banco de Funcionários'!$A$2:$D$1048576,2,0)),\"\")","v":""},null,null,null,null,null,"00:00:00",null,"00:00:00","00:00:00"]
[null,{"$f":"IFERROR(IF(A8825=\"\",\"\",VLOOKUP(A8825,'Banco de Funcionários'!$A$2:$D$1048576,2,0)),\"\")","v":""},null,null,null,null,null,"00:00:00",null,"00:00:00","00:00:00"]
[null,{"$f":"IFERROR(IF(A8831=\"\",\"\",VLOOKUP(A8831,'Banco de Funcionários'!$A$2:$D$1048576,2,0)),\"\")","v":""},null,null,null,null,null,"00:00:00",null,"00:00:00","00:00:00"]
[null,{"$f":"IFERROR(IF(A8836=\"\",\"\",VLOOKUP(A8836,'Banco de Funcionários'!$A$2:$D$1048576,2,0)),\"\")","v":""},null,null,null,null,null,"00:00:00",null,"00:00:00","00:00:00"]
[null,{"$f":"IFERROR(IF(A8842=\"\",\"\",VLOOKUP(A8842,'Banco de Funcionários'!$A$2:$D$1048576,2,0)),\"\")","v":""},null,null,null,null,null,"00:00:00",null,"00:00:00","00:00:00"]
[null,{"$f":"IFERROR(IF(A8847=\"\",\"\",VLOOKUP(A8847,'Banco de Funcionários'!$A$2:$D$1048576,2,0)),\"\")","v":""},null,null,null,null,null,"00:00:00",null,"00:00:00","00:00:00"]
[null,{"$f":"IFERROR(IF(A8852=\"\",\"\",VLOOKUP(A8852,'Banco de Funcionários'!$A$2:$D$1048576,2,0)),\"\")","v":""},null,null,null,null,null,"00:00:00",null,"00:00:00","00:00:00"]
[null,{"$f":"IFERROR(IF(A8858=\"\",\"\",VLOOKUP(A8858,'Banco de Funcionários'!$A$2:$D$1048576,2,0)),\"\")","v":""},null,null,null,null,null,"00:00:00",null,"00:00:00","00:00:00"]
[null,{"$f":"IFERROR(IF(A8863=\"\",\"\",VLOOKUP(A8863,'Banco de Funcionários'!$A$2:$D$1048576,2,0)),\"\")","v":""},null,null,null,null,null,"00:00:00",null,"00:00:00","00:00:00"]
[null,{"$f":"IFERROR(IF(A8864=\"\",\"\",VLOOKUP(A8864,'Banco de Funcionários'!$A$2:$D$1048576,2,0)),\"\")","v":""},null,null,null,null,null,"00:00:00",null,"00:00:00","00:00:00"]
[null,{"$f":"IFERROR(IF(A8869=\"\",\"\",VLOOKUP(A8869,'Banco de Funcionários'!$A$2:$D$1048576,2,0)),\"\")","v":""},null,null,null,null,null,"00:00:00",null,"00:00:00","00:00:00"]
[null,{"$f":"IFERROR(IF(A8874=\"\",\"\",VLOOKUP(A8874,'Banco de Funcionários'!$A$2:$D$1048576,2,0)),\"\")","v":""},null,null,null,null,null,"00:00:00",null,"00:00:00","00:00:00"]
[null,{"$f":"IFERROR(IF(A8880=\"\",\"\",VLOOKUP(A8880,'Banco de Funcionários'!$A$2:$D$1048576,2,0)),\"\")","v":""},null,null,null,null,null,"00:00:00",null,"00:00:00","00:00:00"]
[null,{"$f":"IFERROR(IF(A8885=\"\",\"\",VLOOKUP(A8885,'Banco de Funcionários'!$A$2:$D$1048576,2,0)),\"\")","v":""},null,null,null,null,null,"00:00:00",null,"00:00:00","00:00:00"]
[null,{"$f":"IFERROR(IF(A8890=\"\",\"\",VLOOKUP(A8890,'Banco de Funcionários'!$A$2:$D$1048576,2,0)),\"\")","v":""},null,null,null,null,null,"00:00:00",null,"00:00:00","00:00:00"]
[null,{"$f":"IFERROR(IF(A8896=\"\",\"\",VLOOKUP(A8896,'Banco de Funcionários'!$A$2:$D$1048576,2,0)),\"\")","v":""},null,null,null,null,null,"00:00:00",null,"00:00:00","00:00:00"]
[null,{"$f":"IFERROR(IF(A8901=\"\",\"\",VLOOKUP(A8901,'Banco de Funcionários'!$A$2:$D$1048576,2,0)),\"\")","v":""},null,null,null,null,null,"00:00:00",null,"00:00:00","00:00:00"]
[null,{"$f":"IFERROR(IF(A8906=\"\",\"\",VLOOKUP(A8906,'Banco de Funcionários'!$A$2:$D$1048576,2,0)),\"\")","v":""},null,null,null,null,null,"00:00:00",null,"00:00:00","00:00:00"]
[null,{"$f":"IFERROR(IF(A8911=\"\",\"\",VLOOKUP(A8911,'Banco de Funcionários'!$A$2:$D$1048576,2,0)),\"\")","v":""},null,null,null,null,null,"00:00:00",null,"00:00:00","00:00:00"]
[null,{"$f":"IFERROR(IF(A8916=\"\",\"\",VLOOKUP(A8916,'Banco de Funcionários'!$A$2:$D$1048576,2,0)),\"\")","v":""},null,null,null,null,null,"00:00:00",null,"00:00:00","00:00:00"]
[null,{"$f":"IFERROR(IF(A8922=\"\",\"\",VLOOKUP(A8922,'Banco de Funcionários'!$A$2:$D$1048576,2,0)),\"\")","v":""},null,null,null,null,null,"00:00:00",null,"00:00:00","00:00:00"]
[null,{"$f":"IFERROR(IF(A8927=\"\",\"\",VLOOKUP(A8927,'Banco de Funcionários'!$A$2:$D$1048576,2,0)),\"\")","v":""},null,null,null,null,null,"00:00:00",null,"00:00:00","00:00:00"]
[null,{"$f":"IFERROR(IF(A8932=\"\",\"\",VLOOKUP(A8932,'Banco de Funcionários'!$A$2:$D$1048576,2,0)),\"\")","v":""},null,null,null,null,null,"00:00:00",null,"00:00:00","00:00:00"]
[null,{"$f":"IFERROR(IF(A8933=\"\",\"\",VLOOKUP(A8933,'Banco de Funcionários'!$A$2:$D$1048576,2,0)),\"\")","v":""},null,null,null,null,null,"00:00:00",null,"00:00:00","00:00:00"]
[null,{"$f":"IFERROR(IF(A8938=\"\",\"\",VLOOKUP(A8938,'Banco de Funcionários'!$A$2:$D$1048576,2,0)),\"\")","v":""},null,null,null,null,null,"00:00:00",null,"00:00:00","00:00:00"]
[null,{"$f":"IFERROR(IF(A8944=\"\",\"\",VLOOKUP(A8944,'Banco de Funcionários'!$A$2:$D$1048576,2,0)),\"\")","v":""},null,null,null,null,null,"00:00:00",null,"00:00:00","00:00:00"]
[null,{"$f":"IFERROR(IF(A8949=\"\",\"\",VLOOKUP(A8949,'Banco de Funcionários'!$A$2:$D$1048576,2,0)),\"\")","v":""},null,null,null,null,null,"00:00:00",null,"00:00:00","00:00:00"]
[null,{"$f":"IFERROR(IF(A8954=\"\",\"\",VLOOKUP(A8954,'Banco de Funcionários'!$A$2:$D$1048576,2,0)),\"\")","v":""},null,null,null,null,null,"00:00:00",null,"00:00:00","00:00:00"]
[null,{"$f":"IFERROR(IF(A8960=\"\",\"\",VLOOKUP(A8960,'Banco de Funcionários'!$A$2:$D$1048576,2,0)),\"\")","v":""},null,null,null,null,null,"00:00:00",null,"00:00:00","00:00:00"]
[null,{"$f":"IFERROR(IF(A8965=\"\",\"\",VLOOKUP(A8965,'Banco de Funcionários'!$A$2:$D$1048576,2,0)),\"\")","v":""},null,null,null,null,null,"00:00:00",null,"00:00:00","00:00:00"]
[null,{"$f":"IFERROR(IF(A8971=\"\",\"\",VLOOKUP(A8971,'Banco de Funcionários'!$A$2:$D$1048576,2,0)),\"\")","v":""},null,null,null,null,null,"00:00:00",null,"00:00:00","00:00:00"]
[null,{"$f":"IFERROR(IF(A8976=\"\",\"\",VLOOKUP(A8976,'Banco de Funcionários'!$A$2:$D$1048576,2,0)),\"\")","v":""},null,null,null,null,null,"00:00:00",null,"00:00:00","00:00:00"]
[null,{"$f":"IFERROR(IF(A8981=\"\",\"\",VLOOKUP(A8981,'Banco de Funcionários'!$A$2:$D$1048576,2,0)),\"\")","v":""},null,null,null,null,null,"00:00:00",null,"00:00:00","00:00:00"]
[null,{"$f":"IFERROR(IF(A8987=\"\",\"\",VLOOKUP(A8987,'Banco de Funcionários'!$A$2:$D$1048576,2,0)),\"\")","v":""},null,null,null,null,null,"00:00:00",null,"00:00:00","00:00:00"]
[null,{"$f":"IFERROR(IF(A8992=\"\",\"\",VLOOKUP(A8992,'Banco de Funcionários'!$A$2:$D$1048576,2,0)),\"\")","v":""},null,null,null,null,null,"00:00:00",null,"00:00:00","00:00:00"]
[null,{"$f":"IFERROR(IF(A8997=\"\",\"\",VLOOKUP(A8997,'Banco de Funcionários'!$A$2:$D$1048576,2,0)),\"\")","v":""},null,null,null,null,null,"00:00:00",null,"00:00:00","00:00:00"]
[null,{"$f":"IFERROR(IF(A8998=\"\",\"\",VLOOKUP(A8998,'Banco de Funcionários'!$A$2:$D$1048576,2,0)),\"\")","v":""},null,null,null,null,null,"00:00:00",null,"00:00:00","00:00:00"]
[null,{"$f":"IFERROR(IF(A9003=\"\",\"\",VLOOKUP(A9003,'Banco de Funcionários'!$A$2:$D$1048576,2,0)),\"\")","v":""},null,null,null,null,null,"00:00:00",null,"00:00:00","00:00:00"]
[null,{"$f":"IFERROR(IF(A9009=\"\",\"\",VLOOKUP(A9009,'Banco de Funcionários'!$A$2:$D$1048576,2,0)),\"\")","v":""},null,null,null,null,null,"00:00:00",null,"00:00:00","00:00:00"]
[null,{"$f":"IFERROR(IF(A9013=\"\",\"\",VLOOKUP(A9013,'Banco de Funcionários'!$A$2:$D$1048576,2,0)),\"\")","v":""},null,null,null,null,null,"00:00:00",null,"00:00:00","00:00:00"]
[null,{"$f":"IFERROR(IF(A9018=\"\",\"\",VLOOKUP(A9018,'Banco de Funcionários'!$A$2:$D$1048576,2,0)),\"\")","v":""},null,null,null,null,null,"00:00:00",null,"00:00:00","00:00:00"]
[null,{"$f":"IFERROR(IF(A9024=\"\",\"\",VLOOKUP(A9024,'Banco de Funcionários'!$A$2:$D$1048576,2,0)),\"\")","v":""},null,null,null,null,null,"00:00:00",null,"00:00:00","00:00:00"]
[null,{"$f":"IFERROR(IF(A9029=\"\",\"\",VLOOKUP(A9029,'Banco de Funcionários'!$A$2:$D$1048576,2,0)),\"\")","v":""},null,null,null,null,null,"00:00:00",null,"00:00:00","00:00:00"]
[null,{"$f":"IFERROR(IF(A9035=\"\",\"\",VLOOKUP(A9035,'Banco de Funcionários'!$A$2:$D$1048576,2,0)),\"\")","v":""},null,null,null,null,null,"00:00:00",null,"00:00:00","00:00:00"]
[null,{"$f":"IFERROR(IF(A9040=\"\",\"\",VLOOKUP(A9040,'Banco de Funcionários'!$A$2:$D$1048576,2,0)),\"\")","v":""},null,null,null,null,null,"00:00:00",null,"00:00:00","00:00:00"]
[null,{"$f":"IFERROR(IF(A9045=\"\",\"\",VLOOKUP(A9045,'Banco de Funcionários'!$A$2:$D$1048576,2,0)),\"\")","v":""},null,null,null,null,null,"00:00:00",null,"00:00:00","00:00:00"]
[null,{"$f":"IFERROR(IF(A9051=\"\",\"\",VLOOKUP(A9051,'Banco de Funcionários'!$A$2:$D$1048576,2,0)),\"\")","v":""},null,null,null,null,null,"00:00:00",null,"00:00:00","00:00:00"]
[null,{"$f":"IFERROR(IF(A9056=\"\",\"\",VLOOKUP(A9056,'Banco de Funcionários'!$A$2:$D$1048576,2,0)),\"\")","v":""},null,null,null,null,null,"00:00:00",null,"00:00:00","00:00:00"]
[null,{"$f":"IFERROR(IF(A9061=\"\",\"\",VLOOKUP(A9061,'Banco de Funcionários'!$A$2:$D$1048576,2,0)),\"\")","v":""},null,null,null,null,null,"00:00:00",null,"00:00:00","00:00:00"]
[null,{"$f":"IFERROR(IF(A9062=\"\",\"\",VLOOKUP(A9062,'Banco de Funcionários'!$A$2:$D$1048576,2,0)),\"\")","v":""},null,null,null,null,null,"00:00:00",null,"00:00:00","00:00:00"]
[null,{"$f":"IFERROR(IF(A9067=\"\",\"\",VLOOKUP(A9067,'Banco de Funcionários'!$A$2:$D$1048576,2,0)),\"\")","v":""},null,null,null,null,null,"00:00:00",null,"00:00:00","00:00:00"]
[null,{"$f":"IFERROR(IF(A9073=\"\",\"\",VLOOKUP(A9073,'Banco de Funcionários'!$A$2:$D$1048576,2,0)),\"\")","v":""},null,null,null,null,null,"00:00:00",null,"00:00:00","00:00:00"]
[null,{"$f":"IFERROR(IF(A9078=\"\",\"\",VLOOKUP(A9078,'Banco de Funcionários'!$A$2:$D$1048576,2,0)),\"\")","v":""},null,null,null,null,null,"00:00:00",null,"00:00:00","00:00:00"]
[null,{"$f":"IFERROR(IF(A9083=\"\",\"\",VLOOKUP(A9083,'Banco de Funcionários'!$A$2:$D$1048576,2,0)),\"\")","v":""},null,null,null,null,null,"00:00:00",null,"00:00:00","00:00:00"]
[null,{"$f":"IFERROR(IF(A9089=\"\",\"\",VLOOKUP(A9089,'Banco de Funcionários'!$A$2:$D$1048576,2,0)),\"\")","v":""},null,null,null,null,null,"00:00:00",null,"00:00:00","00:00:00"]
[null,{"$f":"IFERROR(IF(A9094=\"\",\"\",VLOOKUP(A9094,'Banco de Funcionários'!$A$2:$D$1048576,2,0)),\"\")","v":""},null,null,null,null,null,"00:00:00",null,"00:00:00","00:00:00"]
[null,{"$f":"IFERROR(IF(A9099=\"\",\"\",VLOOKUP(A9099,'Banco de Funcionários'!$A$2:$D$1048576,2,0)),\"\")","v":""},null,null,null,null,null,"00:00:00",null,"00:00:00","00:00:00"]
[null,{"$f":"IFERROR(IF(A9105=\"\",\"\",VLOOKUP(A9105,'Banco de Funcionários'!$A$2:$D$1048576,2,0)),\"\")","v":""},null,null,null,null,null,"00:00:00",null,"00:00:00","00:00:00"]
[null,{"$f":"IFERROR(IF(A9110=\"\",\"\",VLOOKUP(A9110,'Banco de Funcionários'!$A$2:$D$1048576,2,0)),\"\")","v":""},null,null,null,null,null,"00:00:00",null,"00:00:00","00:00:00"]
[null,{"$f":"IFERROR(IF(A9116=\"\",\"\",VLOOKUP(A9116,'Banco de Funcionários'!$A$2:$D$1048576,2,0)),\"\")","v":""},null,null,null,null,null,"00:00:00",null,"00:00:00","00:00:00"]
[null,{"$f":"IFERROR(IF(A9121=\"\",\"\",VLOOKUP(A9121,'Banco de Funcionários'!$A$2:$D$1048576,2,0)),\"\")","v":""},null,null,null,null,null,"00:00:00",null,"00:00:00","00:00:00"]
[null,{"$f":"IFERROR(IF(A9126=\"\",\"\",VLOOKUP(A9126,'Banco de Funcionários'!$A$2:$D$1048576,2,0)),\"\")","v":""},null,null,null,null,null,"00:00:00",null,"00:00:00","00:00:00"]
[null,{"$f":"IFERROR(IF(A9130=\"\",\"\",VLOOKUP(A9130,'Banco de Funcionários'!$A$2:$D$1048576,2,0)),\"\")","v":""},null,null,null,null,null,"00:00:00",null,"00:00:00","00:00:00"]
[null,{"$f":"IFERROR(IF(A9131=\"\",\"\",VLOOKUP(A9131,'Banco de Funcionários'!$A$2:$D$1048576,2,0)),\"\")","v":""},null,null,null,null,null,"00:00:00",null,"00:00:00","00:00:00"]
[null,{"$f":"IFERROR(IF(A9137=\"\",\"\",VLOOKUP(A9137,'Banco de Funcionários'!$A$2:$D$1048576,2,0)),\"\")","v":""},null,null,null,null,null,"00:00:00",null,"00:00:00","00:00:00"]
[null,{"$f":"IFERROR(IF(A9142=\"\",\"\",VLOOKUP(A9142,'Banco de Funcionários'!$A$2:$D$1048576,2,0)),\"\")","v":""},null,null,null,null,null,"00:00:00",null,"00:00:00","00:00:00"]
[null,{"$f":"IFERROR(IF(A9147=\"\",\"\",VLOOKUP(A9147,'Banco de Funcionários'!$A$2:$D$1048576,2,0)),\"\")","v":""},null,null,null,null,null,"00:00:00",null,"00:00:00","00:00:00"]
[null,{"$f":"IFERROR(IF(A9153=\"\",\"\",VLOOKUP(A9153,'Banco de Funcionários'!$A$2:$D$1048576,2,0)),\"\")","v":""},null,null,null,null,null,"00:00:00",null,"00:00:00","00:00:00"]
[null,{"$f":"IFERROR(IF(A9158=\"\",\"\",VLOOKUP(A9158,'Banco de Funcionários'!$A$2:$D$1048576,2,0)),\"\")","v":""},null,null,null,null,null,"00:00:00",null,"00:00:00","00:00:00"]
[null,{"$f":"IFERROR(IF(A9163=\"\",\"\",VLOOKUP(A9163,'Banco de Funcionários'!$A$2:$D$1048576,2,0)),\"\")","v":""},null,null,null,null,null,"00:00:00",null,"00:00:00","00:00:00"]
[null,{"$f":"IFERROR(IF(A9169=\"\",\"\",VLOOKUP(A9169,'Banco de Funcionários'!$A$2:$D$1048576,2,0)),\"\")","v":""},null,null,null,null,null,"00:00:00",null,"00:00:00","00:00:00"]
[null,{"$f":"IFERROR(IF(A9174=\"\",\"\",VLOOKUP(A9174,'Banco de Funcionários'!$A$2:$D$1048576,2,0)),\"\")","v":""},null,null,null,null,null,"00:00:00",null,"00:00:00","00:00:00"]
[null,{"$f":"IFERROR(IF(A9180=\"\",\"\",VLOOKUP(A9180,'Banco de Funcionários'!$A$2:$D$1048576,2,0)),\"\")","v":""},null,null,null,null,null,"00:00:00",null,"00:00:00","00:00:00"]
[null,{"$f":"IFERROR(IF(A9185=\"\",\"\",VLOOKUP(A9185,'Banco de Funcionários'!$A$2:$D$1048576,2,0)),\"\")","v":""},null,null,null,null,null,"00:00:00",null,"00:00:00","00:00:00"]
[null,{"$f":"IFERROR(IF(A9190=\"\",\"\",VLOOKUP(A9190,'Banco de Funcionários'!$A$2:$D$1048576,2,0)),\"\")","v":""},null,null,null,null,null,"00:00:00",null,"00:00:00","00:00:00"]
[null,{"$f":"IFERROR(IF(A9191=\"\",\"\",VLOOKUP(A9191,'Banco de Funcionários'!$A$2:$D$1048576,2,0)),\"\")","v":""},null,null,null,null,null,"00:00:00",null,"00:00:00","00:00:00"]
[null,{"$f":"IFERROR(IF(A9196=\"\",\"\",VLOOKUP(A9196,'Banco de Funcionários'!$A$2:$D$1048576,2,0)),\"\")","v":""},null,null,null,null,null,"00:00:00",null,"00:00:00","00:00:00"]
[null,{"$f":"IFERROR(IF(A9201=\"\",\"\",VLOOKUP(A9201,'Banco de Funcionários'!$A$2:$D$1048576,2,0)),\"\")","v":""},null,null,null,null,null,"00:00:00",null,"00:00:00","00:00:00"]
[null,{"$f":"IFERROR(IF(A9207=\"\",\"\",VLOOKUP(A9207,'Banco de Funcionários'!$A$2:$D$1048576,2,0)),\"\")","v":""},null,null,null,null,null,"00:00:00",null,"00:00:00","00:00:00"]
[null,{"$f":"IFERROR(IF(A9212=\"\",\"\",VLOOKUP(A9212,'Banco de Funcionários'!$A$2:$D$1048576,2,0)),\"\")","v":""},null,null,null,null,null,"00:00:00",null,"00:00:00","00:00:00"]
[null,{"$f":"IFERROR(IF(A9218=\"\",\"\",VLOOKUP(A9218,'Banco de Funcionários'!$A$2:$D$1048576,2,0)),\"\")","v":""},null,null,null,null,null,"00:00:00",null,"00:00:00","00:00:00"]
[null,{"$f":"IFERROR(IF(A9223=\"\",\"\",VLOOKUP(A9223,'Banco de Funcionários'!$A$2:$D$1048576,2,0)),\"\")","v":""},null,null,null,null,null,"00:00:00",null,"00:00:00","00:00:00"]
[null,{"$f":"IFERROR(IF(A9228=\"\",\"\",VLOOKUP(A9228,'Banco de Funcionários'!$A$2:$D$1048576,2,0)),\"\")","v":""},null,null,null,null,null,"00:00:00",null,"00:00:00","00:00:00"]
[null,{"$f":"IFERROR(IF(A9234=\"\",\"\",VLOOKUP(A9234,'Banco de Funcionários'!$A$2:$D$1048576,2,0)),\"\")","v":""},null,null,null,null,null,"00:00:00",null,"00:00:00","00:00:00"]
[null,{"$f":"IFERROR(IF(A9237=\"\",\"\",VLOOKUP(A9237,'Banco de Funcionários'!$A$2:$D$1048576,2,0)),\"\")","v":""},null,null,null,null,null,"00:00:00",null,"00:00:00","00:00:00"]
[null,{"$f":"IFERROR(IF(A9244=\"\",\"\",VLOOKUP(A9244,'Banco de Funcionários'!$A$2:$D$1048576,2,0)),\"\")","v":""},null,null,null,null,null,"00:00:00",null,"00:00:00","00:00:00"]
[null,{"$f":"IFERROR(IF(A9249=\"\",\"\",VLOOKUP(A9249,'Banco de Funcionários'!$A$2:$D$1048576,2,0)),\"\")","v":""},null,null,null,null,null,"00:00:00",null,"00:00:00","00:00:00"]
[null,{"$f":"IFERROR(IF(A9254=\"\",\"\",VLOOKUP(A9254,'Banco de Funcionários'!$A$2:$D$1048576,2,0)),\"\")","v":""},null,null,null,null,null,"00:00:00",null,"00:00:00","00:00:00"]
[null,{"$f":"IFERROR(IF(A9255=\"\",\"\",VLOOKUP(A9255,'Banco de Funcionários'!$A$2:$D$1048576,2,0)),\"\")","v":""},null,null,null,null,null,"00:00:00",null,"00:00:00","00:00:00"]
[null,{"$f":"IFERROR(IF(A9260=\"\",\"\",VLOOKUP(A9260,'Banco de Funcionários'!$A$2:$D$1048576,2,0)),\"\")","v":""},null,null,null,null,null,"00:00:00",null,"00:00:00","00:00:00"]
[null,{"$f":"IFERROR(IF(A9265=\"\",\"\",VLOOKUP(A9265,'Banco de Funcionários'!$A$2:$D$1048576,2,0)),\"\")","v":""},null,null,null,null,null,"00:00:00",null,"00:00:00","00:00:00"]
[null,{"$f":"IFERROR(IF(A9271=\"\",\"\",VLOOKUP(A9271,'Banco de Funcionários'!$A$2:$D$1048576,2,0)),\"\")","v":""},null,null,null,null,null,"00:00:00",null,"00:00:00","00:00:00"]
[null,{"$f":"IFERROR(IF(A9276=\"\",\"\",VLOOKUP(A9276,'Banco de Funcionários'!$A$2:$D$1048576,2,0)),\"\")","v":""},null,null,null,null,null,"00:00:00",null,"00:00:00","00:00:00"]
[null,{"$f":"IFERROR(IF(A9282=\"\",\"\",VLOOKUP(A9282,'Banco de Funcionários'!$A$2:$D$1048576,2,0)),\"\")","v":""},null,null,null,null,null,"00:00:00",null,"00:00:00","00:00:00"]
[null,{"$f":"IFERROR(IF(A9287=\"\",\"\",VLOOKUP(A9287,'Banco de Funcionários'!$A$2:$D$1048576,2,0)),\"\")","v":""},null,null,null,null,null,"00:00:00",null,"00:00:00","00:00:00"]
[null,{"$f":"IFERROR(IF(A9292=\"\",\"\",VLOOKUP(A9292,'Banco de Funcionários'!$A$2:$D$1048576,2,0)),\"\")","v":""},null,null,null,null,null,"00:00:00",null,"00:00:00","00:00:00"]
[null,{"$f":"IFERROR(IF(A9298=\"\",\"\",VLOOKUP(A9298,'Banco de Funcionários'!$A$2:$D$1048576,2,0)),\"\")","v":""},null,null,null,null,null,"00:00:00",null,"00:00:00","00:00:00"]
[null,{"$f":"IFERROR(IF(A9303=\"\",\"\",VLOOKUP(A9303,'Banco de Funcionários'!$A$2:$D$1048576,2,0)),\"\")","v":""},null,null,null,null,null,"00:00:00",null,"00:00:00","00:00:00"]
[null,{"$f":"IFERROR(IF(A9309=\"\",\"\",VLOOKUP(A9309,'Banco de Funcionários'!$A$2:$D$1048576,2,0)),\"\")","v":""},null,null,null,null,null,"00:00:00",null,"00:00:00","00:00:00"]
[null,{"$f":"IFERROR(IF(A9314=\"\",\"\",VLOOKUP(A9314,'Banco de Funcionários'!$A$2:$D$1048576,2,0)),\"\")","v":""},null,null,null,null,null,"00:00:00",null,"00:00:00","00:00:00"]
[null,{"$f":"IFERROR(IF(A9319=\"\",\"\",VLOOKUP(A9319,'Banco de Funcionários'!$A$2:$D$1048576,2,0)),\"\")","v":""},null,null,null,null,null,"00:00:00",null,"00:00:00","00:00:00"]
[null,{"$f":"IFERROR(IF(A9320=\"\",\"\",VLOOKUP(A9320,'Banco de Funcionários'!$A$2:$D$1048576,2,0)),\"\")","v":""},null,null,null,null,null,"00:00:00",null,"00:00:00","00:00:00"]
[null,{"$f":"IFERROR(IF(A9325=\"\",\"\",VLOOKUP(A9325,'Banco de Funcionários'!$A$2:$D$1048576,2,0)),\"\")","v":""},null,null,null,null,null,"00:00:00",null,"00:00:00","00:00:00"]
[null,{"$f":"IFERROR(IF(A9330=\"\",\"\",VLOOKUP(A9330,'Banco de Funcionários'!$A$2:$D$1048576,2,0)),\"\")","v":""},null,null,null,null,null,"00:00:00",null,"00:00:00","00:00:00"]
[null,{"$f":"IFERROR(IF(A9336=\"\",\"\",VLOOKUP(A9336,'Banco de Funcionários'!$A$2:$D$1048576,2,0)),\"\")","v":""},null,null,null,null,null,"00:00:00",null,"00:00:00","00:00:00"]
[null,{"$f":"IFERROR(IF(A9341=\"\",\"\",VLOOKUP(A9341,'Banco de Funcionários'!$A$2:$D$1048576,2,0)),\"\")","v":""},null,null,null,null,null,"00:00:00",null,"00:00:00","00:00:00"]
[null,{"$f":"IFERROR(IF(A9347=\"\",\"\",VLOOKUP(A9347,'Banco de Funcionários'!$A$2:$D$1048576,2,0)),\"\")","v":""},null,null,null,null,null,{"$f":"(F9347-E9347)-G9347","v":"00:00:00"},null,{"$f":"IFERROR(H9347-I9347,\"\")","v":"00:00:00"},{"$f":"IFERROR(H9347+J9347,0)","v":"00:00:00"}]
[null,{"$f":"IFERROR(IF(A9350=\"\",\"\",VLOOKUP(A9350,'Banco de Funcionários'!$A$2:$D$1048576,2,0)),\"\")","v":""},null,null,null,null,null,"00:00:00",null,"00:00:00","00:00:00"]
[null,{"$f":"IFERROR(IF(A9356=\"\",\"\",VLOOKUP(A9356,'Banco de Funcionários'!$A$2:$D$1048576,2,0)),\"\")","v":""},null,null,null,null,null,"00:00:00",null,"00:00:00","00:00:00"]
[null,{"$f":"IFERROR(IF(A9362=\"\",\"\",VLOOKUP(A9362,'Banco de Funcionários'!$A$2:$D$1048576,2,0)),\"\")","v":""},null,null,null,null,null,"00:00:00",null,"00:00:00","00:00:00"]
[null,{"$f":"IFERROR(IF(A9367=\"\",\"\",VLOOKUP(A9367,'Banco de Funcionários'!$A$2:$D$1048576,2,0)),\"\")","v":""},null,null,null,null,null,"00:00:00",null,"00:00:00","00:00:00"]
[null,{"$f":"IFERROR(IF(A9372=\"\",\"\",VLOOKUP(A9372,'Banco de Funcionários'!$A$2:$D$1048576,2,0)),\"\")","v":""},null,null,null,null,null,"00:00:00",null,"00:00:00","00:00:00"]
[null,{"$f":"IFERROR(IF(A9378=\"\",\"\",VLOOKUP(A9378,'Banco de Funcionários'!$A$2:$D$1048576,2,0)),\"\")","v":""},null,null,null,null,null,"00:00:00",null,"00:00:00","00:00:00"]
[null,{"$f":"IFERROR(IF(A9383=\"\",\"\",VLOOKUP(A9383,'Banco de Funcionários'!$A$2:$D$1048576,2,0)),\"\")","v":""},null,null,null,null,null,"00:00:00",null,"00:00:00","00:00:00"]
[null,{"$f":"IFERROR(IF(A9384=\"\",\"\",VLOOKUP(A9384,'Banco de Funcionários'!$A$2:$D$1048576,2,0)),\"\")","v":""},null,null,null,null,null,"00:00:00",null,"00:00:00","00:00:00"]
[null,{"$f":"IFERROR(IF(A9389=\"\",\"\",VLOOKUP(A9389,'Banco de Funcionários'!$A$2:$D$1048576,2,0)),\"\")","v":""},null,null,null,null,null,"00:00:00",null,"00:00:00","00:00:00"]
[null,{"$f":"IFERROR(IF(A9394=\"\",\"\",VLOOKUP(A9394,'Banco de Funcionários'!$A$2:$D$1048576,2,0)),\"\")","v":""},null,null,null,null,null,"00:00:00",null,"00:00:00","00:00:00"]
[null,{"$f":"IFERROR(IF(A9400=\"\",\"\",VLOOKUP(A9400,'Banco de Funcionários'!$A$2:$D$1048576,2,0)),\"\")","v":""},null,null,null,null,null,"00:00:00",null,"00:00:00","00:00:00"]
[null,{"$f":"IFERROR(IF(A9405=\"\",\"\",VLOOKUP(A9405,'Banco de Funcionários'!$A$2:$D$1048576,2,0)),\"\")","v":""},null,null,null,null,null,"00:00:00",null,"00:00:00","00:00:00"]
[null,{"$f":"IFERROR(IF(A9411=\"\",\"\",VLOOKUP(A9411,'Banco de Funcionários'!$A$2:$D$1048576,2,0)),\"\")","v":""},null,null,null,null,null,{"$f":"(F9411-E9411)-G9411","v":"00:00:00"},null,{"$f":"IFERROR(H9411-I9411,\"\")","v":"00:00:00"},{"$f":"IFERROR(H9411+J9411,0)","v":"00:00:00"}]
[null,{"$f":"IFERROR(IF(A9416=\"\",\"\",VLOOKUP(A9416,'Banco de Funcionários'!$A$2:$D$1048576,2,0)),\"\")","v":""},null,null,null,null,null,"00:00:00",null,"00:00:00","00:00:00"]
[null,{"$f":"IFERROR(IF(A9421=\"\",\"\",VLOOKUP(A9421,'Banco de Funcionários'!$A$2:$D$1048576,2,0)),\"\")","v":""},null,null,null,null,null,"00:00:00",null,"00:00:00","00:00:00"]
[null,{"$f":"IFERROR(IF(A9427=\"\",\"\",VLOOKUP(A9427,'Banco de Funcionários'!$A$2:$D$1048576,2,0)),\"\")","v":""},null,null,null,null,null,"00:00:00",null,"00:00:00","00:00:00"]
[null,{"$f":"IFERROR(IF(A9432=\"\",\"\",VLOOKUP(A9432,'Banco de Funcionários'!$A$2:$D$1048576,2,0)),\"\")","v":""},null,null,null,null,null,"00:00:00",null,"00:00:00","00:00:00"]
[null,{"$f":"IFERROR(IF(A9437=\"\",\"\",VLOOKUP(A9437,'Banco de Funcionários'!$A$2:$D$1048576,2,0)),\"\")","v":""},null,null,null,null,null,"00:00:00",null,"00:00:00","00:00:00"]
[null,{"$f":"IFERROR(IF(A9443=\"\",\"\",VLOOKUP(A9443,'Banco de Funcionários'!$A$2:$D$1048576,2,0)),\"\")","v":""},null,null,null,null,null,"00:00:00",null,"00:00:00","00:00:00"]
[null,{"$f":"IFERROR(IF(A9448=\"\",\"\",VLOOKUP(A9448,'Banco de Funcionários'!$A$2:$D$1048576,2,0)),\"\")","v":""},null,null,null,null,null,"00:00:00",null,"00:00:00","00:00:00"]
[null,{"$f":"IFERROR(IF(A9449=\"\",\"\",VLOOKUP(A9449,'Banco de Funcionários'!$A$2:$D$1048576,2,0)),\"\")","v":""},null,null,null,null,null,"00:00:00",null,"00:00:00","00:00:00"]
[null,{"$f":"IFERROR(IF(A9454=\"\",\"\",VLOOKUP(A9454,'Banco de Funcionários'!$A$2:$D$1048576,2,0)),\"\")","v":""},null,null,null,null,null,"00:00:00",null,"00:00:00","00:00:00"]
[null,{"$f":"IFERROR(IF(A9461=\"\",\"\",VLOOKUP(A9461,'Banco de Funcionários'!$A$2:$D$1048576,2,0)),\"\")","v":""},null,null,null,null,null,"00:00:00",null,"00:00:00","00:00:00"]
[null,{"$f":"IFERROR(IF(A9464=\"\",\"\",VLOOKUP(A9464,'Banco de Funcionários'!$A$2:$D$1048576,2,0)),\"\")","v":""},null,null,null,null,null,"00:00:00",null,"00:00:00","00:00:00"]
[null,{"$f":"IFERROR(IF(A9469=\"\",\"\",VLOOKUP(A9469,'Banco de Funcionários'!$A$2:$D$1048576,2,0)),\"\")","v":""},null,null,null,null,null,"00:00:00",null,"00:00:00","00:00:00"]
[null,{"$f":"IFERROR(IF(A9475=\"\",\"\",VLOOKUP(A9475,'Banco de Funcionários'!$A$2:$D$1048576,2,0)),\"\")","v":""},null,null,null,null,null,{"$f":"(F9475-E9475)-G9475","v":"00:00:00"},null,{"$f":"IFERROR(H9475-I9475,\"\")","v":"00:00:00"},{"$f":"IFERROR(H9475+J9475,0)","v":"00:00:00"}]
[null,{"$f":"IFERROR(IF(A9480=\"\",\"\",VLOOKUP(A9480,'Banco de Funcionários'!$A$2:$D$1048576,2,0)),\"\")","v":""},null,null,null,null,null,"00:00:00",null,"00:00:00","00:00:00"]
[null,{"$f":"IFERROR(IF(A9485=\"\",\"\",VLOOKUP(A9485,'Banco de Funcionários'!$A$2:$D$1048576,2,0)),\"\")","v":""},null,null,null,null,null,"00:00:00",null,"00:00:00","00:00:00"]
[null,{"$f":"IFERROR(IF(A9491=\"\",\"\",VLOOKUP(A9491,'Banco de Funcionários'!$A$2:$D$1048576,2,0)),\"\")","v":""},null,null,null,null,null,"00:00:00",null,"00:00:00","00:00:00"]
[null,{"$f":"IFERROR(IF(A9496=\"\",\"\",VLOOKUP(A9496,'Banco de Funcionários'!$A$2:$D$1048576,2,0)),\"\")","v":""},null,null,null,null,null,"00:00:00",null,"00:00:00","00:00:00"]
[null,{"$f":"IFERROR(IF(A9501=\"\",\"\",VLOOKUP(A9501,'Banco de Funcionários'!$A$2:$D$1048576,2,0)),\"\")","v":""},null,null,null,null,null,"00:00:00",null,"00:00:00","00:00:00"]
[null,{"$f":"IFERROR(IF(A9507=\"\",\"\",VLOOKUP(A9507,'Banco de Funcionários'!$A$2:$D$1048576,2,0)),\"\")","v":""},null,null,null,null,null,"00:00:00",null,"00:00:00","00:00:00"]
[null,{"$f":"IFERROR(IF(A9512=\"\",\"\",VLOOKUP(A9512,'Banco de Funcionários'!$A$2:$D$1048576,2,0)),\"\")","v":""},null,null,null,null,null,"00:00:00",null,"00:00:00","00:00:00"]
[null,{"$f":"IFERROR(IF(A9513=\"\",\"\",VLOOKUP(A9513,'Banco de Funcionários'!$A$2:$D$1048576,2,0)),\"\")","v":""},null,null,null,null,null,"00:00:00",null,"00:00:00","00:00:00"]
[null,{"$f":"IFERROR(IF(A9518=\"\",\"\",VLOOKUP(A9518,'Banco de Funcionários'!$A$2:$D$1048576,2,0)),\"\")","v":""},null,null,null,null,null,"00:00:00",null,"00:00:00","00:00:00"]
[null,{"$f":"IFERROR(IF(A9523=\"\",\"\",VLOOKUP(A9523,'Banco de Funcionários'!$A$2:$D$1048576,2,0)),\"\")","v":""},null,null,null,null,null,"00:00:00",null,"00:00:00","00:00:00"]
[null,{"$f":"IFERROR(IF(A9529=\"\",\"\",VLOOKUP(A9529,'Banco de Funcionários'!$A$2:$D$1048576,2,0)),\"\")","v":""},null,null,null,null,null,"00:00:00",null,"00:00:00","00:00:00"]
[null,{"$f":"IFERROR(IF(A9534=\"\",\"\",VLOOKUP(A9534,'Banco de Funcionários'!$A$2:$D$1048576,2,0)),\"\")","v":""},null,null,null,null,null,"00:00:00",null,"00:00:00","00:00:00"]
[null,{"$f":"IFERROR(IF(A9539=\"\",\"\",VLOOKUP(A9539,'Banco de Funcionários'!$A$2:$D$1048576,2,0)),\"\")","v":""},null,null,null,null,null,{"$f":"(F9539-E9539)-G9539","v":"00:00:00"},null,{"$f":"IFERROR(H9539-I9539,\"\")","v":"00:00:00"},{"$f":"IFERROR(H9539+J9539,0)","v":"00:00:00"}]
[null,{"$f":"IFERROR(IF(A9545=\"\",\"\",VLOOKUP(A9545,'Banco de Funcionários'!$A$2:$D$1048576,2,0)),\"\")","v":""},null,null,null,null,null,"00:00:00",null,"00:00:00","00:00:00"]
[null,{"$f":"IFERROR(IF(A9550=\"\",\"\",VLOOKUP(A9550,'Banco de Funcionários'!$A$2:$D$1048576,2,0)),\"\")","v":""},null,null,null,null,null,"00:00:00",null,"00:00:00","00:00:00"]
[null,{"$f":"IFERROR(IF(A9556=\"\",\"\",VLOOKUP(A9556,'Banco de Funcionários'!$A$2:$D$1048576,2,0)),\"\")","v":""},null,null,null,null,null,"00:00:00",null,"00:00:00","00:00:00"]
[null,{"$f":"IFERROR(IF(A9561=\"\",\"\",VLOOKUP(A9561,'Banco de Funcionários'!$A$2:$D$1048576,2,0)),\"\")","v":""},null,null,null,null,null,"00:00:00",null,"00:00:00","00:00:00"]
[null,{"$f":"IFERROR(IF(A9566=\"\",\"\",VLOOKUP(A9566,'Banco de Funcionários'!$A$2:$D$1048576,2,0)),\"\")","v":""},null,null,null,null,null,"00:00:00",null,"00:00:00","00:00:00"]
[null,{"$f":"IFERROR(IF(A9572=\"\",\"\",VLOOKUP(A9572,'Banco de Funcionários'!$A$2:$D$1048576,2,0)),\"\")","v":""},null,null,null,null,null,"00:00:00",null,"00:00:00","00:00:00"]
[null,{"$f":"IFERROR(IF(A9574=\"\",\"\",VLOOKUP(A9574,'Banco de Funcionários'!$A$2:$D$1048576,2,0)),\"\")","v":""},null,null,null,null,null,"00:00:00",null,"00:00:00","00:00:00"]
[null,{"$f":"IFERROR(IF(A9577=\"\",\"\",VLOOKUP(A9577,'Banco de Funcionários'!$A$2:$D$1048576,2,0)),\"\")","v":""},null,null,null,null,null,"00:00:00",null,"00:00:00","00:00:00"]
[null,{"$f":"IFERROR(IF(A9582=\"\",\"\",VLOOKUP(A9582,'Banco de Funcionários'!$A$2:$D$1048576,2,0)),\"\")","v":""},null,null,null,null,null,"00:00:00",null,"00:00:00","00:00:00"]
[null,{"$f":"IFERROR(IF(A9587=\"\",\"\",VLOOKUP(A9587,'Banco de Funcionários'!$A$2:$D$1048576,2,0)),\"\")","v":""},null,null,null,null,null,"00:00:00",null,"00:00:00","00:00:00"]
[null,{"$f":"IFERROR(IF(A9593=\"\",\"\",VLOOKUP(A9593,'Banco de Funcionários'!$A$2:$D$1048576,2,0)),\"\")","v":""},null,null,null,null,null,"00:00:00",null,"00:00:00","00:00:00"]
[null,{"$f":"IFERROR(IF(A9598=\"\",\"\",VLOOKUP(A9598,'Banco de Funcionários'!$A$2:$D$1048576,2,0)),\"\")","v":""},null,null,null,null,null,"00:00:00",null,"00:00:00","00:00:00"]
[null,{"$f":"IFERROR(IF(A9603=\"\",\"\",VLOOKUP(A9603,'Banco de Funcionários'!$A$2:$D$1048576,2,0)),\"\")","v":""},null,null,null,null,null,{"$f":"(F9603-E9603)-G9603","v":"00:00:00"},null,{"$f":"IFERROR(H9603-I9603,\"\")","v":"00:00:00"},{"$f":"IFERROR(H9603+J9603,0)","v":"00:00:00"}]
[null,{"$f":"IFERROR(IF(A9609=\"\",\"\",VLOOKUP(A9609,'Banco de Funcionários'!$A$2:$D$1048576,2,0)),\"\")","v":""},null,null,null,null,null,"00:00:00",null,"00:00:00","00:00:00"]
[null,{"$f":"IFERROR(IF(A9614=\"\",\"\",VLOOKUP(A9614,'Banco de Funcionários'!$A$2:$D$1048576,2,0)),\"\")","v":""},null,null,null,null,null,"00:00:00",null,"00:00:00","00:00:00"]
[null,{"$f":"IFERROR(IF(A9620=\"\",\"\",VLOOKUP(A9620,'Banco de Funcionários'!$A$2:$D$1048576,2,0)),\"\")","v":""},null,null,null,null,null,"00:00:00",null,"00:00:00","00:00:00"]
[null,{"$f":"IFERROR(IF(A9625=\"\",\"\",VLOOKUP(A9625,'Banco de Funcionários'!$A$2:$D$1048576,2,0)),\"\")","v":""},null,null,null,null,null,"00:00:00",null,"00:00:00","00:00:00"]
[null,{"$f":"IFERROR(IF(A9630=\"\",\"\",VLOOKUP(A9630,'Banco de Funcionários'!$A$2:$D$1048576,2,0)),\"\")","v":""},null,null,null,null,null,"00:00:00",null,"00:00:00","00:00:00"]
[null,{"$f":"IFERROR(IF(A9636=\"\",\"\",VLOOKUP(A9636,'Banco de Funcionários'!$A$2:$D$1048576,2,0)),\"\")","v":""},null,null,null,null,null,"00:00:00",null,"00:00:00","00:00:00"]
[null,{"$f":"IFERROR(IF(A9641=\"\",\"\",VLOOKUP(A9641,'Banco de Funcionários'!$A$2:$D$1048576,2,0)),\"\")","v":""},null,null,null,null,null,"00:00:00",null,"00:00:00","00:00:00"]
[null,{"$f":"IFERROR(IF(A9646=\"\",\"\",VLOOKUP(A9646,'Banco de Funcionários'!$A$2:$D$1048576,2,0)),\"\")","v":""},null,null,null,null,null,"00:00:00",null,"00:00:00","00:00:00"]
[null,{"$f":"IFERROR(IF(A9647=\"\",\"\",VLOOKUP(A9647,'Banco de Funcionários'!$A$2:$D$1048576,2,0)),\"\")","v":""},null,null,null,null,null,"00:00:00",null,"00:00:00","00:00:00"]
[null,{"$f":"IFERROR(IF(A9652=\"\",\"\",VLOOKUP(A9652,'Banco de Funcionários'!$A$2:$D$1048576,2,0)),\"\")","v":""},null,null,null,null,null,"00:00:00",null,"00:00:00","00:00:00"]
[null,{"$f":"IFERROR(IF(A9658=\"\",\"\",VLOOKUP(A9658,'Banco de Funcionários'!$A$2:$D$1048576,2,0)),\"\")","v":""},null,null,null,null,null,"00:00:00",null,"00:00:00","00:00:00"]
[null,{"$f":"IFERROR(IF(A9663=\"\",\"\",VLOOKUP(A9663,'Banco de Funcionários'!$A$2:$D$1048576,2,0)),\"\")","v":""},null,null,null,null,null,"00:00:00",null,"00:00:00","00:00:00"]
[null,{"$f":"IFERROR(IF(A9668=\"\",\"\",VLOOKUP(A9668,'Banco de Funcionários'!$A$2:$D$1048576,2,0)),\"\")","v":""},null,null,null,null,null,"00:00:00",null,"00:00:00","00:00:00"]
[null,{"$f":"IFERROR(IF(A9674=\"\",\"\",VLOOKUP(A9674,'Banco de Funcionários'!$A$2:$D$1048576,2,0)),\"\")","v":""},null,null,null,null,null,"00:00:00",null,"00:00:00","00:00:00"]
[null,{"$f":"IFERROR(IF(A9679=\"\",\"\",VLOOKUP(A9679,'Banco de Funcionários'!$A$2:$D$1048576,2,0)),\"\")","v":""},null,null,null,null,null,"00:00:00",null,"00:00:00","00:00:00"]
[null,{"$f":"IFERROR(IF(A9685=\"\",\"\",VLOOKUP(A9685,'Banco de Funcionários'!$A$2:$D$1048576,2,0)),\"\")","v":""},null,null,null,null,null,"00:00:00",null,"00:00:00","00:00:00"]
[null,{"$f":"IFERROR(IF(A9689=\"\",\"\",VLOOKUP(A9689,'Banco de Funcionários'!$A$2:$D$1048576,2,0)),\"\")","v":""},null,null,null,null,null,"00:00:00",null,"00:00:00","00:00:00"]
[null,{"$f":"IFERROR(IF(A9694=\"\",\"\",VLOOKUP(A9694,'Banco de Funcionários'!$A$2:$D$1048576,2,0)),\"\")","v":""},null,null,null,null,null,"00:00:00",null,"00:00:00","00:00:00"]
[null,{"$f":"IFERROR(IF(A9700=\"\",\"\",VLOOKUP(A9700,'Banco de Funcionários'!$A$2:$D$1048576,2,0)),\"\")","v":""},null,null,null,null,null,"00:00:00",null,"00:00:00","00:00:00"]
[null,{"$f":"IFERROR(IF(A9705=\"\",\"\",VLOOKUP(A9705,'Banco de Funcionários'!$A$2:$D$1048576,2,0)),\"\")","v":""},null,null,null,null,null,"00:00:00",null,"00:00:00","00:00:00"]
[null,{"$f":"IFERROR(IF(A9710=\"\",\"\",VLOOKUP(A9710,'Banco de Funcionários'!$A$2:$D$1048576,2,0)),\"\")","v":""},null,null,null,null,null,"00:00:00",null,"00:00:00","00:00:00"]
[null,{"$f":"IFERROR(IF(A9711=\"\",\"\",VLOOKUP(A9711,'Banco de Funcionários'!$A$2:$D$1048576,2,0)),\"\")","v":""},null,null,null,null,null,"00:00:00",null,"00:00:00","00:00:00"]
[null,{"$f":"IFERROR(IF(A9716=\"\",\"\",VLOOKUP(A9716,'Banco de Funcionários'!$A$2:$D$1048576,2,0)),\"\")","v":""},null,null,null,null,null,"00:00:00",null,"00:00:00","00:00:00"]
[null,{"$f":"IFERROR(IF(A9722=\"\",\"\",VLOOKUP(A9722,'Banco de Funcionários'!$A$2:$D$1048576,2,0)),\"\")","v":""},null,null,null,null,null,"00:00:00",null,"00:00:00","00:00:00"]
[null,{"$f":"IFERROR(IF(A9727=\"\",\"\",VLOOKUP(A9727,'Banco de Funcionários'!$A$2:$D$1048576,2,0)),\"\")","v":""},null,null,null,null,null,"00:00:00",null,"00:00:00","00:00:00"]
[null,{"$f":"IFERROR(IF(A9732=\"\",\"\",VLOOKUP(A9732,'Banco de Funcionários'!$A$2:$D$1048576,2,0)),\"\")","v":""},null,null,null,null,null,"00:00:00",null,"00:00:00","00:00:00"]
[null,{"$f":"IFERROR(IF(A9738=\"\",\"\",VLOOKUP(A9738,'Banco de Funcionários'!$A$2:$D$1048576,2,0)),\"\")","v":""},null,null,null,null,null,"00:00:00",null,"00:00:00","00:00:00"]
[null,{"$f":"IFERROR(IF(A9743=\"\",\"\",VLOOKUP(A9743,'Banco de Funcionários'!$A$2:$D$1048576,2,0)),\"\")","v":""},null,null,null,null,null,"00:00:00",null,"00:00:00","00:00:00"]
[null,{"$f":"IFERROR(IF(A9749=\"\",\"\",VLOOKUP(A9749,'Banco de Funcionários'!$A$2:$D$1048576,2,0)),\"\")","v":""},null,null,null,null,null,"00:00:00",null,"00:00:00","00:00:00"]
[null,{"$f":"IFERROR(IF(A9754=\"\",\"\",VLOOKUP(A9754,'Banco de Funcionários'!$A$2:$D$1048576,2,0)),\"\")","v":""},null,null,null,null,null,"00:00:00",null,"00:00:00","00:00:00"]
[null,{"$f":"IFERROR(IF(A9759=\"\",\"\",VLOOKUP(A9759,'Banco de Funcionários'!$A$2:$D$1048576,2,0)),\"\")","v":""},null,null,null,null,null,"00:00:00",null,"00:00:00","00:00:00"]
[null,{"$f":"IFERROR(IF(A9765=\"\",\"\",VLOOKUP(A9765,'Banco de Funcionários'!$A$2:$D$1048576,2,0)),\"\")","v":""},null,null,null,null,null,"00:00:00",null,"00:00:00","00:00:00"]
[null,{"$f":"IFERROR(IF(A9770=\"\",\"\",VLOOKUP(A9770,'Banco de Funcionários'!$A$2:$D$1048576,2,0)),\"\")","v":""},null,null,null,null,null,"00:00:00",null,"00:00:00","00:00:00"]
[null,{"$f":"IFERROR(IF(A9775=\"\",\"\",VLOOKUP(A9775,'Banco de Funcionários'!$A$2:$D$1048576,2,0)),\"\")","v":""},null,null,null,null,null,"00:00:00",null,"00:00:00","00:00:00"]
[null,{"$f":"IFERROR(IF(A9776=\"\",\"\",VLOOKUP(A9776,'Banco de Funcionários'!$A$2:$D$1048576,2,0)),\"\")","v":""},null,null,null,null,null,"00:00:00",null,"00:00:00","00:00:00"]
[null,{"$f":"IFERROR(IF(A9781=\"\",\"\",VLOOKUP(A9781,'Banco de Funcionários'!$A$2:$D$1048576,2,0)),\"\")","v":""},null,null,null,null,null,"00:00:00",null,"00:00:00","00:00:00"]
[null,{"$f":"IFERROR(IF(A9787=\"\",\"\",VLOOKUP(A9787,'Banco de Funcionários'!$A$2:$D$1048576,2,0)),\"\")","v":""},null,null,null,null,null,"00:00:00",null,"00:00:00","00:00:00"]
[null,{"$f":"IFERROR(IF(A9792=\"\",\"\",VLOOKUP(A9792,'Banco de Funcionários'!$A$2:$D$1048576,2,0)),\"\")","v":""},null,null,null,null,null,"00:00:00",null,"00:00:00","00:00:00"]
[null,{"$f":"IFERROR(IF(A9798=\"\",\"\",VLOOKUP(A9798,'Banco de Funcionários'!$A$2:$D$1048576,2,0)),\"\")","v":""},null,null,null,null,null,"00:00:00",null,"00:00:00","00:00:00"]
[null,{"$f":"IFERROR(IF(A9802=\"\",\"\",VLOOKUP(A9802,'Banco de Funcionários'!$A$2:$D$1048576,2,0)),\"\")","v":""},null,null,null,null,null,"00:00:00",null,"00:00:00","00:00:00"]
[null,{"$f":"IFERROR(IF(A9807=\"\",\"\",VLOOKUP(A9807,'Banco de Funcionários'!$A$2:$D$1048576,2,0)),\"\")","v":""},null,null,null,null,null,"00:00:00",null,"00:00:00","00:00:00"]
[null,{"$f":"IFERROR(IF(A9812=\"\",\"\",VLOOKUP(A9812,'Banco de Funcionários'!$A$2:$D$1048576,2,0)),\"\")","v":""},null,null,null,null,null,"00:00:00",null,"00:00:00","00:00:00"]
[null,{"$f":"IFERROR(IF(A9818=\"\",\"\",VLOOKUP(A9818,'Banco de Funcionários'!$A$2:$D$1048576,2,0)),\"\")","v":""},null,null,null,null,null,"00:00:00",null,"00:00:00","00:00:00"]
[null,{"$f":"IFERROR(IF(A9823=\"\",\"\",VLOOKUP(A9823,'Banco de Funcionários'!$A$2:$D$1048576,2,0)),\"\")","v":""},null,null,null,null,null,"00:00:00",null,"00:00:00","00:00:00"]
[null,{"$f":"IFERROR(IF(A9829=\"\",\"\",VLOOKUP(A9829,'Banco de Funcionários'!$A$2:$D$1048576,2,0)),\"\")","v":""},null,null,null,null,null,"00:00:00",null,"00:00:00","00:00:00"]
[null,{"$f":"IFERROR(IF(A9834=\"\",\"\",VLOOKUP(A9834,'Banco de Funcionários'!$A$2:$D$1048576,2,0)),\"\")","v":""},null,null,null,null,null,"00:00:00",null,"00:00:00","00:00:00"]
[null,{"$f":"IFERROR(IF(A9839=\"\",\"\",VLOOKUP(A9839,'Banco de Funcionários'!$A$2:$D$1048576,2,0)),\"\")","v":""},null,null,null,null,null,"00:00:00",null,"00:00:00","00:00:00"]
[null,{"$f":"IFERROR(IF(A9840=\"\",\"\",VLOOKUP(A9840,'Banco de Funcionários'!$A$2:$D$1048576,2,0)),\"\")","v":""},null,null,null,null,null,"00:00:00",null,"00:00:00","00:00:00"]
[null,{"$f":"IFERROR(IF(A9845=\"\",\"\",VLOOKUP(A9845,'Banco de Funcionários'!$A$2:$D$1048576,2,0)),\"\")","v":""},null,null,null,null,null,"00:00:00",null,"00:00:00","00:00:00"]
[null,{"$f":"IFERROR(IF(A9851=\"\",\"\",VLOOKUP(A9851,'Banco de Funcionários'!$A$2:$D$1048576,2,0)),\"\")","v":""},null,null,null,null,null,"00:00:00",null,"00:00:00","00:00:00"]
[null,{"$f":"IFERROR(IF(A9856=\"\",\"\",VLOOKUP(A9856,'Banco de Funcionários'!$A$2:$D$1048576,2,0)),\"\")","v":""},null,null,null,null,null,"00:00:00",null,"00:00:00","00:00:00"]
[null,{"$f":"IFERROR(IF(A9861=\"\",\"\",VLOOKUP(A9861,'Banco de Funcionários'!$A$2:$D$1048576,2,0)),\"\")","v":""},null,null,null,null,null,"00:00:00",null,"00:00:00","00:00:00"]
[null,{"$f":"IFERROR(IF(A9867=\"\",\"\",VLOOKUP(A9867,'Banco de Funcionários'!$A$2:$D$1048576,2,0)),\"\")","v":""},null,null,null,null,null,"00:00:00",null,"00:00:00","00:00:00"]
[null,{"$f":"IFERROR(IF(A9872=\"\",\"\",VLOOKUP(A9872,'Banco de Funcionários'!$A$2:$D$1048576,2,0)),\"\")","v":""},null,null,null,null,null,"00:00:00",null,"00:00:00","00:00:00"]
[null,{"$f":"IFERROR(IF(A9877=\"\",\"\",VLOOKUP(A9877,'Banco de Funcionários'!$A$2:$D$1048576,2,0)),\"\")","v":""},null,null,null,null,null,"00:00:00",null,"00:00:00","00:00:00"]
[null,{"$f":"IFERROR(IF(A9883=\"\",\"\",VLOOKUP(A9883,'Banco de Funcionários'!$A$2:$D$1048576,2,0)),\"\")","v":""},null,null,null,null,null,"00:00:00",null,"00:00:00","00:00:00"]
[null,{"$f":"IFERROR(IF(A9888=\"\",\"\",VLOOKUP(A9888,'Banco de Funcionários'!$A$2:$D$1048576,2,0)),\"\")","v":""},null,null,null,null,null,"00:00:00",null,"00:00:00","00:00:00"]
[null,{"$f":"IFERROR(IF(A9894=\"\",\"\",VLOOKUP(A9894,'Banco de Funcionários'!$A$2:$D$1048576,2,0)),\"\")","v":""},null,null,null,null,null,"00:00:00",null,"00:00:00","00:00:00"]
[null,{"$f":"IFERROR(IF(A9899=\"\",\"\",VLOOKUP(A9899,'Banco de Funcionários'!$A$2:$D$1048576,2,0)),\"\")","v":""},null,null,null,null,null,"00:00:00",null,"00:00:00","00:00:00"]
[null,{"$f":"IFERROR(IF(A9904=\"\",\"\",VLOOKUP(A9904,'Banco de Funcionários'!$A$2:$D$1048576,2,0)),\"\")","v":""},null,null,null,null,null,"00:00:00",null,"00:00:00","00:00:00"]
[null,{"$f":"IFERROR(IF(A9905=\"\",\"\",VLOOKUP(A9905,'Banco de Funcionários'!$A$2:$D$1048576,2,0)),\"\")","v":""},null,null,null,null,null,"00:00:00",null,"00:00:00","00:00:00"]
[null,{"$f":"IFERROR(IF(A9909=\"\",\"\",VLOOKUP(A9909,'Banco de Funcionários'!$A$2:$D$1048576,2,0)),\"\")","v":""},null,null,null,null,null,"00:00:00",null,"00:00:00","00:00:00"]
[null,{"$f":"IFERROR(IF(A9914=\"\",\"\",VLOOKUP(A9914,'Banco de Funcionários'!$A$2:$D$1048576,2,0)),\"\")","v":""},null,null,null,null,null,"00:00:00",null,"00:00:00","00:00:00"]
[null,{"$f":"IFERROR(IF(A9920=\"\",\"\",VLOOKUP(A9920,'Banco de Funcionários'!$A$2:$D$1048576,2,0)),\"\")","v":""},null,null,null,null,null,"00:00:00",null,"00:00:00","00:00:00"]
[null,{"$f":"IFERROR(IF(A9925=\"\",\"\",VLOOKUP(A9925,'Banco de Funcionários'!$A$2:$D$1048576,2,0)),\"\")","v":""},null,null,null,null,null,"00:00:00",null,"00:00:00","00:00:00"]
[null,{"$f":"IFERROR(IF(A9931=\"\",\"\",VLOOKUP(A9931,'Banco de Funcionários'!$A$2:$D$1048576,2,0)),\"\")","v":""},null,null,null,null,null,"00:00:00",null,"00:00:00","00:00:00"]
[null,{"$f":"IFERROR(IF(A9936=\"\",\"\",VLOOKUP(A9936,'Banco de Funcionários'!$A$2:$D$1048576,2,0)),\"\")","v":""},null,null,null,null,null,"00:00:00",null,"00:00:00","00:00:00"]
[null,{"$f":"IFERROR(IF(A9941=\"\",\"\",VLOOKUP(A9941,'Banco de Funcionários'!$A$2:$D$1048576,2,0)),\"\")","v":""},null,null,null,null,null,"00:00:00",null,"00:00:00","00:00:00"]
[null,{"$f":"IFERROR(IF(A9947=\"\",\"\",VLOOKUP(A9947,'Banco de Funcionários'!$A$2:$D$1048576,2,0)),\"\")","v":""},null,null,null,null,null,"00:00:00",null,"00:00:00","00:00:00"]
[null,{"$f":"IFERROR(IF(A9952=\"\",\"\",VLOOKUP(A9952,'Banco de Funcionários'!$A$2:$D$1048576,2,0)),\"\")","v":""},null,null,null,null,null,"00:00:00",null,"00:00:00","00:00:00"]
[null,{"$f":"IFERROR(IF(A9958=\"\",\"\",VLOOKUP(A9958,'Banco de Funcionários'!$A$2:$D$1048576,2,0)),\"\")","v":""},null,null,null,null,null,"00:00:00",null,"00:00:00","00:00:00"]
[null,{"$f":"IFERROR(IF(A9963=\"\",\"\",VLOOKUP(A9963,'Banco de Funcionários'!$A$2:$D$1048576,2,0)),\"\")","v":""},null,null,null,null,null,"00:00:00",null,"00:00:00","00:00:00"]
[null,{"$f":"IFERROR(IF(A9968=\"\",\"\",VLOOKUP(A9968,'Banco de Funcionários'!$A$2:$D$1048576,2,0)),\"\")","v":""},null,null,null,null,null,"00:00:00",null,"00:00:00","00:00:00"]
[null,{"$f":"IFERROR(IF(A9969=\"\",\"\",VLOOKUP(A9969,'Banco de Funcionários'!$A$2:$D$1048576,2,0)),\"\")","v":""},null,null,null,null,null,"00:00:00",null,"00:00:00","00:00:00"]
[null,{"$f":"IFERROR(IF(A9974=\"\",\"\",VLOOKUP(A9974,'Banco de Funcionários'!$A$2:$D$1048576,2,0)),\"\")","v":""},null,null,null,null,null,"00:00:00",null,"00:00:00","00:00:00"]
[null,{"$f":"IFERROR(IF(A9979=\"\",\"\",VLOOKUP(A9979,'Banco de Funcionários'!$A$2:$D$1048576,2,0)),\"\")","v":""},null,null,null,null,null,"00:00:00",null,"00:00:00","00:00:00"]
[null,{"$f":"IFERROR(IF(A9985=\"\",\"\",VLOOKUP(A9985,'Banco de Funcionários'!$A$2:$D$1048576,2,0)),\"\")","v":""},null,null,null,null,null,"00:00:00",null,"00:00:00","00:00:00"]
[null,{"$f":"IFERROR(IF(A9990=\"\",\"\",VLOOKUP(A9990,'Banco de Funcionários'!$A$2:$D$1048576,2,0)),\"\")","v":""},null,null,null,null,null,"00:00:00",null,"00:00:00","00:00:00"]
[null,{"$f":"IFERROR(IF(A9996=\"\",\"\",VLOOKUP(A9996,'Banco de Funcionários'!$A$2:$D$1048576,2,0)),\"\")","v":""},null,null,null,null,null,"00:00:00",null,"00:00:00","00:00:00"]
[null,{"$f":"IFERROR(IF(A10001=\"\",\"\",VLOOKUP(A10001,'Banco de Funcionários'!$A$2:$D$1048576,2,0)),\"\")","v":""},null,null,null,null,null,"00:00:00",null,"00:00:00","00:00:00"]
[null,{"$f":"IFERROR(IF(A10006=\"\",\"\",VLOOKUP(A10006,'Banco de Funcionários'!$A$2:$D$1048576,2,0)),\"\")","v":""},null,null,null,null,null,"00:00:00",null,"00:00:00","00:00:00"]
[null,{"$f":"IFERROR(IF(A10012=\"\",\"\",VLOOKUP(A10012,'Banco de Funcionários'!$A$2:$D$1048576,2,0)),\"\")","v":""},null,null,null,null,null,"00:00:00",null,"00:00:00","00:00:00"]
[null,{"$f":"IFERROR(IF(A10016=\"\",\"\",VLOOKUP(A10016,'Banco de Funcionários'!$A$2:$D$1048576,2,0)),\"\")","v":""},null,null,null,null,null,"00:00:00",null,"00:00:00","00:00:00"]
[null,{"$f":"IFERROR(IF(A10022=\"\",\"\",VLOOKUP(A10022,'Banco de Funcionários'!$A$2:$D$1048576,2,0)),\"\")","v":""},null,null,null,null,null,"00:00:00",null,"00:00:00","00:00:00"]
[null,{"$f":"IFERROR(IF(A10027=\"\",\"\",VLOOKUP(A10027,'Banco de Funcionários'!$A$2:$D$1048576,2,0)),\"\")","v":""},null,null,null,null,null,"00:00:00",null,"00:00:00","00:00:00"]
[null,{"$f":"IFERROR(IF(A10032=\"\",\"\",VLOOKUP(A10032,'Banco de Funcionários'!$A$2:$D$1048576,2,0)),\"\")","v":""},null,null,null,null,null,"00:00:00",null,"00:00:00","00:00:00"]
[null,{"$f":"IFERROR(IF(A10033=\"\",\"\",VLOOKUP(A10033,'Banco de Funcionários'!$A$2:$D$1048576,2,0)),\"\")","v":""},null,null,null,null,null,"00:00:00",null,"00:00:00","00:00:00"]
[null,{"$f":"IFERROR(IF(A10038=\"\",\"\",VLOOKUP(A10038,'Banco de Funcionários'!$A$2:$D$1048576,2,0)),\"\")","v":""},null,null,null,null,null,"00:00:00",null,"00:00:00","00:00:00"]
[null,{"$f":"IFERROR(IF(A10043=\"\",\"\",VLOOKUP(A10043,'Banco de Funcionários'!$A$2:$D$1048576,2,0)),\"\")","v":""},null,null,null,null,null,"00:00:00",null,"00:00:00","00:00:00"]
[null,{"$f":"IFERROR(IF(A10049=\"\",\"\",VLOOKUP(A10049,'Banco de Funcionários'!$A$2:$D$1048576,2,0)),\"\")","v":""},null,null,null,null,null,"00:00:00",null,"00:00:00","00:00:00"]
[null,{"$f":"IFERROR(IF(A10054=\"\",\"\",VLOOKUP(A10054,'Banco de Funcionários'!$A$2:$D$1048576,2,0)),\"\")","v":""},null,null,null,null,null,"00:00:00",null,"00:00:00","00:00:00"]
[null,{"$f":"IFERROR(IF(A10060=\"\",\"\",VLOOKUP(A10060,'Banco de Funcionários'!$A$2:$D$1048576,2,0)),\"\")","v":""},null,null,null,null,null,"00:00:00",null,"00:00:00","00:00:00"]
[null,{"$f":"IFERROR(IF(A10065=\"\",\"\",VLOOKUP(A10065,'Banco de Funcionários'!$A$2:$D$1048576,2,0)),\"\")","v":""},null,null,null,null,null,"00:00:00",null,"00:00:00","00:00:00"]
[null,{"$f":"IFERROR(IF(A10070=\"\",\"\",VLOOKUP(A10070,'Banco de Funcionários'!$A$2:$D$1048576,2,0)),\"\")","v":""},null,null,null,null,null,"00:00:00",null,"00:00:00","00:00:00"]
[null,{"$f":"IFERROR(IF(A10076=\"\",\"\",VLOOKUP(A10076,'Banco de Funcionários'!$A$2:$D$1048576,2,0)),\"\")","v":""},null,null,null,null,null,"00:00:00",null,"00:00:00","00:00:00"]
[null,{"$f":"IFERROR(IF(A10081=\"\",\"\",VLOOKUP(A10081,'Banco de Funcionários'!$A$2:$D$1048576,2,0)),\"\")","v":""},null,null,null,null,null,"00:00:00",null,"00:00:00","00:00:00"]
[null,{"$f":"IFERROR(IF(A10086=\"\",\"\",VLOOKUP(A10086,'Banco de Funcionários'!$A$2:$D$1048576,2,0)),\"\")","v":""},null,null,null,null,null,"00:00:00",null,"00:00:00","00:00:00"]
[null,{"$f":"IFERROR(IF(A10092=\"\",\"\",VLOOKUP(A10092,'Banco de Funcionários'!$A$2:$D$1048576,2,0)),\"\")","v":""},null,null,null,null,null,"00:00:00",null,"00:00:00","00:00:00"]
[null,{"$f":"IFERROR(IF(A10097=\"\",\"\",VLOOKUP(A10097,'Banco de Funcionários'!$A$2:$D$1048576,2,0)),\"\")","v":""},null,null,null,null,null,"00:00:00",null,"00:00:00","00:00:00"]
[null,{"$f":"IFERROR(IF(A10098=\"\",\"\",VLOOKUP(A10098,'Banco de Funcionários'!$A$2:$D$1048576,2,0)),\"\")","v":""},null,null,null,null,null,"00:00:00",null,"00:00:00","00:00:00"]
[null,{"$f":"IFERROR(IF(A10103=\"\",\"\",VLOOKUP(A10103,'Banco de Funcionários'!$A$2:$D$1048576,2,0)),\"\")","v":""},null,null,null,null,null,"00:00:00",null,"00:00:00","00:00:00"]
[null,{"$f":"IFERROR(IF(A10108=\"\",\"\",VLOOKUP(A10108,'Banco de Funcionários'!$A$2:$D$1048576,2,0)),\"\")","v":""},null,null,null,null,null,"00:00:00",null,"00:00:00","00:00:00"]
[null,{"$f":"IFERROR(IF(A10114=\"\",\"\",VLOOKUP(A10114,'Banco de Funcionários'!$A$2:$D$1048576,2,0)),\"\")","v":""},null,null,null,null,null,"00:00:00",null,"00:00:00","00:00:00"]
[null,{"$f":"IFERROR(IF(A10119=\"\",\"\",VLOOKUP(A10119,'Banco de Funcionários'!$A$2:$D$1048576,2,0)),\"\")","v":""},null,null,null,null,null,"00:00:00",null,"00:00:00","00:00:00"]
[null,{"$f":"IFERROR(IF(A10125=\"\",\"\",VLOOKUP(A10125,'Banco de Funcionários'!$A$2:$D$1048576,2,0)),\"\")","v":""},null,null,null,null,null,"00:00:00",null,"00:00:00","00:00:00"]
[null,{"$f":"IFERROR(IF(A10129=\"\",\"\",VLOOKUP(A10129,'Banco de Funcionários'!$A$2:$D$1048576,2,0)),\"\")","v":""},null,null,null,null,null,"00:00:00",null,"00:00:00","00:00:00"]
[null,{"$f":"IFERROR(IF(A10134=\"\",\"\",VLOOKUP(A10134,'Banco de Funcionários'!$A$2:$D$1048576,2,0)),\"\")","v":""},null,null,null,null,null,"00:00:00",null,"00:00:00","00:00:00"]
[null,{"$f":"IFERROR(IF(A10140=\"\",\"\",VLOOKUP(A10140,'Banco de Funcionários'!$A$2:$D$1048576,2,0)),\"\")","v":""},null,null,null,null,null,"00:00:00",null,"00:00:00","00:00:00"]
[null,{"$f":"IFERROR(IF(A10145=\"\",\"\",VLOOKUP(A10145,'Banco de Funcionários'!$A$2:$D$1048576,2,0)),\"\")","v":""},null,null,null,null,null,"00:00:00",null,"00:00:00","00:00:00"]
[null,{"$f":"IFERROR(IF(A10150=\"\",\"\",VLOOKUP(A10150,'Banco de Funcionários'!$A$2:$D$1048576,2,0)),\"\")","v":""},null,null,null,null,null,"00:00:00",null,"00:00:00","00:00:00"]
[null,{"$f":"IFERROR(IF(A10156=\"\",\"\",VLOOKUP(A10156,'Banco de Funcionários'!$A$2:$D$1048576,2,0)),\"\")","v":""},null,null,null,null,null,"00:00:00",null,"00:00:00","00:00:00"]
[null,{"$f":"IFERROR(IF(A10161=\"\",\"\",VLOOKUP(A10161,'Banco de Funcionários'!$A$2:$D$1048576,2,0)),\"\")","v":""},null,null,null,null,null,"00:00:00",null,"00:00:00","00:00:00"]
[null,{"$f":"IFERROR(IF(A10162=\"\",\"\",VLOOKUP(A10162,'Banco de Funcionários'!$A$2:$D$1048576,2,0)),\"\")","v":""},null,null,null,null,null,"00:00:00",null,"00:00:00","00:00:00"]
[null,{"$f":"IFERROR(IF(A10167=\"\",\"\",VLOOKUP(A10167,'Banco de Funcionários'!$A$2:$D$1048576,2,0)),\"\")","v":""},null,null,null,null,null,"00:00:00",null,"00:00:00","00:00:00"]
[null,{"$f":"IFERROR(IF(A10172=\"\",\"\",VLOOKUP(A10172,'Banco de Funcionários'!$A$2:$D$1048576,2,0)),\"\")","v":""},null,null,null,null,null,"00:00:00",null,"00:00:00","00:00:00"]
[null,{"$f":"IFERROR(IF(A10178=\"\",\"\",VLOOKUP(A10178,'Banco de Funcionários'!$A$2:$D$1048576,2,0)),\"\")","v":""},null,null,null,null,null,"00:00:00",null,"00:00:00","00:00:00"]
[null,{"$f":"IFERROR(IF(A10183=\"\",\"\",VLOOKUP(A10183,'Banco de Funcionários'!$A$2:$D$1048576,2,0)),\"\")","v":""},null,null,null,null,null,"00:00:00",null,"00:00:00","00:00:00"]
[null,{"$f":"IFERROR(IF(A10189=\"\",\"\",VLOOKUP(A10189,'Banco de Funcionários'!$A$2:$D$1048576,2,0)),\"\")","v":""},null,null,null,null,null,"00:00:00",null,"00:00:00","00:00:00"]
[null,{"$f":"IFERROR(IF(A10194=\"\",\"\",VLOOKUP(A10194,'Banco de Funcionários'!$A$2:$D$1048576,2,0)),\"\")","v":""},null,null,null,null,null,"00:00:00",null,"00:00:00","00:00:00"]
[null,{"$f":"IFERROR(IF(A10199=\"\",\"\",VLOOKUP(A10199,'Banco de Funcionários'!$A$2:$D$1048576,2,0)),\"\")","v":""},null,null,null,null,null,"00:00:00",null,"00:00:00","00:00:00"]
[null,{"$f":"IFERROR(IF(A10205=\"\",\"\",VLOOKUP(A10205,'Banco de Funcionários'!$A$2:$D$1048576,2,0)),\"\")","v":""},null,null,null,null,null,"00:00:00",null,"00:00:00","00:00:00"]
[null,{"$f":"IFERROR(IF(A10210=\"\",\"\",VLOOKUP(A10210,'Banco de Funcionários'!$A$2:$D$1048576,2,0)),\"\")","v":""},null,null,null,null,null,"00:00:00",null,"00:00:00","00:00:00"]
[null,{"$f":"IFERROR(IF(A10215=\"\",\"\",VLOOKUP(A10215,'Banco de Funcionários'!$A$2:$D$1048576,2,0)),\"\")","v":""},null,null,null,null,null,"00:00:00",null,"00:00:00","00:00:00"]
[null,{"$f":"IFERROR(IF(A10221=\"\",\"\",VLOOKUP(A10221,'Banco de Funcionários'!$A$2:$D$1048576,2,0)),\"\")","v":""},null,null,null,null,null,"00:00:00",null,"00:00:00","00:00:00"]
[null,{"$f":"IFERROR(IF(A10226=\"\",\"\",VLOOKUP(A10226,'Banco de Funcionários'!$A$2:$D$1048576,2,0)),\"\")","v":""},null,null,null,null,null,"00:00:00",null,"00:00:00","00:00:00"]
[null,{"$f":"IFERROR(IF(A10227=\"\",\"\",VLOOKUP(A10227,'Banco de Funcionários'!$A$2:$D$1048576,2,0)),\"\")","v":""},null,null,null,null,null,"00:00:00",null,"00:00:00","00:00:00"]
[null,{"$f":"IFERROR(IF(A10232=\"\",\"\",VLOOKUP(A10232,'Banco de Funcionários'!$A$2:$D$1048576,2,0)),\"\")","v":""},null,null,null,null,null,"00:00:00",null,"00:00:00","00:00:00"]
[null,{"$f":"IFERROR(IF(A10240=\"\",\"\",VLOOKUP(A10240,'Banco de Funcionários'!$A$2:$D$1048576,2,0)),\"\")","v":""},null,null,null,null,null,"00:00:00",null,"00:00:00","00:00:00"]
[null,{"$f":"IFERROR(IF(A10242=\"\",\"\",VLOOKUP(A10242,'Banco de Funcionários'!$A$2:$D$1048576,2,0)),\"\")","v":""},null,null,null,null,null,"00:00:00",null,"00:00:00","00:00:00"]
[null,{"$f":"IFERROR(IF(A10247=\"\",\"\",VLOOKUP(A10247,'Banco de Funcionários'!$A$2:$D$1048576,2,0)),\"\")","v":""},null,null,null,null,null,"00:00:00",null,"00:00:00","00:00:00"]
[null,{"$f":"IFERROR(IF(A10252=\"\",\"\",VLOOKUP(A10252,'Banco de Funcionários'!$A$2:$D$1048576,2,0)),\"\")","v":""},null,null,null,null,null,"00:00:00",null,"00:00:00","00:00:00"]
[null,{"$f":"IFERROR(IF(A10258=\"\",\"\",VLOOKUP(A10258,'Banco de Funcionários'!$A$2:$D$1048576,2,0)),\"\")","v":""},null,null,null,null,null,"00:00:00",null,"00:00:00","00:00:00"]
[null,{"$f":"IFERROR(IF(A10263=\"\",\"\",VLOOKUP(A10263,'Banco de Funcionários'!$A$2:$D$1048576,2,0)),\"\")","v":""},null,null,null,null,null,"00:00:00",null,"00:00:00","00:00:00"]
[null,{"$f":"IFERROR(IF(A10269=\"\",\"\",VLOOKUP(A10269,'Banco de Funcionários'!$A$2:$D$1048576,2,0)),\"\")","v":""},null,null,null,null,null,"00:00:00",null,"00:00:00","00:00:00"]
[null,{"$f":"IFERROR(IF(A10274=\"\",\"\",VLOOKUP(A10274,'Banco de Funcionários'!$A$2:$D$1048576,2,0)),\"\")","v":""},null,null,null,null,null,"00:00:00",null,"00:00:00","00:00:00"]
[null,{"$f":"IFERROR(IF(A10279=\"\",\"\",VLOOKUP(A10279,'Banco de Funcionários'!$A$2:$D$1048576,2,0)),\"\")","v":""},null,null,null,null,null,"00:00:00",null,"00:00:00","00:00:00"]
[null,{"$f":"IFERROR(IF(A10285=\"\",\"\",VLOOKUP(A10285,'Banco de Funcionários'!$A$2:$D$1048576,2,0)),\"\")","v":""},null,null,null,null,null,"00:00:00",null,"00:00:00","00:00:00"]
[null,{"$f":"IFERROR(IF(A10290=\"\",\"\",VLOOKUP(A10290,'Banco de Funcionários'!$A$2:$D$1048576,2,0)),\"\")","v":""},null,null,null,null,null,"00:00:00",null,"00:00:00","00:00:00"]
[null,{"$f":"IFERROR(IF(A10291=\"\",\"\",VLOOKUP(A10291,'Banco de Funcionários'!$A$2:$D$1048576,2,0)),\"\")","v":""},null,null,null,null,null,"00:00:00",null,"00:00:00","00:00:00"]
[null,{"$f":"IFERROR(IF(A10296=\"\",\"\",VLOOKUP(A10296,'Banco de Funcionários'!$A$2:$D$1048576,2,0)),\"\")","v":""},null,null,null,null,null,"00:00:00",null,"00:00:00","00:00:00"]
[null,{"$f":"IFERROR(IF(A10301=\"\",\"\",VLOOKUP(A10301,'Banco de Funcionários'!$A$2:$D$1048576,2,0)),\"\")","v":""},null,null,null,null,null,"00:00:00",null,"00:00:00","00:00:00"]
[null,{"$f":"IFERROR(IF(A10307=\"\",\"\",VLOOKUP(A10307,'Banco de Funcionários'!$A$2:$D$1048576,2,0)),\"\")","v":""},null,null,null,null,null,{"$f":"(F10307-E10307)-G10307","v":"00:00:00"},null,{"$f":"IFERROR(H10307-I10307,\"\")","v":"00:00:00"},{"$f":"IFERROR(H10307+J10307,0)","v":"00:00:00"}]
[null,{"$f":"IFERROR(IF(A10312=\"\",\"\",VLOOKUP(A10312,'Banco de Funcionários'!$A$2:$D$1048576,2,0)),\"\")","v":""},null,null,null,null,null,"00:00:00",null,"00:00:00","00:00:00"]
[null,{"$f":"IFERROR(IF(A10317=\"\",\"\",VLOOKUP(A10317,'Banco de Funcionários'!$A$2:$D$1048576,2,0)),\"\")","v":""},null,null,null,null,null,"00:00:00",null,"00:00:00","00:00:00"]
[null,{"$f":"IFERROR(IF(A10323=\"\",\"\",VLOOKUP(A10323,'Banco de Funcionários'!$A$2:$D$1048576,2,0)),\"\")","v":""},null,null,null,null,null,"00:00:00",null,"00:00:00","00:00:00"]
[null,{"$f":"IFERROR(IF(A10328=\"\",\"\",VLOOKUP(A10328,'Banco de Funcionários'!$A$2:$D$1048576,2,0)),\"\")","v":""},null,null,null,null,null,"00:00:00",null,"00:00:00","00:00:00"]
[null,{"$f":"IFERROR(IF(A10334=\"\",\"\",VLOOKUP(A10334,'Banco de Funcionários'!$A$2:$D$1048576,2,0)),\"\")","v":""},null,null,null,null,null,"00:00:00",null,"00:00:00","00:00:00"]
[null,{"$f":"IFERROR(IF(A10339=\"\",\"\",VLOOKUP(A10339,'Banco de Funcionários'!$A$2:$D$1048576,2,0)),\"\")","v":""},null,null,null,null,null,"00:00:00",null,"00:00:00","00:00:00"]
[null,{"$f":"IFERROR(IF(A10344=\"\",\"\",VLOOKUP(A10344,'Banco de Funcionários'!$A$2:$D$1048576,2,0)),\"\")","v":""},null,null,null,null,null,"00:00:00",null,"00:00:00","00:00:00"]
[null,{"$f":"IFERROR(IF(A10350=\"\",\"\",VLOOKUP(A10350,'Banco de Funcionários'!$A$2:$D$1048576,2,0)),\"\")","v":""},null,null,null,null,null,"00:00:00",null,"00:00:00","00:00:00"]
[null,{"$f":"IFERROR(IF(A10353=\"\",\"\",VLOOKUP(A10353,'Banco de Funcionários'!$A$2:$D$1048576,2,0)),\"\")","v":""},null,null,null,null,null,"00:00:00",null,"00:00:00","00:00:00"]
[null,{"$f":"IFERROR(IF(A10359=\"\",\"\",VLOOKUP(A10359,'Banco de Funcionários'!$A$2:$D$1048576,2,0)),\"\")","v":""},null,null,null,null,null,"00:00:00",null,"00:00:00","00:00:00"]
[null,{"$f":"IFERROR(IF(A10360=\"\",\"\",VLOOKUP(A10360,'Banco de Funcionários'!$A$2:$D$1048576,2,0)),\"\")","v":""},null,null,null,null,null,"00:00:00",null,"00:00:00","00:00:00"]
[null,{"$f":"IFERROR(IF(A10365=\"\",\"\",VLOOKUP(A10365,'Banco de Funcionários'!$A$2:$D$1048576,2,0)),\"\")","v":""},null,null,null,null,null,"00:00:00",null,"00:00:00","00:00:00"]
[null,{"$f":"IFERROR(IF(A10371=\"\",\"\",VLOOKUP(A10371,'Banco de Funcionários'!$A$2:$D$1048576,2,0)),\"\")","v":""},null,null,null,null,null,{"$f":"(F10371-E10371)-G10371","v":"00:00:00"},null,{"$f":"IFERROR(H10371-I10371,\"\")","v":"00:00:00"},{"$f":"IFERROR(H10371+J10371,0)","v":"00:00:00"}]
[null,{"$f":"IFERROR(IF(A10376=\"\",\"\",VLOOKUP(A10376,'Banco de Funcionários'!$A$2:$D$1048576,2,0)),\"\")","v":""},null,null,null,null,null,"00:00:00",null,"00:00:00","00:00:00"]
[null,{"$f":"IFERROR(IF(A10381=\"\",\"\",VLOOKUP(A10381,'Banco de Funcionários'!$A$2:$D$1048576,2,0)),\"\")","v":""},null,null,null,null,null,"00:00:00",null,"00:00:00","00:00:00"]
[null,{"$f":"IFERROR(IF(A10387=\"\",\"\",VLOOKUP(A10387,'Banco de Funcionários'!$A$2:$D$1048576,2,0)),\"\")","v":""},null,null,null,null,null,"00:00:00",null,"00:00:00","00:00:00"]
[null,{"$f":"IFERROR(IF(A10392=\"\",\"\",VLOOKUP(A10392,'Banco de Funcionários'!$A$2:$D$1048576,2,0)),\"\")","v":""},null,null,null,null,null,"00:00:00",null,"00:00:00","00:00:00"]
[null,{"$f":"IFERROR(IF(A10398=\"\",\"\",VLOOKUP(A10398,'Banco de Funcionários'!$A$2:$D$1048576,2,0)),\"\")","v":""},null,null,null,null,null,"00:00:00",null,"00:00:00","00:00:00"]
[null,{"$f":"IFERROR(IF(A10403=\"\",\"\",VLOOKUP(A10403,'Banco de Funcionários'!$A$2:$D$1048576,2,0)),\"\")","v":""},null,null,null,null,null,"00:00:00",null,"00:00:00","00:00:00"]
[null,{"$f":"IFERROR(IF(A10408=\"\",\"\",VLOOKUP(A10408,'Banco de Funcionários'!$A$2:$D$1048576,2,0)),\"\")","v":""},null,null,null,null,null,"00:00:00",null,"00:00:00","00:00:00"]
[null,{"$f":"IFERROR(IF(A10414=\"\",\"\",VLOOKUP(A10414,'Banco de Funcionários'!$A$2:$D$1048576,2,0)),\"\")","v":""},null,null,null,null,null,"00:00:00",null,"00:00:00","00:00:00"]
[null,{"$f":"IFERROR(IF(A10419=\"\",\"\",VLOOKUP(A10419,'Banco de Funcionários'!$A$2:$D$1048576,2,0)),\"\")","v":""},null,null,null,null,null,"00:00:00",null,"00:00:00","00:00:00"]
[null,{"$f":"IFERROR(IF(A10424=\"\",\"\",VLOOKUP(A10424,'Banco de Funcionários'!$A$2:$D$1048576,2,0)),\"\")","v":""},null,null,null,null,null,"00:00:00",null,"00:00:00","00:00:00"]
[null,{"$f":"IFERROR(IF(A10425=\"\",\"\",VLOOKUP(A10425,'Banco de Funcionários'!$A$2:$D$1048576,2,0)),\"\")","v":""},null,null,null,null,null,"00:00:00",null,"00:00:00","00:00:00"]
[null,{"$f":"IFERROR(IF(A10430=\"\",\"\",VLOOKUP(A10430,'Banco de Funcionários'!$A$2:$D$1048576,2,0)),\"\")","v":""},null,null,null,null,null,"00:00:00",null,"00:00:00","00:00:00"]
[null,{"$f":"IFERROR(IF(A10436=\"\",\"\",VLOOKUP(A10436,'Banco de Funcionários'!$A$2:$D$1048576,2,0)),\"\")","v":""},null,null,null,null,null,"00:00:00",null,"00:00:00","00:00:00"]
[null,{"$f":"IFERROR(IF(A10441=\"\",\"\",VLOOKUP(A10441,'Banco de Funcionários'!$A$2:$D$1048576,2,0)),\"\")","v":""},null,null,null,null,null,"00:00:00",null,"00:00:00","00:00:00"]
[null,{"$f":"IFERROR(IF(A10446=\"\",\"\",VLOOKUP(A10446,'Banco de Funcionários'!$A$2:$D$1048576,2,0)),\"\")","v":""},null,null,null,null,null,"00:00:00",null,"00:00:00","00:00:00"]
[null,{"$f":"IFERROR(IF(A10452=\"\",\"\",VLOOKUP(A10452,'Banco de Funcionários'!$A$2:$D$1048576,2,0)),\"\")","v":""},null,null,null,null,null,"00:00:00",null,"00:00:00","00:00:00"]
[null,{"$f":"IFERROR(IF(A10457=\"\",\"\",VLOOKUP(A10457,'Banco de Funcionários'!$A$2:$D$1048576,2,0)),\"\")","v":""},null,null,null,null,null,"00:00:00",null,"00:00:00","00:00:00"]
[null,{"$f":"IFERROR(IF(A10460=\"\",\"\",VLOOKUP(A10460,'Banco de Funcionários'!$A$2:$D$1048576,2,0)),\"\")","v":""},null,null,null,null,null,"00:00:00",null,"00:00:00","00:00:00"]
[null,{"$f":"IFERROR(IF(A10467=\"\",\"\",VLOOKUP(A10467,'Banco de Funcionários'!$A$2:$D$1048576,2,0)),\"\")","v":""},null,null,null,null,null,"00:00:00",null,"00:00:00","00:00:00"]
[null,{"$f":"IFERROR(IF(A10472=\"\",\"\",VLOOKUP(A10472,'Banco de Funcionários'!$A$2:$D$1048576,2,0)),\"\")","v":""},null,null,null,null,null,"00:00:00",null,"00:00:00","00:00:00"]
[null,{"$f":"IFERROR(IF(A10478=\"\",\"\",VLOOKUP(A10478,'Banco de Funcionários'!$A$2:$D$1048576,2,0)),\"\")","v":""},null,null,null,null,null,"00:00:00",null,"00:00:00","00:00:00"]
[null,{"$f":"IFERROR(IF(A10483=\"\",\"\",VLOOKUP(A10483,'Banco de Funcionários'!$A$2:$D$1048576,2,0)),\"\")","v":""},null,null,null,null,null,"00:00:00",null,"00:00:00","00:00:00"]
[null,{"$f":"IFERROR(IF(A10488=\"\",\"\",VLOOKUP(A10488,'Banco de Funcionários'!$A$2:$D$1048576,2,0)),\"\")","v":""},null,null,null,null,null,"00:00:00",null,"00:00:00","00:00:00"]
[null,{"$f":"IFERROR(IF(A10489=\"\",\"\",VLOOKUP(A10489,'Banco de Funcionários'!$A$2:$D$1048576,2,0)),\"\")","v":""},null,null,null,null,null,"00:00:00",null,"00:00:00","00:00:00"]
[null,{"$f":"IFERROR(IF(A10494=\"\",\"\",VLOOKUP(A10494,'Banco de Funcionários'!$A$2:$D$1048576,2,0)),\"\")","v":""},null,null,null,null,null,"00:00:00",null,"00:00:00","00:00:00"]
[null,{"$f":"IFERROR(IF(A10500=\"\",\"\",VLOOKUP(A10500,'Banco de Funcionários'!$A$2:$D$1048576,2,0)),\"\")","v":""},null,null,null,null,null,"00:00:00",null,"00:00:00","00:00:00"]
[null,{"$f":"IFERROR(IF(A10505=\"\",\"\",VLOOKUP(A10505,'Banco de Funcionários'!$A$2:$D$1048576,2,0)),\"\")","v":""},null,null,null,null,null,"00:00:00",null,"00:00:00","00:00:00"]
[null,{"$f":"IFERROR(IF(A10510=\"\",\"\",VLOOKUP(A10510,'Banco de Funcionários'!$A$2:$D$1048576,2,0)),\"\")","v":""},null,null,null,null,null,"00:00:00",null,"00:00:00","00:00:00"]
[null,{"$f":"IFERROR(IF(A10516=\"\",\"\",VLOOKUP(A10516,'Banco de Funcionários'!$A$2:$D$1048576,2,0)),\"\")","v":""},null,null,null,null,null,"00:00:00",null,"00:00:00","00:00:00"]
[null,{"$f":"IFERROR(IF(A10521=\"\",\"\",VLOOKUP(A10521,'Banco de Funcionários'!$A$2:$D$1048576,2,0)),\"\")","v":""},null,null,null,null,null,"00:00:00",null,"00:00:00","00:00:00"]
[null,{"$f":"IFERROR(IF(A10526=\"\",\"\",VLOOKUP(A10526,'Banco de Funcionários'!$A$2:$D$1048576,2,0)),\"\")","v":""},null,null,null,null,null,"00:00:00",null,"00:00:00","00:00:00"]
[null,{"$f":"IFERROR(IF(A10532=\"\",\"\",VLOOKUP(A10532,'Banco de Funcionários'!$A$2:$D$1048576,2,0)),\"\")","v":""},null,null,null,null,null,"00:00:00",null,"00:00:00","00:00:00"]
[null,{"$f":"IFERROR(IF(A10537=\"\",\"\",VLOOKUP(A10537,'Banco de Funcionários'!$A$2:$D$1048576,2,0)),\"\")","v":""},null,null,null,null,null,"00:00:00",null,"00:00:00","00:00:00"]
[null,{"$f":"IFERROR(IF(A10543=\"\",\"\",VLOOKUP(A10543,'Banco de Funcionários'!$A$2:$D$1048576,2,0)),\"\")","v":""},null,null,null,null,null,"00:00:00",null,"00:00:00","00:00:00"]
[null,{"$f":"IFERROR(IF(A10548=\"\",\"\",VLOOKUP(A10548,'Banco de Funcionários'!$A$2:$D$1048576,2,0)),\"\")","v":""},null,null,null,null,null,"00:00:00",null,"00:00:00","00:00:00"]
[null,{"$f":"IFERROR(IF(A10553=\"\",\"\",VLOOKUP(A10553,'Banco de Funcionários'!$A$2:$D$1048576,2,0)),\"\")","v":""},null,null,null,null,null,"00:00:00",null,"00:00:00","00:00:00"]
[null,{"$f":"IFERROR(IF(A10554=\"\",\"\",VLOOKUP(A10554,'Banco de Funcionários'!$A$2:$D$1048576,2,0)),\"\")","v":""},null,null,null,null,null,"00:00:00",null,"00:00:00","00:00:00"]
[null,{"$f":"IFERROR(IF(A10559=\"\",\"\",VLOOKUP(A10559,'Banco de Funcionários'!$A$2:$D$1048576,2,0)),\"\")","v":""},null,null,null,null,null,"00:00:00",null,"00:00:00","00:00:00"]
[null,{"$f":"IFERROR(IF(A10565=\"\",\"\",VLOOKUP(A10565,'Banco de Funcionários'!$A$2:$D$1048576,2,0)),\"\")","v":""},null,null,null,null,null,"00:00:00",null,"00:00:00","00:00:00"]
[null,{"$f":"IFERROR(IF(A10570=\"\",\"\",VLOOKUP(A10570,'Banco de Funcionários'!$A$2:$D$1048576,2,0)),\"\")","v":""},null,null,null,null,null,"00:00:00",null,"00:00:00","00:00:00"]
[null,{"$f":"IFERROR(IF(A10577=\"\",\"\",VLOOKUP(A10577,'Banco de Funcionários'!$A$2:$D$1048576,2,0)),\"\")","v":""},null,null,null,null,null,"00:00:00",null,"00:00:00","00:00:00"]
[null,{"$f":"IFERROR(IF(A10580=\"\",\"\",VLOOKUP(A10580,'Banco de Funcionários'!$A$2:$D$1048576,2,0)),\"\")","v":""},null,null,null,null,null,"00:00:00",null,"00:00:00","00:00:00"]
[null,{"$f":"IFERROR(IF(A10585=\"\",\"\",VLOOKUP(A10585,'Banco de Funcionários'!$A$2:$D$1048576,2,0)),\"\")","v":""},null,null,null,null,null,"00:00:00",null,"00:00:00","00:00:00"]
[null,{"$f":"IFERROR(IF(A10590=\"\",\"\",VLOOKUP(A10590,'Banco de Funcionários'!$A$2:$D$1048576,2,0)),\"\")","v":""},null,null,null,null,null,"00:00:00",null,"00:00:00","00:00:00"]
[null,{"$f":"IFERROR(IF(A10596=\"\",\"\",VLOOKUP(A10596,'Banco de Funcionários'!$A$2:$D$1048576,2,0)),\"\")","v":""},null,null,null,null,null,"00:00:00",null,"00:00:00","00:00:00"]
[null,{"$f":"IFERROR(IF(A10601=\"\",\"\",VLOOKUP(A10601,'Banco de Funcionários'!$A$2:$D$1048576,2,0)),\"\")","v":""},null,null,null,null,null,"00:00:00",null,"00:00:00","00:00:00"]
[null,{"$f":"IFERROR(IF(A10607=\"\",\"\",VLOOKUP(A10607,'Banco de Funcionários'!$A$2:$D$1048576,2,0)),\"\")","v":""},null,null,null,null,null,"00:00:00",null,"00:00:00","00:00:00"]
[null,{"$f":"IFERROR(IF(A10612=\"\",\"\",VLOOKUP(A10612,'Banco de Funcionários'!$A$2:$D$1048576,2,0)),\"\")","v":""},null,null,null,null,null,"00:00:00",null,"00:00:00","00:00:00"]
[null,{"$f":"IFERROR(IF(A10617=\"\",\"\",VLOOKUP(A10617,'Banco de Funcionários'!$A$2:$D$1048576,2,0)),\"\")","v":""},null,null,null,null,null,"00:00:00",null,"00:00:00","00:00:00"]
[null,{"$f":"IFERROR(IF(A10618=\"\",\"\",VLOOKUP(A10618,'Banco de Funcionários'!$A$2:$D$1048576,2,0)),\"\")","v":""},null,null,null,null,null,"00:00:00",null,"00:00:00","00:00:00"]
[null,{"$f":"IFERROR(IF(A10623=\"\",\"\",VLOOKUP(A10623,'Banco de Funcionários'!$A$2:$D$1048576,2,0)),\"\")","v":""},null,null,null,null,null,"00:00:00",null,"00:00:00","00:00:00"]
[null,{"$f":"IFERROR(IF(A10629=\"\",\"\",VLOOKUP(A10629,'Banco de Funcionários'!$A$2:$D$1048576,2,0)),\"\")","v":""},null,null,null,null,null,"00:00:00",null,"00:00:00","00:00:00"]
[null,{"$f":"IFERROR(IF(A10634=\"\",\"\",VLOOKUP(A10634,'Banco de Funcionários'!$A$2:$D$1048576,2,0)),\"\")","v":""},null,null,null,null,null,"00:00:00",null,"00:00:00","00:00:00"]
[null,{"$f":"IFERROR(IF(A10639=\"\",\"\",VLOOKUP(A10639,'Banco de Funcionários'!$A$2:$D$1048576,2,0)),\"\")","v":""},null,null,null,null,null,"00:00:00",null,"00:00:00","00:00:00"]
[null,{"$f":"IFERROR(IF(A10645=\"\",\"\",VLOOKUP(A10645,'Banco de Funcionários'!$A$2:$D$1048576,2,0)),\"\")","v":""},null,null,null,null,null,"00:00:00",null,"00:00:00","00:00:00"]
[null,{"$f":"IFERROR(IF(A10650=\"\",\"\",VLOOKUP(A10650,'Banco de Funcionários'!$A$2:$D$1048576,2,0)),\"\")","v":""},null,null,null,null,null,"00:00:00",null,"00:00:00","00:00:00"]
[null,{"$f":"IFERROR(IF(A10655=\"\",\"\",VLOOKUP(A10655,'Banco de Funcionários'!$A$2:$D$1048576,2,0)),\"\")","v":""},null,null,null,null,null,"00:00:00",null,"00:00:00","00:00:00"]
[null,{"$f":"IFERROR(IF(A10661=\"\",\"\",VLOOKUP(A10661,'Banco de Funcionários'!$A$2:$D$1048576,2,0)),\"\")","v":""},null,null,null,null,null,"00:00:00",null,"00:00:00","00:00:00"]
[null,{"$f":"IFERROR(IF(A10666=\"\",\"\",VLOOKUP(A10666,'Banco de Funcionários'!$A$2:$D$1048576,2,0)),\"\")","v":""},null,null,null,null,null,"00:00:00",null,"00:00:00","00:00:00"]
[null,{"$f":"IFERROR(IF(A10672=\"\",\"\",VLOOKUP(A10672,'Banco de Funcionários'!$A$2:$D$1048576,2,0)),\"\")","v":""},null,null,null,null,null,"00:00:00",null,"00:00:00","00:00:00"]
[null,{"$f":"IFERROR(IF(A10677=\"\",\"\",VLOOKUP(A10677,'Banco de Funcionários'!$A$2:$D$1048576,2,0)),\"\")","v":""},null,null,null,null,null,"00:00:00",null,"00:00:00","00:00:00"]
[null,{"$f":"IFERROR(IF(A10682=\"\",\"\",VLOOKUP(A10682,'Banco de Funcionários'!$A$2:$D$1048576,2,0)),\"\")","v":""},null,null,null,null,null,"00:00:00",null,"00:00:00","00:00:00"]
[null,{"$f":"IFERROR(IF(A10684=\"\",\"\",VLOOKUP(A10684,'Banco de Funcionários'!$A$2:$D$1048576,2,0)),\"\")","v":""},null,null,null,null,null,"00:00:00",null,"00:00:00","00:00:00"]
[null,{"$f":"IFERROR(IF(A10687=\"\",\"\",VLOOKUP(A10687,'Banco de Funcionários'!$A$2:$D$1048576,2,0)),\"\")","v":""},null,null,null,null,null,"00:00:00",null,"00:00:00","00:00:00"]
[null,{"$f":"IFERROR(IF(A10692=\"\",\"\",VLOOKUP(A10692,'Banco de Funcionários'!$A$2:$D$1048576,2,0)),\"\")","v":""},null,null,null,null,null,"00:00:00",null,"00:00:00","00:00:00"]
[null,{"$f":"IFERROR(IF(A10698=\"\",\"\",VLOOKUP(A10698,'Banco de Funcionários'!$A$2:$D$1048576,2,0)),\"\")","v":""},null,null,null,null,null,"00:00:00",null,"00:00:00","00:00:00"]
[null,{"$f":"IFERROR(IF(A10703=\"\",\"\",VLOOKUP(A10703,'Banco de Funcionários'!$A$2:$D$1048576,2,0)),\"\")","v":""},null,null,null,null,null,"00:00:00",null,"00:00:00","00:00:00"]
[null,{"$f":"IFERROR(IF(A10709=\"\",\"\",VLOOKUP(A10709,'Banco de Funcionários'!$A$2:$D$1048576,2,0)),\"\")","v":""},null,null,null,null,null,"00:00:00",null,"00:00:00","00:00:00"]
[null,{"$f":"IFERROR(IF(A10714=\"\",\"\",VLOOKUP(A10714,'Banco de Funcionários'!$A$2:$D$1048576,2,0)),\"\")","v":""},null,null,null,null,null,"00:00:00",null,"00:00:00","00:00:00"]
[null,{"$f":"IFERROR(IF(A10719=\"\",\"\",VLOOKUP(A10719,'Banco de Funcionários'!$A$2:$D$1048576,2,0)),\"\")","v":""},null,null,null,null,null,"00:00:00",null,"00:00:00","00:00:00"]
[null,{"$f":"IFERROR(IF(A10725=\"\",\"\",VLOOKUP(A10725,'Banco de Funcionários'!$A$2:$D$1048576,2,0)),\"\")","v":""},null,null,null,null,null,"00:00:00",null,"00:00:00","00:00:00"]
[null,{"$f":"IFERROR(IF(A10730=\"\",\"\",VLOOKUP(A10730,'Banco de Funcionários'!$A$2:$D$1048576,2,0)),\"\")","v":""},null,null,null,null,null,"00:00:00",null,"00:00:00","00:00:00"]
[null,{"$f":"IFERROR(IF(A10736=\"\",\"\",VLOOKUP(A10736,'Banco de Funcionários'!$A$2:$D$1048576,2,0)),\"\")","v":""},null,null,null,null,null,"00:00:00",null,"00:00:00","00:00:00"]
[null,{"$f":"IFERROR(IF(A10741=\"\",\"\",VLOOKUP(A10741,'Banco de Funcionários'!$A$2:$D$1048576,2,0)),\"\")","v":""},null,null,null,null,null,"00:00:00",null,"00:00:00","00:00:00"]
[null,{"$f":"IFERROR(IF(A10746=\"\",\"\",VLOOKUP(A10746,'Banco de Funcionários'!$A$2:$D$1048576,2,0)),\"\")","v":""},null,null,null,null,null,"00:00:00",null,"00:00:00","00:00:00"]
[null,{"$f":"IFERROR(IF(A10747=\"\",\"\",VLOOKUP(A10747,'Banco de Funcionários'!$A$2:$D$1048576,2,0)),\"\")","v":""},null,null,null,null,null,"00:00:00",null,"00:00:00","00:00:00"]
[null,{"$f":"IFERROR(IF(A10752=\"\",\"\",VLOOKUP(A10752,'Banco de Funcionários'!$A$2:$D$1048576,2,0)),\"\")","v":""},null,null,null,null,null,"00:00:00",null,"00:00:00","00:00:00"]
[null,{"$f":"IFERROR(IF(A10757=\"\",\"\",VLOOKUP(A10757,'Banco de Funcionários'!$A$2:$D$1048576,2,0)),\"\")","v":""},null,null,null,null,null,"00:00:00",null,"00:00:00","00:00:00"]
[null,{"$f":"IFERROR(IF(A10763=\"\",\"\",VLOOKUP(A10763,'Banco de Funcionários'!$A$2:$D$1048576,2,0)),\"\")","v":""},null,null,null,null,null,"00:00:00",null,"00:00:00","00:00:00"]
[null,{"$f":"IFERROR(IF(A10768=\"\",\"\",VLOOKUP(A10768,'Banco de Funcionários'!$A$2:$D$1048576,2,0)),\"\")","v":""},null,null,null,null,null,"00:00:00",null,"00:00:00","00:00:00"]
[null,{"$f":"IFERROR(IF(A10774=\"\",\"\",VLOOKUP(A10774,'Banco de Funcionários'!$A$2:$D$1048576,2,0)),\"\")","v":""},null,null,null,null,null,"00:00:00",null,"00:00:00","00:00:00"]
[null,{"$f":"IFERROR(IF(A10779=\"\",\"\",VLOOKUP(A10779,'Banco de Funcionários'!$A$2:$D$1048576,2,0)),\"\")","v":""},null,null,null,null,null,"00:00:00",null,"00:00:00","00:00:00"]
[null,{"$f":"IFERROR(IF(A10784=\"\",\"\",VLOOKUP(A10784,'Banco de Funcionários'!$A$2:$D$1048576,2,0)),\"\")","v":""},null,null,null,null,null,"00:00:00",null,"00:00:00","00:00:00"]
[null,{"$f":"IFERROR(IF(A10790=\"\",\"\",VLOOKUP(A10790,'Banco de Funcionários'!$A$2:$D$1048576,2,0)),\"\")","v":""},null,null,null,null,null,"00:00:00",null,"00:00:00","00:00:00"]
[null,{"$f":"IFERROR(IF(A10795=\"\",\"\",VLOOKUP(A10795,'Banco de Funcionários'!$A$2:$D$1048576,2,0)),\"\")","v":""},null,null,null,null,null,"00:00:00",null,"00:00:00","00:00:00"]
[null,{"$f":"IFERROR(IF(A10797=\"\",\"\",VLOOKUP(A10797,'Banco de Funcionários'!$A$2:$D$1048576,2,0)),\"\")","v":""},null,null,null,null,null,"00:00:00",null,"00:00:00","00:00:00"]
[null,{"$f":"IFERROR(IF(A10805=\"\",\"\",VLOOKUP(A10805,'Banco de Funcionários'!$A$2:$D$1048576,2,0)),\"\")","v":""},null,null,null,null,null,"00:00:00",null,"00:00:00","00:00:00"]
[null,{"$f":"IFERROR(IF(A10810=\"\",\"\",VLOOKUP(A10810,'Banco de Funcionários'!$A$2:$D$1048576,2,0)),\"\")","v":""},null,null,null,null,null,"00:00:00",null,"00:00:00","00:00:00"]
[null,{"$f":"IFERROR(IF(A10811=\"\",\"\",VLOOKUP(A10811,'Banco de Funcionários'!$A$2:$D$1048576,2,0)),\"\")","v":""},null,null,null,null,null,"00:00:00",null,"00:00:00","00:00:00"]
[null,{"$f":"IFERROR(IF(A10816=\"\",\"\",VLOOKUP(A10816,'Banco de Funcionários'!$A$2:$D$1048576,2,0)),\"\")","v":""},null,null,null,null,null,"00:00:00",null,"00:00:00","00:00:00"]
[null,{"$f":"IFERROR(IF(A10821=\"\",\"\",VLOOKUP(A10821,'Banco de Funcionários'!$A$2:$D$1048576,2,0)),\"\")","v":""},null,null,null,null,null,"00:00:00",null,"00:00:00","00:00:00"]
[null,{"$f":"IFERROR(IF(A10827=\"\",\"\",VLOOKUP(A10827,'Banco de Funcionários'!$A$2:$D$1048576,2,0)),\"\")","v":""},null,null,null,null,null,"00:00:00",null,"00:00:00","00:00:00"]
[null,{"$f":"IFERROR(IF(A10832=\"\",\"\",VLOOKUP(A10832,'Banco de Funcionários'!$A$2:$D$1048576,2,0)),\"\")","v":""},null,null,null,null,null,"00:00:00",null,"00:00:00","00:00:00"]
[null,{"$f":"IFERROR(IF(A10838=\"\",\"\",VLOOKUP(A10838,'Banco de Funcionários'!$A$2:$D$1048576,2,0)),\"\")","v":""},null,null,null,null,null,"00:00:00",null,"00:00:00","00:00:00"]
[null,{"$f":"IFERROR(IF(A10843=\"\",\"\",VLOOKUP(A10843,'Banco de Funcionários'!$A$2:$D$1048576,2,0)),\"\")","v":""},null,null,null,null,null,"00:00:00",null,"00:00:00","00:00:00"]
[null,{"$f":"IFERROR(IF(A10848=\"\",\"\",VLOOKUP(A10848,'Banco de Funcionários'!$A$2:$D$1048576,2,0)),\"\")","v":""},null,null,null,null,null,"00:00:00",null,"00:00:00","00:00:00"]
[null,{"$f":"IFERROR(IF(A10854=\"\",\"\",VLOOKUP(A10854,'Banco de Funcionários'!$A$2:$D$1048576,2,0)),\"\")","v":""},null,null,null,null,null,"00:00:00",null,"00:00:00","00:00:00"]
[null,{"$f":"IFERROR(IF(A10859=\"\",\"\",VLOOKUP(A10859,'Banco de Funcionários'!$A$2:$D$1048576,2,0)),\"\")","v":""},null,null,null,null,null,"00:00:00",null,"00:00:00","00:00:00"]
[null,{"$f":"IFERROR(IF(A10864=\"\",\"\",VLOOKUP(A10864,'Banco de Funcionários'!$A$2:$D$1048576,2,0)),\"\")","v":""},null,null,null,null,null,"00:00:00",null,"00:00:00","00:00:00"]
[null,{"$f":"IFERROR(IF(A10870=\"\",\"\",VLOOKUP(A10870,'Banco de Funcionários'!$A$2:$D$1048576,2,0)),\"\")","v":""},null,null,null,null,null,"00:00:00",null,"00:00:00","00:00:00"]
[null,{"$f":"IFERROR(IF(A10875=\"\",\"\",VLOOKUP(A10875,'Banco de Funcionários'!$A$2:$D$1048576,2,0)),\"\")","v":""},null,null,null,null,null,"00:00:00",null,"00:00:00","00:00:00"]
[null,{"$f":"IFERROR(IF(A10876=\"\",\"\",VLOOKUP(A10876,'Banco de Funcionários'!$A$2:$D$1048576,2,0)),\"\")","v":""},null,null,null,null,null,"00:00:00",null,"00:00:00","00:00:00"]
[null,{"$f":"IFERROR(IF(A10881=\"\",\"\",VLOOKUP(A10881,'Banco de Funcionários'!$A$2:$D$1048576,2,0)),\"\")","v":""},null,null,null,null,null,"00:00:00",null,"00:00:00","00:00:00"]
[null,{"$f":"IFERROR(IF(A10886=\"\",\"\",VLOOKUP(A10886,'Banco de Funcionários'!$A$2:$D$1048576,2,0)),\"\")","v":""},null,null,null,null,null,"00:00:00",null,"00:00:00","00:00:00"]
[null,{"$f":"IFERROR(IF(A10892=\"\",\"\",VLOOKUP(A10892,'Banco de Funcionários'!$A$2:$D$1048576,2,0)),\"\")","v":""},null,null,null,null,null,"00:00:00",null,"00:00:00","00:00:00"]
[null,{"$f":"IFERROR(IF(A10897=\"\",\"\",VLOOKUP(A10897,'Banco de Funcionários'!$A$2:$D$1048576,2,0)),\"\")","v":""},null,null,null,null,null,"00:00:00",null,"00:00:00","00:00:00"]
[null,{"$f":"IFERROR(IF(A10903=\"\",\"\",VLOOKUP(A10903,'Banco de Funcionários'!$A$2:$D$1048576,2,0)),\"\")","v":""},null,null,null,null,null,"00:00:00",null,"00:00:00","00:00:00"]
[null,{"$f":"IFERROR(IF(A10908=\"\",\"\",VLOOKUP(A10908,'Banco de Funcionários'!$A$2:$D$1048576,2,0)),\"\")","v":""},null,null,null,null,null,"00:00:00",null,"00:00:00","00:00:00"]
[null,{"$f":"IFERROR(IF(A10912=\"\",\"\",VLOOKUP(A10912,'Banco de Funcionários'!$A$2:$D$1048576,2,0)),\"\")","v":""},null,null,null,null,null,"00:00:00",null,"00:00:00","00:00:00"]
[null,{"$f":"IFERROR(IF(A10918=\"\",\"\",VLOOKUP(A10918,'Banco de Funcionários'!$A$2:$D$1048576,2,0)),\"\")","v":""},null,null,null,null,null,"00:00:00",null,"00:00:00","00:00:00"]
[null,{"$f":"IFERROR(IF(A10923=\"\",\"\",VLOOKUP(A10923,'Banco de Funcionários'!$A$2:$D$1048576,2,0)),\"\")","v":""},null,null,null,null,null,"00:00:00",null,"00:00:00","00:00:00"]
[null,{"$f":"IFERROR(IF(A10928=\"\",\"\",VLOOKUP(A10928,'Banco de Funcionários'!$A$2:$D$1048576,2,0)),\"\")","v":""},null,null,null,null,null,"00:00:00",null,"00:00:00","00:00:00"]
[null,{"$f":"IFERROR(IF(A10934=\"\",\"\",VLOOKUP(A10934,'Banco de Funcionários'!$A$2:$D$1048576,2,0)),\"\")","v":""},null,null,null,null,null,"00:00:00",null,"00:00:00","00:00:00"]
[null,{"$f":"IFERROR(IF(A10939=\"\",\"\",VLOOKUP(A10939,'Banco de Funcionários'!$A$2:$D$1048576,2,0)),\"\")","v":""},null,null,null,null,null,"00:00:00",null,"00:00:00","00:00:00"]
[null,{"$f":"IFERROR(IF(A10940=\"\",\"\",VLOOKUP(A10940,'Banco de Funcionários'!$A$2:$D$1048576,2,0)),\"\")","v":""},null,null,null,null,null,"00:00:00",null,"00:00:00","00:00:00"]
[null,{"$f":"IFERROR(IF(A10945=\"\",\"\",VLOOKUP(A10945,'Banco de Funcionários'!$A$2:$D$1048576,2,0)),\"\")","v":""},null,null,null,null,null,"00:00:00",null,"00:00:00","00:00:00"]
[null,{"$f":"IFERROR(IF(A10950=\"\",\"\",VLOOKUP(A10950,'Banco de Funcionários'!$A$2:$D$1048576,2,0)),\"\")","v":""},null,null,null,null,null,"00:00:00",null,"00:00:00","00:00:00"]
[null,{"$f":"IFERROR(IF(A10956=\"\",\"\",VLOOKUP(A10956,'Banco de Funcionários'!$A$2:$D$1048576,2,0)),\"\")","v":""},null,null,null,null,null,"00:00:00",null,"00:00:00","00:00:00"]
[null,{"$f":"IFERROR(IF(A10961=\"\",\"\",VLOOKUP(A10961,'Banco de Funcionários'!$A$2:$D$1048576,2,0)),\"\")","v":""},null,null,null,null,null,"00:00:00",null,"00:00:00","00:00:00"]
[null,{"$f":"IFERROR(IF(A10966=\"\",\"\",VLOOKUP(A10966,'Banco de Funcionários'!$A$2:$D$1048576,2,0)),\"\")","v":""},null,null,null,null,null,"00:00:00",null,"00:00:00","00:00:00"]
[null,{"$f":"IFERROR(IF(A10972=\"\",\"\",VLOOKUP(A10972,'Banco de Funcionários'!$A$2:$D$1048576,2,0)),\"\")","v":""},null,null,null,null,null,"00:00:00",null,"00:00:00","00:00:00"]
[null,{"$f":"IFERROR(IF(A10977=\"\",\"\",VLOOKUP(A10977,'Banco de Funcionários'!$A$2:$D$1048576,2,0)),\"\")","v":""},null,null,null,null,null,"00:00:00",null,"00:00:00","00:00:00"]
[null,{"$f":"IFERROR(IF(A10983=\"\",\"\",VLOOKUP(A10983,'Banco de Funcionários'!$A$2:$D$1048576,2,0)),\"\")","v":""},null,null,null,null,null,"00:00:00",null,"00:00:00","00:00:00"]
[null,{"$f":"IFERROR(IF(A10988=\"\",\"\",VLOOKUP(A10988,'Banco de Funcionários'!$A$2:$D$1048576,2,0)),\"\")","v":""},null,null,null,null,null,"00:00:00",null,"00:00:00","00:00:00"]
[null,{"$f":"IFERROR(IF(A10993=\"\",\"\",VLOOKUP(A10993,'Banco de Funcionários'!$A$2:$D$1048576,2,0)),\"\")","v":""},null,null,null,null,null,"00:00:00",null,"00:00:00","00:00:00"]
[null,{"$f":"IFERROR(IF(A10999=\"\",\"\",VLOOKUP(A10999,'Banco de Funcionários'!$A$2:$D$1048576,2,0)),\"\")","v":""},null,null,null,null,null,"00:00:00",null,"00:00:00","00:00:00"]
[null,{"$f":"IFERROR(IF(A11004=\"\",\"\",VLOOKUP(A11004,'Banco de Funcionários'!$A$2:$D$1048576,2,0)),\"\")","v":""},null,null,null,null,null,"00:00:00",null,"00:00:00","00:00:00"]
[null,{"$f":"IFERROR(IF(A11005=\"\",\"\",VLOOKUP(A11005,'Banco de Funcionários'!$A$2:$D$1048576,2,0)),\"\")","v":""},null,null,null,null,null,"00:00:00",null,"00:00:00","00:00:00"]
[null,{"$f":"IFERROR(IF(A11010=\"\",\"\",VLOOKUP(A11010,'Banco de Funcionários'!$A$2:$D$1048576,2,0)),\"\")","v":""},null,null,null,null,null,"00:00:00",null,"00:00:00","00:00:00"]
[null,{"$f":"IFERROR(IF(A11015=\"\",\"\",VLOOKUP(A11015,'Banco de Funcionários'!$A$2:$D$1048576,2,0)),\"\")","v":""},null,null,null,null,null,"00:00:00",null,"00:00:00","00:00:00"]
[null,{"$f":"IFERROR(IF(A11021=\"\",\"\",VLOOKUP(A11021,'Banco de Funcionários'!$A$2:$D$1048576,2,0)),\"\")","v":""},null,null,null,null,null,"00:00:00",null,"00:00:00","00:00:00"]
[null,{"$f":"IFERROR(IF(A11025=\"\",\"\",VLOOKUP(A11025,'Banco de Funcionários'!$A$2:$D$1048576,2,0)),\"\")","v":""},null,null,null,null,null,"00:00:00",null,"00:00:00","00:00:00"]
[null,{"$f":"IFERROR(IF(A11030=\"\",\"\",VLOOKUP(A11030,'Banco de Funcionários'!$A$2:$D$1048576,2,0)),\"\")","v":""},null,null,null,null,null,"00:00:00",null,"00:00:00","00:00:00"]
[null,{"$f":"IFERROR(IF(A11036=\"\",\"\",VLOOKUP(A11036,'Banco de Funcionários'!$A$2:$D$1048576,2,0)),\"\")","v":""},null,null,null,null,null,"00:00:00",null,"00:00:00","00:00:00"]
[null,{"$f":"IFERROR(IF(A11041=\"\",\"\",VLOOKUP(A11041,'Banco de Funcionários'!$A$2:$D$1048576,2,0)),\"\")","v":""},null,null,null,null,null,"00:00:00",null,"00:00:00","00:00:00"]
[null,{"$f":"IFERROR(IF(A11047=\"\",\"\",VLOOKUP(A11047,'Banco de Funcionários'!$A$2:$D$1048576,2,0)),\"\")","v":""},null,null,null,null,null,"00:00:00",null,"00:00:00","00:00:00"]
[null,{"$f":"IFERROR(IF(A11052=\"\",\"\",VLOOKUP(A11052,'Banco de Funcionários'!$A$2:$D$1048576,2,0)),\"\")","v":""},null,null,null,null,null,"00:00:00",null,"00:00:00","00:00:00"]
[null,{"$f":"IFERROR(IF(A11057=\"\",\"\",VLOOKUP(A11057,'Banco de Funcionários'!$A$2:$D$1048576,2,0)),\"\")","v":""},null,null,null,null,null,"00:00:00",null,"00:00:00","00:00:00"]
[null,{"$f":"IFERROR(IF(A11063=\"\",\"\",VLOOKUP(A11063,'Banco de Funcionários'!$A$2:$D$1048576,2,0)),\"\")","v":""},null,null,null,null,null,"00:00:00",null,"00:00:00","00:00:00"]
[null,{"$f":"IFERROR(IF(A11068=\"\",\"\",VLOOKUP(A11068,'Banco de Funcionários'!$A$2:$D$1048576,2,0)),\"\")","v":""},null,null,null,null,null,"00:00:00",null,"00:00:00","00:00:00"]
[null,{"$f":"IFERROR(IF(A11073=\"\",\"\",VLOOKUP(A11073,'Banco de Funcionários'!$A$2:$D$1048576,2,0)),\"\")","v":""},null,null,null,null,null,"00:00:00",null,"00:00:00","00:00:00"]
[null,{"$f":"IFERROR(IF(A11074=\"\",\"\",VLOOKUP(A11074,'Banco de Funcionários'!$A$2:$D$1048576,2,0)),\"\")","v":""},null,null,null,null,null,"00:00:00",null,"00:00:00","00:00:00"]
[null,{"$f":"IFERROR(IF(A11079=\"\",\"\",VLOOKUP(A11079,'Banco de Funcionários'!$A$2:$D$1048576,2,0)),\"\")","v":""},null,null,null,null,null,"00:00:00",null,"00:00:00","00:00:00"]
[null,{"$f":"IFERROR(IF(A11085=\"\",\"\",VLOOKUP(A11085,'Banco de Funcionários'!$A$2:$D$1048576,2,0)),\"\")","v":""},null,null,null,null,null,"00:00:00",null,"00:00:00","00:00:00"]
[null,{"$f":"IFERROR(IF(A11090=\"\",\"\",VLOOKUP(A11090,'Banco de Funcionários'!$A$2:$D$1048576,2,0)),\"\")","v":""},null,null,null,null,null,"00:00:00",null,"00:00:00","00:00:00"]
[null,{"$f":"IFERROR(IF(A11095=\"\",\"\",VLOOKUP(A11095,'Banco de Funcionários'!$A$2:$D$1048576,2,0)),\"\")","v":""},null,null,null,null,null,"00:00:00",null,"00:00:00","00:00:00"]
[null,{"$f":"IFERROR(IF(A11101=\"\",\"\",VLOOKUP(A11101,'Banco de Funcionários'!$A$2:$D$1048576,2,0)),\"\")","v":""},null,null,null,null,null,"00:00:00",null,"00:00:00","00:00:00"]
[null,{"$f":"IFERROR(IF(A11106=\"\",\"\",VLOOKUP(A11106,'Banco de Funcionários'!$A$2:$D$1048576,2,0)),\"\")","v":""},null,null,null,null,null,"00:00:00",null,"00:00:00","00:00:00"]
[null,{"$f":"IFERROR(IF(A11112=\"\",\"\",VLOOKUP(A11112,'Banco de Funcionários'!$A$2:$D$1048576,2,0)),\"\")","v":""},null,null,null,null,null,"00:00:00",null,"00:00:00","00:00:00"]
[null,{"$f":"IFERROR(IF(A11117=\"\",\"\",VLOOKUP(A11117,'Banco de Funcionários'!$A$2:$D$1048576,2,0)),\"\")","v":""},null,null,null,null,null,"00:00:00",null,"00:00:00","00:00:00"]
[null,{"$f":"IFERROR(IF(A11122=\"\",\"\",VLOOKUP(A11122,'Banco de Funcionários'!$A$2:$D$1048576,2,0)),\"\")","v":""},null,null,null,null,null,"00:00:00",null,"00:00:00","00:00:00"]
[null,{"$f":"IFERROR(IF(A11128=\"\",\"\",VLOOKUP(A11128,'Banco de Funcionários'!$A$2:$D$1048576,2,0)),\"\")","v":""},null,null,null,null,null,"00:00:00",null,"00:00:00","00:00:00"]
[null,{"$f":"IFERROR(IF(A11132=\"\",\"\",VLOOKUP(A11132,'Banco de Funcionários'!$A$2:$D$1048576,2,0)),\"\")","v":""},null,null,null,null,null,"00:00:00",null,"00:00:00","00:00:00"]
[null,{"$f":"IFERROR(IF(A11137=\"\",\"\",VLOOKUP(A11137,'Banco de Funcionários'!$A$2:$D$1048576,2,0)),\"\")","v":""},null,null,null,null,null,"00:00:00",null,"00:00:00","00:00:00"]
[null,{"$f":"IFERROR(IF(A11138=\"\",\"\",VLOOKUP(A11138,'Banco de Funcionários'!$A$2:$D$1048576,2,0)),\"\")","v":""},null,null,null,null,null,"00:00:00",null,"00:00:00","00:00:00"]
[null,{"$f":"IFERROR(IF(A11143=\"\",\"\",VLOOKUP(A11143,'Banco de Funcionários'!$A$2:$D$1048576,2,0)),\"\")","v":""},null,null,null,null,null,"00:00:00",null,"00:00:00","00:00:00"]
[null,{"$f":"IFERROR(IF(A11149=\"\",\"\",VLOOKUP(A11149,'Banco de Funcionários'!$A$2:$D$1048576,2,0)),\"\")","v":""},null,null,null,null,null,"00:00:00",null,"00:00:00","00:00:00"]
[null,{"$f":"IFERROR(IF(A11154=\"\",\"\",VLOOKUP(A11154,'Banco de Funcionários'!$A$2:$D$1048576,2,0)),\"\")","v":""},null,null,null,null,null,"00:00:00",null,"00:00:00","00:00:00"]
[null,{"$f":"IFERROR(IF(A11159=\"\",\"\",VLOOKUP(A11159,'Banco de Funcionários'!$A$2:$D$1048576,2,0)),\"\")","v":""},null,null,null,null,null,"00:00:00",null,"00:00:00","00:00:00"]
[null,{"$f":"IFERROR(IF(A11165=\"\",\"\",VLOOKUP(A11165,'Banco de Funcionários'!$A$2:$D$1048576,2,0)),\"\")","v":""},null,null,null,null,null,"00:00:00",null,"00:00:00","00:00:00"]
[null,{"$f":"IFERROR(IF(A11170=\"\",\"\",VLOOKUP(A11170,'Banco de Funcionários'!$A$2:$D$1048576,2,0)),\"\")","v":""},null,null,null,null,null,"00:00:00",null,"00:00:00","00:00:00"]
[null,{"$f":"IFERROR(IF(A11176=\"\",\"\",VLOOKUP(A11176,'Banco de Funcionários'!$A$2:$D$1048576,2,0)),\"\")","v":""},null,null,null,null,null,"00:00:00",null,"00:00:00","00:00:00"]
[null,{"$f":"IFERROR(IF(A11181=\"\",\"\",VLOOKUP(A11181,'Banco de Funcionários'!$A$2:$D$1048576,2,0)),\"\")","v":""},null,null,null,null,null,"00:00:00",null,"00:00:00","00:00:00"]
[null,{"$f":"IFERROR(IF(A11186=\"\",\"\",VLOOKUP(A11186,'Banco de Funcionários'!$A$2:$D$1048576,2,0)),\"\")","v":""},null,null,null,null,null,"00:00:00",null,"00:00:00","00:00:00"]
[null,{"$f":"IFERROR(IF(A11192=\"\",\"\",VLOOKUP(A11192,'Banco de Funcionários'!$A$2:$D$1048576,2,0)),\"\")","v":""},null,null,null,null,null,"00:00:00",null,"00:00:00","00:00:00"]
[null,{"$f":"IFERROR(IF(A11197=\"\",\"\",VLOOKUP(A11197,'Banco de Funcionários'!$A$2:$D$1048576,2,0)),\"\")","v":""},null,null,null,null,null,"00:00:00",null,"00:00:00","00:00:00"]
[null,{"$f":"IFERROR(IF(A11202=\"\",\"\",VLOOKUP(A11202,'Banco de Funcionários'!$A$2:$D$1048576,2,0)),\"\")","v":""},null,null,null,null,null,"00:00:00",null,"00:00:00","00:00:00"]
[null,{"$f":"IFERROR(IF(A11203=\"\",\"\",VLOOKUP(A11203,'Banco de Funcionários'!$A$2:$D$1048576,2,0)),\"\")","v":""},null,null,null,null,null,{"$f":"(F11203-E11203)-G11203","v":"00:00:00"},null,{"$f":"IFERROR(H11203-I11203,\"\")","v":"00:00:00"},{"$f":"IFERROR(H11203+J11203,0)","v":"00:00:00"}]
[null,{"$f":"IFERROR(IF(A11208=\"\",\"\",VLOOKUP(A11208,'Banco de Funcionários'!$A$2:$D$1048576,2,0)),\"\")","v":""},null,null,null,null,null,"00:00:00",null,"00:00:00","00:00:00"]
[null,{"$f":"IFERROR(IF(A11214=\"\",\"\",VLOOKUP(A11214,'Banco de Funcionários'!$A$2:$D$1048576,2,0)),\"\")","v":""},null,null,null,null,null,"00:00:00",null,"00:00:00","00:00:00"]
[null,{"$f":"IFERROR(IF(A11219=\"\",\"\",VLOOKUP(A11219,'Banco de Funcionários'!$A$2:$D$1048576,2,0)),\"\")","v":""},null,null,null,null,null,"00:00:00",null,"00:00:00","00:00:00"]
[null,{"$f":"IFERROR(IF(A11224=\"\",\"\",VLOOKUP(A11224,'Banco de Funcionários'!$A$2:$D$1048576,2,0)),\"\")","v":""},null,null,null,null,null,"00:00:00",null,"00:00:00","00:00:00"]
[null,{"$f":"IFERROR(IF(A11230=\"\",\"\",VLOOKUP(A11230,'Banco de Funcionários'!$A$2:$D$1048576,2,0)),\"\")","v":""},null,null,null,null,null,"00:00:00",null,"00:00:00","00:00:00"]
[null,{"$f":"IFERROR(IF(A11235=\"\",\"\",VLOOKUP(A11235,'Banco de Funcionários'!$A$2:$D$1048576,2,0)),\"\")","v":""},null,null,null,null,null,"00:00:00",null,"00:00:00","00:00:00"]
[null,{"$f":"IFERROR(IF(A11240=\"\",\"\",VLOOKUP(A11240,'Banco de Funcionários'!$A$2:$D$1048576,2,0)),\"\")","v":""},null,null,null,null,null,"00:00:00",null,"00:00:00","00:00:00"]
[null,{"$f":"IFERROR(IF(A11245=\"\",\"\",VLOOKUP(A11245,'Banco de Funcionários'!$A$2:$D$1048576,2,0)),\"\")","v":""},null,null,null,null,null,"00:00:00",null,"00:00:00","00:00:00"]
[null,{"$f":"IFERROR(IF(A11250=\"\",\"\",VLOOKUP(A11250,'Banco de Funcionários'!$A$2:$D$1048576,2,0)),\"\")","v":""},null,null,null,null,null,"00:00:00",null,"00:00:00","00:00:00"]
[null,{"$f":"IFERROR(IF(A11256=\"\",\"\",VLOOKUP(A11256,'Banco de Funcionários'!$A$2:$D$1048576,2,0)),\"\")","v":""},null,null,null,null,null,"00:00:00",null,"00:00:00","00:00:00"]
[null,{"$f":"IFERROR(IF(A11261=\"\",\"\",VLOOKUP(A11261,'Banco de Funcionários'!$A$2:$D$1048576,2,0)),\"\")","v":""},null,null,null,null,null,"00:00:00",null,"00:00:00","00:00:00"]
[null,{"$f":"IFERROR(IF(A11266=\"\",\"\",VLOOKUP(A11266,'Banco de Funcionários'!$A$2:$D$1048576,2,0)),\"\")","v":""},null,null,null,null,null,"00:00:00",null,"00:00:00","00:00:00"]
[null,{"$f":"IFERROR(IF(A11267=\"\",\"\",VLOOKUP(A11267,'Banco de Funcionários'!$A$2:$D$1048576,2,0)),\"\")","v":""},null,null,null,null,null,{"$f":"(F11267-E11267)-G11267","v":"00:00:00"},null,{"$f":"IFERROR(H11267-I11267,\"\")","v":"00:00:00"},{"$f":"IFERROR(H11267+J11267,0)","v":"00:00:00"}]
[null,{"$f":"IFERROR(IF(A11272=\"\",\"\",VLOOKUP(A11272,'Banco de Funcionários'!$A$2:$D$1048576,2,0)),\"\")","v":""},null,null,null,null,null,"00:00:00",null,"00:00:00","00:00:00"]
[null,{"$f":"IFERROR(IF(A11278=\"\",\"\",VLOOKUP(A11278,'Banco de Funcionários'!$A$2:$D$1048576,2,0)),\"\")","v":""},null,null,null,null,null,"00:00:00",null,"00:00:00","00:00:00"]
[null,{"$f":"IFERROR(IF(A11283=\"\",\"\",VLOOKUP(A11283,'Banco de Funcionários'!$A$2:$D$1048576,2,0)),\"\")","v":""},null,null,null,null,null,"00:00:00",null,"00:00:00","00:00:00"]
[null,{"$f":"IFERROR(IF(A11288=\"\",\"\",VLOOKUP(A11288,'Banco de Funcionários'!$A$2:$D$1048576,2,0)),\"\")","v":""},null,null,null,null,null,"00:00:00",null,"00:00:00","00:00:00"]
[null,{"$f":"IFERROR(IF(A11294=\"\",\"\",VLOOKUP(A11294,'Banco de Funcionários'!$A$2:$D$1048576,2,0)),\"\")","v":""},null,null,null,null,null,"00:00:00",null,"00:00:00","00:00:00"]
[null,{"$f":"IFERROR(IF(A11299=\"\",\"\",VLOOKUP(A11299,'Banco de Funcionários'!$A$2:$D$1048576,2,0)),\"\")","v":""},null,null,null,null,null,"00:00:00",null,"00:00:00","00:00:00"]
[null,{"$f":"IFERROR(IF(A11304=\"\",\"\",VLOOKUP(A11304,'Banco de Funcionários'!$A$2:$D$1048576,2,0)),\"\")","v":""},null,null,null,null,null,"00:00:00",null,"00:00:00","00:00:00"]
[null,{"$f":"IFERROR(IF(A11310=\"\",\"\",VLOOKUP(A11310,'Banco de Funcionários'!$A$2:$D$1048576,2,0)),\"\")","v":""},null,null,null,null,null,"00:00:00",null,"00:00:00","00:00:00"]
[null,{"$f":"IFERROR(IF(A11315=\"\",\"\",VLOOKUP(A11315,'Banco de Funcionários'!$A$2:$D$1048576,2,0)),\"\")","v":""},null,null,null,null,null,"00:00:00",null,"00:00:00","00:00:00"]
[null,{"$f":"IFERROR(IF(A11321=\"\",\"\",VLOOKUP(A11321,'Banco de Funcionários'!$A$2:$D$1048576,2,0)),\"\")","v":""},null,null,null,null,null,"00:00:00",null,"00:00:00","00:00:00"]
[null,{"$f":"IFERROR(IF(A11326=\"\",\"\",VLOOKUP(A11326,'Banco de Funcionários'!$A$2:$D$1048576,2,0)),\"\")","v":""},null,null,null,null,null,"00:00:00",null,"00:00:00","00:00:00"]
[null,{"$f":"IFERROR(IF(A11331=\"\",\"\",VLOOKUP(A11331,'Banco de Funcionários'!$A$2:$D$1048576,2,0)),\"\")","v":""},null,null,null,null,null,{"$f":"(F11331-E11331)-G11331","v":"00:00:00"},null,{"$f":"IFERROR(H11331-I11331,\"\")","v":"00:00:00"},{"$f":"IFERROR(H11331+J11331,0)","v":"00:00:00"}]
[null,{"$f":"IFERROR(IF(A11332=\"\",\"\",VLOOKUP(A11332,'Banco de Funcionários'!$A$2:$D$1048576,2,0)),\"\")","v":""},null,null,null,null,null,"00:00:00",null,"00:00:00","00:00:00"]
[null,{"$f":"IFERROR(IF(A11337=\"\",\"\",VLOOKUP(A11337,'Banco de Funcionários'!$A$2:$D$1048576,2,0)),\"\")","v":""},null,null,null,null,null,"00:00:00",null,"00:00:00","00:00:00"]
[null,{"$f":"IFERROR(IF(A11343=\"\",\"\",VLOOKUP(A11343,'Banco de Funcionários'!$A$2:$D$1048576,2,0)),\"\")","v":""},null,null,null,null,null,"00:00:00",null,"00:00:00","00:00:00"]
[null,{"$f":"IFERROR(IF(A11348=\"\",\"\",VLOOKUP(A11348,'Banco de Funcionários'!$A$2:$D$1048576,2,0)),\"\")","v":""},null,null,null,null,null,"00:00:00",null,"00:00:00","00:00:00"]
[null,{"$f":"IFERROR(IF(A11352=\"\",\"\",VLOOKUP(A11352,'Banco de Funcionários'!$A$2:$D$1048576,2,0)),\"\")","v":""},null,null,null,null,null,"00:00:00",null,"00:00:00","00:00:00"]
[null,{"$f":"IFERROR(IF(A11358=\"\",\"\",VLOOKUP(A11358,'Banco de Funcionários'!$A$2:$D$1048576,2,0)),\"\")","v":""},null,null,null,null,null,"00:00:00",null,"00:00:00","00:00:00"]
[null,{"$f":"IFERROR(IF(A11363=\"\",\"\",VLOOKUP(A11363,'Banco de Funcionários'!$A$2:$D$1048576,2,0)),\"\")","v":""},null,null,null,null,null,"00:00:00",null,"00:00:00","00:00:00"]
[null,{"$f":"IFERROR(IF(A11368=\"\",\"\",VLOOKUP(A11368,'Banco de Funcionários'!$A$2:$D$1048576,2,0)),\"\")","v":""},null,null,null,null,null,"00:00:00",null,"00:00:00","00:00:00"]
[null,{"$f":"IFERROR(IF(A11374=\"\",\"\",VLOOKUP(A11374,'Banco de Funcionários'!$A$2:$D$1048576,2,0)),\"\")","v":""},null,null,null,null,null,"00:00:00",null,"00:00:00","00:00:00"]
[null,{"$f":"IFERROR(IF(A11379=\"\",\"\",VLOOKUP(A11379,'Banco de Funcionários'!$A$2:$D$1048576,2,0)),\"\")","v":""},null,null,null,null,null,"00:00:00",null,"00:00:00","00:00:00"]
[null,{"$f":"IFERROR(IF(A11385=\"\",\"\",VLOOKUP(A11385,'Banco de Funcionários'!$A$2:$D$1048576,2,0)),\"\")","v":""},null,null,null,null,null,"00:00:00",null,"00:00:00","00:00:00"]
[null,{"$f":"IFERROR(IF(A11390=\"\",\"\",VLOOKUP(A11390,'Banco de Funcionários'!$A$2:$D$1048576,2,0)),\"\")","v":""},null,null,null,null,null,"00:00:00",null,"00:00:00","00:00:00"]
[null,{"$f":"IFERROR(IF(A11395=\"\",\"\",VLOOKUP(A11395,'Banco de Funcionários'!$A$2:$D$1048576,2,0)),\"\")","v":""},null,null,null,null,null,{"$f":"(F11395-E11395)-G11395","v":"00:00:00"},null,{"$f":"IFERROR(H11395-I11395,\"\")","v":"00:00:00"},{"$f":"IFERROR(H11395+J11395,0)","v":"00:00:00"}]
[null,{"$f":"IFERROR(IF(A11396=\"\",\"\",VLOOKUP(A11396,'Banco de Funcionários'!$A$2:$D$1048576,2,0)),\"\")","v":""},null,null,null,null,null,"00:00:00",null,"00:00:00","00:00:00"]
[null,{"$f":"IFERROR(IF(A11401=\"\",\"\",VLOOKUP(A11401,'Banco de Funcionários'!$A$2:$D$1048576,2,0)),\"\")","v":""},null,null,null,null,null,"00:00:00",null,"00:00:00","00:00:00"]
[null,{"$f":"IFERROR(IF(A11406=\"\",\"\",VLOOKUP(A11406,'Banco de Funcionários'!$A$2:$D$1048576,2,0)),\"\")","v":""},null,null,null,null,null,"00:00:00",null,"00:00:00","00:00:00"]
[null,{"$f":"IFERROR(IF(A11412=\"\",\"\",VLOOKUP(A11412,'Banco de Funcionários'!$A$2:$D$1048576,2,0)),\"\")","v":""},null,null,null,null,null,"00:00:00",null,"00:00:00","00:00:00"]
[null,{"$f":"IFERROR(IF(A11417=\"\",\"\",VLOOKUP(A11417,'Banco de Funcionários'!$A$2:$D$1048576,2,0)),\"\")","v":""},null,null,null,null,null,"00:00:00",null,"00:00:00","00:00:00"]
[null,{"$f":"IFERROR(IF(A11423=\"\",\"\",VLOOKUP(A11423,'Banco de Funcionários'!$A$2:$D$1048576,2,0)),\"\")","v":""},null,null,null,null,null,"00:00:00",null,"00:00:00","00:00:00"]
[null,{"$f":"IFERROR(IF(A11428=\"\",\"\",VLOOKUP(A11428,'Banco de Funcionários'!$A$2:$D$1048576,2,0)),\"\")","v":""},null,null,null,null,null,"00:00:00",null,"00:00:00","00:00:00"]
[null,{"$f":"IFERROR(IF(A11433=\"\",\"\",VLOOKUP(A11433,'Banco de Funcionários'!$A$2:$D$1048576,2,0)),\"\")","v":""},null,null,null,null,null,"00:00:00",null,"00:00:00","00:00:00"]
[null,{"$f":"IFERROR(IF(A11439=\"\",\"\",VLOOKUP(A11439,'Banco de Funcionários'!$A$2:$D$1048576,2,0)),\"\")","v":""},null,null,null,null,null,"00:00:00",null,"00:00:00","00:00:00"]
[null,{"$f":"IFERROR(IF(A11444=\"\",\"\",VLOOKUP(A11444,'Banco de Funcionários'!$A$2:$D$1048576,2,0)),\"\")","v":""},null,null,null,null,null,"00:00:00",null,"00:00:00","00:00:00"]
[null,{"$f":"IFERROR(IF(A11450=\"\",\"\",VLOOKUP(A11450,'Banco de Funcionários'!$A$2:$D$1048576,2,0)),\"\")","v":""},null,null,null,null,null,"00:00:00",null,"00:00:00","00:00:00"]
[null,{"$f":"IFERROR(IF(A11455=\"\",\"\",VLOOKUP(A11455,'Banco de Funcionários'!$A$2:$D$1048576,2,0)),\"\")","v":""},null,null,null,null,null,"00:00:00",null,"00:00:00","00:00:00"]
[null,{"$f":"IFERROR(IF(A11460=\"\",\"\",VLOOKUP(A11460,'Banco de Funcionários'!$A$2:$D$1048576,2,0)),\"\")","v":""},null,null,null,null,null,"00:00:00",null,"00:00:00","00:00:00"]
[null,{"$f":"IFERROR(IF(A11461=\"\",\"\",VLOOKUP(A11461,'Banco de Funcionários'!$A$2:$D$1048576,2,0)),\"\")","v":""},null,null,null,null,null,"00:00:00",null,"00:00:00","00:00:00"]
[null,{"$f":"IFERROR(IF(A11469=\"\",\"\",VLOOKUP(A11469,'Banco de Funcionários'!$A$2:$D$1048576,2,0)),\"\")","v":""},null,null,null,null,null,"00:00:00",null,"00:00:00","00:00:00"]
[null,{"$f":"IFERROR(IF(A11470=\"\",\"\",VLOOKUP(A11470,'Banco de Funcionários'!$A$2:$D$1048576,2,0)),\"\")","v":""},null,null,null,null,null,"00:00:00",null,"00:00:00","00:00:00"]
[null,{"$f":"IFERROR(IF(A11476=\"\",\"\",VLOOKUP(A11476,'Banco de Funcionários'!$A$2:$D$1048576,2,0)),\"\")","v":""},null,null,null,null,null,"00:00:00",null,"00:00:00","00:00:00"]
[null,{"$f":"IFERROR(IF(A11481=\"\",\"\",VLOOKUP(A11481,'Banco de Funcionários'!$A$2:$D$1048576,2,0)),\"\")","v":""},null,null,null,null,null,"00:00:00",null,"00:00:00","00:00:00"]
[null,{"$f":"IFERROR(IF(A11487=\"\",\"\",VLOOKUP(A11487,'Banco de Funcionários'!$A$2:$D$1048576,2,0)),\"\")","v":""},null,null,null,null,null,"00:00:00",null,"00:00:00","00:00:00"]
[null,{"$f":"IFERROR(IF(A11492=\"\",\"\",VLOOKUP(A11492,'Banco de Funcionários'!$A$2:$D$1048576,2,0)),\"\")","v":""},null,null,null,null,null,"00:00:00",null,"00:00:00","00:00:00"]
[null,{"$f":"IFERROR(IF(A11497=\"\",\"\",VLOOKUP(A11497,'Banco de Funcionários'!$A$2:$D$1048576,2,0)),\"\")","v":""},null,null,null,null,null,"00:00:00",null,"00:00:00","00:00:00"]
[null,{"$f":"IFERROR(IF(A11503=\"\",\"\",VLOOKUP(A11503,'Banco de Funcionários'!$A$2:$D$1048576,2,0)),\"\")","v":""},null,null,null,null,null,"00:00:00",null,"00:00:00","00:00:00"]
[null,{"$f":"IFERROR(IF(A11508=\"\",\"\",VLOOKUP(A11508,'Banco de Funcionários'!$A$2:$D$1048576,2,0)),\"\")","v":""},null,null,null,null,null,"00:00:00",null,"00:00:00","00:00:00"]
[null,{"$f":"IFERROR(IF(A11513=\"\",\"\",VLOOKUP(A11513,'Banco de Funcionários'!$A$2:$D$1048576,2,0)),\"\")","v":""},null,null,null,null,null,"00:00:00",null,"00:00:00","00:00:00"]
[null,{"$f":"IFERROR(IF(A11519=\"\",\"\",VLOOKUP(A11519,'Banco de Funcionários'!$A$2:$D$1048576,2,0)),\"\")","v":""},null,null,null,null,null,"00:00:00",null,"00:00:00","00:00:00"]
[null,{"$f":"IFERROR(IF(A11524=\"\",\"\",VLOOKUP(A11524,'Banco de Funcionários'!$A$2:$D$1048576,2,0)),\"\")","v":""},null,null,null,null,null,"00:00:00",null,"00:00:00","00:00:00"]
[null,{"$f":"IFERROR(IF(A11525=\"\",\"\",VLOOKUP(A11525,'Banco de Funcionários'!$A$2:$D$1048576,2,0)),\"\")","v":""},null,null,null,null,null,"00:00:00",null,"00:00:00","00:00:00"]
[null,{"$f":"IFERROR(IF(A11530=\"\",\"\",VLOOKUP(A11530,'Banco de Funcionários'!$A$2:$D$1048576,2,0)),\"\")","v":""},null,null,null,null,null,"00:00:00",null,"00:00:00","00:00:00"]
[null,{"$f":"IFERROR(IF(A11535=\"\",\"\",VLOOKUP(A11535,'Banco de Funcionários'!$A$2:$D$1048576,2,0)),\"\")","v":""},null,null,null,null,null,"00:00:00",null,"00:00:00","00:00:00"]
[null,{"$f":"IFERROR(IF(A11541=\"\",\"\",VLOOKUP(A11541,'Banco de Funcionários'!$A$2:$D$1048576,2,0)),\"\")","v":""},null,null,null,null,null,"00:00:00",null,"00:00:00","00:00:00"]
[null,{"$f":"IFERROR(IF(A11546=\"\",\"\",VLOOKUP(A11546,'Banco de Funcionários'!$A$2:$D$1048576,2,0)),\"\")","v":""},null,null,null,null,null,"00:00:00",null,"00:00:00","00:00:00"]
[null,{"$f":"IFERROR(IF(A11552=\"\",\"\",VLOOKUP(A11552,'Banco de Funcionários'!$A$2:$D$1048576,2,0)),\"\")","v":""},null,null,null,null,null,"00:00:00",null,"00:00:00","00:00:00"]
[null,{"$f":"IFERROR(IF(A11557=\"\",\"\",VLOOKUP(A11557,'Banco de Funcionários'!$A$2:$D$1048576,2,0)),\"\")","v":""},null,null,null,null,null,"00:00:00",null,"00:00:00","00:00:00"]
[null,{"$f":"IFERROR(IF(A11562=\"\",\"\",VLOOKUP(A11562,'Banco de Funcionários'!$A$2:$D$1048576,2,0)),\"\")","v":""},null,null,null,null,null,"00:00:00",null,"00:00:00","00:00:00"]
[null,{"$f":"IFERROR(IF(A11568=\"\",\"\",VLOOKUP(A11568,'Banco de Funcionários'!$A$2:$D$1048576,2,0)),\"\")","v":""},null,null,null,null,null,"00:00:00",null,"00:00:00","00:00:00"]
[null,{"$f":"IFERROR(IF(A11573=\"\",\"\",VLOOKUP(A11573,'Banco de Funcionários'!$A$2:$D$1048576,2,0)),\"\")","v":""},null,null,null,null,null,"00:00:00",null,"00:00:00","00:00:00"]
[null,{"$f":"IFERROR(IF(A11576=\"\",\"\",VLOOKUP(A11576,'Banco de Funcionários'!$A$2:$D$1048576,2,0)),\"\")","v":""},null,null,null,null,null,"00:00:00",null,"00:00:00","00:00:00"]
[null,{"$f":"IFERROR(IF(A11583=\"\",\"\",VLOOKUP(A11583,'Banco de Funcionários'!$A$2:$D$1048576,2,0)),\"\")","v":""},null,null,null,null,null,"00:00:00",null,"00:00:00","00:00:00"]
[null,{"$f":"IFERROR(IF(A11588=\"\",\"\",VLOOKUP(A11588,'Banco de Funcionários'!$A$2:$D$1048576,2,0)),\"\")","v":""},null,null,null,null,null,"00:00:00",null,"00:00:00","00:00:00"]
[null,{"$f":"IFERROR(IF(A11589=\"\",\"\",VLOOKUP(A11589,'Banco de Funcionários'!$A$2:$D$1048576,2,0)),\"\")","v":""},null,null,null,null,null,"00:00:00",null,"00:00:00","00:00:00"]
[null,{"$f":"IFERROR(IF(A11594=\"\",\"\",VLOOKUP(A11594,'Banco de Funcionários'!$A$2:$D$1048576,2,0)),\"\")","v":""},null,null,null,null,null,"00:00:00",null,"00:00:00","00:00:00"]
[null,{"$f":"IFERROR(IF(A11599=\"\",\"\",VLOOKUP(A11599,'Banco de Funcionários'!$A$2:$D$1048576,2,0)),\"\")","v":""},null,null,null,null,null,"00:00:00",null,"00:00:00","00:00:00"]
[null,{"$f":"IFERROR(IF(A11605=\"\",\"\",VLOOKUP(A11605,'Banco de Funcionários'!$A$2:$D$1048576,2,0)),\"\")","v":""},null,null,null,null,null,"00:00:00",null,"00:00:00","00:00:00"]
[null,{"$f":"IFERROR(IF(A11610=\"\",\"\",VLOOKUP(A11610,'Banco de Funcionários'!$A$2:$D$1048576,2,0)),\"\")","v":""},null,null,null,null,null,"00:00:00",null,"00:00:00","00:00:00"]
[null,{"$f":"IFERROR(IF(A11616=\"\",\"\",VLOOKUP(A11616,'Banco de Funcionários'!$A$2:$D$1048576,2,0)),\"\")","v":""},null,null,null,null,null,"00:00:00",null,"00:00:00","00:00:00"]
[null,{"$f":"IFERROR(IF(A11621=\"\",\"\",VLOOKUP(A11621,'Banco de Funcionários'!$A$2:$D$1048576,2,0)),\"\")","v":""},null,null,null,null,null,"00:00:00",null,"00:00:00","00:00:00"]
[null,{"$f":"IFERROR(IF(A11626=\"\",\"\",VLOOKUP(A11626,'Banco de Funcionários'!$A$2:$D$1048576,2,0)),\"\")","v":""},null,null,null,null,null,"00:00:00",null,"00:00:00","00:00:00"]
[null,{"$f":"IFERROR(IF(A11632=\"\",\"\",VLOOKUP(A11632,'Banco de Funcionários'!$A$2:$D$1048576,2,0)),\"\")","v":""},null,null,null,null,null,"00:00:00",null,"00:00:00","00:00:00"]
[null,{"$f":"IFERROR(IF(A11637=\"\",\"\",VLOOKUP(A11637,'Banco de Funcionários'!$A$2:$D$1048576,2,0)),\"\")","v":""},null,null,null,null,null,"00:00:00",null,"00:00:00","00:00:00"]
[null,{"$f":"IFERROR(IF(A11642=\"\",\"\",VLOOKUP(A11642,'Banco de Funcionários'!$A$2:$D$1048576,2,0)),\"\")","v":""},null,null,null,null,null,"00:00:00",null,"00:00:00","00:00:00"]
[null,{"$f":"IFERROR(IF(A11648=\"\",\"\",VLOOKUP(A11648,'Banco de Funcionários'!$A$2:$D$1048576,2,0)),\"\")","v":""},null,null,null,null,null,"00:00:00",null,"00:00:00","00:00:00"]
[null,{"$f":"IFERROR(IF(A11653=\"\",\"\",VLOOKUP(A11653,'Banco de Funcionários'!$A$2:$D$1048576,2,0)),\"\")","v":""},null,null,null,null,null,"00:00:00",null,"00:00:00","00:00:00"]
[null,{"$f":"IFERROR(IF(A11654=\"\",\"\",VLOOKUP(A11654,'Banco de Funcionários'!$A$2:$D$1048576,2,0)),\"\")","v":""},null,null,null,null,null,"00:00:00",null,"00:00:00","00:00:00"]
[null,{"$f":"IFERROR(IF(A11659=\"\",\"\",VLOOKUP(A11659,'Banco de Funcionários'!$A$2:$D$1048576,2,0)),\"\")","v":""},null,null,null,null,null,"00:00:00",null,"00:00:00","00:00:00"]
[null,{"$f":"IFERROR(IF(A11664=\"\",\"\",VLOOKUP(A11664,'Banco de Funcionários'!$A$2:$D$1048576,2,0)),\"\")","v":""},null,null,null,null,null,"00:00:00",null,"00:00:00","00:00:00"]
[null,{"$f":"IFERROR(IF(A11670=\"\",\"\",VLOOKUP(A11670,'Banco de Funcionários'!$A$2:$D$1048576,2,0)),\"\")","v":""},null,null,null,null,null,"00:00:00",null,"00:00:00","00:00:00"]
[null,{"$f":"IFERROR(IF(A11675=\"\",\"\",VLOOKUP(A11675,'Banco de Funcionários'!$A$2:$D$1048576,2,0)),\"\")","v":""},null,null,null,null,null,"00:00:00",null,"00:00:00","00:00:00"]
[null,{"$f":"IFERROR(IF(A11680=\"\",\"\",VLOOKUP(A11680,'Banco de Funcionários'!$A$2:$D$1048576,2,0)),\"\")","v":""},null,null,null,null,null,"00:00:00",null,"00:00:00","00:00:00"]
[null,{"$f":"IFERROR(IF(A11686=\"\",\"\",VLOOKUP(A11686,'Banco de Funcionários'!$A$2:$D$1048576,2,0)),\"\")","v":""},null,null,null,null,null,"00:00:00",null,"00:00:00","00:00:00"]
[null,{"$f":"IFERROR(IF(A11689=\"\",\"\",VLOOKUP(A11689,'Banco de Funcionários'!$A$2:$D$1048576,2,0)),\"\")","v":""},null,null,null,null,null,"00:00:00",null,"00:00:00","00:00:00"]
[null,{"$f":"IFERROR(IF(A11696=\"\",\"\",VLOOKUP(A11696,'Banco de Funcionários'!$A$2:$D$1048576,2,0)),\"\")","v":""},null,null,null,null,null,"00:00:00",null,"00:00:00","00:00:00"]
[null,{"$f":"IFERROR(IF(A11701=\"\",\"\",VLOOKUP(A11701,'Banco de Funcionários'!$A$2:$D$1048576,2,0)),\"\")","v":""},null,null,null,null,null,"00:00:00",null,"00:00:00","00:00:00"]
[null,{"$f":"IFERROR(IF(A11706=\"\",\"\",VLOOKUP(A11706,'Banco de Funcionários'!$A$2:$D$1048576,2,0)),\"\")","v":""},null,null,null,null,null,"00:00:00",null,"00:00:00","00:00:00"]
[null,{"$f":"IFERROR(IF(A11712=\"\",\"\",VLOOKUP(A11712,'Banco de Funcionários'!$A$2:$D$1048576,2,0)),\"\")","v":""},null,null,null,null,null,"00:00:00",null,"00:00:00","00:00:00"]
[null,{"$f":"IFERROR(IF(A11717=\"\",\"\",VLOOKUP(A11717,'Banco de Funcionários'!$A$2:$D$1048576,2,0)),\"\")","v":""},null,null,null,null,null,"00:00:00",null,"00:00:00","00:00:00"]
[null,{"$f":"IFERROR(IF(A11718=\"\",\"\",VLOOKUP(A11718,'Banco de Funcionários'!$A$2:$D$1048576,2,0)),\"\")","v":""},null,null,null,null,null,"00:00:00",null,"00:00:00","00:00:00"]
[null,{"$f":"IFERROR(IF(A11723=\"\",\"\",VLOOKUP(A11723,'Banco de Funcionários'!$A$2:$D$1048576,2,0)),\"\")","v":""},null,null,null,null,null,"00:00:00",null,"00:00:00","00:00:00"]
[null,{"$f":"IFERROR(IF(A11728=\"\",\"\",VLOOKUP(A11728,'Banco de Funcionários'!$A$2:$D$1048576,2,0)),\"\")","v":""},null,null,null,null,null,"00:00:00",null,"00:00:00","00:00:00"]
[null,{"$f":"IFERROR(IF(A11734=\"\",\"\",VLOOKUP(A11734,'Banco de Funcionários'!$A$2:$D$1048576,2,0)),\"\")","v":""},null,null,null,null,null,"00:00:00",null,"00:00:00","00:00:00"]
[null,{"$f":"IFERROR(IF(A11739=\"\",\"\",VLOOKUP(A11739,'Banco de Funcionários'!$A$2:$D$1048576,2,0)),\"\")","v":""},null,null,null,null,null,"00:00:00",null,"00:00:00","00:00:00"]
[null,{"$f":"IFERROR(IF(A11744=\"\",\"\",VLOOKUP(A11744,'Banco de Funcionários'!$A$2:$D$1048576,2,0)),\"\")","v":""},null,null,null,null,null,"00:00:00",null,"00:00:00","00:00:00"]
[null,{"$f":"IFERROR(IF(A11750=\"\",\"\",VLOOKUP(A11750,'Banco de Funcionários'!$A$2:$D$1048576,2,0)),\"\")","v":""},null,null,null,null,null,"00:00:00",null,"00:00:00","00:00:00"]
[null,{"$f":"IFERROR(IF(A11755=\"\",\"\",VLOOKUP(A11755,'Banco de Funcionários'!$A$2:$D$1048576,2,0)),\"\")","v":""},null,null,null,null,null,"00:00:00",null,"00:00:00","00:00:00"]
[null,{"$f":"IFERROR(IF(A11761=\"\",\"\",VLOOKUP(A11761,'Banco de Funcionários'!$A$2:$D$1048576,2,0)),\"\")","v":""},null,null,null,null,null,"00:00:00",null,"00:00:00","00:00:00"]
[null,{"$f":"IFERROR(IF(A11766=\"\",\"\",VLOOKUP(A11766,'Banco de Funcionários'!$A$2:$D$1048576,2,0)),\"\")","v":""},null,null,null,null,null,"00:00:00",null,"00:00:00","00:00:00"]
[null,{"$f":"IFERROR(IF(A11771=\"\",\"\",VLOOKUP(A11771,'Banco de Funcionários'!$A$2:$D$1048576,2,0)),\"\")","v":""},null,null,null,null,null,"00:00:00",null,"00:00:00","00:00:00"]
[null,{"$f":"IFERROR(IF(A11777=\"\",\"\",VLOOKUP(A11777,'Banco de Funcionários'!$A$2:$D$1048576,2,0)),\"\")","v":""},null,null,null,null,null,"00:00:00",null,"00:00:00","00:00:00"]
[null,{"$f":"IFERROR(IF(A11782=\"\",\"\",VLOOKUP(A11782,'Banco de Funcionários'!$A$2:$D$1048576,2,0)),\"\")","v":""},null,null,null,null,null,"00:00:00",null,"00:00:00","00:00:00"]
[null,{"$f":"IFERROR(IF(A11783=\"\",\"\",VLOOKUP(A11783,'Banco de Funcionários'!$A$2:$D$1048576,2,0)),\"\")","v":""},null,null,null,null,null,"00:00:00",null,"00:00:00","00:00:00"]
[null,{"$f":"IFERROR(IF(A11788=\"\",\"\",VLOOKUP(A11788,'Banco de Funcionários'!$A$2:$D$1048576,2,0)),\"\")","v":""},null,null,null,null,null,"00:00:00",null,"00:00:00","00:00:00"]
[null,{"$f":"IFERROR(IF(A11793=\"\",\"\",VLOOKUP(A11793,'Banco de Funcionários'!$A$2:$D$1048576,2,0)),\"\")","v":""},null,null,null,null,null,"00:00:00",null,"00:00:00","00:00:00"]
[null,{"$f":"IFERROR(IF(A11800=\"\",\"\",VLOOKUP(A11800,'Banco de Funcionários'!$A$2:$D$1048576,2,0)),\"\")","v":""},null,null,null,null,null,"00:00:00",null,"00:00:00","00:00:00"]
[null,{"$f":"IFERROR(IF(A11803=\"\",\"\",VLOOKUP(A11803,'Banco de Funcionários'!$A$2:$D$1048576,2,0)),\"\")","v":""},null,null,null,null,null,"00:00:00",null,"00:00:00","00:00:00"]
[null,{"$f":"IFERROR(IF(A11808=\"\",\"\",VLOOKUP(A11808,'Banco de Funcionários'!$A$2:$D$1048576,2,0)),\"\")","v":""},null,null,null,null,null,"00:00:00",null,"00:00:00","00:00:00"]
[null,{"$f":"IFERROR(IF(A11814=\"\",\"\",VLOOKUP(A11814,'Banco de Funcionários'!$A$2:$D$1048576,2,0)),\"\")","v":""},null,null,null,null,null,"00:00:00",null,"00:00:00","00:00:00"]
[null,{"$f":"IFERROR(IF(A11819=\"\",\"\",VLOOKUP(A11819,'Banco de Funcionários'!$A$2:$D$1048576,2,0)),\"\")","v":""},null,null,null,null,null,"00:00:00",null,"00:00:00","00:00:00"]
[null,{"$f":"IFERROR(IF(A11825=\"\",\"\",VLOOKUP(A11825,'Banco de Funcionários'!$A$2:$D$1048576,2,0)),\"\")","v":""},null,null,null,null,null,"00:00:00",null,"00:00:00","00:00:00"]
[null,{"$f":"IFERROR(IF(A11830=\"\",\"\",VLOOKUP(A11830,'Banco de Funcionários'!$A$2:$D$1048576,2,0)),\"\")","v":""},null,null,null,null,null,"00:00:00",null,"00:00:00","00:00:00"]
[null,{"$f":"IFERROR(IF(A11835=\"\",\"\",VLOOKUP(A11835,'Banco de Funcionários'!$A$2:$D$1048576,2,0)),\"\")","v":""},null,null,null,null,null,"00:00:00",null,"00:00:00","00:00:00"]
[null,{"$f":"IFERROR(IF(A11841=\"\",\"\",VLOOKUP(A11841,'Banco de Funcionários'!$A$2:$D$1048576,2,0)),\"\")","v":""},null,null,null,null,null,"00:00:00",null,"00:00:00","00:00:00"]
[null,{"$f":"IFERROR(IF(A11846=\"\",\"\",VLOOKUP(A11846,'Banco de Funcionários'!$A$2:$D$1048576,2,0)),\"\")","v":""},null,null,null,null,null,"00:00:00",null,"00:00:00","00:00:00"]
[null,{"$f":"IFERROR(IF(A11851=\"\",\"\",VLOOKUP(A11851,'Banco de Funcionários'!$A$2:$D$1048576,2,0)),\"\")","v":""},null,null,null,null,null,"00:00:00",null,"00:00:00","00:00:00"]
[null,{"$f":"IFERROR(IF(A11852=\"\",\"\",VLOOKUP(A11852,'Banco de Funcionários'!$A$2:$D$1048576,2,0)),\"\")","v":""},null,null,null,null,null,"00:00:00",null,"00:00:00","00:00:00"]
[null,{"$f":"IFERROR(IF(A11857=\"\",\"\",VLOOKUP(A11857,'Banco de Funcionários'!$A$2:$D$1048576,2,0)),\"\")","v":""},null,null,null,null,null,"00:00:00",null,"00:00:00","00:00:00"]
[null,{"$f":"IFERROR(IF(A11863=\"\",\"\",VLOOKUP(A11863,'Banco de Funcionários'!$A$2:$D$1048576,2,0)),\"\")","v":""},null,null,null,null,null,"00:00:00",null,"00:00:00","00:00:00"]
[null,{"$f":"IFERROR(IF(A11868=\"\",\"\",VLOOKUP(A11868,'Banco de Funcionários'!$A$2:$D$1048576,2,0)),\"\")","v":""},null,null,null,null,null,"00:00:00",null,"00:00:00","00:00:00"]
[null,{"$f":"IFERROR(IF(A11873=\"\",\"\",VLOOKUP(A11873,'Banco de Funcionários'!$A$2:$D$1048576,2,0)),\"\")","v":""},null,null,null,null,null,"00:00:00",null,"00:00:00","00:00:00"]
[null,{"$f":"IFERROR(IF(A11879=\"\",\"\",VLOOKUP(A11879,'Banco de Funcionários'!$A$2:$D$1048576,2,0)),\"\")","v":""},null,null,null,null,null,"00:00:00",null,"00:00:00","00:00:00"]
[null,{"$f":"IFERROR(IF(A11884=\"\",\"\",VLOOKUP(A11884,'Banco de Funcionários'!$A$2:$D$1048576,2,0)),\"\")","v":""},null,null,null,null,null,"00:00:00",null,"00:00:00","00:00:00"]
[null,{"$f":"IFERROR(IF(A11890=\"\",\"\",VLOOKUP(A11890,'Banco de Funcionários'!$A$2:$D$1048576,2,0)),\"\")","v":""},null,null,null,null,null,"00:00:00",null,"00:00:00","00:00:00"]
[null,{"$f":"IFERROR(IF(A11895=\"\",\"\",VLOOKUP(A11895,'Banco de Funcionários'!$A$2:$D$1048576,2,0)),\"\")","v":""},null,null,null,null,null,"00:00:00",null,"00:00:00","00:00:00"]
[null,{"$f":"IFERROR(IF(A11900=\"\",\"\",VLOOKUP(A11900,'Banco de Funcionários'!$A$2:$D$1048576,2,0)),\"\")","v":""},null,null,null,null,null,"00:00:00",null,"00:00:00","00:00:00"]
[null,{"$f":"IFERROR(IF(A11906=\"\",\"\",VLOOKUP(A11906,'Banco de Funcionários'!$A$2:$D$1048576,2,0)),\"\")","v":""},null,null,null,null,null,"00:00:00",null,"00:00:00","00:00:00"]
[null,{"$f":"IFERROR(IF(A11911=\"\",\"\",VLOOKUP(A11911,'Banco de Funcionários'!$A$2:$D$1048576,2,0)),\"\")","v":""},null,null,null,null,null,"00:00:00",null,"00:00:00","00:00:00"]
[null,{"$f":"IFERROR(IF(A11912=\"\",\"\",VLOOKUP(A11912,'Banco de Funcionários'!$A$2:$D$1048576,2,0)),\"\")","v":""},null,null,null,null,null,"00:00:00",null,"00:00:00","00:00:00"]
[null,{"$f":"IFERROR(IF(A11913=\"\",\"\",VLOOKUP(A11913,'Banco de Funcionários'!$A$2:$D$1048576,2,0)),\"\")","v":""},null,null,null,null,null,"00:00:00",null,"00:00:00","00:00:00"]
[null,{"$f":"IFERROR(IF(A11914=\"\",\"\",VLOOKUP(A11914,'Banco de Funcionários'!$A$2:$D$1048576,2,0)),\"\")","v":""},null,null,null,null,null,"00:00:00",null,"00:00:00","00:00:00"]
[null,{"$f":"IFERROR(IF(A11915=\"\",\"\",VLOOKUP(A11915,'Banco de Funcionários'!$A$2:$D$1048576,2,0)),\"\")","v":""},null,null,null,null,null,"00:00:00",null,"00:00:00","00:00:00"]
[null,{"$f":"IFERROR(IF(A11916=\"\",\"\",VLOOKUP(A11916,'Banco de Funcionários'!$A$2:$D$1048576,2,0)),\"\")","v":""},null,null,null,null,null,"00:00:00",null,"00:00:00","00:00:00"]
[null,{"$f":"IFERROR(IF(A11917=\"\",\"\",VLOOKUP(A11917,'Banco de Funcionários'!$A$2:$D$1048576,2,0)),\"\")","v":""},null,null,null,null,null,"00:00:00",null,"00:00:00","00:00:00"]
[null,{"$f":"IFERROR(IF(A11918=\"\",\"\",VLOOKUP(A11918,'Banco de Funcionários'!$A$2:$D$1048576,2,0)),\"\")","v":""},null,null,null,null,null,"00:00:00",null,"00:00:00","00:00:00"]
[null,{"$f":"IFERROR(IF(A11919=\"\",\"\",VLOOKUP(A11919,'Banco de Funcionários'!$A$2:$D$1048576,2,0)),\"\")","v":""},null,null,null,null,null,"00:00:00",null,"00:00:00","00:00:00"]
[null,{"$f":"IFERROR(IF(A11920=\"\",\"\",VLOOKUP(A11920,'Banco de Funcionários'!$A$2:$D$1048576,2,0)),\"\")","v":""},null,null,null,null,null,"00:00:00",null,"00:00:00","00:00:00"]
[null,{"$f":"IFERROR(IF(A11921=\"\",\"\",VLOOKUP(A11921,'Banco de Funcionários'!$A$2:$D$1048576,2,0)),\"\")","v":""},null,null,null,null,null,"00:00:00",null,"00:00:00","00:00:00"]
[null,{"$f":"IFERROR(IF(A11922=\"\",\"\",VLOOKUP(A11922,'Banco de Funcionários'!$A$2:$D$1048576,2,0)),\"\")","v":""},null,null,null,null,null,"00:00:00",null,"00:00:00","00:00:00"]
[null,{"$f":"IFERROR(IF(A11923=\"\",\"\",VLOOKUP(A11923,'Banco de Funcionários'!$A$2:$D$1048576,2,0)),\"\")","v":""},null,null,null,null,null,"00:00:00",null,"00:00:00","00:00:00"]
[null,{"$f":"IFERROR(IF(A11924=\"\",\"\",VLOOKUP(A11924,'Banco de Funcionários'!$A$2:$D$1048576,2,0)),\"\")","v":""},null,null,null,null,null,"00:00:00",null,"00:00:00","00:00:00"]
[null,{"$f":"IFERROR(IF(A11925=\"\",\"\",VLOOKUP(A11925,'Banco de Funcionários'!$A$2:$D$1048576,2,0)),\"\")","v":""},null,null,null,null,null,"00:00:00",null,"00:00:00","00:00:00"]
[null,{"$f":"IFERROR(IF(A11926=\"\",\"\",VLOOKUP(A11926,'Banco de Funcionários'!$A$2:$D$1048576,2,0)),\"\")","v":""},null,null,null,null,null,"00:00:00",null,"00:00:00","00:00:00"]
[null,{"$f":"IFERROR(IF(A11927=\"\",\"\",VLOOKUP(A11927,'Banco de Funcionários'!$A$2:$D$1048576,2,0)),\"\")","v":""},null,null,null,null,null,"00:00:00",null,"00:00:00","00:00:00"]
[null,{"$f":"IFERROR(IF(A11928=\"\",\"\",VLOOKUP(A11928,'Banco de Funcionários'!$A$2:$D$1048576,2,0)),\"\")","v":""},null,null,null,null,null,"00:00:00",null,"00:00:00","00:00:00"]
[null,{"$f":"IFERROR(IF(A11929=\"\",\"\",VLOOKUP(A11929,'Banco de Funcionários'!$A$2:$D$1048576,2,0)),\"\")","v":""},null,null,null,null,null,"00:00:00",null,"00:00:00","00:00:00"]
[null,{"$f":"IFERROR(IF(A11930=\"\",\"\",VLOOKUP(A11930,'Banco de Funcionários'!$A$2:$D$1048576,2,0)),\"\")","v":""},null,null,null,null,null,"00:00:00",null,"00:00:00","00:00:00"]
[null,{"$f":"IFERROR(IF(A11931=\"\",\"\",VLOOKUP(A11931,'Banco de Funcionários'!$A$2:$D$1048576,2,0)),\"\")","v":""},null,null,null,null,null,"00:00:00",null,"00:00:00","00:00:00"]
[null,{"$f":"IFERROR(IF(A11932=\"\",\"\",VLOOKUP(A11932,'Banco de Funcionários'!$A$2:$D$1048576,2,0)),\"\")","v":""},null,null,null,null,null,"00:00:00",null,"00:00:00","00:00:00"]
[null,{"$f":"IFERROR(IF(A11933=\"\",\"\",VLOOKUP(A11933,'Banco de Funcionários'!$A$2:$D$1048576,2,0)),\"\")","v":""},null,null,null,null,null,"00:00:00",null,"00:00:00","00:00:00"]
[null,{"$f":"IFERROR(IF(A11934=\"\",\"\",VLOOKUP(A11934,'Banco de Funcionários'!$A$2:$D$1048576,2,0)),\"\")","v":""},null,null,null,null,null,"00:00:00",null,"00:00:00","00:00:00"]
[null,{"$f":"IFERROR(IF(A11935=\"\",\"\",VLOOKUP(A11935,'Banco de Funcionários'!$A$2:$D$1048576,2,0)),\"\")","v":""},null,null,null,null,null,"00:00:00",null,"00:00:00","00:00:00"]
[null,{"$f":"IFERROR(IF(A11936=\"\",\"\",VLOOKUP(A11936,'Banco de Funcionários'!$A$2:$D$1048576,2,0)),\"\")","v":""},null,null,null,null,null,"00:00:00",null,"00:00:00","00:00:00"]
[null,{"$f":"IFERROR(IF(A11937=\"\",\"\",VLOOKUP(A11937,'Banco de Funcionários'!$A$2:$D$1048576,2,0)),\"\")","v":""},null,null,null,null,null,"00:00:00",null,"00:00:00","00:00:00"]
[null,{"$f":"IFERROR(IF(A11938=\"\",\"\",VLOOKUP(A11938,'Banco de Funcionários'!$A$2:$D$1048576,2,0)),\"\")","v":""},null,null,null,null,null,"00:00:00",null,"00:00:00","00:00:00"]
[null,{"$f":"IFERROR(IF(A11939=\"\",\"\",VLOOKUP(A11939,'Banco de Funcionários'!$A$2:$D$1048576,2,0)),\"\")","v":""},null,null,null,null,null,"00:00:00",null,"00:00:00","00:00:00"]
[null,{"$f":"IFERROR(IF(A11940=\"\",\"\",VLOOKUP(A11940,'Banco de Funcionários'!$A$2:$D$1048576,2,0)),\"\")","v":""},null,null,null,null,null,"00:00:00",null,"00:00:00","00:00:00"]
[null,{"$f":"IFERROR(IF(A11941=\"\",\"\",VLOOKUP(A11941,'Banco de Funcionários'!$A$2:$D$1048576,2,0)),\"\")","v":""},null,null,null,null,null,"00:00:00",null,"00:00:00","00:00:00"]
[null,{"$f":"IFERROR(IF(A11942=\"\",\"\",VLOOKUP(A11942,'Banco de Funcionários'!$A$2:$D$1048576,2,0)),\"\")","v":""},null,null,null,null,null,"00:00:00",null,"00:00:00","00:00:00"]
[null,{"$f":"IFERROR(IF(A11943=\"\",\"\",VLOOKUP(A11943,'Banco de Funcionários'!$A$2:$D$1048576,2,0)),\"\")","v":""},null,null,null,null,null,"00:00:00",null,"00:00:00","00:00:00"]
[null,{"$f":"IFERROR(IF(A11944=\"\",\"\",VLOOKUP(A11944,'Banco de Funcionários'!$A$2:$D$1048576,2,0)),\"\")","v":""},null,null,null,null,null,"00:00:00",null,"00:00:00","00:00:00"]
[null,{"$f":"IFERROR(IF(A11945=\"\",\"\",VLOOKUP(A11945,'Banco de Funcionários'!$A$2:$D$1048576,2,0)),\"\")","v":""},null,null,null,null,null,"00:00:00",null,"00:00:00","00:00:00"]
[null,{"$f":"IFERROR(IF(A11946=\"\",\"\",VLOOKUP(A11946,'Banco de Funcionários'!$A$2:$D$1048576,2,0)),\"\")","v":""},null,null,null,null,null,"00:00:00",null,"00:00:00","00:00:00"]
[null,{"$f":"IFERROR(IF(A11947=\"\",\"\",VLOOKUP(A11947,'Banco de Funcionários'!$A$2:$D$1048576,2,0)),\"\")","v":""},null,null,null,null,null,"00:00:00",null,"00:00:00","00:00:00"]
[null,{"$f":"IFERROR(IF(A11948=\"\",\"\",VLOOKUP(A11948,'Banco de Funcionários'!$A$2:$D$1048576,2,0)),\"\")","v":""},null,null,null,null,null,"00:00:00",null,"00:00:00","00:00:00"]
[null,{"$f":"IFERROR(IF(A11949=\"\",\"\",VLOOKUP(A11949,'Banco de Funcionários'!$A$2:$D$1048576,2,0)),\"\")","v":""},null,null,null,null,null,"00:00:00",null,"00:00:00","00:00:00"]
[null,{"$f":"IFERROR(IF(A11950=\"\",\"\",VLOOKUP(A11950,'Banco de Funcionários'!$A$2:$D$1048576,2,0)),\"\")","v":""},null,null,null,null,null,"00:00:00",null,"00:00:00","00:00:00"]
[null,{"$f":"IFERROR(IF(A11951=\"\",\"\",VLOOKUP(A11951,'Banco de Funcionários'!$A$2:$D$1048576,2,0)),\"\")","v":""},null,null,null,null,null,"00:00:00",null,"00:00:00","00:00:00"]
[null,{"$f":"IFERROR(IF(A11952=\"\",\"\",VLOOKUP(A11952,'Banco de Funcionários'!$A$2:$D$1048576,2,0)),\"\")","v":""},null,null,null,null,null,"00:00:00",null,"00:00:00","00:00:00"]
[null,{"$f":"IFERROR(IF(A11953=\"\",\"\",VLOOKUP(A11953,'Banco de Funcionários'!$A$2:$D$1048576,2,0)),\"\")","v":""},null,null,null,null,null,"00:00:00",null,"00:00:00","00:00:00"]
[null,{"$f":"IFERROR(IF(A11954=\"\",\"\",VLOOKUP(A11954,'Banco de Funcionários'!$A$2:$D$1048576,2,0)),\"\")","v":""},null,null,null,null,null,"00:00:00",null,"00:00:00","00:00:00"]
[null,{"$f":"IFERROR(IF(A11955=\"\",\"\",VLOOKUP(A11955,'Banco de Funcionários'!$A$2:$D$1048576,2,0)),\"\")","v":""},null,null,null,null,null,"00:00:00",null,"00:00:00","00:00:00"]
[null,{"$f":"IFERROR(IF(A11956=\"\",\"\",VLOOKUP(A11956,'Banco de Funcionários'!$A$2:$D$1048576,2,0)),\"\")","v":""},null,null,null,null,null,"00:00:00",null,"00:00:00","00:00:00"]
[null,{"$f":"IFERROR(IF(A11957=\"\",\"\",VLOOKUP(A11957,'Banco de Funcionários'!$A$2:$D$1048576,2,0)),\"\")","v":""},null,null,null,null,null,"00:00:00",null,"00:00:00","00:00:00"]
[null,{"$f":"IFERROR(IF(A11958=\"\",\"\",VLOOKUP(A11958,'Banco de Funcionários'!$A$2:$D$1048576,2,0)),\"\")","v":""},null,null,null,null,null,"00:00:00",null,"00:00:00","00:00:00"]
[null,{"$f":"IFERROR(IF(A11959=\"\",\"\",VLOOKUP(A11959,'Banco de Funcionários'!$A$2:$D$1048576,2,0)),\"\")","v":""},null,null,null,null,null,"00:00:00",null,"00:00:00","00:00:00"]
[null,{"$f":"IFERROR(IF(A11960=\"\",\"\",VLOOKUP(A11960,'Banco de Funcionários'!$A$2:$D$1048576,2,0)),\"\")","v":""},null,null,null,null,null,"00:00:00",null,"00:00:00","00:00:00"]
[null,{"$f":"IFERROR(IF(A11961=\"\",\"\",VLOOKUP(A11961,'Banco de Funcionários'!$A$2:$D$1048576,2,0)),\"\")","v":""},null,null,null,null,null,"00:00:00",null,"00:00:00","00:00:00"]
[null,{"$f":"IFERROR(IF(A11962=\"\",\"\",VLOOKUP(A11962,'Banco de Funcionários'!$A$2:$D$1048576,2,0)),\"\")","v":""},null,null,null,null,null,"00:00:00",null,"00:00:00","00:00:00"]
[null,{"$f":"IFERROR(IF(A11963=\"\",\"\",VLOOKUP(A11963,'Banco de Funcionários'!$A$2:$D$1048576,2,0)),\"\")","v":""},null,null,null,null,null,"00:00:00",null,"00:00:00","00:00:00"]
[null,{"$f":"IFERROR(IF(A11964=\"\",\"\",VLOOKUP(A11964,'Banco de Funcionários'!$A$2:$D$1048576,2,0)),\"\")","v":""},null,null,null,null,null,"00:00:00",null,"00:00:00","00:00:00"]
[null,{"$f":"IFERROR(IF(A11965=\"\",\"\",VLOOKUP(A11965,'Banco de Funcionários'!$A$2:$D$1048576,2,0)),\"\")","v":""},null,null,null,null,null,"00:00:00",null,"00:00:00","00:00:00"]
[null,{"$f":"IFERROR(IF(A11966=\"\",\"\",VLOOKUP(A11966,'Banco de Funcionários'!$A$2:$D$1048576,2,0)),\"\")","v":""},null,null,null,null,null,"00:00:00",null,"00:00:00","00:00:00"]
[null,{"$f":"IFERROR(IF(A11967=\"\",\"\",VLOOKUP(A11967,'Banco de Funcionários'!$A$2:$D$1048576,2,0)),\"\")","v":""},null,null,null,null,null,"00:00:00",null,"00:00:00","00:00:00"]
[null,{"$f":"IFERROR(IF(A11968=\"\",\"\",VLOOKUP(A11968,'Banco de Funcionários'!$A$2:$D$1048576,2,0)),\"\")","v":""},null,null,null,null,null,"00:00:00",null,"00:00:00","00:00:00"]
[null,{"$f":"IFERROR(IF(A11969=\"\",\"\",VLOOKUP(A11969,'Banco de Funcionários'!$A$2:$D$1048576,2,0)),\"\")","v":""},null,null,null,null,null,"00:00:00",null,"00:00:00","00:00:00"]
[null,{"$f":"IFERROR(IF(A11970=\"\",\"\",VLOOKUP(A11970,'Banco de Funcionários'!$A$2:$D$1048576,2,0)),\"\")","v":""},null,null,null,null,null,"00:00:00",null,"00:00:00","00:00:00"]
[null,{"$f":"IFERROR(IF(A11971=\"\",\"\",VLOOKUP(A11971,'Banco de Funcionários'!$A$2:$D$1048576,2,0)),\"\")","v":""},null,null,null,null,null,{"$f":"(F11971-E11971)-G11971","v":"00:00:00"},null,{"$f":"IFERROR(H11971-I11971,\"\")","v":"00:00:00"},{"$f":"IFERROR(H11971+J11971,0)","v":"00:00:00"}]
[null,{"$f":"IFERROR(IF(A11972=\"\",\"\",VLOOKUP(A11972,'Banco de Funcionários'!$A$2:$D$1048576,2,0)),\"\")","v":""},null,null,null,null,null,"00:00:00",null,"00:00:00","00:00:00"]
[null,{"$f":"IFERROR(IF(A11973=\"\",\"\",VLOOKUP(A11973,'Banco de Funcionários'!$A$2:$D$1048576,2,0)),\"\")","v":""},null,null,null,null,null,"00:00:00",null,"00:00:00","00:00:00"]
[null,{"$f":"IFERROR(IF(A11974=\"\",\"\",VLOOKUP(A11974,'Banco de Funcionários'!$A$2:$D$1048576,2,0)),\"\")","v":""},null,null,null,null,null,"00:00:00",null,"00:00:00","00:00:00"]
[null,{"$f":"IFERROR(IF(A11975=\"\",\"\",VLOOKUP(A11975,'Banco de Funcionários'!$A$2:$D$1048576,2,0)),\"\")","v":""},null,null,null,null,null,"00:00:00",null,"00:00:00","00:00:00"]
[null,{"$f":"IFERROR(IF(A11976=\"\",\"\",VLOOKUP(A11976,'Banco de Funcionários'!$A$2:$D$1048576,2,0)),\"\")","v":""},null,null,null,null,null,"00:00:00",null,"00:00:00","00:00:00"]
[null,{"$f":"IFERROR(IF(A11977=\"\",\"\",VLOOKUP(A11977,'Banco de Funcionários'!$A$2:$D$1048576,2,0)),\"\")","v":""},null,null,null,null,null,"00:00:00",null,"00:00:00","00:00:00"]
[null,{"$f":"IFERROR(IF(A11978=\"\",\"\",VLOOKUP(A11978,'Banco de Funcionários'!$A$2:$D$1048576,2,0)),\"\")","v":""},null,null,null,null,null,"00:00:00",null,"00:00:00","00:00:00"]
[null,{"$f":"IFERROR(IF(A11979=\"\",\"\",VLOOKUP(A11979,'Banco de Funcionários'!$A$2:$D$1048576,2,0)),\"\")","v":""},null,null,null,null,null,"00:00:00",null,"00:00:00","00:00:00"]
[null,{"$f":"IFERROR(IF(A11980=\"\",\"\",VLOOKUP(A11980,'Banco de Funcionários'!$A$2:$D$1048576,2,0)),\"\")","v":""},null,null,null,null,null,"00:00:00",null,"00:00:00","00:00:00"]
[null,{"$f":"IFERROR(IF(A11981=\"\",\"\",VLOOKUP(A11981,'Banco de Funcionários'!$A$2:$D$1048576,2,0)),\"\")","v":""},null,null,null,null,null,"00:00:00",null,"00:00:00","00:00:00"]
[null,{"$f":"IFERROR(IF(A11982=\"\",\"\",VLOOKUP(A11982,'Banco de Funcionários'!$A$2:$D$1048576,2,0)),\"\")","v":""},null,null,null,null,null,"00:00:00",null,"00:00:00","00:00:00"]
[null,{"$f":"IFERROR(IF(A11983=\"\",\"\",VLOOKUP(A11983,'Banco de Funcionários'!$A$2:$D$1048576,2,0)),\"\")","v":""},null,null,null,null,null,"00:00:00",null,"00:00:00","00:00:00"]
[null,{"$f":"IFERROR(IF(A11984=\"\",\"\",VLOOKUP(A11984,'Banco de Funcionários'!$A$2:$D$1048576,2,0)),\"\")","v":""},null,null,null,null,null,"00:00:00",null,"00:00:00","00:00:00"]
[null,{"$f":"IFERROR(IF(A11985=\"\",\"\",VLOOKUP(A11985,'Banco de Funcionários'!$A$2:$D$1048576,2,0)),\"\")","v":""},null,null,null,null,null,"00:00:00",null,"00:00:00","00:00:00"]
[null,{"$f":"IFERROR(IF(A11986=\"\",\"\",VLOOKUP(A11986,'Banco de Funcionários'!$A$2:$D$1048576,2,0)),\"\")","v":""},null,null,null,null,null,"00:00:00",null,"00:00:00","00:00:00"]
[null,{"$f":"IFERROR(IF(A11987=\"\",\"\",VLOOKUP(A11987,'Banco de Funcionários'!$A$2:$D$1048576,2,0)),\"\")","v":""},null,null,null,null,null,"00:00:00",null,"00:00:00","00:00:00"]
[null,{"$f":"IFERROR(IF(A11988=\"\",\"\",VLOOKUP(A11988,'Banco de Funcionários'!$A$2:$D$1048576,2,0)),\"\")","v":""},null,null,null,null,null,"00:00:00",null,"00:00:00","00:00:00"]
[null,{"$f":"IFERROR(IF(A11989=\"\",\"\",VLOOKUP(A11989,'Banco de Funcionários'!$A$2:$D$1048576,2,0)),\"\")","v":""},null,null,null,null,null,"00:00:00",null,"00:00:00","00:00:00"]
[null,{"$f":"IFERROR(IF(A11990=\"\",\"\",VLOOKUP(A11990,'Banco de Funcionários'!$A$2:$D$1048576,2,0)),\"\")","v":""},null,null,null,null,null,"00:00:00",null,"00:00:00","00:00:00"]
[null,{"$f":"IFERROR(IF(A11991=\"\",\"\",VLOOKUP(A11991,'Banco de Funcionários'!$A$2:$D$1048576,2,0)),\"\")","v":""},null,null,null,null,null,"00:00:00",null,"00:00:00","00:00:00"]
[null,{"$f":"IFERROR(IF(A11992=\"\",\"\",VLOOKUP(A11992,'Banco de Funcionários'!$A$2:$D$1048576,2,0)),\"\")","v":""},null,null,null,null,null,"00:00:00",null,"00:00:00","00:00:00"]
[null,{"$f":"IFERROR(IF(A11993=\"\",\"\",VLOOKUP(A11993,'Banco de Funcionários'!$A$2:$D$1048576,2,0)),\"\")","v":""},null,null,null,null,null,"00:00:00",null,"00:00:00","00:00:00"]
[null,{"$f":"IFERROR(IF(A11994=\"\",\"\",VLOOKUP(A11994,'Banco de Funcionários'!$A$2:$D$1048576,2,0)),\"\")","v":""},null,null,null,null,null,"00:00:00",null,"00:00:00","00:00:00"]
[null,{"$f":"IFERROR(IF(A11995=\"\",\"\",VLOOKUP(A11995,'Banco de Funcionários'!$A$2:$D$1048576,2,0)),\"\")","v":""},null,null,null,null,null,"00:00:00",null,"00:00:00","00:00:00"]
[null,{"$f":"IFERROR(IF(A11996=\"\",\"\",VLOOKUP(A11996,'Banco de Funcionários'!$A$2:$D$1048576,2,0)),\"\")","v":""},null,null,null,null,null,"00:00:00",null,"00:00:00","00:00:00"]
[null,{"$f":"IFERROR(IF(A11997=\"\",\"\",VLOOKUP(A11997,'Banco de Funcionários'!$A$2:$D$1048576,2,0)),\"\")","v":""},null,null,null,null,null,"00:00:00",null,"00:00:00","00:00:00"]
[null,{"$f":"IFERROR(IF(A11998=\"\",\"\",VLOOKUP(A11998,'Banco de Funcionários'!$A$2:$D$1048576,2,0)),\"\")","v":""},null,null,null,null,null,"00:00:00",null,"00:00:00","00:00:00"]
[null,{"$f":"IFERROR(IF(A11999=\"\",\"\",VLOOKUP(A11999,'Banco de Funcionários'!$A$2:$D$1048576,2,0)),\"\")","v":""},null,null,null,null,null,"00:00:00",null,"00:00:00","00:00:00"]
[null,{"$f":"IFERROR(IF(A12000=\"\",\"\",VLOOKUP(A12000,'Banco de Funcionários'!$A$2:$D$1048576,2,0)),\"\")","v":""},null,null,null,null,null,"00:00:00",null,"00:00:00","00:00:00"]
[null,{"$f":"IFERROR(IF(A12001=\"\",\"\",VLOOKUP(A12001,'Banco de Funcionários'!$A$2:$D$1048576,2,0)),\"\")","v":""},null,null,null,null,null,"00:00:00",null,"00:00:00","00:00:00"]
[null,{"$f":"IFERROR(IF(A12002=\"\",\"\",VLOOKUP(A12002,'Banco de Funcionários'!$A$2:$D$1048576,2,0)),\"\")","v":""},null,null,null,null,null,"00:00:00",null,"00:00:00","00:00:00"]
[null,{"$f":"IFERROR(IF(A12003=\"\",\"\",VLOOKUP(A12003,'Banco de Funcionários'!$A$2:$D$1048576,2,0)),\"\")","v":""},null,null,null,null,null,"00:00:00",null,"00:00:00","00:00:00"]
[null,{"$f":"IFERROR(IF(A12004=\"\",\"\",VLOOKUP(A12004,'Banco de Funcionários'!$A$2:$D$1048576,2,0)),\"\")","v":""},null,null,null,null,null,"00:00:00",null,"00:00:00","00:00:00"]
[null,{"$f":"IFERROR(IF(A12005=\"\",\"\",VLOOKUP(A12005,'Banco de Funcionários'!$A$2:$D$1048576,2,0)),\"\")","v":""},null,null,null,null,null,"00:00:00",null,"00:00:00","00:00:00"]
[null,{"$f":"IFERROR(IF(A12006=\"\",\"\",VLOOKUP(A12006,'Banco de Funcionários'!$A$2:$D$1048576,2,0)),\"\")","v":""},null,null,null,null,null,"00:00:00",null,"00:00:00","00:00:00"]
[null,{"$f":"IFERROR(IF(A12007=\"\",\"\",VLOOKUP(A12007,'Banco de Funcionários'!$A$2:$D$1048576,2,0)),\"\")","v":""},null,null,null,null,null,"00:00:00",null,"00:00:00","00:00:00"]
[null,{"$f":"IFERROR(IF(A12008=\"\",\"\",VLOOKUP(A12008,'Banco de Funcionários'!$A$2:$D$1048576,2,0)),\"\")","v":""},null,null,null,null,null,"00:00:00",null,"00:00:00","00:00:00"]
[null,{"$f":"IFERROR(IF(A12009=\"\",\"\",VLOOKUP(A12009,'Banco de Funcionários'!$A$2:$D$1048576,2,0)),\"\")","v":""},null,null,null,null,null,"00:00:00",null,"00:00:00","00:00:00"]
[null,{"$f":"IFERROR(IF(A12010=\"\",\"\",VLOOKUP(A12010,'Banco de Funcionários'!$A$2:$D$1048576,2,0)),\"\")","v":""},null,null,null,null,null,"00:00:00",null,"00:00:00","00:00:00"]
[null,{"$f":"IFERROR(IF(A12011=\"\",\"\",VLOOKUP(A12011,'Banco de Funcionários'!$A$2:$D$1048576,2,0)),\"\")","v":""},null,null,null,null,null,"00:00:00",null,"00:00:00","00:00:00"]
[null,{"$f":"IFERROR(IF(A12012=\"\",\"\",VLOOKUP(A12012,'Banco de Funcionários'!$A$2:$D$1048576,2,0)),\"\")","v":""},null,null,null,null,null,"00:00:00",null,"00:00:00","00:00:00"]
[null,{"$f":"IFERROR(IF(A12013=\"\",\"\",VLOOKUP(A12013,'Banco de Funcionários'!$A$2:$D$1048576,2,0)),\"\")","v":""},null,null,null,null,null,"00:00:00",null,"00:00:00","00:00:00"]
[null,{"$f":"IFERROR(IF(A12014=\"\",\"\",VLOOKUP(A12014,'Banco de Funcionários'!$A$2:$D$1048576,2,0)),\"\")","v":""},null,null,null,null,null,"00:00:00",null,"00:00:00","00:00:00"]
[null,{"$f":"IFERROR(IF(A12015=\"\",\"\",VLOOKUP(A12015,'Banco de Funcionários'!$A$2:$D$1048576,2,0)),\"\")","v":""},null,null,null,null,null,"00:00:00",null,"00:00:00","00:00:00"]
[null,{"$f":"IFERROR(IF(A12016=\"\",\"\",VLOOKUP(A12016,'Banco de Funcionários'!$A$2:$D$1048576,2,0)),\"\")","v":""},null,null,null,null,null,"00:00:00",null,"00:00:00","00:00:00"]
[null,{"$f":"IFERROR(IF(A12017=\"\",\"\",VLOOKUP(A12017,'Banco de Funcionários'!$A$2:$D$1048576,2,0)),\"\")","v":""},null,null,null,null,null,"00:00:00",null,"00:00:00","00:00:00"]
[null,{"$f":"IFERROR(IF(A12018=\"\",\"\",VLOOKUP(A12018,'Banco de Funcionários'!$A$2:$D$1048576,2,0)),\"\")","v":""},null,null,null,null,null,"00:00:00",null,"00:00:00","00:00:00"]
[null,{"$f":"IFERROR(IF(A12019=\"\",\"\",VLOOKUP(A12019,'Banco de Funcionários'!$A$2:$D$1048576,2,0)),\"\")","v":""},null,null,null,null,null,"00:00:00",null,"00:00:00","00:00:00"]
[null,{"$f":"IFERROR(IF(A12020=\"\",\"\",VLOOKUP(A12020,'Banco de Funcionários'!$A$2:$D$1048576,2,0)),\"\")","v":""},null,null,null,null,null,"00:00:00",null,"00:00:00","00:00:00"]
[null,{"$f":"IFERROR(IF(A12021=\"\",\"\",VLOOKUP(A12021,'Banco de Funcionários'!$A$2:$D$1048576,2,0)),\"\")","v":""},null,null,null,null,null,"00:00:00",null,"00:00:00","00:00:00"]
[null,{"$f":"IFERROR(IF(A12022=\"\",\"\",VLOOKUP(A12022,'Banco de Funcionários'!$A$2:$D$1048576,2,0)),\"\")","v":""},null,null,null,null,null,"00:00:00",null,"00:00:00","00:00:00"]
[null,{"$f":"IFERROR(IF(A12023=\"\",\"\",VLOOKUP(A12023,'Banco de Funcionários'!$A$2:$D$1048576,2,0)),\"\")","v":""},null,null,null,null,null,"00:00:00",null,"00:00:00","00:00:00"]
[null,{"$f":"IFERROR(IF(A12024=\"\",\"\",VLOOKUP(A12024,'Banco de Funcionários'!$A$2:$D$1048576,2,0)),\"\")","v":""},null,null,null,null,null,"00:00:00",null,"00:00:00","00:00:00"]
[null,{"$f":"IFERROR(IF(A12025=\"\",\"\",VLOOKUP(A12025,'Banco de Funcionários'!$A$2:$D$1048576,2,0)),\"\")","v":""},null,null,null,null,null,"00:00:00",null,"00:00:00","00:00:00"]
[null,{"$f":"IFERROR(IF(A12026=\"\",\"\",VLOOKUP(A12026,'Banco de Funcionários'!$A$2:$D$1048576,2,0)),\"\")","v":""},null,null,null,null,null,"00:00:00",null,"00:00:00","00:00:00"]
[null,{"$f":"IFERROR(IF(A12027=\"\",\"\",VLOOKUP(A12027,'Banco de Funcionários'!$A$2:$D$1048576,2,0)),\"\")","v":""},null,null,null,null,null,"00:00:00",null,"00:00:00","00:00:00"]
[null,{"$f":"IFERROR(IF(A12028=\"\",\"\",VLOOKUP(A12028,'Banco de Funcionários'!$A$2:$D$1048576,2,0)),\"\")","v":""},null,null,null,null,null,"00:00:00",null,"00:00:00","00:00:00"]
[null,{"$f":"IFERROR(IF(A12029=\"\",\"\",VLOOKUP(A12029,'Banco de Funcionários'!$A$2:$D$1048576,2,0)),\"\")","v":""},null,null,null,null,null,"00:00:00",null,"00:00:00","00:00:00"]
[null,{"$f":"IFERROR(IF(A12030=\"\",\"\",VLOOKUP(A12030,'Banco de Funcionários'!$A$2:$D$1048576,2,0)),\"\")","v":""},null,null,null,null,null,"00:00:00",null,"00:00:00","00:00:00"]
[null,{"$f":"IFERROR(IF(A12031=\"\",\"\",VLOOKUP(A12031,'Banco de Funcionários'!$A$2:$D$1048576,2,0)),\"\")","v":""},null,null,null,null,null,"00:00:00",null,"00:00:00","00:00:00"]
[null,{"$f":"IFERROR(IF(A12032=\"\",\"\",VLOOKUP(A12032,'Banco de Funcionários'!$A$2:$D$1048576,2,0)),\"\")","v":""},null,null,null,null,null,"00:00:00",null,"00:00:00","00:00:00"]
[null,{"$f":"IFERROR(IF(A12033=\"\",\"\",VLOOKUP(A12033,'Banco de Funcionários'!$A$2:$D$1048576,2,0)),\"\")","v":""},null,null,null,null,null,"00:00:00",null,"00:00:00","00:00:00"]
[null,{"$f":"IFERROR(IF(A12034=\"\",\"\",VLOOKUP(A12034,'Banco de Funcionários'!$A$2:$D$1048576,2,0)),\"\")","v":""},null,null,null,null,null,"00:00:00",null,"00:00:00","00:00:00"]
[null,{"$f":"IFERROR(IF(A12035=\"\",\"\",VLOOKUP(A12035,'Banco de Funcionários'!$A$2:$D$1048576,2,0)),\"\")","v":""},null,null,null,null,null,{"$f":"(F12035-E12035)-G12035","v":"00:00:00"},null,{"$f":"IFERROR(H12035-I12035,\"\")","v":"00:00:00"},{"$f":"IFERROR(H12035+J12035,0)","v":"00:00:00"}]
[null,{"$f":"IFERROR(IF(A12036=\"\",\"\",VLOOKUP(A12036,'Banco de Funcionários'!$A$2:$D$1048576,2,0)),\"\")","v":""},null,null,null,null,null,"00:00:00",null,"00:00:00","00:00:00"]
[null,{"$f":"IFERROR(IF(A12037=\"\",\"\",VLOOKUP(A12037,'Banco de Funcionários'!$A$2:$D$1048576,2,0)),\"\")","v":""},null,null,null,null,null,"00:00:00",null,"00:00:00","00:00:00"]
[null,{"$f":"IFERROR(IF(A12038=\"\",\"\",VLOOKUP(A12038,'Banco de Funcionários'!$A$2:$D$1048576,2,0)),\"\")","v":""},null,null,null,null,null,"00:00:00",null,"00:00:00","00:00:00"]
[null,{"$f":"IFERROR(IF(A12039=\"\",\"\",VLOOKUP(A12039,'Banco de Funcionários'!$A$2:$D$1048576,2,0)),\"\")","v":""},null,null,null,null,null,"00:00:00",null,"00:00:00","00:00:00"]
[null,{"$f":"IFERROR(IF(A12040=\"\",\"\",VLOOKUP(A12040,'Banco de Funcionários'!$A$2:$D$1048576,2,0)),\"\")","v":""},null,null,null,null,null,"00:00:00",null,"00:00:00","00:00:00"]
[null,{"$f":"IFERROR(IF(A12041=\"\",\"\",VLOOKUP(A12041,'Banco de Funcionários'!$A$2:$D$1048576,2,0)),\"\")","v":""},null,null,null,null,null,"00:00:00",null,"00:00:00","00:00:00"]
[null,{"$f":"IFERROR(IF(A12042=\"\",\"\",VLOOKUP(A12042,'Banco de Funcionários'!$A$2:$D$1048576,2,0)),\"\")","v":""},null,null,null,null,null,"00:00:00",null,"00:00:00","00:00:00"]
[null,{"$f":"IFERROR(IF(A12043=\"\",\"\",VLOOKUP(A12043,'Banco de Funcionários'!$A$2:$D$1048576,2,0)),\"\")","v":""},null,null,null,null,null,"00:00:00",null,"00:00:00","00:00:00"]
[null,{"$f":"IFERROR(IF(A12044=\"\",\"\",VLOOKUP(A12044,'Banco de Funcionários'!$A$2:$D$1048576,2,0)),\"\")","v":""},null,null,null,null,null,"00:00:00",null,"00:00:00","00:00:00"]
[null,{"$f":"IFERROR(IF(A12045=\"\",\"\",VLOOKUP(A12045,'Banco de Funcionários'!$A$2:$D$1048576,2,0)),\"\")","v":""},null,null,null,null,null,"00:00:00",null,"00:00:00","00:00:00"]
[null,{"$f":"IFERROR(IF(A12046=\"\",\"\",VLOOKUP(A12046,'Banco de Funcionários'!$A$2:$D$1048576,2,0)),\"\")","v":""},null,null,null,null,null,"00:00:00",null,"00:00:00","00:00:00"]
[null,{"$f":"IFERROR(IF(A12047=\"\",\"\",VLOOKUP(A12047,'Banco de Funcionários'!$A$2:$D$1048576,2,0)),\"\")","v":""},null,null,null,null,null,"00:00:00",null,"00:00:00","00:00:00"]
[null,{"$f":"IFERROR(IF(A12048=\"\",\"\",VLOOKUP(A12048,'Banco de Funcionários'!$A$2:$D$1048576,2,0)),\"\")","v":""},null,null,null,null,null,"00:00:00",null,"00:00:00","00:00:00"]
[null,{"$f":"IFERROR(IF(A12049=\"\",\"\",VLOOKUP(A12049,'Banco de Funcionários'!$A$2:$D$1048576,2,0)),\"\")","v":""},null,null,null,null,null,"00:00:00",null,"00:00:00","00:00:00"]
[null,{"$f":"IFERROR(IF(A12050=\"\",\"\",VLOOKUP(A12050,'Banco de Funcionários'!$A$2:$D$1048576,2,0)),\"\")","v":""},null,null,null,null,null,"00:00:00",null,"00:00:00","00:00:00"]
[null,{"$f":"IFERROR(IF(A12051=\"\",\"\",VLOOKUP(A12051,'Banco de Funcionários'!$A$2:$D$1048576,2,0)),\"\")","v":""},null,null,null,null,null,"00:00:00",null,"00:00:00","00:00:00"]
[null,{"$f":"IFERROR(IF(A12052=\"\",\"\",VLOOKUP(A12052,'Banco de Funcionários'!$A$2:$D$1048576,2,0)),\"\")","v":""},null,null,null,null,null,"00:00:00",null,"00:00:00","00:00:00"]
[null,{"$f":"IFERROR(IF(A12053=\"\",\"\",VLOOKUP(A12053,'Banco de Funcionários'!$A$2:$D$1048576,2,0)),\"\")","v":""},null,null,null,null,null,"00:00:00",null,"00:00:00","00:00:00"]
[null,{"$f":"IFERROR(IF(A12054=\"\",\"\",VLOOKUP(A12054,'Banco de Funcionários'!$A$2:$D$1048576,2,0)),\"\")","v":""},null,null,null,null,null,"00:00:00",null,"00:00:00","00:00:00"]
[null,{"$f":"IFERROR(IF(A12055=\"\",\"\",VLOOKUP(A12055,'Banco de Funcionários'!$A$2:$D$1048576,2,0)),\"\")","v":""},null,null,null,null,null,"00:00:00",null,"00:00:00","00:00:00"]
[null,{"$f":"IFERROR(IF(A12056=\"\",\"\",VLOOKUP(A12056,'Banco de Funcionários'!$A$2:$D$1048576,2,0)),\"\")","v":""},null,null,null,null,null,"00:00:00",null,"00:00:00","00:00:00"]
[null,{"$f":"IFERROR(IF(A12057=\"\",\"\",VLOOKUP(A12057,'Banco de Funcionários'!$A$2:$D$1048576,2,0)),\"\")","v":""},null,null,null,null,null,"00:00:00",null,"00:00:00","00:00:00"]
[null,{"$f":"IFERROR(IF(A12058=\"\",\"\",VLOOKUP(A12058,'Banco de Funcionários'!$A$2:$D$1048576,2,0)),\"\")","v":""},null,null,null,null,null,"00:00:00",null,"00:00:00","00:00:00"]
[null,{"$f":"IFERROR(IF(A12059=\"\",\"\",VLOOKUP(A12059,'Banco de Funcionários'!$A$2:$D$1048576,2,0)),\"\")","v":""},null,null,null,null,null,"00:00:00",null,"00:00:00","00:00:00"]
[null,{"$f":"IFERROR(IF(A12060=\"\",\"\",VLOOKUP(A12060,'Banco de Funcionários'!$A$2:$D$1048576,2,0)),\"\")","v":""},null,null,null,null,null,"00:00:00",null,"00:00:00","00:00:00"]
[null,{"$f":"IFERROR(IF(A12061=\"\",\"\",VLOOKUP(A12061,'Banco de Funcionários'!$A$2:$D$1048576,2,0)),\"\")","v":""},null,null,null,null,null,"00:00:00",null,"00:00:00","00:00:00"]
[null,{"$f":"IFERROR(IF(A12062=\"\",\"\",VLOOKUP(A12062,'Banco de Funcionários'!$A$2:$D$1048576,2,0)),\"\")","v":""},null,null,null,null,null,"00:00:00",null,"00:00:00","00:00:00"]
[null,{"$f":"IFERROR(IF(A12063=\"\",\"\",VLOOKUP(A12063,'Banco de Funcionários'!$A$2:$D$1048576,2,0)),\"\")","v":""},null,null,null,null,null,"00:00:00",null,"00:00:00","00:00:00"]
[null,{"$f":"IFERROR(IF(A12064=\"\",\"\",VLOOKUP(A12064,'Banco de Funcionários'!$A$2:$D$1048576,2,0)),\"\")","v":""},null,null,null,null,null,"00:00:00",null,"00:00:00","00:00:00"]
[null,{"$f":"IFERROR(IF(A12065=\"\",\"\",VLOOKUP(A12065,'Banco de Funcionários'!$A$2:$D$1048576,2,0)),\"\")","v":""},null,null,null,null,null,"00:00:00",null,"00:00:00","00:00:00"]
[null,{"$f":"IFERROR(IF(A12066=\"\",\"\",VLOOKUP(A12066,'Banco de Funcionários'!$A$2:$D$1048576,2,0)),\"\")","v":""},null,null,null,null,null,"00:00:00",null,"00:00:00","00:00:00"]
[null,{"$f":"IFERROR(IF(A12067=\"\",\"\",VLOOKUP(A12067,'Banco de Funcionários'!$A$2:$D$1048576,2,0)),\"\")","v":""},null,null,null,null,null,"00:00:00",null,"00:00:00","00:00:00"]
[null,{"$f":"IFERROR(IF(A12068=\"\",\"\",VLOOKUP(A12068,'Banco de Funcionários'!$A$2:$D$1048576,2,0)),\"\")","v":""},null,null,null,null,null,"00:00:00",null,"00:00:00","00:00:00"]
[null,{"$f":"IFERROR(IF(A12069=\"\",\"\",VLOOKUP(A12069,'Banco de Funcionários'!$A$2:$D$1048576,2,0)),\"\")","v":""},null,null,null,null,null,"00:00:00",null,"00:00:00","00:00:00"]
[null,{"$f":"IFERROR(IF(A12070=\"\",\"\",VLOOKUP(A12070,'Banco de Funcionários'!$A$2:$D$1048576,2,0)),\"\")","v":""},null,null,null,null,null,"00:00:00",null,"00:00:00","00:00:00"]
[null,{"$f":"IFERROR(IF(A12071=\"\",\"\",VLOOKUP(A12071,'Banco de Funcionários'!$A$2:$D$1048576,2,0)),\"\")","v":""},null,null,null,null,null,"00:00:00",null,"00:00:00","00:00:00"]
[null,{"$f":"IFERROR(IF(A12072=\"\",\"\",VLOOKUP(A12072,'Banco de Funcionários'!$A$2:$D$1048576,2,0)),\"\")","v":""},null,null,null,null,null,"00:00:00",null,"00:00:00","00:00:00"]
[null,{"$f":"IFERROR(IF(A12073=\"\",\"\",VLOOKUP(A12073,'Banco de Funcionários'!$A$2:$D$1048576,2,0)),\"\")","v":""},null,null,null,null,null,"00:00:00",null,"00:00:00","00:00:00"]
[null,{"$f":"IFERROR(IF(A12074=\"\",\"\",VLOOKUP(A12074,'Banco de Funcionários'!$A$2:$D$1048576,2,0)),\"\")","v":""},null,null,null,null,null,"00:00:00",null,"00:00:00","00:00:00"]
[null,{"$f":"IFERROR(IF(A12075=\"\",\"\",VLOOKUP(A12075,'Banco de Funcionários'!$A$2:$D$1048576,2,0)),\"\")","v":""},null,null,null,null,null,"00:00:00",null,"00:00:00","00:00:00"]
[null,{"$f":"IFERROR(IF(A12076=\"\",\"\",VLOOKUP(A12076,'Banco de Funcionários'!$A$2:$D$1048576,2,0)),\"\")","v":""},null,null,null,null,null,"00:00:00",null,"00:00:00","00:00:00"]
[null,{"$f":"IFERROR(IF(A12077=\"\",\"\",VLOOKUP(A12077,'Banco de Funcionários'!$A$2:$D$1048576,2,0)),\"\")","v":""},null,null,null,null,null,"00:00:00",null,"00:00:00","00:00:00"]
[null,{"$f":"IFERROR(IF(A12078=\"\",\"\",VLOOKUP(A12078,'Banco de Funcionários'!$A$2:$D$1048576,2,0)),\"\")","v":""},null,null,null,null,null,"00:00:00",null,"00:00:00","00:00:00"]
[null,{"$f":"IFERROR(IF(A12079=\"\",\"\",VLOOKUP(A12079,'Banco de Funcionários'!$A$2:$D$1048576,2,0)),\"\")","v":""},null,null,null,null,null,"00:00:00",null,"00:00:00","00:00:00"]
[null,{"$f":"IFERROR(IF(A12080=\"\",\"\",VLOOKUP(A12080,'Banco de Funcionários'!$A$2:$D$1048576,2,0)),\"\")","v":""},null,null,null,null,null,"00:00:00",null,"00:00:00","00:00:00"]
[null,{"$f":"IFERROR(IF(A12081=\"\",\"\",VLOOKUP(A12081,'Banco de Funcionários'!$A$2:$D$1048576,2,0)),\"\")","v":""},null,null,null,null,null,"00:00:00",null,"00:00:00","00:00:00"]
[null,{"$f":"IFERROR(IF(A12082=\"\",\"\",VLOOKUP(A12082,'Banco de Funcionários'!$A$2:$D$1048576,2,0)),\"\")","v":""},null,null,null,null,null,"00:00:00",null,"00:00:00","00:00:00"]
[null,{"$f":"IFERROR(IF(A12083=\"\",\"\",VLOOKUP(A12083,'Banco de Funcionários'!$A$2:$D$1048576,2,0)),\"\")","v":""},null,null,null,null,null,"00:00:00",null,"00:00:00","00:00:00"]
[null,{"$f":"IFERROR(IF(A12084=\"\",\"\",VLOOKUP(A12084,'Banco de Funcionários'!$A$2:$D$1048576,2,0)),\"\")","v":""},null,null,null,null,null,"00:00:00",null,"00:00:00","00:00:00"]
[null,{"$f":"IFERROR(IF(A12085=\"\",\"\",VLOOKUP(A12085,'Banco de Funcionários'!$A$2:$D$1048576,2,0)),\"\")","v":""},null,null,null,null,null,"00:00:00",null,"00:00:00","00:00:00"]
[null,{"$f":"IFERROR(IF(A12086=\"\",\"\",VLOOKUP(A12086,'Banco de Funcionários'!$A$2:$D$1048576,2,0)),\"\")","v":""},null,null,null,null,null,"00:00:00",null,"00:00:00","00:00:00"]
[null,{"$f":"IFERROR(IF(A12087=\"\",\"\",VLOOKUP(A12087,'Banco de Funcionários'!$A$2:$D$1048576,2,0)),\"\")","v":""},null,null,null,null,null,"00:00:00",null,"00:00:00","00:00:00"]
[null,{"$f":"IFERROR(IF(A12088=\"\",\"\",VLOOKUP(A12088,'Banco de Funcionários'!$A$2:$D$1048576,2,0)),\"\")","v":""},null,null,null,null,null,"00:00:00",null,"00:00:00","00:00:00"]
[null,{"$f":"IFERROR(IF(A12089=\"\",\"\",VLOOKUP(A12089,'Banco de Funcionários'!$A$2:$D$1048576,2,0)),\"\")","v":""},null,null,null,null,null,"00:00:00",null,"00:00:00","00:00:00"]
[null,{"$f":"IFERROR(IF(A12090=\"\",\"\",VLOOKUP(A12090,'Banco de Funcionários'!$A$2:$D$1048576,2,0)),\"\")","v":""},null,null,null,null,null,"00:00:00",null,"00:00:00","00:00:00"]
[null,{"$f":"IFERROR(IF(A12091=\"\",\"\",VLOOKUP(A12091,'Banco de Funcionários'!$A$2:$D$1048576,2,0)),\"\")","v":""},null,null,null,null,null,"00:00:00",null,"00:00:00","00:00:00"]
[null,{"$f":"IFERROR(IF(A12092=\"\",\"\",VLOOKUP(A12092,'Banco de Funcionários'!$A$2:$D$1048576,2,0)),\"\")","v":""},null,null,null,null,null,"00:00:00",null,"00:00:00","00:00:00"]
[null,{"$f":"IFERROR(IF(A12093=\"\",\"\",VLOOKUP(A12093,'Banco de Funcionários'!$A$2:$D$1048576,2,0)),\"\")","v":""},null,null,null,null,null,"00:00:00",null,"00:00:00","00:00:00"]
[null,{"$f":"IFERROR(IF(A12094=\"\",\"\",VLOOKUP(A12094,'Banco de Funcionários'!$A$2:$D$1048576,2,0)),\"\")","v":""},null,null,null,null,null,"00:00:00",null,"00:00:00","00:00:00"]
[null,{"$f":"IFERROR(IF(A12095=\"\",\"\",VLOOKUP(A12095,'Banco de Funcionários'!$A$2:$D$1048576,2,0)),\"\")","v":""},null,null,null,null,null,"00:00:00",null,"00:00:00","00:00:00"]
[null,{"$f":"IFERROR(IF(A12096=\"\",\"\",VLOOKUP(A12096,'Banco de Funcionários'!$A$2:$D$1048576,2,0)),\"\")","v":""},null,null,null,null,null,"00:00:00",null,"00:00:00","00:00:00"]
[null,{"$f":"IFERROR(IF(A12097=\"\",\"\",VLOOKUP(A12097,'Banco de Funcionários'!$A$2:$D$1048576,2,0)),\"\")","v":""},null,null,null,null,null,"00:00:00",null,"00:00:00","00:00:00"]
[null,{"$f":"IFERROR(IF(A12098=\"\",\"\",VLOOKUP(A12098,'Banco de Funcionários'!$A$2:$D$1048576,2,0)),\"\")","v":""},null,null,null,null,null,"00:00:00",null,"00:00:00","00:00:00"]
[null,{"$f":"IFERROR(IF(A12099=\"\",\"\",VLOOKUP(A12099,'Banco de Funcionários'!$A$2:$D$1048576,2,0)),\"\")","v":""},null,null,null,null,null,{"$f":"(F12099-E12099)-G12099","v":"00:00:00"},null,{"$f":"IFERROR(H12099-I12099,\"\")","v":"00:00:00"},{"$f":"IFERROR(H12099+J12099,0)","v":"00:00:00"}]
[null,{"$f":"IFERROR(IF(A12100=\"\",\"\",VLOOKUP(A12100,'Banco de Funcionários'!$A$2:$D$1048576,2,0)),\"\")","v":""},null,null,null,null,null,"00:00:00",null,"00:00:00","00:00:00"]
[null,{"$f":"IFERROR(IF(A12101=\"\",\"\",VLOOKUP(A12101,'Banco de Funcionários'!$A$2:$D$1048576,2,0)),\"\")","v":""},null,null,null,null,null,"00:00:00",null,"00:00:00","00:00:00"]
[null,{"$f":"IFERROR(IF(A12102=\"\",\"\",VLOOKUP(A12102,'Banco de Funcionários'!$A$2:$D$1048576,2,0)),\"\")","v":""},null,null,null,null,null,"00:00:00",null,"00:00:00","00:00:00"]
[null,{"$f":"IFERROR(IF(A12103=\"\",\"\",VLOOKUP(A12103,'Banco de Funcionários'!$A$2:$D$1048576,2,0)),\"\")","v":""},null,null,null,null,null,"00:00:00",null,"00:00:00","00:00:00"]
[null,{"$f":"IFERROR(IF(A12104=\"\",\"\",VLOOKUP(A12104,'Banco de Funcionários'!$A$2:$D$1048576,2,0)),\"\")","v":""},null,null,null,null,null,"00:00:00",null,"00:00:00","00:00:00"]
[null,{"$f":"IFERROR(IF(A12105=\"\",\"\",VLOOKUP(A12105,'Banco de Funcionários'!$A$2:$D$1048576,2,0)),\"\")","v":""},null,null,null,null,null,"00:00:00",null,"00:00:00","00:00:00"]
[null,{"$f":"IFERROR(IF(A12106=\"\",\"\",VLOOKUP(A12106,'Banco de Funcionários'!$A$2:$D$1048576,2,0)),\"\")","v":""},null,null,null,null,null,"00:00:00",null,"00:00:00","00:00:00"]
[null,{"$f":"IFERROR(IF(A12107=\"\",\"\",VLOOKUP(A12107,'Banco de Funcionários'!$A$2:$D$1048576,2,0)),\"\")","v":""},null,null,null,null,null,"00:00:00",null,"00:00:00","00:00:00"]
[null,{"$f":"IFERROR(IF(A12108=\"\",\"\",VLOOKUP(A12108,'Banco de Funcionários'!$A$2:$D$1048576,2,0)),\"\")","v":""},null,null,null,null,null,"00:00:00",null,"00:00:00","00:00:00"]
[null,{"$f":"IFERROR(IF(A12109=\"\",\"\",VLOOKUP(A12109,'Banco de Funcionários'!$A$2:$D$1048576,2,0)),\"\")","v":""},null,null,null,null,null,"00:00:00",null,"00:00:00","00:00:00"]
[null,{"$f":"IFERROR(IF(A12110=\"\",\"\",VLOOKUP(A12110,'Banco de Funcionários'!$A$2:$D$1048576,2,0)),\"\")","v":""},null,null,null,null,null,"00:00:00",null,"00:00:00","00:00:00"]
[null,{"$f":"IFERROR(IF(A12111=\"\",\"\",VLOOKUP(A12111,'Banco de Funcionários'!$A$2:$D$1048576,2,0)),\"\")","v":""},null,null,null,null,null,"00:00:00",null,"00:00:00","00:00:00"]
[null,{"$f":"IFERROR(IF(A12112=\"\",\"\",VLOOKUP(A12112,'Banco de Funcionários'!$A$2:$D$1048576,2,0)),\"\")","v":""},null,null,null,null,null,"00:00:00",null,"00:00:00","00:00:00"]
[null,{"$f":"IFERROR(IF(A12113=\"\",\"\",VLOOKUP(A12113,'Banco de Funcionários'!$A$2:$D$1048576,2,0)),\"\")","v":""},null,null,null,null,null,"00:00:00",null,"00:00:00","00:00:00"]
[null,{"$f":"IFERROR(IF(A12114=\"\",\"\",VLOOKUP(A12114,'Banco de Funcionários'!$A$2:$D$1048576,2,0)),\"\")","v":""},null,null,null,null,null,"00:00:00",null,"00:00:00","00:00:00"]
[null,{"$f":"IFERROR(IF(A12115=\"\",\"\",VLOOKUP(A12115,'Banco de Funcionários'!$A$2:$D$1048576,2,0)),\"\")","v":""},null,null,null,null,null,"00:00:00",null,"00:00:00","00:00:00"]
[null,{"$f":"IFERROR(IF(A12116=\"\",\"\",VLOOKUP(A12116,'Banco de Funcionários'!$A$2:$D$1048576,2,0)),\"\")","v":""},null,null,null,null,null,"00:00:00",null,"00:00:00","00:00:00"]
[null,{"$f":"IFERROR(IF(A12117=\"\",\"\",VLOOKUP(A12117,'Banco de Funcionários'!$A$2:$D$1048576,2,0)),\"\")","v":""},null,null,null,null,null,"00:00:00",null,"00:00:00","00:00:00"]
[null,{"$f":"IFERROR(IF(A12118=\"\",\"\",VLOOKUP(A12118,'Banco de Funcionários'!$A$2:$D$1048576,2,0)),\"\")","v":""},null,null,null,null,null,"00:00:00",null,"00:00:00","00:00:00"]
[null,{"$f":"IFERROR(IF(A12119=\"\",\"\",VLOOKUP(A12119,'Banco de Funcionários'!$A$2:$D$1048576,2,0)),\"\")","v":""},null,null,null,null,null,"00:00:00",null,"00:00:00","00:00:00"]
[null,{"$f":"IFERROR(IF(A12120=\"\",\"\",VLOOKUP(A12120,'Banco de Funcionários'!$A$2:$D$1048576,2,0)),\"\")","v":""},null,null,null,null,null,"00:00:00",null,"00:00:00","00:00:00"]
[null,{"$f":"IFERROR(IF(A12121=\"\",\"\",VLOOKUP(A12121,'Banco de Funcionários'!$A$2:$D$1048576,2,0)),\"\")","v":""},null,null,null,null,null,"00:00:00",null,"00:00:00","00:00:00"]
[null,{"$f":"IFERROR(IF(A12122=\"\",\"\",VLOOKUP(A12122,'Banco de Funcionários'!$A$2:$D$1048576,2,0)),\"\")","v":""},null,null,null,null,null,"00:00:00",null,"00:00:00","00:00:00"]
[null,{"$f":"IFERROR(IF(A12123=\"\",\"\",VLOOKUP(A12123,'Banco de Funcionários'!$A$2:$D$1048576,2,0)),\"\")","v":""},null,null,null,null,null,"00:00:00",null,"00:00:00","00:00:00"]
[null,{"$f":"IFERROR(IF(A12124=\"\",\"\",VLOOKUP(A12124,'Banco de Funcionários'!$A$2:$D$1048576,2,0)),\"\")","v":""},null,null,null,null,null,"00:00:00",null,"00:00:00","00:00:00"]
[null,{"$f":"IFERROR(IF(A12125=\"\",\"\",VLOOKUP(A12125,'Banco de Funcionários'!$A$2:$D$1048576,2,0)),\"\")","v":""},null,null,null,null,null,"00:00:00",null,"00:00:00","00:00:00"]
[null,{"$f":"IFERROR(IF(A12126=\"\",\"\",VLOOKUP(A12126,'Banco de Funcionários'!$A$2:$D$1048576,2,0)),\"\")","v":""},null,null,null,null,null,"00:00:00",null,"00:00:00","00:00:00"]
[null,{"$f":"IFERROR(IF(A12127=\"\",\"\",VLOOKUP(A12127,'Banco de Funcionários'!$A$2:$D$1048576,2,0)),\"\")","v":""},null,null,null,null,null,"00:00:00",null,"00:00:00","00:00:00"]
[null,{"$f":"IFERROR(IF(A12128=\"\",\"\",VLOOKUP(A12128,'Banco de Funcionários'!$A$2:$D$1048576,2,0)),\"\")","v":""},null,null,null,null,null,"00:00:00",null,"00:00:00","00:00:00"]
[null,{"$f":"IFERROR(IF(A12129=\"\",\"\",VLOOKUP(A12129,'Banco de Funcionários'!$A$2:$D$1048576,2,0)),\"\")","v":""},null,null,null,null,null,"00:00:00",null,"00:00:00","00:00:00"]
[null,{"$f":"IFERROR(IF(A12130=\"\",\"\",VLOOKUP(A12130,'Banco de Funcionários'!$A$2:$D$1048576,2,0)),\"\")","v":""},null,null,null,null,null,"00:00:00",null,"00:00:00","00:00:00"]
[null,{"$f":"IFERROR(IF(A12131=\"\",\"\",VLOOKUP(A12131,'Banco de Funcionários'!$A$2:$D$1048576,2,0)),\"\")","v":""},null,null,null,null,null,"00:00:00",null,"00:00:00","00:00:00"]
[null,{"$f":"IFERROR(IF(A12132=\"\",\"\",VLOOKUP(A12132,'Banco de Funcionários'!$A$2:$D$1048576,2,0)),\"\")","v":""},null,null,null,null,null,"00:00:00",null,"00:00:00","00:00:00"]
[null,{"$f":"IFERROR(IF(A12133=\"\",\"\",VLOOKUP(A12133,'Banco de Funcionários'!$A$2:$D$1048576,2,0)),\"\")","v":""},null,null,null,null,null,"00:00:00",null,"00:00:00","00:00:00"]
[null,{"$f":"IFERROR(IF(A12134=\"\",\"\",VLOOKUP(A12134,'Banco de Funcionários'!$A$2:$D$1048576,2,0)),\"\")","v":""},null,null,null,null,null,"00:00:00",null,"00:00:00","00:00:00"]
[null,{"$f":"IFERROR(IF(A12135=\"\",\"\",VLOOKUP(A12135,'Banco de Funcionários'!$A$2:$D$1048576,2,0)),\"\")","v":""},null,null,null,null,null,"00:00:00",null,"00:00:00","00:00:00"]
[null,{"$f":"IFERROR(IF(A12136=\"\",\"\",VLOOKUP(A12136,'Banco de Funcionários'!$A$2:$D$1048576,2,0)),\"\")","v":""},null,null,null,null,null,"00:00:00",null,"00:00:00","00:00:00"]
[null,{"$f":"IFERROR(IF(A12137=\"\",\"\",VLOOKUP(A12137,'Banco de Funcionários'!$A$2:$D$1048576,2,0)),\"\")","v":""},null,null,null,null,null,"00:00:00",null,"00:00:00","00:00:00"]
[null,{"$f":"IFERROR(IF(A12138=\"\",\"\",VLOOKUP(A12138,'Banco de Funcionários'!$A$2:$D$1048576,2,0)),\"\")","v":""},null,null,null,null,null,"00:00:00",null,"00:00:00","00:00:00"]
[null,{"$f":"IFERROR(IF(A12139=\"\",\"\",VLOOKUP(A12139,'Banco de Funcionários'!$A$2:$D$1048576,2,0)),\"\")","v":""},null,null,null,null,null,"00:00:00",null,"00:00:00","00:00:00"]
[null,{"$f":"IFERROR(IF(A12140=\"\",\"\",VLOOKUP(A12140,'Banco de Funcionários'!$A$2:$D$1048576,2,0)),\"\")","v":""},null,null,null,null,null,"00:00:00",null,"00:00:00","00:00:00"]
[null,{"$f":"IFERROR(IF(A12141=\"\",\"\",VLOOKUP(A12141,'Banco de Funcionários'!$A$2:$D$1048576,2,0)),\"\")","v":""},null,null,null,null,null,"00:00:00",null,"00:00:00","00:00:00"]
[null,{"$f":"IFERROR(IF(A12142=\"\",\"\",VLOOKUP(A12142,'Banco de Funcionários'!$A$2:$D$1048576,2,0)),\"\")","v":""},null,null,null,null,null,"00:00:00",null,"00:00:00","00:00:00"]
[null,{"$f":"IFERROR(IF(A12143=\"\",\"\",VLOOKUP(A12143,'Banco de Funcionários'!$A$2:$D$1048576,2,0)),\"\")","v":""},null,null,null,null,null,"00:00:00",null,"00:00:00","00:00:00"]
[null,{"$f":"IFERROR(IF(A12144=\"\",\"\",VLOOKUP(A12144,'Banco de Funcionários'!$A$2:$D$1048576,2,0)),\"\")","v":""},null,null,null,null,null,"00:00:00",null,"00:00:00","00:00:00"]
[null,{"$f":"IFERROR(IF(A12145=\"\",\"\",VLOOKUP(A12145,'Banco de Funcionários'!$A$2:$D$1048576,2,0)),\"\")","v":""},null,null,null,null,null,"00:00:00",null,"00:00:00","00:00:00"]
[null,{"$f":"IFERROR(IF(A12146=\"\",\"\",VLOOKUP(A12146,'Banco de Funcionários'!$A$2:$D$1048576,2,0)),\"\")","v":""},null,null,null,null,null,"00:00:00",null,"00:00:00","00:00:00"]
[null,{"$f":"IFERROR(IF(A12147=\"\",\"\",VLOOKUP(A12147,'Banco de Funcionários'!$A$2:$D$1048576,2,0)),\"\")","v":""},null,null,null,null,null,"00:00:00",null,"00:00:00","00:00:00"]
[null,{"$f":"IFERROR(IF(A12148=\"\",\"\",VLOOKUP(A12148,'Banco de Funcionários'!$A$2:$D$1048576,2,0)),\"\")","v":""},null,null,null,null,null,"00:00:00",null,"00:00:00","00:00:00"]
[null,{"$f":"IFERROR(IF(A12149=\"\",\"\",VLOOKUP(A12149,'Banco de Funcionários'!$A$2:$D$1048576,2,0)),\"\")","v":""},null,null,null,null,null,"00:00:00",null,"00:00:00","00:00:00"]
[null,{"$f":"IFERROR(IF(A12150=\"\",\"\",VLOOKUP(A12150,'Banco de Funcionários'!$A$2:$D$1048576,2,0)),\"\")","v":""},null,null,null,null,null,"00:00:00",null,"00:00:00","00:00:00"]
[null,{"$f":"IFERROR(IF(A12151=\"\",\"\",VLOOKUP(A12151,'Banco de Funcionários'!$A$2:$D$1048576,2,0)),\"\")","v":""},null,null,null,null,null,"00:00:00",null,"00:00:00","00:00:00"]
[null,{"$f":"IFERROR(IF(A12152=\"\",\"\",VLOOKUP(A12152,'Banco de Funcionários'!$A$2:$D$1048576,2,0)),\"\")","v":""},null,null,null,null,null,"00:00:00",null,"00:00:00","00:00:00"]
[null,{"$f":"IFERROR(IF(A12153=\"\",\"\",VLOOKUP(A12153,'Banco de Funcionários'!$A$2:$D$1048576,2,0)),\"\")","v":""},null,null,null,null,null,"00:00:00",null,"00:00:00","00:00:00"]
[null,{"$f":"IFERROR(IF(A12154=\"\",\"\",VLOOKUP(A12154,'Banco de Funcionários'!$A$2:$D$1048576,2,0)),\"\")","v":""},null,null,null,null,null,"00:00:00",null,"00:00:00","00:00:00"]
[null,{"$f":"IFERROR(IF(A12155=\"\",\"\",VLOOKUP(A12155,'Banco de Funcionários'!$A$2:$D$1048576,2,0)),\"\")","v":""},null,null,null,null,null,"00:00:00",null,"00:00:00","00:00:00"]
[null,{"$f":"IFERROR(IF(A12156=\"\",\"\",VLOOKUP(A12156,'Banco de Funcionários'!$A$2:$D$1048576,2,0)),\"\")","v":""},null,null,null,null,null,"00:00:00",null,"00:00:00","00:00:00"]
[null,{"$f":"IFERROR(IF(A12157=\"\",\"\",VLOOKUP(A12157,'Banco de Funcionários'!$A$2:$D$1048576,2,0)),\"\")","v":""},null,null,null,null,null,"00:00:00",null,"00:00:00","00:00:00"]
[null,{"$f":"IFERROR(IF(A12158=\"\",\"\",VLOOKUP(A12158,'Banco de Funcionários'!$A$2:$D$1048576,2,0)),\"\")","v":""},null,null,null,null,null,"00:00:00",null,"00:00:00","00:00:00"]
[null,{"$f":"IFERROR(IF(A12159=\"\",\"\",VLOOKUP(A12159,'Banco de Funcionários'!$A$2:$D$1048576,2,0)),\"\")","v":""},null,null,null,null,null,"00:00:00",null,"00:00:00","00:00:00"]
[null,{"$f":"IFERROR(IF(A12160=\"\",\"\",VLOOKUP(A12160,'Banco de Funcionários'!$A$2:$D$1048576,2,0)),\"\")","v":""},null,null,null,null,null,"00:00:00",null,"00:00:00","00:00:00"]
[null,{"$f":"IFERROR(IF(A12161=\"\",\"\",VLOOKUP(A12161,'Banco de Funcionários'!$A$2:$D$1048576,2,0)),\"\")","v":""},null,null,null,null,null,"00:00:00",null,"00:00:00","00:00:00"]
[null,{"$f":"IFERROR(IF(A12162=\"\",\"\",VLOOKUP(A12162,'Banco de Funcionários'!$A$2:$D$1048576,2,0)),\"\")","v":""},null,null,null,null,null,"00:00:00",null,"00:00:00","00:00:00"]
[null,{"$f":"IFERROR(IF(A12163=\"\",\"\",VLOOKUP(A12163,'Banco de Funcionários'!$A$2:$D$1048576,2,0)),\"\")","v":""},null,null,null,null,null,{"$f":"(F12163-E12163)-G12163","v":"00:00:00"},null,{"$f":"IFERROR(H12163-I12163,\"\")","v":"00:00:00"},{"$f":"IFERROR(H12163+J12163,0)","v":"00:00:00"}]
[null,{"$f":"IFERROR(IF(A12164=\"\",\"\",VLOOKUP(A12164,'Banco de Funcionários'!$A$2:$D$1048576,2,0)),\"\")","v":""},null,null,null,null,null,"00:00:00",null,"00:00:00","00:00:00"]
[null,{"$f":"IFERROR(IF(A12165=\"\",\"\",VLOOKUP(A12165,'Banco de Funcionários'!$A$2:$D$1048576,2,0)),\"\")","v":""},null,null,null,null,null,"00:00:00",null,"00:00:00","00:00:00"]
[null,{"$f":"IFERROR(IF(A12166=\"\",\"\",VLOOKUP(A12166,'Banco de Funcionários'!$A$2:$D$1048576,2,0)),\"\")","v":""},null,null,null,null,null,"00:00:00",null,"00:00:00","00:00:00"]
[null,{"$f":"IFERROR(IF(A12167=\"\",\"\",VLOOKUP(A12167,'Banco de Funcionários'!$A$2:$D$1048576,2,0)),\"\")","v":""},null,null,null,null,null,"00:00:00",null,"00:00:00","00:00:00"]
[null,{"$f":"IFERROR(IF(A12168=\"\",\"\",VLOOKUP(A12168,'Banco de Funcionários'!$A$2:$D$1048576,2,0)),\"\")","v":""},null,null,null,null,null,"00:00:00",null,"00:00:00","00:00:00"]
[null,{"$f":"IFERROR(IF(A12169=\"\",\"\",VLOOKUP(A12169,'Banco de Funcionários'!$A$2:$D$1048576,2,0)),\"\")","v":""},null,null,null,null,null,"00:00:00",null,"00:00:00","00:00:00"]
[null,{"$f":"IFERROR(IF(A12170=\"\",\"\",VLOOKUP(A12170,'Banco de Funcionários'!$A$2:$D$1048576,2,0)),\"\")","v":""},null,null,null,null,null,"00:00:00",null,"00:00:00","00:00:00"]
[null,{"$f":"IFERROR(IF(A12171=\"\",\"\",VLOOKUP(A12171,'Banco de Funcionários'!$A$2:$D$1048576,2,0)),\"\")","v":""},null,null,null,null,null,"00:00:00",null,"00:00:00","00:00:00"]
[null,{"$f":"IFERROR(IF(A12172=\"\",\"\",VLOOKUP(A12172,'Banco de Funcionários'!$A$2:$D$1048576,2,0)),\"\")","v":""},null,null,null,null,null,"00:00:00",null,"00:00:00","00:00:00"]
[null,{"$f":"IFERROR(IF(A12173=\"\",\"\",VLOOKUP(A12173,'Banco de Funcionários'!$A$2:$D$1048576,2,0)),\"\")","v":""},null,null,null,null,null,"00:00:00",null,"00:00:00","00:00:00"]
[null,{"$f":"IFERROR(IF(A12174=\"\",\"\",VLOOKUP(A12174,'Banco de Funcionários'!$A$2:$D$1048576,2,0)),\"\")","v":""},null,null,null,null,null,"00:00:00",null,"00:00:00","00:00:00"]
[null,{"$f":"IFERROR(IF(A12175=\"\",\"\",VLOOKUP(A12175,'Banco de Funcionários'!$A$2:$D$1048576,2,0)),\"\")","v":""},null,null,null,null,null,"00:00:00",null,"00:00:00","00:00:00"]
[null,{"$f":"IFERROR(IF(A12176=\"\",\"\",VLOOKUP(A12176,'Banco de Funcionários'!$A$2:$D$1048576,2,0)),\"\")","v":""},null,null,null,null,null,"00:00:00",null,"00:00:00","00:00:00"]
[null,{"$f":"IFERROR(IF(A12177=\"\",\"\",VLOOKUP(A12177,'Banco de Funcionários'!$A$2:$D$1048576,2,0)),\"\")","v":""},null,null,null,null,null,"00:00:00",null,"00:00:00","00:00:00"]
[null,{"$f":"IFERROR(IF(A12178=\"\",\"\",VLOOKUP(A12178,'Banco de Funcionários'!$A$2:$D$1048576,2,0)),\"\")","v":""},null,null,null,null,null,"00:00:00",null,"00:00:00","00:00:00"]
[null,{"$f":"IFERROR(IF(A12179=\"\",\"\",VLOOKUP(A12179,'Banco de Funcionários'!$A$2:$D$1048576,2,0)),\"\")","v":""},null,null,null,null,null,"00:00:00",null,"00:00:00","00:00:00"]
[null,{"$f":"IFERROR(IF(A12180=\"\",\"\",VLOOKUP(A12180,'Banco de Funcionários'!$A$2:$D$1048576,2,0)),\"\")","v":""},null,null,null,null,null,"00:00:00",null,"00:00:00","00:00:00"]
[null,{"$f":"IFERROR(IF(A12181=\"\",\"\",VLOOKUP(A12181,'Banco de Funcionários'!$A$2:$D$1048576,2,0)),\"\")","v":""},null,null,null,null,null,"00:00:00",null,"00:00:00","00:00:00"]
[null,{"$f":"IFERROR(IF(A12182=\"\",\"\",VLOOKUP(A12182,'Banco de Funcionários'!$A$2:$D$1048576,2,0)),\"\")","v":""},null,null,null,null,null,"00:00:00",null,"00:00:00","00:00:00"]
[null,{"$f":"IFERROR(IF(A12183=\"\",\"\",VLOOKUP(A12183,'Banco de Funcionários'!$A$2:$D$1048576,2,0)),\"\")","v":""},null,null,null,null,null,"00:00:00",null,"00:00:00","00:00:00"]
[null,{"$f":"IFERROR(IF(A12184=\"\",\"\",VLOOKUP(A12184,'Banco de Funcionários'!$A$2:$D$1048576,2,0)),\"\")","v":""},null,null,null,null,null,"00:00:00",null,"00:00:00","00:00:00"]
[null,{"$f":"IFERROR(IF(A12185=\"\",\"\",VLOOKUP(A12185,'Banco de Funcionários'!$A$2:$D$1048576,2,0)),\"\")","v":""},null,null,null,null,null,"00:00:00",null,"00:00:00","00:00:00"]
[null,{"$f":"IFERROR(IF(A12186=\"\",\"\",VLOOKUP(A12186,'Banco de Funcionários'!$A$2:$D$1048576,2,0)),\"\")","v":""},null,null,null,null,null,"00:00:00",null,"00:00:00","00:00:00"]
[null,{"$f":"IFERROR(IF(A12187=\"\",\"\",VLOOKUP(A12187,'Banco de Funcionários'!$A$2:$D$1048576,2,0)),\"\")","v":""},null,null,null,null,null,"00:00:00",null,"00:00:00","00:00:00"]
[null,{"$f":"IFERROR(IF(A12188=\"\",\"\",VLOOKUP(A12188,'Banco de Funcionários'!$A$2:$D$1048576,2,0)),\"\")","v":""},null,null,null,null,null,"00:00:00",null,"00:00:00","00:00:00"]
[null,{"$f":"IFERROR(IF(A12189=\"\",\"\",VLOOKUP(A12189,'Banco de Funcionários'!$A$2:$D$1048576,2,0)),\"\")","v":""},null,null,null,null,null,"00:00:00",null,"00:00:00","00:00:00"]
[null,{"$f":"IFERROR(IF(A12190=\"\",\"\",VLOOKUP(A12190,'Banco de Funcionários'!$A$2:$D$1048576,2,0)),\"\")","v":""},null,null,null,null,null,"00:00:00",null,"00:00:00","00:00:00"]
[null,{"$f":"IFERROR(IF(A12191=\"\",\"\",VLOOKUP(A12191,'Banco de Funcionários'!$A$2:$D$1048576,2,0)),\"\")","v":""},null,null,null,null,null,"00:00:00",null,"00:00:00","00:00:00"]
[null,{"$f":"IFERROR(IF(A12192=\"\",\"\",VLOOKUP(A12192,'Banco de Funcionários'!$A$2:$D$1048576,2,0)),\"\")","v":""},null,null,null,null,null,"00:00:00",null,"00:00:00","00:00:00"]
[null,{"$f":"IFERROR(IF(A12193=\"\",\"\",VLOOKUP(A12193,'Banco de Funcionários'!$A$2:$D$1048576,2,0)),\"\")","v":""},null,null,null,null,null,"00:00:00",null,"00:00:00","00:00:00"]
[null,{"$f":"IFERROR(IF(A12194=\"\",\"\",VLOOKUP(A12194,'Banco de Funcionários'!$A$2:$D$1048576,2,0)),\"\")","v":""},null,null,null,null,null,"00:00:00",null,"00:00:00","00:00:00"]
[null,{"$f":"IFERROR(IF(A12195=\"\",\"\",VLOOKUP(A12195,'Banco de Funcionários'!$A$2:$D$1048576,2,0)),\"\")","v":""},null,null,null,null,null,"00:00:00",null,"00:00:00","00:00:00"]
[null,{"$f":"IFERROR(IF(A12196=\"\",\"\",VLOOKUP(A12196,'Banco de Funcionários'!$A$2:$D$1048576,2,0)),\"\")","v":""},null,null,null,null,null,"00:00:00",null,"00:00:00","00:00:00"]
[null,{"$f":"IFERROR(IF(A12197=\"\",\"\",VLOOKUP(A12197,'Banco de Funcionários'!$A$2:$D$1048576,2,0)),\"\")","v":""},null,null,null,null,null,"00:00:00",null,"00:00:00","00:00:00"]
[null,{"$f":"IFERROR(IF(A12198=\"\",\"\",VLOOKUP(A12198,'Banco de Funcionários'!$A$2:$D$1048576,2,0)),\"\")","v":""},null,null,null,null,null,"00:00:00",null,"00:00:00","00:00:00"]
[null,{"$f":"IFERROR(IF(A12199=\"\",\"\",VLOOKUP(A12199,'Banco de Funcionários'!$A$2:$D$1048576,2,0)),\"\")","v":""},null,null,null,null,null,"00:00:00",null,"00:00:00","00:00:00"]
[null,{"$f":"IFERROR(IF(A12200=\"\",\"\",VLOOKUP(A12200,'Banco de Funcionários'!$A$2:$D$1048576,2,0)),\"\")","v":""},null,null,null,null,null,"00:00:00",null,"00:00:00","00:00:00"]
[null,{"$f":"IFERROR(IF(A12201=\"\",\"\",VLOOKUP(A12201,'Banco de Funcionários'!$A$2:$D$1048576,2,0)),\"\")","v":""},null,null,null,null,null,"00:00:00",null,"00:00:00","00:00:00"]
[null,{"$f":"IFERROR(IF(A12202=\"\",\"\",VLOOKUP(A12202,'Banco de Funcionários'!$A$2:$D$1048576,2,0)),\"\")","v":""},null,null,null,null,null,"00:00:00",null,"00:00:00","00:00:00"]
[null,{"$f":"IFERROR(IF(A12203=\"\",\"\",VLOOKUP(A12203,'Banco de Funcionários'!$A$2:$D$1048576,2,0)),\"\")","v":""},null,null,null,null,null,"00:00:00",null,"00:00:00","00:00:00"]
[null,{"$f":"IFERROR(IF(A12204=\"\",\"\",VLOOKUP(A12204,'Banco de Funcionários'!$A$2:$D$1048576,2,0)),\"\")","v":""},null,null,null,null,null,"00:00:00",null,"00:00:00","00:00:00"]
[null,{"$f":"IFERROR(IF(A12205=\"\",\"\",VLOOKUP(A12205,'Banco de Funcionários'!$A$2:$D$1048576,2,0)),\"\")","v":""},null,null,null,null,null,"00:00:00",null,"00:00:00","00:00:00"]
[null,{"$f":"IFERROR(IF(A12206=\"\",\"\",VLOOKUP(A12206,'Banco de Funcionários'!$A$2:$D$1048576,2,0)),\"\")","v":""},null,null,null,null,null,"00:00:00",null,"00:00:00","00:00:00"]
[null,{"$f":"IFERROR(IF(A12207=\"\",\"\",VLOOKUP(A12207,'Banco de Funcionários'!$A$2:$D$1048576,2,0)),\"\")","v":""},null,null,null,null,null,"00:00:00",null,"00:00:00","00:00:00"]
[null,{"$f":"IFERROR(IF(A12208=\"\",\"\",VLOOKUP(A12208,'Banco de Funcionários'!$A$2:$D$1048576,2,0)),\"\")","v":""},null,null,null,null,null,"00:00:00",null,"00:00:00","00:00:00"]
[null,{"$f":"IFERROR(IF(A12209=\"\",\"\",VLOOKUP(A12209,'Banco de Funcionários'!$A$2:$D$1048576,2,0)),\"\")","v":""},null,null,null,null,null,"00:00:00",null,"00:00:00","00:00:00"]
[null,{"$f":"IFERROR(IF(A12210=\"\",\"\",VLOOKUP(A12210,'Banco de Funcionários'!$A$2:$D$1048576,2,0)),\"\")","v":""},null,null,null,null,null,"00:00:00",null,"00:00:00","00:00:00"]
[null,{"$f":"IFERROR(IF(A12211=\"\",\"\",VLOOKUP(A12211,'Banco de Funcionários'!$A$2:$D$1048576,2,0)),\"\")","v":""},null,null,null,null,null,"00:00:00",null,"00:00:00","00:00:00"]
[null,{"$f":"IFERROR(IF(A12212=\"\",\"\",VLOOKUP(A12212,'Banco de Funcionários'!$A$2:$D$1048576,2,0)),\"\")","v":""},null,null,null,null,null,"00:00:00",null,"00:00:00","00:00:00"]
[null,{"$f":"IFERROR(IF(A12213=\"\",\"\",VLOOKUP(A12213,'Banco de Funcionários'!$A$2:$D$1048576,2,0)),\"\")","v":""},null,null,null,null,null,"00:00:00",null,"00:00:00","00:00:00"]
[null,{"$f":"IFERROR(IF(A12214=\"\",\"\",VLOOKUP(A12214,'Banco de Funcionários'!$A$2:$D$1048576,2,0)),\"\")","v":""},null,null,null,null,null,"00:00:00",null,"00:00:00","00:00:00"]
[null,{"$f":"IFERROR(IF(A12215=\"\",\"\",VLOOKUP(A12215,'Banco de Funcionários'!$A$2:$D$1048576,2,0)),\"\")","v":""},null,null,null,null,null,"00:00:00",null,"00:00:00","00:00:00"]
[null,{"$f":"IFERROR(IF(A12216=\"\",\"\",VLOOKUP(A12216,'Banco de Funcionários'!$A$2:$D$1048576,2,0)),\"\")","v":""},null,null,null,null,null,"00:00:00",null,"00:00:00","00:00:00"]
[null,{"$f":"IFERROR(IF(A12217=\"\",\"\",VLOOKUP(A12217,'Banco de Funcionários'!$A$2:$D$1048576,2,0)),\"\")","v":""},null,null,null,null,null,"00:00:00",null,"00:00:00","00:00:00"]
[null,{"$f":"IFERROR(IF(A12218=\"\",\"\",VLOOKUP(A12218,'Banco de Funcionários'!$A$2:$D$1048576,2,0)),\"\")","v":""},null,null,null,null,null,"00:00:00",null,"00:00:00","00:00:00"]
[null,{"$f":"IFERROR(IF(A12219=\"\",\"\",VLOOKUP(A12219,'Banco de Funcionários'!$A$2:$D$1048576,2,0)),\"\")","v":""},null,null,null,null,null,"00:00:00",null,"00:00:00","00:00:00"]
[null,{"$f":"IFERROR(IF(A12220=\"\",\"\",VLOOKUP(A12220,'Banco de Funcionários'!$A$2:$D$1048576,2,0)),\"\")","v":""},null,null,null,null,null,"00:00:00",null,"00:00:00","00:00:00"]
[null,{"$f":"IFERROR(IF(A12221=\"\",\"\",VLOOKUP(A12221,'Banco de Funcionários'!$A$2:$D$1048576,2,0)),\"\")","v":""},null,null,null,null,null,"00:00:00",null,"00:00:00","00:00:00"]
[null,{"$f":"IFERROR(IF(A12222=\"\",\"\",VLOOKUP(A12222,'Banco de Funcionários'!$A$2:$D$1048576,2,0)),\"\")","v":""},null,null,null,null,null,"00:00:00",null,"00:00:00","00:00:00"]
[null,{"$f":"IFERROR(IF(A12223=\"\",\"\",VLOOKUP(A12223,'Banco de Funcionários'!$A$2:$D$1048576,2,0)),\"\")","v":""},null,null,null,null,null,"00:00:00",null,"00:00:00","00:00:00"]
[null,{"$f":"IFERROR(IF(A12224=\"\",\"\",VLOOKUP(A12224,'Banco de Funcionários'!$A$2:$D$1048576,2,0)),\"\")","v":""},null,null,null,null,null,"00:00:00",null,"00:00:00","00:00:00"]
[null,{"$f":"IFERROR(IF(A12225=\"\",\"\",VLOOKUP(A12225,'Banco de Funcionários'!$A$2:$D$1048576,2,0)),\"\")","v":""},null,null,null,null,null,"00:00:00",null,"00:00:00","00:00:00"]
[null,{"$f":"IFERROR(IF(A12226=\"\",\"\",VLOOKUP(A12226,'Banco de Funcionários'!$A$2:$D$1048576,2,0)),\"\")","v":""},null,null,null,null,null,"00:00:00",null,"00:00:00","00:00:00"]
[null,{"$f":"IFERROR(IF(A12227=\"\",\"\",VLOOKUP(A12227,'Banco de Funcionários'!$A$2:$D$1048576,2,0)),\"\")","v":""},null,null,null,null,null,{"$f":"(F12227-E12227)-G12227","v":"00:00:00"},null,{"$f":"IFERROR(H12227-I12227,\"\")","v":"00:00:00"},{"$f":"IFERROR(H12227+J12227,0)","v":"00:00:00"}]
[null,{"$f":"IFERROR(IF(A12228=\"\",\"\",VLOOKUP(A12228,'Banco de Funcionários'!$A$2:$D$1048576,2,0)),\"\")","v":""},null,null,null,null,null,"00:00:00",null,"00:00:00","00:00:00"]
[null,{"$f":"IFERROR(IF(A12229=\"\",\"\",VLOOKUP(A12229,'Banco de Funcionários'!$A$2:$D$1048576,2,0)),\"\")","v":""},null,null,null,null,null,"00:00:00",null,"00:00:00","00:00:00"]
[null,{"$f":"IFERROR(IF(A12230=\"\",\"\",VLOOKUP(A12230,'Banco de Funcionários'!$A$2:$D$1048576,2,0)),\"\")","v":""},null,null,null,null,null,"00:00:00",null,"00:00:00","00:00:00"]
[null,{"$f":"IFERROR(IF(A12231=\"\",\"\",VLOOKUP(A12231,'Banco de Funcionários'!$A$2:$D$1048576,2,0)),\"\")","v":""},null,null,null,null,null,"00:00:00",null,"00:00:00","00:00:00"]
[null,{"$f":"IFERROR(IF(A12232=\"\",\"\",VLOOKUP(A12232,'Banco de Funcionários'!$A$2:$D$1048576,2,0)),\"\")","v":""},null,null,null,null,null,"00:00:00",null,"00:00:00","00:00:00"]
[null,{"$f":"IFERROR(IF(A12233=\"\",\"\",VLOOKUP(A12233,'Banco de Funcionários'!$A$2:$D$1048576,2,0)),\"\")","v":""},null,null,null,null,null,"00:00:00",null,"00:00:00","00:00:00"]
[null,{"$f":"IFERROR(IF(A12234=\"\",\"\",VLOOKUP(A12234,'Banco de Funcionários'!$A$2:$D$1048576,2,0)),\"\")","v":""},null,null,null,null,null,"00:00:00",null,"00:00:00","00:00:00"]
[null,{"$f":"IFERROR(IF(A12235=\"\",\"\",VLOOKUP(A12235,'Banco de Funcionários'!$A$2:$D$1048576,2,0)),\"\")","v":""},null,null,null,null,null,"00:00:00",null,"00:00:00","00:00:00"]
[null,{"$f":"IFERROR(IF(A12236=\"\",\"\",VLOOKUP(A12236,'Banco de Funcionários'!$A$2:$D$1048576,2,0)),\"\")","v":""},null,null,null,null,null,"00:00:00",null,"00:00:00","00:00:00"]
[null,{"$f":"IFERROR(IF(A12237=\"\",\"\",VLOOKUP(A12237,'Banco de Funcionários'!$A$2:$D$1048576,2,0)),\"\")","v":""},null,null,null,null,null,"00:00:00",null,"00:00:00","00:00:00"]
[null,{"$f":"IFERROR(IF(A12238=\"\",\"\",VLOOKUP(A12238,'Banco de Funcionários'!$A$2:$D$1048576,2,0)),\"\")","v":""},null,null,null,null,null,"00:00:00",null,"00:00:00","00:00:00"]
[null,{"$f":"IFERROR(IF(A12239=\"\",\"\",VLOOKUP(A12239,'Banco de Funcionários'!$A$2:$D$1048576,2,0)),\"\")","v":""},null,null,null,null,null,"00:00:00",null,"00:00:00","00:00:00"]
[null,{"$f":"IFERROR(IF(A12240=\"\",\"\",VLOOKUP(A12240,'Banco de Funcionários'!$A$2:$D$1048576,2,0)),\"\")","v":""},null,null,null,null,null,"00:00:00",null,"00:00:00","00:00:00"]
[null,{"$f":"IFERROR(IF(A12241=\"\",\"\",VLOOKUP(A12241,'Banco de Funcionários'!$A$2:$D$1048576,2,0)),\"\")","v":""},null,null,null,null,null,"00:00:00",null,"00:00:00","00:00:00"]
[null,{"$f":"IFERROR(IF(A12242=\"\",\"\",VLOOKUP(A12242,'Banco de Funcionários'!$A$2:$D$1048576,2,0)),\"\")","v":""},null,null,null,null,null,"00:00:00",null,"00:00:00","00:00:00"]
[null,{"$f":"IFERROR(IF(A12243=\"\",\"\",VLOOKUP(A12243,'Banco de Funcionários'!$A$2:$D$1048576,2,0)),\"\")","v":""},null,null,null,null,null,"00:00:00",null,"00:00:00","00:00:00"]
[null,{"$f":"IFERROR(IF(A12244=\"\",\"\",VLOOKUP(A12244,'Banco de Funcionários'!$A$2:$D$1048576,2,0)),\"\")","v":""},null,null,null,null,null,"00:00:00",null,"00:00:00","00:00:00"]
[null,{"$f":"IFERROR(IF(A12245=\"\",\"\",VLOOKUP(A12245,'Banco de Funcionários'!$A$2:$D$1048576,2,0)),\"\")","v":""},null,null,null,null,null,"00:00:00",null,"00:00:00","00:00:00"]
[null,{"$f":"IFERROR(IF(A12246=\"\",\"\",VLOOKUP(A12246,'Banco de Funcionários'!$A$2:$D$1048576,2,0)),\"\")","v":""},null,null,null,null,null,"00:00:00",null,"00:00:00","00:00:00"]
[null,{"$f":"IFERROR(IF(A12247=\"\",\"\",VLOOKUP(A12247,'Banco de Funcionários'!$A$2:$D$1048576,2,0)),\"\")","v":""},null,null,null,null,null,"00:00:00",null,"00:00:00","00:00:00"]
[null,{"$f":"IFERROR(IF(A12248=\"\",\"\",VLOOKUP(A12248,'Banco de Funcionários'!$A$2:$D$1048576,2,0)),\"\")","v":""},null,null,null,null,null,"00:00:00",null,"00:00:00","00:00:00"]
[null,{"$f":"IFERROR(IF(A12249=\"\",\"\",VLOOKUP(A12249,'Banco de Funcionários'!$A$2:$D$1048576,2,0)),\"\")","v":""},null,null,null,null,null,"00:00:00",null,"00:00:00","00:00:00"]
[null,{"$f":"IFERROR(IF(A12250=\"\",\"\",VLOOKUP(A12250,'Banco de Funcionários'!$A$2:$D$1048576,2,0)),\"\")","v":""},null,null,null,null,null,"00:00:00",null,"00:00:00","00:00:00"]
[null,{"$f":"IFERROR(IF(A12251=\"\",\"\",VLOOKUP(A12251,'Banco de Funcionários'!$A$2:$D$1048576,2,0)),\"\")","v":""},null,null,null,null,null,"00:00:00",null,"00:00:00","00:00:00"]
[null,{"$f":"IFERROR(IF(A12252=\"\",\"\",VLOOKUP(A12252,'Banco de Funcionários'!$A$2:$D$1048576,2,0)),\"\")","v":""},null,null,null,null,null,"00:00:00",null,"00:00:00","00:00:00"]
[null,{"$f":"IFERROR(IF(A12253=\"\",\"\",VLOOKUP(A12253,'Banco de Funcionários'!$A$2:$D$1048576,2,0)),\"\")","v":""},null,null,null,null,null,"00:00:00",null,"00:00:00","00:00:00"]
[null,{"$f":"IFERROR(IF(A12254=\"\",\"\",VLOOKUP(A12254,'Banco de Funcionários'!$A$2:$D$1048576,2,0)),\"\")","v":""},null,null,null,null,null,"00:00:00",null,"00:00:00","00:00:00"]
[null,{"$f":"IFERROR(IF(A12255=\"\",\"\",VLOOKUP(A12255,'Banco de Funcionários'!$A$2:$D$1048576,2,0)),\"\")","v":""},null,null,null,null,null,"00:00:00",null,"00:00:00","00:00:00"]
[null,{"$f":"IFERROR(IF(A12256=\"\",\"\",VLOOKUP(A12256,'Banco de Funcionários'!$A$2:$D$1048576,2,0)),\"\")","v":""},null,null,null,null,null,"00:00:00",null,"00:00:00","00:00:00"]
[null,{"$f":"IFERROR(IF(A12257=\"\",\"\",VLOOKUP(A12257,'Banco de Funcionários'!$A$2:$D$1048576,2,0)),\"\")","v":""},null,null,null,null,null,"00:00:00",null,"00:00:00","00:00:00"]
[null,{"$f":"IFERROR(IF(A12258=\"\",\"\",VLOOKUP(A12258,'Banco de Funcionários'!$A$2:$D$1048576,2,0)),\"\")","v":""},null,null,null,null,null,"00:00:00",null,"00:00:00","00:00:00"]
[null,{"$f":"IFERROR(IF(A12259=\"\",\"\",VLOOKUP(A12259,'Banco de Funcionários'!$A$2:$D$1048576,2,0)),\"\")","v":""},null,null,null,null,null,"00:00:00",null,"00:00:00","00:00:00"]
[null,{"$f":"IFERROR(IF(A12260=\"\",\"\",VLOOKUP(A12260,'Banco de Funcionários'!$A$2:$D$1048576,2,0)),\"\")","v":""},null,null,null,null,null,"00:00:00",null,"00:00:00","00:00:00"]
[null,{"$f":"IFERROR(IF(A12261=\"\",\"\",VLOOKUP(A12261,'Banco de Funcionários'!$A$2:$D$1048576,2,0)),\"\")","v":""},null,null,null,null,null,"00:00:00",null,"00:00:00","00:00:00"]
[null,{"$f":"IFERROR(IF(A12262=\"\",\"\",VLOOKUP(A12262,'Banco de Funcionários'!$A$2:$D$1048576,2,0)),\"\")","v":""},null,null,null,null,null,"00:00:00",null,"00:00:00","00:00:00"]
[null,{"$f":"IFERROR(IF(A12263=\"\",\"\",VLOOKUP(A12263,'Banco de Funcionários'!$A$2:$D$1048576,2,0)),\"\")","v":""},null,null,null,null,null,"00:00:00",null,"00:00:00","00:00:00"]
[null,{"$f":"IFERROR(IF(A12264=\"\",\"\",VLOOKUP(A12264,'Banco de Funcionários'!$A$2:$D$1048576,2,0)),\"\")","v":""},null,null,null,null,null,"00:00:00",null,"00:00:00","00:00:00"]
[null,{"$f":"IFERROR(IF(A12265=\"\",\"\",VLOOKUP(A12265,'Banco de Funcionários'!$A$2:$D$1048576,2,0)),\"\")","v":""},null,null,null,null,null,"00:00:00",null,"00:00:00","00:00:00"]
[null,{"$f":"IFERROR(IF(A12266=\"\",\"\",VLOOKUP(A12266,'Banco de Funcionários'!$A$2:$D$1048576,2,0)),\"\")","v":""},null,null,null,null,null,"00:00:00",null,"00:00:00","00:00:00"]
[null,{"$f":"IFERROR(IF(A12267=\"\",\"\",VLOOKUP(A12267,'Banco de Funcionários'!$A$2:$D$1048576,2,0)),\"\")","v":""},null,null,null,null,null,"00:00:00",null,"00:00:00","00:00:00"]
[null,{"$f":"IFERROR(IF(A12268=\"\",\"\",VLOOKUP(A12268,'Banco de Funcionários'!$A$2:$D$1048576,2,0)),\"\")","v":""},null,null,null,null,null,"00:00:00",null,"00:00:00","00:00:00"]
[null,{"$f":"IFERROR(IF(A12269=\"\",\"\",VLOOKUP(A12269,'Banco de Funcionários'!$A$2:$D$1048576,2,0)),\"\")","v":""},null,null,null,null,null,"00:00:00",null,"00:00:00","00:00:00"]
[null,{"$f":"IFERROR(IF(A12270=\"\",\"\",VLOOKUP(A12270,'Banco de Funcionários'!$A$2:$D$1048576,2,0)),\"\")","v":""},null,null,null,null,null,"00:00:00",null,"00:00:00","00:00:00"]
[null,{"$f":"IFERROR(IF(A12271=\"\",\"\",VLOOKUP(A12271,'Banco de Funcionários'!$A$2:$D$1048576,2,0)),\"\")","v":""},null,null,null,null,null,"00:00:00",null,"00:00:00","00:00:00"]
[null,{"$f":"IFERROR(IF(A12272=\"\",\"\",VLOOKUP(A12272,'Banco de Funcionários'!$A$2:$D$1048576,2,0)),\"\")","v":""},null,null,null,null,null,"00:00:00",null,"00:00:00","00:00:00"]
[null,{"$f":"IFERROR(IF(A12273=\"\",\"\",VLOOKUP(A12273,'Banco de Funcionários'!$A$2:$D$1048576,2,0)),\"\")","v":""},null,null,null,null,null,"00:00:00",null,"00:00:00","00:00:00"]
[null,{"$f":"IFERROR(IF(A12274=\"\",\"\",VLOOKUP(A12274,'Banco de Funcionários'!$A$2:$D$1048576,2,0)),\"\")","v":""},null,null,null,null,null,"00:00:00",null,"00:00:00","00:00:00"]
[null,{"$f":"IFERROR(IF(A12275=\"\",\"\",VLOOKUP(A12275,'Banco de Funcionários'!$A$2:$D$1048576,2,0)),\"\")","v":""},null,null,null,null,null,"00:00:00",null,"00:00:00","00:00:00"]
[null,{"$f":"IFERROR(IF(A12276=\"\",\"\",VLOOKUP(A12276,'Banco de Funcionários'!$A$2:$D$1048576,2,0)),\"\")","v":""},null,null,null,null,null,"00:00:00",null,"00:00:00","00:00:00"]
[null,{"$f":"IFERROR(IF(A12277=\"\",\"\",VLOOKUP(A12277,'Banco de Funcionários'!$A$2:$D$1048576,2,0)),\"\")","v":""},null,null,null,null,null,"00:00:00",null,"00:00:00","00:00:00"]
[null,{"$f":"IFERROR(IF(A12278=\"\",\"\",VLOOKUP(A12278,'Banco de Funcionários'!$A$2:$D$1048576,2,0)),\"\")","v":""},null,null,null,null,null,"00:00:00",null,"00:00:00","00:00:00"]
[null,{"$f":"IFERROR(IF(A12279=\"\",\"\",VLOOKUP(A12279,'Banco de Funcionários'!$A$2:$D$1048576,2,0)),\"\")","v":""},null,null,null,null,null,"00:00:00",null,"00:00:00","00:00:00"]
[null,{"$f":"IFERROR(IF(A12280=\"\",\"\",VLOOKUP(A12280,'Banco de Funcionários'!$A$2:$D$1048576,2,0)),\"\")","v":""},null,null,null,null,null,"00:00:00",null,"00:00:00","00:00:00"]
[null,{"$f":"IFERROR(IF(A12281=\"\",\"\",VLOOKUP(A12281,'Banco de Funcionários'!$A$2:$D$1048576,2,0)),\"\")","v":""},null,null,null,null,null,"00:00:00",null,"00:00:00","00:00:00"]
[null,{"$f":"IFERROR(IF(A12282=\"\",\"\",VLOOKUP(A12282,'Banco de Funcionários'!$A$2:$D$1048576,2,0)),\"\")","v":""},null,null,null,null,null,"00:00:00",null,"00:00:00","00:00:00"]
[null,{"$f":"IFERROR(IF(A12283=\"\",\"\",VLOOKUP(A12283,'Banco de Funcionários'!$A$2:$D$1048576,2,0)),\"\")","v":""},null,null,null,null,null,"00:00:00",null,"00:00:00","00:00:00"]
[null,{"$f":"IFERROR(IF(A12284=\"\",\"\",VLOOKUP(A12284,'Banco de Funcionários'!$A$2:$D$1048576,2,0)),\"\")","v":""},null,null,null,null,null,"00:00:00",null,"00:00:00","00:00:00"]
[null,{"$f":"IFERROR(IF(A12285=\"\",\"\",VLOOKUP(A12285,'Banco de Funcionários'!$A$2:$D$1048576,2,0)),\"\")","v":""},null,null,null,null,null,"00:00:00",null,"00:00:00","00:00:00"]
[null,{"$f":"IFERROR(IF(A12286=\"\",\"\",VLOOKUP(A12286,'Banco de Funcionários'!$A$2:$D$1048576,2,0)),\"\")","v":""},null,null,null,null,null,"00:00:00",null,"00:00:00","00:00:00"]
[null,{"$f":"IFERROR(IF(A12287=\"\",\"\",VLOOKUP(A12287,'Banco de Funcionários'!$A$2:$D$1048576,2,0)),\"\")","v":""},null,null,null,null,null,"00:00:00",null,"00:00:00","00:00:00"]
[null,{"$f":"IFERROR(IF(A12288=\"\",\"\",VLOOKUP(A12288,'Banco de Funcionários'!$A$2:$D$1048576,2,0)),\"\")","v":""},null,null,null,null,null,"00:00:00",null,"00:00:00","00:00:00"]
[null,{"$f":"IFERROR(IF(A12289=\"\",\"\",VLOOKUP(A12289,'Banco de Funcionários'!$A$2:$D$1048576,2,0)),\"\")","v":""},null,null,null,null,null,"00:00:00",null,"00:00:00","00:00:00"]
[null,{"$f":"IFERROR(IF(A12290=\"\",\"\",VLOOKUP(A12290,'Banco de Funcionários'!$A$2:$D$1048576,2,0)),\"\")","v":""},null,null,null,null,null,"00:00:00",null,"00:00:00","00:00:00"]
[null,{"$f":"IFERROR(IF(A12291=\"\",\"\",VLOOKUP(A12291,'Banco de Funcionários'!$A$2:$D$1048576,2,0)),\"\")","v":""},null,null,null,null,null,{"$f":"(F12291-E12291)-G12291","v":"00:00:00"},null,{"$f":"IFERROR(H12291-I12291,\"\")","v":"00:00:00"},{"$f":"IFERROR(H12291+J12291,0)","v":"00:00:00"}]
[null,{"$f":"IFERROR(IF(A12292=\"\",\"\",VLOOKUP(A12292,'Banco de Funcionários'!$A$2:$D$1048576,2,0)),\"\")","v":""},null,null,null,null,null,"00:00:00",null,"00:00:00","00:00:00"]
[null,{"$f":"IFERROR(IF(A12293=\"\",\"\",VLOOKUP(A12293,'Banco de Funcionários'!$A$2:$D$1048576,2,0)),\"\")","v":""},null,null,null,null,null,"00:00:00",null,"00:00:00","00:00:00"]
[null,{"$f":"IFERROR(IF(A12294=\"\",\"\",VLOOKUP(A12294,'Banco de Funcionários'!$A$2:$D$1048576,2,0)),\"\")","v":""},null,null,null,null,null,"00:00:00",null,"00:00:00","00:00:00"]
[null,{"$f":"IFERROR(IF(A12295=\"\",\"\",VLOOKUP(A12295,'Banco de Funcionários'!$A$2:$D$1048576,2,0)),\"\")","v":""},null,null,null,null,null,"00:00:00",null,"00:00:00","00:00:00"]
[null,{"$f":"IFERROR(IF(A12296=\"\",\"\",VLOOKUP(A12296,'Banco de Funcionários'!$A$2:$D$1048576,2,0)),\"\")","v":""},null,null,null,null,null,"00:00:00",null,"00:00:00","00:00:00"]
[null,{"$f":"IFERROR(IF(A12297=\"\",\"\",VLOOKUP(A12297,'Banco de Funcionários'!$A$2:$D$1048576,2,0)),\"\")","v":""},null,null,null,null,null,"00:00:00",null,"00:00:00","00:00:00"]
[null,{"$f":"IFERROR(IF(A12298=\"\",\"\",VLOOKUP(A12298,'Banco de Funcionários'!$A$2:$D$1048576,2,0)),\"\")","v":""},null,null,null,null,null,"00:00:00",null,"00:00:00","00:00:00"]
[null,{"$f":"IFERROR(IF(A12299=\"\",\"\",VLOOKUP(A12299,'Banco de Funcionários'!$A$2:$D$1048576,2,0)),\"\")","v":""},null,null,null,null,null,"00:00:00",null,"00:00:00","00:00:00"]
[null,{"$f":"IFERROR(IF(A12300=\"\",\"\",VLOOKUP(A12300,'Banco de Funcionários'!$A$2:$D$1048576,2,0)),\"\")","v":""},null,null,null,null,null,"00:00:00",null,"00:00:00","00:00:00"]
[null,{"$f":"IFERROR(IF(A12301=\"\",\"\",VLOOKUP(A12301,'Banco de Funcionários'!$A$2:$D$1048576,2,0)),\"\")","v":""},null,null,null,null,null,"00:00:00",null,"00:00:00","00:00:00"]
[null,{"$f":"IFERROR(IF(A12302=\"\",\"\",VLOOKUP(A12302,'Banco de Funcionários'!$A$2:$D$1048576,2,0)),\"\")","v":""},null,null,null,null,null,"00:00:00",null,"00:00:00","00:00:00"]
[null,{"$f":"IFERROR(IF(A12303=\"\",\"\",VLOOKUP(A12303,'Banco de Funcionários'!$A$2:$D$1048576,2,0)),\"\")","v":""},null,null,null,null,null,"00:00:00",null,"00:00:00","00:00:00"]
[null,{"$f":"IFERROR(IF(A12304=\"\",\"\",VLOOKUP(A12304,'Banco de Funcionários'!$A$2:$D$1048576,2,0)),\"\")","v":""},null,null,null,null,null,"00:00:00",null,"00:00:00","00:00:00"]
[null,{"$f":"IFERROR(IF(A12305=\"\",\"\",VLOOKUP(A12305,'Banco de Funcionários'!$A$2:$D$1048576,2,0)),\"\")","v":""},null,null,null,null,null,"00:00:00",null,"00:00:00","00:00:00"]
[null,{"$f":"IFERROR(IF(A12306=\"\",\"\",VLOOKUP(A12306,'Banco de Funcionários'!$A$2:$D$1048576,2,0)),\"\")","v":""},null,null,null,null,null,"00:00:00",null,"00:00:00","00:00:00"]
[null,{"$f":"IFERROR(IF(A12307=\"\",\"\",VLOOKUP(A12307,'Banco de Funcionários'!$A$2:$D$1048576,2,0)),\"\")","v":""},null,null,null,null,null,"00:00:00",null,"00:00:00","00:00:00"]
[null,{"$f":"IFERROR(IF(A12308=\"\",\"\",VLOOKUP(A12308,'Banco de Funcionários'!$A$2:$D$1048576,2,0)),\"\")","v":""},null,null,null,null,null,"00:00:00",null,"00:00:00","00:00:00"]
[null,{"$f":"IFERROR(IF(A12309=\"\",\"\",VLOOKUP(A12309,'Banco de Funcionários'!$A$2:$D$1048576,2,0)),\"\")","v":""},null,null,null,null,null,"00:00:00",null,"00:00:00","00:00:00"]
[null,{"$f":"IFERROR(IF(A12310=\"\",\"\",VLOOKUP(A12310,'Banco de Funcionários'!$A$2:$D$1048576,2,0)),\"\")","v":""},null,null,null,null,null,"00:00:00",null,"00:00:00","00:00:00"]
[null,{"$f":"IFERROR(IF(A12311=\"\",\"\",VLOOKUP(A12311,'Banco de Funcionários'!$A$2:$D$1048576,2,0)),\"\")","v":""},null,null,null,null,null,"00:00:00",null,"00:00:00","00:00:00"]
[null,{"$f":"IFERROR(IF(A12312=\"\",\"\",VLOOKUP(A12312,'Banco de Funcionários'!$A$2:$D$1048576,2,0)),\"\")","v":""},null,null,null,null,null,"00:00:00",null,"00:00:00","00:00:00"]
[null,{"$f":"IFERROR(IF(A12313=\"\",\"\",VLOOKUP(A12313,'Banco de Funcionários'!$A$2:$D$1048576,2,0)),\"\")","v":""},null,null,null,null,null,"00:00:00",null,"00:00:00","00:00:00"]
[null,{"$f":"IFERROR(IF(A12314=\"\",\"\",VLOOKUP(A12314,'Banco de Funcionários'!$A$2:$D$1048576,2,0)),\"\")","v":""},null,null,null,null,null,"00:00:00",null,"00:00:00","00:00:00"]
[null,{"$f":"IFERROR(IF(A12315=\"\",\"\",VLOOKUP(A12315,'Banco de Funcionários'!$A$2:$D$1048576,2,0)),\"\")","v":""},null,null,null,null,null,"00:00:00",null,"00:00:00","00:00:00"]
[null,{"$f":"IFERROR(IF(A12316=\"\",\"\",VLOOKUP(A12316,'Banco de Funcionários'!$A$2:$D$1048576,2,0)),\"\")","v":""},null,null,null,null,null,"00:00:00",null,"00:00:00","00:00:00"]
[null,{"$f":"IFERROR(IF(A12317=\"\",\"\",VLOOKUP(A12317,'Banco de Funcionários'!$A$2:$D$1048576,2,0)),\"\")","v":""},null,null,null,null,null,"00:00:00",null,"00:00:00","00:00:00"]
[null,{"$f":"IFERROR(IF(A12318=\"\",\"\",VLOOKUP(A12318,'Banco de Funcionários'!$A$2:$D$1048576,2,0)),\"\")","v":""},null,null,null,null,null,"00:00:00",null,"00:00:00","00:00:00"]
[null,{"$f":"IFERROR(IF(A12319=\"\",\"\",VLOOKUP(A12319,'Banco de Funcionários'!$A$2:$D$1048576,2,0)),\"\")","v":""},null,null,null,null,null,"00:00:00",null,"00:00:00","00:00:00"]
[null,{"$f":"IFERROR(IF(A12320=\"\",\"\",VLOOKUP(A12320,'Banco de Funcionários'!$A$2:$D$1048576,2,0)),\"\")","v":""},null,null,null,null,null,"00:00:00",null,"00:00:00","00:00:00"]
[null,{"$f":"IFERROR(IF(A12321=\"\",\"\",VLOOKUP(A12321,'Banco de Funcionários'!$A$2:$D$1048576,2,0)),\"\")","v":""},null,null,null,null,null,"00:00:00",null,"00:00:00","00:00:00"]
[null,{"$f":"IFERROR(IF(A12322=\"\",\"\",VLOOKUP(A12322,'Banco de Funcionários'!$A$2:$D$1048576,2,0)),\"\")","v":""},null,null,null,null,null,"00:00:00",null,"00:00:00","00:00:00"]
[null,{"$f":"IFERROR(IF(A12323=\"\",\"\",VLOOKUP(A12323,'Banco de Funcionários'!$A$2:$D$1048576,2,0)),\"\")","v":""},null,null,null,null,null,"00:00:00",null,"00:00:00","00:00:00"]
[null,{"$f":"IFERROR(IF(A12324=\"\",\"\",VLOOKUP(A12324,'Banco de Funcionários'!$A$2:$D$1048576,2,0)),\"\")","v":""},null,null,null,null,null,"00:00:00",null,"00:00:00","00:00:00"]
[null,{"$f":"IFERROR(IF(A12325=\"\",\"\",VLOOKUP(A12325,'Banco de Funcionários'!$A$2:$D$1048576,2,0)),\"\")","v":""},null,null,null,null,null,"00:00:00",null,"00:00:00","00:00:00"]
[null,{"$f":"IFERROR(IF(A12326=\"\",\"\",VLOOKUP(A12326,'Banco de Funcionários'!$A$2:$D$1048576,2,0)),\"\")","v":""},null,null,null,null,null,"00:00:00",null,"00:00:00","00:00:00"]
[null,{"$f":"IFERROR(IF(A12327=\"\",\"\",VLOOKUP(A12327,'Banco de Funcionários'!$A$2:$D$1048576,2,0)),\"\")","v":""},null,null,null,null,null,"00:00:00",null,"00:00:00","00:00:00"]
[null,{"$f":"IFERROR(IF(A12328=\"\",\"\",VLOOKUP(A12328,'Banco de Funcionários'!$A$2:$D$1048576,2,0)),\"\")","v":""},null,null,null,null,null,"00:00:00",null,"00:00:00","00:00:00"]
[null,{"$f":"IFERROR(IF(A12329=\"\",\"\",VLOOKUP(A12329,'Banco de Funcionários'!$A$2:$D$1048576,2,0)),\"\")","v":""},null,null,null,null,null,"00:00:00",null,"00:00:00","00:00:00"]
[null,{"$f":"IFERROR(IF(A12330=\"\",\"\",VLOOKUP(A12330,'Banco de Funcionários'!$A$2:$D$1048576,2,0)),\"\")","v":""},null,null,null,null,null,"00:00:00",null,"00:00:00","00:00:00"]
[null,{"$f":"IFERROR(IF(A12331=\"\",\"\",VLOOKUP(A12331,'Banco de Funcionários'!$A$2:$D$1048576,2,0)),\"\")","v":""},null,null,null,null,null,"00:00:00",null,"00:00:00","00:00:00"]
[null,{"$f":"IFERROR(IF(A12332=\"\",\"\",VLOOKUP(A12332,'Banco de Funcionários'!$A$2:$D$1048576,2,0)),\"\")","v":""},null,null,null,null,null,"00:00:00",null,"00:00:00","00:00:00"]
[null,{"$f":"IFERROR(IF(A12333=\"\",\"\",VLOOKUP(A12333,'Banco de Funcionários'!$A$2:$D$1048576,2,0)),\"\")","v":""},null,null,null,null,null,"00:00:00",null,"00:00:00","00:00:00"]
[null,{"$f":"IFERROR(IF(A12334=\"\",\"\",VLOOKUP(A12334,'Banco de Funcionários'!$A$2:$D$1048576,2,0)),\"\")","v":""},null,null,null,null,null,"00:00:00",null,"00:00:00","00:00:00"]
[null,{"$f":"IFERROR(IF(A12335=\"\",\"\",VLOOKUP(A12335,'Banco de Funcionários'!$A$2:$D$1048576,2,0)),\"\")","v":""},null,null,null,null,null,"00:00:00",null,"00:00:00","00:00:00"]
[null,{"$f":"IFERROR(IF(A12336=\"\",\"\",VLOOKUP(A12336,'Banco de Funcionários'!$A$2:$D$1048576,2,0)),\"\")","v":""},null,null,null,null,null,"00:00:00",null,"00:00:00","00:00:00"]
[null,{"$f":"IFERROR(IF(A12337=\"\",\"\",VLOOKUP(A12337,'Banco de Funcionários'!$A$2:$D$1048576,2,0)),\"\")","v":""},null,null,null,null,null,"00:00:00",null,"00:00:00","00:00:00"]
[null,{"$f":"IFERROR(IF(A12338=\"\",\"\",VLOOKUP(A12338,'Banco de Funcionários'!$A$2:$D$1048576,2,0)),\"\")","v":""},null,null,null,null,null,"00:00:00",null,"00:00:00","00:00:00"]
[null,{"$f":"IFERROR(IF(A12339=\"\",\"\",VLOOKUP(A12339,'Banco de Funcionários'!$A$2:$D$1048576,2,0)),\"\")","v":""},null,null,null,null,null,"00:00:00",null,"00:00:00","00:00:00"]
[null,{"$f":"IFERROR(IF(A12340=\"\",\"\",VLOOKUP(A12340,'Banco de Funcionários'!$A$2:$D$1048576,2,0)),\"\")","v":""},null,null,null,null,null,"00:00:00",null,"00:00:00","00:00:00"]
[null,{"$f":"IFERROR(IF(A12341=\"\",\"\",VLOOKUP(A12341,'Banco de Funcionários'!$A$2:$D$1048576,2,0)),\"\")","v":""},null,null,null,null,null,"00:00:00",null,"00:00:00","00:00:00"]
[null,{"$f":"IFERROR(IF(A12342=\"\",\"\",VLOOKUP(A12342,'Banco de Funcionários'!$A$2:$D$1048576,2,0)),\"\")","v":""},null,null,null,null,null,"00:00:00",null,"00:00:00","00:00:00"]
[null,{"$f":"IFERROR(IF(A12343=\"\",\"\",VLOOKUP(A12343,'Banco de Funcionários'!$A$2:$D$1048576,2,0)),\"\")","v":""},null,null,null,null,null,"00:00:00",null,"00:00:00","00:00:00"]
[null,{"$f":"IFERROR(IF(A12344=\"\",\"\",VLOOKUP(A12344,'Banco de Funcionários'!$A$2:$D$1048576,2,0)),\"\")","v":""},null,null,null,null,null,"00:00:00",null,"00:00:00","00:00:00"]
[null,{"$f":"IFERROR(IF(A12345=\"\",\"\",VLOOKUP(A12345,'Banco de Funcionários'!$A$2:$D$1048576,2,0)),\"\")","v":""},null,null,null,null,null,"00:00:00",null,"00:00:00","00:00:00"]
[null,{"$f":"IFERROR(IF(A12346=\"\",\"\",VLOOKUP(A12346,'Banco de Funcionários'!$A$2:$D$1048576,2,0)),\"\")","v":""},null,null,null,null,null,"00:00:00",null,"00:00:00","00:00:00"]
[null,{"$f":"IFERROR(IF(A12347=\"\",\"\",VLOOKUP(A12347,'Banco de Funcionários'!$A$2:$D$1048576,2,0)),\"\")","v":""},null,null,null,null,null,"00:00:00",null,"00:00:00","00:00:00"]
[null,{"$f":"IFERROR(IF(A12348=\"\",\"\",VLOOKUP(A12348,'Banco de Funcionários'!$A$2:$D$1048576,2,0)),\"\")","v":""},null,null,null,null,null,"00:00:00",null,"00:00:00","00:00:00"]
[null,{"$f":"IFERROR(IF(A12349=\"\",\"\",VLOOKUP(A12349,'Banco de Funcionários'!$A$2:$D$1048576,2,0)),\"\")","v":""},null,null,null,null,null,"00:00:00",null,"00:00:00","00:00:00"]
[null,{"$f":"IFERROR(IF(A12350=\"\",\"\",VLOOKUP(A12350,'Banco de Funcionários'!$A$2:$D$1048576,2,0)),\"\")","v":""},null,null,null,null,null,"00:00:00",null,"00:00:00","00:00:00"]
[null,{"$f":"IFERROR(IF(A12351=\"\",\"\",VLOOKUP(A12351,'Banco de Funcionários'!$A$2:$D$1048576,2,0)),\"\")","v":""},null,null,null,null,null,"00:00:00",null,"00:00:00","00:00:00"]
[null,{"$f":"IFERROR(IF(A12352=\"\",\"\",VLOOKUP(A12352,'Banco de Funcionários'!$A$2:$D$1048576,2,0)),\"\")","v":""},null,null,null,null,null,"00:00:00",null,"00:00:00","00:00:00"]
[null,{"$f":"IFERROR(IF(A12353=\"\",\"\",VLOOKUP(A12353,'Banco de Funcionários'!$A$2:$D$1048576,2,0)),\"\")","v":""},null,null,null,null,null,"00:00:00",null,"00:00:00","00:00:00"]
[null,{"$f":"IFERROR(IF(A12354=\"\",\"\",VLOOKUP(A12354,'Banco de Funcionários'!$A$2:$D$1048576,2,0)),\"\")","v":""},null,null,null,null,null,"00:00:00",null,"00:00:00","00:00:00"]
[null,{"$f":"IFERROR(IF(A12355=\"\",\"\",VLOOKUP(A12355,'Banco de Funcionários'!$A$2:$D$1048576,2,0)),\"\")","v":""},null,null,null,null,null,{"$f":"(F12355-E12355)-G12355","v":"00:00:00"},null,{"$f":"IFERROR(H12355-I12355,\"\")","v":"00:00:00"},{"$f":"IFERROR(H12355+J12355,0)","v":"00:00:00"}]
[null,{"$f":"IFERROR(IF(A12356=\"\",\"\",VLOOKUP(A12356,'Banco de Funcionários'!$A$2:$D$1048576,2,0)),\"\")","v":""},null,null,null,null,null,"00:00:00",null,"00:00:00","00:00:00"]
[null,{"$f":"IFERROR(IF(A12357=\"\",\"\",VLOOKUP(A12357,'Banco de Funcionários'!$A$2:$D$1048576,2,0)),\"\")","v":""},null,null,null,null,null,"00:00:00",null,"00:00:00","00:00:00"]
[null,{"$f":"IFERROR(IF(A12358=\"\",\"\",VLOOKUP(A12358,'Banco de Funcionários'!$A$2:$D$1048576,2,0)),\"\")","v":""},null,null,null,null,null,"00:00:00",null,"00:00:00","00:00:00"]
[null,{"$f":"IFERROR(IF(A12359=\"\",\"\",VLOOKUP(A12359,'Banco de Funcionários'!$A$2:$D$1048576,2,0)),\"\")","v":""},null,null,null,null,null,"00:00:00",null,"00:00:00","00:00:00"]
[null,{"$f":"IFERROR(IF(A12360=\"\",\"\",VLOOKUP(A12360,'Banco de Funcionários'!$A$2:$D$1048576,2,0)),\"\")","v":""},null,null,null,null,null,"00:00:00",null,"00:00:00","00:00:00"]
[null,{"$f":"IFERROR(IF(A12361=\"\",\"\",VLOOKUP(A12361,'Banco de Funcionários'!$A$2:$D$1048576,2,0)),\"\")","v":""},null,null,null,null,null,"00:00:00",null,"00:00:00","00:00:00"]
[null,{"$f":"IFERROR(IF(A12362=\"\",\"\",VLOOKUP(A12362,'Banco de Funcionários'!$A$2:$D$1048576,2,0)),\"\")","v":""},null,null,null,null,null,"00:00:00",null,"00:00:00","00:00:00"]
[null,{"$f":"IFERROR(IF(A12363=\"\",\"\",VLOOKUP(A12363,'Banco de Funcionários'!$A$2:$D$1048576,2,0)),\"\")","v":""},null,null,null,null,null,"00:00:00",null,"00:00:00","00:00:00"]
[null,{"$f":"IFERROR(IF(A12364=\"\",\"\",VLOOKUP(A12364,'Banco de Funcionários'!$A$2:$D$1048576,2,0)),\"\")","v":""},null,null,null,null,null,"00:00:00",null,"00:00:00","00:00:00"]
[null,{"$f":"IFERROR(IF(A12365=\"\",\"\",VLOOKUP(A12365,'Banco de Funcionários'!$A$2:$D$1048576,2,0)),\"\")","v":""},null,null,null,null,null,"00:00:00",null,"00:00:00","00:00:00"]
[null,{"$f":"IFERROR(IF(A12366=\"\",\"\",VLOOKUP(A12366,'Banco de Funcionários'!$A$2:$D$1048576,2,0)),\"\")","v":""},null,null,null,null,null,"00:00:00",null,"00:00:00","00:00:00"]
[null,{"$f":"IFERROR(IF(A12367=\"\",\"\",VLOOKUP(A12367,'Banco de Funcionários'!$A$2:$D$1048576,2,0)),\"\")","v":""},null,null,null,null,null,"00:00:00",null,"00:00:00","00:00:00"]
[null,{"$f":"IFERROR(IF(A12368=\"\",\"\",VLOOKUP(A12368,'Banco de Funcionários'!$A$2:$D$1048576,2,0)),\"\")","v":""},null,null,null,null,null,"00:00:00",null,"00:00:00","00:00:00"]
[null,{"$f":"IFERROR(IF(A12369=\"\",\"\",VLOOKUP(A12369,'Banco de Funcionários'!$A$2:$D$1048576,2,0)),\"\")","v":""},null,null,null,null,null,"00:00:00",null,"00:00:00","00:00:00"]
[null,{"$f":"IFERROR(IF(A12370=\"\",\"\",VLOOKUP(A12370,'Banco de Funcionários'!$A$2:$D$1048576,2,0)),\"\")","v":""},null,null,null,null,null,"00:00:00",null,"00:00:00","00:00:00"]
[null,{"$f":"IFERROR(IF(A12371=\"\",\"\",VLOOKUP(A12371,'Banco de Funcionários'!$A$2:$D$1048576,2,0)),\"\")","v":""},null,null,null,null,null,"00:00:00",null,"00:00:00","00:00:00"]
[null,{"$f":"IFERROR(IF(A12372=\"\",\"\",VLOOKUP(A12372,'Banco de Funcionários'!$A$2:$D$1048576,2,0)),\"\")","v":""},null,null,null,null,null,"00:00:00",null,"00:00:00","00:00:00"]
[null,{"$f":"IFERROR(IF(A12373=\"\",\"\",VLOOKUP(A12373,'Banco de Funcionários'!$A$2:$D$1048576,2,0)),\"\")","v":""},null,null,null,null,null,"00:00:00",null,"00:00:00","00:00:00"]
[null,{"$f":"IFERROR(IF(A12374=\"\",\"\",VLOOKUP(A12374,'Banco de Funcionários'!$A$2:$D$1048576,2,0)),\"\")","v":""},null,null,null,null,null,"00:00:00",null,"00:00:00","00:00:00"]
[null,{"$f":"IFERROR(IF(A12375=\"\",\"\",VLOOKUP(A12375,'Banco de Funcionários'!$A$2:$D$1048576,2,0)),\"\")","v":""},null,null,null,null,null,"00:00:00",null,"00:00:00","00:00:00"]
[null,{"$f":"IFERROR(IF(A12376=\"\",\"\",VLOOKUP(A12376,'Banco de Funcionários'!$A$2:$D$1048576,2,0)),\"\")","v":""},null,null,null,null,null,"00:00:00",null,"00:00:00","00:00:00"]
[null,{"$f":"IFERROR(IF(A12377=\"\",\"\",VLOOKUP(A12377,'Banco de Funcionários'!$A$2:$D$1048576,2,0)),\"\")","v":""},null,null,null,null,null,"00:00:00",null,"00:00:00","00:00:00"]
[null,{"$f":"IFERROR(IF(A12378=\"\",\"\",VLOOKUP(A12378,'Banco de Funcionários'!$A$2:$D$1048576,2,0)),\"\")","v":""},null,null,null,null,null,"00:00:00",null,"00:00:00","00:00:00"]
[null,{"$f":"IFERROR(IF(A12379=\"\",\"\",VLOOKUP(A12379,'Banco de Funcionários'!$A$2:$D$1048576,2,0)),\"\")","v":""},null,null,null,null,null,"00:00:00",null,"00:00:00","00:00:00"]
[null,{"$f":"IFERROR(IF(A12380=\"\",\"\",VLOOKUP(A12380,'Banco de Funcionários'!$A$2:$D$1048576,2,0)),\"\")","v":""},null,null,null,null,null,"00:00:00",null,"00:00:00","00:00:00"]
[null,{"$f":"IFERROR(IF(A12381=\"\",\"\",VLOOKUP(A12381,'Banco de Funcionários'!$A$2:$D$1048576,2,0)),\"\")","v":""},null,null,null,null,null,"00:00:00",null,"00:00:00","00:00:00"]
[null,{"$f":"IFERROR(IF(A12382=\"\",\"\",VLOOKUP(A12382,'Banco de Funcionários'!$A$2:$D$1048576,2,0)),\"\")","v":""},null,null,null,null,null,"00:00:00",null,"00:00:00","00:00:00"]
[null,{"$f":"IFERROR(IF(A12383=\"\",\"\",VLOOKUP(A12383,'Banco de Funcionários'!$A$2:$D$1048576,2,0)),\"\")","v":""},null,null,null,null,null,"00:00:00",null,"00:00:00","00:00:00"]
[null,{"$f":"IFERROR(IF(A12384=\"\",\"\",VLOOKUP(A12384,'Banco de Funcionários'!$A$2:$D$1048576,2,0)),\"\")","v":""},null,null,null,null,null,"00:00:00",null,"00:00:00","00:00:00"]
[null,{"$f":"IFERROR(IF(A12385=\"\",\"\",VLOOKUP(A12385,'Banco de Funcionários'!$A$2:$D$1048576,2,0)),\"\")","v":""},null,null,null,null,null,"00:00:00",null,"00:00:00","00:00:00"]
[null,{"$f":"IFERROR(IF(A12386=\"\",\"\",VLOOKUP(A12386,'Banco de Funcionários'!$A$2:$D$1048576,2,0)),\"\")","v":""},null,null,null,null,null,"00:00:00",null,"00:00:00","00:00:00"]
[null,{"$f":"IFERROR(IF(A12387=\"\",\"\",VLOOKUP(A12387,'Banco de Funcionários'!$A$2:$D$1048576,2,0)),\"\")","v":""},null,null,null,null,null,"00:00:00",null,"00:00:00","00:00:00"]
[null,{"$f":"IFERROR(IF(A12388=\"\",\"\",VLOOKUP(A12388,'Banco de Funcionários'!$A$2:$D$1048576,2,0)),\"\")","v":""},null,null,null,null,null,"00:00:00",null,"00:00:00","00:00:00"]
[null,{"$f":"IFERROR(IF(A12389=\"\",\"\",VLOOKUP(A12389,'Banco de Funcionários'!$A$2:$D$1048576,2,0)),\"\")","v":""},null,null,null,null,null,"00:00:00",null,"00:00:00","00:00:00"]
[null,{"$f":"IFERROR(IF(A12390=\"\",\"\",VLOOKUP(A12390,'Banco de Funcionários'!$A$2:$D$1048576,2,0)),\"\")","v":""},null,null,null,null,null,"00:00:00",null,"00:00:00","00:00:00"]
[null,{"$f":"IFERROR(IF(A12391=\"\",\"\",VLOOKUP(A12391,'Banco de Funcionários'!$A$2:$D$1048576,2,0)),\"\")","v":""},null,null,null,null,null,"00:00:00",null,"00:00:00","00:00:00"]
[null,{"$f":"IFERROR(IF(A12392=\"\",\"\",VLOOKUP(A12392,'Banco de Funcionários'!$A$2:$D$1048576,2,0)),\"\")","v":""},null,null,null,null,null,"00:00:00",null,"00:00:00","00:00:00"]
[null,{"$f":"IFERROR(IF(A12393=\"\",\"\",VLOOKUP(A12393,'Banco de Funcionários'!$A$2:$D$1048576,2,0)),\"\")","v":""},null,null,null,null,null,"00:00:00",null,"00:00:00","00:00:00"]
[null,{"$f":"IFERROR(IF(A12394=\"\",\"\",VLOOKUP(A12394,'Banco de Funcionários'!$A$2:$D$1048576,2,0)),\"\")","v":""},null,null,null,null,null,"00:00:00",null,"00:00:00","00:00:00"]
[null,{"$f":"IFERROR(IF(A12395=\"\",\"\",VLOOKUP(A12395,'Banco de Funcionários'!$A$2:$D$1048576,2,0)),\"\")","v":""},null,null,null,null,null,"00:00:00",null,"00:00:00","00:00:00"]
[null,{"$f":"IFERROR(IF(A12396=\"\",\"\",VLOOKUP(A12396,'Banco de Funcionários'!$A$2:$D$1048576,2,0)),\"\")","v":""},null,null,null,null,null,"00:00:00",null,"00:00:00","00:00:00"]
[null,{"$f":"IFERROR(IF(A12397=\"\",\"\",VLOOKUP(A12397,'Banco de Funcionários'!$A$2:$D$1048576,2,0)),\"\")","v":""},null,null,null,null,null,"00:00:00",null,"00:00:00","00:00:00"]
[null,{"$f":"IFERROR(IF(A12398=\"\",\"\",VLOOKUP(A12398,'Banco de Funcionários'!$A$2:$D$1048576,2,0)),\"\")","v":""},null,null,null,null,null,"00:00:00",null,"00:00:00","00:00:00"]
[null,{"$f":"IFERROR(IF(A12399=\"\",\"\",VLOOKUP(A12399,'Banco de Funcionários'!$A$2:$D$1048576,2,0)),\"\")","v":""},null,null,null,null,null,"00:00:00",null,"00:00:00","00:00:00"]
[null,{"$f":"IFERROR(IF(A12400=\"\",\"\",VLOOKUP(A12400,'Banco de Funcionários'!$A$2:$D$1048576,2,0)),\"\")","v":""},null,null,null,null,null,"00:00:00",null,"00:00:00","00:00:00"]
[null,{"$f":"IFERROR(IF(A12401=\"\",\"\",VLOOKUP(A12401,'Banco de Funcionários'!$A$2:$D$1048576,2,0)),\"\")","v":""},null,null,null,null,null,"00:00:00",null,"00:00:00","00:00:00"]
[null,{"$f":"IFERROR(IF(A12402=\"\",\"\",VLOOKUP(A12402,'Banco de Funcionários'!$A$2:$D$1048576,2,0)),\"\")","v":""},null,null,null,null,null,"00:00:00",null,"00:00:00","00:00:00"]
[null,{"$f":"IFERROR(IF(A12403=\"\",\"\",VLOOKUP(A12403,'Banco de Funcionários'!$A$2:$D$1048576,2,0)),\"\")","v":""},null,null,null,null,null,"00:00:00",null,"00:00:00","00:00:00"]
[null,{"$f":"IFERROR(IF(A12404=\"\",\"\",VLOOKUP(A12404,'Banco de Funcionários'!$A$2:$D$1048576,2,0)),\"\")","v":""},null,null,null,null,null,"00:00:00",null,"00:00:00","00:00:00"]
[null,{"$f":"IFERROR(IF(A12405=\"\",\"\",VLOOKUP(A12405,'Banco de Funcionários'!$A$2:$D$1048576,2,0)),\"\")","v":""},null,null,null,null,null,"00:00:00",null,"00:00:00","00:00:00"]
[null,{"$f":"IFERROR(IF(A12406=\"\",\"\",VLOOKUP(A12406,'Banco de Funcionários'!$A$2:$D$1048576,2,0)),\"\")","v":""},null,null,null,null,null,"00:00:00",null,"00:00:00","00:00:00"]
[null,{"$f":"IFERROR(IF(A12407=\"\",\"\",VLOOKUP(A12407,'Banco de Funcionários'!$A$2:$D$1048576,2,0)),\"\")","v":""},null,null,null,null,null,"00:00:00",null,"00:00:00","00:00:00"]
[null,{"$f":"IFERROR(IF(A12408=\"\",\"\",VLOOKUP(A12408,'Banco de Funcionários'!$A$2:$D$1048576,2,0)),\"\")","v":""},null,null,null,null,null,"00:00:00",null,"00:00:00","00:00:00"]
[null,{"$f":"IFERROR(IF(A12409=\"\",\"\",VLOOKUP(A12409,'Banco de Funcionários'!$A$2:$D$1048576,2,0)),\"\")","v":""},null,null,null,null,null,"00:00:00",null,"00:00:00","00:00:00"]
[null,{"$f":"IFERROR(IF(A12410=\"\",\"\",VLOOKUP(A12410,'Banco de Funcionários'!$A$2:$D$1048576,2,0)),\"\")","v":""},null,null,null,null,null,"00:00:00",null,"00:00:00","00:00:00"]
[null,{"$f":"IFERROR(IF(A12411=\"\",\"\",VLOOKUP(A12411,'Banco de Funcionários'!$A$2:$D$1048576,2,0)),\"\")","v":""},null,null,null,null,null,"00:00:00",null,"00:00:00","00:00:00"]

{"sheet":"Folha de Ponto","index":4,"n_rows":12,"n_cols":15,"rows_kept":12,"cut":false,"hidden":false,"merged":[[0,3,2,4],[5,4,5,5],[5,9,5,10],[6,4,6,7],[6,9,6,10],[4,4,4,5],[0,5,2,9]]}
[null,null,null,"Logamarca da empresa aqui",null,"Folha de Ponto Mensal"]
[]
[]
[]
[null,null,null,"Nome",{"$f":"VLOOKUP(M10,'Banco de Funcionários'!A:D,2,0)","v":"João da Silva"},null,"Matrícula",{"$f":"M10","v":"000156"}]
[null,null,null,"Função",{"$f":"VLOOKUP(M10,'Banco de Funcionários'!A:D,3,0)","v":"Mecânico"},null,"Data Admissão",{"$f":"VLOOKUP(M10,'Banco de Funcionários'!A:D,4,0)","v":"2015-07-05"}]
[null,null,null,"Assinatura"]
[]
["Matrícula","Nome","Mês","Dia","Entrada","Saída","Intervalo","Horas trabalhadas","Carga Horária / Diaria","Hora Extra","Total de horas",null,"Matrícula","Nome","Mês"]
["000156","João da Silva","Julho",5,"08:00:00","17:00:00","01:00:00","08:00:00","08:00:00","00:00:00","08:00:00",null,"000156",{"$f":"VLOOKUP(M10,'Banco de Funcionários'!A:D,2,0)","v":"João da Silva"},"Julho"]
["000156","João da Silva","Julho",6,"08:00:00","17:30:00","00:00:00","09:30:00","08:00:00","01:30:00","11:00:00"]
["000156","João da Silva","Julho",7,"08:00:00","18:00:00","03:00:00","07:00:00","08:00:00",-4.166666666666663E-2,"06:00:00"]

{"sheet":"Plan1","index":5,"n_rows":14,"n_cols":2,"rows_kept":14,"cut":false,"hidden":false,"merged":[]}
[]
[]
[null,"Janeiro"]
[null,"Fevereiro"]
[null,"Março"]
[null,"Abril"]
[null,"Maio"]
[null,"Junho"]
[null,"Julho"]
[null,"Agosto"]
[null,"Setembro"]
[null,"Outubro"]
[null,"Novembro"]
[null,"Dezembro"]