{"text_format":"1","workbook":"xlsx","n_sheets":8,"sheets":["Início","Instruções","Cadastro Cliente","Unidade Medida","Estoque","Entradas","Vendas","Relatório"],"not_rendered":{"charts":0,"images":1,"macros":1,"external_links":0,"defined_names":22,"comments":2,"pivot_tables":0},"unopened":[],"bounds":{"document_bytes":16777216,"sheet_cells":100000,"rows_first":2000,"rows_last":500,"rows_between":2000,"halvings":0,"cell_chars":16384,"cell_head_chars":4096},"cells_cut":0,"cells_raw":0,"read":"whole","date_system":"1900"}

{"sheet":"Início","index":0,"n_rows":18,"n_cols":6,"rows_kept":18,"cut":false,"hidden":false,"merged":[[0,8,0,11],[2,5,4,12],[17,5,17,12]]}
[]
[]
[null,null,null,null,null,"Controle de Vendas"]
[]
[]
[]
[]
[]
[]
[]
[]
[]
[]
[]
[]
[]
[]
[null,null,null,null,null,"Desenvolvido por: exceleasy.com.br"]

{"sheet":"Instruções","index":1,"n_rows":19,"n_cols":2,"rows_kept":19,"cut":false,"hidden":false,"merged":[[18,1,26,15],[18,0,26,0],[2,1,3,15],[2,0,3,0],[0,0,0,15],[5,1,5,15],[5,0,6,0],[6,1,6,15],[8,1,10,15],[8,0,10,0],[12,1,14,15],[12,0,14,0],[16,1,16,15]]}
["INSTRUÇÕES DE USO (Leia antes de utilizar a planilha)"]
[]
[1,"Ao abrir o arquivo pela primeira vez, certifique-se de ter habilitado a Planilha para edição. Caso contrário, o Excel não permitirá que sejam inseridas informações na planilha."]
[]
[]
[2,"Habilite as macros da planilha antes de utiliza-la. Para isto, siga as instruções do vídeo abaixo:"]
[null,"https://www.youtube.com/watch?v=nOrhtwX-Oac&t=1s"]
[]
[3,"Este modelo de planilha foi desenvolvido e testado no Microsoft Excel para Windows. Não garantimos a compatibilidade com o Excel para MAC, Google Sheets, Excel para celular, tablet, ou qualquer outro software de Planilhas que não seja o Microsoft Excel para Windows."]
[]
[]
[]
[4,"A Planilha de Estoque Entrada e Saída é disponibilizada exclusivamente no site oficial do desenvolvedor. O download de modelo não lhe garante o direito de comercializá-lo ou distribuí-lo em outros sites. Qualquer violação de direitos autorais será respondida judicialmente."]
[]
[]
[]
[5,"Importante: Não realizamos alterações na planilha. Qualquer ajuste é de responsabilidade do usuário.\nA Planilha é bloqueada para edição em sua estrutura por questões de direitos autorais. Não fornecemos senhas da planilha."]
[]
[6,"Passo 1: Acesse a guia Cadastro Cliente e cadastre seus clientes, atribuindo um código para cada nome.\nPasso 2: Acesse a guia Unidade Medida e cadastre ou altere as unidades de medidas utilizadas em seu negócio.\nPasso 3: Acesse a guia Estoque para cadastrar seus produtos. Preencha os campos: Código do Produto, Descrição do produto, UND. O Saldo será preenchido automaticamente.\nPasso 4: Acesse a guia Entradas para realizar as entradas de estoque. Preencha os campos: Data da Compra, Código do Produto, Descrição do Produto, Quantidade Adquirida, UND, Nota fiscal, Preço de Compra e Preço de Venda.\nPasso 5: Acesse a guia Vendas para registrar as suas vendas. Preencha os campos: Código de Cliente, Nome do Cliente, Produto Comprado, Quantidade Comprada, Preço de Venda, Total da compra, Status, Rastreamento e Data da Venda.\nPasso 6: Para obter o relatório mensal, acesse a guia Relatório. Selecione um mês na célula A2 e clique no botão \"Atualizar pesquisa\"."]

{"sheet":"Cadastro Cliente","index":2,"n_rows":7,"n_cols":4,"rows_kept":7,"cut":false,"hidden":false,"merged":[[2,3,9,7]]}
[null,"Cadastro de Clientes"]
["Cód. do Cliente","Nome do Cliente"]
["c001","Maria Madalena",null,"INSTRUÇÕES DE PREENCHIMENTO\n\nCadastre aqui seus clientes inserindo códigos para identificá-los e seus respectivos nomes."]
["c002","João da Silva"]
["c003","Julio Cesar"]
["c004","Ricardo Soares"]
["c005","Jose Ricardo"]

{"sheet":"Unidade Medida","index":3,"n_rows":8,"n_cols":2,"rows_kept":8,"cut":false,"hidden":false,"merged":[]}
["UND","Descrição"]
["PÇ","Peça"]
["PC","Pacote"]
["Kg","Quilo"]
["M","Metro"]
["M2","Metro Quadrado"]
["M3","Metro Cúbico"]
["Un","Unidade"]

{"sheet":"Estoque","index":4,"n_rows":1003,"n_cols":6,"rows_kept":1003,"cut":false,"hidden":false,"merged":[[0,0,0,3],[2,5,10,8]]}
["Cadastro de Estoque"]
["Cód do Produto","Descrição do produto","UND","Saldo em estoque"]
["FS500","Chamex - Papel Sulfite, A4, 75g, 500 folhas","Un",{"$f":"IFERROR(IF(A3=\"\",\"\",SUMIF(Codigo_Produto,Estoque!A3,quantidade_adquirida)-SUMIF(cod_saida,Estoque!A3,quantidade_comprada)),\"\")","v":14},null,"INSTRUÇÕES DE PREENCHIMENTO\n\nCadastre aqui os produtos que serão comercializados pela sua empresa.  Antes de dar entradas de produtos em seu estoque, certifique-se de que este produto foi criado nesta etapa de cadastro."]
["LC10FC","Lápis de Cor, Faber-Castell, EcoLápis Pastel, 120510P, 10 Cores","Un",{"$f":"IFERROR(IF(A4=\"\",\"\",SUMIF(Codigo_Produto,Estoque!A4,quantidade_adquirida)-SUMIF(cod_saida,Estoque!A4,quantidade_comprada)),\"\")","v":12}]
["L2BFC","Faber-Castell EcoLápis 1205 Max Preto Nº 2B - Lápis Sextavado, 6 Unidades","Un",{"$f":"IFERROR(IF(A5=\"\",\"\",SUMIF(Codigo_Produto,Estoque!A5,quantidade_adquirida)-SUMIF(cod_saida,Estoque!A5,quantidade_comprada)),\"\")","v":0}]
["TB10M","Tilibra 305421 Universitário 10 Matérias Zip","Un",{"$f":"IFERROR(IF(A6=\"\",\"\",SUMIF(Codigo_Produto,Estoque!A6,quantidade_adquirida)-SUMIF(cod_saida,Estoque!A6,quantidade_comprada)),\"\")","v":12}]
["L1205","Faber-Castell EcoLápis 1205 Max Preto Nº 2B 6 Unidades","Un",{"$f":"IFERROR(IF(A7=\"\",\"\",SUMIF(Codigo_Produto,Estoque!A7,quantidade_adquirida)-SUMIF(cod_saida,Estoque!A7,quantidade_comprada)),\"\")","v":9}]
["KA4M","Kit 4 Marcadores de Quadro Branco BIC Marking Cores Clássicas + 1 Apagador","Un",{"$f":"IFERROR(IF(A8=\"\",\"\",SUMIF(Codigo_Produto,Estoque!A8,quantidade_adquirida)-SUMIF(cod_saida,Estoque!A8,quantidade_comprada)),\"\")","v":10}]
["BL50F","Bloco refil grande pautado 90g com 50 folhas","Un",{"$f":"IFERROR(IF(A9=\"\",\"\",SUMIF(Codigo_Produto,Estoque!A9,quantidade_adquirida)-SUMIF(cod_saida,Estoque!A9,quantidade_comprada)),\"\")","v":7}]
["PO3M270F","Post-it, 3M 76mm x 76mm, 270 folhas","Un",{"$f":"IFERROR(IF(A10=\"\",\"\",SUMIF(Codigo_Produto,Estoque!A10,quantidade_adquirida)-SUMIF(cod_saida,Estoque!A10,quantidade_comprada)),\"\")","v":20}]
["CE3UN","Caneta Esferográfica SPIRO c/3 unidades (1 Azul, 1 Preta e 1 Vermelha)","Un",{"$f":"IFERROR(IF(A11=\"\",\"\",SUMIF(Codigo_Produto,Estoque!A11,quantidade_adquirida)-SUMIF(cod_saida,Estoque!A11,quantidade_comprada)),\"\")","v":10}]
["LPR2HB14UN","Lápis Preto Redondo Nº2HB, Faber-Castell 14 Unidades","Un",{"$f":"IFERROR(IF(A12=\"\",\"\",SUMIF(Codigo_Produto,Estoque!A12,quantidade_adquirida)-SUMIF(cod_saida,Estoque!A12,quantidade_comprada)),\"\")","v":28}]
[null,null,null,{"$f":"IFERROR(IF(A13=\"\",\"\",SUMIF(Codigo_Produto,Estoque!A13,quantidade_adquirida)-SUMIF(cod_saida,Estoque!A13,quantidade_comprada)),\"\")","v":""}]
[null,null,null,{"$f":"IFERROR(IF(A14=\"\",\"\",SUMIF(Codigo_Produto,Estoque!A14,quantidade_adquirida)-SUMIF(cod_saida,Estoque!A14,quantidade_comprada)),\"\")","v":""}]
[null,null,null,{"$f":"IFERROR(IF(A15=\"\",\"\",SUMIF(Codigo_Produto,Estoque!A15,quantidade_adquirida)-SUMIF(cod_saida,Estoque!A15,quantidade_comprada)),\"\")","v":""}]
[null,null,null,{"$f":"IFERROR(IF(A16=\"\",\"\",SUMIF(Codigo_Produto,Estoque!A16,quantidade_adquirida)-SUMIF(cod_saida,Estoque!A16,quantidade_comprada)),\"\")","v":""}]
[null,null,null,{"$f":"IFERROR(IF(A17=\"\",\"\",SUMIF(Codigo_Produto,Estoque!A17,quantidade_adquirida)-SUMIF(cod_saida,Estoque!A17,quantidade_comprada)),\"\")","v":""}]
[null,null,null,{"$f":"IFERROR(IF(A18=\"\",\"\",SUMIF(Codigo_Produto,Estoque!A18,quantidade_adquirida)-SUMIF(cod_saida,Estoque!A18,quantidade_comprada)),\"\")","v":""}]
[null,null,null,{"$f":"IFERROR(IF(A19=\"\",\"\",SUMIF(Codigo_Produto,Estoque!A19,quantidade_adquirida)-SUMIF(cod_saida,Estoque!A19,quantidade_comprada)),\"\")","v":""}]
[null,null,null,{"$f":"IFERROR(IF(A20=\"\",\"\",SUMIF(Codigo_Produto,Estoque!A20,quantidade_adquirida)-SUMIF(cod_saida,Estoque!A20,quantidade_comprada)),\"\")","v":""}]
[null,null,null,{"$f":"IFERROR(IF(A21=\"\",\"\",SUMIF(Codigo_Produto,Estoque!A21,quantidade_adquirida)-SUMIF(cod_saida,Estoque!A21,quantidade_comprada)),\"\")","v":""}]
[null,null,null,{"$f":"IFERROR(IF(A22=\"\",\"\",SUMIF(Codigo_Produto,Estoque!A22,quantidade_adquirida)-SUMIF(cod_saida,Estoque!A22,quantidade_comprada)),\"\")","v":""}]
[null,null,null,{"$f":"IFERROR(IF(A23=\"\",\"\",SUMIF(Codigo_Produto,Estoque!A23,quantidade_adquirida)-SUMIF(cod_saida,Estoque!A23,quantidade_comprada)),\"\")","v":""}]
[null,null,null,{"$f":"IFERROR(IF(A24=\"\",\"\",SUMIF(Codigo_Produto,Estoque!A24,quantidade_adquirida)-SUMIF(cod_saida,Estoque!A24,quantidade_comprada)),\"\")","v":""}]
[null,null,null,{"$f":"IFERROR(IF(A25=\"\",\"\",SUMIF(Codigo_Produto,Estoque!A25,quantidade_adquirida)-SUMIF(cod_saida,Estoque!A25,quantidade_comprada)),\"\")","v":""}]
[null,null,null,{"$f":"IFERROR(IF(A26=\"\",\"\",SUMIF(Codigo_Produto,Estoque!A26,quantidade_adquirida)-SUMIF(cod_saida,Estoque!A26,quantidade_comprada)),\"\")","v":""}]
[null,null,null,{"$f":"IFERROR(IF(A27=\"\",\"\",SUMIF(Codigo_Produto,Estoque!A27,quantidade_adquirida)-SUMIF(cod_saida,Estoque!A27,quantidade_comprada)),\"\")","v":""}]
[null,null,null,{"$f":"IFERROR(IF(A28=\"\",\"\",SUMIF(Codigo_Produto,Estoque!A28,quantidade_adquirida)-SUMIF(cod_saida,Estoque!A28,quantidade_comprada)),\"\")","v":""}]
[null,null,null,{"$f":"IFERROR(IF(A29=\"\",\"\",SUMIF(Codigo_Produto,Estoque!A29,quantidade_adquirida)-SUMIF(cod_saida,Estoque!A29,quantidade_comprada)),\"\")","v":""}]
[null,null,null,{"$f":"IFERROR(IF(A30=\"\",\"\",SUMIF(Codigo_Produto,Estoque!A30,quantidade_adquirida)-SUMIF(cod_saida,Estoque!A30,quantidade_comprada)),\"\")","v":""}]
[null,null,null,{"$f":"IFERROR(IF(A31=\"\",\"\",SUMIF(Codigo_Produto,Estoque!A31,quantidade_adquirida)-SUMIF(cod_saida,Estoque!A31,quantidade_comprada)),\"\")","v":""}]
[null,null,null,{"$f":"IFERROR(IF(A32=\"\",\"\",SUMIF(Codigo_Produto,Estoque!A32,quantidade_adquirida)-SUMIF(cod_saida,Estoque!A32,quantidade_comprada)),\"\")","v":""}]
[null,null,null,{"$f":"IFERROR(IF(A33=\"\",\"\",SUMIF(Codigo_Produto,Estoque!A33,quantidade_adquirida)-SUMIF(cod_saida,Estoque!A33,quantidade_comprada)),\"\")","v":""}]
[null,null,null,{"$f":"IFERROR(IF(A34=\"\",\"\",SUMIF(Codigo_Produto,Estoque!A34,quantidade_adquirida)-SUMIF(cod_saida,Estoque!A34,quantidade_comprada)),\"\")","v":""}]
[null,null,null,{"$f":"IFERROR(IF(A35=\"\",\"\",SUMIF(Codigo_Produto,Estoque!A35,quantidade_adquirida)-SUMIF(cod_saida,Estoque!A35,quantidade_comprada)),\"\")","v":""}]
[null,null,null,{"$f":"IFERROR(IF(A36=\"\",\"\",SUMIF(Codigo_Produto,Estoque!A36,quantidade_adquirida)-SUMIF(cod_saida,Estoque!A36,quantidade_comprada)),\"\")","v":""}]
[null,null,null,{"$f":"IFERROR(IF(A37=\"\",\"\",SUMIF(Codigo_Produto,Estoque!A37,quantidade_adquirida)-SUMIF(cod_saida,Estoque!A37,quantidade_comprada)),\"\")","v":""}]
[null,null,null,{"$f":"IFERROR(IF(A38=\"\",\"\",SUMIF(Codigo_Produto,Estoque!A38,quantidade_adquirida)-SUMIF(cod_saida,Estoque!A38,quantidade_comprada)),\"\")","v":""}]
[null,null,null,{"$f":"IFERROR(IF(A39=\"\",\"\",SUMIF(Codigo_Produto,Estoque!A39,quantidade_adquirida)-SUMIF(cod_saida,Estoque!A39,quantidade_comprada)),\"\")","v":""}]
[null,null,null,{"$f":"IFERROR(IF(A40=\"\",\"\",SUMIF(Codigo_Produto,Estoque!A40,quantidade_adquirida)-SUMIF(cod_saida,Estoque!A40,quantidade_comprada)),\"\")","v":""}]
[null,null,null,{"$f":"IFERROR(IF(A41=\"\",\"\",SUMIF(Codigo_Produto,Estoque!A41,quantidade_adquirida)-SUMIF(cod_saida,Estoque!A41,quantidade_comprada)),\"\")","v":""}]
[null,null,null,{"$f":"IFERROR(IF(A42=\"\",\"\",SUMIF(Codigo_Produto,Estoque!A42,quantidade_adquirida)-SUMIF(cod_saida,Estoque!A42,quantidade_comprada)),\"\")","v":""}]
[null,null,null,{"$f":"IFERROR(IF(A43=\"\",\"\",SUMIF(Codigo_Produto,Estoque!A43,quantidade_adquirida)-SUMIF(cod_saida,Estoque!A43,quantidade_comprada)),\"\")","v":""}]
[null,null,null,{"$f":"IFERROR(IF(A44=\"\",\"\",SUMIF(Codigo_Produto,Estoque!A44,quantidade_adquirida)-SUMIF(cod_saida,Estoque!A44,quantidade_comprada)),\"\")","v":""}]
[null,null,null,{"$f":"IFERROR(IF(A45=\"\",\"\",SUMIF(Codigo_Produto,Estoque!A45,quantidade_adquirida)-SUMIF(cod_saida,Estoque!A45,quantidade_comprada)),\"\")","v":""}]
[null,null,null,{"$f":"IFERROR(IF(A46=\"\",\"\",SUMIF(Codigo_Produto,Estoque!A46,quantidade_adquirida)-SUMIF(cod_saida,Estoque!A46,quantidade_comprada)),\"\")","v":""}]
[null,null,null,{"$f":"IFERROR(IF(A47=\"\",\"\",SUMIF(Codigo_Produto,Estoque!A47,quantidade_adquirida)-SUMIF(cod_saida,Estoque!A47,quantidade_comprada)),\"\")","v":""}]
[null,null,null,{"$f":"IFERROR(IF(A48=\"\",\"\",SUMIF(Codigo_Produto,Estoque!A48,quantidade_adquirida)-SUMIF(cod_saida,Estoque!A48,quantidade_comprada)),\"\")","v":""}]
[null,null,null,{"$f":"IFERROR(IF(A49=\"\",\"\",SUMIF(Codigo_Produto,Estoque!A49,quantidade_adquirida)-SUMIF(cod_saida,Estoque!A49,quantidade_comprada)),\"\")","v":""}]
[null,null,null,{"$f":"IFERROR(IF(A50=\"\",\"\",SUMIF(Codigo_Produto,Estoque!A50,quantidade_adquirida)-SUMIF(cod_saida,Estoque!A50,quantidade_comprada)),\"\")","v":""}]
[null,null,null,{"$f":"IFERROR(IF(A51=\"\",\"\",SUMIF(Codigo_Produto,Estoque!A51,quantidade_adquirida)-SUMIF(cod_saida,Estoque!A51,quantidade_comprada)),\"\")","v":""}]
[null,null,null,{"$f":"IFERROR(IF(A52=\"\",\"\",SUMIF(Codigo_Produto,Estoque!A52,quantidade_adquirida)-SUMIF(cod_saida,Estoque!A52,quantidade_comprada)),\"\")","v":""}]
[null,null,null,{"$f":"IFERROR(IF(A53=\"\",\"\",SUMIF(Codigo_Produto,Estoque!A53,quantidade_adquirida)-SUMIF(cod_saida,Estoque!A53,quantidade_comprada)),\"\")","v":""}]
[null,null,null,{"$f":"IFERROR(IF(A54=\"\",\"\",SUMIF(Codigo_Produto,Estoque!A54,quantidade_adquirida)-SUMIF(cod_saida,Estoque!A54,quantidade_comprada)),\"\")","v":""}]
[null,null,null,{"$f":"IFERROR(IF(A55=\"\",\"\",SUMIF(Codigo_Produto,Estoque!A55,quantidade_adquirida)-SUMIF(cod_saida,Estoque!A55,quantidade_comprada)),\"\")","v":""}]
[null,null,null,{"$f":"IFERROR(IF(A56=\"\",\"\",SUMIF(Codigo_Produto,Estoque!A56,quantidade_adquirida)-SUMIF(cod_saida,Estoque!A56,quantidade_comprada)),\"\")","v":""}]
[null,null,null,{"$f":"IFERROR(IF(A57=\"\",\"\",SUMIF(Codigo_Produto,Estoque!A57,quantidade_adquirida)-SUMIF(cod_saida,Estoque!A57,quantidade_comprada)),\"\")","v":""}]
[null,null,null,{"$f":"IFERROR(IF(A58=\"\",\"\",SUMIF(Codigo_Produto,Estoque!A58,quantidade_adquirida)-SUMIF(cod_saida,Estoque!A58,quantidade_comprada)),\"\")","v":""}]
[null,null,null,{"$f":"IFERROR(IF(A59=\"\",\"\",SUMIF(Codigo_Produto,Estoque!A59,quantidade_adquirida)-SUMIF(cod_saida,Estoque!A59,quantidade_comprada)),\"\")","v":""}]
[null,null,null,{"$f":"IFERROR(IF(A60=\"\",\"\",SUMIF(Codigo_Produto,Estoque!A60,quantidade_adquirida)-SUMIF(cod_saida,Estoque!A60,quantidade_comprada)),\"\")","v":""}]
[null,null,null,{"$f":"IFERROR(IF(A61=\"\",\"\",SUMIF(Codigo_Produto,Estoque!A61,quantidade_adquirida)-SUMIF(cod_saida,Estoque!A61,quantidade_comprada)),\"\")","v":""}]
[null,null,null,{"$f":"IFERROR(IF(A62=\"\",\"\",SUMIF(Codigo_Produto,Estoque!A62,quantidade_adquirida)-SUMIF(cod_saida,Estoque!A62,quantidade_comprada)),\"\")","v":""}]
[null,null,null,{"$f":"IFERROR(IF(A63=\"\",\"\",SUMIF(Codigo_Produto,Estoque!A63,quantidade_adquirida)-SUMIF(cod_saida,Estoque!A63,quantidade_comprada)),\"\")","v":""}]
[null,null,null,{"$f":"IFERROR(IF(A64=\"\",\"\",SUMIF(Codigo_Produto,Estoque!A64,quantidade_adquirida)-SUMIF(cod_saida,Estoque!A64,quantidade_comprada)),\"\")","v":""}]
[null,null,null,{"$f":"IFERROR(IF(A65=\"\",\"\",SUMIF(Codigo_Produto,Estoque!A65,quantidade_adquirida)-SUMIF(cod_saida,Estoque!A65,quantidade_comprada)),\"\")","v":""}]
[null,null,null,{"$f":"IFERROR(IF(A66=\"\",\"\",SUMIF(Codigo_Produto,Estoque!A66,quantidade_adquirida)-SUMIF(cod_saida,Estoque!A66,quantidade_comprada)),\"\")","v":""}]
[null,null,null,{"$f":"IFERROR(IF(A67=\"\",\"\",SUMIF(Codigo_Produto,Estoque!A67,quantidade_adquirida)-SUMIF(cod_saida,Estoque!A67,quantidade_comprada)),\"\")","v":""}]
[null,null,null,{"$f":"IFERROR(IF(A68=\"\",\"\",SUMIF(Codigo_Produto,Estoque!A68,quantidade_adquirida)-SUMIF(cod_saida,Estoque!A68,quantidade_comprada)),\"\")","v":""}]
[null,null,null,{"$f":"IFERROR(IF(A69=\"\",\"\",SUMIF(Codigo_Produto,Estoque!A69,quantidade_adquirida)-SUMIF(cod_saida,Estoque!A69,quantidade_comprada)),\"\")","v":""}]
[null,null,null,{"$f":"IFERROR(IF(A70=\"\",\"\",SUMIF(Codigo_Produto,Estoque!A70,quantidade_adquirida)-SUMIF(cod_saida,Estoque!A70,quantidade_comprada)),\"\")","v":""}]
[null,null,null,{"$f":"IFERROR(IF(A71=\"\",\"\",SUMIF(Codigo_Produto,Estoque!A71,quantidade_adquirida)-SUMIF(cod_saida,Estoque!A71,quantidade_comprada)),\"\")","v":""}]
[null,null,null,{"$f":"IFERROR(IF(A72=\"\",\"\",SUMIF(Codigo_Produto,Estoque!A72,quantidade_adquirida)-SUMIF(cod_saida,Estoque!A72,quantidade_comprada)),\"\")","v":""}]
[null,null,null,{"$f":"IFERROR(IF(A73=\"\",\"\",SUMIF(Codigo_Produto,Estoque!A73,quantidade_adquirida)-SUMIF(cod_saida,Estoque!A73,quantidade_comprada)),\"\")","v":""}]
[null,null,null,{"$f":"IFERROR(IF(A74=\"\",\"\",SUMIF(Codigo_Produto,Estoque!A74,quantidade_adquirida)-SUMIF(cod_saida,Estoque!A74,quantidade_comprada)),\"\")","v":""}]
[null,null,null,{"$f":"IFERROR(IF(A75=\"\",\"\",SUMIF(Codigo_Produto,Estoque!A75,quantidade_adquirida)-SUMIF(cod_saida,Estoque!A75,quantidade_comprada)),\"\")","v":""}]
[null,null,null,{"$f":"IFERROR(IF(A76=\"\",\"\",SUMIF(Codigo_Produto,Estoque!A76,quantidade_adquirida)-SUMIF(cod_saida,Estoque!A76,quantidade_comprada)),\"\")","v":""}]
[null,null,null,{"$f":"IFERROR(IF(A77=\"\",\"\",SUMIF(Codigo_Produto,Estoque!A77,quantidade_adquirida)-SUMIF(cod_saida,Estoque!A77,quantidade_comprada)),\"\")","v":""}]
[null,null,null,{"$f":"IFERROR(IF(A78=\"\",\"\",SUMIF(Codigo_Produto,Estoque!A78,quantidade_adquirida)-SUMIF(cod_saida,Estoque!A78,quantidade_comprada)),\"\")","v":""}]
[null,null,null,{"$f":"IFERROR(IF(A79=\"\",\"\",SUMIF(Codigo_Produto,Estoque!A79,quantidade_adquirida)-SUMIF(cod_saida,Estoque!A79,quantidade_comprada)),\"\")","v":""}]
[null,null,null,{"$f":"IFERROR(IF(A80=\"\",\"\",SUMIF(Codigo_Produto,Estoque!A80,quantidade_adquirida)-SUMIF(cod_saida,Estoque!A80,quantidade_comprada)),\"\")","v":""}]
[null,null,null,{"$f":"IFERROR(IF(A81=\"\",\"\",SUMIF(Codigo_Produto,Estoque!A81,quantidade_adquirida)-SUMIF(cod_saida,Estoque!A81,quantidade_comprada)),\"\")","v":""}]
[null,null,null,{"$f":"IFERROR(IF(A82=\"\",\"\",SUMIF(Codigo_Produto,Estoque!A82,quantidade_adquirida)-SUMIF(cod_saida,Estoque!A82,quantidade_comprada)),\"\")","v":""}]
[null,null,null,{"$f":"IFERROR(IF(A83=\"\",\"\",SUMIF(Codigo_Produto,Estoque!A83,quantidade_adquirida)-SUMIF(cod_saida,Estoque!A83,quantidade_comprada)),\"\")","v":""}]
[null,null,null,{"$f":"IFERROR(IF(A84=\"\",\"\",SUMIF(Codigo_Produto,Estoque!A84,quantidade_adquirida)-SUMIF(cod_saida,Estoque!A84,quantidade_comprada)),\"\")","v":""}]
[null,null,null,{"$f":"IFERROR(IF(A85=\"\",\"\",SUMIF(Codigo_Produto,Estoque!A85,quantidade_adquirida)-SUMIF(cod_saida,Estoque!A85,quantidade_comprada)),\"\")","v":""}]
[null,null,null,{"$f":"IFERROR(IF(A86=\"\",\"\",SUMIF(Codigo_Produto,Estoque!A86,quantidade_adquirida)-SUMIF(cod_saida,Estoque!A86,quantidade_comprada)),\"\")","v":""}]
[null,null,null,{"$f":"IFERROR(IF(A87=\"\",\"\",SUMIF(Codigo_Produto,Estoque!A87,quantidade_adquirida)-SUMIF(cod_saida,Estoque!A87,quantidade_comprada)),\"\")","v":""}]
[null,null,null,{"$f":"IFERROR(IF(A88=\"\",\"\",SUMIF(Codigo_Produto,Estoque!A88,quantidade_adquirida)-SUMIF(cod_saida,Estoque!A88,quantidade_comprada)),\"\")","v":""}]
[null,null,null,{"$f":"IFERROR(IF(A89=\"\",\"\",SUMIF(Codigo_Produto,Estoque!A89,quantidade_adquirida)-SUMIF(cod_saida,Estoque!A89,quantidade_comprada)),\"\")","v":""}]
[null,null,null,{"$f":"IFERROR(IF(A90=\"\",\"\",SUMIF(Codigo_Produto,Estoque!A90,quantidade_adquirida)-SUMIF(cod_saida,Estoque!A90,quantidade_comprada)),\"\")","v":""}]
[null,null,null,{"$f":"IFERROR(IF(A91=\"\",\"\",SUMIF(Codigo_Produto,Estoque!A91,quantidade_adquirida)-SUMIF(cod_saida,Estoque!A91,quantidade_comprada)),\"\")","v":""}]
[null,null,null,{"$f":"IFERROR(IF(A92=\"\",\"\",SUMIF(Codigo_Produto,Estoque!A92,quantidade_adquirida)-SUMIF(cod_saida,Estoque!A92,quantidade_comprada)),\"\")","v":""}]
[null,null,null,{"$f":"IFERROR(IF(A93=\"\",\"\",SUMIF(Codigo_Produto,Estoque!A93,quantidade_adquirida)-SUMIF(cod_saida,Estoque!A93,quantidade_comprada)),\"\")","v":""}]
[null,null,null,{"$f":"IFERROR(IF(A94=\"\",\"\",SUMIF(Codigo_Produto,Estoque!A94,quantidade_adquirida)-SUMIF(cod_saida,Estoque!A94,quantidade_comprada)),\"\")","v":""}]
[null,null,null,{"$f":"IFERROR(IF(A95=\"\",\"\",SUMIF(Codigo_Produto,Estoque!A95,quantidade_adquirida)-SUMIF(cod_saida,Estoque!A95,quantidade_comprada)),\"\")","v":""}]
[null,null,null,{"$f":"IFERROR(IF(A96=\"\",\"\",SUMIF(Codigo_Produto,Estoque!A96,quantidade_adquirida)-SUMIF(cod_saida,Estoque!A96,quantidade_comprada)),\"\")","v":""}]
[null,null,null,{"$f":"IFERROR(IF(A97=\"\",\"\",SUMIF(Codigo_Produto,Estoque!A97,quantidade_adquirida)-SUMIF(cod_saida,Estoque!A97,quantidade_comprada)),\"\")","v":""}]
[null,null,null,{"$f":"IFERROR(IF(A98=\"\",\"\",SUMIF(Codigo_Produto,Estoque!A98,quantidade_adquirida)-SUMIF(cod_saida,Estoque!A98,quantidade_comprada)),\"\")","v":""}]
[null,null,null,{"$f":"IFERROR(IF(A99=\"\",\"\",SUMIF(Codigo_Produto,Estoque!A99,quantidade_adquirida)-SUMIF(cod_saida,Estoque!A99,quantidade_comprada)),\"\")","v":""}]
[null,null,null,{"$f":"IFERROR(IF(A100=\"\",\"\",SUMIF(Codigo_Produto,Estoque!A100,quantidade_adquirida)-SUMIF(cod_saida,Estoque!A100,quantidade_comprada)),\"\")","v":""}]
[null,null,null,{"$f":"IFERROR(IF(A101=\"\",\"\",SUMIF(Codigo_Produto,Estoque!A101,quantidade_adquirida)-SUMIF(cod_saida,Estoque!A101,quantidade_comprada)),\"\")","v":""}]
[null,null,null,{"$f":"IFERROR(IF(A102=\"\",\"\",SUMIF(Codigo_Produto,Estoque!A102,quantidade_adquirida)-SUMIF(cod_saida,Estoque!A102,quantidade_comprada)),\"\")","v":""}]
[null,null,null,{"$f":"IFERROR(IF(A103=\"\",\"\",SUMIF(Codigo_Produto,Estoque!A103,quantidade_adquirida)-SUMIF(cod_saida,Estoque!A103,quantidade_comprada)),\"\")","v":""}]
[null,null,null,{"$f":"IFERROR(IF(A104=\"\",\"\",SUMIF(Codigo_Produto,Estoque!A104,quantidade_adquirida)-SUMIF(cod_saida,Estoque!A104,quantidade_comprada)),\"\")","v":""}]
[null,null,null,{"$f":"IFERROR(IF(A105=\"\",\"\",SUMIF(Codigo_Produto,Estoque!A105,quantidade_adquirida)-SUMIF(cod_saida,Estoque!A105,quantidade_comprada)),\"\")","v":""}]
[null,null,null,{"$f":"IFERROR(IF(A106=\"\",\"\",SUMIF(Codigo_Produto,Estoque!A106,quantidade_adquirida)-SUMIF(cod_saida,Estoque!A106,quantidade_comprada)),\"\")","v":""}]
[null,null,null,{"$f":"IFERROR(IF(A107=\"\",\"\",SUMIF(Codigo_Produto,Estoque!A107,quantidade_adquirida)-SUMIF(cod_saida,Estoque!A107,quantidade_comprada)),\"\")","v":""}]
[null,null,null,{"$f":"IFERROR(IF(A108=\"\",\"\",SUMIF(Codigo_Produto,Estoque!A108,quantidade_adquirida)-SUMIF(cod_saida,Estoque!A108,quantidade_comprada)),\"\")","v":""}]
[null,null,null,{"$f":"IFERROR(IF(A109=\"\",\"\",SUMIF(Codigo_Produto,Estoque!A109,quantidade_adquirida)-SUMIF(cod_saida,Estoque!A109,quantidade_comprada)),\"\")","v":""}]
[null,null,null,{"$f":"IFERROR(IF(A110=\"\",\"\",SUMIF(Codigo_Produto,Estoque!A110,quantidade_adquirida)-SUMIF(cod_saida,Estoque!A110,quantidade_comprada)),\"\")","v":""}]
[null,null,null,{"$f":"IFERROR(IF(A111=\"\",\"\",SUMIF(Codigo_Produto,Estoque!A111,quantidade_adquirida)-SUMIF(cod_saida,Estoque!A111,quantidade_comprada)),\"\")","v":""}]
[null,null,null,{"$f":"IFERROR(IF(A112=\"\",\"\",SUMIF(Codigo_Produto,Estoque!A112,quantidade_adquirida)-SUMIF(cod_saida,Estoque!A112,quantidade_comprada)),\"\")","v":""}]
[null,null,null,{"$f":"IFERROR(IF(A113=\"\",\"\",SUMIF(Codigo_Produto,Estoque!A113,quantidade_adquirida)-SUMIF(cod_saida,Estoque!A113,quantidade_comprada)),\"\")","v":""}]
[null,null,null,{"$f":"IFERROR(IF(A114=\"\",\"\",SUMIF(Codigo_Produto,Estoque!A114,quantidade_adquirida)-SUMIF(cod_saida,Estoque!A114,quantidade_comprada)),\"\")","v":""}]
[null,null,null,{"$f":"IFERROR(IF(A115=\"\",\"\",SUMIF(Codigo_Produto,Estoque!A115,quantidade_adquirida)-SUMIF(cod_saida,Estoque!A115,quantidade_comprada)),\"\")","v":""}]
[null,null,null,{"$f":"IFERROR(IF(A116=\"\",\"\",SUMIF(Codigo_Produto,Estoque!A116,quantidade_adquirida)-SUMIF(cod_saida,Estoque!A116,quantidade_comprada)),\"\")","v":""}]
[null,null,null,{"$f":"IFERROR(IF(A117=\"\",\"\",SUMIF(Codigo_Produto,Estoque!A117,quantidade_adquirida)-SUMIF(cod_saida,Estoque!A117,quantidade_comprada)),\"\")","v":""}]
[null,null,null,{"$f":"IFERROR(IF(A118=\"\",\"\",SUMIF(Codigo_Produto,Estoque!A118,quantidade_adquirida)-SUMIF(cod_saida,Estoque!A118,quantidade_comprada)),\"\")","v":""}]
[null,null,null,{"$f":"IFERROR(IF(A119=\"\",\"\",SUMIF(Codigo_Produto,Estoque!A119,quantidade_adquirida)-SUMIF(cod_saida,Estoque!A119,quantidade_comprada)),\"\")","v":""}]
[null,null,null,{"$f":"IFERROR(IF(A120=\"\",\"\",SUMIF(Codigo_Produto,Estoque!A120,quantidade_adquirida)-SUMIF(cod_saida,Estoque!A120,quantidade_comprada)),\"\")","v":""}]
[null,null,null,{"$f":"IFERROR(IF(A121=\"\",\"\",SUMIF(Codigo_Produto,Estoque!A121,quantidade_adquirida)-SUMIF(cod_saida,Estoque!A121,quantidade_comprada)),\"\")","v":""}]
[null,null,null,{"$f":"IFERROR(IF(A122=\"\",\"\",SUMIF(Codigo_Produto,Estoque!A122,quantidade_adquirida)-SUMIF(cod_saida,Estoque!A122,quantidade_comprada)),\"\")","v":""}]
[null,null,null,{"$f":"IFERROR(IF(A123=\"\",\"\",SUMIF(Codigo_Produto,Estoque!A123,quantidade_adquirida)-SUMIF(cod_saida,Estoque!A123,quantidade_comprada)),\"\")","v":""}]
[null,null,null,{"$f":"IFERROR(IF(A124=\"\",\"\",SUMIF(Codigo_Produto,Estoque!A124,quantidade_adquirida)-SUMIF(cod_saida,Estoque!A124,quantidade_comprada)),\"\")","v":""}]
[null,null,null,{"$f":"IFERROR(IF(A125=\"\",\"\",SUMIF(Codigo_Produto,Estoque!A125,quantidade_adquirida)-SUMIF(cod_saida,Estoque!A125,quantidade_comprada)),\"\")","v":""}]
[null,null,null,{"$f":"IFERROR(IF(A126=\"\",\"\",SUMIF(Codigo_Produto,Estoque!A126,quantidade_adquirida)-SUMIF(cod_saida,Estoque!A126,quantidade_comprada)),\"\")","v":""}]
[null,null,null,{"$f":"IFERROR(IF(A127=\"\",\"\",SUMIF(Codigo_Produto,Estoque!A127,quantidade_adquirida)-SUMIF(cod_saida,Estoque!A127,quantidade_comprada)),\"\")","v":""}]
[null,null,null,{"$f":"IFERROR(IF(A128=\"\",\"\",SUMIF(Codigo_Produto,Estoque!A128,quantidade_adquirida)-SUMIF(cod_saida,Estoque!A128,quantidade_comprada)),\"\")","v":""}]
[null,null,null,{"$f":"IFERROR(IF(A129=\"\",\"\",SUMIF(Codigo_Produto,Estoque!A129,quantidade_adquirida)-SUMIF(cod_saida,Estoque!A129,quantidade_comprada)),\"\")","v":""}]
[null,null,null,{"$f":"IFERROR(IF(A130=\"\",\"\",SUMIF(Codigo_Produto,Estoque!A130,quantidade_adquirida)-SUMIF(cod_saida,Estoque!A130,quantidade_comprada)),\"\")","v":""}]
[null,null,null,{"$f":"IFERROR(IF(A131=\"\",\"\",SUMIF(Codigo_Produto,Estoque!A131,quantidade_adquirida)-SUMIF(cod_saida,Estoque!A131,quantidade_comprada)),\"\")","v":""}]
[null,null,null,{"$f":"IFERROR(IF(A132=\"\",\"\",SUMIF(Codigo_Produto,Estoque!A132,quantidade_adquirida)-SUMIF(cod_saida,Estoque!A132,quantidade_comprada)),\"\")","v":""}]
[null,null,null,{"$f":"IFERROR(IF(A133=\"\",\"\",SUMIF(Codigo_Produto,Estoque!A133,quantidade_adquirida)-SUMIF(cod_saida,Estoque!A133,quantidade_comprada)),\"\")","v":""}]
[null,null,null,{"$f":"IFERROR(IF(A134=\"\",\"\",SUMIF(Codigo_Produto,Estoque!A134,quantidade_adquirida)-SUMIF(cod_saida,Estoque!A134,quantidade_comprada)),\"\")","v":""}]
[null,null,null,{"$f":"IFERROR(IF(A135=\"\",\"\",SUMIF(Codigo_Produto,Estoque!A135,quantidade_adquirida)-SUMIF(cod_saida,Estoque!A135,quantidade_comprada)),\"\")","v":""}]
[null,null,null,{"$f":"IFERROR(IF(A136=\"\",\"\",SUMIF(Codigo_Produto,Estoque!A136,quantidade_adquirida)-SUMIF(cod_saida,Estoque!A136,quantidade_comprada)),\"\")","v":""}]
[null,null,null,{"$f":"IFERROR(IF(A137=\"\",\"\",SUMIF(Codigo_Produto,Estoque!A137,quantidade_adquirida)-SUMIF(cod_saida,Estoque!A137,quantidade_comprada)),\"\")","v":""}]
[null,null,null,{"$f":"IFERROR(IF(A138=\"\",\"\",SUMIF(Codigo_Produto,Estoque!A138,quantidade_adquirida)-SUMIF(cod_saida,Estoque!A138,quantidade_comprada)),\"\")","v":""}]
[null,null,null,{"$f":"IFERROR(IF(A139=\"\",\"\",SUMIF(Codigo_Produto,Estoque!A139,quantidade_adquirida)-SUMIF(cod_saida,Estoque!A139,quantidade_comprada)),\"\")","v":""}]
[null,null,null,{"$f":"IFERROR(IF(A140=\"\",\"\",SUMIF(Codigo_Produto,Estoque!A140,quantidade_adquirida)-SUMIF(cod_saida,Estoque!A140,quantidade_comprada)),\"\")","v":""}]
[null,null,null,{"$f":"IFERROR(IF(A141=\"\",\"\",SUMIF(Codigo_Produto,Estoque!A141,quantidade_adquirida)-SUMIF(cod_saida,Estoque!A141,quantidade_comprada)),\"\")","v":""}]
[null,null,null,{"$f":"IFERROR(IF(A142=\"\",\"\",SUMIF(Codigo_Produto,Estoque!A142,quantidade_adquirida)-SUMIF(cod_saida,Estoque!A142,quantidade_comprada)),\"\")","v":""}]
[null,null,null,{"$f":"IFERROR(IF(A143=\"\",\"\",SUMIF(Codigo_Produto,Estoque!A143,quantidade_adquirida)-SUMIF(cod_saida,Estoque!A143,quantidade_comprada)),\"\")","v":""}]
[null,null,null,{"$f":"IFERROR(IF(A144=\"\",\"\",SUMIF(Codigo_Produto,Estoque!A144,quantidade_adquirida)-SUMIF(cod_saida,Estoque!A144,quantidade_comprada)),\"\")","v":""}]
[null,null,null,{"$f":"IFERROR(IF(A145=\"\",\"\",SUMIF(Codigo_Produto,Estoque!A145,quantidade_adquirida)-SUMIF(cod_saida,Estoque!A145,quantidade_comprada)),\"\")","v":""}]
[null,null,null,{"$f":"IFERROR(IF(A146=\"\",\"\",SUMIF(Codigo_Produto,Estoque!A146,quantidade_adquirida)-SUMIF(cod_saida,Estoque!A146,quantidade_comprada)),\"\")","v":""}]
[null,null,null,{"$f":"IFERROR(IF(A147=\"\",\"\",SUMIF(Codigo_Produto,Estoque!A147,quantidade_adquirida)-SUMIF(cod_saida,Estoque!A147,quantidade_comprada)),\"\")","v":""}]
[null,null,null,{"$f":"IFERROR(IF(A148=\"\",\"\",SUMIF(Codigo_Produto,Estoque!A148,quantidade_adquirida)-SUMIF(cod_saida,Estoque!A148,quantidade_comprada)),\"\")","v":""}]
[null,null,null,{"$f":"IFERROR(IF(A149=\"\",\"\",SUMIF(Codigo_Produto,Estoque!A149,quantidade_adquirida)-SUMIF(cod_saida,Estoque!A149,quantidade_comprada)),\"\")","v":""}]
[null,null,null,{"$f":"IFERROR(IF(A150=\"\",\"\",SUMIF(Codigo_Produto,Estoque!A150,quantidade_adquirida)-SUMIF(cod_saida,Estoque!A150,quantidade_comprada)),\"\")","v":""}]
[null,null,null,{"$f":"IFERROR(IF(A151=\"\",\"\",SUMIF(Codigo_Produto,Estoque!A151,quantidade_adquirida)-SUMIF(cod_saida,Estoque!A151,quantidade_comprada)),\"\")","v":""}]
[null,null,null,{"$f":"IFERROR(IF(A152=\"\",\"\",SUMIF(Codigo_Produto,Estoque!A152,quantidade_adquirida)-SUMIF(cod_saida,Estoque!A152,quantidade_comprada)),\"\")","v":""}]
[null,null,null,{"$f":"IFERROR(IF(A153=\"\",\"\",SUMIF(Codigo_Produto,Estoque!A153,quantidade_adquirida)-SUMIF(cod_saida,Estoque!A153,quantidade_comprada)),\"\")","v":""}]
[null,null,null,{"$f":"IFERROR(IF(A154=\"\",\"\",SUMIF(Codigo_Produto,Estoque!A154,quantidade_adquirida)-SUMIF(cod_saida,Estoque!A154,quantidade_comprada)),\"\")","v":""}]
[null,null,null,{"$f":"IFERROR(IF(A155=\"\",\"\",SUMIF(Codigo_Produto,Estoque!A155,quantidade_adquirida)-SUMIF(cod_saida,Estoque!A155,quantidade_comprada)),\"\")","v":""}]
[null,null,null,{"$f":"IFERROR(IF(A156=\"\",\"\",SUMIF(Codigo_Produto,Estoque!A156,quantidade_adquirida)-SUMIF(cod_saida,Estoque!A156,quantidade_comprada)),\"\")","v":""}]
[null,null,null,{"$f":"IFERROR(IF(A157=\"\",\"\",SUMIF(Codigo_Produto,Estoque!A157,quantidade_adquirida)-SUMIF(cod_saida,Estoque!A157,quantidade_comprada)),\"\")","v":""}]
[null,null,null,{"$f":"IFERROR(IF(A158=\"\",\"\",SUMIF(Codigo_Produto,Estoque!A158,quantidade_adquirida)-SUMIF(cod_saida,Estoque!A158,quantidade_comprada)),\"\")","v":""}]
[null,null,null,{"$f":"IFERROR(IF(A159=\"\",\"\",SUMIF(Codigo_Produto,Estoque!A159,quantidade_adquirida)-SUMIF(cod_saida,Estoque!A159,quantidade_comprada)),\"\")","v":""}]
[null,null,null,{"$f":"IFERROR(IF(A160=\"\",\"\",SUMIF(Codigo_Produto,Estoque!A160,quantidade_adquirida)-SUMIF(cod_saida,Estoque!A160,quantidade_comprada)),\"\")","v":""}]
[null,null,null,{"$f":"IFERROR(IF(A161=\"\",\"\",SUMIF(Codigo_Produto,Estoque!A161,quantidade_adquirida)-SUMIF(cod_saida,Estoque!A161,quantidade_comprada)),\"\")","v":""}]
[null,null,null,{"$f":"IFERROR(IF(A162=\"\",\"\",SUMIF(Codigo_Produto,Estoque!A162,quantidade_adquirida)-SUMIF(cod_saida,Estoque!A162,quantidade_comprada)),\"\")","v":""}]
[null,null,null,{"$f":"IFERROR(IF(A163=\"\",\"\",SUMIF(Codigo_Produto,Estoque!A163,quantidade_adquirida)-SUMIF(cod_saida,Estoque!A163,quantidade_comprada)),\"\")","v":""}]
[null,null,null,{"$f":"IFERROR(IF(A164=\"\",\"\",SUMIF(Codigo_Produto,Estoque!A164,quantidade_adquirida)-SUMIF(cod_saida,Estoque!A164,quantidade_comprada)),\"\")","v":""}]
[null,null,null,{"$f":"IFERROR(IF(A165=\"\",\"\",SUMIF(Codigo_Produto,Estoque!A165,quantidade_adquirida)-SUMIF(cod_saida,Estoque!A165,quantidade_comprada)),\"\")","v":""}]
[null,null,null,{"$f":"IFERROR(IF(A166=\"\",\"\",SUMIF(Codigo_Produto,Estoque!A166,quantidade_adquirida)-SUMIF(cod_saida,Estoque!A166,quantidade_comprada)),\"\")","v":""}]
[null,null,null,{"$f":"IFERROR(IF(A167=\"\",\"\",SUMIF(Codigo_Produto,Estoque!A167,quantidade_adquirida)-SUMIF(cod_saida,Estoque!A167,quantidade_comprada)),\"\")","v":""}]
[null,null,null,{"$f":"IFERROR(IF(A168=\"\",\"\",SUMIF(Codigo_Produto,Estoque!A168,quantidade_adquirida)-SUMIF(cod_saida,Estoque!A168,quantidade_comprada)),\"\")","v":""}]
[null,null,null,{"$f":"IFERROR(IF(A169=\"\",\"\",SUMIF(Codigo_Produto,Estoque!A169,quantidade_adquirida)-SUMIF(cod_saida,Estoque!A169,quantidade_comprada)),\"\")","v":""}]
[null,null,null,{"$f":"IFERROR(IF(A170=\"\",\"\",SUMIF(Codigo_Produto,Estoque!A170,quantidade_adquirida)-SUMIF(cod_saida,Estoque!A170,quantidade_comprada)),\"\")","v":""}]
[null,null,null,{"$f":"IFERROR(IF(A171=\"\",\"\",SUMIF(Codigo_Produto,Estoque!A171,quantidade_adquirida)-SUMIF(cod_saida,Estoque!A171,quantidade_comprada)),\"\")","v":""}]
[null,null,null,{"$f":"IFERROR(IF(A172=\"\",\"\",SUMIF(Codigo_Produto,Estoque!A172,quantidade_adquirida)-SUMIF(cod_saida,Estoque!A172,quantidade_comprada)),\"\")","v":""}]
[null,null,null,{"$f":"IFERROR(IF(A173=\"\",\"\",SUMIF(Codigo_Produto,Estoque!A173,quantidade_adquirida)-SUMIF(cod_saida,Estoque!A173,quantidade_comprada)),\"\")","v":""}]
[null,null,null,{"$f":"IFERROR(IF(A174=\"\",\"\",SUMIF(Codigo_Produto,Estoque!A174,quantidade_adquirida)-SUMIF(cod_saida,Estoque!A174,quantidade_comprada)),\"\")","v":""}]
[null,null,null,{"$f":"IFERROR(IF(A175=\"\",\"\",SUMIF(Codigo_Produto,Estoque!A175,quantidade_adquirida)-SUMIF(cod_saida,Estoque!A175,quantidade_comprada)),\"\")","v":""}]
[null,null,null,{"$f":"IFERROR(IF(A176=\"\",\"\",SUMIF(Codigo_Produto,Estoque!A176,quantidade_adquirida)-SUMIF(cod_saida,Estoque!A176,quantidade_comprada)),\"\")","v":""}]
[null,null,null,{"$f":"IFERROR(IF(A177=\"\",\"\",SUMIF(Codigo_Produto,Estoque!A177,quantidade_adquirida)-SUMIF(cod_saida,Estoque!A177,quantidade_comprada)),\"\")","v":""}]
[null,null,null,{"$f":"IFERROR(IF(A178=\"\",\"\",SUMIF(Codigo_Produto,Estoque!A178,quantidade_adquirida)-SUMIF(cod_saida,Estoque!A178,quantidade_comprada)),\"\")","v":""}]
[null,null,null,{"$f":"IFERROR(IF(A179=\"\",\"\",SUMIF(Codigo_Produto,Estoque!A179,quantidade_adquirida)-SUMIF(cod_saida,Estoque!A179,quantidade_comprada)),\"\")","v":""}]
[null,null,null,{"$f":"IFERROR(IF(A180=\"\",\"\",SUMIF(Codigo_Produto,Estoque!A180,quantidade_adquirida)-SUMIF(cod_saida,Estoque!A180,quantidade_comprada)),\"\")","v":""}]
[null,null,null,{"$f":"IFERROR(IF(A181=\"\",\"\",SUMIF(Codigo_Produto,Estoque!A181,quantidade_adquirida)-SUMIF(cod_saida,Estoque!A181,quantidade_comprada)),\"\")","v":""}]
[null,null,null,{"$f":"IFERROR(IF(A182=\"\",\"\",SUMIF(Codigo_Produto,Estoque!A182,quantidade_adquirida)-SUMIF(cod_saida,Estoque!A182,quantidade_comprada)),\"\")","v":""}]
[null,null,null,{"$f":"IFERROR(IF(A183=\"\",\"\",SUMIF(Codigo_Produto,Estoque!A183,quantidade_adquirida)-SUMIF(cod_saida,Estoque!A183,quantidade_comprada)),\"\")","v":""}]
[null,null,null,{"$f":"IFERROR(IF(A184=\"\",\"\",SUMIF(Codigo_Produto,Estoque!A184,quantidade_adquirida)-SUMIF(cod_saida,Estoque!A184,quantidade_comprada)),\"\")","v":""}]
[null,null,null,{"$f":"IFERROR(IF(A185=\"\",\"\",SUMIF(Codigo_Produto,Estoque!A185,quantidade_adquirida)-SUMIF(cod_saida,Estoque!A185,quantidade_comprada)),\"\")","v":""}]
[null,null,null,{"$f":"IFERROR(IF(A186=\"\",\"\",SUMIF(Codigo_Produto,Estoque!A186,quantidade_adquirida)-SUMIF(cod_saida,Estoque!A186,quantidade_comprada)),\"\")","v":""}]
[null,null,null,{"$f":"IFERROR(IF(A187=\"\",\"\",SUMIF(Codigo_Produto,Estoque!A187,quantidade_adquirida)-SUMIF(cod_saida,Estoque!A187,quantidade_comprada)),\"\")","v":""}]
[null,null,null,{"$f":"IFERROR(IF(A188=\"\",\"\",SUMIF(Codigo_Produto,Estoque!A188,quantidade_adquirida)-SUMIF(cod_saida,Estoque!A188,quantidade_comprada)),\"\")","v":""}]
[null,null,null,{"$f":"IFERROR(IF(A189=\"\",\"\",SUMIF(Codigo_Produto,Estoque!A189,quantidade_adquirida)-SUMIF(cod_saida,Estoque!A189,quantidade_comprada)),\"\")","v":""}]
[null,null,null,{"$f":"IFERROR(IF(A190=\"\",\"\",SUMIF(Codigo_Produto,Estoque!A190,quantidade_adquirida)-SUMIF(cod_saida,Estoque!A190,quantidade_comprada)),\"\")","v":""}]
[null,null,null,{"$f":"IFERROR(IF(A191=\"\",\"\",SUMIF(Codigo_Produto,Estoque!A191,quantidade_adquirida)-SUMIF(cod_saida,Estoque!A191,quantidade_comprada)),\"\")","v":""}]
[null,null,null,{"$f":"IFERROR(IF(A192=\"\",\"\",SUMIF(Codigo_Produto,Estoque!A192,quantidade_adquirida)-SUMIF(cod_saida,Estoque!A192,quantidade_comprada)),\"\")","v":""}]
[null,null,null,{"$f":"IFERROR(IF(A193=\"\",\"\",SUMIF(Codigo_Produto,Estoque!A193,quantidade_adquirida)-SUMIF(cod_saida,Estoque!A193,quantidade_comprada)),\"\")","v":""}]
[null,null,null,{"$f":"IFERROR(IF(A194=\"\",\"\",SUMIF(Codigo_Produto,Estoque!A194,quantidade_adquirida)-SUMIF(cod_saida,Estoque!A194,quantidade_comprada)),\"\")","v":""}]
[null,null,null,{"$f":"IFERROR(IF(A195=\"\",\"\",SUMIF(Codigo_Produto,Estoque!A195,quantidade_adquirida)-SUMIF(cod_saida,Estoque!A195,quantidade_comprada)),\"\")","v":""}]
[null,null,null,{"$f":"IFERROR(IF(A196=\"\",\"\",SUMIF(Codigo_Produto,Estoque!A196,quantidade_adquirida)-SUMIF(cod_saida,Estoque!A196,quantidade_comprada)),\"\")","v":""}]
[null,null,null,{"$f":"IFERROR(IF(A197=\"\",\"\",SUMIF(Codigo_Produto,Estoque!A197,quantidade_adquirida)-SUMIF(cod_saida,Estoque!A197,quantidade_comprada)),\"\")","v":""}]
[null,null,null,{"$f":"IFERROR(IF(A198=\"\",\"\",SUMIF(Codigo_Produto,Estoque!A198,quantidade_adquirida)-SUMIF(cod_saida,Estoque!A198,quantidade_comprada)),\"\")","v":""}]
[null,null,null,{"$f":"IFERROR(IF(A199=\"\",\"\",SUMIF(Codigo_Produto,Estoque!A199,quantidade_adquirida)-SUMIF(cod_saida,Estoque!A199,quantidade_comprada)),\"\")","v":""}]
[null,null,null,{"$f":"IFERROR(IF(A200=\"\",\"\",SUMIF(Codigo_Produto,Estoque!A200,quantidade_adquirida)-SUMIF(cod_saida,Estoque!A200,quantidade_comprada)),\"\")","v":""}]
[null,null,null,{"$f":"IFERROR(IF(A201=\"\",\"\",SUMIF(Codigo_Produto,Estoque!A201,quantidade_adquirida)-SUMIF(cod_saida,Estoque!A201,quantidade_comprada)),\"\")","v":""}]
[null,null,null,{"$f":"IFERROR(IF(A202=\"\",\"\",SUMIF(Codigo_Produto,Estoque!A202,quantidade_adquirida)-SUMIF(cod_saida,Estoque!A202,quantidade_comprada)),\"\")","v":""}]
[null,null,null,{"$f":"IFERROR(IF(A203=\"\",\"\",SUMIF(Codigo_Produto,Estoque!A203,quantidade_adquirida)-SUMIF(cod_saida,Estoque!A203,quantidade_comprada)),\"\")","v":""}]
[null,null,null,{"$f":"IFERROR(IF(A204=\"\",\"\",SUMIF(Codigo_Produto,Estoque!A204,quantidade_adquirida)-SUMIF(cod_saida,Estoque!A204,quantidade_comprada)),\"\")","v":""}]
[null,null,null,{"$f":"IFERROR(IF(A205=\"\",\"\",SUMIF(Codigo_Produto,Estoque!A205,quantidade_adquirida)-SUMIF(cod_saida,Estoque!A205,quantidade_comprada)),\"\")","v":""}]
[null,null,null,{"$f":"IFERROR(IF(A206=\"\",\"\",SUMIF(Codigo_Produto,Estoque!A206,quantidade_adquirida)-SUMIF(cod_saida,Estoque!A206,quantidade_comprada)),\"\")","v":""}]
[null,null,null,{"$f":"IFERROR(IF(A207=\"\",\"\",SUMIF(Codigo_Produto,Estoque!A207,quantidade_adquirida)-SUMIF(cod_saida,Estoque!A207,quantidade_comprada)),\"\")","v":""}]
[null,null,null,{"$f":"IFERROR(IF(A208=\"\",\"\",SUMIF(Codigo_Produto,Estoque!A208,quantidade_adquirida)-SUMIF(cod_saida,Estoque!A208,quantidade_comprada)),\"\")","v":""}]
[null,null,null,{"$f":"IFERROR(IF(A209=\"\",\"\",SUMIF(Codigo_Produto,Estoque!A209,quantidade_adquirida)-SUMIF(cod_saida,Estoque!A209,quantidade_comprada)),\"\")","v":""}]
[null,null,null,{"$f":"IFERROR(IF(A210=\"\",\"\",SUMIF(Codigo_Produto,Estoque!A210,quantidade_adquirida)-SUMIF(cod_saida,Estoque!A210,quantidade_comprada)),\"\")","v":""}]
[null,null,null,{"$f":"IFERROR(IF(A211=\"\",\"\",SUMIF(Codigo_Produto,Estoque!A211,quantidade_adquirida)-SUMIF(cod_saida,Estoque!A211,quantidade_comprada)),\"\")","v":""}]
[null,null,null,{"$f":"IFERROR(IF(A212=\"\",\"\",SUMIF(Codigo_Produto,Estoque!A212,quantidade_adquirida)-SUMIF(cod_saida,Estoque!A212,quantidade_comprada)),\"\")","v":""}]
[null,null,null,{"$f":"IFERROR(IF(A213=\"\",\"\",SUMIF(Codigo_Produto,Estoque!A213,quantidade_adquirida)-SUMIF(cod_saida,Estoque!A213,quantidade_comprada)),\"\")","v":""}]
[null,null,null,{"$f":"IFERROR(IF(A214=\"\",\"\",SUMIF(Codigo_Produto,Estoque!A214,quantidade_adquirida)-SUMIF(cod_saida,Estoque!A214,quantidade_comprada)),\"\")","v":""}]
[null,null,null,{"$f":"IFERROR(IF(A215=\"\",\"\",SUMIF(Codigo_Produto,Estoque!A215,quantidade_adquirida)-SUMIF(cod_saida,Estoque!A215,quantidade_comprada)),\"\")","v":""}]
[null,null,null,{"$f":"IFERROR(IF(A216=\"\",\"\",SUMIF(Codigo_Produto,Estoque!A216,quantidade_adquirida)-SUMIF(cod_saida,Estoque!A216,quantidade_comprada)),\"\")","v":""}]
[null,null,null,{"$f":"IFERROR(IF(A217=\"\",\"\",SUMIF(Codigo_Produto,Estoque!A217,quantidade_adquirida)-SUMIF(cod_saida,Estoque!A217,quantidade_comprada)),\"\")","v":""}]
[null,null,null,{"$f":"IFERROR(IF(A218=\"\",\"\",SUMIF(Codigo_Produto,Estoque!A218,quantidade_adquirida)-SUMIF(cod_saida,Estoque!A218,quantidade_comprada)),\"\")","v":""}]
[null,null,null,{"$f":"IFERROR(IF(A219=\"\",\"\",SUMIF(Codigo_Produto,Estoque!A219,quantidade_adquirida)-SUMIF(cod_saida,Estoque!A219,quantidade_comprada)),\"\")","v":""}]
[null,null,null,{"$f":"IFERROR(IF(A220=\"\",\"\",SUMIF(Codigo_Produto,Estoque!A220,quantidade_adquirida)-SUMIF(cod_saida,Estoque!A220,quantidade_comprada)),\"\")","v":""}]
[null,null,null,{"$f":"IFERROR(IF(A221=\"\",\"\",SUMIF(Codigo_Produto,Estoque!A221,quantidade_adquirida)-SUMIF(cod_saida,Estoque!A221,quantidade_comprada)),\"\")","v":""}]
[null,null,null,{"$f":"IFERROR(IF(A222=\"\",\"\",SUMIF(Codigo_Produto,Estoque!A222,quantidade_adquirida)-SUMIF(cod_saida,Estoque!A222,quantidade_comprada)),\"\")","v":""}]
[null,null,null,{"$f":"IFERROR(IF(A223=\"\",\"\",SUMIF(Codigo_Produto,Estoque!A223,quantidade_adquirida)-SUMIF(cod_saida,Estoque!A223,quantidade_comprada)),\"\")","v":""}]
[null,null,null,{"$f":"IFERROR(IF(A224=\"\",\"\",SUMIF(Codigo_Produto,Estoque!A224,quantidade_adquirida)-SUMIF(cod_saida,Estoque!A224,quantidade_comprada)),\"\")","v":""}]
[null,null,null,{"$f":"IFERROR(IF(A225=\"\",\"\",SUMIF(Codigo_Produto,Estoque!A225,quantidade_adquirida)-SUMIF(cod_saida,Estoque!A225,quantidade_comprada)),\"\")","v":""}]
[null,null,null,{"$f":"IFERROR(IF(A226=\"\",\"\",SUMIF(Codigo_Produto,Estoque!A226,quantidade_adquirida)-SUMIF(cod_saida,Estoque!A226,quantidade_comprada)),\"\")","v":""}]
[null,null,null,{"$f":"IFERROR(IF(A227=\"\",\"\",SUMIF(Codigo_Produto,Estoque!A227,quantidade_adquirida)-SUMIF(cod_saida,Estoque!A227,quantidade_comprada)),\"\")","v":""}]
[null,null,null,{"$f":"IFERROR(IF(A228=\"\",\"\",SUMIF(Codigo_Produto,Estoque!A228,quantidade_adquirida)-SUMIF(cod_saida,Estoque!A228,quantidade_comprada)),\"\")","v":""}]
[null,null,null,{"$f":"IFERROR(IF(A229=\"\",\"\",SUMIF(Codigo_Produto,Estoque!A229,quantidade_adquirida)-SUMIF(cod_saida,Estoque!A229,quantidade_comprada)),\"\")","v":""}]
[null,null,null,{"$f":"IFERROR(IF(A230=\"\",\"\",SUMIF(Codigo_Produto,Estoque!A230,quantidade_adquirida)-SUMIF(cod_saida,Estoque!A230,quantidade_comprada)),\"\")","v":""}]
[null,null,null,{"$f":"IFERROR(IF(A231=\"\",\"\",SUMIF(Codigo_Produto,Estoque!A231,quantidade_adquirida)-SUMIF(cod_saida,Estoque!A231,quantidade_comprada)),\"\")","v":""}]
[null,null,null,{"$f":"IFERROR(IF(A232=\"\",\"\",SUMIF(Codigo_Produto,Estoque!A232,quantidade_adquirida)-SUMIF(cod_saida,Estoque!A232,quantidade_comprada)),\"\")","v":""}]
[null,null,null,{"$f":"IFERROR(IF(A233=\"\",\"\",SUMIF(Codigo_Produto,Estoque!A233,quantidade_adquirida)-SUMIF(cod_saida,Estoque!A233,quantidade_comprada)),\"\")","v":""}]
[null,null,null,{"$f":"IFERROR(IF(A234=\"\",\"\",SUMIF(Codigo_Produto,Estoque!A234,quantidade_adquirida)-SUMIF(cod_saida,Estoque!A234,quantidade_comprada)),\"\")","v":""}]
[null,null,null,{"$f":"IFERROR(IF(A235=\"\",\"\",SUMIF(Codigo_Produto,Estoque!A235,quantidade_adquirida)-SUMIF(cod_saida,Estoque!A235,quantidade_comprada)),\"\")","v":""}]
[null,null,null,{"$f":"IFERROR(IF(A236=\"\",\"\",SUMIF(Codigo_Produto,Estoque!A236,quantidade_adquirida)-SUMIF(cod_saida,Estoque!A236,quantidade_comprada)),\"\")","v":""}]
[null,null,null,{"$f":"IFERROR(IF(A237=\"\",\"\",SUMIF(Codigo_Produto,Estoque!A237,quantidade_adquirida)-SUMIF(cod_saida,Estoque!A237,quantidade_comprada)),\"\")","v":""}]
[null,null,null,{"$f":"IFERROR(IF(A238=\"\",\"\",SUMIF(Codigo_Produto,Estoque!A238,quantidade_adquirida)-SUMIF(cod_saida,Estoque!A238,quantidade_comprada)),\"\")","v":""}]
[null,null,null,{"$f":"IFERROR(IF(A239=\"\",\"\",SUMIF(Codigo_Produto,Estoque!A239,quantidade_adquirida)-SUMIF(cod_saida,Estoque!A239,quantidade_comprada)),\"\")","v":""}]
[null,null,null,{"$f":"IFERROR(IF(A240=\"\",\"\",SUMIF(Codigo_Produto,Estoque!A240,quantidade_adquirida)-SUMIF(cod_saida,Estoque!A240,quantidade_comprada)),\"\")","v":""}]
[null,null,null,{"$f":"IFERROR(IF(A241=\"\",\"\",SUMIF(Codigo_Produto,Estoque!A241,quantidade_adquirida)-SUMIF(cod_saida,Estoque!A241,quantidade_comprada)),\"\")","v":""}]
[null,null,null,{"$f":"IFERROR(IF(A242=\"\",\"\",SUMIF(Codigo_Produto,Estoque!A242,quantidade_adquirida)-SUMIF(cod_saida,Estoque!A242,quantidade_comprada)),\"\")","v":""}]
[null,null,null,{"$f":"IFERROR(IF(A243=\"\",\"\",SUMIF(Codigo_Produto,Estoque!A243,quantidade_adquirida)-SUMIF(cod_saida,Estoque!A243,quantidade_comprada)),\"\")","v":""}]
[null,null,null,{"$f":"IFERROR(IF(A244=\"\",\"\",SUMIF(Codigo_Produto,Estoque!A244,quantidade_adquirida)-SUMIF(cod_saida,Estoque!A244,quantidade_comprada)),\"\")","v":""}]
[null,null,null,{"$f":"IFERROR(IF(A245=\"\",\"\",SUMIF(Codigo_Produto,Estoque!A245,quantidade_adquirida)-SUMIF(cod_saida,Estoque!A245,quantidade_comprada)),\"\")","v":""}]
[null,null,null,{"$f":"IFERROR(IF(A246=\"\",\"\",SUMIF(Codigo_Produto,Estoque!A246,quantidade_adquirida)-SUMIF(cod_saida,Estoque!A246,quantidade_comprada)),\"\")","v":""}]
[null,null,null,{"$f":"IFERROR(IF(A247=\"\",\"\",SUMIF(Codigo_Produto,Estoque!A247,quantidade_adquirida)-SUMIF(cod_saida,Estoque!A247,quantidade_comprada)),\"\")","v":""}]
[null,null,null,{"$f":"IFERROR(IF(A248=\"\",\"\",SUMIF(Codigo_Produto,Estoque!A248,quantidade_adquirida)-SUMIF(cod_saida,Estoque!A248,quantidade_comprada)),\"\")","v":""}]
[null,null,null,{"$f":"IFERROR(IF(A249=\"\",\"\",SUMIF(Codigo_Produto,Estoque!A249,quantidade_adquirida)-SUMIF(cod_saida,Estoque!A249,quantidade_comprada)),\"\")","v":""}]
[null,null,null,{"$f":"IFERROR(IF(A250=\"\",\"\",SUMIF(Codigo_Produto,Estoque!A250,quantidade_adquirida)-SUMIF(cod_saida,Estoque!A250,quantidade_comprada)),\"\")","v":""}]
[null,null,null,{"$f":"IFERROR(IF(A251=\"\",\"\",SUMIF(Codigo_Produto,Estoque!A251,quantidade_adquirida)-SUMIF(cod_saida,Estoque!A251,quantidade_comprada)),\"\")","v":""}]
[null,null,null,{"$f":"IFERROR(IF(A252=\"\",\"\",SUMIF(Codigo_Produto,Estoque!A252,quantidade_adquirida)-SUMIF(cod_saida,Estoque!A252,quantidade_comprada)),\"\")","v":""}]
[null,null,null,{"$f":"IFERROR(IF(A253=\"\",\"\",SUMIF(Codigo_Produto,Estoque!A253,quantidade_adquirida)-SUMIF(cod_saida,Estoque!A253,quantidade_comprada)),\"\")","v":""}]
[null,null,null,{"$f":"IFERROR(IF(A254=\"\",\"\",SUMIF(Codigo_Produto,Estoque!A254,quantidade_adquirida)-SUMIF(cod_saida,Estoque!A254,quantidade_comprada)),\"\")","v":""}]
[null,null,null,{"$f":"IFERROR(IF(A255=\"\",\"\",SUMIF(Codigo_Produto,Estoque!A255,quantidade_adquirida)-SUMIF(cod_saida,Estoque!A255,quantidade_comprada)),\"\")","v":""}]
[null,null,null,{"$f":"IFERROR(IF(A256=\"\",\"\",SUMIF(Codigo_Produto,Estoque!A256,quantidade_adquirida)-SUMIF(cod_saida,Estoque!A256,quantidade_comprada)),\"\")","v":""}]
[null,null,null,{"$f":"IFERROR(IF(A257=\"\",\"\",SUMIF(Codigo_Produto,Estoque!A257,quantidade_adquirida)-SUMIF(cod_saida,Estoque!A257,quantidade_comprada)),\"\")","v":""}]
[null,null,null,{"$f":"IFERROR(IF(A258=\"\",\"\",SUMIF(Codigo_Produto,Estoque!A258,quantidade_adquirida)-SUMIF(cod_saida,Estoque!A258,quantidade_comprada)),\"\")","v":""}]
[null,null,null,{"$f":"IFERROR(IF(A259=\"\",\"\",SUMIF(Codigo_Produto,Estoque!A259,quantidade_adquirida)-SUMIF(cod_saida,Estoque!A259,quantidade_comprada)),\"\")","v":""}]
[null,null,null,{"$f":"IFERROR(IF(A260=\"\",\"\",SUMIF(Codigo_Produto,Estoque!A260,quantidade_adquirida)-SUMIF(cod_saida,Estoque!A260,quantidade_comprada)),\"\")","v":""}]
[null,null,null,{"$f":"IFERROR(IF(A261=\"\",\"\",SUMIF(Codigo_Produto,Estoque!A261,quantidade_adquirida)-SUMIF(cod_saida,Estoque!A261,quantidade_comprada)),\"\")","v":""}]
[null,null,null,{"$f":"IFERROR(IF(A262=\"\",\"\",SUMIF(Codigo_Produto,Estoque!A262,quantidade_adquirida)-SUMIF(cod_saida,Estoque!A262,quantidade_comprada)),\"\")","v":""}]
[null,null,null,{"$f":"IFERROR(IF(A263=\"\",\"\",SUMIF(Codigo_Produto,Estoque!A263,quantidade_adquirida)-SUMIF(cod_saida,Estoque!A263,quantidade_comprada)),\"\")","v":""}]
[null,null,null,{"$f":"IFERROR(IF(A264=\"\",\"\",SUMIF(Codigo_Produto,Estoque!A264,quantidade_adquirida)-SUMIF(cod_saida,Estoque!A264,quantidade_comprada)),\"\")","v":""}]
[null,null,null,{"$f":"IFERROR(IF(A265=\"\",\"\",SUMIF(Codigo_Produto,Estoque!A265,quantidade_adquirida)-SUMIF(cod_saida,Estoque!A265,quantidade_comprada)),\"\")","v":""}]
[null,null,null,{"$f":"IFERROR(IF(A266=\"\",\"\",SUMIF(Codigo_Produto,Estoque!A266,quantidade_adquirida)-SUMIF(cod_saida,Estoque!A266,quantidade_comprada)),\"\")","v":""}]
[null,null,null,{"$f":"IFERROR(IF(A267=\"\",\"\",SUMIF(Codigo_Produto,Estoque!A267,quantidade_adquirida)-SUMIF(cod_saida,Estoque!A267,quantidade_comprada)),\"\")","v":""}]
[null,null,null,{"$f":"IFERROR(IF(A268=\"\",\"\",SUMIF(Codigo_Produto,Estoque!A268,quantidade_adquirida)-SUMIF(cod_saida,Estoque!A268,quantidade_comprada)),\"\")","v":""}]
[null,null,null,{"$f":"IFERROR(IF(A269=\"\",\"\",SUMIF(Codigo_Produto,Estoque!A269,quantidade_adquirida)-SUMIF(cod_saida,Estoque!A269,quantidade_comprada)),\"\")","v":""}]
[null,null,null,{"$f":"IFERROR(IF(A270=\"\",\"\",SUMIF(Codigo_Produto,Estoque!A270,quantidade_adquirida)-SUMIF(cod_saida,Estoque!A270,quantidade_comprada)),\"\")","v":""}]
[null,null,null,{"$f":"IFERROR(IF(A271=\"\",\"\",SUMIF(Codigo_Produto,Estoque!A271,quantidade_adquirida)-SUMIF(cod_saida,Estoque!A271,quantidade_comprada)),\"\")","v":""}]
[null,null,null,{"$f":"IFERROR(IF(A272=\"\",\"\",SUMIF(Codigo_Produto,Estoque!A272,quantidade_adquirida)-SUMIF(cod_saida,Estoque!A272,quantidade_comprada)),\"\")","v":""}]
[null,null,null,{"$f":"IFERROR(IF(A273=\"\",\"\",SUMIF(Codigo_Produto,Estoque!A273,quantidade_adquirida)-SUMIF(cod_saida,Estoque!A273,quantidade_comprada)),\"\")","v":""}]
[null,null,null,{"$f":"IFERROR(IF(A274=\"\",\"\",SUMIF(Codigo_Produto,Estoque!A274,quantidade_adquirida)-SUMIF(cod_saida,Estoque!A274,quantidade_comprada)),\"\")","v":""}]
[null,null,null,{"$f":"IFERROR(IF(A275=\"\",\"\",SUMIF(Codigo_Produto,Estoque!A275,quantidade_adquirida)-SUMIF(cod_saida,Estoque!A275,quantidade_comprada)),\"\")","v":""}]
[null,null,null,{"$f":"IFERROR(IF(A276=\"\",\"\",SUMIF(Codigo_Produto,Estoque!A276,quantidade_adquirida)-SUMIF(cod_saida,Estoque!A276,quantidade_comprada)),\"\")","v":""}]
[null,null,null,{"$f":"IFERROR(IF(A277=\"\",\"\",SUMIF(Codigo_Produto,Estoque!A277,quantidade_adquirida)-SUMIF(cod_saida,Estoque!A277,quantidade_comprada)),\"\")","v":""}]
[null,null,null,{"$f":"IFERROR(IF(A278=\"\",\"\",SUMIF(Codigo_Produto,Estoque!A278,quantidade_adquirida)-SUMIF(cod_saida,Estoque!A278,quantidade_comprada)),\"\")","v":""}]
[null,null,null,{"$f":"IFERROR(IF(A279=\"\",\"\",SUMIF(Codigo_Produto,Estoque!A279,quantidade_adquirida)-SUMIF(cod_saida,Estoque!A279,quantidade_comprada)),\"\")","v":""}]
[null,null,null,{"$f":"IFERROR(IF(A280=\"\",\"\",SUMIF(Codigo_Produto,Estoque!A280,quantidade_adquirida)-SUMIF(cod_saida,Estoque!A280,quantidade_comprada)),\"\")","v":""}]
[null,null,null,{"$f":"IFERROR(IF(A281=\"\",\"\",SUMIF(Codigo_Produto,Estoque!A281,quantidade_adquirida)-SUMIF(cod_saida,Estoque!A281,quantidade_comprada)),\"\")","v":""}]
[null,null,null,{"$f":"IFERROR(IF(A282=\"\",\"\",SUMIF(Codigo_Produto,Estoque!A282,quantidade_adquirida)-SUMIF(cod_saida,Estoque!A282,quantidade_comprada)),\"\")","v":""}]
[null,null,null,{"$f":"IFERROR(IF(A283=\"\",\"\",SUMIF(Codigo_Produto,Estoque!A283,quantidade_adquirida)-SUMIF(cod_saida,Estoque!A283,quantidade_comprada)),\"\")","v":""}]
[null,null,null,{"$f":"IFERROR(IF(A284=\"\",\"\",SUMIF(Codigo_Produto,Estoque!A284,quantidade_adquirida)-SUMIF(cod_saida,Estoque!A284,quantidade_comprada)),\"\")","v":""}]
[null,null,null,{"$f":"IFERROR(IF(A285=\"\",\"\",SUMIF(Codigo_Produto,Estoque!A285,quantidade_adquirida)-SUMIF(cod_saida,Estoque!A285,quantidade_comprada)),\"\")","v":""}]
[null,null,null,{"$f":"IFERROR(IF(A286=\"\",\"\",SUMIF(Codigo_Produto,Estoque!A286,quantidade_adquirida)-SUMIF(cod_saida,Estoque!A286,quantidade_comprada)),\"\")","v":""}]
[null,null,null,{"$f":"IFERROR(IF(A287=\"\",\"\",SUMIF(Codigo_Produto,Estoque!A287,quantidade_adquirida)-SUMIF(cod_saida,Estoque!A287,quantidade_comprada)),\"\")","v":""}]
[null,null,null,{"$f":"IFERROR(IF(A288=\"\",\"\",SUMIF(Codigo_Produto,Estoque!A288,quantidade_adquirida)-SUMIF(cod_saida,Estoque!A288,quantidade_comprada)),\"\")","v":""}]
[null,null,null,{"$f":"IFERROR(IF(A289=\"\",\"\",SUMIF(Codigo_Produto,Estoque!A289,quantidade_adquirida)-SUMIF(cod_saida,Estoque!A289,quantidade_comprada)),\"\")","v":""}]
[null,null,null,{"$f":"IFERROR(IF(A290=\"\",\"\",SUMIF(Codigo_Produto,Estoque!A290,quantidade_adquirida)-SUMIF(cod_saida,Estoque!A290,quantidade_comprada)),\"\")","v":""}]
[null,null,null,{"$f":"IFERROR(IF(A291=\"\",\"\",SUMIF(Codigo_Produto,Estoque!A291,quantidade_adquirida)-SUMIF(cod_saida,Estoque!A291,quantidade_comprada)),\"\")","v":""}]
[null,null,null,{"$f":"IFERROR(IF(A292=\"\",\"\",SUMIF(Codigo_Produto,Estoque!A292,quantidade_adquirida)-SUMIF(cod_saida,Estoque!A292,quantidade_comprada)),\"\")","v":""}]
[null,null,null,{"$f":"IFERROR(IF(A293=\"\",\"\",SUMIF(Codigo_Produto,Estoque!A293,quantidade_adquirida)-SUMIF(cod_saida,Estoque!A293,quantidade_comprada)),\"\")","v":""}]
[null,null,null,{"$f":"IFERROR(IF(A294=\"\",\"\",SUMIF(Codigo_Produto,Estoque!A294,quantidade_adquirida)-SUMIF(cod_saida,Estoque!A294,quantidade_comprada)),\"\")","v":""}]
[null,null,null,{"$f":"IFERROR(IF(A295=\"\",\"\",SUMIF(Codigo_Produto,Estoque!A295,quantidade_adquirida)-SUMIF(cod_saida,Estoque!A295,quantidade_comprada)),\"\")","v":""}]
[null,null,null,{"$f":"IFERROR(IF(A296=\"\",\"\",SUMIF(Codigo_Produto,Estoque!A296,quantidade_adquirida)-SUMIF(cod_saida,Estoque!A296,quantidade_comprada)),\"\")","v":""}]
[null,null,null,{"$f":"IFERROR(IF(A297=\"\",\"\",SUMIF(Codigo_Produto,Estoque!A297,quantidade_adquirida)-SUMIF(cod_saida,Estoque!A297,quantidade_comprada)),\"\")","v":""}]
[null,null,null,{"$f":"IFERROR(IF(A298=\"\",\"\",SUMIF(Codigo_Produto,Estoque!A298,quantidade_adquirida)-SUMIF(cod_saida,Estoque!A298,quantidade_comprada)),\"\")","v":""}]
[null,null,null,{"$f":"IFERROR(IF(A299=\"\",\"\",SUMIF(Codigo_Produto,Estoque!A299,quantidade_adquirida)-SUMIF(cod_saida,Estoque!A299,quantidade_comprada)),\"\")","v":""}]
[null,null,null,{"$f":"IFERROR(IF(A300=\"\",\"\",SUMIF(Codigo_Produto,Estoque!A300,quantidade_adquirida)-SUMIF(cod_saida,Estoque!A300,quantidade_comprada)),\"\")","v":""}]
[null,null,null,{"$f":"IFERROR(IF(A301=\"\",\"\",SUMIF(Codigo_Produto,Estoque!A301,quantidade_adquirida)-SUMIF(cod_saida,Estoque!A301,quantidade_comprada)),\"\")","v":""}]
[null,null,null,{"$f":"IFERROR(IF(A302=\"\",\"\",SUMIF(Codigo_Produto,Estoque!A302,quantidade_adquirida)-SUMIF(cod_saida,Estoque!A302,quantidade_comprada)),\"\")","v":""}]
[null,null,null,{"$f":"IFERROR(IF(A303=\"\",\"\",SUMIF(Codigo_Produto,Estoque!A303,quantidade_adquirida)-SUMIF(cod_saida,Estoque!A303,quantidade_comprada)),\"\")","v":""}]
[null,null,null,{"$f":"IFERROR(IF(A304=\"\",\"\",SUMIF(Codigo_Produto,Estoque!A304,quantidade_adquirida)-SUMIF(cod_saida,Estoque!A304,quantidade_comprada)),\"\")","v":""}]
[null,null,null,{"$f":"IFERROR(IF(A305=\"\",\"\",SUMIF(Codigo_Produto,Estoque!A305,quantidade_adquirida)-SUMIF(cod_saida,Estoque!A305,quantidade_comprada)),\"\")","v":""}]
[null,null,null,{"$f":"IFERROR(IF(A306=\"\",\"\",SUMIF(Codigo_Produto,Estoque!A306,quantidade_adquirida)-SUMIF(cod_saida,Estoque!A306,quantidade_comprada)),\"\")","v":""}]
[null,null,null,{"$f":"IFERROR(IF(A307=\"\",\"\",SUMIF(Codigo_Produto,Estoque!A307,quantidade_adquirida)-SUMIF(cod_saida,Estoque!A307,quantidade_comprada)),\"\")","v":""}]
[null,null,null,{"$f":"IFERROR(IF(A308=\"\",\"\",SUMIF(Codigo_Produto,Estoque!A308,quantidade_adquirida)-SUMIF(cod_saida,Estoque!A308,quantidade_comprada)),\"\")","v":""}]
[null,null,null,{"$f":"IFERROR(IF(A309=\"\",\"\",SUMIF(Codigo_Produto,Estoque!A309,quantidade_adquirida)-SUMIF(cod_saida,Estoque!A309,quantidade_comprada)),\"\")","v":""}]
[null,null,null,{"$f":"IFERROR(IF(A310=\"\",\"\",SUMIF(Codigo_Produto,Estoque!A310,quantidade_adquirida)-SUMIF(cod_saida,Estoque!A310,quantidade_comprada)),\"\")","v":""}]
[null,null,null,{"$f":"IFERROR(IF(A311=\"\",\"\",SUMIF(Codigo_Produto,Estoque!A311,quantidade_adquirida)-SUMIF(cod_saida,Estoque!A311,quantidade_comprada)),\"\")","v":""}]
[null,null,null,{"$f":"IFERROR(IF(A312=\"\",\"\",SUMIF(Codigo_Produto,Estoque!A312,quantidade_adquirida)-SUMIF(cod_saida,Estoque!A312,quantidade_comprada)),\"\")","v":""}]
[null,null,null,{"$f":"IFERROR(IF(A313=\"\",\"\",SUMIF(Codigo_Produto,Estoque!A313,quantidade_adquirida)-SUMIF(cod_saida,Estoque!A313,quantidade_comprada)),\"\")","v":""}]
[null,null,null,{"$f":"IFERROR(IF(A314=\"\",\"\",SUMIF(Codigo_Produto,Estoque!A314,quantidade_adquirida)-SUMIF(cod_saida,Estoque!A314,quantidade_comprada)),\"\")","v":""}]
[null,null,null,{"$f":"IFERROR(IF(A315=\"\",\"\",SUMIF(Codigo_Produto,Estoque!A315,quantidade_adquirida)-SUMIF(cod_saida,Estoque!A315,quantidade_comprada)),\"\")","v":""}]
[null,null,null,{"$f":"IFERROR(IF(A316=\"\",\"\",SUMIF(Codigo_Produto,Estoque!A316,quantidade_adquirida)-SUMIF(cod_saida,Estoque!A316,quantidade_comprada)),\"\")","v":""}]
[null,null,null,{"$f":"IFERROR(IF(A317=\"\",\"\",SUMIF(Codigo_Produto,Estoque!A317,quantidade_adquirida)-SUMIF(cod_saida,Estoque!A317,quantidade_comprada)),\"\")","v":""}]
[null,null,null,{"$f":"IFERROR(IF(A318=\"\",\"\",SUMIF(Codigo_Produto,Estoque!A318,quantidade_adquirida)-SUMIF(cod_saida,Estoque!A318,quantidade_comprada)),\"\")","v":""}]
[null,null,null,{"$f":"IFERROR(IF(A319=\"\",\"\",SUMIF(Codigo_Produto,Estoque!A319,quantidade_adquirida)-SUMIF(cod_saida,Estoque!A319,quantidade_comprada)),\"\")","v":""}]
[null,null,null,{"$f":"IFERROR(IF(A320=\"\",\"\",SUMIF(Codigo_Produto,Estoque!A320,quantidade_adquirida)-SUMIF(cod_saida,Estoque!A320,quantidade_comprada)),\"\")","v":""}]
[null,null,null,{"$f":"IFERROR(IF(A321=\"\",\"\",SUMIF(Codigo_Produto,Estoque!A321,quantidade_adquirida)-SUMIF(cod_saida,Estoque!A321,quantidade_comprada)),\"\")","v":""}]
[null,null,null,{"$f":"IFERROR(IF(A322=\"\",\"\",SUMIF(Codigo_Produto,Estoque!A322,quantidade_adquirida)-SUMIF(cod_saida,Estoque!A322,quantidade_comprada)),\"\")","v":""}]
[null,null,null,{"$f":"IFERROR(IF(A323=\"\",\"\",SUMIF(Codigo_Produto,Estoque!A323,quantidade_adquirida)-SUMIF(cod_saida,Estoque!A323,quantidade_comprada)),\"\")","v":""}]
[null,null,null,{"$f":"IFERROR(IF(A324=\"\",\"\",SUMIF(Codigo_Produto,Estoque!A324,quantidade_adquirida)-SUMIF(cod_saida,Estoque!A324,quantidade_comprada)),\"\")","v":""}]
[null,null,null,{"$f":"IFERROR(IF(A325=\"\",\"\",SUMIF(Codigo_Produto,Estoque!A325,quantidade_adquirida)-SUMIF(cod_saida,Estoque!A325,quantidade_comprada)),\"\")","v":""}]
[null,null,null,{"$f":"IFERROR(IF(A326=\"\",\"\",SUMIF(Codigo_Produto,Estoque!A326,quantidade_adquirida)-SUMIF(cod_saida,Estoque!A326,quantidade_comprada)),\"\")","v":""}]
[null,null,null,{"$f":"IFERROR(IF(A327=\"\",\"\",SUMIF(Codigo_Produto,Estoque!A327,quantidade_adquirida)-SUMIF(cod_saida,Estoque!A327,quantidade_comprada)),\"\")","v":""}]
[null,null,null,{"$f":"IFERROR(IF(A328=\"\",\"\",SUMIF(Codigo_Produto,Estoque!A328,quantidade_adquirida)-SUMIF(cod_saida,Estoque!A328,quantidade_comprada)),\"\")","v":""}]
[null,null,null,{"$f":"IFERROR(IF(A329=\"\",\"\",SUMIF(Codigo_Produto,Estoque!A329,quantidade_adquirida)-SUMIF(cod_saida,Estoque!A329,quantidade_comprada)),\"\")","v":""}]
[null,null,null,{"$f":"IFERROR(IF(A330=\"\",\"\",SUMIF(Codigo_Produto,Estoque!A330,quantidade_adquirida)-SUMIF(cod_saida,Estoque!A330,quantidade_comprada)),\"\")","v":""}]
[null,null,null,{"$f":"IFERROR(IF(A331=\"\",\"\",SUMIF(Codigo_Produto,Estoque!A331,quantidade_adquirida)-SUMIF(cod_saida,Estoque!A331,quantidade_comprada)),\"\")","v":""}]
[null,null,null,{"$f":"IFERROR(IF(A332=\"\",\"\",SUMIF(Codigo_Produto,Estoque!A332,quantidade_adquirida)-SUMIF(cod_saida,Estoque!A332,quantidade_comprada)),\"\")","v":""}]
[null,null,null,{"$f":"IFERROR(IF(A333=\"\",\"\",SUMIF(Codigo_Produto,Estoque!A333,quantidade_adquirida)-SUMIF(cod_saida,Estoque!A333,quantidade_comprada)),\"\")","v":""}]
[null,null,null,{"$f":"IFERROR(IF(A334=\"\",\"\",SUMIF(Codigo_Produto,Estoque!A334,quantidade_adquirida)-SUMIF(cod_saida,Estoque!A334,quantidade_comprada)),\"\")","v":""}]
[null,null,null,{"$f":"IFERROR(IF(A335=\"\",\"\",SUMIF(Codigo_Produto,Estoque!A335,quantidade_adquirida)-SUMIF(cod_saida,Estoque!A335,quantidade_comprada)),\"\")","v":""}]
[null,null,null,{"$f":"IFERROR(IF(A336=\"\",\"\",SUMIF(Codigo_Produto,Estoque!A336,quantidade_adquirida)-SUMIF(cod_saida,Estoque!A336,quantidade_comprada)),\"\")","v":""}]
[null,null,null,{"$f":"IFERROR(IF(A337=\"\",\"\",SUMIF(Codigo_Produto,Estoque!A337,quantidade_adquirida)-SUMIF(cod_saida,Estoque!A337,quantidade_comprada)),\"\")","v":""}]
[null,null,null,{"$f":"IFERROR(IF(A338=\"\",\"\",SUMIF(Codigo_Produto,Estoque!A338,quantidade_adquirida)-SUMIF(cod_saida,Estoque!A338,quantidade_comprada)),\"\")","v":""}]
[null,null,null,{"$f":"IFERROR(IF(A339=\"\",\"\",SUMIF(Codigo_Produto,Estoque!A339,quantidade_adquirida)-SUMIF(cod_saida,Estoque!A339,quantidade_comprada)),\"\")","v":""}]
[null,null,null,{"$f":"IFERROR(IF(A340=\"\",\"\",SUMIF(Codigo_Produto,Estoque!A340,quantidade_adquirida)-SUMIF(cod_saida,Estoque!A340,quantidade_comprada)),\"\")","v":""}]
[null,null,null,{"$f":"IFERROR(IF(A341=\"\",\"\",SUMIF(Codigo_Produto,Estoque!A341,quantidade_adquirida)-SUMIF(cod_saida,Estoque!A341,quantidade_comprada)),\"\")","v":""}]
[null,null,null,{"$f":"IFERROR(IF(A342=\"\",\"\",SUMIF(Codigo_Produto,Estoque!A342,quantidade_adquirida)-SUMIF(cod_saida,Estoque!A342,quantidade_comprada)),\"\")","v":""}]
[null,null,null,{"$f":"IFERROR(IF(A343=\"\",\"\",SUMIF(Codigo_Produto,Estoque!A343,quantidade_adquirida)-SUMIF(cod_saida,Estoque!A343,quantidade_comprada)),\"\")","v":""}]
[null,null,null,{"$f":"IFERROR(IF(A344=\"\",\"\",SUMIF(Codigo_Produto,Estoque!A344,quantidade_adquirida)-SUMIF(cod_saida,Estoque!A344,quantidade_comprada)),\"\")","v":""}]
[null,null,null,{"$f":"IFERROR(IF(A345=\"\",\"\",SUMIF(Codigo_Produto,Estoque!A345,quantidade_adquirida)-SUMIF(cod_saida,Estoque!A345,quantidade_comprada)),\"\")","v":""}]
[null,null,null,{"$f":"IFERROR(IF(A346=\"\",\"\",SUMIF(Codigo_Produto,Estoque!A346,quantidade_adquirida)-SUMIF(cod_saida,Estoque!A346,quantidade_comprada)),\"\")","v":""}]
[null,null,null,{"$f":"IFERROR(IF(A347=\"\",\"\",SUMIF(Codigo_Produto,Estoque!A347,quantidade_adquirida)-SUMIF(cod_saida,Estoque!A347,quantidade_comprada)),\"\")","v":""}]
[null,null,null,{"$f":"IFERROR(IF(A348=\"\",\"\",SUMIF(Codigo_Produto,Estoque!A348,quantidade_adquirida)-SUMIF(cod_saida,Estoque!A348,quantidade_comprada)),\"\")","v":""}]
[null,null,null,{"$f":"IFERROR(IF(A349=\"\",\"\",SUMIF(Codigo_Produto,Estoque!A349,quantidade_adquirida)-SUMIF(cod_saida,Estoque!A349,quantidade_comprada)),\"\")","v":""}]
[null,null,null,{"$f":"IFERROR(IF(A350=\"\",\"\",SUMIF(Codigo_Produto,Estoque!A350,quantidade_adquirida)-SUMIF(cod_saida,Estoque!A350,quantidade_comprada)),\"\")","v":""}]
[null,null,null,{"$f":"IFERROR(IF(A351=\"\",\"\",SUMIF(Codigo_Produto,Estoque!A351,quantidade_adquirida)-SUMIF(cod_saida,Estoque!A351,quantidade_comprada)),\"\")","v":""}]
[null,null,null,{"$f":"IFERROR(IF(A352=\"\",\"\",SUMIF(Codigo_Produto,Estoque!A352,quantidade_adquirida)-SUMIF(cod_saida,Estoque!A352,quantidade_comprada)),\"\")","v":""}]
[null,null,null,{"$f":"IFERROR(IF(A353=\"\",\"\",SUMIF(Codigo_Produto,Estoque!A353,quantidade_adquirida)-SUMIF(cod_saida,Estoque!A353,quantidade_comprada)),\"\")","v":""}]
[null,null,null,{"$f":"IFERROR(IF(A354=\"\",\"\",SUMIF(Codigo_Produto,Estoque!A354,quantidade_adquirida)-SUMIF(cod_saida,Estoque!A354,quantidade_comprada)),\"\")","v":""}]
[null,null,null,{"$f":"IFERROR(IF(A355=\"\",\"\",SUMIF(Codigo_Produto,Estoque!A355,quantidade_adquirida)-SUMIF(cod_saida,Estoque!A355,quantidade_comprada)),\"\")","v":""}]
[null,null,null,{"$f":"IFERROR(IF(A356=\"\",\"\",SUMIF(Codigo_Produto,Estoque!A356,quantidade_adquirida)-SUMIF(cod_saida,Estoque!A356,quantidade_comprada)),\"\")","v":""}]
[null,null,null,{"$f":"IFERROR(IF(A357=\"\",\"\",SUMIF(Codigo_Produto,Estoque!A357,quantidade_adquirida)-SUMIF(cod_saida,Estoque!A357,quantidade_comprada)),\"\")","v":""}]
[null,null,null,{"$f":"IFERROR(IF(A358=\"\",\"\",SUMIF(Codigo_Produto,Estoque!A358,quantidade_adquirida)-SUMIF(cod_saida,Estoque!A358,quantidade_comprada)),\"\")","v":""}]
[null,null,null,{"$f":"IFERROR(IF(A359=\"\",\"\",SUMIF(Codigo_Produto,Estoque!A359,quantidade_adquirida)-SUMIF(cod_saida,Estoque!A359,quantidade_comprada)),\"\")","v":""}]
[null,null,null,{"$f":"IFERROR(IF(A360=\"\",\"\",SUMIF(Codigo_Produto,Estoque!A360,quantidade_adquirida)-SUMIF(cod_saida,Estoque!A360,quantidade_comprada)),\"\")","v":""}]
[null,null,null,{"$f":"IFERROR(IF(A361=\"\",\"\",SUMIF(Codigo_Produto,Estoque!A361,quantidade_adquirida)-SUMIF(cod_saida,Estoque!A361,quantidade_comprada)),\"\")","v":""}]
[null,null,null,{"$f":"IFERROR(IF(A362=\"\",\"\",SUMIF(Codigo_Produto,Estoque!A362,quantidade_adquirida)-SUMIF(cod_saida,Estoque!A362,quantidade_comprada)),\"\")","v":""}]
[null,null,null,{"$f":"IFERROR(IF(A363=\"\",\"\",SUMIF(Codigo_Produto,Estoque!A363,quantidade_adquirida)-SUMIF(cod_saida,Estoque!A363,quantidade_comprada)),\"\")","v":""}]
[null,null,null,{"$f":"IFERROR(IF(A364=\"\",\"\",SUMIF(Codigo_Produto,Estoque!A364,quantidade_adquirida)-SUMIF(cod_saida,Estoque!A364,quantidade_comprada)),\"\")","v":""}]
[null,null,null,{"$f":"IFERROR(IF(A365=\"\",\"\",SUMIF(Codigo_Produto,Estoque!A365,quantidade_adquirida)-SUMIF(cod_saida,Estoque!A365,quantidade_comprada)),\"\")","v":""}]
[null,null,null,{"$f":"IFERROR(IF(A366=\"\",\"\",SUMIF(Codigo_Produto,Estoque!A366,quantidade_adquirida)-SUMIF(cod_saida,Estoque!A366,quantidade_comprada)),\"\")","v":""}]
[null,null,null,{"$f":"IFERROR(IF(A367=\"\",\"\",SUMIF(Codigo_Produto,Estoque!A367,quantidade_adquirida)-SUMIF(cod_saida,Estoque!A367,quantidade_comprada)),\"\")","v":""}]
[null,null,null,{"$f":"IFERROR(IF(A368=\"\",\"\",SUMIF(Codigo_Produto,Estoque!A368,quantidade_adquirida)-SUMIF(cod_saida,Estoque!A368,quantidade_comprada)),\"\")","v":""}]
[null,null,null,{"$f":"IFERROR(IF(A369=\"\",\"\",SUMIF(Codigo_Produto,Estoque!A369,quantidade_adquirida)-SUMIF(cod_saida,Estoque!A369,quantidade_comprada)),\"\")","v":""}]
[null,null,null,{"$f":"IFERROR(IF(A370=\"\",\"\",SUMIF(Codigo_Produto,Estoque!A370,quantidade_adquirida)-SUMIF(cod_saida,Estoque!A370,quantidade_comprada)),\"\")","v":""}]
[null,null,null,{"$f":"IFERROR(IF(A371=\"\",\"\",SUMIF(Codigo_Produto,Estoque!A371,quantidade_adquirida)-SUMIF(cod_saida,Estoque!A371,quantidade_comprada)),\"\")","v":""}]
[null,null,null,{"$f":"IFERROR(IF(A372=\"\",\"\",SUMIF(Codigo_Produto,Estoque!A372,quantidade_adquirida)-SUMIF(cod_saida,Estoque!A372,quantidade_comprada)),\"\")","v":""}]
[null,null,null,{"$f":"IFERROR(IF(A373=\"\",\"\",SUMIF(Codigo_Produto,Estoque!A373,quantidade_adquirida)-SUMIF(cod_saida,Estoque!A373,quantidade_comprada)),\"\")","v":""}]
[null,null,null,{"$f":"IFERROR(IF(A374=\"\",\"\",SUMIF(Codigo_Produto,Estoque!A374,quantidade_adquirida)-SUMIF(cod_saida,Estoque!A374,quantidade_comprada)),\"\")","v":""}]
[null,null,null,{"$f":"IFERROR(IF(A375=\"\",\"\",SUMIF(Codigo_Produto,Estoque!A375,quantidade_adquirida)-SUMIF(cod_saida,Estoque!A375,quantidade_comprada)),\"\")","v":""}]
[null,null,null,{"$f":"IFERROR(IF(A376=\"\",\"\",SUMIF(Codigo_Produto,Estoque!A376,quantidade_adquirida)-SUMIF(cod_saida,Estoque!A376,quantidade_comprada)),\"\")","v":""}]
[null,null,null,{"$f":"IFERROR(IF(A377=\"\",\"\",SUMIF(Codigo_Produto,Estoque!A377,quantidade_adquirida)-SUMIF(cod_saida,Estoque!A377,quantidade_comprada)),\"\")","v":""}]
[null,null,null,{"$f":"IFERROR(IF(A378=\"\",\"\",SUMIF(Codigo_Produto,Estoque!A378,quantidade_adquirida)-SUMIF(cod_saida,Estoque!A378,quantidade_comprada)),\"\")","v":""}]
[null,null,null,{"$f":"IFERROR(IF(A379=\"\",\"\",SUMIF(Codigo_Produto,Estoque!A379,quantidade_adquirida)-SUMIF(cod_saida,Estoque!A379,quantidade_comprada)),\"\")","v":""}]
[null,null,null,{"$f":"IFERROR(IF(A380=\"\",\"\",SUMIF(Codigo_Produto,Estoque!A380,quantidade_adquirida)-SUMIF(cod_saida,Estoque!A380,quantidade_comprada)),\"\")","v":""}]
[null,null,null,{"$f":"IFERROR(IF(A381=\"\",\"\",SUMIF(Codigo_Produto,Estoque!A381,quantidade_adquirida)-SUMIF(cod_saida,Estoque!A381,quantidade_comprada)),\"\")","v":""}]
[null,null,null,{"$f":"IFERROR(IF(A382=\"\",\"\",SUMIF(Codigo_Produto,Estoque!A382,quantidade_adquirida)-SUMIF(cod_saida,Estoque!A382,quantidade_comprada)),\"\")","v":""}]
[null,null,null,{"$f":"IFERROR(IF(A383=\"\",\"\",SUMIF(Codigo_Produto,Estoque!A383,quantidade_adquirida)-SUMIF(cod_saida,Estoque!A383,quantidade_comprada)),\"\")","v":""}]
[null,null,null,{"$f":"IFERROR(IF(A384=\"\",\"\",SUMIF(Codigo_Produto,Estoque!A384,quantidade_adquirida)-SUMIF(cod_saida,Estoque!A384,quantidade_comprada)),\"\")","v":""}]
[null,null,null,{"$f":"IFERROR(IF(A385=\"\",\"\",SUMIF(Codigo_Produto,Estoque!A385,quantidade_adquirida)-SUMIF(cod_saida,Estoque!A385,quantidade_comprada)),\"\")","v":""}]
[null,null,null,{"$f":"IFERROR(IF(A386=\"\",\"\",SUMIF(Codigo_Produto,Estoque!A386,quantidade_adquirida)-SUMIF(cod_saida,Estoque!A386,quantidade_comprada)),\"\")","v":""}]
[null,null,null,{"$f":"IFERROR(IF(A387=\"\",\"\",SUMIF(Codigo_Produto,Estoque!A387,quantidade_adquirida)-SUMIF(cod_saida,Estoque!A387,quantidade_comprada)),\"\")","v":""}]
[null,null,null,{"$f":"IFERROR(IF(A388=\"\",\"\",SUMIF(Codigo_Produto,Estoque!A388,quantidade_adquirida)-SUMIF(cod_saida,Estoque!A388,quantidade_comprada)),\"\")","v":""}]
[null,null,null,{"$f":"IFERROR(IF(A389=\"\",\"\",SUMIF(Codigo_Produto,Estoque!A389,quantidade_adquirida)-SUMIF(cod_saida,Estoque!A389,quantidade_comprada)),\"\")","v":""}]
[null,null,null,{"$f":"IFERROR(IF(A390=\"\",\"\",SUMIF(Codigo_Produto,Estoque!A390,quantidade_adquirida)-SUMIF(cod_saida,Estoque!A390,quantidade_comprada)),\"\")","v":""}]
[null,null,null,{"$f":"IFERROR(IF(A391=\"\",\"\",SUMIF(Codigo_Produto,Estoque!A391,quantidade_adquirida)-SUMIF(cod_saida,Estoque!A391,quantidade_comprada)),\"\")","v":""}]
[null,null,null,{"$f":"IFERROR(IF(A392=\"\",\"\",SUMIF(Codigo_Produto,Estoque!A392,quantidade_adquirida)-SUMIF(cod_saida,Estoque!A392,quantidade_comprada)),\"\")","v":""}]
[null,null,null,{"$f":"IFERROR(IF(A393=\"\",\"\",SUMIF(Codigo_Produto,Estoque!A393,quantidade_adquirida)-SUMIF(cod_saida,Estoque!A393,quantidade_comprada)),\"\")","v":""}]
[null,null,null,{"$f":"IFERROR(IF(A394=\"\",\"\",SUMIF(Codigo_Produto,Estoque!A394,quantidade_adquirida)-SUMIF(cod_saida,Estoque!A394,quantidade_comprada)),\"\")","v":""}]
[null,null,null,{"$f":"IFERROR(IF(A395=\"\",\"\",SUMIF(Codigo_Produto,Estoque!A395,quantidade_adquirida)-SUMIF(cod_saida,Estoque!A395,quantidade_comprada)),\"\")","v":""}]
[null,null,null,{"$f":"IFERROR(IF(A396=\"\",\"\",SUMIF(Codigo_Produto,Estoque!A396,quantidade_adquirida)-SUMIF(cod_saida,Estoque!A396,quantidade_comprada)),\"\")","v":""}]
[null,null,null,{"$f":"IFERROR(IF(A397=\"\",\"\",SUMIF(Codigo_Produto,Estoque!A397,quantidade_adquirida)-SUMIF(cod_saida,Estoque!A397,quantidade_comprada)),\"\")","v":""}]
[null,null,null,{"$f":"IFERROR(IF(A398=\"\",\"\",SUMIF(Codigo_Produto,Estoque!A398,quantidade_adquirida)-SUMIF(cod_saida,Estoque!A398,quantidade_comprada)),\"\")","v":""}]
[null,null,null,{"$f":"IFERROR(IF(A399=\"\",\"\",SUMIF(Codigo_Produto,Estoque!A399,quantidade_adquirida)-SUMIF(cod_saida,Estoque!A399,quantidade_comprada)),\"\")","v":""}]
[null,null,null,{"$f":"IFERROR(IF(A400=\"\",\"\",SUMIF(Codigo_Produto,Estoque!A400,quantidade_adquirida)-SUMIF(cod_saida,Estoque!A400,quantidade_comprada)),\"\")","v":""}]
[null,null,null,{"$f":"IFERROR(IF(A401=\"\",\"\",SUMIF(Codigo_Produto,Estoque!A401,quantidade_adquirida)-SUMIF(cod_saida,Estoque!A401,quantidade_comprada)),\"\")","v":""}]
[null,null,null,{"$f":"IFERROR(IF(A402=\"\",\"\",SUMIF(Codigo_Produto,Estoque!A402,quantidade_adquirida)-SUMIF(cod_saida,Estoque!A402,quantidade_comprada)),\"\")","v":""}]
[null,null,null,{"$f":"IFERROR(IF(A403=\"\",\"\",SUMIF(Codigo_Produto,Estoque!A403,quantidade_adquirida)-SUMIF(cod_saida,Estoque!A403,quantidade_comprada)),\"\")","v":""}]
[null,null,null,{"$f":"IFERROR(IF(A404=\"\",\"\",SUMIF(Codigo_Produto,Estoque!A404,quantidade_adquirida)-SUMIF(cod_saida,Estoque!A404,quantidade_comprada)),\"\")","v":""}]
[null,null,null,{"$f":"IFERROR(IF(A405=\"\",\"\",SUMIF(Codigo_Produto,Estoque!A405,quantidade_adquirida)-SUMIF(cod_saida,Estoque!A405,quantidade_comprada)),\"\")","v":""}]
[null,null,null,{"$f":"IFERROR(IF(A406=\"\",\"\",SUMIF(Codigo_Produto,Estoque!A406,quantidade_adquirida)-SUMIF(cod_saida,Estoque!A406,quantidade_comprada)),\"\")","v":""}]
[null,null,null,{"$f":"IFERROR(IF(A407=\"\",\"\",SUMIF(Codigo_Produto,Estoque!A407,quantidade_adquirida)-SUMIF(cod_saida,Estoque!A407,quantidade_comprada)),\"\")","v":""}]
[null,null,null,{"$f":"IFERROR(IF(A408=\"\",\"\",SUMIF(Codigo_Produto,Estoque!A408,quantidade_adquirida)-SUMIF(cod_saida,Estoque!A408,quantidade_comprada)),\"\")","v":""}]
[null,null,null,{"$f":"IFERROR(IF(A409=\"\",\"\",SUMIF(Codigo_Produto,Estoque!A409,quantidade_adquirida)-SUMIF(cod_saida,Estoque!A409,quantidade_comprada)),\"\")","v":""}]
[null,null,null,{"$f":"IFERROR(IF(A410=\"\",\"\",SUMIF(Codigo_Produto,Estoque!A410,quantidade_adquirida)-SUMIF(cod_saida,Estoque!A410,quantidade_comprada)),\"\")","v":""}]
[null,null,null,{"$f":"IFERROR(IF(A411=\"\",\"\",SUMIF(Codigo_Produto,Estoque!A411,quantidade_adquirida)-SUMIF(cod_saida,Estoque!A411,quantidade_comprada)),\"\")","v":""}]
[null,null,null,{"$f":"IFERROR(IF(A412=\"\",\"\",SUMIF(Codigo_Produto,Estoque!A412,quantidade_adquirida)-SUMIF(cod_saida,Estoque!A412,quantidade_comprada)),\"\")","v":""}]
[null,null,null,{"$f":"IFERROR(IF(A413=\"\",\"\",SUMIF(Codigo_Produto,Estoque!A413,quantidade_adquirida)-SUMIF(cod_saida,Estoque!A413,quantidade_comprada)),\"\")","v":""}]
[null,null,null,{"$f":"IFERROR(IF(A414=\"\",\"\",SUMIF(Codigo_Produto,Estoque!A414,quantidade_adquirida)-SUMIF(cod_saida,Estoque!A414,quantidade_comprada)),\"\")","v":""}]
[null,null,null,{"$f":"IFERROR(IF(A415=\"\",\"\",SUMIF(Codigo_Produto,Estoque!A415,quantidade_adquirida)-SUMIF(cod_saida,Estoque!A415,quantidade_comprada)),\"\")","v":""}]
[null,null,null,{"$f":"IFERROR(IF(A416=\"\",\"\",SUMIF(Codigo_Produto,Estoque!A416,quantidade_adquirida)-SUMIF(cod_saida,Estoque!A416,quantidade_comprada)),\"\")","v":""}]
[null,null,null,{"$f":"IFERROR(IF(A417=\"\",\"\",SUMIF(Codigo_Produto,Estoque!A417,quantidade_adquirida)-SUMIF(cod_saida,Estoque!A417,quantidade_comprada)),\"\")","v":""}]
[null,null,null,{"$f":"IFERROR(IF(A418=\"\",\"\",SUMIF(Codigo_Produto,Estoque!A418,quantidade_adquirida)-SUMIF(cod_saida,Estoque!A418,quantidade_comprada)),\"\")","v":""}]
[null,null,null,{"$f":"IFERROR(IF(A419=\"\",\"\",SUMIF(Codigo_Produto,Estoque!A419,quantidade_adquirida)-SUMIF(cod_saida,Estoque!A419,quantidade_comprada)),\"\")","v":""}]
[null,null,null,{"$f":"IFERROR(IF(A420=\"\",\"\",SUMIF(Codigo_Produto,Estoque!A420,quantidade_adquirida)-SUMIF(cod_saida,Estoque!A420,quantidade_comprada)),\"\")","v":""}]
[null,null,null,{"$f":"IFERROR(IF(A421=\"\",\"\",SUMIF(Codigo_Produto,Estoque!A421,quantidade_adquirida)-SUMIF(cod_saida,Estoque!A421,quantidade_comprada)),\"\")","v":""}]
[null,null,null,{"$f":"IFERROR(IF(A422=\"\",\"\",SUMIF(Codigo_Produto,Estoque!A422,quantidade_adquirida)-SUMIF(cod_saida,Estoque!A422,quantidade_comprada)),\"\")","v":""}]
[null,null,null,{"$f":"IFERROR(IF(A423=\"\",\"\",SUMIF(Codigo_Produto,Estoque!A423,quantidade_adquirida)-SUMIF(cod_saida,Estoque!A423,quantidade_comprada)),\"\")","v":""}]
[null,null,null,{"$f":"IFERROR(IF(A424=\"\",\"\",SUMIF(Codigo_Produto,Estoque!A424,quantidade_adquirida)-SUMIF(cod_saida,Estoque!A424,quantidade_comprada)),\"\")","v":""}]
[null,null,null,{"$f":"IFERROR(IF(A425=\"\",\"\",SUMIF(Codigo_Produto,Estoque!A425,quantidade_adquirida)-SUMIF(cod_saida,Estoque!A425,quantidade_comprada)),\"\")","v":""}]
[null,null,null,{"$f":"IFERROR(IF(A426=\"\",\"\",SUMIF(Codigo_Produto,Estoque!A426,quantidade_adquirida)-SUMIF(cod_saida,Estoque!A426,quantidade_comprada)),\"\")","v":""}]
[null,null,null,{"$f":"IFERROR(IF(A427=\"\",\"\",SUMIF(Codigo_Produto,Estoque!A427,quantidade_adquirida)-SUMIF(cod_saida,Estoque!A427,quantidade_comprada)),\"\")","v":""}]
[null,null,null,{"$f":"IFERROR(IF(A428=\"\",\"\",SUMIF(Codigo_Produto,Estoque!A428,quantidade_adquirida)-SUMIF(cod_saida,Estoque!A428,quantidade_comprada)),\"\")","v":""}]
[null,null,null,{"$f":"IFERROR(IF(A429=\"\",\"\",SUMIF(Codigo_Produto,Estoque!A429,quantidade_adquirida)-SUMIF(cod_saida,Estoque!A429,quantidade_comprada)),\"\")","v":""}]
[null,null,null,{"$f":"IFERROR(IF(A430=\"\",\"\",SUMIF(Codigo_Produto,Estoque!A430,quantidade_adquirida)-SUMIF(cod_saida,Estoque!A430,quantidade_comprada)),\"\")","v":""}]
[null,null,null,{"$f":"IFERROR(IF(A431=\"\",\"\",SUMIF(Codigo_Produto,Estoque!A431,quantidade_adquirida)-SUMIF(cod_saida,Estoque!A431,quantidade_comprada)),\"\")","v":""}]
[null,null,null,{"$f":"IFERROR(IF(A432=\"\",\"\",SUMIF(Codigo_Produto,Estoque!A432,quantidade_adquirida)-SUMIF(cod_saida,Estoque!A432,quantidade_comprada)),\"\")","v":""}]
[null,null,null,{"$f":"IFERROR(IF(A433=\"\",\"\",SUMIF(Codigo_Produto,Estoque!A433,quantidade_adquirida)-SUMIF(cod_saida,Estoque!A433,quantidade_comprada)),\"\")","v":""}]
[null,null,null,{"$f":"IFERROR(IF(A434=\"\",\"\",SUMIF(Codigo_Produto,Estoque!A434,quantidade_adquirida)-SUMIF(cod_saida,Estoque!A434,quantidade_comprada)),\"\")","v":""}]
[null,null,null,{"$f":"IFERROR(IF(A435=\"\",\"\",SUMIF(Codigo_Produto,Estoque!A435,quantidade_adquirida)-SUMIF(cod_saida,Estoque!A435,quantidade_comprada)),\"\")","v":""}]
[null,null,null,{"$f":"IFERROR(IF(A436=\"\",\"\",SUMIF(Codigo_Produto,Estoque!A436,quantidade_adquirida)-SUMIF(cod_saida,Estoque!A436,quantidade_comprada)),\"\")","v":""}]
[null,null,null,{"$f":"IFERROR(IF(A437=\"\",\"\",SUMIF(Codigo_Produto,Estoque!A437,quantidade_adquirida)-SUMIF(cod_saida,Estoque!A437,quantidade_comprada)),\"\")","v":""}]
[null,null,null,{"$f":"IFERROR(IF(A438=\"\",\"\",SUMIF(Codigo_Produto,Estoque!A438,quantidade_adquirida)-SUMIF(cod_saida,Estoque!A438,quantidade_comprada)),\"\")","v":""}]
[null,null,null,{"$f":"IFERROR(IF(A439=\"\",\"\",SUMIF(Codigo_Produto,Estoque!A439,quantidade_adquirida)-SUMIF(cod_saida,Estoque!A439,quantidade_comprada)),\"\")","v":""}]
[null,null,null,{"$f":"IFERROR(IF(A440=\"\",\"\",SUMIF(Codigo_Produto,Estoque!A440,quantidade_adquirida)-SUMIF(cod_saida,Estoque!A440,quantidade_comprada)),\"\")","v":""}]
[null,null,null,{"$f":"IFERROR(IF(A441=\"\",\"\",SUMIF(Codigo_Produto,Estoque!A441,quantidade_adquirida)-SUMIF(cod_saida,Estoque!A441,quantidade_comprada)),\"\")","v":""}]
[null,null,null,{"$f":"IFERROR(IF(A442=\"\",\"\",SUMIF(Codigo_Produto,Estoque!A442,quantidade_adquirida)-SUMIF(cod_saida,Estoque!A442,quantidade_comprada)),\"\")","v":""}]
[null,null,null,{"$f":"IFERROR(IF(A443=\"\",\"\",SUMIF(Codigo_Produto,Estoque!A443,quantidade_adquirida)-SUMIF(cod_saida,Estoque!A443,quantidade_comprada)),\"\")","v":""}]
[null,null,null,{"$f":"IFERROR(IF(A444=\"\",\"\",SUMIF(Codigo_Produto,Estoque!A444,quantidade_adquirida)-SUMIF(cod_saida,Estoque!A444,quantidade_comprada)),\"\")","v":""}]
[null,null,null,{"$f":"IFERROR(IF(A445=\"\",\"\",SUMIF(Codigo_Produto,Estoque!A445,quantidade_adquirida)-SUMIF(cod_saida,Estoque!A445,quantidade_comprada)),\"\")","v":""}]
[null,null,null,{"$f":"IFERROR(IF(A446=\"\",\"\",SUMIF(Codigo_Produto,Estoque!A446,quantidade_adquirida)-SUMIF(cod_saida,Estoque!A446,quantidade_comprada)),\"\")","v":""}]
[null,null,null,{"$f":"IFERROR(IF(A447=\"\",\"\",SUMIF(Codigo_Produto,Estoque!A447,quantidade_adquirida)-SUMIF(cod_saida,Estoque!A447,quantidade_comprada)),\"\")","v":""}]
[null,null,null,{"$f":"IFERROR(IF(A448=\"\",\"\",SUMIF(Codigo_Produto,Estoque!A448,quantidade_adquirida)-SUMIF(cod_saida,Estoque!A448,quantidade_comprada)),\"\")","v":""}]
[null,null,null,{"$f":"IFERROR(IF(A449=\"\",\"\",SUMIF(Codigo_Produto,Estoque!A449,quantidade_adquirida)-SUMIF(cod_saida,Estoque!A449,quantidade_comprada)),\"\")","v":""}]
[null,null,null,{"$f":"IFERROR(IF(A450=\"\",\"\",SUMIF(Codigo_Produto,Estoque!A450,quantidade_adquirida)-SUMIF(cod_saida,Estoque!A450,quantidade_comprada)),\"\")","v":""}]
[null,null,null,{"$f":"IFERROR(IF(A451=\"\",\"\",SUMIF(Codigo_Produto,Estoque!A451,quantidade_adquirida)-SUMIF(cod_saida,Estoque!A451,quantidade_comprada)),\"\")","v":""}]
[null,null,null,{"$f":"IFERROR(IF(A452=\"\",\"\",SUMIF(Codigo_Produto,Estoque!A452,quantidade_adquirida)-SUMIF(cod_saida,Estoque!A452,quantidade_comprada)),\"\")","v":""}]
[null,null,null,{"$f":"IFERROR(IF(A453=\"\",\"\",SUMIF(Codigo_Produto,Estoque!A453,quantidade_adquirida)-SUMIF(cod_saida,Estoque!A453,quantidade_comprada)),\"\")","v":""}]
[null,null,null,{"$f":"IFERROR(IF(A454=\"\",\"\",SUMIF(Codigo_Produto,Estoque!A454,quantidade_adquirida)-SUMIF(cod_saida,Estoque!A454,quantidade_comprada)),\"\")","v":""}]
[null,null,null,{"$f":"IFERROR(IF(A455=\"\",\"\",SUMIF(Codigo_Produto,Estoque!A455,quantidade_adquirida)-SUMIF(cod_saida,Estoque!A455,quantidade_comprada)),\"\")","v":""}]
[null,null,null,{"$f":"IFERROR(IF(A456=\"\",\"\",SUMIF(Codigo_Produto,Estoque!A456,quantidade_adquirida)-SUMIF(cod_saida,Estoque!A456,quantidade_comprada)),\"\")","v":""}]
[null,null,null,{"$f":"IFERROR(IF(A457=\"\",\"\",SUMIF(Codigo_Produto,Estoque!A457,quantidade_adquirida)-SUMIF(cod_saida,Estoque!A457,quantidade_comprada)),\"\")","v":""}]
[null,null,null,{"$f":"IFERROR(IF(A458=\"\",\"\",SUMIF(Codigo_Produto,Estoque!A458,quantidade_adquirida)-SUMIF(cod_saida,Estoque!A458,quantidade_comprada)),\"\")","v":""}]
[null,null,null,{"$f":"IFERROR(IF(A459=\"\",\"\",SUMIF(Codigo_Produto,Estoque!A459,quantidade_adquirida)-SUMIF(cod_saida,Estoque!A459,quantidade_comprada)),\"\")","v":""}]
[null,null,null,{"$f":"IFERROR(IF(A460=\"\",\"\",SUMIF(Codigo_Produto,Estoque!A460,quantidade_adquirida)-SUMIF(cod_saida,Estoque!A460,quantidade_comprada)),\"\")","v":""}]
[null,null,null,{"$f":"IFERROR(IF(A461=\"\",\"\",SUMIF(Codigo_Produto,Estoque!A461,quantidade_adquirida)-SUMIF(cod_saida,Estoque!A461,quantidade_comprada)),\"\")","v":""}]
[null,null,null,{"$f":"IFERROR(IF(A462=\"\",\"\",SUMIF(Codigo_Produto,Estoque!A462,quantidade_adquirida)-SUMIF(cod_saida,Estoque!A462,quantidade_comprada)),\"\")","v":""}]
[null,null,null,{"$f":"IFERROR(IF(A463=\"\",\"\",SUMIF(Codigo_Produto,Estoque!A463,quantidade_adquirida)-SUMIF(cod_saida,Estoque!A463,quantidade_comprada)),\"\")","v":""}]
[null,null,null,{"$f":"IFERROR(IF(A464=\"\",\"\",SUMIF(Codigo_Produto,Estoque!A464,quantidade_adquirida)-SUMIF(cod_saida,Estoque!A464,quantidade_comprada)),\"\")","v":""}]
[null,null,null,{"$f":"IFERROR(IF(A465=\"\",\"\",SUMIF(Codigo_Produto,Estoque!A465,quantidade_adquirida)-SUMIF(cod_saida,Estoque!A465,quantidade_comprada)),\"\")","v":""}]
[null,null,null,{"$f":"IFERROR(IF(A466=\"\",\"\",SUMIF(Codigo_Produto,Estoque!A466,quantidade_adquirida)-SUMIF(cod_saida,Estoque!A466,quantidade_comprada)),\"\")","v":""}]
[null,null,null,{"$f":"IFERROR(IF(A467=\"\",\"\",SUMIF(Codigo_Produto,Estoque!A467,quantidade_adquirida)-SUMIF(cod_saida,Estoque!A467,quantidade_comprada)),\"\")","v":""}]
[null,null,null,{"$f":"IFERROR(IF(A468=\"\",\"\",SUMIF(Codigo_Produto,Estoque!A468,quantidade_adquirida)-SUMIF(cod_saida,Estoque!A468,quantidade_comprada)),\"\")","v":""}]
[null,null,null,{"$f":"IFERROR(IF(A469=\"\",\"\",SUMIF(Codigo_Produto,Estoque!A469,quantidade_adquirida)-SUMIF(cod_saida,Estoque!A469,quantidade_comprada)),\"\")","v":""}]
[null,null,null,{"$f":"IFERROR(IF(A470=\"\",\"\",SUMIF(Codigo_Produto,Estoque!A470,quantidade_adquirida)-SUMIF(cod_saida,Estoque!A470,quantidade_comprada)),\"\")","v":""}]
[null,null,null,{"$f":"IFERROR(IF(A471=\"\",\"\",SUMIF(Codigo_Produto,Estoque!A471,quantidade_adquirida)-SUMIF(cod_saida,Estoque!A471,quantidade_comprada)),\"\")","v":""}]
[null,null,null,{"$f":"IFERROR(IF(A472=\"\",\"\",SUMIF(Codigo_Produto,Estoque!A472,quantidade_adquirida)-SUMIF(cod_saida,Estoque!A472,quantidade_comprada)),\"\")","v":""}]
[null,null,null,{"$f":"IFERROR(IF(A473=\"\",\"\",SUMIF(Codigo_Produto,Estoque!A473,quantidade_adquirida)-SUMIF(cod_saida,Estoque!A473,quantidade_comprada)),\"\")","v":""}]
[null,null,null,{"$f":"IFERROR(IF(A474=\"\",\"\",SUMIF(Codigo_Produto,Estoque!A474,quantidade_adquirida)-SUMIF(cod_saida,Estoque!A474,quantidade_comprada)),\"\")","v":""}]
[null,null,null,{"$f":"IFERROR(IF(A475=\"\",\"\",SUMIF(Codigo_Produto,Estoque!A475,quantidade_adquirida)-SUMIF(cod_saida,Estoque!A475,quantidade_comprada)),\"\")","v":""}]
[null,null,null,{"$f":"IFERROR(IF(A476=\"\",\"\",SUMIF(Codigo_Produto,Estoque!A476,quantidade_adquirida)-SUMIF(cod_saida,Estoque!A476,quantidade_comprada)),\"\")","v":""}]
[null,null,null,{"$f":"IFERROR(IF(A477=\"\",\"\",SUMIF(Codigo_Produto,Estoque!A477,quantidade_adquirida)-SUMIF(cod_saida,Estoque!A477,quantidade_comprada)),\"\")","v":""}]
[null,null,null,{"$f":"IFERROR(IF(A478=\"\",\"\",SUMIF(Codigo_Produto,Estoque!A478,quantidade_adquirida)-SUMIF(cod_saida,Estoque!A478,quantidade_comprada)),\"\")","v":""}]
[null,null,null,{"$f":"IFERROR(IF(A479=\"\",\"\",SUMIF(Codigo_Produto,Estoque!A479,quantidade_adquirida)-SUMIF(cod_saida,Estoque!A479,quantidade_comprada)),\"\")","v":""}]
[null,null,null,{"$f":"IFERROR(IF(A480=\"\",\"\",SUMIF(Codigo_Produto,Estoque!A480,quantidade_adquirida)-SUMIF(cod_saida,Estoque!A480,quantidade_comprada)),\"\")","v":""}]
[null,null,null,{"$f":"IFERROR(IF(A481=\"\",\"\",SUMIF(Codigo_Produto,Estoque!A481,quantidade_adquirida)-SUMIF(cod_saida,Estoque!A481,quantidade_comprada)),\"\")","v":""}]
[null,null,null,{"$f":"IFERROR(IF(A482=\"\",\"\",SUMIF(Codigo_Produto,Estoque!A482,quantidade_adquirida)-SUMIF(cod_saida,Estoque!A482,quantidade_comprada)),\"\")","v":""}]
[null,null,null,{"$f":"IFERROR(IF(A483=\"\",\"\",SUMIF(Codigo_Produto,Estoque!A483,quantidade_adquirida)-SUMIF(cod_saida,Estoque!A483,quantidade_comprada)),\"\")","v":""}]
[null,null,null,{"$f":"IFERROR(IF(A484=\"\",\"\",SUMIF(Codigo_Produto,Estoque!A484,quantidade_adquirida)-SUMIF(cod_saida,Estoque!A484,quantidade_comprada)),\"\")","v":""}]
[null,null,null,{"$f":"IFERROR(IF(A485=\"\",\"\",SUMIF(Codigo_Produto,Estoque!A485,quantidade_adquirida)-SUMIF(cod_saida,Estoque!A485,quantidade_comprada)),\"\")","v":""}]
[null,null,null,{"$f":"IFERROR(IF(A486=\"\",\"\",SUMIF(Codigo_Produto,Estoque!A486,quantidade_adquirida)-SUMIF(cod_saida,Estoque!A486,quantidade_comprada)),\"\")","v":""}]
[null,null,null,{"$f":"IFERROR(IF(A487=\"\",\"\",SUMIF(Codigo_Produto,Estoque!A487,quantidade_adquirida)-SUMIF(cod_saida,Estoque!A487,quantidade_comprada)),\"\")","v":""}]
[null,null,null,{"$f":"IFERROR(IF(A488=\"\",\"\",SUMIF(Codigo_Produto,Estoque!A488,quantidade_adquirida)-SUMIF(cod_saida,Estoque!A488,quantidade_comprada)),\"\")","v":""}]
[null,null,null,{"$f":"IFERROR(IF(A489=\"\",\"\",SUMIF(Codigo_Produto,Estoque!A489,quantidade_adquirida)-SUMIF(cod_saida,Estoque!A489,quantidade_comprada)),\"\")","v":""}]
[null,null,null,{"$f":"IFERROR(IF(A490=\"\",\"\",SUMIF(Codigo_Produto,Estoque!A490,quantidade_adquirida)-SUMIF(cod_saida,Estoque!A490,quantidade_comprada)),\"\")","v":""}]
[null,null,null,{"$f":"IFERROR(IF(A491=\"\",\"\",SUMIF(Codigo_Produto,Estoque!A491,quantidade_adquirida)-SUMIF(cod_saida,Estoque!A491,quantidade_comprada)),\"\")","v":""}]
[null,null,null,{"$f":"IFERROR(IF(A492=\"\",\"\",SUMIF(Codigo_Produto,Estoque!A492,quantidade_adquirida)-SUMIF(cod_saida,Estoque!A492,quantidade_comprada)),\"\")","v":""}]
[null,null,null,{"$f":"IFERROR(IF(A493=\"\",\"\",SUMIF(Codigo_Produto,Estoque!A493,quantidade_adquirida)-SUMIF(cod_saida,Estoque!A493,quantidade_comprada)),\"\")","v":""}]
[null,null,null,{"$f":"IFERROR(IF(A494=\"\",\"\",SUMIF(Codigo_Produto,Estoque!A494,quantidade_adquirida)-SUMIF(cod_saida,Estoque!A494,quantidade_comprada)),\"\")","v":""}]
[null,null,null,{"$f":"IFERROR(IF(A495=\"\",\"\",SUMIF(Codigo_Produto,Estoque!A495,quantidade_adquirida)-SUMIF(cod_saida,Estoque!A495,quantidade_comprada)),\"\")","v":""}]
[null,null,null,{"$f":"IFERROR(IF(A496=\"\",\"\",SUMIF(Codigo_Produto,Estoque!A496,quantidade_adquirida)-SUMIF(cod_saida,Estoque!A496,quantidade_comprada)),\"\")","v":""}]
[null,null,null,{"$f":"IFERROR(IF(A497=\"\",\"\",SUMIF(Codigo_Produto,Estoque!A497,quantidade_adquirida)-SUMIF(cod_saida,Estoque!A497,quantidade_comprada)),\"\")","v":""}]
[null,null,null,{"$f":"IFERROR(IF(A498=\"\",\"\",SUMIF(Codigo_Produto,Estoque!A498,quantidade_adquirida)-SUMIF(cod_saida,Estoque!A498,quantidade_comprada)),\"\")","v":""}]
[null,null,null,{"$f":"IFERROR(IF(A499=\"\",\"\",SUMIF(Codigo_Produto,Estoque!A499,quantidade_adquirida)-SUMIF(cod_saida,Estoque!A499,quantidade_comprada)),\"\")","v":""}]
[null,null,null,{"$f":"IFERROR(IF(A500=\"\",\"\",SUMIF(Codigo_Produto,Estoque!A500,quantidade_adquirida)-SUMIF(cod_saida,Estoque!A500,quantidade_comprada)),\"\")","v":""}]
[null,null,null,{"$f":"IFERROR(IF(A501=\"\",\"\",SUMIF(Codigo_Produto,Estoque!A501,quantidade_adquirida)-SUMIF(cod_saida,Estoque!A501,quantidade_comprada)),\"\")","v":""}]
[null,null,null,{"$f":"IFERROR(IF(A502=\"\",\"\",SUMIF(Codigo_Produto,Estoque!A502,quantidade_adquirida)-SUMIF(cod_saida,Estoque!A502,quantidade_comprada)),\"\")","v":""}]
[null,null,null,{"$f":"IFERROR(IF(A503=\"\",\"\",SUMIF(Codigo_Produto,Estoque!A503,quantidade_adquirida)-SUMIF(cod_saida,Estoque!A503,quantidade_comprada)),\"\")","v":""}]
[null,null,null,{"$f":"IFERROR(IF(A504=\"\",\"\",SUMIF(Codigo_Produto,Estoque!A504,quantidade_adquirida)-SUMIF(cod_saida,Estoque!A504,quantidade_comprada)),\"\")","v":""}]
[null,null,null,{"$f":"IFERROR(IF(A505=\"\",\"\",SUMIF(Codigo_Produto,Estoque!A505,quantidade_adquirida)-SUMIF(cod_saida,Estoque!A505,quantidade_comprada)),\"\")","v":""}]
[null,null,null,{"$f":"IFERROR(IF(A506=\"\",\"\",SUMIF(Codigo_Produto,Estoque!A506,quantidade_adquirida)-SUMIF(cod_saida,Estoque!A506,quantidade_comprada)),\"\")","v":""}]
[null,null,null,{"$f":"IFERROR(IF(A507=\"\",\"\",SUMIF(Codigo_Produto,Estoque!A507,quantidade_adquirida)-SUMIF(cod_saida,Estoque!A507,quantidade_comprada)),\"\")","v":""}]
[null,null,null,{"$f":"IFERROR(IF(A508=\"\",\"\",SUMIF(Codigo_Produto,Estoque!A508,quantidade_adquirida)-SUMIF(cod_saida,Estoque!A508,quantidade_comprada)),\"\")","v":""}]
[null,null,null,{"$f":"IFERROR(IF(A509=\"\",\"\",SUMIF(Codigo_Produto,Estoque!A509,quantidade_adquirida)-SUMIF(cod_saida,Estoque!A509,quantidade_comprada)),\"\")","v":""}]
[null,null,null,{"$f":"IFERROR(IF(A510=\"\",\"\",SUMIF(Codigo_Produto,Estoque!A510,quantidade_adquirida)-SUMIF(cod_saida,Estoque!A510,quantidade_comprada)),\"\")","v":""}]
[null,null,null,{"$f":"IFERROR(IF(A511=\"\",\"\",SUMIF(Codigo_Produto,Estoque!A511,quantidade_adquirida)-SUMIF(cod_saida,Estoque!A511,quantidade_comprada)),\"\")","v":""}]
[null,null,null,{"$f":"IFERROR(IF(A512=\"\",\"\",SUMIF(Codigo_Produto,Estoque!A512,quantidade_adquirida)-SUMIF(cod_saida,Estoque!A512,quantidade_comprada)),\"\")","v":""}]
[null,null,null,{"$f":"IFERROR(IF(A513=\"\",\"\",SUMIF(Codigo_Produto,Estoque!A513,quantidade_adquirida)-SUMIF(cod_saida,Estoque!A513,quantidade_comprada)),\"\")","v":""}]
[null,null,null,{"$f":"IFERROR(IF(A514=\"\",\"\",SUMIF(Codigo_Produto,Estoque!A514,quantidade_adquirida)-SUMIF(cod_saida,Estoque!A514,quantidade_comprada)),\"\")","v":""}]
[null,null,null,{"$f":"IFERROR(IF(A515=\"\",\"\",SUMIF(Codigo_Produto,Estoque!A515,quantidade_adquirida)-SUMIF(cod_saida,Estoque!A515,quantidade_comprada)),\"\")","v":""}]
[null,null,null,{"$f":"IFERROR(IF(A516=\"\",\"\",SUMIF(Codigo_Produto,Estoque!A516,quantidade_adquirida)-SUMIF(cod_saida,Estoque!A516,quantidade_comprada)),\"\")","v":""}]
[null,null,null,{"$f":"IFERROR(IF(A517=\"\",\"\",SUMIF(Codigo_Produto,Estoque!A517,quantidade_adquirida)-SUMIF(cod_saida,Estoque!A517,quantidade_comprada)),\"\")","v":""}]
[null,null,null,{"$f":"IFERROR(IF(A518=\"\",\"\",SUMIF(Codigo_Produto,Estoque!A518,quantidade_adquirida)-SUMIF(cod_saida,Estoque!A518,quantidade_comprada)),\"\")","v":""}]
[null,null,null,{"$f":"IFERROR(IF(A519=\"\",\"\",SUMIF(Codigo_Produto,Estoque!A519,quantidade_adquirida)-SUMIF(cod_saida,Estoque!A519,quantidade_comprada)),\"\")","v":""}]
[null,null,null,{"$f":"IFERROR(IF(A520=\"\",\"\",SUMIF(Codigo_Produto,Estoque!A520,quantidade_adquirida)-SUMIF(cod_saida,Estoque!A520,quantidade_comprada)),\"\")","v":""}]
[null,null,null,{"$f":"IFERROR(IF(A521=\"\",\"\",SUMIF(Codigo_Produto,Estoque!A521,quantidade_adquirida)-SUMIF(cod_saida,Estoque!A521,quantidade_comprada)),\"\")","v":""}]
[null,null,null,{"$f":"IFERROR(IF(A522=\"\",\"\",SUMIF(Codigo_Produto,Estoque!A522,quantidade_adquirida)-SUMIF(cod_saida,Estoque!A522,quantidade_comprada)),\"\")","v":""}]
[null,null,null,{"$f":"IFERROR(IF(A523=\"\",\"\",SUMIF(Codigo_Produto,Estoque!A523,quantidade_adquirida)-SUMIF(cod_saida,Estoque!A523,quantidade_comprada)),\"\")","v":""}]
[null,null,null,{"$f":"IFERROR(IF(A524=\"\",\"\",SUMIF(Codigo_Produto,Estoque!A524,quantidade_adquirida)-SUMIF(cod_saida,Estoque!A524,quantidade_comprada)),\"\")","v":""}]
[null,null,null,{"$f":"IFERROR(IF(A525=\"\",\"\",SUMIF(Codigo_Produto,Estoque!A525,quantidade_adquirida)-SUMIF(cod_saida,Estoque!A525,quantidade_comprada)),\"\")","v":""}]
[null,null,null,{"$f":"IFERROR(IF(A526=\"\",\"\",SUMIF(Codigo_Produto,Estoque!A526,quantidade_adquirida)-SUMIF(cod_saida,Estoque!A526,quantidade_comprada)),\"\")","v":""}]
[null,null,null,{"$f":"IFERROR(IF(A527=\"\",\"\",SUMIF(Codigo_Produto,Estoque!A527,quantidade_adquirida)-SUMIF(cod_saida,Estoque!A527,quantidade_comprada)),\"\")","v":""}]
[null,null,null,{"$f":"IFERROR(IF(A528=\"\",\"\",SUMIF(Codigo_Produto,Estoque!A528,quantidade_adquirida)-SUMIF(cod_saida,Estoque!A528,quantidade_comprada)),\"\")","v":""}]
[null,null,null,{"$f":"IFERROR(IF(A529=\"\",\"\",SUMIF(Codigo_Produto,Estoque!A529,quantidade_adquirida)-SUMIF(cod_saida,Estoque!A529,quantidade_comprada)),\"\")","v":""}]
[null,null,null,{"$f":"IFERROR(IF(A530=\"\",\"\",SUMIF(Codigo_Produto,Estoque!A530,quantidade_adquirida)-SUMIF(cod_saida,Estoque!A530,quantidade_comprada)),\"\")","v":""}]
[null,null,null,{"$f":"IFERROR(IF(A531=\"\",\"\",SUMIF(Codigo_Produto,Estoque!A531,quantidade_adquirida)-SUMIF(cod_saida,Estoque!A531,quantidade_comprada)),\"\")","v":""}]
[null,null,null,{"$f":"IFERROR(IF(A532=\"\",\"\",SUMIF(Codigo_Produto,Estoque!A532,quantidade_adquirida)-SUMIF(cod_saida,Estoque!A532,quantidade_comprada)),\"\")","v":""}]
[null,null,null,{"$f":"IFERROR(IF(A533=\"\",\"\",SUMIF(Codigo_Produto,Estoque!A533,quantidade_adquirida)-SUMIF(cod_saida,Estoque!A533,quantidade_comprada)),\"\")","v":""}]
[null,null,null,{"$f":"IFERROR(IF(A534=\"\",\"\",SUMIF(Codigo_Produto,Estoque!A534,quantidade_adquirida)-SUMIF(cod_saida,Estoque!A534,quantidade_comprada)),\"\")","v":""}]
[null,null,null,{"$f":"IFERROR(IF(A535=\"\",\"\",SUMIF(Codigo_Produto,Estoque!A535,quantidade_adquirida)-SUMIF(cod_saida,Estoque!A535,quantidade_comprada)),\"\")","v":""}]
[null,null,null,{"$f":"IFERROR(IF(A536=\"\",\"\",SUMIF(Codigo_Produto,Estoque!A536,quantidade_adquirida)-SUMIF(cod_saida,Estoque!A536,quantidade_comprada)),\"\")","v":""}]
[null,null,null,{"$f":"IFERROR(IF(A537=\"\",\"\",SUMIF(Codigo_Produto,Estoque!A537,quantidade_adquirida)-SUMIF(cod_saida,Estoque!A537,quantidade_comprada)),\"\")","v":""}]
[null,null,null,{"$f":"IFERROR(IF(A538=\"\",\"\",SUMIF(Codigo_Produto,Estoque!A538,quantidade_adquirida)-SUMIF(cod_saida,Estoque!A538,quantidade_comprada)),\"\")","v":""}]
[null,null,null,{"$f":"IFERROR(IF(A539=\"\",\"\",SUMIF(Codigo_Produto,Estoque!A539,quantidade_adquirida)-SUMIF(cod_saida,Estoque!A539,quantidade_comprada)),\"\")","v":""}]
[null,null,null,{"$f":"IFERROR(IF(A540=\"\",\"\",SUMIF(Codigo_Produto,Estoque!A540,quantidade_adquirida)-SUMIF(cod_saida,Estoque!A540,quantidade_comprada)),\"\")","v":""}]
[null,null,null,{"$f":"IFERROR(IF(A541=\"\",\"\",SUMIF(Codigo_Produto,Estoque!A541,quantidade_adquirida)-SUMIF(cod_saida,Estoque!A541,quantidade_comprada)),\"\")","v":""}]
[null,null,null,{"$f":"IFERROR(IF(A542=\"\",\"\",SUMIF(Codigo_Produto,Estoque!A542,quantidade_adquirida)-SUMIF(cod_saida,Estoque!A542,quantidade_comprada)),\"\")","v":""}]
[null,null,null,{"$f":"IFERROR(IF(A543=\"\",\"\",SUMIF(Codigo_Produto,Estoque!A543,quantidade_adquirida)-SUMIF(cod_saida,Estoque!A543,quantidade_comprada)),\"\")","v":""}]
[null,null,null,{"$f":"IFERROR(IF(A544=\"\",\"\",SUMIF(Codigo_Produto,Estoque!A544,quantidade_adquirida)-SUMIF(cod_saida,Estoque!A544,quantidade_comprada)),\"\")","v":""}]
[null,null,null,{"$f":"IFERROR(IF(A545=\"\",\"\",SUMIF(Codigo_Produto,Estoque!A545,quantidade_adquirida)-SUMIF(cod_saida,Estoque!A545,quantidade_comprada)),\"\")","v":""}]
[null,null,null,{"$f":"IFERROR(IF(A546=\"\",\"\",SUMIF(Codigo_Produto,Estoque!A546,quantidade_adquirida)-SUMIF(cod_saida,Estoque!A546,quantidade_comprada)),\"\")","v":""}]
[null,null,null,{"$f":"IFERROR(IF(A547=\"\",\"\",SUMIF(Codigo_Produto,Estoque!A547,quantidade_adquirida)-SUMIF(cod_saida,Estoque!A547,quantidade_comprada)),\"\")","v":""}]
[null,null,null,{"$f":"IFERROR(IF(A548=\"\",\"\",SUMIF(Codigo_Produto,Estoque!A548,quantidade_adquirida)-SUMIF(cod_saida,Estoque!A548,quantidade_comprada)),\"\")","v":""}]
[null,null,null,{"$f":"IFERROR(IF(A549=\"\",\"\",SUMIF(Codigo_Produto,Estoque!A549,quantidade_adquirida)-SUMIF(cod_saida,Estoque!A549,quantidade_comprada)),\"\")","v":""}]
[null,null,null,{"$f":"IFERROR(IF(A550=\"\",\"\",SUMIF(Codigo_Produto,Estoque!A550,quantidade_adquirida)-SUMIF(cod_saida,Estoque!A550,quantidade_comprada)),\"\")","v":""}]
[null,null,null,{"$f":"IFERROR(IF(A551=\"\",\"\",SUMIF(Codigo_Produto,Estoque!A551,quantidade_adquirida)-SUMIF(cod_saida,Estoque!A551,quantidade_comprada)),\"\")","v":""}]
[null,null,null,{"$f":"IFERROR(IF(A552=\"\",\"\",SUMIF(Codigo_Produto,Estoque!A552,quantidade_adquirida)-SUMIF(cod_saida,Estoque!A552,quantidade_comprada)),\"\")","v":""}]
[null,null,null,{"$f":"IFERROR(IF(A553=\"\",\"\",SUMIF(Codigo_Produto,Estoque!A553,quantidade_adquirida)-SUMIF(cod_saida,Estoque!A553,quantidade_comprada)),\"\")","v":""}]
[null,null,null,{"$f":"IFERROR(IF(A554=\"\",\"\",SUMIF(Codigo_Produto,Estoque!A554,quantidade_adquirida)-SUMIF(cod_saida,Estoque!A554,quantidade_comprada)),\"\")","v":""}]
[null,null,null,{"$f":"IFERROR(IF(A555=\"\",\"\",SUMIF(Codigo_Produto,Estoque!A555,quantidade_adquirida)-SUMIF(cod_saida,Estoque!A555,quantidade_comprada)),\"\")","v":""}]
[null,null,null,{"$f":"IFERROR(IF(A556=\"\",\"\",SUMIF(Codigo_Produto,Estoque!A556,quantidade_adquirida)-SUMIF(cod_saida,Estoque!A556,quantidade_comprada)),\"\")","v":""}]
[null,null,null,{"$f":"IFERROR(IF(A557=\"\",\"\",SUMIF(Codigo_Produto,Estoque!A557,quantidade_adquirida)-SUMIF(cod_saida,Estoque!A557,quantidade_comprada)),\"\")","v":""}]
[null,null,null,{"$f":"IFERROR(IF(A558=\"\",\"\",SUMIF(Codigo_Produto,Estoque!A558,quantidade_adquirida)-SUMIF(cod_saida,Estoque!A558,quantidade_comprada)),\"\")","v":""}]
[null,null,null,{"$f":"IFERROR(IF(A559=\"\",\"\",SUMIF(Codigo_Produto,Estoque!A559,quantidade_adquirida)-SUMIF(cod_saida,Estoque!A559,quantidade_comprada)),\"\")","v":""}]
[null,null,null,{"$f":"IFERROR(IF(A560=\"\",\"\",SUMIF(Codigo_Produto,Estoque!A560,quantidade_adquirida)-SUMIF(cod_saida,Estoque!A560,quantidade_comprada)),\"\")","v":""}]
[null,null,null,{"$f":"IFERROR(IF(A561=\"\",\"\",SUMIF(Codigo_Produto,Estoque!A561,quantidade_adquirida)-SUMIF(cod_saida,Estoque!A561,quantidade_comprada)),\"\")","v":""}]
[null,null,null,{"$f":"IFERROR(IF(A562=\"\",\"\",SUMIF(Codigo_Produto,Estoque!A562,quantidade_adquirida)-SUMIF(cod_saida,Estoque!A562,quantidade_comprada)),\"\")","v":""}]
[null,null,null,{"$f":"IFERROR(IF(A563=\"\",\"\",SUMIF(Codigo_Produto,Estoque!A563,quantidade_adquirida)-SUMIF(cod_saida,Estoque!A563,quantidade_comprada)),\"\")","v":""}]
[null,null,null,{"$f":"IFERROR(IF(A564=\"\",\"\",SUMIF(Codigo_Produto,Estoque!A564,quantidade_adquirida)-SUMIF(cod_saida,Estoque!A564,quantidade_comprada)),\"\")","v":""}]
[null,null,null,{"$f":"IFERROR(IF(A565=\"\",\"\",SUMIF(Codigo_Produto,Estoque!A565,quantidade_adquirida)-SUMIF(cod_saida,Estoque!A565,quantidade_comprada)),\"\")","v":""}]
[null,null,null,{"$f":"IFERROR(IF(A566=\"\",\"\",SUMIF(Codigo_Produto,Estoque!A566,quantidade_adquirida)-SUMIF(cod_saida,Estoque!A566,quantidade_comprada)),\"\")","v":""}]
[null,null,null,{"$f":"IFERROR(IF(A567=\"\",\"\",SUMIF(Codigo_Produto,Estoque!A567,quantidade_adquirida)-SUMIF(cod_saida,Estoque!A567,quantidade_comprada)),\"\")","v":""}]
[null,null,null,{"$f":"IFERROR(IF(A568=\"\",\"\",SUMIF(Codigo_Produto,Estoque!A568,quantidade_adquirida)-SUMIF(cod_saida,Estoque!A568,quantidade_comprada)),\"\")","v":""}]
[null,null,null,{"$f":"IFERROR(IF(A569=\"\",\"\",SUMIF(Codigo_Produto,Estoque!A569,quantidade_adquirida)-SUMIF(cod_saida,Estoque!A569,quantidade_comprada)),\"\")","v":""}]
[null,null,null,{"$f":"IFERROR(IF(A570=\"\",\"\",SUMIF(Codigo_Produto,Estoque!A570,quantidade_adquirida)-SUMIF(cod_saida,Estoque!A570,quantidade_comprada)),\"\")","v":""}]
[null,null,null,{"$f":"IFERROR(IF(A571=\"\",\"\",SUMIF(Codigo_Produto,Estoque!A571,quantidade_adquirida)-SUMIF(cod_saida,Estoque!A571,quantidade_comprada)),\"\")","v":""}]
[null,null,null,{"$f":"IFERROR(IF(A572=\"\",\"\",SUMIF(Codigo_Produto,Estoque!A572,quantidade_adquirida)-SUMIF(cod_saida,Estoque!A572,quantidade_comprada)),\"\")","v":""}]
[null,null,null,{"$f":"IFERROR(IF(A573=\"\",\"\",SUMIF(Codigo_Produto,Estoque!A573,quantidade_adquirida)-SUMIF(cod_saida,Estoque!A573,quantidade_comprada)),\"\")","v":""}]
[null,null,null,{"$f":"IFERROR(IF(A574=\"\",\"\",SUMIF(Codigo_Produto,Estoque!A574,quantidade_adquirida)-SUMIF(cod_saida,Estoque!A574,quantidade_comprada)),\"\")","v":""}]
[null,null,null,{"$f":"IFERROR(IF(A575=\"\",\"\",SUMIF(Codigo_Produto,Estoque!A575,quantidade_adquirida)-SUMIF(cod_saida,Estoque!A575,quantidade_comprada)),\"\")","v":""}]
[null,null,null,{"$f":"IFERROR(IF(A576=\"\",\"\",SUMIF(Codigo_Produto,Estoque!A576,quantidade_adquirida)-SUMIF(cod_saida,Estoque!A576,quantidade_comprada)),\"\")","v":""}]
[null,null,null,{"$f":"IFERROR(IF(A577=\"\",\"\",SUMIF(Codigo_Produto,Estoque!A577,quantidade_adquirida)-SUMIF(cod_saida,Estoque!A577,quantidade_comprada)),\"\")","v":""}]
[null,null,null,{"$f":"IFERROR(IF(A578=\"\",\"\",SUMIF(Codigo_Produto,Estoque!A578,quantidade_adquirida)-SUMIF(cod_saida,Estoque!A578,quantidade_comprada)),\"\")","v":""}]
[null,null,null,{"$f":"IFERROR(IF(A579=\"\",\"\",SUMIF(Codigo_Produto,Estoque!A579,quantidade_adquirida)-SUMIF(cod_saida,Estoque!A579,quantidade_comprada)),\"\")","v":""}]
[null,null,null,{"$f":"IFERROR(IF(A580=\"\",\"\",SUMIF(Codigo_Produto,Estoque!A580,quantidade_adquirida)-SUMIF(cod_saida,Estoque!A580,quantidade_comprada)),\"\")","v":""}]
[null,null,null,{"$f":"IFERROR(IF(A581=\"\",\"\",SUMIF(Codigo_Produto,Estoque!A581,quantidade_adquirida)-SUMIF(cod_saida,Estoque!A581,quantidade_comprada)),\"\")","v":""}]
[null,null,null,{"$f":"IFERROR(IF(A582=\"\",\"\",SUMIF(Codigo_Produto,Estoque!A582,quantidade_adquirida)-SUMIF(cod_saida,Estoque!A582,quantidade_comprada)),\"\")","v":""}]
[null,null,null,{"$f":"IFERROR(IF(A583=\"\",\"\",SUMIF(Codigo_Produto,Estoque!A583,quantidade_adquirida)-SUMIF(cod_saida,Estoque!A583,quantidade_comprada)),\"\")","v":""}]
[null,null,null,{"$f":"IFERROR(IF(A584=\"\",\"\",SUMIF(Codigo_Produto,Estoque!A584,quantidade_adquirida)-SUMIF(cod_saida,Estoque!A584,quantidade_comprada)),\"\")","v":""}]
[null,null,null,{"$f":"IFERROR(IF(A585=\"\",\"\",SUMIF(Codigo_Produto,Estoque!A585,quantidade_adquirida)-SUMIF(cod_saida,Estoque!A585,quantidade_comprada)),\"\")","v":""}]
[null,null,null,{"$f":"IFERROR(IF(A586=\"\",\"\",SUMIF(Codigo_Produto,Estoque!A586,quantidade_adquirida)-SUMIF(cod_saida,Estoque!A586,quantidade_comprada)),\"\")","v":""}]
[null,null,null,{"$f":"IFERROR(IF(A587=\"\",\"\",SUMIF(Codigo_Produto,Estoque!A587,quantidade_adquirida)-SUMIF(cod_saida,Estoque!A587,quantidade_comprada)),\"\")","v":""}]
[null,null,null,{"$f":"IFERROR(IF(A588=\"\",\"\",SUMIF(Codigo_Produto,Estoque!A588,quantidade_adquirida)-SUMIF(cod_saida,Estoque!A588,quantidade_comprada)),\"\")","v":""}]
[null,null,null,{"$f":"IFERROR(IF(A589=\"\",\"\",SUMIF(Codigo_Produto,Estoque!A589,quantidade_adquirida)-SUMIF(cod_saida,Estoque!A589,quantidade_comprada)),\"\")","v":""}]
[null,null,null,{"$f":"IFERROR(IF(A590=\"\",\"\",SUMIF(Codigo_Produto,Estoque!A590,quantidade_adquirida)-SUMIF(cod_saida,Estoque!A590,quantidade_comprada)),\"\")","v":""}]
[null,null,null,{"$f":"IFERROR(IF(A591=\"\",\"\",SUMIF(Codigo_Produto,Estoque!A591,quantidade_adquirida)-SUMIF(cod_saida,Estoque!A591,quantidade_comprada)),\"\")","v":""}]
[null,null,null,{"$f":"IFERROR(IF(A592=\"\",\"\",SUMIF(Codigo_Produto,Estoque!A592,quantidade_adquirida)-SUMIF(cod_saida,Estoque!A592,quantidade_comprada)),\"\")","v":""}]
[null,null,null,{"$f":"IFERROR(IF(A593=\"\",\"\",SUMIF(Codigo_Produto,Estoque!A593,quantidade_adquirida)-SUMIF(cod_saida,Estoque!A593,quantidade_comprada)),\"\")","v":""}]
[null,null,null,{"$f":"IFERROR(IF(A594=\"\",\"\",SUMIF(Codigo_Produto,Estoque!A594,quantidade_adquirida)-SUMIF(cod_saida,Estoque!A594,quantidade_comprada)),\"\")","v":""}]
[null,null,null,{"$f":"IFERROR(IF(A595=\"\",\"\",SUMIF(Codigo_Produto,Estoque!A595,quantidade_adquirida)-SUMIF(cod_saida,Estoque!A595,quantidade_comprada)),\"\")","v":""}]
[null,null,null,{"$f":"IFERROR(IF(A596=\"\",\"\",SUMIF(Codigo_Produto,Estoque!A596,quantidade_adquirida)-SUMIF(cod_saida,Estoque!A596,quantidade_comprada)),\"\")","v":""}]
[null,null,null,{"$f":"IFERROR(IF(A597=\"\",\"\",SUMIF(Codigo_Produto,Estoque!A597,quantidade_adquirida)-SUMIF(cod_saida,Estoque!A597,quantidade_comprada)),\"\")","v":""}]
[null,null,null,{"$f":"IFERROR(IF(A598=\"\",\"\",SUMIF(Codigo_Produto,Estoque!A598,quantidade_adquirida)-SUMIF(cod_saida,Estoque!A598,quantidade_comprada)),\"\")","v":""}]
[null,null,null,{"$f":"IFERROR(IF(A599=\"\",\"\",SUMIF(Codigo_Produto,Estoque!A599,quantidade_adquirida)-SUMIF(cod_saida,Estoque!A599,quantidade_comprada)),\"\")","v":""}]
[null,null,null,{"$f":"IFERROR(IF(A600=\"\",\"\",SUMIF(Codigo_Produto,Estoque!A600,quantidade_adquirida)-SUMIF(cod_saida,Estoque!A600,quantidade_comprada)),\"\")","v":""}]
[null,null,null,{"$f":"IFERROR(IF(A601=\"\",\"\",SUMIF(Codigo_Produto,Estoque!A601,quantidade_adquirida)-SUMIF(cod_saida,Estoque!A601,quantidade_comprada)),\"\")","v":""}]
[null,null,null,{"$f":"IFERROR(IF(A602=\"\",\"\",SUMIF(Codigo_Produto,Estoque!A602,quantidade_adquirida)-SUMIF(cod_saida,Estoque!A602,quantidade_comprada)),\"\")","v":""}]
[null,null,null,{"$f":"IFERROR(IF(A603=\"\",\"\",SUMIF(Codigo_Produto,Estoque!A603,quantidade_adquirida)-SUMIF(cod_saida,Estoque!A603,quantidade_comprada)),\"\")","v":""}]
[null,null,null,{"$f":"IFERROR(IF(A604=\"\",\"\",SUMIF(Codigo_Produto,Estoque!A604,quantidade_adquirida)-SUMIF(cod_saida,Estoque!A604,quantidade_comprada)),\"\")","v":""}]
[null,null,null,{"$f":"IFERROR(IF(A605=\"\",\"\",SUMIF(Codigo_Produto,Estoque!A605,quantidade_adquirida)-SUMIF(cod_saida,Estoque!A605,quantidade_comprada)),\"\")","v":""}]
[null,null,null,{"$f":"IFERROR(IF(A606=\"\",\"\",SUMIF(Codigo_Produto,Estoque!A606,quantidade_adquirida)-SUMIF(cod_saida,Estoque!A606,quantidade_comprada)),\"\")","v":""}]
[null,null,null,{"$f":"IFERROR(IF(A607=\"\",\"\",SUMIF(Codigo_Produto,Estoque!A607,quantidade_adquirida)-SUMIF(cod_saida,Estoque!A607,quantidade_comprada)),\"\")","v":""}]
[null,null,null,{"$f":"IFERROR(IF(A608=\"\",\"\",SUMIF(Codigo_Produto,Estoque!A608,quantidade_adquirida)-SUMIF(cod_saida,Estoque!A608,quantidade_comprada)),\"\")","v":""}]
[null,null,null,{"$f":"IFERROR(IF(A609=\"\",\"\",SUMIF(Codigo_Produto,Estoque!A609,quantidade_adquirida)-SUMIF(cod_saida,Estoque!A609,quantidade_comprada)),\"\")","v":""}]
[null,null,null,{"$f":"IFERROR(IF(A610=\"\",\"\",SUMIF(Codigo_Produto,Estoque!A610,quantidade_adquirida)-SUMIF(cod_saida,Estoque!A610,quantidade_comprada)),\"\")","v":""}]
[null,null,null,{"$f":"IFERROR(IF(A611=\"\",\"\",SUMIF(Codigo_Produto,Estoque!A611,quantidade_adquirida)-SUMIF(cod_saida,Estoque!A611,quantidade_comprada)),\"\")","v":""}]
[null,null,null,{"$f":"IFERROR(IF(A612=\"\",\"\",SUMIF(Codigo_Produto,Estoque!A612,quantidade_adquirida)-SUMIF(cod_saida,Estoque!A612,quantidade_comprada)),\"\")","v":""}]
[null,null,null,{"$f":"IFERROR(IF(A613=\"\",\"\",SUMIF(Codigo_Produto,Estoque!A613,quantidade_adquirida)-SUMIF(cod_saida,Estoque!A613,quantidade_comprada)),\"\")","v":""}]
[null,null,null,{"$f":"IFERROR(IF(A614=\"\",\"\",SUMIF(Codigo_Produto,Estoque!A614,quantidade_adquirida)-SUMIF(cod_saida,Estoque!A614,quantidade_comprada)),\"\")","v":""}]
[null,null,null,{"$f":"IFERROR(IF(A615=\"\",\"\",SUMIF(Codigo_Produto,Estoque!A615,quantidade_adquirida)-SUMIF(cod_saida,Estoque!A615,quantidade_comprada)),\"\")","v":""}]
[null,null,null,{"$f":"IFERROR(IF(A616=\"\",\"\",SUMIF(Codigo_Produto,Estoque!A616,quantidade_adquirida)-SUMIF(cod_saida,Estoque!A616,quantidade_comprada)),\"\")","v":""}]
[null,null,null,{"$f":"IFERROR(IF(A617=\"\",\"\",SUMIF(Codigo_Produto,Estoque!A617,quantidade_adquirida)-SUMIF(cod_saida,Estoque!A617,quantidade_comprada)),\"\")","v":""}]
[null,null,null,{"$f":"IFERROR(IF(A618=\"\",\"\",SUMIF(Codigo_Produto,Estoque!A618,quantidade_adquirida)-SUMIF(cod_saida,Estoque!A618,quantidade_comprada)),\"\")","v":""}]
[null,null,null,{"$f":"IFERROR(IF(A619=\"\",\"\",SUMIF(Codigo_Produto,Estoque!A619,quantidade_adquirida)-SUMIF(cod_saida,Estoque!A619,quantidade_comprada)),\"\")","v":""}]
[null,null,null,{"$f":"IFERROR(IF(A620=\"\",\"\",SUMIF(Codigo_Produto,Estoque!A620,quantidade_adquirida)-SUMIF(cod_saida,Estoque!A620,quantidade_comprada)),\"\")","v":""}]
[null,null,null,{"$f":"IFERROR(IF(A621=\"\",\"\",SUMIF(Codigo_Produto,Estoque!A621,quantidade_adquirida)-SUMIF(cod_saida,Estoque!A621,quantidade_comprada)),\"\")","v":""}]
[null,null,null,{"$f":"IFERROR(IF(A622=\"\",\"\",SUMIF(Codigo_Produto,Estoque!A622,quantidade_adquirida)-SUMIF(cod_saida,Estoque!A622,quantidade_comprada)),\"\")","v":""}]
[null,null,null,{"$f":"IFERROR(IF(A623=\"\",\"\",SUMIF(Codigo_Produto,Estoque!A623,quantidade_adquirida)-SUMIF(cod_saida,Estoque!A623,quantidade_comprada)),\"\")","v":""}]
[null,null,null,{"$f":"IFERROR(IF(A624=\"\",\"\",SUMIF(Codigo_Produto,Estoque!A624,quantidade_adquirida)-SUMIF(cod_saida,Estoque!A624,quantidade_comprada)),\"\")","v":""}]
[null,null,null,{"$f":"IFERROR(IF(A625=\"\",\"\",SUMIF(Codigo_Produto,Estoque!A625,quantidade_adquirida)-SUMIF(cod_saida,Estoque!A625,quantidade_comprada)),\"\")","v":""}]
[null,null,null,{"$f":"IFERROR(IF(A626=\"\",\"\",SUMIF(Codigo_Produto,Estoque!A626,quantidade_adquirida)-SUMIF(cod_saida,Estoque!A626,quantidade_comprada)),\"\")","v":""}]
[null,null,null,{"$f":"IFERROR(IF(A627=\"\",\"\",SUMIF(Codigo_Produto,Estoque!A627,quantidade_adquirida)-SUMIF(cod_saida,Estoque!A627,quantidade_comprada)),\"\")","v":""}]
[null,null,null,{"$f":"IFERROR(IF(A628=\"\",\"\",SUMIF(Codigo_Produto,Estoque!A628,quantidade_adquirida)-SUMIF(cod_saida,Estoque!A628,quantidade_comprada)),\"\")","v":""}]
[null,null,null,{"$f":"IFERROR(IF(A629=\"\",\"\",SUMIF(Codigo_Produto,Estoque!A629,quantidade_adquirida)-SUMIF(cod_saida,Estoque!A629,quantidade_comprada)),\"\")","v":""}]
[null,null,null,{"$f":"IFERROR(IF(A630=\"\",\"\",SUMIF(Codigo_Produto,Estoque!A630,quantidade_adquirida)-SUMIF(cod_saida,Estoque!A630,quantidade_comprada)),\"\")","v":""}]
[null,null,null,{"$f":"IFERROR(IF(A631=\"\",\"\",SUMIF(Codigo_Produto,Estoque!A631,quantidade_adquirida)-SUMIF(cod_saida,Estoque!A631,quantidade_comprada)),\"\")","v":""}]
[null,null,null,{"$f":"IFERROR(IF(A632=\"\",\"\",SUMIF(Codigo_Produto,Estoque!A632,quantidade_adquirida)-SUMIF(cod_saida,Estoque!A632,quantidade_comprada)),\"\")","v":""}]
[null,null,null,{"$f":"IFERROR(IF(A633=\"\",\"\",SUMIF(Codigo_Produto,Estoque!A633,quantidade_adquirida)-SUMIF(cod_saida,Estoque!A633,quantidade_comprada)),\"\")","v":""}]
[null,null,null,{"$f":"IFERROR(IF(A634=\"\",\"\",SUMIF(Codigo_Produto,Estoque!A634,quantidade_adquirida)-SUMIF(cod_saida,Estoque!A634,quantidade_comprada)),\"\")","v":""}]
[null,null,null,{"$f":"IFERROR(IF(A635=\"\",\"\",SUMIF(Codigo_Produto,Estoque!A635,quantidade_adquirida)-SUMIF(cod_saida,Estoque!A635,quantidade_comprada)),\"\")","v":""}]
[null,null,null,{"$f":"IFERROR(IF(A636=\"\",\"\",SUMIF(Codigo_Produto,Estoque!A636,quantidade_adquirida)-SUMIF(cod_saida,Estoque!A636,quantidade_comprada)),\"\")","v":""}]
[null,null,null,{"$f":"IFERROR(IF(A637=\"\",\"\",SUMIF(Codigo_Produto,Estoque!A637,quantidade_adquirida)-SUMIF(cod_saida,Estoque!A637,quantidade_comprada)),\"\")","v":""}]
[null,null,null,{"$f":"IFERROR(IF(A638=\"\",\"\",SUMIF(Codigo_Produto,Estoque!A638,quantidade_adquirida)-SUMIF(cod_saida,Estoque!A638,quantidade_comprada)),\"\")","v":""}]
[null,null,null,{"$f":"IFERROR(IF(A639=\"\",\"\",SUMIF(Codigo_Produto,Estoque!A639,quantidade_adquirida)-SUMIF(cod_saida,Estoque!A639,quantidade_comprada)),\"\")","v":""}]
[null,null,null,{"$f":"IFERROR(IF(A640=\"\",\"\",SUMIF(Codigo_Produto,Estoque!A640,quantidade_adquirida)-SUMIF(cod_saida,Estoque!A640,quantidade_comprada)),\"\")","v":""}]
[null,null,null,{"$f":"IFERROR(IF(A641=\"\",\"\",SUMIF(Codigo_Produto,Estoque!A641,quantidade_adquirida)-SUMIF(cod_saida,Estoque!A641,quantidade_comprada)),\"\")","v":""}]
[null,null,null,{"$f":"IFERROR(IF(A642=\"\",\"\",SUMIF(Codigo_Produto,Estoque!A642,quantidade_adquirida)-SUMIF(cod_saida,Estoque!A642,quantidade_comprada)),\"\")","v":""}]
[null,null,null,{"$f":"IFERROR(IF(A643=\"\",\"\",SUMIF(Codigo_Produto,Estoque!A643,quantidade_adquirida)-SUMIF(cod_saida,Estoque!A643,quantidade_comprada)),\"\")","v":""}]
[null,null,null,{"$f":"IFERROR(IF(A644=\"\",\"\",SUMIF(Codigo_Produto,Estoque!A644,quantidade_adquirida)-SUMIF(cod_saida,Estoque!A644,quantidade_comprada)),\"\")","v":""}]
[null,null,null,{"$f":"IFERROR(IF(A645=\"\",\"\",SUMIF(Codigo_Produto,Estoque!A645,quantidade_adquirida)-SUMIF(cod_saida,Estoque!A645,quantidade_comprada)),\"\")","v":""}]
[null,null,null,{"$f":"IFERROR(IF(A646=\"\",\"\",SUMIF(Codigo_Produto,Estoque!A646,quantidade_adquirida)-SUMIF(cod_saida,Estoque!A646,quantidade_comprada)),\"\")","v":""}]
[null,null,null,{"$f":"IFERROR(IF(A647=\"\",\"\",SUMIF(Codigo_Produto,Estoque!A647,quantidade_adquirida)-SUMIF(cod_saida,Estoque!A647,quantidade_comprada)),\"\")","v":""}]
[null,null,null,{"$f":"IFERROR(IF(A648=\"\",\"\",SUMIF(Codigo_Produto,Estoque!A648,quantidade_adquirida)-SUMIF(cod_saida,Estoque!A648,quantidade_comprada)),\"\")","v":""}]
[null,null,null,{"$f":"IFERROR(IF(A649=\"\",\"\",SUMIF(Codigo_Produto,Estoque!A649,quantidade_adquirida)-SUMIF(cod_saida,Estoque!A649,quantidade_comprada)),\"\")","v":""}]
[null,null,null,{"$f":"IFERROR(IF(A650=\"\",\"\",SUMIF(Codigo_Produto,Estoque!A650,quantidade_adquirida)-SUMIF(cod_saida,Estoque!A650,quantidade_comprada)),\"\")","v":""}]
[null,null,null,{"$f":"IFERROR(IF(A651=\"\",\"\",SUMIF(Codigo_Produto,Estoque!A651,quantidade_adquirida)-SUMIF(cod_saida,Estoque!A651,quantidade_comprada)),\"\")","v":""}]
[null,null,null,{"$f":"IFERROR(IF(A652=\"\",\"\",SUMIF(Codigo_Produto,Estoque!A652,quantidade_adquirida)-SUMIF(cod_saida,Estoque!A652,quantidade_comprada)),\"\")","v":""}]
[null,null,null,{"$f":"IFERROR(IF(A653=\"\",\"\",SUMIF(Codigo_Produto,Estoque!A653,quantidade_adquirida)-SUMIF(cod_saida,Estoque!A653,quantidade_comprada)),\"\")","v":""}]
[null,null,null,{"$f":"IFERROR(IF(A654=\"\",\"\",SUMIF(Codigo_Produto,Estoque!A654,quantidade_adquirida)-SUMIF(cod_saida,Estoque!A654,quantidade_comprada)),\"\")","v":""}]
[null,null,null,{"$f":"IFERROR(IF(A655=\"\",\"\",SUMIF(Codigo_Produto,Estoque!A655,quantidade_adquirida)-SUMIF(cod_saida,Estoque!A655,quantidade_comprada)),\"\")","v":""}]
[null,null,null,{"$f":"IFERROR(IF(A656=\"\",\"\",SUMIF(Codigo_Produto,Estoque!A656,quantidade_adquirida)-SUMIF(cod_saida,Estoque!A656,quantidade_comprada)),\"\")","v":""}]
[null,null,null,{"$f":"IFERROR(IF(A657=\"\",\"\",SUMIF(Codigo_Produto,Estoque!A657,quantidade_adquirida)-SUMIF(cod_saida,Estoque!A657,quantidade_comprada)),\"\")","v":""}]
[null,null,null,{"$f":"IFERROR(IF(A658=\"\",\"\",SUMIF(Codigo_Produto,Estoque!A658,quantidade_adquirida)-SUMIF(cod_saida,Estoque!A658,quantidade_comprada)),\"\")","v":""}]
[null,null,null,{"$f":"IFERROR(IF(A659=\"\",\"\",SUMIF(Codigo_Produto,Estoque!A659,quantidade_adquirida)-SUMIF(cod_saida,Estoque!A659,quantidade_comprada)),\"\")","v":""}]
[null,null,null,{"$f":"IFERROR(IF(A660=\"\",\"\",SUMIF(Codigo_Produto,Estoque!A660,quantidade_adquirida)-SUMIF(cod_saida,Estoque!A660,quantidade_comprada)),\"\")","v":""}]
[null,null,null,{"$f":"IFERROR(IF(A661=\"\",\"\",SUMIF(Codigo_Produto,Estoque!A661,quantidade_adquirida)-SUMIF(cod_saida,Estoque!A661,quantidade_comprada)),\"\")","v":""}]
[null,null,null,{"$f":"IFERROR(IF(A662=\"\",\"\",SUMIF(Codigo_Produto,Estoque!A662,quantidade_adquirida)-SUMIF(cod_saida,Estoque!A662,quantidade_comprada)),\"\")","v":""}]
[null,null,null,{"$f":"IFERROR(IF(A663=\"\",\"\",SUMIF(Codigo_Produto,Estoque!A663,quantidade_adquirida)-SUMIF(cod_saida,Estoque!A663,quantidade_comprada)),\"\")","v":""}]
[null,null,null,{"$f":"IFERROR(IF(A664=\"\",\"\",SUMIF(Codigo_Produto,Estoque!A664,quantidade_adquirida)-SUMIF(cod_saida,Estoque!A664,quantidade_comprada)),\"\")","v":""}]
[null,null,null,{"$f":"IFERROR(IF(A665=\"\",\"\",SUMIF(Codigo_Produto,Estoque!A665,quantidade_adquirida)-SUMIF(cod_saida,Estoque!A665,quantidade_comprada)),\"\")","v":""}]
[null,null,null,{"$f":"IFERROR(IF(A666=\"\",\"\",SUMIF(Codigo_Produto,Estoque!A666,quantidade_adquirida)-SUMIF(cod_saida,Estoque!A666,quantidade_comprada)),\"\")","v":""}]
[null,null,null,{"$f":"IFERROR(IF(A667=\"\",\"\",SUMIF(Codigo_Produto,Estoque!A667,quantidade_adquirida)-SUMIF(cod_saida,Estoque!A667,quantidade_comprada)),\"\")","v":""}]
[null,null,null,{"$f":"IFERROR(IF(A668=\"\",\"\",SUMIF(Codigo_Produto,Estoque!A668,quantidade_adquirida)-SUMIF(cod_saida,Estoque!A668,quantidade_comprada)),\"\")","v":""}]
[null,null,null,{"$f":"IFERROR(IF(A669=\"\",\"\",SUMIF(Codigo_Produto,Estoque!A669,quantidade_adquirida)-SUMIF(cod_saida,Estoque!A669,quantidade_comprada)),\"\")","v":""}]
[null,null,null,{"$f":"IFERROR(IF(A670=\"\",\"\",SUMIF(Codigo_Produto,Estoque!A670,quantidade_adquirida)-SUMIF(cod_saida,Estoque!A670,quantidade_comprada)),\"\")","v":""}]
[null,null,null,{"$f":"IFERROR(IF(A671=\"\",\"\",SUMIF(Codigo_Produto,Estoque!A671,quantidade_adquirida)-SUMIF(cod_saida,Estoque!A671,quantidade_comprada)),\"\")","v":""}]
[null,null,null,{"$f":"IFERROR(IF(A672=\"\",\"\",SUMIF(Codigo_Produto,Estoque!A672,quantidade_adquirida)-SUMIF(cod_saida,Estoque!A672,quantidade_comprada)),\"\")","v":""}]
[null,null,null,{"$f":"IFERROR(IF(A673=\"\",\"\",SUMIF(Codigo_Produto,Estoque!A673,quantidade_adquirida)-SUMIF(cod_saida,Estoque!A673,quantidade_comprada)),\"\")","v":""}]
[null,null,null,{"$f":"IFERROR(IF(A674=\"\",\"\",SUMIF(Codigo_Produto,Estoque!A674,quantidade_adquirida)-SUMIF(cod_saida,Estoque!A674,quantidade_comprada)),\"\")","v":""}]
[null,null,null,{"$f":"IFERROR(IF(A675=\"\",\"\",SUMIF(Codigo_Produto,Estoque!A675,quantidade_adquirida)-SUMIF(cod_saida,Estoque!A675,quantidade_comprada)),\"\")","v":""}]
[null,null,null,{"$f":"IFERROR(IF(A676=\"\",\"\",SUMIF(Codigo_Produto,Estoque!A676,quantidade_adquirida)-SUMIF(cod_saida,Estoque!A676,quantidade_comprada)),\"\")","v":""}]
[null,null,null,{"$f":"IFERROR(IF(A677=\"\",\"\",SUMIF(Codigo_Produto,Estoque!A677,quantidade_adquirida)-SUMIF(cod_saida,Estoque!A677,quantidade_comprada)),\"\")","v":""}]
[null,null,null,{"$f":"IFERROR(IF(A678=\"\",\"\",SUMIF(Codigo_Produto,Estoque!A678,quantidade_adquirida)-SUMIF(cod_saida,Estoque!A678,quantidade_comprada)),\"\")","v":""}]
[null,null,null,{"$f":"IFERROR(IF(A679=\"\",\"\",SUMIF(Codigo_Produto,Estoque!A679,quantidade_adquirida)-SUMIF(cod_saida,Estoque!A679,quantidade_comprada)),\"\")","v":""}]
[null,null,null,{"$f":"IFERROR(IF(A680=\"\",\"\",SUMIF(Codigo_Produto,Estoque!A680,quantidade_adquirida)-SUMIF(cod_saida,Estoque!A680,quantidade_comprada)),\"\")","v":""}]
[null,null,null,{"$f":"IFERROR(IF(A681=\"\",\"\",SUMIF(Codigo_Produto,Estoque!A681,quantidade_adquirida)-SUMIF(cod_saida,Estoque!A681,quantidade_comprada)),\"\")","v":""}]
[null,null,null,{"$f":"IFERROR(IF(A682=\"\",\"\",SUMIF(Codigo_Produto,Estoque!A682,quantidade_adquirida)-SUMIF(cod_saida,Estoque!A682,quantidade_comprada)),\"\")","v":""}]
[null,null,null,{"$f":"IFERROR(IF(A683=\"\",\"\",SUMIF(Codigo_Produto,Estoque!A683,quantidade_adquirida)-SUMIF(cod_saida,Estoque!A683,quantidade_comprada)),\"\")","v":""}]
[null,null,null,{"$f":"IFERROR(IF(A684=\"\",\"\",SUMIF(Codigo_Produto,Estoque!A684,quantidade_adquirida)-SUMIF(cod_saida,Estoque!A684,quantidade_comprada)),\"\")","v":""}]
[null,null,null,{"$f":"IFERROR(IF(A685=\"\",\"\",SUMIF(Codigo_Produto,Estoque!A685,quantidade_adquirida)-SUMIF(cod_saida,Estoque!A685,quantidade_comprada)),\"\")","v":""}]
[null,null,null,{"$f":"IFERROR(IF(A686=\"\",\"\",SUMIF(Codigo_Produto,Estoque!A686,quantidade_adquirida)-SUMIF(cod_saida,Estoque!A686,quantidade_comprada)),\"\")","v":""}]
[null,null,null,{"$f":"IFERROR(IF(A687=\"\",\"\",SUMIF(Codigo_Produto,Estoque!A687,quantidade_adquirida)-SUMIF(cod_saida,Estoque!A687,quantidade_comprada)),\"\")","v":""}]
[null,null,null,{"$f":"IFERROR(IF(A688=\"\",\"\",SUMIF(Codigo_Produto,Estoque!A688,quantidade_adquirida)-SUMIF(cod_saida,Estoque!A688,quantidade_comprada)),\"\")","v":""}]
[null,null,null,{"$f":"IFERROR(IF(A689=\"\",\"\",SUMIF(Codigo_Produto,Estoque!A689,quantidade_adquirida)-SUMIF(cod_saida,Estoque!A689,quantidade_comprada)),\"\")","v":""}]
[null,null,null,{"$f":"IFERROR(IF(A690=\"\",\"\",SUMIF(Codigo_Produto,Estoque!A690,quantidade_adquirida)-SUMIF(cod_saida,Estoque!A690,quantidade_comprada)),\"\")","v":""}]
[null,null,null,{"$f":"IFERROR(IF(A691=\"\",\"\",SUMIF(Codigo_Produto,Estoque!A691,quantidade_adquirida)-SUMIF(cod_saida,Estoque!A691,quantidade_comprada)),\"\")","v":""}]
[null,null,null,{"$f":"IFERROR(IF(A692=\"\",\"\",SUMIF(Codigo_Produto,Estoque!A692,quantidade_adquirida)-SUMIF(cod_saida,Estoque!A692,quantidade_comprada)),\"\")","v":""}]
[null,null,null,{"$f":"IFERROR(IF(A693=\"\",\"\",SUMIF(Codigo_Produto,Estoque!A693,quantidade_adquirida)-SUMIF(cod_saida,Estoque!A693,quantidade_comprada)),\"\")","v":""}]
[null,null,null,{"$f":"IFERROR(IF(A694=\"\",\"\",SUMIF(Codigo_Produto,Estoque!A694,quantidade_adquirida)-SUMIF(cod_saida,Estoque!A694,quantidade_comprada)),\"\")","v":""}]
[null,null,null,{"$f":"IFERROR(IF(A695=\"\",\"\",SUMIF(Codigo_Produto,Estoque!A695,quantidade_adquirida)-SUMIF(cod_saida,Estoque!A695,quantidade_comprada)),\"\")","v":""}]
[null,null,null,{"$f":"IFERROR(IF(A696=\"\",\"\",SUMIF(Codigo_Produto,Estoque!A696,quantidade_adquirida)-SUMIF(cod_saida,Estoque!A696,quantidade_comprada)),\"\")","v":""}]
[null,null,null,{"$f":"IFERROR(IF(A697=\"\",\"\",SUMIF(Codigo_Produto,Estoque!A697,quantidade_adquirida)-SUMIF(cod_saida,Estoque!A697,quantidade_comprada)),\"\")","v":""}]
[null,null,null,{"$f":"IFERROR(IF(A698=\"\",\"\",SUMIF(Codigo_Produto,Estoque!A698,quantidade_adquirida)-SUMIF(cod_saida,Estoque!A698,quantidade_comprada)),\"\")","v":""}]
[null,null,null,{"$f":"IFERROR(IF(A699=\"\",\"\",SUMIF(Codigo_Produto,Estoque!A699,quantidade_adquirida)-SUMIF(cod_saida,Estoque!A699,quantidade_comprada)),\"\")","v":""}]
[null,null,null,{"$f":"IFERROR(IF(A700=\"\",\"\",SUMIF(Codigo_Produto,Estoque!A700,quantidade_adquirida)-SUMIF(cod_saida,Estoque!A700,quantidade_comprada)),\"\")","v":""}]
[null,null,null,{"$f":"IFERROR(IF(A701=\"\",\"\",SUMIF(Codigo_Produto,Estoque!A701,quantidade_adquirida)-SUMIF(cod_saida,Estoque!A701,quantidade_comprada)),\"\")","v":""}]
[null,null,null,{"$f":"IFERROR(IF(A702=\"\",\"\",SUMIF(Codigo_Produto,Estoque!A702,quantidade_adquirida)-SUMIF(cod_saida,Estoque!A702,quantidade_comprada)),\"\")","v":""}]
[null,null,null,{"$f":"IFERROR(IF(A703=\"\",\"\",SUMIF(Codigo_Produto,Estoque!A703,quantidade_adquirida)-SUMIF(cod_saida,Estoque!A703,quantidade_comprada)),\"\")","v":""}]
[null,null,null,{"$f":"IFERROR(IF(A704=\"\",\"\",SUMIF(Codigo_Produto,Estoque!A704,quantidade_adquirida)-SUMIF(cod_saida,Estoque!A704,quantidade_comprada)),\"\")","v":""}]
[null,null,null,{"$f":"IFERROR(IF(A705=\"\",\"\",SUMIF(Codigo_Produto,Estoque!A705,quantidade_adquirida)-SUMIF(cod_saida,Estoque!A705,quantidade_comprada)),\"\")","v":""}]
[null,null,null,{"$f":"IFERROR(IF(A706=\"\",\"\",SUMIF(Codigo_Produto,Estoque!A706,quantidade_adquirida)-SUMIF(cod_saida,Estoque!A706,quantidade_comprada)),\"\")","v":""}]
[null,null,null,{"$f":"IFERROR(IF(A707=\"\",\"\",SUMIF(Codigo_Produto,Estoque!A707,quantidade_adquirida)-SUMIF(cod_saida,Estoque!A707,quantidade_comprada)),\"\")","v":""}]
[null,null,null,{"$f":"IFERROR(IF(A708=\"\",\"\",SUMIF(Codigo_Produto,Estoque!A708,quantidade_adquirida)-SUMIF(cod_saida,Estoque!A708,quantidade_comprada)),\"\")","v":""}]
[null,null,null,{"$f":"IFERROR(IF(A709=\"\",\"\",SUMIF(Codigo_Produto,Estoque!A709,quantidade_adquirida)-SUMIF(cod_saida,Estoque!A709,quantidade_comprada)),\"\")","v":""}]
[null,null,null,{"$f":"IFERROR(IF(A710=\"\",\"\",SUMIF(Codigo_Produto,Estoque!A710,quantidade_adquirida)-SUMIF(cod_saida,Estoque!A710,quantidade_comprada)),\"\")","v":""}]
[null,null,null,{"$f":"IFERROR(IF(A711=\"\",\"\",SUMIF(Codigo_Produto,Estoque!A711,quantidade_adquirida)-SUMIF(cod_saida,Estoque!A711,quantidade_comprada)),\"\")","v":""}]
[null,null,null,{"$f":"IFERROR(IF(A712=\"\",\"\",SUMIF(Codigo_Produto,Estoque!A712,quantidade_adquirida)-SUMIF(cod_saida,Estoque!A712,quantidade_comprada)),\"\")","v":""}]
[null,null,null,{"$f":"IFERROR(IF(A713=\"\",\"\",SUMIF(Codigo_Produto,Estoque!A713,quantidade_adquirida)-SUMIF(cod_saida,Estoque!A713,quantidade_comprada)),\"\")","v":""}]
[null,null,null,{"$f":"IFERROR(IF(A714=\"\",\"\",SUMIF(Codigo_Produto,Estoque!A714,quantidade_adquirida)-SUMIF(cod_saida,Estoque!A714,quantidade_comprada)),\"\")","v":""}]
[null,null,null,{"$f":"IFERROR(IF(A715=\"\",\"\",SUMIF(Codigo_Produto,Estoque!A715,quantidade_adquirida)-SUMIF(cod_saida,Estoque!A715,quantidade_comprada)),\"\")","v":""}]
[null,null,null,{"$f":"IFERROR(IF(A716=\"\",\"\",SUMIF(Codigo_Produto,Estoque!A716,quantidade_adquirida)-SUMIF(cod_saida,Estoque!A716,quantidade_comprada)),\"\")","v":""}]
[null,null,null,{"$f":"IFERROR(IF(A717=\"\",\"\",SUMIF(Codigo_Produto,Estoque!A717,quantidade_adquirida)-SUMIF(cod_saida,Estoque!A717,quantidade_comprada)),\"\")","v":""}]
[null,null,null,{"$f":"IFERROR(IF(A718=\"\",\"\",SUMIF(Codigo_Produto,Estoque!A718,quantidade_adquirida)-SUMIF(cod_saida,Estoque!A718,quantidade_comprada)),\"\")","v":""}]
[null,null,null,{"$f":"IFERROR(IF(A719=\"\",\"\",SUMIF(Codigo_Produto,Estoque!A719,quantidade_adquirida)-SUMIF(cod_saida,Estoque!A719,quantidade_comprada)),\"\")","v":""}]
[null,null,null,{"$f":"IFERROR(IF(A720=\"\",\"\",SUMIF(Codigo_Produto,Estoque!A720,quantidade_adquirida)-SUMIF(cod_saida,Estoque!A720,quantidade_comprada)),\"\")","v":""}]
[null,null,null,{"$f":"IFERROR(IF(A721=\"\",\"\",SUMIF(Codigo_Produto,Estoque!A721,quantidade_adquirida)-SUMIF(cod_saida,Estoque!A721,quantidade_comprada)),\"\")","v":""}]
[null,null,null,{"$f":"IFERROR(IF(A722=\"\",\"\",SUMIF(Codigo_Produto,Estoque!A722,quantidade_adquirida)-SUMIF(cod_saida,Estoque!A722,quantidade_comprada)),\"\")","v":""}]
[null,null,null,{"$f":"IFERROR(IF(A723=\"\",\"\",SUMIF(Codigo_Produto,Estoque!A723,quantidade_adquirida)-SUMIF(cod_saida,Estoque!A723,quantidade_comprada)),\"\")","v":""}]
[null,null,null,{"$f":"IFERROR(IF(A724=\"\",\"\",SUMIF(Codigo_Produto,Estoque!A724,quantidade_adquirida)-SUMIF(cod_saida,Estoque!A724,quantidade_comprada)),\"\")","v":""}]
[null,null,null,{"$f":"IFERROR(IF(A725=\"\",\"\",SUMIF(Codigo_Produto,Estoque!A725,quantidade_adquirida)-SUMIF(cod_saida,Estoque!A725,quantidade_comprada)),\"\")","v":""}]
[null,null,null,{"$f":"IFERROR(IF(A726=\"\",\"\",SUMIF(Codigo_Produto,Estoque!A726,quantidade_adquirida)-SUMIF(cod_saida,Estoque!A726,quantidade_comprada)),\"\")","v":""}]
[null,null,null,{"$f":"IFERROR(IF(A727=\"\",\"\",SUMIF(Codigo_Produto,Estoque!A727,quantidade_adquirida)-SUMIF(cod_saida,Estoque!A727,quantidade_comprada)),\"\")","v":""}]
[null,null,null,{"$f":"IFERROR(IF(A728=\"\",\"\",SUMIF(Codigo_Produto,Estoque!A728,quantidade_adquirida)-SUMIF(cod_saida,Estoque!A728,quantidade_comprada)),\"\")","v":""}]
[null,null,null,{"$f":"IFERROR(IF(A729=\"\",\"\",SUMIF(Codigo_Produto,Estoque!A729,quantidade_adquirida)-SUMIF(cod_saida,Estoque!A729,quantidade_comprada)),\"\")","v":""}]
[null,null,null,{"$f":"IFERROR(IF(A730=\"\",\"\",SUMIF(Codigo_Produto,Estoque!A730,quantidade_adquirida)-SUMIF(cod_saida,Estoque!A730,quantidade_comprada)),\"\")","v":""}]
[null,null,null,{"$f":"IFERROR(IF(A731=\"\",\"\",SUMIF(Codigo_Produto,Estoque!A731,quantidade_adquirida)-SUMIF(cod_saida,Estoque!A731,quantidade_comprada)),\"\")","v":""}]
[null,null,null,{"$f":"IFERROR(IF(A732=\"\",\"\",SUMIF(Codigo_Produto,Estoque!A732,quantidade_adquirida)-SUMIF(cod_saida,Estoque!A732,quantidade_comprada)),\"\")","v":""}]
[null,null,null,{"$f":"IFERROR(IF(A733=\"\",\"\",SUMIF(Codigo_Produto,Estoque!A733,quantidade_adquirida)-SUMIF(cod_saida,Estoque!A733,quantidade_comprada)),\"\")","v":""}]
[null,null,null,{"$f":"IFERROR(IF(A734=\"\",\"\",SUMIF(Codigo_Produto,Estoque!A734,quantidade_adquirida)-SUMIF(cod_saida,Estoque!A734,quantidade_comprada)),\"\")","v":""}]
[null,null,null,{"$f":"IFERROR(IF(A735=\"\",\"\",SUMIF(Codigo_Produto,Estoque!A735,quantidade_adquirida)-SUMIF(cod_saida,Estoque!A735,quantidade_comprada)),\"\")","v":""}]
[null,null,null,{"$f":"IFERROR(IF(A736=\"\",\"\",SUMIF(Codigo_Produto,Estoque!A736,quantidade_adquirida)-SUMIF(cod_saida,Estoque!A736,quantidade_comprada)),\"\")","v":""}]
[null,null,null,{"$f":"IFERROR(IF(A737=\"\",\"\",SUMIF(Codigo_Produto,Estoque!A737,quantidade_adquirida)-SUMIF(cod_saida,Estoque!A737,quantidade_comprada)),\"\")","v":""}]
[null,null,null,{"$f":"IFERROR(IF(A738=\"\",\"\",SUMIF(Codigo_Produto,Estoque!A738,quantidade_adquirida)-SUMIF(cod_saida,Estoque!A738,quantidade_comprada)),\"\")","v":""}]
[null,null,null,{"$f":"IFERROR(IF(A739=\"\",\"\",SUMIF(Codigo_Produto,Estoque!A739,quantidade_adquirida)-SUMIF(cod_saida,Estoque!A739,quantidade_comprada)),\"\")","v":""}]
[null,null,null,{"$f":"IFERROR(IF(A740=\"\",\"\",SUMIF(Codigo_Produto,Estoque!A740,quantidade_adquirida)-SUMIF(cod_saida,Estoque!A740,quantidade_comprada)),\"\")","v":""}]
[null,null,null,{"$f":"IFERROR(IF(A741=\"\",\"\",SUMIF(Codigo_Produto,Estoque!A741,quantidade_adquirida)-SUMIF(cod_saida,Estoque!A741,quantidade_comprada)),\"\")","v":""}]
[null,null,null,{"$f":"IFERROR(IF(A742=\"\",\"\",SUMIF(Codigo_Produto,Estoque!A742,quantidade_adquirida)-SUMIF(cod_saida,Estoque!A742,quantidade_comprada)),\"\")","v":""}]
[null,null,null,{"$f":"IFERROR(IF(A743=\"\",\"\",SUMIF(Codigo_Produto,Estoque!A743,quantidade_adquirida)-SUMIF(cod_saida,Estoque!A743,quantidade_comprada)),\"\")","v":""}]
[null,null,null,{"$f":"IFERROR(IF(A744=\"\",\"\",SUMIF(Codigo_Produto,Estoque!A744,quantidade_adquirida)-SUMIF(cod_saida,Estoque!A744,quantidade_comprada)),\"\")","v":""}]
[null,null,null,{"$f":"IFERROR(IF(A745=\"\",\"\",SUMIF(Codigo_Produto,Estoque!A745,quantidade_adquirida)-SUMIF(cod_saida,Estoque!A745,quantidade_comprada)),\"\")","v":""}]
[null,null,null,{"$f":"IFERROR(IF(A746=\"\",\"\",SUMIF(Codigo_Produto,Estoque!A746,quantidade_adquirida)-SUMIF(cod_saida,Estoque!A746,quantidade_comprada)),\"\")","v":""}]
[null,null,null,{"$f":"IFERROR(IF(A747=\"\",\"\",SUMIF(Codigo_Produto,Estoque!A747,quantidade_adquirida)-SUMIF(cod_saida,Estoque!A747,quantidade_comprada)),\"\")","v":""}]
[null,null,null,{"$f":"IFERROR(IF(A748=\"\",\"\",SUMIF(Codigo_Produto,Estoque!A748,quantidade_adquirida)-SUMIF(cod_saida,Estoque!A748,quantidade_comprada)),\"\")","v":""}]
[null,null,null,{"$f":"IFERROR(IF(A749=\"\",\"\",SUMIF(Codigo_Produto,Estoque!A749,quantidade_adquirida)-SUMIF(cod_saida,Estoque!A749,quantidade_comprada)),\"\")","v":""}]
[null,null,null,{"$f":"IFERROR(IF(A750=\"\",\"\",SUMIF(Codigo_Produto,Estoque!A750,quantidade_adquirida)-SUMIF(cod_saida,Estoque!A750,quantidade_comprada)),\"\")","v":""}]
[null,null,null,{"$f":"IFERROR(IF(A751=\"\",\"\",SUMIF(Codigo_Produto,Estoque!A751,quantidade_adquirida)-SUMIF(cod_saida,Estoque!A751,quantidade_comprada)),\"\")","v":""}]
[null,null,null,{"$f":"IFERROR(IF(A752=\"\",\"\",SUMIF(Codigo_Produto,Estoque!A752,quantidade_adquirida)-SUMIF(cod_saida,Estoque!A752,quantidade_comprada)),\"\")","v":""}]
[null,null,null,{"$f":"IFERROR(IF(A753=\"\",\"\",SUMIF(Codigo_Produto,Estoque!A753,quantidade_adquirida)-SUMIF(cod_saida,Estoque!A753,quantidade_comprada)),\"\")","v":""}]
[null,null,null,{"$f":"IFERROR(IF(A754=\"\",\"\",SUMIF(Codigo_Produto,Estoque!A754,quantidade_adquirida)-SUMIF(cod_saida,Estoque!A754,quantidade_comprada)),\"\")","v":""}]
[null,null,null,{"$f":"IFERROR(IF(A755=\"\",\"\",SUMIF(Codigo_Produto,Estoque!A755,quantidade_adquirida)-SUMIF(cod_saida,Estoque!A755,quantidade_comprada)),\"\")","v":""}]
[null,null,null,{"$f":"IFERROR(IF(A756=\"\",\"\",SUMIF(Codigo_Produto,Estoque!A756,quantidade_adquirida)-SUMIF(cod_saida,Estoque!A756,quantidade_comprada)),\"\")","v":""}]
[null,null,null,{"$f":"IFERROR(IF(A757=\"\",\"\",SUMIF(Codigo_Produto,Estoque!A757,quantidade_adquirida)-SUMIF(cod_saida,Estoque!A757,quantidade_comprada)),\"\")","v":""}]
[null,null,null,{"$f":"IFERROR(IF(A758=\"\",\"\",SUMIF(Codigo_Produto,Estoque!A758,quantidade_adquirida)-SUMIF(cod_saida,Estoque!A758,quantidade_comprada)),\"\")","v":""}]
[null,null,null,{"$f":"IFERROR(IF(A759=\"\",\"\",SUMIF(Codigo_Produto,Estoque!A759,quantidade_adquirida)-SUMIF(cod_saida,Estoque!A759,quantidade_comprada)),\"\")","v":""}]
[null,null,null,{"$f":"IFERROR(IF(A760=\"\",\"\",SUMIF(Codigo_Produto,Estoque!A760,quantidade_adquirida)-SUMIF(cod_saida,Estoque!A760,quantidade_comprada)),\"\")","v":""}]
[null,null,null,{"$f":"IFERROR(IF(A761=\"\",\"\",SUMIF(Codigo_Produto,Estoque!A761,quantidade_adquirida)-SUMIF(cod_saida,Estoque!A761,quantidade_comprada)),\"\")","v":""}]
[null,null,null,{"$f":"IFERROR(IF(A762=\"\",\"\",SUMIF(Codigo_Produto,Estoque!A762,quantidade_adquirida)-SUMIF(cod_saida,Estoque!A762,quantidade_comprada)),\"\")","v":""}]
[null,null,null,{"$f":"IFERROR(IF(A763=\"\",\"\",SUMIF(Codigo_Produto,Estoque!A763,quantidade_adquirida)-SUMIF(cod_saida,Estoque!A763,quantidade_comprada)),\"\")","v":""}]
[null,null,null,{"$f":"IFERROR(IF(A764=\"\",\"\",SUMIF(Codigo_Produto,Estoque!A764,quantidade_adquirida)-SUMIF(cod_saida,Estoque!A764,quantidade_comprada)),\"\")","v":""}]
[null,null,null,{"$f":"IFERROR(IF(A765=\"\",\"\",SUMIF(Codigo_Produto,Estoque!A765,quantidade_adquirida)-SUMIF(cod_saida,Estoque!A765,quantidade_comprada)),\"\")","v":""}]
[null,null,null,{"$f":"IFERROR(IF(A766=\"\",\"\",SUMIF(Codigo_Produto,Estoque!A766,quantidade_adquirida)-SUMIF(cod_saida,Estoque!A766,quantidade_comprada)),\"\")","v":""}]
[null,null,null,{"$f":"IFERROR(IF(A767=\"\",\"\",SUMIF(Codigo_Produto,Estoque!A767,quantidade_adquirida)-SUMIF(cod_saida,Estoque!A767,quantidade_comprada)),\"\")","v":""}]
[null,null,null,{"$f":"IFERROR(IF(A768=\"\",\"\",SUMIF(Codigo_Produto,Estoque!A768,quantidade_adquirida)-SUMIF(cod_saida,Estoque!A768,quantidade_comprada)),\"\")","v":""}]
[null,null,null,{"$f":"IFERROR(IF(A769=\"\",\"\",SUMIF(Codigo_Produto,Estoque!A769,quantidade_adquirida)-SUMIF(cod_saida,Estoque!A769,quantidade_comprada)),\"\")","v":""}]
[null,null,null,{"$f":"IFERROR(IF(A770=\"\",\"\",SUMIF(Codigo_Produto,Estoque!A770,quantidade_adquirida)-SUMIF(cod_saida,Estoque!A770,quantidade_comprada)),\"\")","v":""}]
[null,null,null,{"$f":"IFERROR(IF(A771=\"\",\"\",SUMIF(Codigo_Produto,Estoque!A771,quantidade_adquirida)-SUMIF(cod_saida,Estoque!A771,quantidade_comprada)),\"\")","v":""}]
[null,null,null,{"$f":"IFERROR(IF(A772=\"\",\"\",SUMIF(Codigo_Produto,Estoque!A772,quantidade_adquirida)-SUMIF(cod_saida,Estoque!A772,quantidade_comprada)),\"\")","v":""}]
[null,null,null,{"$f":"IFERROR(IF(A773=\"\",\"\",SUMIF(Codigo_Produto,Estoque!A773,quantidade_adquirida)-SUMIF(cod_saida,Estoque!A773,quantidade_comprada)),\"\")","v":""}]
[null,null,null,{"$f":"IFERROR(IF(A774=\"\",\"\",SUMIF(Codigo_Produto,Estoque!A774,quantidade_adquirida)-SUMIF(cod_saida,Estoque!A774,quantidade_comprada)),\"\")","v":""}]
[null,null,null,{"$f":"IFERROR(IF(A775=\"\",\"\",SUMIF(Codigo_Produto,Estoque!A775,quantidade_adquirida)-SUMIF(cod_saida,Estoque!A775,quantidade_comprada)),\"\")","v":""}]
[null,null,null,{"$f":"IFERROR(IF(A776=\"\",\"\",SUMIF(Codigo_Produto,Estoque!A776,quantidade_adquirida)-SUMIF(cod_saida,Estoque!A776,quantidade_comprada)),\"\")","v":""}]
[null,null,null,{"$f":"IFERROR(IF(A777=\"\",\"\",SUMIF(Codigo_Produto,Estoque!A777,quantidade_adquirida)-SUMIF(cod_saida,Estoque!A777,quantidade_comprada)),\"\")","v":""}]
[null,null,null,{"$f":"IFERROR(IF(A778=\"\",\"\",SUMIF(Codigo_Produto,Estoque!A778,quantidade_adquirida)-SUMIF(cod_saida,Estoque!A778,quantidade_comprada)),\"\")","v":""}]
[null,null,null,{"$f":"IFERROR(IF(A779=\"\",\"\",SUMIF(Codigo_Produto,Estoque!A779,quantidade_adquirida)-SUMIF(cod_saida,Estoque!A779,quantidade_comprada)),\"\")","v":""}]
[null,null,null,{"$f":"IFERROR(IF(A780=\"\",\"\",SUMIF(Codigo_Produto,Estoque!A780,quantidade_adquirida)-SUMIF(cod_saida,Estoque!A780,quantidade_comprada)),\"\")","v":""}]
[null,null,null,{"$f":"IFERROR(IF(A781=\"\",\"\",SUMIF(Codigo_Produto,Estoque!A781,quantidade_adquirida)-SUMIF(cod_saida,Estoque!A781,quantidade_comprada)),\"\")","v":""}]
[null,null,null,{"$f":"IFERROR(IF(A782=\"\",\"\",SUMIF(Codigo_Produto,Estoque!A782,quantidade_adquirida)-SUMIF(cod_saida,Estoque!A782,quantidade_comprada)),\"\")","v":""}]
[null,null,null,{"$f":"IFERROR(IF(A783=\"\",\"\",SUMIF(Codigo_Produto,Estoque!A783,quantidade_adquirida)-SUMIF(cod_saida,Estoque!A783,quantidade_comprada)),\"\")","v":""}]
[null,null,null,{"$f":"IFERROR(IF(A784=\"\",\"\",SUMIF(Codigo_Produto,Estoque!A784,quantidade_adquirida)-SUMIF(cod_saida,Estoque!A784,quantidade_comprada)),\"\")","v":""}]
[null,null,null,{"$f":"IFERROR(IF(A785=\"\",\"\",SUMIF(Codigo_Produto,Estoque!A785,quantidade_adquirida)-SUMIF(cod_saida,Estoque!A785,quantidade_comprada)),\"\")","v":""}]
[null,null,null,{"$f":"IFERROR(IF(A786=\"\",\"\",SUMIF(Codigo_Produto,Estoque!A786,quantidade_adquirida)-SUMIF(cod_saida,Estoque!A786,quantidade_comprada)),\"\")","v":""}]
[null,null,null,{"$f":"IFERROR(IF(A787=\"\",\"\",SUMIF(Codigo_Produto,Estoque!A787,quantidade_adquirida)-SUMIF(cod_saida,Estoque!A787,quantidade_comprada)),\"\")","v":""}]
[null,null,null,{"$f":"IFERROR(IF(A788=\"\",\"\",SUMIF(Codigo_Produto,Estoque!A788,quantidade_adquirida)-SUMIF(cod_saida,Estoque!A788,quantidade_comprada)),\"\")","v":""}]
[null,null,null,{"$f":"IFERROR(IF(A789=\"\",\"\",SUMIF(Codigo_Produto,Estoque!A789,quantidade_adquirida)-SUMIF(cod_saida,Estoque!A789,quantidade_comprada)),\"\")","v":""}]
[null,null,null,{"$f":"IFERROR(IF(A790=\"\",\"\",SUMIF(Codigo_Produto,Estoque!A790,quantidade_adquirida)-SUMIF(cod_saida,Estoque!A790,quantidade_comprada)),\"\")","v":""}]
[null,null,null,{"$f":"IFERROR(IF(A791=\"\",\"\",SUMIF(Codigo_Produto,Estoque!A791,quantidade_adquirida)-SUMIF(cod_saida,Estoque!A791,quantidade_comprada)),\"\")","v":""}]
[null,null,null,{"$f":"IFERROR(IF(A792=\"\",\"\",SUMIF(Codigo_Produto,Estoque!A792,quantidade_adquirida)-SUMIF(cod_saida,Estoque!A792,quantidade_comprada)),\"\")","v":""}]
[null,null,null,{"$f":"IFERROR(IF(A793=\"\",\"\",SUMIF(Codigo_Produto,Estoque!A793,quantidade_adquirida)-SUMIF(cod_saida,Estoque!A793,quantidade_comprada)),\"\")","v":""}]
[null,null,null,{"$f":"IFERROR(IF(A794=\"\",\"\",SUMIF(Codigo_Produto,Estoque!A794,quantidade_adquirida)-SUMIF(cod_saida,Estoque!A794,quantidade_comprada)),\"\")","v":""}]
[null,null,null,{"$f":"IFERROR(IF(A795=\"\",\"\",SUMIF(Codigo_Produto,Estoque!A795,quantidade_adquirida)-SUMIF(cod_saida,Estoque!A795,quantidade_comprada)),\"\")","v":""}]
[null,null,null,{"$f":"IFERROR(IF(A796=\"\",\"\",SUMIF(Codigo_Produto,Estoque!A796,quantidade_adquirida)-SUMIF(cod_saida,Estoque!A796,quantidade_comprada)),\"\")","v":""}]
[null,null,null,{"$f":"IFERROR(IF(A797=\"\",\"\",SUMIF(Codigo_Produto,Estoque!A797,quantidade_adquirida)-SUMIF(cod_saida,Estoque!A797,quantidade_comprada)),\"\")","v":""}]
[null,null,null,{"$f":"IFERROR(IF(A798=\"\",\"\",SUMIF(Codigo_Produto,Estoque!A798,quantidade_adquirida)-SUMIF(cod_saida,Estoque!A798,quantidade_comprada)),\"\")","v":""}]
[null,null,null,{"$f":"IFERROR(IF(A799=\"\",\"\",SUMIF(Codigo_Produto,Estoque!A799,quantidade_adquirida)-SUMIF(cod_saida,Estoque!A799,quantidade_comprada)),\"\")","v":""}]
[null,null,null,{"$f":"IFERROR(IF(A800=\"\",\"\",SUMIF(Codigo_Produto,Estoque!A800,quantidade_adquirida)-SUMIF(cod_saida,Estoque!A800,quantidade_comprada)),\"\")","v":""}]
[null,null,null,{"$f":"IFERROR(IF(A801=\"\",\"\",SUMIF(Codigo_Produto,Estoque!A801,quantidade_adquirida)-SUMIF(cod_saida,Estoque!A801,quantidade_comprada)),\"\")","v":""}]
[null,null,null,{"$f":"IFERROR(IF(A802=\"\",\"\",SUMIF(Codigo_Produto,Estoque!A802,quantidade_adquirida)-SUMIF(cod_saida,Estoque!A802,quantidade_comprada)),\"\")","v":""}]
[null,null,null,{"$f":"IFERROR(IF(A803=\"\",\"\",SUMIF(Codigo_Produto,Estoque!A803,quantidade_adquirida)-SUMIF(cod_saida,Estoque!A803,quantidade_comprada)),\"\")","v":""}]
[null,null,null,{"$f":"IFERROR(IF(A804=\"\",\"\",SUMIF(Codigo_Produto,Estoque!A804,quantidade_adquirida)-SUMIF(cod_saida,Estoque!A804,quantidade_comprada)),\"\")","v":""}]
[null,null,null,{"$f":"IFERROR(IF(A805=\"\",\"\",SUMIF(Codigo_Produto,Estoque!A805,quantidade_adquirida)-SUMIF(cod_saida,Estoque!A805,quantidade_comprada)),\"\")","v":""}]
[null,null,null,{"$f":"IFERROR(IF(A806=\"\",\"\",SUMIF(Codigo_Produto,Estoque!A806,quantidade_adquirida)-SUMIF(cod_saida,Estoque!A806,quantidade_comprada)),\"\")","v":""}]
[null,null,null,{"$f":"IFERROR(IF(A807=\"\",\"\",SUMIF(Codigo_Produto,Estoque!A807,quantidade_adquirida)-SUMIF(cod_saida,Estoque!A807,quantidade_comprada)),\"\")","v":""}]
[null,null,null,{"$f":"IFERROR(IF(A808=\"\",\"\",SUMIF(Codigo_Produto,Estoque!A808,quantidade_adquirida)-SUMIF(cod_saida,Estoque!A808,quantidade_comprada)),\"\")","v":""}]
[null,null,null,{"$f":"IFERROR(IF(A809=\"\",\"\",SUMIF(Codigo_Produto,Estoque!A809,quantidade_adquirida)-SUMIF(cod_saida,Estoque!A809,quantidade_comprada)),\"\")","v":""}]
[null,null,null,{"$f":"IFERROR(IF(A810=\"\",\"\",SUMIF(Codigo_Produto,Estoque!A810,quantidade_adquirida)-SUMIF(cod_saida,Estoque!A810,quantidade_comprada)),\"\")","v":""}]
[null,null,null,{"$f":"IFERROR(IF(A811=\"\",\"\",SUMIF(Codigo_Produto,Estoque!A811,quantidade_adquirida)-SUMIF(cod_saida,Estoque!A811,quantidade_comprada)),\"\")","v":""}]
[null,null,null,{"$f":"IFERROR(IF(A812=\"\",\"\",SUMIF(Codigo_Produto,Estoque!A812,quantidade_adquirida)-SUMIF(cod_saida,Estoque!A812,quantidade_comprada)),\"\")","v":""}]
[null,null,null,{"$f":"IFERROR(IF(A813=\"\",\"\",SUMIF(Codigo_Produto,Estoque!A813,quantidade_adquirida)-SUMIF(cod_saida,Estoque!A813,quantidade_comprada)),\"\")","v":""}]
[null,null,null,{"$f":"IFERROR(IF(A814=\"\",\"\",SUMIF(Codigo_Produto,Estoque!A814,quantidade_adquirida)-SUMIF(cod_saida,Estoque!A814,quantidade_comprada)),\"\")","v":""}]
[null,null,null,{"$f":"IFERROR(IF(A815=\"\",\"\",SUMIF(Codigo_Produto,Estoque!A815,quantidade_adquirida)-SUMIF(cod_saida,Estoque!A815,quantidade_comprada)),\"\")","v":""}]
[null,null,null,{"$f":"IFERROR(IF(A816=\"\",\"\",SUMIF(Codigo_Produto,Estoque!A816,quantidade_adquirida)-SUMIF(cod_saida,Estoque!A816,quantidade_comprada)),\"\")","v":""}]
[null,null,null,{"$f":"IFERROR(IF(A817=\"\",\"\",SUMIF(Codigo_Produto,Estoque!A817,quantidade_adquirida)-SUMIF(cod_saida,Estoque!A817,quantidade_comprada)),\"\")","v":""}]
[null,null,null,{"$f":"IFERROR(IF(A818=\"\",\"\",SUMIF(Codigo_Produto,Estoque!A818,quantidade_adquirida)-SUMIF(cod_saida,Estoque!A818,quantidade_comprada)),\"\")","v":""}]
[null,null,null,{"$f":"IFERROR(IF(A819=\"\",\"\",SUMIF(Codigo_Produto,Estoque!A819,quantidade_adquirida)-SUMIF(cod_saida,Estoque!A819,quantidade_comprada)),\"\")","v":""}]
[null,null,null,{"$f":"IFERROR(IF(A820=\"\",\"\",SUMIF(Codigo_Produto,Estoque!A820,quantidade_adquirida)-SUMIF(cod_saida,Estoque!A820,quantidade_comprada)),\"\")","v":""}]
[null,null,null,{"$f":"IFERROR(IF(A821=\"\",\"\",SUMIF(Codigo_Produto,Estoque!A821,quantidade_adquirida)-SUMIF(cod_saida,Estoque!A821,quantidade_comprada)),\"\")","v":""}]
[null,null,null,{"$f":"IFERROR(IF(A822=\"\",\"\",SUMIF(Codigo_Produto,Estoque!A822,quantidade_adquirida)-SUMIF(cod_saida,Estoque!A822,quantidade_comprada)),\"\")","v":""}]
[null,null,null,{"$f":"IFERROR(IF(A823=\"\",\"\",SUMIF(Codigo_Produto,Estoque!A823,quantidade_adquirida)-SUMIF(cod_saida,Estoque!A823,quantidade_comprada)),\"\")","v":""}]
[null,null,null,{"$f":"IFERROR(IF(A824=\"\",\"\",SUMIF(Codigo_Produto,Estoque!A824,quantidade_adquirida)-SUMIF(cod_saida,Estoque!A824,quantidade_comprada)),\"\")","v":""}]
[null,null,null,{"$f":"IFERROR(IF(A825=\"\",\"\",SUMIF(Codigo_Produto,Estoque!A825,quantidade_adquirida)-SUMIF(cod_saida,Estoque!A825,quantidade_comprada)),\"\")","v":""}]
[null,null,null,{"$f":"IFERROR(IF(A826=\"\",\"\",SUMIF(Codigo_Produto,Estoque!A826,quantidade_adquirida)-SUMIF(cod_saida,Estoque!A826,quantidade_comprada)),\"\")","v":""}]
[null,null,null,{"$f":"IFERROR(IF(A827=\"\",\"\",SUMIF(Codigo_Produto,Estoque!A827,quantidade_adquirida)-SUMIF(cod_saida,Estoque!A827,quantidade_comprada)),\"\")","v":""}]
[null,null,null,{"$f":"IFERROR(IF(A828=\"\",\"\",SUMIF(Codigo_Produto,Estoque!A828,quantidade_adquirida)-SUMIF(cod_saida,Estoque!A828,quantidade_comprada)),\"\")","v":""}]
[null,null,null,{"$f":"IFERROR(IF(A829=\"\",\"\",SUMIF(Codigo_Produto,Estoque!A829,quantidade_adquirida)-SUMIF(cod_saida,Estoque!A829,quantidade_comprada)),\"\")","v":""}]
[null,null,null,{"$f":"IFERROR(IF(A830=\"\",\"\",SUMIF(Codigo_Produto,Estoque!A830,quantidade_adquirida)-SUMIF(cod_saida,Estoque!A830,quantidade_comprada)),\"\")","v":""}]
[null,null,null,{"$f":"IFERROR(IF(A831=\"\",\"\",SUMIF(Codigo_Produto,Estoque!A831,quantidade_adquirida)-SUMIF(cod_saida,Estoque!A831,quantidade_comprada)),\"\")","v":""}]
[null,null,null,{"$f":"IFERROR(IF(A832=\"\",\"\",SUMIF(Codigo_Produto,Estoque!A832,quantidade_adquirida)-SUMIF(cod_saida,Estoque!A832,quantidade_comprada)),\"\")","v":""}]
[null,null,null,{"$f":"IFERROR(IF(A833=\"\",\"\",SUMIF(Codigo_Produto,Estoque!A833,quantidade_adquirida)-SUMIF(cod_saida,Estoque!A833,quantidade_comprada)),\"\")","v":""}]
[null,null,null,{"$f":"IFERROR(IF(A834=\"\",\"\",SUMIF(Codigo_Produto,Estoque!A834,quantidade_adquirida)-SUMIF(cod_saida,Estoque!A834,quantidade_comprada)),\"\")","v":""}]
[null,null,null,{"$f":"IFERROR(IF(A835=\"\",\"\",SUMIF(Codigo_Produto,Estoque!A835,quantidade_adquirida)-SUMIF(cod_saida,Estoque!A835,quantidade_comprada)),\"\")","v":""}]
[null,null,null,{"$f":"IFERROR(IF(A836=\"\",\"\",SUMIF(Codigo_Produto,Estoque!A836,quantidade_adquirida)-SUMIF(cod_saida,Estoque!A836,quantidade_comprada)),\"\")","v":""}]
[null,null,null,{"$f":"IFERROR(IF(A837=\"\",\"\",SUMIF(Codigo_Produto,Estoque!A837,quantidade_adquirida)-SUMIF(cod_saida,Estoque!A837,quantidade_comprada)),\"\")","v":""}]
[null,null,null,{"$f":"IFERROR(IF(A838=\"\",\"\",SUMIF(Codigo_Produto,Estoque!A838,quantidade_adquirida)-SUMIF(cod_saida,Estoque!A838,quantidade_comprada)),\"\")","v":""}]
[null,null,null,{"$f":"IFERROR(IF(A839=\"\",\"\",SUMIF(Codigo_Produto,Estoque!A839,quantidade_adquirida)-SUMIF(cod_saida,Estoque!A839,quantidade_comprada)),\"\")","v":""}]
[null,null,null,{"$f":"IFERROR(IF(A840=\"\",\"\",SUMIF(Codigo_Produto,Estoque!A840,quantidade_adquirida)-SUMIF(cod_saida,Estoque!A840,quantidade_comprada)),\"\")","v":""}]
[null,null,null,{"$f":"IFERROR(IF(A841=\"\",\"\",SUMIF(Codigo_Produto,Estoque!A841,quantidade_adquirida)-SUMIF(cod_saida,Estoque!A841,quantidade_comprada)),\"\")","v":""}]
[null,null,null,{"$f":"IFERROR(IF(A842=\"\",\"\",SUMIF(Codigo_Produto,Estoque!A842,quantidade_adquirida)-SUMIF(cod_saida,Estoque!A842,quantidade_comprada)),\"\")","v":""}]
[null,null,null,{"$f":"IFERROR(IF(A843=\"\",\"\",SUMIF(Codigo_Produto,Estoque!A843,quantidade_adquirida)-SUMIF(cod_saida,Estoque!A843,quantidade_comprada)),\"\")","v":""}]
[null,null,null,{"$f":"IFERROR(IF(A844=\"\",\"\",SUMIF(Codigo_Produto,Estoque!A844,quantidade_adquirida)-SUMIF(cod_saida,Estoque!A844,quantidade_comprada)),\"\")","v":""}]
[null,null,null,{"$f":"IFERROR(IF(A845=\"\",\"\",SUMIF(Codigo_Produto,Estoque!A845,quantidade_adquirida)-SUMIF(cod_saida,Estoque!A845,quantidade_comprada)),\"\")","v":""}]
[null,null,null,{"$f":"IFERROR(IF(A846=\"\",\"\",SUMIF(Codigo_Produto,Estoque!A846,quantidade_adquirida)-SUMIF(cod_saida,Estoque!A846,quantidade_comprada)),\"\")","v":""}]
[null,null,null,{"$f":"IFERROR(IF(A847=\"\",\"\",SUMIF(Codigo_Produto,Estoque!A847,quantidade_adquirida)-SUMIF(cod_saida,Estoque!A847,quantidade_comprada)),\"\")","v":""}]
[null,null,null,{"$f":"IFERROR(IF(A848=\"\",\"\",SUMIF(Codigo_Produto,Estoque!A848,quantidade_adquirida)-SUMIF(cod_saida,Estoque!A848,quantidade_comprada)),\"\")","v":""}]
[null,null,null,{"$f":"IFERROR(IF(A849=\"\",\"\",SUMIF(Codigo_Produto,Estoque!A849,quantidade_adquirida)-SUMIF(cod_saida,Estoque!A849,quantidade_comprada)),\"\")","v":""}]
[null,null,null,{"$f":"IFERROR(IF(A850=\"\",\"\",SUMIF(Codigo_Produto,Estoque!A850,quantidade_adquirida)-SUMIF(cod_saida,Estoque!A850,quantidade_comprada)),\"\")","v":""}]
[null,null,null,{"$f":"IFERROR(IF(A851=\"\",\"\",SUMIF(Codigo_Produto,Estoque!A851,quantidade_adquirida)-SUMIF(cod_saida,Estoque!A851,quantidade_comprada)),\"\")","v":""}]
[null,null,null,{"$f":"IFERROR(IF(A852=\"\",\"\",SUMIF(Codigo_Produto,Estoque!A852,quantidade_adquirida)-SUMIF(cod_saida,Estoque!A852,quantidade_comprada)),\"\")","v":""}]
[null,null,null,{"$f":"IFERROR(IF(A853=\"\",\"\",SUMIF(Codigo_Produto,Estoque!A853,quantidade_adquirida)-SUMIF(cod_saida,Estoque!A853,quantidade_comprada)),\"\")","v":""}]
[null,null,null,{"$f":"IFERROR(IF(A854=\"\",\"\",SUMIF(Codigo_Produto,Estoque!A854,quantidade_adquirida)-SUMIF(cod_saida,Estoque!A854,quantidade_comprada)),\"\")","v":""}]
[null,null,null,{"$f":"IFERROR(IF(A855=\"\",\"\",SUMIF(Codigo_Produto,Estoque!A855,quantidade_adquirida)-SUMIF(cod_saida,Estoque!A855,quantidade_comprada)),\"\")","v":""}]
[null,null,null,{"$f":"IFERROR(IF(A856=\"\",\"\",SUMIF(Codigo_Produto,Estoque!A856,quantidade_adquirida)-SUMIF(cod_saida,Estoque!A856,quantidade_comprada)),\"\")","v":""}]
[null,null,null,{"$f":"IFERROR(IF(A857=\"\",\"\",SUMIF(Codigo_Produto,Estoque!A857,quantidade_adquirida)-SUMIF(cod_saida,Estoque!A857,quantidade_comprada)),\"\")","v":""}]
[null,null,null,{"$f":"IFERROR(IF(A858=\"\",\"\",SUMIF(Codigo_Produto,Estoque!A858,quantidade_adquirida)-SUMIF(cod_saida,Estoque!A858,quantidade_comprada)),\"\")","v":""}]
[null,null,null,{"$f":"IFERROR(IF(A859=\"\",\"\",SUMIF(Codigo_Produto,Estoque!A859,quantidade_adquirida)-SUMIF(cod_saida,Estoque!A859,quantidade_comprada)),\"\")","v":""}]
[null,null,null,{"$f":"IFERROR(IF(A860=\"\",\"\",SUMIF(Codigo_Produto,Estoque!A860,quantidade_adquirida)-SUMIF(cod_saida,Estoque!A860,quantidade_comprada)),\"\")","v":""}]
[null,null,null,{"$f":"IFERROR(IF(A861=\"\",\"\",SUMIF(Codigo_Produto,Estoque!A861,quantidade_adquirida)-SUMIF(cod_saida,Estoque!A861,quantidade_comprada)),\"\")","v":""}]
[null,null,null,{"$f":"IFERROR(IF(A862=\"\",\"\",SUMIF(Codigo_Produto,Estoque!A862,quantidade_adquirida)-SUMIF(cod_saida,Estoque!A862,quantidade_comprada)),\"\")","v":""}]
[null,null,null,{"$f":"IFERROR(IF(A863=\"\",\"\",SUMIF(Codigo_Produto,Estoque!A863,quantidade_adquirida)-SUMIF(cod_saida,Estoque!A863,quantidade_comprada)),\"\")","v":""}]
[null,null,null,{"$f":"IFERROR(IF(A864=\"\",\"\",SUMIF(Codigo_Produto,Estoque!A864,quantidade_adquirida)-SUMIF(cod_saida,Estoque!A864,quantidade_comprada)),\"\")","v":""}]
[null,null,null,{"$f":"IFERROR(IF(A865=\"\",\"\",SUMIF(Codigo_Produto,Estoque!A865,quantidade_adquirida)-SUMIF(cod_saida,Estoque!A865,quantidade_comprada)),\"\")","v":""}]
[null,null,null,{"$f":"IFERROR(IF(A866=\"\",\"\",SUMIF(Codigo_Produto,Estoque!A866,quantidade_adquirida)-SUMIF(cod_saida,Estoque!A866,quantidade_comprada)),\"\")","v":""}]
[null,null,null,{"$f":"IFERROR(IF(A867=\"\",\"\",SUMIF(Codigo_Produto,Estoque!A867,quantidade_adquirida)-SUMIF(cod_saida,Estoque!A867,quantidade_comprada)),\"\")","v":""}]
[null,null,null,{"$f":"IFERROR(IF(A868=\"\",\"\",SUMIF(Codigo_Produto,Estoque!A868,quantidade_adquirida)-SUMIF(cod_saida,Estoque!A868,quantidade_comprada)),\"\")","v":""}]
[null,null,null,{"$f":"IFERROR(IF(A869=\"\",\"\",SUMIF(Codigo_Produto,Estoque!A869,quantidade_adquirida)-SUMIF(cod_saida,Estoque!A869,quantidade_comprada)),\"\")","v":""}]
[null,null,null,{"$f":"IFERROR(IF(A870=\"\",\"\",SUMIF(Codigo_Produto,Estoque!A870,quantidade_adquirida)-SUMIF(cod_saida,Estoque!A870,quantidade_comprada)),\"\")","v":""}]
[null,null,null,{"$f":"IFERROR(IF(A871=\"\",\"\",SUMIF(Codigo_Produto,Estoque!A871,quantidade_adquirida)-SUMIF(cod_saida,Estoque!A871,quantidade_comprada)),\"\")","v":""}]
[null,null,null,{"$f":"IFERROR(IF(A872=\"\",\"\",SUMIF(Codigo_Produto,Estoque!A872,quantidade_adquirida)-SUMIF(cod_saida,Estoque!A872,quantidade_comprada)),\"\")","v":""}]
[null,null,null,{"$f":"IFERROR(IF(A873=\"\",\"\",SUMIF(Codigo_Produto,Estoque!A873,quantidade_adquirida)-SUMIF(cod_saida,Estoque!A873,quantidade_comprada)),\"\")","v":""}]
[null,null,null,{"$f":"IFERROR(IF(A874=\"\",\"\",SUMIF(Codigo_Produto,Estoque!A874,quantidade_adquirida)-SUMIF(cod_saida,Estoque!A874,quantidade_comprada)),\"\")","v":""}]
[null,null,null,{"$f":"IFERROR(IF(A875=\"\",\"\",SUMIF(Codigo_Produto,Estoque!A875,quantidade_adquirida)-SUMIF(cod_saida,Estoque!A875,quantidade_comprada)),\"\")","v":""}]
[null,null,null,{"$f":"IFERROR(IF(A876=\"\",\"\",SUMIF(Codigo_Produto,Estoque!A876,quantidade_adquirida)-SUMIF(cod_saida,Estoque!A876,quantidade_comprada)),\"\")","v":""}]
[null,null,null,{"$f":"IFERROR(IF(A877=\"\",\"\",SUMIF(Codigo_Produto,Estoque!A877,quantidade_adquirida)-SUMIF(cod_saida,Estoque!A877,quantidade_comprada)),\"\")","v":""}]
[null,null,null,{"$f":"IFERROR(IF(A878=\"\",\"\",SUMIF(Codigo_Produto,Estoque!A878,quantidade_adquirida)-SUMIF(cod_saida,Estoque!A878,quantidade_comprada)),\"\")","v":""}]
[null,null,null,{"$f":"IFERROR(IF(A879=\"\",\"\",SUMIF(Codigo_Produto,Estoque!A879,quantidade_adquirida)-SUMIF(cod_saida,Estoque!A879,quantidade_comprada)),\"\")","v":""}]
[null,null,null,{"$f":"IFERROR(IF(A880=\"\",\"\",SUMIF(Codigo_Produto,Estoque!A880,quantidade_adquirida)-SUMIF(cod_saida,Estoque!A880,quantidade_comprada)),\"\")","v":""}]
[null,null,null,{"$f":"IFERROR(IF(A881=\"\",\"\",SUMIF(Codigo_Produto,Estoque!A881,quantidade_adquirida)-SUMIF(cod_saida,Estoque!A881,quantidade_comprada)),\"\")","v":""}]
[null,null,null,{"$f":"IFERROR(IF(A882=\"\",\"\",SUMIF(Codigo_Produto,Estoque!A882,quantidade_adquirida)-SUMIF(cod_saida,Estoque!A882,quantidade_comprada)),\"\")","v":""}]
[null,null,null,{"$f":"IFERROR(IF(A883=\"\",\"\",SUMIF(Codigo_Produto,Estoque!A883,quantidade_adquirida)-SUMIF(cod_saida,Estoque!A883,quantidade_comprada)),\"\")","v":""}]
[null,null,null,{"$f":"IFERROR(IF(A884=\"\",\"\",SUMIF(Codigo_Produto,Estoque!A884,quantidade_adquirida)-SUMIF(cod_saida,Estoque!A884,quantidade_comprada)),\"\")","v":""}]
[null,null,null,{"$f":"IFERROR(IF(A885=\"\",\"\",SUMIF(Codigo_Produto,Estoque!A885,quantidade_adquirida)-SUMIF(cod_saida,Estoque!A885,quantidade_comprada)),\"\")","v":""}]
[null,null,null,{"$f":"IFERROR(IF(A886=\"\",\"\",SUMIF(Codigo_Produto,Estoque!A886,quantidade_adquirida)-SUMIF(cod_saida,Estoque!A886,quantidade_comprada)),\"\")","v":""}]
[null,null,null,{"$f":"IFERROR(IF(A887=\"\",\"\",SUMIF(Codigo_Produto,Estoque!A887,quantidade_adquirida)-SUMIF(cod_saida,Estoque!A887,quantidade_comprada)),\"\")","v":""}]
[null,null,null,{"$f":"IFERROR(IF(A888=\"\",\"\",SUMIF(Codigo_Produto,Estoque!A888,quantidade_adquirida)-SUMIF(cod_saida,Estoque!A888,quantidade_comprada)),\"\")","v":""}]
[null,null,null,{"$f":"IFERROR(IF(A889=\"\",\"\",SUMIF(Codigo_Produto,Estoque!A889,quantidade_adquirida)-SUMIF(cod_saida,Estoque!A889,quantidade_comprada)),\"\")","v":""}]
[null,null,null,{"$f":"IFERROR(IF(A890=\"\",\"\",SUMIF(Codigo_Produto,Estoque!A890,quantidade_adquirida)-SUMIF(cod_saida,Estoque!A890,quantidade_comprada)),\"\")","v":""}]
[null,null,null,{"$f":"IFERROR(IF(A891=\"\",\"\",SUMIF(Codigo_Produto,Estoque!A891,quantidade_adquirida)-SUMIF(cod_saida,Estoque!A891,quantidade_comprada)),\"\")","v":""}]
[null,null,null,{"$f":"IFERROR(IF(A892=\"\",\"\",SUMIF(Codigo_Produto,Estoque!A892,quantidade_adquirida)-SUMIF(cod_saida,Estoque!A892,quantidade_comprada)),\"\")","v":""}]
[null,null,null,{"$f":"IFERROR(IF(A893=\"\",\"\",SUMIF(Codigo_Produto,Estoque!A893,quantidade_adquirida)-SUMIF(cod_saida,Estoque!A893,quantidade_comprada)),\"\")","v":""}]
[null,null,null,{"$f":"IFERROR(IF(A894=\"\",\"\",SUMIF(Codigo_Produto,Estoque!A894,quantidade_adquirida)-SUMIF(cod_saida,Estoque!A894,quantidade_comprada)),\"\")","v":""}]
[null,null,null,{"$f":"IFERROR(IF(A895=\"\",\"\",SUMIF(Codigo_Produto,Estoque!A895,quantidade_adquirida)-SUMIF(cod_saida,Estoque!A895,quantidade_comprada)),\"\")","v":""}]
[null,null,null,{"$f":"IFERROR(IF(A896=\"\",\"\",SUMIF(Codigo_Produto,Estoque!A896,quantidade_adquirida)-SUMIF(cod_saida,Estoque!A896,quantidade_comprada)),\"\")","v":""}]
[null,null,null,{"$f":"IFERROR(IF(A897=\"\",\"\",SUMIF(Codigo_Produto,Estoque!A897,quantidade_adquirida)-SUMIF(cod_saida,Estoque!A897,quantidade_comprada)),\"\")","v":""}]
[null,null,null,{"$f":"IFERROR(IF(A898=\"\",\"\",SUMIF(Codigo_Produto,Estoque!A898,quantidade_adquirida)-SUMIF(cod_saida,Estoque!A898,quantidade_comprada)),\"\")","v":""}]
[null,null,null,{"$f":"IFERROR(IF(A899=\"\",\"\",SUMIF(Codigo_Produto,Estoque!A899,quantidade_adquirida)-SUMIF(cod_saida,Estoque!A899,quantidade_comprada)),\"\")","v":""}]
[null,null,null,{"$f":"IFERROR(IF(A900=\"\",\"\",SUMIF(Codigo_Produto,Estoque!A900,quantidade_adquirida)-SUMIF(cod_saida,Estoque!A900,quantidade_comprada)),\"\")","v":""}]
[null,null,null,{"$f":"IFERROR(IF(A901=\"\",\"\",SUMIF(Codigo_Produto,Estoque!A901,quantidade_adquirida)-SUMIF(cod_saida,Estoque!A901,quantidade_comprada)),\"\")","v":""}]
[null,null,null,{"$f":"IFERROR(IF(A902=\"\",\"\",SUMIF(Codigo_Produto,Estoque!A902,quantidade_adquirida)-SUMIF(cod_saida,Estoque!A902,quantidade_comprada)),\"\")","v":""}]
[null,null,null,{"$f":"IFERROR(IF(A903=\"\",\"\",SUMIF(Codigo_Produto,Estoque!A903,quantidade_adquirida)-SUMIF(cod_saida,Estoque!A903,quantidade_comprada)),\"\")","v":""}]
[null,null,null,{"$f":"IFERROR(IF(A904=\"\",\"\",SUMIF(Codigo_Produto,Estoque!A904,quantidade_adquirida)-SUMIF(cod_saida,Estoque!A904,quantidade_comprada)),\"\")","v":""}]
[null,null,null,{"$f":"IFERROR(IF(A905=\"\",\"\",SUMIF(Codigo_Produto,Estoque!A905,quantidade_adquirida)-SUMIF(cod_saida,Estoque!A905,quantidade_comprada)),\"\")","v":""}]
[null,null,null,{"$f":"IFERROR(IF(A906=\"\",\"\",SUMIF(Codigo_Produto,Estoque!A906,quantidade_adquirida)-SUMIF(cod_saida,Estoque!A906,quantidade_comprada)),\"\")","v":""}]
[null,null,null,{"$f":"IFERROR(IF(A907=\"\",\"\",SUMIF(Codigo_Produto,Estoque!A907,quantidade_adquirida)-SUMIF(cod_saida,Estoque!A907,quantidade_comprada)),\"\")","v":""}]
[null,null,null,{"$f":"IFERROR(IF(A908=\"\",\"\",SUMIF(Codigo_Produto,Estoque!A908,quantidade_adquirida)-SUMIF(cod_saida,Estoque!A908,quantidade_comprada)),\"\")","v":""}]
[null,null,null,{"$f":"IFERROR(IF(A909=\"\",\"\",SUMIF(Codigo_Produto,Estoque!A909,quantidade_adquirida)-SUMIF(cod_saida,Estoque!A909,quantidade_comprada)),\"\")","v":""}]
[null,null,null,{"$f":"IFERROR(IF(A910=\"\",\"\",SUMIF(Codigo_Produto,Estoque!A910,quantidade_adquirida)-SUMIF(cod_saida,Estoque!A910,quantidade_comprada)),\"\")","v":""}]
[null,null,null,{"$f":"IFERROR(IF(A911=\"\",\"\",SUMIF(Codigo_Produto,Estoque!A911,quantidade_adquirida)-SUMIF(cod_saida,Estoque!A911,quantidade_comprada)),\"\")","v":""}]
[null,null,null,{"$f":"IFERROR(IF(A912=\"\",\"\",SUMIF(Codigo_Produto,Estoque!A912,quantidade_adquirida)-SUMIF(cod_saida,Estoque!A912,quantidade_comprada)),\"\")","v":""}]
[null,null,null,{"$f":"IFERROR(IF(A913=\"\",\"\",SUMIF(Codigo_Produto,Estoque!A913,quantidade_adquirida)-SUMIF(cod_saida,Estoque!A913,quantidade_comprada)),\"\")","v":""}]
[null,null,null,{"$f":"IFERROR(IF(A914=\"\",\"\",SUMIF(Codigo_Produto,Estoque!A914,quantidade_adquirida)-SUMIF(cod_saida,Estoque!A914,quantidade_comprada)),\"\")","v":""}]
[null,null,null,{"$f":"IFERROR(IF(A915=\"\",\"\",SUMIF(Codigo_Produto,Estoque!A915,quantidade_adquirida)-SUMIF(cod_saida,Estoque!A915,quantidade_comprada)),\"\")","v":""}]
[null,null,null,{"$f":"IFERROR(IF(A916=\"\",\"\",SUMIF(Codigo_Produto,Estoque!A916,quantidade_adquirida)-SUMIF(cod_saida,Estoque!A916,quantidade_comprada)),\"\")","v":""}]
[null,null,null,{"$f":"IFERROR(IF(A917=\"\",\"\",SUMIF(Codigo_Produto,Estoque!A917,quantidade_adquirida)-SUMIF(cod_saida,Estoque!A917,quantidade_comprada)),\"\")","v":""}]
[null,null,null,{"$f":"IFERROR(IF(A918=\"\",\"\",SUMIF(Codigo_Produto,Estoque!A918,quantidade_adquirida)-SUMIF(cod_saida,Estoque!A918,quantidade_comprada)),\"\")","v":""}]
[null,null,null,{"$f":"IFERROR(IF(A919=\"\",\"\",SUMIF(Codigo_Produto,Estoque!A919,quantidade_adquirida)-SUMIF(cod_saida,Estoque!A919,quantidade_comprada)),\"\")","v":""}]
[null,null,null,{"$f":"IFERROR(IF(A920=\"\",\"\",SUMIF(Codigo_Produto,Estoque!A920,quantidade_adquirida)-SUMIF(cod_saida,Estoque!A920,quantidade_comprada)),\"\")","v":""}]
[null,null,null,{"$f":"IFERROR(IF(A921=\"\",\"\",SUMIF(Codigo_Produto,Estoque!A921,quantidade_adquirida)-SUMIF(cod_saida,Estoque!A921,quantidade_comprada)),\"\")","v":""}]
[null,null,null,{"$f":"IFERROR(IF(A922=\"\",\"\",SUMIF(Codigo_Produto,Estoque!A922,quantidade_adquirida)-SUMIF(cod_saida,Estoque!A922,quantidade_comprada)),\"\")","v":""}]
[null,null,null,{"$f":"IFERROR(IF(A923=\"\",\"\",SUMIF(Codigo_Produto,Estoque!A923,quantidade_adquirida)-SUMIF(cod_saida,Estoque!A923,quantidade_comprada)),\"\")","v":""}]
[null,null,null,{"$f":"IFERROR(IF(A924=\"\",\"\",SUMIF(Codigo_Produto,Estoque!A924,quantidade_adquirida)-SUMIF(cod_saida,Estoque!A924,quantidade_comprada)),\"\")","v":""}]
[null,null,null,{"$f":"IFERROR(IF(A925=\"\",\"\",SUMIF(Codigo_Produto,Estoque!A925,quantidade_adquirida)-SUMIF(cod_saida,Estoque!A925,quantidade_comprada)),\"\")","v":""}]
[null,null,null,{"$f":"IFERROR(IF(A926=\"\",\"\",SUMIF(Codigo_Produto,Estoque!A926,quantidade_adquirida)-SUMIF(cod_saida,Estoque!A926,quantidade_comprada)),\"\")","v":""}]
[null,null,null,{"$f":"IFERROR(IF(A927=\"\",\"\",SUMIF(Codigo_Produto,Estoque!A927,quantidade_adquirida)-SUMIF(cod_saida,Estoque!A927,quantidade_comprada)),\"\")","v":""}]
[null,null,null,{"$f":"IFERROR(IF(A928=\"\",\"\",SUMIF(Codigo_Produto,Estoque!A928,quantidade_adquirida)-SUMIF(cod_saida,Estoque!A928,quantidade_comprada)),\"\")","v":""}]
[null,null,null,{"$f":"IFERROR(IF(A929=\"\",\"\",SUMIF(Codigo_Produto,Estoque!A929,quantidade_adquirida)-SUMIF(cod_saida,Estoque!A929,quantidade_comprada)),\"\")","v":""}]
[null,null,null,{"$f":"IFERROR(IF(A930=\"\",\"\",SUMIF(Codigo_Produto,Estoque!A930,quantidade_adquirida)-SUMIF(cod_saida,Estoque!A930,quantidade_comprada)),\"\")","v":""}]
[null,null,null,{"$f":"IFERROR(IF(A931=\"\",\"\",SUMIF(Codigo_Produto,Estoque!A931,quantidade_adquirida)-SUMIF(cod_saida,Estoque!A931,quantidade_comprada)),\"\")","v":""}]
[null,null,null,{"$f":"IFERROR(IF(A932=\"\",\"\",SUMIF(Codigo_Produto,Estoque!A932,quantidade_adquirida)-SUMIF(cod_saida,Estoque!A932,quantidade_comprada)),\"\")","v":""}]
[null,null,null,{"$f":"IFERROR(IF(A933=\"\",\"\",SUMIF(Codigo_Produto,Estoque!A933,quantidade_adquirida)-SUMIF(cod_saida,Estoque!A933,quantidade_comprada)),\"\")","v":""}]
[null,null,null,{"$f":"IFERROR(IF(A934=\"\",\"\",SUMIF(Codigo_Produto,Estoque!A934,quantidade_adquirida)-SUMIF(cod_saida,Estoque!A934,quantidade_comprada)),\"\")","v":""}]
[null,null,null,{"$f":"IFERROR(IF(A935=\"\",\"\",SUMIF(Codigo_Produto,Estoque!A935,quantidade_adquirida)-SUMIF(cod_saida,Estoque!A935,quantidade_comprada)),\"\")","v":""}]
[null,null,null,{"$f":"IFERROR(IF(A936=\"\",\"\",SUMIF(Codigo_Produto,Estoque!A936,quantidade_adquirida)-SUMIF(cod_saida,Estoque!A936,quantidade_comprada)),\"\")","v":""}]
[null,null,null,{"$f":"IFERROR(IF(A937=\"\",\"\",SUMIF(Codigo_Produto,Estoque!A937,quantidade_adquirida)-SUMIF(cod_saida,Estoque!A937,quantidade_comprada)),\"\")","v":""}]
[null,null,null,{"$f":"IFERROR(IF(A938=\"\",\"\",SUMIF(Codigo_Produto,Estoque!A938,quantidade_adquirida)-SUMIF(cod_saida,Estoque!A938,quantidade_comprada)),\"\")","v":""}]
[null,null,null,{"$f":"IFERROR(IF(A939=\"\",\"\",SUMIF(Codigo_Produto,Estoque!A939,quantidade_adquirida)-SUMIF(cod_saida,Estoque!A939,quantidade_comprada)),\"\")","v":""}]
[null,null,null,{"$f":"IFERROR(IF(A940=\"\",\"\",SUMIF(Codigo_Produto,Estoque!A940,quantidade_adquirida)-SUMIF(cod_saida,Estoque!A940,quantidade_comprada)),\"\")","v":""}]
[null,null,null,{"$f":"IFERROR(IF(A941=\"\",\"\",SUMIF(Codigo_Produto,Estoque!A941,quantidade_adquirida)-SUMIF(cod_saida,Estoque!A941,quantidade_comprada)),\"\")","v":""}]
[null,null,null,{"$f":"IFERROR(IF(A942=\"\",\"\",SUMIF(Codigo_Produto,Estoque!A942,quantidade_adquirida)-SUMIF(cod_saida,Estoque!A942,quantidade_comprada)),\"\")","v":""}]
[null,null,null,{"$f":"IFERROR(IF(A943=\"\",\"\",SUMIF(Codigo_Produto,Estoque!A943,quantidade_adquirida)-SUMIF(cod_saida,Estoque!A943,quantidade_comprada)),\"\")","v":""}]
[null,null,null,{"$f":"IFERROR(IF(A944=\"\",\"\",SUMIF(Codigo_Produto,Estoque!A944,quantidade_adquirida)-SUMIF(cod_saida,Estoque!A944,quantidade_comprada)),\"\")","v":""}]
[null,null,null,{"$f":"IFERROR(IF(A945=\"\",\"\",SUMIF(Codigo_Produto,Estoque!A945,quantidade_adquirida)-SUMIF(cod_saida,Estoque!A945,quantidade_comprada)),\"\")","v":""}]
[null,null,null,{"$f":"IFERROR(IF(A946=\"\",\"\",SUMIF(Codigo_Produto,Estoque!A946,quantidade_adquirida)-SUMIF(cod_saida,Estoque!A946,quantidade_comprada)),\"\")","v":""}]
[null,null,null,{"$f":"IFERROR(IF(A947=\"\",\"\",SUMIF(Codigo_Produto,Estoque!A947,quantidade_adquirida)-SUMIF(cod_saida,Estoque!A947,quantidade_comprada)),\"\")","v":""}]
[null,null,null,{"$f":"IFERROR(IF(A948=\"\",\"\",SUMIF(Codigo_Produto,Estoque!A948,quantidade_adquirida)-SUMIF(cod_saida,Estoque!A948,quantidade_comprada)),\"\")","v":""}]
[null,null,null,{"$f":"IFERROR(IF(A949=\"\",\"\",SUMIF(Codigo_Produto,Estoque!A949,quantidade_adquirida)-SUMIF(cod_saida,Estoque!A949,quantidade_comprada)),\"\")","v":""}]
[null,null,null,{"$f":"IFERROR(IF(A950=\"\",\"\",SUMIF(Codigo_Produto,Estoque!A950,quantidade_adquirida)-SUMIF(cod_saida,Estoque!A950,quantidade_comprada)),\"\")","v":""}]
[null,null,null,{"$f":"IFERROR(IF(A951=\"\",\"\",SUMIF(Codigo_Produto,Estoque!A951,quantidade_adquirida)-SUMIF(cod_saida,Estoque!A951,quantidade_comprada)),\"\")","v":""}]
[null,null,null,{"$f":"IFERROR(IF(A952=\"\",\"\",SUMIF(Codigo_Produto,Estoque!A952,quantidade_adquirida)-SUMIF(cod_saida,Estoque!A952,quantidade_comprada)),\"\")","v":""}]
[null,null,null,{"$f":"IFERROR(IF(A953=\"\",\"\",SUMIF(Codigo_Produto,Estoque!A953,quantidade_adquirida)-SUMIF(cod_saida,Estoque!A953,quantidade_comprada)),\"\")","v":""}]
[null,null,null,{"$f":"IFERROR(IF(A954=\"\",\"\",SUMIF(Codigo_Produto,Estoque!A954,quantidade_adquirida)-SUMIF(cod_saida,Estoque!A954,quantidade_comprada)),\"\")","v":""}]
[null,null,null,{"$f":"IFERROR(IF(A955=\"\",\"\",SUMIF(Codigo_Produto,Estoque!A955,quantidade_adquirida)-SUMIF(cod_saida,Estoque!A955,quantidade_comprada)),\"\")","v":""}]
[null,null,null,{"$f":"IFERROR(IF(A956=\"\",\"\",SUMIF(Codigo_Produto,Estoque!A956,quantidade_adquirida)-SUMIF(cod_saida,Estoque!A956,quantidade_comprada)),\"\")","v":""}]
[null,null,null,{"$f":"IFERROR(IF(A957=\"\",\"\",SUMIF(Codigo_Produto,Estoque!A957,quantidade_adquirida)-SUMIF(cod_saida,Estoque!A957,quantidade_comprada)),\"\")","v":""}]
[null,null,null,{"$f":"IFERROR(IF(A958=\"\",\"\",SUMIF(Codigo_Produto,Estoque!A958,quantidade_adquirida)-SUMIF(cod_saida,Estoque!A958,quantidade_comprada)),\"\")","v":""}]
[null,null,null,{"$f":"IFERROR(IF(A959=\"\",\"\",SUMIF(Codigo_Produto,Estoque!A959,quantidade_adquirida)-SUMIF(cod_saida,Estoque!A959,quantidade_comprada)),\"\")","v":""}]
[null,null,null,{"$f":"IFERROR(IF(A960=\"\",\"\",SUMIF(Codigo_Produto,Estoque!A960,quantidade_adquirida)-SUMIF(cod_saida,Estoque!A960,quantidade_comprada)),\"\")","v":""}]
[null,null,null,{"$f":"IFERROR(IF(A961=\"\",\"\",SUMIF(Codigo_Produto,Estoque!A961,quantidade_adquirida)-SUMIF(cod_saida,Estoque!A961,quantidade_comprada)),\"\")","v":""}]
[null,null,null,{"$f":"IFERROR(IF(A962=\"\",\"\",SUMIF(Codigo_Produto,Estoque!A962,quantidade_adquirida)-SUMIF(cod_saida,Estoque!A962,quantidade_comprada)),\"\")","v":""}]
[null,null,null,{"$f":"IFERROR(IF(A963=\"\",\"\",SUMIF(Codigo_Produto,Estoque!A963,quantidade_adquirida)-SUMIF(cod_saida,Estoque!A963,quantidade_comprada)),\"\")","v":""}]
[null,null,null,{"$f":"IFERROR(IF(A964=\"\",\"\",SUMIF(Codigo_Produto,Estoque!A964,quantidade_adquirida)-SUMIF(cod_saida,Estoque!A964,quantidade_comprada)),\"\")","v":""}]
[null,null,null,{"$f":"IFERROR(IF(A965=\"\",\"\",SUMIF(Codigo_Produto,Estoque!A965,quantidade_adquirida)-SUMIF(cod_saida,Estoque!A965,quantidade_comprada)),\"\")","v":""}]
[null,null,null,{"$f":"IFERROR(IF(A966=\"\",\"\",SUMIF(Codigo_Produto,Estoque!A966,quantidade_adquirida)-SUMIF(cod_saida,Estoque!A966,quantidade_comprada)),\"\")","v":""}]
[null,null,null,{"$f":"IFERROR(IF(A967=\"\",\"\",SUMIF(Codigo_Produto,Estoque!A967,quantidade_adquirida)-SUMIF(cod_saida,Estoque!A967,quantidade_comprada)),\"\")","v":""}]
[null,null,null,{"$f":"IFERROR(IF(A968=\"\",\"\",SUMIF(Codigo_Produto,Estoque!A968,quantidade_adquirida)-SUMIF(cod_saida,Estoque!A968,quantidade_comprada)),\"\")","v":""}]
[null,null,null,{"$f":"IFERROR(IF(A969=\"\",\"\",SUMIF(Codigo_Produto,Estoque!A969,quantidade_adquirida)-SUMIF(cod_saida,Estoque!A969,quantidade_comprada)),\"\")","v":""}]
[null,null,null,{"$f":"IFERROR(IF(A970=\"\",\"\",SUMIF(Codigo_Produto,Estoque!A970,quantidade_adquirida)-SUMIF(cod_saida,Estoque!A970,quantidade_comprada)),\"\")","v":""}]
[null,null,null,{"$f":"IFERROR(IF(A971=\"\",\"\",SUMIF(Codigo_Produto,Estoque!A971,quantidade_adquirida)-SUMIF(cod_saida,Estoque!A971,quantidade_comprada)),\"\")","v":""}]
[null,null,null,{"$f":"IFERROR(IF(A972=\"\",\"\",SUMIF(Codigo_Produto,Estoque!A972,quantidade_adquirida)-SUMIF(cod_saida,Estoque!A972,quantidade_comprada)),\"\")","v":""}]
[null,null,null,{"$f":"IFERROR(IF(A973=\"\",\"\",SUMIF(Codigo_Produto,Estoque!A973,quantidade_adquirida)-SUMIF(cod_saida,Estoque!A973,quantidade_comprada)),\"\")","v":""}]
[null,null,null,{"$f":"IFERROR(IF(A974=\"\",\"\",SUMIF(Codigo_Produto,Estoque!A974,quantidade_adquirida)-SUMIF(cod_saida,Estoque!A974,quantidade_comprada)),\"\")","v":""}]
[null,null,null,{"$f":"IFERROR(IF(A975=\"\",\"\",SUMIF(Codigo_Produto,Estoque!A975,quantidade_adquirida)-SUMIF(cod_saida,Estoque!A975,quantidade_comprada)),\"\")","v":""}]
[null,null,null,{"$f":"IFERROR(IF(A976=\"\",\"\",SUMIF(Codigo_Produto,Estoque!A976,quantidade_adquirida)-SUMIF(cod_saida,Estoque!A976,quantidade_comprada)),\"\")","v":""}]
[null,null,null,{"$f":"IFERROR(IF(A977=\"\",\"\",SUMIF(Codigo_Produto,Estoque!A977,quantidade_adquirida)-SUMIF(cod_saida,Estoque!A977,quantidade_comprada)),\"\")","v":""}]
[null,null,null,{"$f":"IFERROR(IF(A978=\"\",\"\",SUMIF(Codigo_Produto,Estoque!A978,quantidade_adquirida)-SUMIF(cod_saida,Estoque!A978,quantidade_comprada)),\"\")","v":""}]
[null,null,null,{"$f":"IFERROR(IF(A979=\"\",\"\",SUMIF(Codigo_Produto,Estoque!A979,quantidade_adquirida)-SUMIF(cod_saida,Estoque!A979,quantidade_comprada)),\"\")","v":""}]
[null,null,null,{"$f":"IFERROR(IF(A980=\"\",\"\",SUMIF(Codigo_Produto,Estoque!A980,quantidade_adquirida)-SUMIF(cod_saida,Estoque!A980,quantidade_comprada)),\"\")","v":""}]
[null,null,null,{"$f":"IFERROR(IF(A981=\"\",\"\",SUMIF(Codigo_Produto,Estoque!A981,quantidade_adquirida)-SUMIF(cod_saida,Estoque!A981,quantidade_comprada)),\"\")","v":""}]
[null,null,null,{"$f":"IFERROR(IF(A982=\"\",\"\",SUMIF(Codigo_Produto,Estoque!A982,quantidade_adquirida)-SUMIF(cod_saida,Estoque!A982,quantidade_comprada)),\"\")","v":""}]
[null,null,null,{"$f":"IFERROR(IF(A983=\"\",\"\",SUMIF(Codigo_Produto,Estoque!A983,quantidade_adquirida)-SUMIF(cod_saida,Estoque!A983,quantidade_comprada)),\"\")","v":""}]
[null,null,null,{"$f":"IFERROR(IF(A984=\"\",\"\",SUMIF(Codigo_Produto,Estoque!A984,quantidade_adquirida)-SUMIF(cod_saida,Estoque!A984,quantidade_comprada)),\"\")","v":""}]
[null,null,null,{"$f":"IFERROR(IF(A985=\"\",\"\",SUMIF(Codigo_Produto,Estoque!A985,quantidade_adquirida)-SUMIF(cod_saida,Estoque!A985,quantidade_comprada)),\"\")","v":""}]
[null,null,null,{"$f":"IFERROR(IF(A986=\"\",\"\",SUMIF(Codigo_Produto,Estoque!A986,quantidade_adquirida)-SUMIF(cod_saida,Estoque!A986,quantidade_comprada)),\"\")","v":""}]
[null,null,null,{"$f":"IFERROR(IF(A987=\"\",\"\",SUMIF(Codigo_Produto,Estoque!A987,quantidade_adquirida)-SUMIF(cod_saida,Estoque!A987,quantidade_comprada)),\"\")","v":""}]
[null,null,null,{"$f":"IFERROR(IF(A988=\"\",\"\",SUMIF(Codigo_Produto,Estoque!A988,quantidade_adquirida)-SUMIF(cod_saida,Estoque!A988,quantidade_comprada)),\"\")","v":""}]
[null,null,null,{"$f":"IFERROR(IF(A989=\"\",\"\",SUMIF(Codigo_Produto,Estoque!A989,quantidade_adquirida)-SUMIF(cod_saida,Estoque!A989,quantidade_comprada)),\"\")","v":""}]
[null,null,null,{"$f":"IFERROR(IF(A990=\"\",\"\",SUMIF(Codigo_Produto,Estoque!A990,quantidade_adquirida)-SUMIF(cod_saida,Estoque!A990,quantidade_comprada)),\"\")","v":""}]
[null,null,null,{"$f":"IFERROR(IF(A991=\"\",\"\",SUMIF(Codigo_Produto,Estoque!A991,quantidade_adquirida)-SUMIF(cod_saida,Estoque!A991,quantidade_comprada)),\"\")","v":""}]
[null,null,null,{"$f":"IFERROR(IF(A992=\"\",\"\",SUMIF(Codigo_Produto,Estoque!A992,quantidade_adquirida)-SUMIF(cod_saida,Estoque!A992,quantidade_comprada)),\"\")","v":""}]
[null,null,null,{"$f":"IFERROR(IF(A993=\"\",\"\",SUMIF(Codigo_Produto,Estoque!A993,quantidade_adquirida)-SUMIF(cod_saida,Estoque!A993,quantidade_comprada)),\"\")","v":""}]
[null,null,null,{"$f":"IFERROR(IF(A994=\"\",\"\",SUMIF(Codigo_Produto,Estoque!A994,quantidade_adquirida)-SUMIF(cod_saida,Estoque!A994,quantidade_comprada)),\"\")","v":""}]
[null,null,null,{"$f":"IFERROR(IF(A995=\"\",\"\",SUMIF(Codigo_Produto,Estoque!A995,quantidade_adquirida)-SUMIF(cod_saida,Estoque!A995,quantidade_comprada)),\"\")","v":""}]
[null,null,null,{"$f":"IFERROR(IF(A996=\"\",\"\",SUMIF(Codigo_Produto,Estoque!A996,quantidade_adquirida)-SUMIF(cod_saida,Estoque!A996,quantidade_comprada)),\"\")","v":""}]
[null,null,null,{"$f":"IFERROR(IF(A997=\"\",\"\",SUMIF(Codigo_Produto,Estoque!A997,quantidade_adquirida)-SUMIF(cod_saida,Estoque!A997,quantidade_comprada)),\"\")","v":""}]
[null,null,null,{"$f":"IFERROR(IF(A998=\"\",\"\",SUMIF(Codigo_Produto,Estoque!A998,quantidade_adquirida)-SUMIF(cod_saida,Estoque!A998,quantidade_comprada)),\"\")","v":""}]
[null,null,null,{"$f":"IFERROR(IF(A999=\"\",\"\",SUMIF(Codigo_Produto,Estoque!A999,quantidade_adquirida)-SUMIF(cod_saida,Estoque!A999,quantidade_comprada)),\"\")","v":""}]
[null,null,null,{"$f":"IFERROR(IF(A1000=\"\",\"\",SUMIF(Codigo_Produto,Estoque!A1000,quantidade_adquirida)-SUMIF(cod_saida,Estoque!A1000,quantidade_comprada)),\"\")","v":""}]
[null,null,null,{"$f":"IFERROR(IF(A1001=\"\",\"\",SUMIF(Codigo_Produto,Estoque!A1001,quantidade_adquirida)-SUMIF(cod_saida,Estoque!A1001,quantidade_comprada)),\"\")","v":""}]
[null,null,null,{"$f":"IFERROR(IF(A1002=\"\",\"\",SUMIF(Codigo_Produto,Estoque!A1002,quantidade_adquirida)-SUMIF(cod_saida,Estoque!A1002,quantidade_comprada)),\"\")","v":""}]
[null,null,null,{"$f":"IFERROR(IF(A1003=\"\",\"\",SUMIF(Codigo_Produto,Estoque!A1003,quantidade_adquirida)-SUMIF(cod_saida,Estoque!A1003,quantidade_comprada)),\"\")","v":""}]

{"sheet":"Entradas","index":5,"n_rows":5003,"n_cols":10,"rows_kept":5003,"cut":false,"hidden":false,"merged":[[2,9,8,12],[0,0,0,7]]}
["           Entrada de Produtos em Estoque"]
["Data da Compra","Cód. do Produto","Descrição","QTD. Entrada","UND","Nota fiscal","Preço Unt. de Compra ","Preço Unt. de Venda"]
["2024-02-01","FS500",{"$f":"IF(B3=\"\",\"\",VLOOKUP(B3,Itens,2,FALSE))","v":"Chamex - Papel Sulfite, A4, 75g, 500 folhas"},10,{"$f":"IF(B3=\"\",\"\",VLOOKUP(B3,Itens,3,FALSE))","v":"Un"},123,25,32,null,"INSTRUÇÕES DE PREENCHIMENTO\n\nCadastre aqui as novas entradas de produtos para o seu estoque "]
["2024-02-01","LC10FC","Lápis de Cor, Faber-Castell, EcoLápis Pastel, 120510P, 10 Cores",12,"Un",124,8.9,14.9]
["2024-02-01","TB10M","Tilibra 305421 Universitário 10 Matérias Zip",15,"Un",125,7.9,18.5]
["2024-02-01","BL50F","Bloco refil grande pautado 90g com 50 folhas",10,"Un",126,18.899999999999999,31.9]
["2024-02-01","L1205","Faber-Castell EcoLápis 1205 Max Preto Nº 2B 6 Unidades",20,"Un",127,2.5,5.9]
["2024-02-01","LPR2HB14UN","Lápis Preto Redondo Nº2HB, Faber-Castell 14 Unidades",30,"Un",128,7,11.9]
["2024-02-01","KA4M","Kit 4 Marcadores de Quadro Branco BIC Marking Cores Clássicas + 1 Apagador",10,"Un",129,18.600000000000001,32.9]
["2024-02-01","CE3UN","Caneta Esferográfica SPIRO c/3 unidades (1 Azul, 1 Preta e 1 Vermelha)",10,"Un",130,5.6,9.9]
["2024-02-01","PO3M270F","Post-it, 3M 76mm x 76mm, 270 folhas",20,"Un",131,19,31]
["2024-06-05","FS500","Chamex - Papel Sulfite, A4, 75g, 500 folhas",10,"Un",321,30,45]
[null,null,"",null,""]
[null,null,"",null,""]
[null,null,"",null,""]
[null,null,"",null,""]
[null,null,"",null,""]
[null,null,"",null,""]
[null,null,"",null,""]
[null,null,"",null,""]
[null,null,"",null,""]
[null,null,"",null,""]
[null,null,"",null,""]
[null,null,"",null,""]
[null,null,"",null,""]
[null,null,"",null,""]
[null,null,"",null,""]
[null,null,"",null,""]
[null,null,"",null,""]
[null,null,"",null,""]
[null,null,"",null,""]
[null,null,"",null,""]
[null,null,"",null,""]
[null,null,"",null,""]
[null,null,"",null,""]
[null,null,"",null,""]
[null,null,"",null,""]
[null,null,"",null,""]
[null,null,"",null,""]
[null,null,"",null,""]
[null,null,"",null,""]
[null,null,"",null,""]
[null,null,"",null,""]
[null,null,"",null,""]
[null,null,"",null,""]
[null,null,"",null,""]
[null,null,"",null,""]
[null,null,"",null,""]
[null,null,"",null,""]
[null,null,"",null,""]
[null,null,"",null,""]
[null,null,"",null,""]
[null,null,"",null,""]
[null,null,"",null,""]
[null,null,"",null,""]
[null,null,"",null,""]
[null,null,"",null,""]
[null,null,"",null,""]
[null,null,"",null,""]
[null,null,"",null,""]
[null,null,"",null,""]
[null,null,"",null,""]
[null,null,"",null,""]
[null,null,"",null,""]
[null,null,"",null,""]
[null,null,"",null,""]
[null,null,{"$f":"IF(B67=\"\",\"\",VLOOKUP(B67,Itens,2,FALSE))","v":""},null,{"$f":"IF(B67=\"\",\"\",VLOOKUP(B67,Itens,3,FALSE))","v":""}]
[null,null,"",null,""]
[null,null,"",null,""]
[null,null,"",null,""]
[null,null,"",null,""]
[null,null,"",null,""]
[null,null,"",null,""]
[null,null,"",null,""]
[null,null,"",null,""]
[null,null,"",null,""]
[null,null,"",null,""]
[null,null,"",null,""]
[null,null,"",null,""]
[null,null,"",null,""]
[null,null,"",null,""]
[null,null,"",null,""]
[null,null,"",null,""]
[null,null,"",null,""]
[null,null,"",null,""]
[null,null,"",null,""]
[null,null,"",null,""]
[null,null,"",null,""]
[null,null,"",null,""]
[null,null,"",null,""]
[null,null,"",null,""]
[null,null,"",null,""]
[null,null,"",null,""]
[null,null,"",null,""]
[null,null,"",null,""]
[null,null,"",null,""]
[null,null,"",null,""]
[null,null,"",null,""]
[null,null,"",null,""]
[null,null,"",null,""]
[null,null,"",null,""]
[null,null,"",null,""]
[null,null,"",null,""]
[null,null,"",null,""]
[null,null,"",null,""]
[null,null,"",null,""]
[null,null,"",null,""]
[null,null,"",null,""]
[null,null,"",null,""]
[null,null,"",null,""]
[null,null,"",null,""]
[null,null,"",null,""]
[null,null,"",null,""]
[null,null,"",null,""]
[null,null,"",null,""]
[null,null,"",null,""]
[null,null,"",null,""]
[null,null,"",null,""]
[null,null,"",null,""]
[null,null,"",null,""]
[null,null,"",null,""]
[null,null,"",null,""]
[null,null,"",null,""]
[null,null,"",null,""]
[null,null,"",null,""]
[null,null,"",null,""]
[null,null,"",null,""]
[null,null,"",null,""]
[null,null,"",null,""]
[null,null,"",null,""]
[null,null,{"$f":"IF(B131=\"\",\"\",VLOOKUP(B131,Itens,2,FALSE))","v":""},null,{"$f":"IF(B131=\"\",\"\",VLOOKUP(B131,Itens,3,FALSE))","v":""}]
[null,null,"",null,""]
[null,null,"",null,""]
[null,null,"",null,""]
[null,null,"",null,""]
[null,null,"",null,""]
[null,null,"",null,""]
[null,null,"",null,""]
[null,null,"",null,""]
[null,null,"",null,""]
[null,null,"",null,""]
[null,null,"",null,""]
[null,null,"",null,""]
[null,null,"",null,""]
[null,null,"",null,""]
[null,null,"",null,""]
[null,null,"",null,""]
[null,null,"",null,""]
[null,null,"",null,""]
[null,null,"",null,""]
[null,null,"",null,""]
[null,null,"",null,""]
[null,null,"",null,""]
[null,null,"",null,""]
[null,null,"",null,""]
[null,null,"",null,""]
[null,null,"",null,""]
[null,null,"",null,""]
[null,null,"",null,""]
[null,null,"",null,""]
[null,null,"",null,""]
[null,null,"",null,""]
[null,null,"",null,""]
[null,null,"",null,""]
[null,null,"",null,""]
[null,null,"",null,""]
[null,null,"",null,""]
[null,null,"",null,""]
[null,null,"",null,""]
[null,null,"",null,""]
[null,null,"",null,""]
[null,null,"",null,""]
[null,null,"",null,""]
[null,null,"",null,""]
[null,null,"",null,""]
[null,null,"",null,""]
[null,null,"",null,""]
[null,null,"",null,""]
[null,null,"",null,""]
[null,null,"",null,""]
[null,null,"",null,""]
[null,null,"",null,""]
[null,null,"",null,""]
[null,null,"",null,""]
[null,null,"",null,""]
[null,null,"",null,""]
[null,null,"",null,""]
[null,null,"",null,""]
[null,null,"",null,""]
[null,null,"",null,""]
[null,null,"",null,""]
[null,null,"",null,""]
[null,null,"",null,""]
[null,null,"",null,""]
[null,null,{"$f":"IF(B195=\"\",\"\",VLOOKUP(B195,Itens,2,FALSE))","v":""},null,{"$f":"IF(B195=\"\",\"\",VLOOKUP(B195,Itens,3,FALSE))","v":""}]
[null,null,"",null,""]
[null,null,"",null,""]
[null,null,"",null,""]
[null,null,"",null,""]
[null,null,"",null,""]
[null,null,"",null,""]
[null,null,"",null,""]
[null,null,"",null,""]
[null,null,"",null,""]
[null,null,"",null,""]
[null,null,"",null,""]
[null,null,"",null,""]
[null,null,"",null,""]
[null,null,"",null,""]
[null,null,"",null,""]
[null,null,"",null,""]
[null,null,"",null,""]
[null,null,"",null,""]
[null,null,"",null,""]
[null,null,"",null,""]
[null,null,"",null,""]
[null,null,"",null,""]
[null,null,"",null,""]
[null,null,"",null,""]
[null,null,"",null,""]
[null,null,"",null,""]
[null,null,"",null,""]
[null,null,"",null,""]
[null,null,"",null,""]
[null,null,"",null,""]
[null,null,"",null,""]
[null,null,"",null,""]
[null,null,"",null,""]
[null,null,"",null,""]
[null,null,"",null,""]
[null,null,"",null,""]
[null,null,"",null,""]
[null,null,"",null,""]
[null,null,"",null,""]
[null,null,"",null,""]
[null,null,"",null,""]
[null,null,"",null,""]
[null,null,"",null,""]
[null,null,"",null,""]
[null,null,"",null,""]
[null,null,"",null,""]
[null,null,"",null,""]
[null,null,"",null,""]
[null,null,"",null,""]
[null,null,"",null,""]
[null,null,"",null,""]
[null,null,"",null,""]
[null,null,"",null,""]
[null,null,"",null,""]
[null,null,"",null,""]
[null,null,"",null,""]
[null,null,"",null,""]
[null,null,"",null,""]
[null,null,"",null,""]
[null,null,"",null,""]
[null,null,"",null,""]
[null,null,"",null,""]
[null,null,"",null,""]
[null,null,{"$f":"IF(B259=\"\",\"\",VLOOKUP(B259,Itens,2,FALSE))","v":""},null,{"$f":"IF(B259=\"\",\"\",VLOOKUP(B259,Itens,3,FALSE))","v":""}]
[null,null,"",null,""]
[null,null,"",null,""]
[null,null,"",null,""]
[null,null,"",null,""]
[null,null,"",null,""]
[null,null,"",null,""]
[null,null,"",null,""]
[null,null,"",null,""]
[null,null,"",null,""]
[null,null,"",null,""]
[null,null,"",null,""]
[null,null,"",null,""]
[null,null,"",null,""]
[null,null,"",null,""]
[null,null,"",null,""]
[null,null,"",null,""]
[null,null,"",null,""]
[null,null,"",null,""]
[null,null,"",null,""]
[null,null,"",null,""]
[null,null,"",null,""]
[null,null,"",null,""]
[null,null,"",null,""]
[null,null,"",null,""]
[null,null,"",null,""]
[null,null,"",null,""]
[null,null,"",null,""]
[null,null,"",null,""]
[null,null,"",null,""]
[null,null,"",null,""]
[null,null,"",null,""]
[null,null,"",null,""]
[null,null,"",null,""]
[null,null,"",null,""]
[null,null,"",null,""]
[null,null,"",null,""]
[null,null,"",null,""]
[null,null,"",null,""]
[null,null,"",null,""]
[null,null,"",null,""]
[null,null,"",null,""]
[null,null,"",null,""]
[null,null,"",null,""]
[null,null,"",null,""]
[null,null,"",null,""]
[null,null,"",null,""]
[null,null,"",null,""]
[null,null,"",null,""]
[null,null,"",null,""]
[null,null,"",null,""]
[null,null,"",null,""]
[null,null,"",null,""]
[null,null,"",null,""]
[null,null,"",null,""]
[null,null,"",null,""]
[null,null,"",null,""]
[null,null,"",null,""]
[null,null,"",null,""]
[null,null,"",null,""]
[null,null,"",null,""]
[null,null,"",null,""]
[null,null,"",null,""]
[null,null,"",null,""]
[null,null,{"$f":"IF(B323=\"\",\"\",VLOOKUP(B323,Itens,2,FALSE))","v":""},null,{"$f":"IF(B323=\"\",\"\",VLOOKUP(B323,Itens,3,FALSE))","v":""}]
[null,null,"",null,""]
[null,null,"",null,""]
[null,null,"",null,""]
[null,null,"",null,""]
[null,null,"",null,""]
[null,null,"",null,""]
[null,null,"",null,""]
[null,null,"",null,""]
[null,null,"",null,""]
[null,null,"",null,""]
[null,null,"",null,""]
[null,null,"",null,""]
[null,null,"",null,""]
[null,null,"",null,""]
[null,null,"",null,""]
[null,null,"",null,""]
[null,null,"",null,""]
[null,null,"",null,""]
[null,null,"",null,""]
[null,null,"",null,""]
[null,null,"",null,""]
[null,null,"",null,""]
[null,null,"",null,""]
[null,null,"",null,""]
[null,null,"",null,""]
[null,null,"",null,""]
[null,null,"",null,""]
[null,null,"",null,""]
[null,null,"",null,""]
[null,null,"",null,""]
[null,null,"",null,""]
[null,null,"",null,""]
[null,null,"",null,""]
[null,null,"",null,""]
[null,null,"",null,""]
[null,null,"",null,""]
[null,null,"",null,""]
[null,null,"",null,""]
[null,null,"",null,""]
[null,null,"",null,""]
[null,null,"",null,""]
[null,null,"",null,""]
[null,null,"",null,""]
[null,null,"",null,""]
[null,null,"",null,""]
[null,null,"",null,""]
[null,null,"",null,""]
[null,null,"",null,""]
[null,null,"",null,""]
[null,null,"",null,""]
[null,null,"",null,""]
[null,null,"",null,""]
[null,null,"",null,""]
[null,null,"",null,""]
[null,null,"",null,""]
[null,null,"",null,""]
[null,null,"",null,""]
[null,null,"",null,""]
[null,null,"",null,""]
[null,null,"",null,""]
[null,null,"",null,""]
[null,null,"",null,""]
[null,null,"",null,""]
[null,null,{"$f":"IF(B387=\"\",\"\",VLOOKUP(B387,Itens,2,FALSE))","v":""},null,{"$f":"IF(B387=\"\",\"\",VLOOKUP(B387,Itens,3,FALSE))","v":""}]
[null,null,"",null,""]
[null,null,"",null,""]
[null,null,"",null,""]
[null,null,"",null,""]
[null,null,"",null,""]
[null,null,"",null,""]
[null,null,"",null,""]
[null,null,"",null,""]
[null,null,"",null,""]
[null,null,"",null,""]
[null,null,"",null,""]
[null,null,"",null,""]
[null,null,"",null,""]
[null,null,"",null,""]
[null,null,"",null,""]
[null,null,"",null,""]
[null,null,"",null,""]
[null,null,"",null,""]
[null,null,"",null,""]
[null,null,"",null,""]
[null,null,"",null,""]
[null,null,"",null,""]
[null,null,"",null,""]
[null,null,"",null,""]
[null,null,"",null,""]
[null,null,"",null,""]
[null,null,"",null,""]
[null,null,"",null,""]
[null,null,"",null,""]
[null,null,"",null,""]
[null,null,"",null,""]
[null,null,"",null,""]
[null,null,"",null,""]
[null,null,"",null,""]
[null,null,"",null,""]
[null,null,"",null,""]
[null,null,"",null,""]
[null,null,"",null,""]
[null,null,"",null,""]
[null,null,"",null,""]
[null,null,"",null,""]
[null,null,"",null,""]
[null,null,"",null,""]
[null,null,"",null,""]
[null,null,"",null,""]
[null,null,"",null,""]
[null,null,"",null,""]
[null,null,"",null,""]
[null,null,"",null,""]
[null,null,"",null,""]
[null,null,"",null,""]
[null,null,"",null,""]
[null,null,"",null,""]
[null,null,"",null,""]
[null,null,"",null,""]
[null,null,"",null,""]
[null,null,"",null,""]
[null,null,"",null,""]
[null,null,"",null,""]
[null,null,"",null,""]
[null,null,"",null,""]
[null,null,"",null,""]
[null,null,"",null,""]
[null,null,{"$f":"IF(B451=\"\",\"\",VLOOKUP(B451,Itens,2,FALSE))","v":""},null,{"$f":"IF(B451=\"\",\"\",VLOOKUP(B451,Itens,3,FALSE))","v":""}]
[null,null,"",null,""]
[null,null,"",null,""]
[null,null,"",null,""]
[null,null,"",null,""]
[null,null,"",null,""]
[null,null,"",null,""]
[null,null,"",null,""]
[null,null,"",null,""]
[null,null,"",null,""]
[null,null,"",null,""]
[null,null,"",null,""]
[null,null,"",null,""]
[null,null,"",null,""]
[null,null,"",null,""]
[null,null,"",null,""]
[null,null,"",null,""]
[null,null,"",null,""]
[null,null,"",null,""]
[null,null,"",null,""]
[null,null,"",null,""]
[null,null,"",null,""]
[null,null,"",null,""]
[null,null,"",null,""]
[null,null,"",null,""]
[null,null,"",null,""]
[null,null,"",null,""]
[null,null,"",null,""]
[null,null,"",null,""]
[null,null,"",null,""]
[null,null,"",null,""]
[null,null,"",null,""]
[null,null,"",null,""]
[null,null,"",null,""]
[null,null,"",null,""]
[null,null,"",null,""]
[null,null,"",null,""]
[null,null,"",null,""]
[null,null,"",null,""]
[null,null,"",null,""]
[null,null,"",null,""]
[null,null,"",null,""]
[null,null,"",null,""]
[null,null,"",null,""]
[null,null,"",null,""]
[null,null,"",null,""]
[null,null,"",null,""]
[null,null,"",null,""]
[null,null,"",null,""]
[null,null,"",null,""]
[null,null,"",null,""]
[null,null,"",null,""]
[null,null,"",null,""]
[null,null,"",null,""]
[null,null,"",null,""]
[null,null,"",null,""]
[null,null,"",null,""]
[null,null,"",null,""]
[null,null,"",null,""]
[null,null,"",null,""]
[null,null,"",null,""]
[null,null,"",null,""]
[null,null,"",null,""]
[null,null,"",null,""]
[null,null,{"$f":"IF(B515=\"\",\"\",VLOOKUP(B515,Itens,2,FALSE))","v":""},null,{"$f":"IF(B515=\"\",\"\",VLOOKUP(B515,Itens,3,FALSE))","v":""}]
[null,null,"",null,""]
[null,null,"",null,""]
[null,null,"",null,""]
[null,null,"",null,""]
[null,null,"",null,""]
[null,null,"",null,""]
[null,null,"",null,""]
[null,null,"",null,""]
[null,null,"",null,""]
[null,null,"",null,""]
[null,null,"",null,""]
[null,null,"",null,""]
[null,null,"",null,""]
[null,null,"",null,""]
[null,null,"",null,""]
[null,null,"",null,""]
[null,null,"",null,""]
[null,null,"",null,""]
[null,null,"",null,""]
[null,null,"",null,""]
[null,null,"",null,""]
[null,null,"",null,""]
[null,null,"",null,""]
[null,null,"",null,""]
[null,null,"",null,""]
[null,null,"",null,""]
[null,null,"",null,""]
[null,null,"",null,""]
[null,null,"",null,""]
[null,null,"",null,""]
[null,null,"",null,""]
[null,null,"",null,""]
[null,null,"",null,""]
[null,null,"",null,""]
[null,null,"",null,""]
[null,null,"",null,""]
[null,null,"",null,""]
[null,null,"",null,""]
[null,null,"",null,""]
[null,null,"",null,""]
[null,null,"",null,""]
[null,null,"",null,""]
[null,null,"",null,""]
[null,null,"",null,""]
[null,null,"",null,""]
[null,null,"",null,""]
[null,null,"",null,""]
[null,null,"",null,""]
[null,null,"",null,""]
[null,null,"",null,""]
[null,null,"",null,""]
[null,null,"",null,""]
[null,null,"",null,""]
[null,null,"",null,""]
[null,null,"",null,""]
[null,null,"",null,""]
[null,null,"",null,""]
[null,null,"",null,""]
[null,null,"",null,""]
[null,null,"",null,""]
[null,null,"",null,""]
[null,null,"",null,""]
[null,null,"",null,""]
[null,null,{"$f":"IF(B579=\"\",\"\",VLOOKUP(B579,Itens,2,FALSE))","v":""},null,{"$f":"IF(B579=\"\",\"\",VLOOKUP(B579,Itens,3,FALSE))","v":""}]
[null,null,"",null,""]
[null,null,"",null,""]
[null,null,"",null,""]
[null,null,"",null,""]
[null,null,"",null,""]
[null,null,"",null,""]
[null,null,"",null,""]
[null,null,"",null,""]
[null,null,"",null,""]
[null,null,"",null,""]
[null,null,"",null,""]
[null,null,"",null,""]
[null,null,"",null,""]
[null,null,"",null,""]
[null,null,"",null,""]
[null,null,"",null,""]
[null,null,"",null,""]
[null,null,"",null,""]
[null,null,"",null,""]
[null,null,"",null,""]
[null,null,"",null,""]
[null,null,"",null,""]
[null,null,"",null,""]
[null,null,"",null,""]
[null,null,"",null,""]
[null,null,"",null,""]
[null,null,"",null,""]
[null,null,"",null,""]
[null,null,"",null,""]
[null,null,"",null,""]
[null,null,"",null,""]
[null,null,"",null,""]
[null,null,"",null,""]
[null,null,"",null,""]
[null,null,"",null,""]
[null,null,"",null,""]
[null,null,"",null,""]
[null,null,"",null,""]
[null,null,"",null,""]
[null,null,"",null,""]
[null,null,"",null,""]
[null,null,"",null,""]
[null,null,"",null,""]
[null,null,"",null,""]
[null,null,"",null,""]
[null,null,"",null,""]
[null,null,"",null,""]
[null,null,"",null,""]
[null,null,"",null,""]
[null,null,"",null,""]
[null,null,"",null,""]
[null,null,"",null,""]
[null,null,"",null,""]
[null,null,"",null,""]
[null,null,"",null,""]
[null,null,"",null,""]
[null,null,"",null,""]
[null,null,"",null,""]
[null,null,"",null,""]
[null,null,"",null,""]
[null,null,"",null,""]
[null,null,"",null,""]
[null,null,"",null,""]
[null,null,{"$f":"IF(B643=\"\",\"\",VLOOKUP(B643,Itens,2,FALSE))","v":""},null,{"$f":"IF(B643=\"\",\"\",VLOOKUP(B643,Itens,3,FALSE))","v":""}]
[null,null,"",null,""]
[null,null,"",null,""]
[null,null,"",null,""]
[null,null,"",null,""]
[null,null,"",null,""]
[null,null,"",null,""]
[null,null,"",null,""]
[null,null,"",null,""]
[null,null,"",null,""]
[null,null,"",null,""]
[null,null,"",null,""]
[null,null,"",null,""]
[null,null,"",null,""]
[null,null,"",null,""]
[null,null,"",null,""]
[null,null,"",null,""]
[null,null,"",null,""]
[null,null,"",null,""]
[null,null,"",null,""]
[null,null,"",null,""]
[null,null,"",null,""]
[null,null,"",null,""]
[null,null,"",null,""]
[null,null,"",null,""]
[null,null,"",null,""]
[null,null,"",null,""]
[null,null,"",null,""]
[null,null,"",null,""]
[null,null,"",null,""]
[null,null,"",null,""]
[null,null,"",null,""]
[null,null,"",null,""]
[null,null,"",null,""]
[null,null,"",null,""]
[null,null,"",null,""]
[null,null,"",null,""]
[null,null,"",null,""]
[null,null,"",null,""]
[null,null,"",null,""]
[null,null,"",null,""]
[null,null,"",null,""]
[null,null,"",null,""]
[null,null,"",null,""]
[null,null,"",null,""]
[null,null,"",null,""]
[null,null,"",null,""]
[null,null,"",null,""]
[null,null,"",null,""]
[null,null,"",null,""]
[null,null,"",null,""]
[null,null,"",null,""]
[null,null,"",null,""]
[null,null,"",null,""]
[null,null,"",null,""]
[null,null,"",null,""]
[null,null,"",null,""]
[null,null,"",null,""]
[null,null,"",null,""]
[null,null,"",null,""]
[null,null,"",null,""]
[null,null,"",null,""]
[null,null,"",null,""]
[null,null,"",null,""]
[null,null,{"$f":"IF(B707=\"\",\"\",VLOOKUP(B707,Itens,2,FALSE))","v":""},null,{"$f":"IF(B707=\"\",\"\",VLOOKUP(B707,Itens,3,FALSE))","v":""}]
[null,null,"",null,""]
[null,null,"",null,""]
[null,null,"",null,""]
[null,null,"",null,""]
[null,null,"",null,""]
[null,null,"",null,""]
[null,null,"",null,""]
[null,null,"",null,""]
[null,null,"",null,""]
[null,null,"",null,""]
[null,null,"",null,""]
[null,null,"",null,""]
[null,null,"",null,""]
[null,null,"",null,""]
[null,null,"",null,""]
[null,null,"",null,""]
[null,null,"",null,""]
[null,null,"",null,""]
[null,null,"",null,""]
[null,null,"",null,""]
[null,null,"",null,""]
[null,null,"",null,""]
[null,null,"",null,""]
[null,null,"",null,""]
[null,null,"",null,""]
[null,null,"",null,""]
[null,null,"",null,""]
[null,null,"",null,""]
[null,null,"",null,""]
[null,null,"",null,""]
[null,null,"",null,""]
[null,null,"",null,""]
[null,null,"",null,""]
[null,null,"",null,""]
[null,null,"",null,""]
[null,null,"",null,""]
[null,null,"",null,""]
[null,null,"",null,""]
[null,null,"",null,""]
[null,null,"",null,""]
[null,null,"",null,""]
[null,null,"",null,""]
[null,null,"",null,""]
[null,null,"",null,""]
[null,null,"",null,""]
[null,null,"",null,""]
[null,null,"",null,""]
[null,null,"",null,""]
[null,null,"",null,""]
[null,null,"",null,""]
[null,null,"",null,""]
[null,null,"",null,""]
[null,null,"",null,""]
[null,null,"",null,""]
[null,null,"",null,""]
[null,null,"",null,""]
[null,null,"",null,""]
[null,null,"",null,""]
[null,null,"",null,""]
[null,null,"",null,""]
[null,null,"",null,""]
[null,null,"",null,""]
[null,null,"",null,""]
[null,null,{"$f":"IF(B771=\"\",\"\",VLOOKUP(B771,Itens,2,FALSE))","v":""},null,{"$f":"IF(B771=\"\",\"\",VLOOKUP(B771,Itens,3,FALSE))","v":""}]
[null,null,"",null,""]
[null,null,"",null,""]
[null,null,"",null,""]
[null,null,"",null,""]
[null,null,"",null,""]
[null,null,"",null,""]
[null,null,"",null,""]
[null,null,"",null,""]
[null,null,"",null,""]
[null,null,"",null,""]
[null,null,"",null,""]
[null,null,"",null,""]
[null,null,"",null,""]
[null,null,"",null,""]
[null,null,"",null,""]
[null,null,"",null,""]
[null,null,"",null,""]
[null,null,"",null,""]
[null,null,"",null,""]
[null,null,"",null,""]
[null,null,"",null,""]
[null,null,"",null,""]
[null,null,"",null,""]
[null,null,"",null,""]
[null,null,"",null,""]
[null,null,"",null,""]
[null,null,"",null,""]
[null,null,"",null,""]
[null,null,"",null,""]
[null,null,"",null,""]
[null,null,"",null,""]
[null,null,"",null,""]
[null,null,"",null,""]
[null,null,"",null,""]
[null,null,"",null,""]
[null,null,"",null,""]
[null,null,"",null,""]
[null,null,"",null,""]
[null,null,"",null,""]
[null,null,"",null,""]
[null,null,"",null,""]
[null,null,"",null,""]
[null,null,"",null,""]
[null,null,"",null,""]
[null,null,"",null,""]
[null,null,"",null,""]
[null,null,"",null,""]
[null,null,"",null,""]
[null,null,"",null,""]
[null,null,"",null,""]
[null,null,"",null,""]
[null,null,"",null,""]
[null,null,"",null,""]
[null,null,"",null,""]
[null,null,"",null,""]
[null,null,"",null,""]
[null,null,"",null,""]
[null,null,"",null,""]
[null,null,"",null,""]
[null,null,"",null,""]
[null,null,"",null,""]
[null,null,"",null,""]
[null,null,"",null,""]
[null,null,{"$f":"IF(B835=\"\",\"\",VLOOKUP(B835,Itens,2,FALSE))","v":""},null,{"$f":"IF(B835=\"\",\"\",VLOOKUP(B835,Itens,3,FALSE))","v":""}]
[null,null,"",null,""]
[null,null,"",null,""]
[null,null,"",null,""]
[null,null,"",null,""]
[null,null,"",null,""]
[null,null,"",null,""]
[null,null,"",null,""]
[null,null,"",null,""]
[null,null,"",null,""]
[null,null,"",null,""]
[null,null,"",null,""]
[null,null,"",null,""]
[null,null,"",null,""]
[null,null,"",null,""]
[null,null,"",null,""]
[null,null,"",null,""]
[null,null,"",null,""]
[null,null,"",null,""]
[null,null,"",null,""]
[null,null,"",null,""]
[null,null,"",null,""]
[null,null,"",null,""]
[null,null,"",null,""]
[null,null,"",null,""]
[null,null,"",null,""]
[null,null,"",null,""]
[null,null,"",null,""]
[null,null,"",null,""]
[null,null,"",null,""]
[null,null,"",null,""]
[null,null,"",null,""]
[null,null,"",null,""]
[null,null,"",null,""]
[null,null,"",null,""]
[null,null,"",null,""]
[null,null,"",null,""]
[null,null,"",null,""]
[null,null,"",null,""]
[null,null,"",null,""]
[null,null,"",null,""]
[null,null,"",null,""]
[null,null,"",null,""]
[null,null,"",null,""]
[null,null,"",null,""]
[null,null,"",null,""]
[null,null,"",null,""]
[null,null,"",null,""]
[null,null,"",null,""]
[null,null,"",null,""]
[null,null,"",null,""]
[null,null,"",null,""]
[null,null,"",null,""]
[null,null,"",null,""]
[null,null,"",null,""]
[null,null,"",null,""]
[null,null,"",null,""]
[null,null,"",null,""]
[null,null,"",null,""]
[null,null,"",null,""]
[null,null,"",null,""]
[null,null,"",null,""]
[null,null,"",null,""]
[null,null,"",null,""]
[null,null,{"$f":"IF(B899=\"\",\"\",VLOOKUP(B899,Itens,2,FALSE))","v":""},null,{"$f":"IF(B899=\"\",\"\",VLOOKUP(B899,Itens,3,FALSE))","v":""}]
[null,null,"",null,""]
[null,null,"",null,""]
[null,null,"",null,""]
[null,null,"",null,""]
[null,null,"",null,""]
[null,null,"",null,""]
[null,null,"",null,""]
[null,null,"",null,""]
[null,null,"",null,""]
[null,null,"",null,""]
[null,null,"",null,""]
[null,null,"",null,""]
[null,null,"",null,""]
[null,null,"",null,""]
[null,null,"",null,""]
[null,null,"",null,""]
[null,null,"",null,""]
[null,null,"",null,""]
[null,null,"",null,""]
[null,null,"",null,""]
[null,null,"",null,""]
[null,null,"",null,""]
[null,null,"",null,""]
[null,null,"",null,""]
[null,null,"",null,""]
[null,null,"",null,""]
[null,null,"",null,""]
[null,null,"",null,""]
[null,null,"",null,""]
[null,null,"",null,""]
[null,null,"",null,""]
[null,null,"",null,""]
[null,null,"",null,""]
[null,null,"",null,""]
[null,null,"",null,""]
[null,null,"",null,""]
[null,null,"",null,""]
[null,null,"",null,""]
[null,null,"",null,""]
[null,null,"",null,""]
[null,null,"",null,""]
[null,null,"",null,""]
[null,null,"",null,""]
[null,null,"",null,""]
[null,null,"",null,""]
[null,null,"",null,""]
[null,null,"",null,""]
[null,null,"",null,""]
[null,null,"",null,""]
[null,null,"",null,""]
[null,null,"",null,""]
[null,null,"",null,""]
[null,null,"",null,""]
[null,null,"",null,""]
[null,null,"",null,""]
[null,null,"",null,""]
[null,null,"",null,""]
[null,null,"",null,""]
[null,null,"",null,""]
[null,null,"",null,""]
[null,null,"",null,""]
[null,null,"",null,""]
[null,null,"",null,""]
[null,null,{"$f":"IF(B963=\"\",\"\",VLOOKUP(B963,Itens,2,FALSE))","v":""},null,{"$f":"IF(B963=\"\",\"\",VLOOKUP(B963,Itens,3,FALSE))","v":""}]
[null,null,"",null,""]
[null,null,"",null,""]
[null,null,"",null,""]
[null,null,"",null,""]
[null,null,"",null,""]
[null,null,"",null,""]
[null,null,"",null,""]
[null,null,"",null,""]
[null,null,"",null,""]
[null,null,"",null,""]
[null,null,"",null,""]
[null,null,"",null,""]
[null,null,"",null,""]
[null,null,"",null,""]
[null,null,"",null,""]
[null,null,"",null,""]
[null,null,"",null,""]
[null,null,"",null,""]
[null,null,"",null,""]
[null,null,"",null,""]
[null,null,"",null,""]
[null,null,"",null,""]
[null,null,"",null,""]
[null,null,"",null,""]
[null,null,"",null,""]
[null,null,"",null,""]
[null,null,"",null,""]
[null,null,"",null,""]
[null,null,"",null,""]
[null,null,"",null,""]
[null,null,"",null,""]
[null,null,"",null,""]
[null,null,"",null,""]
[null,null,"",null,""]
[null,null,"",null,""]
[null,null,"",null,""]
[null,null,"",null,""]
[null,null,"",null,""]
[null,null,"",null,""]
[null,null,"",null,""]
[null,null,"",null,""]
[null,null,"",null,""]
[null,null,"",null,""]
[null,null,"",null,""]
[null,null,"",null,""]
[null,null,"",null,""]
[null,null,"",null,""]
[null,null,"",null,""]
[null,null,"",null,""]
[null,null,"",null,""]
[null,null,"",null,""]
[null,null,"",null,""]
[null,null,"",null,""]
[null,null,"",null,""]
[null,null,"",null,""]
[null,null,"",null,""]
[null,null,"",null,""]
[null,null,"",null,""]
[null,null,"",null,""]
[null,null,"",null,""]
[null,null,"",null,""]
[null,null,"",null,""]
[null,null,"",null,""]
[null,null,{"$f":"IF(B1027=\"\",\"\",VLOOKUP(B1027,Itens,2,FALSE))","v":""},null,{"$f":"IF(B1027=\"\",\"\",VLOOKUP(B1027,Itens,3,FALSE))","v":""}]
[null,null,"",null,""]
[null,null,"",null,""]
[null,null,"",null,""]
[null,null,"",null,""]
[null,null,"",null,""]
[null,null,"",null,""]
[null,null,"",null,""]
[null,null,"",null,""]
[null,null,"",null,""]
[null,null,"",null,""]
[null,null,"",null,""]
[null,null,"",null,""]
[null,null,"",null,""]
[null,null,"",null,""]
[null,null,"",null,""]
[null,null,"",null,""]
[null,null,"",null,""]
[null,null,"",null,""]
[null,null,"",null,""]
[null,null,"",null,""]
[null,null,"",null,""]
[null,null,"",null,""]
[null,null,"",null,""]
[null,null,"",null,""]
[null,null,"",null,""]
[null,null,"",null,""]
[null,null,"",null,""]
[null,null,"",null,""]
[null,null,"",null,""]
[null,null,"",null,""]
[null,null,"",null,""]
[null,null,"",null,""]
[null,null,"",null,""]
[null,null,"",null,""]
[null,null,"",null,""]
[null,null,"",null,""]
[null,null,"",null,""]
[null,null,"",null,""]
[null,null,"",null,""]
[null,null,"",null,""]
[null,null,"",null,""]
[null,null,"",null,""]
[null,null,"",null,""]
[null,null,"",null,""]
[null,null,"",null,""]
[null,null,"",null,""]
[null,null,"",null,""]
[null,null,"",null,""]
[null,null,"",null,""]
[null,null,"",null,""]
[null,null,"",null,""]
[null,null,"",null,""]
[null,null,"",null,""]
[null,null,"",null,""]
[null,null,"",null,""]
[null,null,"",null,""]
[null,null,"",null,""]
[null,null,"",null,""]
[null,null,"",null,""]
[null,null,"",null,""]
[null,null,"",null,""]
[null,null,"",null,""]
[null,null,"",null,""]
[null,null,{"$f":"IF(B1091=\"\",\"\",VLOOKUP(B1091,Itens,2,FALSE))","v":""},null,{"$f":"IF(B1091=\"\",\"\",VLOOKUP(B1091,Itens,3,FALSE))","v":""}]
[null,null,"",null,""]
[null,null,"",null,""]
[null,null,"",null,""]
[null,null,"",null,""]
[null,null,"",null,""]
[null,null,"",null,""]
[null,null,"",null,""]
[null,null,"",null,""]
[null,null,"",null,""]
[null,null,"",null,""]
[null,null,"",null,""]
[null,null,"",null,""]
[null,null,"",null,""]
[null,null,"",null,""]
[null,null,"",null,""]
[null,null,"",null,""]
[null,null,"",null,""]
[null,null,"",null,""]
[null,null,"",null,""]
[null,null,"",null,""]
[null,null,"",null,""]
[null,null,"",null,""]
[null,null,"",null,""]
[null,null,"",null,""]
[null,null,"",null,""]
[null,null,"",null,""]
[null,null,"",null,""]
[null,null,"",null,""]
[null,null,"",null,""]
[null,null,"",null,""]
[null,null,"",null,""]
[null,null,"",null,""]
[null,null,"",null,""]
[null,null,"",null,""]
[null,null,"",null,""]
[null,null,"",null,""]
[null,null,"",null,""]
[null,null,"",null,""]
[null,null,"",null,""]
[null,null,"",null,""]
[null,null,"",null,""]
[null,null,"",null,""]
[null,null,"",null,""]
[null,null,"",null,""]
[null,null,"",null,""]
[null,null,"",null,""]
[null,null,"",null,""]
[null,null,"",null,""]
[null,null,"",null,""]
[null,null,"",null,""]
[null,null,"",null,""]
[null,null,"",null,""]
[null,null,"",null,""]
[null,null,"",null,""]
[null,null,"",null,""]
[null,null,"",null,""]
[null,null,"",null,""]
[null,null,"",null,""]
[null,null,"",null,""]
[null,null,"",null,""]
[null,null,"",null,""]
[null,null,"",null,""]
[null,null,"",null,""]
[null,null,{"$f":"IF(B1155=\"\",\"\",VLOOKUP(B1155,Itens,2,FALSE))","v":""},null,{"$f":"IF(B1155=\"\",\"\",VLOOKUP(B1155,Itens,3,FALSE))","v":""}]
[null,null,"",null,""]
[null,null,"",null,""]
[null,null,"",null,""]
[null,null,"",null,""]
[null,null,"",null,""]
[null,null,"",null,""]
[null,null,"",null,""]
[null,null,"",null,""]
[null,null,"",null,""]
[null,null,"",null,""]
[null,null,"",null,""]
[null,null,"",null,""]
[null,null,"",null,""]
[null,null,"",null,""]
[null,null,"",null,""]
[null,null,"",null,""]
[null,null,"",null,""]
[null,null,"",null,""]
[null,null,"",null,""]
[null,null,"",null,""]
[null,null,"",null,""]
[null,null,"",null,""]
[null,null,"",null,""]
[null,null,"",null,""]
[null,null,"",null,""]
[null,null,"",null,""]
[null,null,"",null,""]
[null,null,"",null,""]
[null,null,"",null,""]
[null,null,"",null,""]
[null,null,"",null,""]
[null,null,"",null,""]
[null,null,"",null,""]
[null,null,"",null,""]
[null,null,"",null,""]
[null,null,"",null,""]
[null,null,"",null,""]
[null,null,"",null,""]
[null,null,"",null,""]
[null,null,"",null,""]
[null,null,"",null,""]
[null,null,"",null,""]
[null,null,"",null,""]
[null,null,"",null,""]
[null,null,"",null,""]
[null,null,"",null,""]
[null,null,"",null,""]
[null,null,"",null,""]
[null,null,"",null,""]
[null,null,"",null,""]
[null,null,"",null,""]
[null,null,"",null,""]
[null,null,"",null,""]
[null,null,"",null,""]
[null,null,"",null,""]
[null,null,"",null,""]
[null,null,"",null,""]
[null,null,"",null,""]
[null,null,"",null,""]
[null,null,"",null,""]
[null,null,"",null,""]
[null,null,"",null,""]
[null,null,"",null,""]
[null,null,{"$f":"IF(B1219=\"\",\"\",VLOOKUP(B1219,Itens,2,FALSE))","v":""},null,{"$f":"IF(B1219=\"\",\"\",VLOOKUP(B1219,Itens,3,FALSE))","v":""}]
[null,null,"",null,""]
[null,null,"",null,""]
[null,null,"",null,""]
[null,null,"",null,""]
[null,null,"",null,""]
[null,null,"",null,""]
[null,null,"",null,""]
[null,null,"",null,""]
[null,null,"",null,""]
[null,null,"",null,""]
[null,null,"",null,""]
[null,null,"",null,""]
[null,null,"",null,""]
[null,null,"",null,""]
[null,null,"",null,""]
[null,null,"",null,""]
[null,null,"",null,""]
[null,null,"",null,""]
[null,null,"",null,""]
[null,null,"",null,""]
[null,null,"",null,""]
[null,null,"",null,""]
[null,null,"",null,""]
[null,null,"",null,""]
[null,null,"",null,""]
[null,null,"",null,""]
[null,null,"",null,""]
[null,null,"",null,""]
[null,null,"",null,""]
[null,null,"",null,""]
[null,null,"",null,""]
[null,null,"",null,""]
[null,null,"",null,""]
[null,null,"",null,""]
[null,null,"",null,""]
[null,null,"",null,""]
[null,null,"",null,""]
[null,null,"",null,""]
[null,null,"",null,""]
[null,null,"",null,""]
[null,null,"",null,""]
[null,null,"",null,""]
[null,null,"",null,""]
[null,null,"",null,""]
[null,null,"",null,""]
[null,null,"",null,""]
[null,null,"",null,""]
[null,null,"",null,""]
[null,null,"",null,""]
[null,null,"",null,""]
[null,null,"",null,""]
[null,null,"",null,""]
[null,null,"",null,""]
[null,null,"",null,""]
[null,null,"",null,""]
[null,null,"",null,""]
[null,null,"",null,""]
[null,null,"",null,""]
[null,null,"",null,""]
[null,null,"",null,""]
[null,null,"",null,""]
[null,null,"",null,""]
[null,null,"",null,""]
[null,null,{"$f":"IF(B1283=\"\",\"\",VLOOKUP(B1283,Itens,2,FALSE))","v":""},null,{"$f":"IF(B1283=\"\",\"\",VLOOKUP(B1283,Itens,3,FALSE))","v":""}]
[null,null,"",null,""]
[null,null,"",null,""]
[null,null,"",null,""]
[null,null,"",null,""]
[null,null,"",null,""]
[null,null,"",null,""]
[null,null,"",null,""]
[null,null,"",null,""]
[null,null,"",null,""]
[null,null,"",null,""]
[null,null,"",null,""]
[null,null,"",null,""]
[null,null,"",null,""]
[null,null,"",null,""]
[null,null,"",null,""]
[null,null,"",null,""]
[null,null,"",null,""]
[null,null,"",null,""]
[null,null,"",null,""]
[null,null,"",null,""]
[null,null,"",null,""]
[null,null,"",null,""]
[null,null,"",null,""]
[null,null,"",null,""]
[null,null,"",null,""]
[null,null,"",null,""]
[null,null,"",null,""]
[null,null,"",null,""]
[null,null,"",null,""]
[null,null,"",null,""]
[null,null,"",null,""]
[null,null,"",null,""]
[null,null,"",null,""]
[null,null,"",null,""]
[null,null,"",null,""]
[null,null,"",null,""]
[null,null,"",null,""]
[null,null,"",null,""]
[null,null,"",null,""]
[null,null,"",null,""]
[null,null,"",null,""]
[null,null,"",null,""]
[null,null,"",null,""]
[null,null,"",null,""]
[null,null,"",null,""]
[null,null,"",null,""]
[null,null,"",null,""]
[null,null,"",null,""]
[null,null,"",null,""]
[null,null,"",null,""]
[null,null,"",null,""]
[null,null,"",null,""]
[null,null,"",null,""]
[null,null,"",null,""]
[null,null,"",null,""]
[null,null,"",null,""]
[null,null,"",null,""]
[null,null,"",null,""]
[null,null,"",null,""]
[null,null,"",null,""]
[null,null,"",null,""]
[null,null,"",null,""]
[null,null,"",null,""]
[null,null,{"$f":"IF(B1347=\"\",\"\",VLOOKUP(B1347,Itens,2,FALSE))","v":""},null,{"$f":"IF(B1347=\"\",\"\",VLOOKUP(B1347,Itens,3,FALSE))","v":""}]
[null,null,"",null,""]
[null,null,"",null,""]
[null,null,"",null,""]
[null,null,"",null,""]
[null,null,"",null,""]
[null,null,"",null,""]
[null,null,"",null,""]
[null,null,"",null,""]
[null,null,"",null,""]
[null,null,"",null,""]
[null,null,"",null,""]
[null,null,"",null,""]
[null,null,"",null,""]
[null,null,"",null,""]
[null,null,"",null,""]
[null,null,"",null,""]
[null,null,"",null,""]
[null,null,"",null,""]
[null,null,"",null,""]
[null,null,"",null,""]
[null,null,"",null,""]
[null,null,"",null,""]
[null,null,"",null,""]
[null,null,"",null,""]
[null,null,"",null,""]
[null,null,"",null,""]
[null,null,"",null,""]
[null,null,"",null,""]
[null,null,"",null,""]
[null,null,"",null,""]
[null,null,"",null,""]
[null,null,"",null,""]
[null,null,"",null,""]
[null,null,"",null,""]
[null,null,"",null,""]
[null,null,"",null,""]
[null,null,"",null,""]
[null,null,"",null,""]
[null,null,"",null,""]
[null,null,"",null,""]
[null,null,"",null,""]
[null,null,"",null,""]
[null,null,"",null,""]
[null,null,"",null,""]
[null,null,"",null,""]
[null,null,"",null,""]
[null,null,"",null,""]
[null,null,"",null,""]
[null,null,"",null,""]
[null,null,"",null,""]
[null,null,"",null,""]
[null,null,"",null,""]
[null,null,"",null,""]
[null,null,"",null,""]
[null,null,"",null,""]
[null,null,"",null,""]
[null,null,"",null,""]
[null,null,"",null,""]
[null,null,"",null,""]
[null,null,"",null,""]
[null,null,"",null,""]
[null,null,"",null,""]
[null,null,"",null,""]
[null,null,{"$f":"IF(B1411=\"\",\"\",VLOOKUP(B1411,Itens,2,FALSE))","v":""},null,{"$f":"IF(B1411=\"\",\"\",VLOOKUP(B1411,Itens,3,FALSE))","v":""}]
[null,null,"",null,""]
[null,null,"",null,""]
[null,null,"",null,""]
[null,null,"",null,""]
[null,null,"",null,""]
[null,null,"",null,""]
[null,null,"",null,""]
[null,null,"",null,""]
[null,null,"",null,""]
[null,null,"",null,""]
[null,null,"",null,""]
[null,null,"",null,""]
[null,null,"",null,""]
[null,null,"",null,""]
[null,null,"",null,""]
[null,null,"",null,""]
[null,null,"",null,""]
[null,null,"",null,""]
[null,null,"",null,""]
[null,null,"",null,""]
[null,null,"",null,""]
[null,null,"",null,""]
[null,null,"",null,""]
[null,null,"",null,""]
[null,null,"",null,""]
[null,null,"",null,""]
[null,null,"",null,""]
[null,null,"",null,""]
[null,null,"",null,""]
[null,null,"",null,""]
[null,null,"",null,""]
[null,null,"",null,""]
[null,null,"",null,""]
[null,null,"",null,""]
[null,null,"",null,""]
[null,null,"",null,""]
[null,null,"",null,""]
[null,null,"",null,""]
[null,null,"",null,""]
[null,null,"",null,""]
[null,null,"",null,""]
[null,null,"",null,""]
[null,null,"",null,""]
[null,null,"",null,""]
[null,null,"",null,""]
[null,null,"",null,""]
[null,null,"",null,""]
[null,null,"",null,""]
[null,null,"",null,""]
[null,null,"",null,""]
[null,null,"",null,""]
[null,null,"",null,""]
[null,null,"",null,""]
[null,null,"",null,""]
[null,null,"",null,""]
[null,null,"",null,""]
[null,null,"",null,""]
[null,null,"",null,""]
[null,null,"",null,""]
[null,null,"",null,""]
[null,null,"",null,""]
[null,null,"",null,""]
[null,null,"",null,""]
[null,null,{"$f":"IF(B1475=\"\",\"\",VLOOKUP(B1475,Itens,2,FALSE))","v":""},null,{"$f":"IF(B1475=\"\",\"\",VLOOKUP(B1475,Itens,3,FALSE))","v":""}]
[null,null,"",null,""]
[null,null,"",null,""]
[null,null,"",null,""]
[null,null,"",null,""]
[null,null,"",null,""]
[null,null,"",null,""]
[null,null,"",null,""]
[null,null,"",null,""]
[null,null,"",null,""]
[null,null,"",null,""]
[null,null,"",null,""]
[null,null,"",null,""]
[null,null,"",null,""]
[null,null,"",null,""]
[null,null,"",null,""]
[null,null,"",null,""]
[null,null,"",null,""]
[null,null,"",null,""]
[null,null,"",null,""]
[null,null,"",null,""]
[null,null,"",null,""]
[null,null,"",null,""]
[null,null,"",null,""]
[null,null,"",null,""]
[null,null,"",null,""]
[null,null,"",null,""]
[null,null,"",null,""]
[null,null,"",null,""]
[null,null,"",null,""]
[null,null,"",null,""]
[null,null,"",null,""]
[null,null,"",null,""]
[null,null,"",null,""]
[null,null,"",null,""]
[null,null,"",null,""]
[null,null,"",null,""]
[null,null,"",null,""]
[null,null,"",null,""]
[null,null,"",null,""]
[null,null,"",null,""]
[null,null,"",null,""]
[null,null,"",null,""]
[null,null,"",null,""]
[null,null,"",null,""]
[null,null,"",null,""]
[null,null,"",null,""]
[null,null,"",null,""]
[null,null,"",null,""]
[null,null,"",null,""]
[null,null,"",null,""]
[null,null,"",null,""]
[null,null,"",null,""]
[null,null,"",null,""]
[null,null,"",null,""]
[null,null,"",null,""]
[null,null,"",null,""]
[null,null,"",null,""]
[null,null,"",null,""]
[null,null,"",null,""]
[null,null,"",null,""]
[null,null,"",null,""]
[null,null,"",null,""]
[null,null,"",null,""]
[null,null,{"$f":"IF(B1539=\"\",\"\",VLOOKUP(B1539,Itens,2,FALSE))","v":""},null,{"$f":"IF(B1539=\"\",\"\",VLOOKUP(B1539,Itens,3,FALSE))","v":""}]
[null,null,"",null,""]
[null,null,"",null,""]
[null,null,"",null,""]
[null,null,"",null,""]
[null,null,"",null,""]
[null,null,"",null,""]
[null,null,"",null,""]
[null,null,"",null,""]
[null,null,"",null,""]
[null,null,"",null,""]
[null,null,"",null,""]
[null,null,"",null,""]
[null,null,"",null,""]
[null,null,"",null,""]
[null,null,"",null,""]
[null,null,"",null,""]
[null,null,"",null,""]
[null,null,"",null,""]
[null,null,"",null,""]
[null,null,"",null,""]
[null,null,"",null,""]
[null,null,"",null,""]
[null,null,"",null,""]
[null,null,"",null,""]
[null,null,"",null,""]
[null,null,"",null,""]
[null,null,"",null,""]
[null,null,"",null,""]
[null,null,"",null,""]
[null,null,"",null,""]
[null,null,"",null,""]
[null,null,"",null,""]
[null,null,"",null,""]
[null,null,"",null,""]
[null,null,"",null,""]
[null,null,"",null,""]
[null,null,"",null,""]
[null,null,"",null,""]
[null,null,"",null,""]
[null,null,"",null,""]
[null,null,"",null,""]
[null,null,"",null,""]
[null,null,"",null,""]
[null,null,"",null,""]
[null,null,"",null,""]
[null,null,"",null,""]
[null,null,"",null,""]
[null,null,"",null,""]
[null,null,"",null,""]
[null,null,"",null,""]
[null,null,"",null,""]
[null,null,"",null,""]
[null,null,"",null,""]
[null,null,"",null,""]
[null,null,"",null,""]
[null,null,"",null,""]
[null,null,"",null,""]
[null,null,"",null,""]
[null,null,"",null,""]
[null,null,"",null,""]
[null,null,"",null,""]
[null,null,"",null,""]
[null,null,"",null,""]
[null,null,{"$f":"IF(B1603=\"\",\"\",VLOOKUP(B1603,Itens,2,FALSE))","v":""},null,{"$f":"IF(B1603=\"\",\"\",VLOOKUP(B1603,Itens,3,FALSE))","v":""}]
[null,null,"",null,""]
[null,null,"",null,""]
[null,null,"",null,""]
[null,null,"",null,""]
[null,null,"",null,""]
[null,null,"",null,""]
[null,null,"",null,""]
[null,null,"",null,""]
[null,null,"",null,""]
[null,null,"",null,""]
[null,null,"",null,""]
[null,null,"",null,""]
[null,null,"",null,""]
[null,null,"",null,""]
[null,null,"",null,""]
[null,null,"",null,""]
[null,null,"",null,""]
[null,null,"",null,""]
[null,null,"",null,""]
[null,null,"",null,""]
[null,null,"",null,""]
[null,null,"",null,""]
[null,null,"",null,""]
[null,null,"",null,""]
[null,null,"",null,""]
[null,null,"",null,""]
[null,null,"",null,""]
[null,null,"",null,""]
[null,null,"",null,""]
[null,null,"",null,""]
[null,null,"",null,""]
[null,null,"",null,""]
[null,null,"",null,""]
[null,null,"",null,""]
[null,null,"",null,""]
[null,null,"",null,""]
[null,null,"",null,""]
[null,null,"",null,""]
[null,null,"",null,""]
[null,null,"",null,""]
[null,null,"",null,""]
[null,null,"",null,""]
[null,null,"",null,""]
[null,null,"",null,""]
[null,null,"",null,""]
[null,null,"",null,""]
[null,null,"",null,""]
[null,null,"",null,""]
[null,null,"",null,""]
[null,null,"",null,""]
[null,null,"",null,""]
[null,null,"",null,""]
[null,null,"",null,""]
[null,null,"",null,""]
[null,null,"",null,""]
[null,null,"",null,""]
[null,null,"",null,""]
[null,null,"",null,""]
[null,null,"",null,""]
[null,null,"",null,""]
[null,null,"",null,""]
[null,null,"",null,""]
[null,null,"",null,""]
[null,null,{"$f":"IF(B1667=\"\",\"\",VLOOKUP(B1667,Itens,2,FALSE))","v":""},null,{"$f":"IF(B1667=\"\",\"\",VLOOKUP(B1667,Itens,3,FALSE))","v":""}]
[null,null,"",null,""]
[null,null,"",null,""]
[null,null,"",null,""]
[null,null,"",null,""]
[null,null,"",null,""]
[null,null,"",null,""]
[null,null,"",null,""]
[null,null,"",null,""]
[null,null,"",null,""]
[null,null,"",null,""]
[null,null,"",null,""]
[null,null,"",null,""]
[null,null,"",null,""]
[null,null,"",null,""]
[null,null,"",null,""]
[null,null,"",null,""]
[null,null,"",null,""]
[null,null,"",null,""]
[null,null,"",null,""]
[null,null,"",null,""]
[null,null,"",null,""]
[null,null,"",null,""]
[null,null,"",null,""]
[null,null,"",null,""]
[null,null,"",null,""]
[null,null,"",null,""]
[null,null,"",null,""]
[null,null,"",null,""]
[null,null,"",null,""]
[null,null,"",null,""]
[null,null,"",null,""]
[null,null,"",null,""]
[null,null,"",null,""]
[null,null,"",null,""]
[null,null,"",null,""]
[null,null,"",null,""]
[null,null,"",null,""]
[null,null,"",null,""]
[null,null,"",null,""]
[null,null,"",null,""]
[null,null,"",null,""]
[null,null,"",null,""]
[null,null,"",null,""]
[null,null,"",null,""]
[null,null,"",null,""]
[null,null,"",null,""]
[null,null,"",null,""]
[null,null,"",null,""]
[null,null,"",null,""]
[null,null,"",null,""]
[null,null,"",null,""]
[null,null,"",null,""]
[null,null,"",null,""]
[null,null,"",null,""]
[null,null,"",null,""]
[null,null,"",null,""]
[null,null,"",null,""]
[null,null,"",null,""]
[null,null,"",null,""]
[null,null,"",null,""]
[null,null,"",null,""]
[null,null,"",null,""]
[null,null,"",null,""]
[null,null,{"$f":"IF(B1731=\"\",\"\",VLOOKUP(B1731,Itens,2,FALSE))","v":""},null,{"$f":"IF(B1731=\"\",\"\",VLOOKUP(B1731,Itens,3,FALSE))","v":""}]
[null,null,"",null,""]
[null,null,"",null,""]
[null,null,"",null,""]
[null,null,"",null,""]
[null,null,"",null,""]
[null,null,"",null,""]
[null,null,"",null,""]
[null,null,"",null,""]
[null,null,"",null,""]
[null,null,"",null,""]
[null,null,"",null,""]
[null,null,"",null,""]
[null,null,"",null,""]
[null,null,"",null,""]
[null,null,"",null,""]
[null,null,"",null,""]
[null,null,"",null,""]
[null,null,"",null,""]
[null,null,"",null,""]
[null,null,"",null,""]
[null,null,"",null,""]
[null,null,"",null,""]
[null,null,"",null,""]
[null,null,"",null,""]
[null,null,"",null,""]
[null,null,"",null,""]
[null,null,"",null,""]
[null,null,"",null,""]
[null,null,"",null,""]
[null,null,"",null,""]
[null,null,"",null,""]
[null,null,"",null,""]
[null,null,"",null,""]
[null,null,"",null,""]
[null,null,"",null,""]
[null,null,"",null,""]
[null,null,"",null,""]
[null,null,"",null,""]
[null,null,"",null,""]
[null,null,"",null,""]
[null,null,"",null,""]
[null,null,"",null,""]
[null,null,"",null,""]
[null,null,"",null,""]
[null,null,"",null,""]
[null,null,"",null,""]
[null,null,"",null,""]
[null,null,"",null,""]
[null,null,"",null,""]
[null,null,"",null,""]
[null,null,"",null,""]
[null,null,"",null,""]
[null,null,"",null,""]
[null,null,"",null,""]
[null,null,"",null,""]
[null,null,"",null,""]
[null,null,"",null,""]
[null,null,"",null,""]
[null,null,"",null,""]
[null,null,"",null,""]
[null,null,"",null,""]
[null,null,"",null,""]
[null,null,"",null,""]
[null,null,{"$f":"IF(B1795=\"\",\"\",VLOOKUP(B1795,Itens,2,FALSE))","v":""},null,{"$f":"IF(B1795=\"\",\"\",VLOOKUP(B1795,Itens,3,FALSE))","v":""}]
[null,null,"",null,""]
[null,null,"",null,""]
[null,null,"",null,""]
[null,null,"",null,""]
[null,null,"",null,""]
[null,null,"",null,""]
[null,null,"",null,""]
[null,null,"",null,""]
[null,null,"",null,""]
[null,null,"",null,""]
[null,null,"",null,""]
[null,null,"",null,""]
[null,null,"",null,""]
[null,null,"",null,""]
[null,null,"",null,""]
[null,null,"",null,""]
[null,null,"",null,""]
[null,null,"",null,""]
[null,null,"",null,""]
[null,null,"",null,""]
[null,null,"",null,""]
[null,null,"",null,""]
[null,null,"",null,""]
[null,null,"",null,""]
[null,null,"",null,""]
[null,null,"",null,""]
[null,null,"",null,""]
[null,null,"",null,""]
[null,null,"",null,""]
[null,null,"",null,""]
[null,null,"",null,""]
[null,null,"",null,""]
[null,null,"",null,""]
[null,null,"",null,""]
[null,null,"",null,""]
[null,null,"",null,""]
[null,null,"",null,""]
[null,null,"",null,""]
[null,null,"",null,""]
[null,null,"",null,""]
[null,null,"",null,""]
[null,null,"",null,""]
[null,null,"",null,""]
[null,null,"",null,""]
[null,null,"",null,""]
[null,null,"",null,""]
[null,null,"",null,""]
[null,null,"",null,""]
[null,null,"",null,""]
[null,null,"",null,""]
[null,null,"",null,""]
[null,null,"",null,""]
[null,null,"",null,""]
[null,null,"",null,""]
[null,null,"",null,""]
[null,null,"",null,""]
[null,null,"",null,""]
[null,null,"",null,""]
[null,null,"",null,""]
[null,null,"",null,""]
[null,null,"",null,""]
[null,null,"",null,""]
[null,null,"",null,""]
[null,null,{"$f":"IF(B1859=\"\",\"\",VLOOKUP(B1859,Itens,2,FALSE))","v":""},null,{"$f":"IF(B1859=\"\",\"\",VLOOKUP(B1859,Itens,3,FALSE))","v":""}]
[null,null,"",null,""]
[null,null,"",null,""]
[null,null,"",null,""]
[null,null,"",null,""]
[null,null,"",null,""]
[null,null,"",null,""]
[null,null,"",null,""]
[null,null,"",null,""]
[null,null,"",null,""]
[null,null,"",null,""]
[null,null,"",null,""]
[null,null,"",null,""]
[null,null,"",null,""]
[null,null,"",null,""]
[null,null,"",null,""]
[null,null,"",null,""]
[null,null,"",null,""]
[null,null,"",null,""]
[null,null,"",null,""]
[null,null,"",null,""]
[null,null,"",null,""]
[null,null,"",null,""]
[null,null,"",null,""]
[null,null,"",null,""]
[null,null,"",null,""]
[null,null,"",null,""]
[null,null,"",null,""]
[null,null,"",null,""]
[null,null,"",null,""]
[null,null,"",null,""]
[null,null,"",null,""]
[null,null,"",null,""]
[null,null,"",null,""]
[null,null,"",null,""]
[null,null,"",null,""]
[null,null,"",null,""]
[null,null,"",null,""]
[null,null,"",null,""]
[null,null,"",null,""]
[null,null,"",null,""]
[null,null,"",null,""]
[null,null,"",null,""]
[null,null,"",null,""]
[null,null,"",null,""]
[null,null,"",null,""]
[null,null,"",null,""]
[null,null,"",null,""]
[null,null,"",null,""]
[null,null,"",null,""]
[null,null,"",null,""]
[null,null,"",null,""]
[null,null,"",null,""]
[null,null,"",null,""]
[null,null,"",null,""]
[null,null,"",null,""]
[null,null,"",null,""]
[null,null,"",null,""]
[null,null,"",null,""]
[null,null,"",null,""]
[null,null,"",null,""]
[null,null,"",null,""]
[null,null,"",null,""]
[null,null,"",null,""]
[null,null,{"$f":"IF(B1923=\"\",\"\",VLOOKUP(B1923,Itens,2,FALSE))","v":""},null,{"$f":"IF(B1923=\"\",\"\",VLOOKUP(B1923,Itens,3,FALSE))","v":""}]
[null,null,"",null,""]
[null,null,"",null,""]
[null,null,"",null,""]
[null,null,"",null,""]
[null,null,"",null,""]
[null,null,"",null,""]
[null,null,"",null,""]
[null,null,"",null,""]
[null,null,"",null,""]
[null,null,"",null,""]
[null,null,"",null,""]
[null,null,"",null,""]
[null,null,"",null,""]
[null,null,"",null,""]
[null,null,"",null,""]
[null,null,"",null,""]
[null,null,"",null,""]
[null,null,"",null,""]
[null,null,"",null,""]
[null,null,"",null,""]
[null,null,"",null,""]
[null,null,"",null,""]
[null,null,"",null,""]
[null,null,"",null,""]
[null,null,"",null,""]
[null,null,"",null,""]
[null,null,"",null,""]
[null,null,"",null,""]
[null,null,"",null,""]
[null,null,"",null,""]
[null,null,"",null,""]
[null,null,"",null,""]
[null,null,"",null,""]
[null,null,"",null,""]
[null,null,"",null,""]
[null,null,"",null,""]
[null,null,"",null,""]
[null,null,"",null,""]
[null,null,"",null,""]
[null,null,"",null,""]
[null,null,"",null,""]
[null,null,"",null,""]
[null,null,"",null,""]
[null,null,"",null,""]
[null,null,"",null,""]
[null,null,"",null,""]
[null,null,"",null,""]
[null,null,"",null,""]
[null,null,"",null,""]
[null,null,"",null,""]
[null,null,"",null,""]
[null,null,"",null,""]
[null,null,"",null,""]
[null,null,"",null,""]
[null,null,"",null,""]
[null,null,"",null,""]
[null,null,"",null,""]
[null,null,"",null,""]
[null,null,"",null,""]
[null,null,"",null,""]
[null,null,"",null,""]
[null,null,"",null,""]
[null,null,"",null,""]
[null,null,{"$f":"IF(B1987=\"\",\"\",VLOOKUP(B1987,Itens,2,FALSE))","v":""},null,{"$f":"IF(B1987=\"\",\"\",VLOOKUP(B1987,Itens,3,FALSE))","v":""}]
[null,null,"",null,""]
[null,null,"",null,""]
[null,null,"",null,""]
[null,null,"",null,""]
[null,null,"",null,""]
[null,null,"",null,""]
[null,null,"",null,""]
[null,null,"",null,""]
[null,null,"",null,""]
[null,null,"",null,""]
[null,null,"",null,""]
[null,null,"",null,""]
[null,null,"",null,""]
[null,null,"",null,""]
[null,null,"",null,""]
[null,null,"",null,""]
[null,null,"",null,""]
[null,null,"",null,""]
[null,null,"",null,""]
[null,null,"",null,""]
[null,null,"",null,""]
[null,null,"",null,""]
[null,null,"",null,""]
[null,null,"",null,""]
[null,null,"",null,""]
[null,null,"",null,""]
[null,null,"",null,""]
[null,null,"",null,""]
[null,null,"",null,""]
[null,null,"",null,""]
[null,null,"",null,""]
[null,null,"",null,""]
[null,null,"",null,""]
[null,null,"",null,""]
[null,null,"",null,""]
[null,null,"",null,""]
[null,null,"",null,""]
[null,null,"",null,""]
[null,null,"",null,""]
[null,null,"",null,""]
[null,null,"",null,""]
[null,null,"",null,""]
[null,null,"",null,""]
[null,null,"",null,""]
[null,null,"",null,""]
[null,null,"",null,""]
[null,null,"",null,""]
[null,null,"",null,""]
[null,null,"",null,""]
[null,null,"",null,""]
[null,null,"",null,""]
[null,null,"",null,""]
[null,null,"",null,""]
[null,null,"",null,""]
[null,null,"",null,""]
[null,null,"",null,""]
[null,null,"",null,""]
[null,null,"",null,""]
[null,null,"",null,""]
[null,null,"",null,""]
[null,null,"",null,""]
[null,null,"",null,""]
[null,null,"",null,""]
[null,null,{"$f":"IF(B2051=\"\",\"\",VLOOKUP(B2051,Itens,2,FALSE))","v":""},null,{"$f":"IF(B2051=\"\",\"\",VLOOKUP(B2051,Itens,3,FALSE))","v":""}]
[null,null,"",null,""]
[null,null,"",null,""]
[null,null,"",null,""]
[null,null,"",null,""]
[null,null,"",null,""]
[null,null,"",null,""]
[null,null,"",null,""]
[null,null,"",null,""]
[null,null,"",null,""]
[null,null,"",null,""]
[null,null,"",null,""]
[null,null,"",null,""]
[null,null,"",null,""]
[null,null,"",null,""]
[null,null,"",null,""]
[null,null,"",null,""]
[null,null,"",null,""]
[null,null,"",null,""]
[null,null,"",null,""]
[null,null,"",null,""]
[null,null,"",null,""]
[null,null,"",null,""]
[null,null,"",null,""]
[null,null,"",null,""]
[null,null,"",null,""]
[null,null,"",null,""]
[null,null,"",null,""]
[null,null,"",null,""]
[null,null,"",null,""]
[null,null,"",null,""]
[null,null,"",null,""]
[null,null,"",null,""]
[null,null,"",null,""]
[null,null,"",null,""]
[null,null,"",null,""]
[null,null,"",null,""]
[null,null,"",null,""]
[null,null,"",null,""]
[null,null,"",null,""]
[null,null,"",null,""]
[null,null,"",null,""]
[null,null,"",null,""]
[null,null,"",null,""]
[null,null,"",null,""]
[null,null,"",null,""]
[null,null,"",null,""]
[null,null,"",null,""]
[null,null,"",null,""]
[null,null,"",null,""]
[null,null,"",null,""]
[null,null,"",null,""]
[null,null,"",null,""]
[null,null,"",null,""]
[null,null,"",null,""]
[null,null,"",null,""]
[null,null,"",null,""]
[null,null,"",null,""]
[null,null,"",null,""]
[null,null,"",null,""]
[null,null,"",null,""]
[null,null,"",null,""]
[null,null,"",null,""]
[null,null,"",null,""]
[null,null,{"$f":"IF(B2115=\"\",\"\",VLOOKUP(B2115,Itens,2,FALSE))","v":""},null,{"$f":"IF(B2115=\"\",\"\",VLOOKUP(B2115,Itens,3,FALSE))","v":""}]
[null,null,"",null,""]
[null,null,"",null,""]
[null,null,"",null,""]
[null,null,"",null,""]
[null,null,"",null,""]
[null,null,"",null,""]
[null,null,"",null,""]
[null,null,"",null,""]
[null,null,"",null,""]
[null,null,"",null,""]
[null,null,"",null,""]
[null,null,"",null,""]
[null,null,"",null,""]
[null,null,"",null,""]
[null,null,"",null,""]
[null,null,"",null,""]
[null,null,"",null,""]
[null,null,"",null,""]
[null,null,"",null,""]
[null,null,"",null,""]
[null,null,"",null,""]
[null,null,"",null,""]
[null,null,"",null,""]
[null,null,"",null,""]
[null,null,"",null,""]
[null,null,"",null,""]
[null,null,"",null,""]
[null,null,"",null,""]
[null,null,"",null,""]
[null,null,"",null,""]
[null,null,"",null,""]
[null,null,"",null,""]
[null,null,"",null,""]
[null,null,"",null,""]
[null,null,"",null,""]
[null,null,"",null,""]
[null,null,"",null,""]
[null,null,"",null,""]
[null,null,"",null,""]
[null,null,"",null,""]
[null,null,"",null,""]
[null,null,"",null,""]
[null,null,"",null,""]
[null,null,"",null,""]
[null,null,"",null,""]
[null,null,"",null,""]
[null,null,"",null,""]
[null,null,"",null,""]
[null,null,"",null,""]
[null,null,"",null,""]
[null,null,"",null,""]
[null,null,"",null,""]
[null,null,"",null,""]
[null,null,"",null,""]
[null,null,"",null,""]
[null,null,"",null,""]
[null,null,"",null,""]
[null,null,"",null,""]
[null,null,"",null,""]
[null,null,"",null,""]
[null,null,"",null,""]
[null,null,"",null,""]
[null,null,"",null,""]
[null,null,{"$f":"IF(B2179=\"\",\"\",VLOOKUP(B2179,Itens,2,FALSE))","v":""},null,{"$f":"IF(B2179=\"\",\"\",VLOOKUP(B2179,Itens,3,FALSE))","v":""}]
[null,null,"",null,""]
[null,null,"",null,""]
[null,null,"",null,""]
[null,null,"",null,""]
[null,null,"",null,""]
[null,null,"",null,""]
[null,null,"",null,""]
[null,null,"",null,""]
[null,null,"",null,""]
[null,null,"",null,""]
[null,null,"",null,""]
[null,null,"",null,""]
[null,null,"",null,""]
[null,null,"",null,""]
[null,null,"",null,""]
[null,null,"",null,""]
[null,null,"",null,""]
[null,null,"",null,""]
[null,null,"",null,""]
[null,null,"",null,""]
[null,null,"",null,""]
[null,null,"",null,""]
[null,null,"",null,""]
[null,null,"",null,""]
[null,null,"",null,""]
[null,null,"",null,""]
[null,null,"",null,""]
[null,null,"",null,""]
[null,null,"",null,""]
[null,null,"",null,""]
[null,null,"",null,""]
[null,null,"",null,""]
[null,null,"",null,""]
[null,null,"",null,""]
[null,null,"",null,""]
[null,null,"",null,""]
[null,null,"",null,""]
[null,null,"",null,""]
[null,null,"",null,""]
[null,null,"",null,""]
[null,null,"",null,""]
[null,null,"",null,""]
[null,null,"",null,""]
[null,null,"",null,""]
[null,null,"",null,""]
[null,null,"",null,""]
[null,null,"",null,""]
[null,null,"",null,""]
[null,null,"",null,""]
[null,null,"",null,""]
[null,null,"",null,""]
[null,null,"",null,""]
[null,null,"",null,""]
[null,null,"",null,""]
[null,null,"",null,""]
[null,null,"",null,""]
[null,null,"",null,""]
[null,null,"",null,""]
[null,null,"",null,""]
[null,null,"",null,""]
[null,null,"",null,""]
[null,null,"",null,""]
[null,null,"",null,""]
[null,null,{"$f":"IF(B2243=\"\",\"\",VLOOKUP(B2243,Itens,2,FALSE))","v":""},null,{"$f":"IF(B2243=\"\",\"\",VLOOKUP(B2243,Itens,3,FALSE))","v":""}]
[null,null,"",null,""]
[null,null,"",null,""]
[null,null,"",null,""]
[null,null,"",null,""]
[null,null,"",null,""]
[null,null,"",null,""]
[null,null,"",null,""]
[null,null,"",null,""]
[null,null,"",null,""]
[null,null,"",null,""]
[null,null,"",null,""]
[null,null,"",null,""]
[null,null,"",null,""]
[null,null,"",null,""]
[null,null,"",null,""]
[null,null,"",null,""]
[null,null,"",null,""]
[null,null,"",null,""]
[null,null,"",null,""]
[null,null,"",null,""]
[null,null,"",null,""]
[null,null,"",null,""]
[null,null,"",null,""]
[null,null,"",null,""]
[null,null,"",null,""]
[null,null,"",null,""]
[null,null,"",null,""]
[null,null,"",null,""]
[null,null,"",null,""]
[null,null,"",null,""]
[null,null,"",null,""]
[null,null,"",null,""]
[null,null,"",null,""]
[null,null,"",null,""]
[null,null,"",null,""]
[null,null,"",null,""]
[null,null,"",null,""]
[null,null,"",null,""]
[null,null,"",null,""]
[null,null,"",null,""]
[null,null,"",null,""]
[null,null,"",null,""]
[null,null,"",null,""]
[null,null,"",null,""]
[null,null,"",null,""]
[null,null,"",null,""]
[null,null,"",null,""]
[null,null,"",null,""]
[null,null,"",null,""]
[null,null,"",null,""]
[null,null,"",null,""]
[null,null,"",null,""]
[null,null,"",null,""]
[null,null,"",null,""]
[null,null,"",null,""]
[null,null,"",null,""]
[null,null,"",null,""]
[null,null,"",null,""]
[null,null,"",null,""]
[null,null,"",null,""]
[null,null,"",null,""]
[null,null,"",null,""]
[null,null,"",null,""]
[null,null,{"$f":"IF(B2307=\"\",\"\",VLOOKUP(B2307,Itens,2,FALSE))","v":""},null,{"$f":"IF(B2307=\"\",\"\",VLOOKUP(B2307,Itens,3,FALSE))","v":""}]
[null,null,"",null,""]
[null,null,"",null,""]
[null,null,"",null,""]
[null,null,"",null,""]
[null,null,"",null,""]
[null,null,"",null,""]
[null,null,"",null,""]
[null,null,"",null,""]
[null,null,"",null,""]
[null,null,"",null,""]
[null,null,"",null,""]
[null,null,"",null,""]
[null,null,"",null,""]
[null,null,"",null,""]
[null,null,"",null,""]
[null,null,"",null,""]
[null,null,"",null,""]
[null,null,"",null,""]
[null,null,"",null,""]
[null,null,"",null,""]
[null,null,"",null,""]
[null,null,"",null,""]
[null,null,"",null,""]
[null,null,"",null,""]
[null,null,"",null,""]
[null,null,"",null,""]
[null,null,"",null,""]
[null,null,"",null,""]
[null,null,"",null,""]
[null,null,"",null,""]
[null,null,"",null,""]
[null,null,"",null,""]
[null,null,"",null,""]
[null,null,"",null,""]
[null,null,"",null,""]
[null,null,"",null,""]
[null,null,"",null,""]
[null,null,"",null,""]
[null,null,"",null,""]
[null,null,"",null,""]
[null,null,"",null,""]
[null,null,"",null,""]
[null,null,"",null,""]
[null,null,"",null,""]
[null,null,"",null,""]
[null,null,"",null,""]
[null,null,"",null,""]
[null,null,"",null,""]
[null,null,"",null,""]
[null,null,"",null,""]
[null,null,"",null,""]
[null,null,"",null,""]
[null,null,"",null,""]
[null,null,"",null,""]
[null,null,"",null,""]
[null,null,"",null,""]
[null,null,"",null,""]
[null,null,"",null,""]
[null,null,"",null,""]
[null,null,"",null,""]
[null,null,"",null,""]
[null,null,"",null,""]
[null,null,"",null,""]
[null,null,{"$f":"IF(B2371=\"\",\"\",VLOOKUP(B2371,Itens,2,FALSE))","v":""},null,{"$f":"IF(B2371=\"\",\"\",VLOOKUP(B2371,Itens,3,FALSE))","v":""}]
[null,null,"",null,""]
[null,null,"",null,""]
[null,null,"",null,""]
[null,null,"",null,""]
[null,null,"",null,""]
[null,null,"",null,""]
[null,null,"",null,""]
[null,null,"",null,""]
[null,null,"",null,""]
[null,null,"",null,""]
[null,null,"",null,""]
[null,null,"",null,""]
[null,null,"",null,""]
[null,null,"",null,""]
[null,null,"",null,""]
[null,null,"",null,""]
[null,null,"",null,""]
[null,null,"",null,""]
[null,null,"",null,""]
[null,null,"",null,""]
[null,null,"",null,""]
[null,null,"",null,""]
[null,null,"",null,""]
[null,null,"",null,""]
[null,null,"",null,""]
[null,null,"",null,""]
[null,null,"",null,""]
[null,null,"",null,""]
[null,null,"",null,""]
[null,null,"",null,""]
[null,null,"",null,""]
[null,null,"",null,""]
[null,null,"",null,""]
[null,null,"",null,""]
[null,null,"",null,""]
[null,null,"",null,""]
[null,null,"",null,""]
[null,null,"",null,""]
[null,null,"",null,""]
[null,null,"",null,""]
[null,null,"",null,""]
[null,null,"",null,""]
[null,null,"",null,""]
[null,null,"",null,""]
[null,null,"",null,""]
[null,null,"",null,""]
[null,null,"",null,""]
[null,null,"",null,""]
[null,null,"",null,""]
[null,null,"",null,""]
[null,null,"",null,""]
[null,null,"",null,""]
[null,null,"",null,""]
[null,null,"",null,""]
[null,null,"",null,""]
[null,null,"",null,""]
[null,null,"",null,""]
[null,null,"",null,""]
[null,null,"",null,""]
[null,null,"",null,""]
[null,null,"",null,""]
[null,null,"",null,""]
[null,null,"",null,""]
[null,null,{"$f":"IF(B2435=\"\",\"\",VLOOKUP(B2435,Itens,2,FALSE))","v":""},null,{"$f":"IF(B2435=\"\",\"\",VLOOKUP(B2435,Itens,3,FALSE))","v":""}]
[null,null,"",null,""]
[null,null,"",null,""]
[null,null,"",null,""]
[null,null,"",null,""]
[null,null,"",null,""]
[null,null,"",null,""]
[null,null,"",null,""]
[null,null,"",null,""]
[null,null,"",null,""]
[null,null,"",null,""]
[null,null,"",null,""]
[null,null,"",null,""]
[null,null,"",null,""]
[null,null,"",null,""]
[null,null,"",null,""]
[null,null,"",null,""]
[null,null,"",null,""]
[null,null,"",null,""]
[null,null,"",null,""]
[null,null,"",null,""]
[null,null,"",null,""]
[null,null,"",null,""]
[null,null,"",null,""]
[null,null,"",null,""]
[null,null,"",null,""]
[null,null,"",null,""]
[null,null,"",null,""]
[null,null,"",null,""]
[null,null,"",null,""]
[null,null,"",null,""]
[null,null,"",null,""]
[null,null,"",null,""]
[null,null,"",null,""]
[null,null,"",null,""]
[null,null,"",null,""]
[null,null,"",null,""]
[null,null,"",null,""]
[null,null,"",null,""]
[null,null,"",null,""]
[null,null,"",null,""]
[null,null,"",null,""]
[null,null,"",null,""]
[null,null,"",null,""]
[null,null,"",null,""]
[null,null,"",null,""]
[null,null,"",null,""]
[null,null,"",null,""]
[null,null,"",null,""]
[null,null,"",null,""]
[null,null,"",null,""]
[null,null,"",null,""]
[null,null,"",null,""]
[null,null,"",null,""]
[null,null,"",null,""]
[null,null,"",null,""]
[null,null,"",null,""]
[null,null,"",null,""]
[null,null,"",null,""]
[null,null,"",null,""]
[null,null,"",null,""]
[null,null,"",null,""]
[null,null,"",null,""]
[null,null,"",null,""]
[null,null,{"$f":"IF(B2499=\"\",\"\",VLOOKUP(B2499,Itens,2,FALSE))","v":""},null,{"$f":"IF(B2499=\"\",\"\",VLOOKUP(B2499,Itens,3,FALSE))","v":""}]
[null,null,"",null,""]
[null,null,"",null,""]
[null,null,"",null,""]
[null,null,"",null,""]
[null,null,"",null,""]
[null,null,"",null,""]
[null,null,"",null,""]
[null,null,"",null,""]
[null,null,"",null,""]
[null,null,"",null,""]
[null,null,"",null,""]
[null,null,"",null,""]
[null,null,"",null,""]
[null,null,"",null,""]
[null,null,"",null,""]
[null,null,"",null,""]
[null,null,"",null,""]
[null,null,"",null,""]
[null,null,"",null,""]
[null,null,"",null,""]
[null,null,"",null,""]
[null,null,"",null,""]
[null,null,"",null,""]
[null,null,"",null,""]
[null,null,"",null,""]
[null,null,"",null,""]
[null,null,"",null,""]
[null,null,"",null,""]
[null,null,"",null,""]
[null,null,"",null,""]
[null,null,"",null,""]
[null,null,"",null,""]
[null,null,"",null,""]
[null,null,"",null,""]
[null,null,"",null,""]
[null,null,"",null,""]
[null,null,"",null,""]
[null,null,"",null,""]
[null,null,"",null,""]
[null,null,"",null,""]
[null,null,"",null,""]
[null,null,"",null,""]
[null,null,"",null,""]
[null,null,"",null,""]
[null,null,"",null,""]
[null,null,"",null,""]
[null,null,"",null,""]
[null,null,"",null,""]
[null,null,"",null,""]
[null,null,"",null,""]
[null,null,"",null,""]
[null,null,"",null,""]
[null,null,"",null,""]
[null,null,"",null,""]
[null,null,"",null,""]
[null,null,"",null,""]
[null,null,"",null,""]
[null,null,"",null,""]
[null,null,"",null,""]
[null,null,"",null,""]
[null,null,"",null,""]
[null,null,"",null,""]
[null,null,"",null,""]
[null,null,{"$f":"IF(B2563=\"\",\"\",VLOOKUP(B2563,Itens,2,FALSE))","v":""},null,{"$f":"IF(B2563=\"\",\"\",VLOOKUP(B2563,Itens,3,FALSE))","v":""}]
[null,null,"",null,""]
[null,null,"",null,""]
[null,null,"",null,""]
[null,null,"",null,""]
[null,null,"",null,""]
[null,null,"",null,""]
[null,null,"",null,""]
[null,null,"",null,""]
[null,null,"",null,""]
[null,null,"",null,""]
[null,null,"",null,""]
[null,null,"",null,""]
[null,null,"",null,""]
[null,null,"",null,""]
[null,null,"",null,""]
[null,null,"",null,""]
[null,null,"",null,""]
[null,null,"",null,""]
[null,null,"",null,""]
[null,null,"",null,""]
[null,null,"",null,""]
[null,null,"",null,""]
[null,null,"",null,""]
[null,null,"",null,""]
[null,null,"",null,""]
[null,null,"",null,""]
[null,null,"",null,""]
[null,null,"",null,""]
[null,null,"",null,""]
[null,null,"",null,""]
[null,null,"",null,""]
[null,null,"",null,""]
[null,null,"",null,""]
[null,null,"",null,""]
[null,null,"",null,""]
[null,null,"",null,""]
[null,null,"",null,""]
[null,null,"",null,""]
[null,null,"",null,""]
[null,null,"",null,""]
[null,null,"",null,""]
[null,null,"",null,""]
[null,null,"",null,""]
[null,null,"",null,""]
[null,null,"",null,""]
[null,null,"",null,""]
[null,null,"",null,""]
[null,null,"",null,""]
[null,null,"",null,""]
[null,null,"",null,""]
[null,null,"",null,""]
[null,null,"",null,""]
[null,null,"",null,""]
[null,null,"",null,""]
[null,null,"",null,""]
[null,null,"",null,""]
[null,null,"",null,""]
[null,null,"",null,""]
[null,null,"",null,""]
[null,null,"",null,""]
[null,null,"",null,""]
[null,null,"",null,""]
[null,null,"",null,""]
[null,null,{"$f":"IF(B2627=\"\",\"\",VLOOKUP(B2627,Itens,2,FALSE))","v":""},null,{"$f":"IF(B2627=\"\",\"\",VLOOKUP(B2627,Itens,3,FALSE))","v":""}]
[null,null,"",null,""]
[null,null,"",null,""]
[null,null,"",null,""]
[null,null,"",null,""]
[null,null,"",null,""]
[null,null,"",null,""]
[null,null,"",null,""]
[null,null,"",null,""]
[null,null,"",null,""]
[null,null,"",null,""]
[null,null,"",null,""]
[null,null,"",null,""]
[null,null,"",null,""]
[null,null,"",null,""]
[null,null,"",null,""]
[null,null,"",null,""]
[null,null,"",null,""]
[null,null,"",null,""]
[null,null,"",null,""]
[null,null,"",null,""]
[null,null,"",null,""]
[null,null,"",null,""]
[null,null,"",null,""]
[null,null,"",null,""]
[null,null,"",null,""]
[null,null,"",null,""]
[null,null,"",null,""]
[null,null,"",null,""]
[null,null,"",null,""]
[null,null,"",null,""]
[null,null,"",null,""]
[null,null,"",null,""]
[null,null,"",null,""]
[null,null,"",null,""]
[null,null,"",null,""]
[null,null,"",null,""]
[null,null,"",null,""]
[null,null,"",null,""]
[null,null,"",null,""]
[null,null,"",null,""]
[null,null,"",null,""]
[null,null,"",null,""]
[null,null,"",null,""]
[null,null,"",null,""]
[null,null,"",null,""]
[null,null,"",null,""]
[null,null,"",null,""]
[null,null,"",null,""]
[null,null,"",null,""]
[null,null,"",null,""]
[null,null,"",null,""]
[null,null,"",null,""]
[null,null,"",null,""]
[null,null,"",null,""]
[null,null,"",null,""]
[null,null,"",null,""]
[null,null,"",null,""]
[null,null,"",null,""]
[null,null,"",null,""]
[null,null,"",null,""]
[null,null,"",null,""]
[null,null,"",null,""]
[null,null,"",null,""]
[null,null,{"$f":"IF(B2691=\"\",\"\",VLOOKUP(B2691,Itens,2,FALSE))","v":""},null,{"$f":"IF(B2691=\"\",\"\",VLOOKUP(B2691,Itens,3,FALSE))","v":""}]
[null,null,"",null,""]
[null,null,"",null,""]
[null,null,"",null,""]
[null,null,"",null,""]
[null,null,"",null,""]
[null,null,"",null,""]
[null,null,"",null,""]
[null,null,"",null,""]
[null,null,"",null,""]
[null,null,"",null,""]
[null,null,"",null,""]
[null,null,"",null,""]
[null,null,"",null,""]
[null,null,"",null,""]
[null,null,"",null,""]
[null,null,"",null,""]
[null,null,"",null,""]
[null,null,"",null,""]
[null,null,"",null,""]
[null,null,"",null,""]
[null,null,"",null,""]
[null,null,"",null,""]
[null,null,"",null,""]
[null,null,"",null,""]
[null,null,"",null,""]
[null,null,"",null,""]
[null,null,"",null,""]
[null,null,"",null,""]
[null,null,"",null,""]
[null,null,"",null,""]
[null,null,"",null,""]
[null,null,"",null,""]
[null,null,"",null,""]
[null,null,"",null,""]
[null,null,"",null,""]
[null,null,"",null,""]
[null,null,"",null,""]
[null,null,"",null,""]
[null,null,"",null,""]
[null,null,"",null,""]
[null,null,"",null,""]
[null,null,"",null,""]
[null,null,"",null,""]
[null,null,"",null,""]
[null,null,"",null,""]
[null,null,"",null,""]
[null,null,"",null,""]
[null,null,"",null,""]
[null,null,"",null,""]
[null,null,"",null,""]
[null,null,"",null,""]
[null,null,"",null,""]
[null,null,"",null,""]
[null,null,"",null,""]
[null,null,"",null,""]
[null,null,"",null,""]
[null,null,"",null,""]
[null,null,"",null,""]
[null,null,"",null,""]
[null,null,"",null,""]
[null,null,"",null,""]
[null,null,"",null,""]
[null,null,"",null,""]
[null,null,{"$f":"IF(B2755=\"\",\"\",VLOOKUP(B2755,Itens,2,FALSE))","v":""},null,{"$f":"IF(B2755=\"\",\"\",VLOOKUP(B2755,Itens,3,FALSE))","v":""}]
[null,null,"",null,""]
[null,null,"",null,""]
[null,null,"",null,""]
[null,null,"",null,""]
[null,null,"",null,""]
[null,null,"",null,""]
[null,null,"",null,""]
[null,null,"",null,""]
[null,null,"",null,""]
[null,null,"",null,""]
[null,null,"",null,""]
[null,null,"",null,""]
[null,null,"",null,""]
[null,null,"",null,""]
[null,null,"",null,""]
[null,null,"",null,""]
[null,null,"",null,""]
[null,null,"",null,""]
[null,null,"",null,""]
[null,null,"",null,""]
[null,null,"",null,""]
[null,null,"",null,""]
[null,null,"",null,""]
[null,null,"",null,""]
[null,null,"",null,""]
[null,null,"",null,""]
[null,null,"",null,""]
[null,null,"",null,""]
[null,null,"",null,""]
[null,null,"",null,""]
[null,null,"",null,""]
[null,null,"",null,""]
[null,null,"",null,""]
[null,null,"",null,""]
[null,null,"",null,""]
[null,null,"",null,""]
[null,null,"",null,""]
[null,null,"",null,""]
[null,null,"",null,""]
[null,null,"",null,""]
[null,null,"",null,""]
[null,null,"",null,""]
[null,null,"",null,""]
[null,null,"",null,""]
[null,null,"",null,""]
[null,null,"",null,""]
[null,null,"",null,""]
[null,null,"",null,""]
[null,null,"",null,""]
[null,null,"",null,""]
[null,null,"",null,""]
[null,null,"",null,""]
[null,null,"",null,""]
[null,null,"",null,""]
[null,null,"",null,""]
[null,null,"",null,""]
[null,null,"",null,""]
[null,null,"",null,""]
[null,null,"",null,""]
[null,null,"",null,""]
[null,null,"",null,""]
[null,null,"",null,""]
[null,null,"",null,""]
[null,null,{"$f":"IF(B2819=\"\",\"\",VLOOKUP(B2819,Itens,2,FALSE))","v":""},null,{"$f":"IF(B2819=\"\",\"\",VLOOKUP(B2819,Itens,3,FALSE))","v":""}]
[null,null,"",null,""]
[null,null,"",null,""]
[null,null,"",null,""]
[null,null,"",null,""]
[null,null,"",null,""]
[null,null,"",null,""]
[null,null,"",null,""]
[null,null,"",null,""]
[null,null,"",null,""]
[null,null,"",null,""]
[null,null,"",null,""]
[null,null,"",null,""]
[null,null,"",null,""]
[null,null,"",null,""]
[null,null,"",null,""]
[null,null,"",null,""]
[null,null,"",null,""]
[null,null,"",null,""]
[null,null,"",null,""]
[null,null,"",null,""]
[null,null,"",null,""]
[null,null,"",null,""]
[null,null,"",null,""]
[null,null,"",null,""]
[null,null,"",null,""]
[null,null,"",null,""]
[null,null,"",null,""]
[null,null,"",null,""]
[null,null,"",null,""]
[null,null,"",null,""]
[null,null,"",null,""]
[null,null,"",null,""]
[null,null,"",null,""]
[null,null,"",null,""]
[null,null,"",null,""]
[null,null,"",null,""]
[null,null,"",null,""]
[null,null,"",null,""]
[null,null,"",null,""]
[null,null,"",null,""]
[null,null,"",null,""]
[null,null,"",null,""]
[null,null,"",null,""]
[null,null,"",null,""]
[null,null,"",null,""]
[null,null,"",null,""]
[null,null,"",null,""]
[null,null,"",null,""]
[null,null,"",null,""]
[null,null,"",null,""]
[null,null,"",null,""]
[null,null,"",null,""]
[null,null,"",null,""]
[null,null,"",null,""]
[null,null,"",null,""]
[null,null,"",null,""]
[null,null,"",null,""]
[null,null,"",null,""]
[null,null,"",null,""]
[null,null,"",null,""]
[null,null,"",null,""]
[null,null,"",null,""]
[null,null,"",null,""]
[null,null,{"$f":"IF(B2883=\"\",\"\",VLOOKUP(B2883,Itens,2,FALSE))","v":""},null,{"$f":"IF(B2883=\"\",\"\",VLOOKUP(B2883,Itens,3,FALSE))","v":""}]
[null,null,"",null,""]
[null,null,"",null,""]
[null,null,"",null,""]
[null,null,"",null,""]
[null,null,"",null,""]
[null,null,"",null,""]
[null,null,"",null,""]
[null,null,"",null,""]
[null,null,"",null,""]
[null,null,"",null,""]
[null,null,"",null,""]
[null,null,"",null,""]
[null,null,"",null,""]
[null,null,"",null,""]
[null,null,"",null,""]
[null,null,"",null,""]
[null,null,"",null,""]
[null,null,"",null,""]
[null,null,"",null,""]
[null,null,"",null,""]
[null,null,"",null,""]
[null,null,"",null,""]
[null,null,"",null,""]
[null,null,"",null,""]
[null,null,"",null,""]
[null,null,"",null,""]
[null,null,"",null,""]
[null,null,"",null,""]
[null,null,"",null,""]
[null,null,"",null,""]
[null,null,"",null,""]
[null,null,"",null,""]
[null,null,"",null,""]
[null,null,"",null,""]
[null,null,"",null,""]
[null,null,"",null,""]
[null,null,"",null,""]
[null,null,"",null,""]
[null,null,"",null,""]
[null,null,"",null,""]
[null,null,"",null,""]
[null,null,"",null,""]
[null,null,"",null,""]
[null,null,"",null,""]
[null,null,"",null,""]
[null,null,"",null,""]
[null,null,"",null,""]
[null,null,"",null,""]
[null,null,"",null,""]
[null,null,"",null,""]
[null,null,"",null,""]
[null,null,"",null,""]
[null,null,"",null,""]
[null,null,"",null,""]
[null,null,"",null,""]
[null,null,"",null,""]
[null,null,"",null,""]
[null,null,"",null,""]
[null,null,"",null,""]
[null,null,"",null,""]
[null,null,"",null,""]
[null,null,"",null,""]
[null,null,"",null,""]
[null,null,{"$f":"IF(B2947=\"\",\"\",VLOOKUP(B2947,Itens,2,FALSE))","v":""},null,{"$f":"IF(B2947=\"\",\"\",VLOOKUP(B2947,Itens,3,FALSE))","v":""}]
[null,null,"",null,""]
[null,null,"",null,""]
[null,null,"",null,""]
[null,null,"",null,""]
[null,null,"",null,""]
[null,null,"",null,""]
[null,null,"",null,""]
[null,null,"",null,""]
[null,null,"",null,""]
[null,null,"",null,""]
[null,null,"",null,""]
[null,null,"",null,""]
[null,null,"",null,""]
[null,null,"",null,""]
[null,null,"",null,""]
[null,null,"",null,""]
[null,null,"",null,""]
[null,null,"",null,""]
[null,null,"",null,""]
[null,null,"",null,""]
[null,null,"",null,""]
[null,null,"",null,""]
[null,null,"",null,""]
[null,null,"",null,""]
[null,null,"",null,""]
[null,null,"",null,""]
[null,null,"",null,""]
[null,null,"",null,""]
[null,null,"",null,""]
[null,null,"",null,""]
[null,null,"",null,""]
[null,null,"",null,""]
[null,null,"",null,""]
[null,null,"",null,""]
[null,null,"",null,""]
[null,null,"",null,""]
[null,null,"",null,""]
[null,null,"",null,""]
[null,null,"",null,""]
[null,null,"",null,""]
[null,null,"",null,""]
[null,null,"",null,""]
[null,null,"",null,""]
[null,null,"",null,""]
[null,null,"",null,""]
[null,null,"",null,""]
[null,null,"",null,""]
[null,null,"",null,""]
[null,null,"",null,""]
[null,null,"",null,""]
[null,null,"",null,""]
[null,null,"",null,""]
[null,null,"",null,""]
[null,null,"",null,""]
[null,null,"",null,""]
[null,null,"",null,""]
[null,null,"",null,""]
[null,null,"",null,""]
[null,null,"",null,""]
[null,null,"",null,""]
[null,null,"",null,""]
[null,null,"",null,""]
[null,null,"",null,""]
[null,null,{"$f":"IF(B3011=\"\",\"\",VLOOKUP(B3011,Itens,2,FALSE))","v":""},null,{"$f":"IF(B3011=\"\",\"\",VLOOKUP(B3011,Itens,3,FALSE))","v":""}]
[null,null,"",null,""]
[null,null,"",null,""]
[null,null,"",null,""]
[null,null,"",null,""]
[null,null,"",null,""]
[null,null,"",null,""]
[null,null,"",null,""]
[null,null,"",null,""]
[null,null,"",null,""]
[null,null,"",null,""]
[null,null,"",null,""]
[null,null,"",null,""]
[null,null,"",null,""]
[null,null,"",null,""]
[null,null,"",null,""]
[null,null,"",null,""]
[null,null,"",null,""]
[null,null,"",null,""]
[null,null,"",null,""]
[null,null,"",null,""]
[null,null,"",null,""]
[null,null,"",null,""]
[null,null,"",null,""]
[null,null,"",null,""]
[null,null,"",null,""]
[null,null,"",null,""]
[null,null,"",null,""]
[null,null,"",null,""]
[null,null,"",null,""]
[null,null,"",null,""]
[null,null,"",null,""]
[null,null,"",null,""]
[null,null,"",null,""]
[null,null,"",null,""]
[null,null,"",null,""]
[null,null,"",null,""]
[null,null,"",null,""]
[null,null,"",null,""]
[null,null,"",null,""]
[null,null,"",null,""]
[null,null,"",null,""]
[null,null,"",null,""]
[null,null,"",null,""]
[null,null,"",null,""]
[null,null,"",null,""]
[null,null,"",null,""]
[null,null,"",null,""]
[null,null,"",null,""]
[null,null,"",null,""]
[null,null,"",null,""]
[null,null,"",null,""]
[null,null,"",null,""]
[null,null,"",null,""]
[null,null,"",null,""]
[null,null,"",null,""]
[null,null,"",null,""]
[null,null,"",null,""]
[null,null,"",null,""]
[null,null,"",null,""]
[null,null,"",null,""]
[null,null,"",null,""]
[null,null,"",null,""]
[null,null,"",null,""]
[null,null,{"$f":"IF(B3075=\"\",\"\",VLOOKUP(B3075,Itens,2,FALSE))","v":""},null,{"$f":"IF(B3075=\"\",\"\",VLOOKUP(B3075,Itens,3,FALSE))","v":""}]
[null,null,"",null,""]
[null,null,"",null,""]
[null,null,"",null,""]
[null,null,"",null,""]
[null,null,"",null,""]
[null,null,"",null,""]
[null,null,"",null,""]
[null,null,"",null,""]
[null,null,"",null,""]
[null,null,"",null,""]
[null,null,"",null,""]
[null,null,"",null,""]
[null,null,"",null,""]
[null,null,"",null,""]
[null,null,"",null,""]
[null,null,"",null,""]
[null,null,"",null,""]
[null,null,"",null,""]
[null,null,"",null,""]
[null,null,"",null,""]
[null,null,"",null,""]
[null,null,"",null,""]
[null,null,"",null,""]
[null,null,"",null,""]
[null,null,"",null,""]
[null,null,"",null,""]
[null,null,"",null,""]
[null,null,"",null,""]
[null,null,"",null,""]
[null,null,"",null,""]
[null,null,"",null,""]
[null,null,"",null,""]
[null,null,"",null,""]
[null,null,"",null,""]
[null,null,"",null,""]
[null,null,"",null,""]
[null,null,"",null,""]
[null,null,"",null,""]
[null,null,"",null,""]
[null,null,"",null,""]
[null,null,"",null,""]
[null,null,"",null,""]
[null,null,"",null,""]
[null,null,"",null,""]
[null,null,"",null,""]
[null,null,"",null,""]
[null,null,"",null,""]
[null,null,"",null,""]
[null,null,"",null,""]
[null,null,"",null,""]
[null,null,"",null,""]
[null,null,"",null,""]
[null,null,"",null,""]
[null,null,"",null,""]
[null,null,"",null,""]
[null,null,"",null,""]
[null,null,"",null,""]
[null,null,"",null,""]
[null,null,"",null,""]
[null,null,"",null,""]
[null,null,"",null,""]
[null,null,"",null,""]
[null,null,"",null,""]
[null,null,{"$f":"IF(B3139=\"\",\"\",VLOOKUP(B3139,Itens,2,FALSE))","v":""},null,{"$f":"IF(B3139=\"\",\"\",VLOOKUP(B3139,Itens,3,FALSE))","v":""}]
[null,null,"",null,""]
[null,null,"",null,""]
[null,null,"",null,""]
[null,null,"",null,""]
[null,null,"",null,""]
[null,null,"",null,""]
[null,null,"",null,""]
[null,null,"",null,""]
[null,null,"",null,""]
[null,null,"",null,""]
[null,null,"",null,""]
[null,null,"",null,""]
[null,null,"",null,""]
[null,null,"",null,""]
[null,null,"",null,""]
[null,null,"",null,""]
[null,null,"",null,""]
[null,null,"",null,""]
[null,null,"",null,""]
[null,null,"",null,""]
[null,null,"",null,""]
[null,null,"",null,""]
[null,null,"",null,""]
[null,null,"",null,""]
[null,null,"",null,""]
[null,null,"",null,""]
[null,null,"",null,""]
[null,null,"",null,""]
[null,null,"",null,""]
[null,null,"",null,""]
[null,null,"",null,""]
[null,null,"",null,""]
[null,null,"",null,""]
[null,null,"",null,""]
[null,null,"",null,""]
[null,null,"",null,""]
[null,null,"",null,""]
[null,null,"",null,""]
[null,null,"",null,""]
[null,null,"",null,""]
[null,null,"",null,""]
[null,null,"",null,""]
[null,null,"",null,""]
[null,null,"",null,""]
[null,null,"",null,""]
[null,null,"",null,""]
[null,null,"",null,""]
[null,null,"",null,""]
[null,null,"",null,""]
[null,null,"",null,""]
[null,null,"",null,""]
[null,null,"",null,""]
[null,null,"",null,""]
[null,null,"",null,""]
[null,null,"",null,""]
[null,null,"",null,""]
[null,null,"",null,""]
[null,null,"",null,""]
[null,null,"",null,""]
[null,null,"",null,""]
[null,null,"",null,""]
[null,null,"",null,""]
[null,null,"",null,""]
[null,null,{"$f":"IF(B3203=\"\",\"\",VLOOKUP(B3203,Itens,2,FALSE))","v":""},null,{"$f":"IF(B3203=\"\",\"\",VLOOKUP(B3203,Itens,3,FALSE))","v":""}]
[null,null,"",null,""]
[null,null,"",null,""]
[null,null,"",null,""]
[null,null,"",null,""]
[null,null,"",null,""]
[null,null,"",null,""]
[null,null,"",null,""]
[null,null,"",null,""]
[null,null,"",null,""]
[null,null,"",null,""]
[null,null,"",null,""]
[null,null,"",null,""]
[null,null,"",null,""]
[null,null,"",null,""]
[null,null,"",null,""]
[null,null,"",null,""]
[null,null,"",null,""]
[null,null,"",null,""]
[null,null,"",null,""]
[null,null,"",null,""]
[null,null,"",null,""]
[null,null,"",null,""]
[null,null,"",null,""]
[null,null,"",null,""]
[null,null,"",null,""]
[null,null,"",null,""]
[null,null,"",null,""]
[null,null,"",null,""]
[null,null,"",null,""]
[null,null,"",null,""]
[null,null,"",null,""]
[null,null,"",null,""]
[null,null,"",null,""]
[null,null,"",null,""]
[null,null,"",null,""]
[null,null,"",null,""]
[null,null,"",null,""]
[null,null,"",null,""]
[null,null,"",null,""]
[null,null,"",null,""]
[null,null,"",null,""]
[null,null,"",null,""]
[null,null,"",null,""]
[null,null,"",null,""]
[null,null,"",null,""]
[null,null,"",null,""]
[null,null,"",null,""]
[null,null,"",null,""]
[null,null,"",null,""]
[null,null,"",null,""]
[null,null,"",null,""]
[null,null,"",null,""]
[null,null,"",null,""]
[null,null,"",null,""]
[null,null,"",null,""]
[null,null,"",null,""]
[null,null,"",null,""]
[null,null,"",null,""]
[null,null,"",null,""]
[null,null,"",null,""]
[null,null,"",null,""]
[null,null,"",null,""]
[null,null,"",null,""]
[null,null,{"$f":"IF(B3267=\"\",\"\",VLOOKUP(B3267,Itens,2,FALSE))","v":""},null,{"$f":"IF(B3267=\"\",\"\",VLOOKUP(B3267,Itens,3,FALSE))","v":""}]
[null,null,"",null,""]
[null,null,"",null,""]
[null,null,"",null,""]
[null,null,"",null,""]
[null,null,"",null,""]
[null,null,"",null,""]
[null,null,"",null,""]
[null,null,"",null,""]
[null,null,"",null,""]
[null,null,"",null,""]
[null,null,"",null,""]
[null,null,"",null,""]
[null,null,"",null,""]
[null,null,"",null,""]
[null,null,"",null,""]
[null,null,"",null,""]
[null,null,"",null,""]
[null,null,"",null,""]
[null,null,"",null,""]
[null,null,"",null,""]
[null,null,"",null,""]
[null,null,"",null,""]
[null,null,"",null,""]
[null,null,"",null,""]
[null,null,"",null,""]
[null,null,"",null,""]
[null,null,"",null,""]
[null,null,"",null,""]
[null,null,"",null,""]
[null,null,"",null,""]
[null,null,"",null,""]
[null,null,"",null,""]
[null,null,"",null,""]
[null,null,"",null,""]
[null,null,"",null,""]
[null,null,"",null,""]
[null,null,"",null,""]
[null,null,"",null,""]
[null,null,"",null,""]
[null,null,"",null,""]
[null,null,"",null,""]
[null,null,"",null,""]
[null,null,"",null,""]
[null,null,"",null,""]
[null,null,"",null,""]
[null,null,"",null,""]
[null,null,"",null,""]
[null,null,"",null,""]
[null,null,"",null,""]
[null,null,"",null,""]
[null,null,"",null,""]
[null,null,"",null,""]
[null,null,"",null,""]
[null,null,"",null,""]
[null,null,"",null,""]
[null,null,"",null,""]
[null,null,"",null,""]
[null,null,"",null,""]
[null,null,"",null,""]
[null,null,"",null,""]
[null,null,"",null,""]
[null,null,"",null,""]
[null,null,"",null,""]
[null,null,{"$f":"IF(B3331=\"\",\"\",VLOOKUP(B3331,Itens,2,FALSE))","v":""},null,{"$f":"IF(B3331=\"\",\"\",VLOOKUP(B3331,Itens,3,FALSE))","v":""}]
[null,null,"",null,""]
[null,null,"",null,""]
[null,null,"",null,""]
[null,null,"",null,""]
[null,null,"",null,""]
[null,null,"",null,""]
[null,null,"",null,""]
[null,null,"",null,""]
[null,null,"",null,""]
[null,null,"",null,""]
[null,null,"",null,""]
[null,null,"",null,""]
[null,null,"",null,""]
[null,null,"",null,""]
[null,null,"",null,""]
[null,null,"",null,""]
[null,null,"",null,""]
[null,null,"",null,""]
[null,null,"",null,""]
[null,null,"",null,""]
[null,null,"",null,""]
[null,null,"",null,""]
[null,null,"",null,""]
[null,null,"",null,""]
[null,null,"",null,""]
[null,null,"",null,""]
[null,null,"",null,""]
[null,null,"",null,""]
[null,null,"",null,""]
[null,null,"",null,""]
[null,null,"",null,""]
[null,null,"",null,""]
[null,null,"",null,""]
[null,null,"",null,""]
[null,null,"",null,""]
[null,null,"",null,""]
[null,null,"",null,""]
[null,null,"",null,""]
[null,null,"",null,""]
[null,null,"",null,""]
[null,null,"",null,""]
[null,null,"",null,""]
[null,null,"",null,""]
[null,null,"",null,""]
[null,null,"",null,""]
[null,null,"",null,""]
[null,null,"",null,""]
[null,null,"",null,""]
[null,null,"",null,""]
[null,null,"",null,""]
[null,null,"",null,""]
[null,null,"",null,""]
[null,null,"",null,""]
[null,null,"",null,""]
[null,null,"",null,""]
[null,null,"",null,""]
[null,null,"",null,""]
[null,null,"",null,""]
[null,null,"",null,""]
[null,null,"",null,""]
[null,null,"",null,""]
[null,null,"",null,""]
[null,null,"",null,""]
[null,null,{"$f":"IF(B3395=\"\",\"\",VLOOKUP(B3395,Itens,2,FALSE))","v":""},null,{"$f":"IF(B3395=\"\",\"\",VLOOKUP(B3395,Itens,3,FALSE))","v":""}]
[null,null,"",null,""]
[null,null,"",null,""]
[null,null,"",null,""]
[null,null,"",null,""]
[null,null,"",null,""]
[null,null,"",null,""]
[null,null,"",null,""]
[null,null,"",null,""]
[null,null,"",null,""]
[null,null,"",null,""]
[null,null,"",null,""]
[null,null,"",null,""]
[null,null,"",null,""]
[null,null,"",null,""]
[null,null,"",null,""]
[null,null,"",null,""]
[null,null,"",null,""]
[null,null,"",null,""]
[null,null,"",null,""]
[null,null,"",null,""]
[null,null,"",null,""]
[null,null,"",null,""]
[null,null,"",null,""]
[null,null,"",null,""]
[null,null,"",null,""]
[null,null,"",null,""]
[null,null,"",null,""]
[null,null,"",null,""]
[null,null,"",null,""]
[null,null,"",null,""]
[null,null,"",null,""]
[null,null,"",null,""]
[null,null,"",null,""]
[null,null,"",null,""]
[null,null,"",null,""]
[null,null,"",null,""]
[null,null,"",null,""]
[null,null,"",null,""]
[null,null,"",null,""]
[null,null,"",null,""]
[null,null,"",null,""]
[null,null,"",null,""]
[null,null,"",null,""]
[null,null,"",null,""]
[null,null,"",null,""]
[null,null,"",null,""]
[null,null,"",null,""]
[null,null,"",null,""]
[null,null,"",null,""]
[null,null,"",null,""]
[null,null,"",null,""]
[null,null,"",null,""]
[null,null,"",null,""]
[null,null,"",null,""]
[null,null,"",null,""]
[null,null,"",null,""]
[null,null,"",null,""]
[null,null,"",null,""]
[null,null,"",null,""]
[null,null,"",null,""]
[null,null,"",null,""]
[null,null,"",null,""]
[null,null,"",null,""]
[null,null,{"$f":"IF(B3459=\"\",\"\",VLOOKUP(B3459,Itens,2,FALSE))","v":""},null,{"$f":"IF(B3459=\"\",\"\",VLOOKUP(B3459,Itens,3,FALSE))","v":""}]
[null,null,"",null,""]
[null,null,"",null,""]
[null,null,"",null,""]
[null,null,"",null,""]
[null,null,"",null,""]
[null,null,"",null,""]
[null,null,"",null,""]
[null,null,"",null,""]
[null,null,"",null,""]
[null,null,"",null,""]
[null,null,"",null,""]
[null,null,"",null,""]
[null,null,"",null,""]
[null,null,"",null,""]
[null,null,"",null,""]
[null,null,"",null,""]
[null,null,"",null,""]
[null,null,"",null,""]
[null,null,"",null,""]
[null,null,"",null,""]
[null,null,"",null,""]
[null,null,"",null,""]
[null,null,"",null,""]
[null,null,"",null,""]
[null,null,"",null,""]
[null,null,"",null,""]
[null,null,"",null,""]
[null,null,"",null,""]
[null,null,"",null,""]
[null,null,"",null,""]
[null,null,"",null,""]
[null,null,"",null,""]
[null,null,"",null,""]
[null,null,"",null,""]
[null,null,"",null,""]
[null,null,"",null,""]
[null,null,"",null,""]
[null,null,"",null,""]
[null,null,"",null,""]
[null,null,"",null,""]
[null,null,"",null,""]
[null,null,"",null,""]
[null,null,"",null,""]
[null,null,"",null,""]
[null,null,"",null,""]
[null,null,"",null,""]
[null,null,"",null,""]
[null,null,"",null,""]
[null,null,"",null,""]
[null,null,"",null,""]
[null,null,"",null,""]
[null,null,"",null,""]
[null,null,"",null,""]
[null,null,"",null,""]
[null,null,"",null,""]
[null,null,"",null,""]
[null,null,"",null,""]
[null,null,"",null,""]
[null,null,"",null,""]
[null,null,"",null,""]
[null,null,"",null,""]
[null,null,"",null,""]
[null,null,"",null,""]
[null,null,{"$f":"IF(B3523=\"\",\"\",VLOOKUP(B3523,Itens,2,FALSE))","v":""},null,{"$f":"IF(B3523=\"\",\"\",VLOOKUP(B3523,Itens,3,FALSE))","v":""}]
[null,null,"",null,""]
[null,null,"",null,""]
[null,null,"",null,""]
[null,null,"",null,""]
[null,null,"",null,""]
[null,null,"",null,""]
[null,null,"",null,""]
[null,null,"",null,""]
[null,null,"",null,""]
[null,null,"",null,""]
[null,null,"",null,""]
[null,null,"",null,""]
[null,null,"",null,""]
[null,null,"",null,""]
[null,null,"",null,""]
[null,null,"",null,""]
[null,null,"",null,""]
[null,null,"",null,""]
[null,null,"",null,""]
[null,null,"",null,""]
[null,null,"",null,""]
[null,null,"",null,""]
[null,null,"",null,""]
[null,null,"",null,""]
[null,null,"",null,""]
[null,null,"",null,""]
[null,null,"",null,""]
[null,null,"",null,""]
[null,null,"",null,""]
[null,null,"",null,""]
[null,null,"",null,""]
[null,null,"",null,""]
[null,null,"",null,""]
[null,null,"",null,""]
[null,null,"",null,""]
[null,null,"",null,""]
[null,null,"",null,""]
[null,null,"",null,""]
[null,null,"",null,""]
[null,null,"",null,""]
[null,null,"",null,""]
[null,null,"",null,""]
[null,null,"",null,""]
[null,null,"",null,""]
[null,null,"",null,""]
[null,null,"",null,""]
[null,null,"",null,""]
[null,null,"",null,""]
[null,null,"",null,""]
[null,null,"",null,""]
[null,null,"",null,""]
[null,null,"",null,""]
[null,null,"",null,""]
[null,null,"",null,""]
[null,null,"",null,""]
[null,null,"",null,""]
[null,null,"",null,""]
[null,null,"",null,""]
[null,null,"",null,""]
[null,null,"",null,""]
[null,null,"",null,""]
[null,null,"",null,""]
[null,null,"",null,""]
[null,null,{"$f":"IF(B3587=\"\",\"\",VLOOKUP(B3587,Itens,2,FALSE))","v":""},null,{"$f":"IF(B3587=\"\",\"\",VLOOKUP(B3587,Itens,3,FALSE))","v":""}]
[null,null,"",null,""]
[null,null,"",null,""]
[null,null,"",null,""]
[null,null,"",null,""]
[null,null,"",null,""]
[null,null,"",null,""]
[null,null,"",null,""]
[null,null,"",null,""]
[null,null,"",null,""]
[null,null,"",null,""]
[null,null,"",null,""]
[null,null,"",null,""]
[null,null,"",null,""]
[null,null,"",null,""]
[null,null,"",null,""]
[null,null,"",null,""]
[null,null,"",null,""]
[null,null,"",null,""]
[null,null,"",null,""]
[null,null,"",null,""]
[null,null,"",null,""]
[null,null,"",null,""]
[null,null,"",null,""]
[null,null,"",null,""]
[null,null,"",null,""]
[null,null,"",null,""]
[null,null,"",null,""]
[null,null,"",null,""]
[null,null,"",null,""]
[null,null,"",null,""]
[null,null,"",null,""]
[null,null,"",null,""]
[null,null,"",null,""]
[null,null,"",null,""]
[null,null,"",null,""]
[null,null,"",null,""]
[null,null,"",null,""]
[null,null,"",null,""]
[null,null,"",null,""]
[null,null,"",null,""]
[null,null,"",null,""]
[null,null,"",null,""]
[null,null,"",null,""]
[null,null,"",null,""]
[null,null,"",null,""]
[null,null,"",null,""]
[null,null,"",null,""]
[null,null,"",null,""]
[null,null,"",null,""]
[null,null,"",null,""]
[null,null,"",null,""]
[null,null,"",null,""]
[null,null,"",null,""]
[null,null,"",null,""]
[null,null,"",null,""]
[null,null,"",null,""]
[null,null,"",null,""]
[null,null,"",null,""]
[null,null,"",null,""]
[null,null,"",null,""]
[null,null,"",null,""]
[null,null,"",null,""]
[null,null,"",null,""]
[null,null,{"$f":"IF(B3651=\"\",\"\",VLOOKUP(B3651,Itens,2,FALSE))","v":""},null,{"$f":"IF(B3651=\"\",\"\",VLOOKUP(B3651,Itens,3,FALSE))","v":""}]
[null,null,"",null,""]
[null,null,"",null,""]
[null,null,"",null,""]
[null,null,"",null,""]
[null,null,"",null,""]
[null,null,"",null,""]
[null,null,"",null,""]
[null,null,"",null,""]
[null,null,"",null,""]
[null,null,"",null,""]
[null,null,"",null,""]
[null,null,"",null,""]
[null,null,"",null,""]
[null,null,"",null,""]
[null,null,"",null,""]
[null,null,"",null,""]
[null,null,"",null,""]
[null,null,"",null,""]
[null,null,"",null,""]
[null,null,"",null,""]
[null,null,"",null,""]
[null,null,"",null,""]
[null,null,"",null,""]
[null,null,"",null,""]
[null,null,"",null,""]
[null,null,"",null,""]
[null,null,"",null,""]
[null,null,"",null,""]
[null,null,"",null,""]
[null,null,"",null,""]
[null,null,"",null,""]
[null,null,"",null,""]
[null,null,"",null,""]
[null,null,"",null,""]
[null,null,"",null,""]
[null,null,"",null,""]
[null,null,"",null,""]
[null,null,"",null,""]
[null,null,"",null,""]
[null,null,"",null,""]
[null,null,"",null,""]
[null,null,"",null,""]
[null,null,"",null,""]
[null,null,"",null,""]
[null,null,"",null,""]
[null,null,"",null,""]
[null,null,"",null,""]
[null,null,"",null,""]
[null,null,"",null,""]
[null,null,"",null,""]
[null,null,"",null,""]
[null,null,"",null,""]
[null,null,"",null,""]
[null,null,"",null,""]
[null,null,"",null,""]
[null,null,"",null,""]
[null,null,"",null,""]
[null,null,"",null,""]
[null,null,"",null,""]
[null,null,"",null,""]
[null,null,"",null,""]
[null,null,"",null,""]
[null,null,"",null,""]
[null,null,{"$f":"IF(B3715=\"\",\"\",VLOOKUP(B3715,Itens,2,FALSE))","v":""},null,{"$f":"IF(B3715=\"\",\"\",VLOOKUP(B3715,Itens,3,FALSE))","v":""}]
[null,null,"",null,""]
[null,null,"",null,""]
[null,null,"",null,""]
[null,null,"",null,""]
[null,null,"",null,""]
[null,null,"",null,""]
[null,null,"",null,""]
[null,null,"",null,""]
[null,null,"",null,""]
[null,null,"",null,""]
[null,null,"",null,""]
[null,null,"",null,""]
[null,null,"",null,""]
[null,null,"",null,""]
[null,null,"",null,""]
[null,null,"",null,""]
[null,null,"",null,""]
[null,null,"",null,""]
[null,null,"",null,""]
[null,null,"",null,""]
[null,null,"",null,""]
[null,null,"",null,""]
[null,null,"",null,""]
[null,null,"",null,""]
[null,null,"",null,""]
[null,null,"",null,""]
[null,null,"",null,""]
[null,null,"",null,""]
[null,null,"",null,""]
[null,null,"",null,""]
[null,null,"",null,""]
[null,null,"",null,""]
[null,null,"",null,""]
[null,null,"",null,""]
[null,null,"",null,""]
[null,null,"",null,""]
[null,null,"",null,""]
[null,null,"",null,""]
[null,null,"",null,""]
[null,null,"",null,""]
[null,null,"",null,""]
[null,null,"",null,""]
[null,null,"",null,""]
[null,null,"",null,""]
[null,null,"",null,""]
[null,null,"",null,""]
[null,null,"",null,""]
[null,null,"",null,""]
[null,null,"",null,""]
[null,null,"",null,""]
[null,null,"",null,""]
[null,null,"",null,""]
[null,null,"",null,""]
[null,null,"",null,""]
[null,null,"",null,""]
[null,null,"",null,""]
[null,null,"",null,""]
[null,null,"",null,""]
[null,null,"",null,""]
[null,null,"",null,""]
[null,null,"",null,""]
[null,null,"",null,""]
[null,null,"",null,""]
[null,null,{"$f":"IF(B3779=\"\",\"\",VLOOKUP(B3779,Itens,2,FALSE))","v":""},null,{"$f":"IF(B3779=\"\",\"\",VLOOKUP(B3779,Itens,3,FALSE))","v":""}]
[null,null,"",null,""]
[null,null,"",null,""]
[null,null,"",null,""]
[null,null,"",null,""]
[null,null,"",null,""]
[null,null,"",null,""]
[null,null,"",null,""]
[null,null,"",null,""]
[null,null,"",null,""]
[null,null,"",null,""]
[null,null,"",null,""]
[null,null,"",null,""]
[null,null,"",null,""]
[null,null,"",null,""]
[null,null,"",null,""]
[null,null,"",null,""]
[null,null,"",null,""]
[null,null,"",null,""]
[null,null,"",null,""]
[null,null,"",null,""]
[null,null,"",null,""]
[null,null,"",null,""]
[null,null,"",null,""]
[null,null,"",null,""]
[null,null,"",null,""]
[null,null,"",null,""]
[null,null,"",null,""]
[null,null,"",null,""]
[null,null,"",null,""]
[null,null,"",null,""]
[null,null,"",null,""]
[null,null,"",null,""]
[null,null,"",null,""]
[null,null,"",null,""]
[null,null,"",null,""]
[null,null,"",null,""]
[null,null,"",null,""]
[null,null,"",null,""]
[null,null,"",null,""]
[null,null,"",null,""]
[null,null,"",null,""]
[null,null,"",null,""]
[null,null,"",null,""]
[null,null,"",null,""]
[null,null,"",null,""]
[null,null,"",null,""]
[null,null,"",null,""]
[null,null,"",null,""]
[null,null,"",null,""]
[null,null,"",null,""]
[null,null,"",null,""]
[null,null,"",null,""]
[null,null,"",null,""]
[null,null,"",null,""]
[null,null,"",null,""]
[null,null,"",null,""]
[null,null,"",null,""]
[null,null,"",null,""]
[null,null,"",null,""]
[null,null,"",null,""]
[null,null,"",null,""]
[null,null,"",null,""]
[null,null,"",null,""]
[null,null,{"$f":"IF(B3843=\"\",\"\",VLOOKUP(B3843,Itens,2,FALSE))","v":""},null,{"$f":"IF(B3843=\"\",\"\",VLOOKUP(B3843,Itens,3,FALSE))","v":""}]
[null,null,"",null,""]
[null,null,"",null,""]
[null,null,"",null,""]
[null,null,"",null,""]
[null,null,"",null,""]
[null,null,"",null,""]
[null,null,"",null,""]
[null,null,"",null,""]
[null,null,"",null,""]
[null,null,"",null,""]
[null,null,"",null,""]
[null,null,"",null,""]
[null,null,"",null,""]
[null,null,"",null,""]
[null,null,"",null,""]
[null,null,"",null,""]
[null,null,"",null,""]
[null,null,"",null,""]
[null,null,"",null,""]
[null,null,"",null,""]
[null,null,"",null,""]
[null,null,"",null,""]
[null,null,"",null,""]
[null,null,"",null,""]
[null,null,"",null,""]
[null,null,"",null,""]
[null,null,"",null,""]
[null,null,"",null,""]
[null,null,"",null,""]
[null,null,"",null,""]
[null,null,"",null,""]
[null,null,"",null,""]
[null,null,"",null,""]
[null,null,"",null,""]
[null,null,"",null,""]
[null,null,"",null,""]
[null,null,"",null,""]
[null,null,"",null,""]
[null,null,"",null,""]
[null,null,"",null,""]
[null,null,"",null,""]
[null,null,"",null,""]
[null,null,"",null,""]
[null,null,"",null,""]
[null,null,"",null,""]
[null,null,"",null,""]
[null,null,"",null,""]
[null,null,"",null,""]
[null,null,"",null,""]
[null,null,"",null,""]
[null,null,"",null,""]
[null,null,"",null,""]
[null,null,"",null,""]
[null,null,"",null,""]
[null,null,"",null,""]
[null,null,"",null,""]
[null,null,"",null,""]
[null,null,"",null,""]
[null,null,"",null,""]
[null,null,"",null,""]
[null,null,"",null,""]
[null,null,"",null,""]
[null,null,"",null,""]
[null,null,{"$f":"IF(B3907=\"\",\"\",VLOOKUP(B3907,Itens,2,FALSE))","v":""},null,{"$f":"IF(B3907=\"\",\"\",VLOOKUP(B3907,Itens,3,FALSE))","v":""}]
[null,null,"",null,""]
[null,null,"",null,""]
[null,null,"",null,""]
[null,null,"",null,""]
[null,null,"",null,""]
[null,null,"",null,""]
[null,null,"",null,""]
[null,null,"",null,""]
[null,null,"",null,""]
[null,null,"",null,""]
[null,null,"",null,""]
[null,null,"",null,""]
[null,null,"",null,""]
[null,null,"",null,""]
[null,null,"",null,""]
[null,null,"",null,""]
[null,null,"",null,""]
[null,null,"",null,""]
[null,null,"",null,""]
[null,null,"",null,""]
[null,null,"",null,""]
[null,null,"",null,""]
[null,null,"",null,""]
[null,null,"",null,""]
[null,null,"",null,""]
[null,null,"",null,""]
[null,null,"",null,""]
[null,null,"",null,""]
[null,null,"",null,""]
[null,null,"",null,""]
[null,null,"",null,""]
[null,null,"",null,""]
[null,null,"",null,""]
[null,null,"",null,""]
[null,null,"",null,""]
[null,null,"",null,""]
[null,null,"",null,""]
[null,null,"",null,""]
[null,null,"",null,""]
[null,null,"",null,""]
[null,null,"",null,""]
[null,null,"",null,""]
[null,null,"",null,""]
[null,null,"",null,""]
[null,null,"",null,""]
[null,null,"",null,""]
[null,null,"",null,""]
[null,null,"",null,""]
[null,null,"",null,""]
[null,null,"",null,""]
[null,null,"",null,""]
[null,null,"",null,""]
[null,null,"",null,""]
[null,null,"",null,""]
[null,null,"",null,""]
[null,null,"",null,""]
[null,null,"",null,""]
[null,null,"",null,""]
[null,null,"",null,""]
[null,null,"",null,""]
[null,null,"",null,""]
[null,null,"",null,""]
[null,null,"",null,""]
[null,null,{"$f":"IF(B3971=\"\",\"\",VLOOKUP(B3971,Itens,2,FALSE))","v":""},null,{"$f":"IF(B3971=\"\",\"\",VLOOKUP(B3971,Itens,3,FALSE))","v":""}]
[null,null,"",null,""]
[null,null,"",null,""]
[null,null,"",null,""]
[null,null,"",null,""]
[null,null,"",null,""]
[null,null,"",null,""]
[null,null,"",null,""]
[null,null,"",null,""]
[null,null,"",null,""]
[null,null,"",null,""]
[null,null,"",null,""]
[null,null,"",null,""]
[null,null,"",null,""]
[null,null,"",null,""]
[null,null,"",null,""]
[null,null,"",null,""]
[null,null,"",null,""]
[null,null,"",null,""]
[null,null,"",null,""]
[null,null,"",null,""]
[null,null,"",null,""]
[null,null,"",null,""]
[null,null,"",null,""]
[null,null,"",null,""]
[null,null,"",null,""]
[null,null,"",null,""]
[null,null,"",null,""]
[null,null,"",null,""]
[null,null,"",null,""]
[null,null,"",null,""]
[null,null,"",null,""]
[null,null,"",null,""]
[null,null,"",null,""]
[null,null,"",null,""]
[null,null,"",null,""]
[null,null,"",null,""]
[null,null,"",null,""]
[null,null,"",null,""]
[null,null,"",null,""]
[null,null,"",null,""]
[null,null,"",null,""]
[null,null,"",null,""]
[null,null,"",null,""]
[null,null,"",null,""]
[null,null,"",null,""]
[null,null,"",null,""]
[null,null,"",null,""]
[null,null,"",null,""]
[null,null,"",null,""]
[null,null,"",null,""]
[null,null,"",null,""]
[null,null,"",null,""]
[null,null,"",null,""]
[null,null,"",null,""]
[null,null,"",null,""]
[null,null,"",null,""]
[null,null,"",null,""]
[null,null,"",null,""]
[null,null,"",null,""]
[null,null,"",null,""]
[null,null,"",null,""]
[null,null,"",null,""]
[null,null,"",null,""]
[null,null,{"$f":"IF(B4035=\"\",\"\",VLOOKUP(B4035,Itens,2,FALSE))","v":""},null,{"$f":"IF(B4035=\"\",\"\",VLOOKUP(B4035,Itens,3,FALSE))","v":""}]
[null,null,"",null,""]
[null,null,"",null,""]
[null,null,"",null,""]
[null,null,"",null,""]
[null,null,"",null,""]
[null,null,"",null,""]
[null,null,"",null,""]
[null,null,"",null,""]
[null,null,"",null,""]
[null,null,"",null,""]
[null,null,"",null,""]
[null,null,"",null,""]
[null,null,"",null,""]
[null,null,"",null,""]
[null,null,"",null,""]
[null,null,"",null,""]
[null,null,"",null,""]
[null,null,"",null,""]
[null,null,"",null,""]
[null,null,"",null,""]
[null,null,"",null,""]
[null,null,"",null,""]
[null,null,"",null,""]
[null,null,"",null,""]
[null,null,"",null,""]
[null,null,"",null,""]
[null,null,"",null,""]
[null,null,"",null,""]
[null,null,"",null,""]
[null,null,"",null,""]
[null,null,"",null,""]
[null,null,"",null,""]
[null,null,"",null,""]
[null,null,"",null,""]
[null,null,"",null,""]
[null,null,"",null,""]
[null,null,"",null,""]
[null,null,"",null,""]
[null,null,"",null,""]
[null,null,"",null,""]
[null,null,"",null,""]
[null,null,"",null,""]
[null,null,"",null,""]
[null,null,"",null,""]
[null,null,"",null,""]
[null,null,"",null,""]
[null,null,"",null,""]
[null,null,"",null,""]
[null,null,"",null,""]
[null,null,"",null,""]
[null,null,"",null,""]
[null,null,"",null,""]
[null,null,"",null,""]
[null,null,"",null,""]
[null,null,"",null,""]
[null,null,"",null,""]
[null,null,"",null,""]
[null,null,"",null,""]
[null,null,"",null,""]
[null,null,"",null,""]
[null,null,"",null,""]
[null,null,"",null,""]
[null,null,"",null,""]
[null,null,{"$f":"IF(B4099=\"\",\"\",VLOOKUP(B4099,Itens,2,FALSE))","v":""},null,{"$f":"IF(B4099=\"\",\"\",VLOOKUP(B4099,Itens,3,FALSE))","v":""}]
[null,null,"",null,""]
[null,null,"",null,""]
[null,null,"",null,""]
[null,null,"",null,""]
[null,null,"",null,""]
[null,null,"",null,""]
[null,null,"",null,""]
[null,null,"",null,""]
[null,null,"",null,""]
[null,null,"",null,""]
[null,null,"",null,""]
[null,null,"",null,""]
[null,null,"",null,""]
[null,null,"",null,""]
[null,null,"",null,""]
[null,null,"",null,""]
[null,null,"",null,""]
[null,null,"",null,""]
[null,null,"",null,""]
[null,null,"",null,""]
[null,null,"",null,""]
[null,null,"",null,""]
[null,null,"",null,""]
[null,null,"",null,""]
[null,null,"",null,""]
[null,null,"",null,""]
[null,null,"",null,""]
[null,null,"",null,""]
[null,null,"",null,""]
[null,null,"",null,""]
[null,null,"",null,""]
[null,null,"",null,""]
[null,null,"",null,""]
[null,null,"",null,""]
[null,null,"",null,""]
[null,null,"",null,""]
[null,null,"",null,""]
[null,null,"",null,""]
[null,null,"",null,""]
[null,null,"",null,""]
[null,null,"",null,""]
[null,null,"",null,""]
[null,null,"",null,""]
[null,null,"",null,""]
[null,null,"",null,""]
[null,null,"",null,""]
[null,null,"",null,""]
[null,null,"",null,""]
[null,null,"",null,""]
[null,null,"",null,""]
[null,null,"",null,""]
[null,null,"",null,""]
[null,null,"",null,""]
[null,null,"",null,""]
[null,null,"",null,""]
[null,null,"",null,""]
[null,null,"",null,""]
[null,null,"",null,""]
[null,null,"",null,""]
[null,null,"",null,""]
[null,null,"",null,""]
[null,null,"",null,""]
[null,null,"",null,""]
[null,null,{"$f":"IF(B4163=\"\",\"\",VLOOKUP(B4163,Itens,2,FALSE))","v":""},null,{"$f":"IF(B4163=\"\",\"\",VLOOKUP(B4163,Itens,3,FALSE))","v":""}]
[null,null,"",null,""]
[null,null,"",null,""]
[null,null,"",null,""]
[null,null,"",null,""]
[null,null,"",null,""]
[null,null,"",null,""]
[null,null,"",null,""]
[null,null,"",null,""]
[null,null,"",null,""]
[null,null,"",null,""]
[null,null,"",null,""]
[null,null,"",null,""]
[null,null,"",null,""]
[null,null,"",null,""]
[null,null,"",null,""]
[null,null,"",null,""]
[null,null,"",null,""]
[null,null,"",null,""]
[null,null,"",null,""]
[null,null,"",null,""]
[null,null,"",null,""]
[null,null,"",null,""]
[null,null,"",null,""]
[null,null,"",null,""]
[null,null,"",null,""]
[null,null,"",null,""]
[null,null,"",null,""]
[null,null,"",null,""]
[null,null,"",null,""]
[null,null,"",null,""]
[null,null,"",null,""]
[null,null,"",null,""]
[null,null,"",null,""]
[null,null,"",null,""]
[null,null,"",null,""]
[null,null,"",null,""]
[null,null,"",null,""]
[null,null,"",null,""]
[null,null,"",null,""]
[null,null,"",null,""]
[null,null,"",null,""]
[null,null,"",null,""]
[null,null,"",null,""]
[null,null,"",null,""]
[null,null,"",null,""]
[null,null,"",null,""]
[null,null,"",null,""]
[null,null,"",null,""]
[null,null,"",null,""]
[null,null,"",null,""]
[null,null,"",null,""]
[null,null,"",null,""]
[null,null,"",null,""]
[null,null,"",null,""]
[null,null,"",null,""]
[null,null,"",null,""]
[null,null,"",null,""]
[null,null,"",null,""]
[null,null,"",null,""]
[null,null,"",null,""]
[null,null,"",null,""]
[null,null,"",null,""]
[null,null,"",null,""]
[null,null,{"$f":"IF(B4227=\"\",\"\",VLOOKUP(B4227,Itens,2,FALSE))","v":""},null,{"$f":"IF(B4227=\"\",\"\",VLOOKUP(B4227,Itens,3,FALSE))","v":""}]
[null,null,"",null,""]
[null,null,"",null,""]
[null,null,"",null,""]
[null,null,"",null,""]
[null,null,"",null,""]
[null,null,"",null,""]
[null,null,"",null,""]
[null,null,"",null,""]
[null,null,"",null,""]
[null,null,"",null,""]
[null,null,"",null,""]
[null,null,"",null,""]
[null,null,"",null,""]
[null,null,"",null,""]
[null,null,"",null,""]
[null,null,"",null,""]
[null,null,"",null,""]
[null,null,"",null,""]
[null,null,"",null,""]
[null,null,"",null,""]
[null,null,"",null,""]
[null,null,"",null,""]
[null,null,"",null,""]
[null,null,"",null,""]
[null,null,"",null,""]
[null,null,"",null,""]
[null,null,"",null,""]
[null,null,"",null,""]
[null,null,"",null,""]
[null,null,"",null,""]
[null,null,"",null,""]
[null,null,"",null,""]
[null,null,"",null,""]
[null,null,"",null,""]
[null,null,"",null,""]
[null,null,"",null,""]
[null,null,"",null,""]
[null,null,"",null,""]
[null,null,"",null,""]
[null,null,"",null,""]
[null,null,"",null,""]
[null,null,"",null,""]
[null,null,"",null,""]
[null,null,"",null,""]
[null,null,"",null,""]
[null,null,"",null,""]
[null,null,"",null,""]
[null,null,"",null,""]
[null,null,"",null,""]
[null,null,"",null,""]
[null,null,"",null,""]
[null,null,"",null,""]
[null,null,"",null,""]
[null,null,"",null,""]
[null,null,"",null,""]
[null,null,"",null,""]
[null,null,"",null,""]
[null,null,"",null,""]
[null,null,"",null,""]
[null,null,"",null,""]
[null,null,"",null,""]
[null,null,"",null,""]
[null,null,"",null,""]
[null,null,{"$f":"IF(B4291=\"\",\"\",VLOOKUP(B4291,Itens,2,FALSE))","v":""},null,{"$f":"IF(B4291=\"\",\"\",VLOOKUP(B4291,Itens,3,FALSE))","v":""}]
[null,null,"",null,""]
[null,null,"",null,""]
[null,null,"",null,""]
[null,null,"",null,""]
[null,null,"",null,""]
[null,null,"",null,""]
[null,null,"",null,""]
[null,null,"",null,""]
[null,null,"",null,""]
[null,null,"",null,""]
[null,null,"",null,""]
[null,null,"",null,""]
[null,null,"",null,""]
[null,null,"",null,""]
[null,null,"",null,""]
[null,null,"",null,""]
[null,null,"",null,""]
[null,null,"",null,""]
[null,null,"",null,""]
[null,null,"",null,""]
[null,null,"",null,""]
[null,null,"",null,""]
[null,null,"",null,""]
[null,null,"",null,""]
[null,null,"",null,""]
[null,null,"",null,""]
[null,null,"",null,""]
[null,null,"",null,""]
[null,null,"",null,""]
[null,null,"",null,""]
[null,null,"",null,""]
[null,null,"",null,""]
[null,null,"",null,""]
[null,null,"",null,""]
[null,null,"",null,""]
[null,null,"",null,""]
[null,null,"",null,""]
[null,null,"",null,""]
[null,null,"",null,""]
[null,null,"",null,""]
[null,null,"",null,""]
[null,null,"",null,""]
[null,null,"",null,""]
[null,null,"",null,""]
[null,null,"",null,""]
[null,null,"",null,""]
[null,null,"",null,""]
[null,null,"",null,""]
[null,null,"",null,""]
[null,null,"",null,""]
[null,null,"",null,""]
[null,null,"",null,""]
[null,null,"",null,""]
[null,null,"",null,""]
[null,null,"",null,""]
[null,null,"",null,""]
[null,null,"",null,""]
[null,null,"",null,""]
[null,null,"",null,""]
[null,null,"",null,""]
[null,null,"",null,""]
[null,null,"",null,""]
[null,null,"",null,""]
[null,null,{"$f":"IF(B4355=\"\",\"\",VLOOKUP(B4355,Itens,2,FALSE))","v":""},null,{"$f":"IF(B4355=\"\",\"\",VLOOKUP(B4355,Itens,3,FALSE))","v":""}]
[null,null,"",null,""]
[null,null,"",null,""]
[null,null,"",null,""]
[null,null,"",null,""]
[null,null,"",null,""]
[null,null,"",null,""]
[null,null,"",null,""]
[null,null,"",null,""]
[null,null,"",null,""]
[null,null,"",null,""]
[null,null,"",null,""]
[null,null,"",null,""]
[null,null,"",null,""]
[null,null,"",null,""]
[null,null,"",null,""]
[null,null,"",null,""]
[null,null,"",null,""]
[null,null,"",null,""]
[null,null,"",null,""]
[null,null,"",null,""]
[null,null,"",null,""]
[null,null,"",null,""]
[null,null,"",null,""]
[null,null,"",null,""]
[null,null,"",null,""]
[null,null,"",null,""]
[null,null,"",null,""]
[null,null,"",null,""]
[null,null,"",null,""]
[null,null,"",null,""]
[null,null,"",null,""]
[null,null,"",null,""]
[null,null,"",null,""]
[null,null,"",null,""]
[null,null,"",null,""]
[null,null,"",null,""]
[null,null,"",null,""]
[null,null,"",null,""]
[null,null,"",null,""]
[null,null,"",null,""]
[null,null,"",null,""]
[null,null,"",null,""]
[null,null,"",null,""]
[null,null,"",null,""]
[null,null,"",null,""]
[null,null,"",null,""]
[null,null,"",null,""]
[null,null,"",null,""]
[null,null,"",null,""]
[null,null,"",null,""]
[null,null,"",null,""]
[null,null,"",null,""]
[null,null,"",null,""]
[null,null,"",null,""]
[null,null,"",null,""]
[null,null,"",null,""]
[null,null,"",null,""]
[null,null,"",null,""]
[null,null,"",null,""]
[null,null,"",null,""]
[null,null,"",null,""]
[null,null,"",null,""]
[null,null,"",null,""]
[null,null,{"$f":"IF(B4419=\"\",\"\",VLOOKUP(B4419,Itens,2,FALSE))","v":""},null,{"$f":"IF(B4419=\"\",\"\",VLOOKUP(B4419,Itens,3,FALSE))","v":""}]
[null,null,"",null,""]
[null,null,"",null,""]
[null,null,"",null,""]
[null,null,"",null,""]
[null,null,"",null,""]
[null,null,"",null,""]
[null,null,"",null,""]
[null,null,"",null,""]
[null,null,"",null,""]
[null,null,"",null,""]
[null,null,"",null,""]
[null,null,"",null,""]
[null,null,"",null,""]
[null,null,"",null,""]
[null,null,"",null,""]
[null,null,"",null,""]
[null,null,"",null,""]
[null,null,"",null,""]
[null,null,"",null,""]
[null,null,"",null,""]
[null,null,"",null,""]
[null,null,"",null,""]
[null,null,"",null,""]
[null,null,"",null,""]
[null,null,"",null,""]
[null,null,"",null,""]
[null,null,"",null,""]
[null,null,"",null,""]
[null,null,"",null,""]
[null,null,"",null,""]
[null,null,"",null,""]
[null,null,"",null,""]
[null,null,"",null,""]
[null,null,"",null,""]
[null,null,"",null,""]
[null,null,"",null,""]
[null,null,"",null,""]
[null,null,"",null,""]
[null,null,"",null,""]
[null,null,"",null,""]
[null,null,"",null,""]
[null,null,"",null,""]
[null,null,"",null,""]
[null,null,"",null,""]
[null,null,"",null,""]
[null,null,"",null,""]
[null,null,"",null,""]
[null,null,"",null,""]
[null,null,"",null,""]
[null,null,"",null,""]
[null,null,"",null,""]
[null,null,"",null,""]
[null,null,"",null,""]
[null,null,"",null,""]
[null,null,"",null,""]
[null,null,"",null,""]
[null,null,"",null,""]
[null,null,"",null,""]
[null,null,"",null,""]
[null,null,"",null,""]
[null,null,"",null,""]
[null,null,"",null,""]
[null,null,"",null,""]
[null,null,{"$f":"IF(B4483=\"\",\"\",VLOOKUP(B4483,Itens,2,FALSE))","v":""},null,{"$f":"IF(B4483=\"\",\"\",VLOOKUP(B4483,Itens,3,FALSE))","v":""}]
[null,null,"",null,""]
[null,null,"",null,""]
[null,null,"",null,""]
[null,null,"",null,""]
[null,null,"",null,""]
[null,null,"",null,""]
[null,null,"",null,""]
[null,null,"",null,""]
[null,null,"",null,""]
[null,null,"",null,""]
[null,null,"",null,""]
[null,null,"",null,""]
[null,null,"",null,""]
[null,null,"",null,""]
[null,null,"",null,""]
[null,null,"",null,""]
[null,null,"",null,""]
[null,null,"",null,""]
[null,null,"",null,""]
[null,null,"",null,""]
[null,null,"",null,""]
[null,null,"",null,""]
[null,null,"",null,""]
[null,null,"",null,""]
[null,null,"",null,""]
[null,null,"",null,""]
[null,null,"",null,""]
[null,null,"",null,""]
[null,null,"",null,""]
[null,null,"",null,""]
[null,null,"",null,""]
[null,null,"",null,""]
[null,null,"",null,""]
[null,null,"",null,""]
[null,null,"",null,""]
[null,null,"",null,""]
[null,null,"",null,""]
[null,null,"",null,""]
[null,null,"",null,""]
[null,null,"",null,""]
[null,null,"",null,""]
[null,null,"",null,""]
[null,null,"",null,""]
[null,null,"",null,""]
[null,null,"",null,""]
[null,null,"",null,""]
[null,null,"",null,""]
[null,null,"",null,""]
[null,null,"",null,""]
[null,null,"",null,""]
[null,null,"",null,""]
[null,null,"",null,""]
[null,null,"",null,""]
[null,null,"",null,""]
[null,null,"",null,""]
[null,null,"",null,""]
[null,null,"",null,""]
[null,null,"",null,""]
[null,null,"",null,""]
[null,null,"",null,""]
[null,null,"",null,""]
[null,null,"",null,""]
[null,null,"",null,""]
[null,null,{"$f":"IF(B4547=\"\",\"\",VLOOKUP(B4547,Itens,2,FALSE))","v":""},null,{"$f":"IF(B4547=\"\",\"\",VLOOKUP(B4547,Itens,3,FALSE))","v":""}]
[null,null,"",null,""]
[null,null,"",null,""]
[null,null,"",null,""]
[null,null,"",null,""]
[null,null,"",null,""]
[null,null,"",null,""]
[null,null,"",null,""]
[null,null,"",null,""]
[null,null,"",null,""]
[null,null,"",null,""]
[null,null,"",null,""]
[null,null,"",null,""]
[null,null,"",null,""]
[null,null,"",null,""]
[null,null,"",null,""]
[null,null,"",null,""]
[null,null,"",null,""]
[null,null,"",null,""]
[null,null,"",null,""]
[null,null,"",null,""]
[null,null,"",null,""]
[null,null,"",null,""]
[null,null,"",null,""]
[null,null,"",null,""]
[null,null,"",null,""]
[null,null,"",null,""]
[null,null,"",null,""]
[null,null,"",null,""]
[null,null,"",null,""]
[null,null,"",null,""]
[null,null,"",null,""]
[null,null,"",null,""]
[null,null,"",null,""]
[null,null,"",null,""]
[null,null,"",null,""]
[null,null,"",null,""]
[null,null,"",null,""]
[null,null,"",null,""]
[null,null,"",null,""]
[null,null,"",null,""]
[null,null,"",null,""]
[null,null,"",null,""]
[null,null,"",null,""]
[null,null,"",null,""]
[null,null,"",null,""]
[null,null,"",null,""]
[null,null,"",null,""]
[null,null,"",null,""]
[null,null,"",null,""]
[null,null,"",null,""]
[null,null,"",null,""]
[null,null,"",null,""]
[null,null,"",null,""]
[null,null,"",null,""]
[null,null,"",null,""]
[null,null,"",null,""]
[null,null,"",null,""]
[null,null,"",null,""]
[null,null,"",null,""]
[null,null,"",null,""]
[null,null,"",null,""]
[null,null,"",null,""]
[null,null,"",null,""]
[null,null,{"$f":"IF(B4611=\"\",\"\",VLOOKUP(B4611,Itens,2,FALSE))","v":""},null,{"$f":"IF(B4611=\"\",\"\",VLOOKUP(B4611,Itens,3,FALSE))","v":""}]
[null,null,"",null,""]
[null,null,"",null,""]
[null,null,"",null,""]
[null,null,"",null,""]
[null,null,"",null,""]
[null,null,"",null,""]
[null,null,"",null,""]
[null,null,"",null,""]
[null,null,"",null,""]
[null,null,"",null,""]
[null,null,"",null,""]
[null,null,"",null,""]
[null,null,"",null,""]
[null,null,"",null,""]
[null,null,"",null,""]
[null,null,"",null,""]
[null,null,"",null,""]
[null,null,"",null,""]
[null,null,"",null,""]
[null,null,"",null,""]
[null,null,"",null,""]
[null,null,"",null,""]
[null,null,"",null,""]
[null,null,"",null,""]
[null,null,"",null,""]
[null,null,"",null,""]
[null,null,"",null,""]
[null,null,"",null,""]
[null,null,"",null,""]
[null,null,"",null,""]
[null,null,"",null,""]
[null,null,"",null,""]
[null,null,"",null,""]
[null,null,"",null,""]
[null,null,"",null,""]
[null,null,"",null,""]
[null,null,"",null,""]
[null,null,"",null,""]
[null,null,"",null,""]
[null,null,"",null,""]
[null,null,"",null,""]
[null,null,"",null,""]
[null,null,"",null,""]
[null,null,"",null,""]
[null,null,"",null,""]
[null,null,"",null,""]
[null,null,"",null,""]
[null,null,"",null,""]
[null,null,"",null,""]
[null,null,"",null,""]
[null,null,"",null,""]
[null,null,"",null,""]
[null,null,"",null,""]
[null,null,"",null,""]
[null,null,"",null,""]
[null,null,"",null,""]
[null,null,"",null,""]
[null,null,"",null,""]
[null,null,"",null,""]
[null,null,"",null,""]
[null,null,"",null,""]
[null,null,"",null,""]
[null,null,"",null,""]
[null,null,{"$f":"IF(B4675=\"\",\"\",VLOOKUP(B4675,Itens,2,FALSE))","v":""},null,{"$f":"IF(B4675=\"\",\"\",VLOOKUP(B4675,Itens,3,FALSE))","v":""}]
[null,null,"",null,""]
[null,null,"",null,""]
[null,null,"",null,""]
[null,null,"",null,""]
[null,null,"",null,""]
[null,null,"",null,""]
[null,null,"",null,""]
[null,null,"",null,""]
[null,null,"",null,""]
[null,null,"",null,""]
[null,null,"",null,""]
[null,null,"",null,""]
[null,null,"",null,""]
[null,null,"",null,""]
[null,null,"",null,""]
[null,null,"",null,""]
[null,null,"",null,""]
[null,null,"",null,""]
[null,null,"",null,""]
[null,null,"",null,""]
[null,null,"",null,""]
[null,null,"",null,""]
[null,null,"",null,""]
[null,null,"",null,""]
[null,null,"",null,""]
[null,null,"",null,""]
[null,null,"",null,""]
[null,null,"",null,""]
[null,null,"",null,""]
[null,null,"",null,""]
[null,null,"",null,""]
[null,null,"",null,""]
[null,null,"",null,""]
[null,null,"",null,""]
[null,null,"",null,""]
[null,null,"",null,""]
[null,null,"",null,""]
[null,null,"",null,""]
[null,null,"",null,""]
[null,null,"",null,""]
[null,null,"",null,""]
[null,null,"",null,""]
[null,null,"",null,""]
[null,null,"",null,""]
[null,null,"",null,""]
[null,null,"",null,""]
[null,null,"",null,""]
[null,null,"",null,""]
[null,null,"",null,""]
[null,null,"",null,""]
[null,null,"",null,""]
[null,null,"",null,""]
[null,null,"",null,""]
[null,null,"",null,""]
[null,null,"",null,""]
[null,null,"",null,""]
[null,null,"",null,""]
[null,null,"",null,""]
[null,null,"",null,""]
[null,null,"",null,""]
[null,null,"",null,""]
[null,null,"",null,""]
[null,null,"",null,""]
[null,null,{"$f":"IF(B4739=\"\",\"\",VLOOKUP(B4739,Itens,2,FALSE))","v":""},null,{"$f":"IF(B4739=\"\",\"\",VLOOKUP(B4739,Itens,3,FALSE))","v":""}]
[null,null,"",null,""]
[null,null,"",null,""]
[null,null,"",null,""]
[null,null,"",null,""]
[null,null,"",null,""]
[null,null,"",null,""]
[null,null,"",null,""]
[null,null,"",null,""]
[null,null,"",null,""]
[null,null,"",null,""]
[null,null,"",null,""]
[null,null,"",null,""]
[null,null,"",null,""]
[null,null,"",null,""]
[null,null,"",null,""]
[null,null,"",null,""]
[null,null,"",null,""]
[null,null,"",null,""]
[null,null,"",null,""]
[null,null,"",null,""]
[null,null,"",null,""]
[null,null,"",null,""]
[null,null,"",null,""]
[null,null,"",null,""]
[null,null,"",null,""]
[null,null,"",null,""]
[null,null,"",null,""]
[null,null,"",null,""]
[null,null,"",null,""]
[null,null,"",null,""]
[null,null,"",null,""]
[null,null,"",null,""]
[null,null,"",null,""]
[null,null,"",null,""]
[null,null,"",null,""]
[null,null,"",null,""]
[null,null,"",null,""]
[null,null,"",null,""]
[null,null,"",null,""]
[null,null,"",null,""]
[null,null,"",null,""]
[null,null,"",null,""]
[null,null,"",null,""]
[null,null,"",null,""]
[null,null,"",null,""]
[null,null,"",null,""]
[null,null,"",null,""]
[null,null,"",null,""]
[null,null,"",null,""]
[null,null,"",null,""]
[null,null,"",null,""]
[null,null,"",null,""]
[null,null,"",null,""]
[null,null,"",null,""]
[null,null,"",null,""]
[null,null,"",null,""]
[null,null,"",null,""]
[null,null,"",null,""]
[null,null,"",null,""]
[null,null,"",null,""]
[null,null,"",null,""]
[null,null,"",null,""]
[null,null,"",null,""]
[null,null,{"$f":"IF(B4803=\"\",\"\",VLOOKUP(B4803,Itens,2,FALSE))","v":""},null,{"$f":"IF(B4803=\"\",\"\",VLOOKUP(B4803,Itens,3,FALSE))","v":""}]
[null,null,"",null,""]
[null,null,"",null,""]
[null,null,"",null,""]
[null,null,"",null,""]
[null,null,"",null,""]
[null,null,"",null,""]
[null,null,"",null,""]
[null,null,"",null,""]
[null,null,"",null,""]
[null,null,"",null,""]
[null,null,"",null,""]
[null,null,"",null,""]
[null,null,"",null,""]
[null,null,"",null,""]
[null,null,"",null,""]
[null,null,"",null,""]
[null,null,"",null,""]
[null,null,"",null,""]
[null,null,"",null,""]
[null,null,"",null,""]
[null,null,"",null,""]
[null,null,"",null,""]
[null,null,"",null,""]
[null,null,"",null,""]
[null,null,"",null,""]
[null,null,"",null,""]
[null,null,"",null,""]
[null,null,"",null,""]
[null,null,"",null,""]
[null,null,"",null,""]
[null,null,"",null,""]
[null,null,"",null,""]
[null,null,"",null,""]
[null,null,"",null,""]
[null,null,"",null,""]
[null,null,"",null,""]
[null,null,"",null,""]
[null,null,"",null,""]
[null,null,"",null,""]
[null,null,"",null,""]
[null,null,"",null,""]
[null,null,"",null,""]
[null,null,"",null,""]
[null,null,"",null,""]
[null,null,"",null,""]
[null,null,"",null,""]
[null,null,"",null,""]
[null,null,"",null,""]
[null,null,"",null,""]
[null,null,"",null,""]
[null,null,"",null,""]
[null,null,"",null,""]
[null,null,"",null,""]
[null,null,"",null,""]
[null,null,"",null,""]
[null,null,"",null,""]
[null,null,"",null,""]
[null,null,"",null,""]
[null,null,"",null,""]
[null,null,"",null,""]
[null,null,"",null,""]
[null,null,"",null,""]
[null,null,"",null,""]
[null,null,{"$f":"IF(B4867=\"\",\"\",VLOOKUP(B4867,Itens,2,FALSE))","v":""},null,{"$f":"IF(B4867=\"\",\"\",VLOOKUP(B4867,Itens,3,FALSE))","v":""}]
[null,null,"",null,""]
[null,null,"",null,""]
[null,null,"",null,""]
[null,null,"",null,""]
[null,null,"",null,""]
[null,null,"",null,""]
[null,null,"",null,""]
[null,null,"",null,""]
[null,null,"",null,""]
[null,null,"",null,""]
[null,null,"",null,""]
[null,null,"",null,""]
[null,null,"",null,""]
[null,null,"",null,""]
[null,null,"",null,""]
[null,null,"",null,""]
[null,null,"",null,""]
[null,null,"",null,""]
[null,null,"",null,""]
[null,null,"",null,""]
[null,null,"",null,""]
[null,null,"",null,""]
[null,null,"",null,""]
[null,null,"",null,""]
[null,null,"",null,""]
[null,null,"",null,""]
[null,null,"",null,""]
[null,null,"",null,""]
[null,null,"",null,""]
[null,null,"",null,""]
[null,null,"",null,""]
[null,null,"",null,""]
[null,null,"",null,""]
[null,null,"",null,""]
[null,null,"",null,""]
[null,null,"",null,""]
[null,null,"",null,""]
[null,null,"",null,""]
[null,null,"",null,""]
[null,null,"",null,""]
[null,null,"",null,""]
[null,null,"",null,""]
[null,null,"",null,""]
[null,null,"",null,""]
[null,null,"",null,""]
[null,null,"",null,""]
[null,null,"",null,""]
[null,null,"",null,""]
[null,null,"",null,""]
[null,null,"",null,""]
[null,null,"",null,""]
[null,null,"",null,""]
[null,null,"",null,""]
[null,null,"",null,""]
[null,null,"",null,""]
[null,null,"",null,""]
[null,null,"",null,""]
[null,null,"",null,""]
[null,null,"",null,""]
[null,null,"",null,""]
[null,null,"",null,""]
[null,null,"",null,""]
[null,null,"",null,""]
[null,null,{"$f":"IF(B4931=\"\",\"\",VLOOKUP(B4931,Itens,2,FALSE))","v":""},null,{"$f":"IF(B4931=\"\",\"\",VLOOKUP(B4931,Itens,3,FALSE))","v":""}]
[null,null,"",null,""]
[null,null,"",null,""]
[null,null,"",null,""]
[null,null,"",null,""]
[null,null,"",null,""]
[null,null,"",null,""]
[null,null,"",null,""]
[null,null,"",null,""]
[null,null,"",null,""]
[null,null,"",null,""]
[null,null,"",null,""]
[null,null,"",null,""]
[null,null,"",null,""]
[null,null,"",null,""]
[null,null,"",null,""]
[null,null,"",null,""]
[null,null,"",null,""]
[null,null,"",null,""]
[null,null,"",null,""]
[null,null,"",null,""]
[null,null,"",null,""]
[null,null,"",null,""]
[null,null,"",null,""]
[null,null,"",null,""]
[null,null,"",null,""]
[null,null,"",null,""]
[null,null,"",null,""]
[null,null,"",null,""]
[null,null,"",null,""]
[null,null,"",null,""]
[null,null,"",null,""]
[null,null,"",null,""]
[null,null,"",null,""]
[null,null,"",null,""]
[null,null,"",null,""]
[null,null,"",null,""]
[null,null,"",null,""]
[null,null,"",null,""]
[null,null,"",null,""]
[null,null,"",null,""]
[null,null,"",null,""]
[null,null,"",null,""]
[null,null,"",null,""]
[null,null,"",null,""]
[null,null,"",null,""]
[null,null,"",null,""]
[null,null,"",null,""]
[null,null,"",null,""]
[null,null,"",null,""]
[null,null,"",null,""]
[null,null,"",null,""]
[null,null,"",null,""]
[null,null,"",null,""]
[null,null,"",null,""]
[null,null,"",null,""]
[null,null,"",null,""]
[null,null,"",null,""]
[null,null,"",null,""]
[null,null,"",null,""]
[null,null,"",null,""]
[null,null,"",null,""]
[null,null,"",null,""]
[null,null,"",null,""]
[null,null,{"$f":"IF(B4995=\"\",\"\",VLOOKUP(B4995,Itens,2,FALSE))","v":""},null,{"$f":"IF(B4995=\"\",\"\",VLOOKUP(B4995,Itens,3,FALSE))","v":""}]
[null,null,"",null,""]
[null,null,"",null,""]
[null,null,"",null,""]
[null,null,"",null,""]
[null,null,"",null,""]
[null,null,"",null,""]
[null,null,"",null,""]
[null,null,"",null,""]

{"sheet":"Vendas","index":6,"n_rows":5003,"n_cols":16,"rows_kept":5003,"cut":false,"hidden":false,"merged":[[12,15,12,24],[2,14,9,18],[0,0,0,12]]}
["Vendas realizadas"]
["Data da Venda","Cód do Cliente","Nome do Cliente","Cód do Produto","Descrição","UND","QTD. Vendida","Preço de Venda","Total da compra","Status","Rastreamento","Rastreie aqui","Mês"]
["2024-02-03","c001",{"$f":"IFERROR(IF(B3=\"\",\"\",VLOOKUP(B3,Clientes,2,FALSE)),\"\")","v":"Maria Madalena"},"FS500",{"$f":"IF(D3=\"\",\"\",VLOOKUP(D3,Itens,2,FALSE))","v":"Chamex - Papel Sulfite, A4, 75g, 500 folhas"},{"$f":"IF(D3=\"\",\"\",VLOOKUP(D3,Itens,3,FALSE))","v":"Un"},1,{"$f":"IFERROR(IF(D3=\"\",\"\",INDEX(Entradas!$H$3:$H$5000,MATCH(A3,IF(Entradas!$B$3:$B$5000=D3,Entradas!$A$3:$A$5000),1))),\"Preço não registrado\")","v":32},{"$f":"IFERROR(G3*H3,\"\")","v":32},"Entregue","OA579032108BR",{"$f":"IF(K3=\"\",\"\",HYPERLINK($P$13&K3,\"Rastreie aqui\"))","v":"Rastreie aqui"},{"$f":"IF(A3=\"\",\"\",PROPER(TEXT(A3,\"mmmm\")))","v":"Fevereiro"},null,"INSTRUÇÕES DE PREENCHIMENTO\n\nCadastre aqui suas vendas inserindo os dados do cliente e dos respectivos produtos que ele comprou."]
["2024-02-04","c002","João da Silva","BL50F",{"$f":"IF(D4=\"\",\"\",VLOOKUP(D4,Itens,2,FALSE))","v":"Bloco refil grande pautado 90g com 50 folhas"},"Un",2,{"$f":"IFERROR(IF(D4=\"\",\"\",INDEX(Entradas!$H$3:$H$5000,MATCH(A4,IF(Entradas!$B$3:$B$5000=D4,Entradas!$A$3:$A$5000),1))),\"Preço não registrado\")","v":31.9},{"$f":"IFERROR(G4*H4,\"\")","v":63.8},"Despachado","OA579032108BR",{"$f":"IF(K4=\"\",\"\",HYPERLINK($P$13&K4,\"Rastreie aqui\"))","v":"Rastreie aqui"},{"$f":"IF(A4=\"\",\"\",TEXT(A4,\"mmmm\"))","v":"fevereiro"}]
["2024-02-05","c003","Julio Cesar","LPR2HB14UN","Lápis Preto Redondo Nº2HB, Faber-Castell 14 Unidades","Un",2,{"$f":"IFERROR(IF(D5=\"\",\"\",INDEX(Entradas!$H$3:$H$5000,MATCH(A5,IF(Entradas!$B$3:$B$5000=D5,Entradas!$A$3:$A$5000),1))),\"Preço não registrado\")","v":11.9},23.8,"Despachado","OA579032108BR","Rastreie aqui","fevereiro"]
["2024-02-06","c003","Julio Cesar","L1205","Faber-Castell EcoLápis 1205 Max Preto Nº 2B 6 Unidades","Un",3,{"$f":"IFERROR(IF(D6=\"\",\"\",INDEX(Entradas!$H$3:$H$5000,MATCH(A6,IF(Entradas!$B$3:$B$5000=D6,Entradas!$A$3:$A$5000),1))),\"Preço não registrado\")","v":5.9},17.700000000000003,"Despachado","OA579032108BR","Rastreie aqui","fevereiro"]
["2024-02-07","c004","Ricardo Soares","TB10M","Tilibra 305421 Universitário 10 Matérias Zip","Un",1,{"$f":"IFERROR(IF(D7=\"\",\"\",INDEX(Entradas!$H$3:$H$5000,MATCH(A7,IF(Entradas!$B$3:$B$5000=D7,Entradas!$A$3:$A$5000),1))),\"Preço não registrado\")","v":18.5},18.5,"Despachado","OA579032108BR","Rastreie aqui","fevereiro"]
["2024-02-08","c002","João da Silva","L1205","Faber-Castell EcoLápis 1205 Max Preto Nº 2B 6 Unidades","Un",3,{"$f":"IFERROR(IF(D8=\"\",\"\",INDEX(Entradas!$H$3:$H$5000,MATCH(A8,IF(Entradas!$B$3:$B$5000=D8,Entradas!$A$3:$A$5000),1))),\"Preço não registrado\")","v":5.9},17.700000000000003,"Despachado","OA579032108BR","Rastreie aqui","fevereiro"]
["2024-02-09","c001","Maria Madalena","L1205","Faber-Castell EcoLápis 1205 Max Preto Nº 2B 6 Unidades","Un",5,{"$f":"IFERROR(IF(D9=\"\",\"\",INDEX(Entradas!$H$3:$H$5000,MATCH(A9,IF(Entradas!$B$3:$B$5000=D9,Entradas!$A$3:$A$5000),1))),\"Preço não registrado\")","v":5.9},29.5,"Despachado","OA579032108BR","Rastreie aqui","fevereiro"]
["2024-02-10","c001","Maria Madalena","TB10M","Tilibra 305421 Universitário 10 Matérias Zip","Un",2,{"$f":"IFERROR(IF(D10=\"\",\"\",INDEX(Entradas!$H$3:$H$5000,MATCH(A10,IF(Entradas!$B$3:$B$5000=D10,Entradas!$A$3:$A$5000),1))),\"Preço não registrado\")","v":18.5},37,"Despachado","OA579032108BR","Rastreie aqui","fevereiro"]
["2024-02-11","c005","Jose Ricardo","BL50F","Bloco refil grande pautado 90g com 50 folhas","Un",1,{"$f":"IFERROR(IF(D11=\"\",\"\",INDEX(Entradas!$H$3:$H$5000,MATCH(A11,IF(Entradas!$B$3:$B$5000=D11,Entradas!$A$3:$A$5000),1))),\"Preço não registrado\")","v":31.9},31.9,"Despachado","OA579032108BR","Rastreie aqui","fevereiro"]
["2024-06-12","c001","Maria Madalena","FS500","Chamex - Papel Sulfite, A4, 75g, 500 folhas","Un",5,{"$f":"IFERROR(IF(D12=\"\",\"\",INDEX(Entradas!$H$3:$H$5000,MATCH(A12,IF(Entradas!$B$3:$B$5000=D12,Entradas!$A$3:$A$5000),1))),\"Preço não registrado\")","v":45},225,"A enviar",null,"","junho"]
[null,null,"",null,"","",null,{"$f":"IFERROR(IF(D13=\"\",\"\",INDEX(Entradas!$H$3:$H$5000,MATCH(A13,IF(Entradas!$B$3:$B$5000=D13,Entradas!$A$3:$A$5000),1))),\"Preço não registrado\")","v":""},"",null,null,"","",null,null,"https://rastreamentocorreios.info/consulta/"]
[null,null,"",null,"","",null,{"$f":"IFERROR(IF(D14=\"\",\"\",INDEX(Entradas!$H$3:$H$5000,MATCH(A14,IF(Entradas!$B$3:$B$5000=D14,Entradas!$A$3:$A$5000),1))),\"Preço não registrado\")","v":""},"",null,null,"",""]
[null,null,"",null,"","",null,{"$f":"IFERROR(IF(D15=\"\",\"\",INDEX(Entradas!$H$3:$H$5000,MATCH(A15,IF(Entradas!$B$3:$B$5000=D15,Entradas!$A$3:$A$5000),1))),\"Preço não registrado\")","v":""},"",null,null,"",""]
[null,null,"",null,"","",null,{"$f":"IFERROR(IF(D16=\"\",\"\",INDEX(Entradas!$H$3:$H$5000,MATCH(A16,IF(Entradas!$B$3:$B$5000=D16,Entradas!$A$3:$A$5000),1))),\"Preço não registrado\")","v":""},"",null,null,"",""]
[null,null,"",null,"","",null,{"$f":"IFERROR(IF(D17=\"\",\"\",INDEX(Entradas!$H$3:$H$5000,MATCH(A17,IF(Entradas!$B$3:$B$5000=D17,Entradas!$A$3:$A$5000),1))),\"Preço não registrado\")","v":""},"",null,null,"",""]
[null,null,"",null,"","",null,{"$f":"IFERROR(IF(D18=\"\",\"\",INDEX(Entradas!$H$3:$H$5000,MATCH(A18,IF(Entradas!$B$3:$B$5000=D18,Entradas!$A$3:$A$5000),1))),\"Preço não registrado\")","v":""},"",null,null,"",""]
[null,null,"",null,"","",null,{"$f":"IFERROR(IF(D19=\"\",\"\",INDEX(Entradas!$H$3:$H$5000,MATCH(A19,IF(Entradas!$B$3:$B$5000=D19,Entradas!$A$3:$A$5000),1))),\"Preço não registrado\")","v":""},"",null,null,"",""]
[null,null,"",null,"","",null,{"$f":"IFERROR(IF(D20=\"\",\"\",INDEX(Entradas!$H$3:$H$5000,MATCH(A20,IF(Entradas!$B$3:$B$5000=D20,Entradas!$A$3:$A$5000),1))),\"Preço não registrado\")","v":""},"",null,null,"",""]
[null,null,"",null,"","",null,{"$f":"IFERROR(IF(D21=\"\",\"\",INDEX(Entradas!$H$3:$H$5000,MATCH(A21,IF(Entradas!$B$3:$B$5000=D21,Entradas!$A$3:$A$5000),1))),\"Preço não registrado\")","v":""},"",null,null,"",""]
[null,null,"",null,"","",null,{"$f":"IFERROR(IF(D22=\"\",\"\",INDEX(Entradas!$H$3:$H$5000,MATCH(A22,IF(Entradas!$B$3:$B$5000=D22,Entradas!$A$3:$A$5000),1))),\"Preço não registrado\")","v":""},"",null,null,"",""]
[null,null,"",null,"","",null,{"$f":"IFERROR(IF(D23=\"\",\"\",INDEX(Entradas!$H$3:$H$5000,MATCH(A23,IF(Entradas!$B$3:$B$5000=D23,Entradas!$A$3:$A$5000),1))),\"Preço não registrado\")","v":""},"",null,null,"",""]
[null,null,"",null,"","",null,{"$f":"IFERROR(IF(D24=\"\",\"\",INDEX(Entradas!$H$3:$H$5000,MATCH(A24,IF(Entradas!$B$3:$B$5000=D24,Entradas!$A$3:$A$5000),1))),\"Preço não registrado\")","v":""},"",null,null,"",""]
[null,null,"",null,"","",null,{"$f":"IFERROR(IF(D25=\"\",\"\",INDEX(Entradas!$H$3:$H$5000,MATCH(A25,IF(Entradas!$B$3:$B$5000=D25,Entradas!$A$3:$A$5000),1))),\"Preço não registrado\")","v":""},"",null,null,"",""]
[null,null,"",null,"","",null,{"$f":"IFERROR(IF(D26=\"\",\"\",INDEX(Entradas!$H$3:$H$5000,MATCH(A26,IF(Entradas!$B$3:$B$5000=D26,Entradas!$A$3:$A$5000),1))),\"Preço não registrado\")","v":""},"",null,null,"",""]
[null,null,"",null,"","",null,{"$f":"IFERROR(IF(D27=\"\",\"\",INDEX(Entradas!$H$3:$H$5000,MATCH(A27,IF(Entradas!$B$3:$B$5000=D27,Entradas!$A$3:$A$5000),1))),\"Preço não registrado\")","v":""},"",null,null,"",""]
[null,null,"",null,"","",null,{"$f":"IFERROR(IF(D28=\"\",\"\",INDEX(Entradas!$H$3:$H$5000,MATCH(A28,IF(Entradas!$B$3:$B$5000=D28,Entradas!$A$3:$A$5000),1))),\"Preço não registrado\")","v":""},"",null,null,"",""]
[null,null,"",null,"","",null,{"$f":"IFERROR(IF(D29=\"\",\"\",INDEX(Entradas!$H$3:$H$5000,MATCH(A29,IF(Entradas!$B$3:$B$5000=D29,Entradas!$A$3:$A$5000),1))),\"Preço não registrado\")","v":""},"",null,null,"",""]
[null,null,"",null,"","",null,{"$f":"IFERROR(IF(D30=\"\",\"\",INDEX(Entradas!$H$3:$H$5000,MATCH(A30,IF(Entradas!$B$3:$B$5000=D30,Entradas!$A$3:$A$5000),1))),\"Preço não registrado\")","v":""},"",null,null,"",""]
[null,null,"",null,"","",null,{"$f":"IFERROR(IF(D31=\"\",\"\",INDEX(Entradas!$H$3:$H$5000,MATCH(A31,IF(Entradas!$B$3:$B$5000=D31,Entradas!$A$3:$A$5000),1))),\"Preço não registrado\")","v":""},"",null,null,"",""]
[null,null,"",null,"","",null,{"$f":"IFERROR(IF(D32=\"\",\"\",INDEX(Entradas!$H$3:$H$5000,MATCH(A32,IF(Entradas!$B$3:$B$5000=D32,Entradas!$A$3:$A$5000),1))),\"Preço não registrado\")","v":""},"",null,null,"",""]
[null,null,"",null,"","",null,{"$f":"IFERROR(IF(D33=\"\",\"\",INDEX(Entradas!$H$3:$H$5000,MATCH(A33,IF(Entradas!$B$3:$B$5000=D33,Entradas!$A$3:$A$5000),1))),\"Preço não registrado\")","v":""},"",null,null,"",""]
[null,null,"",null,"","",null,{"$f":"IFERROR(IF(D34=\"\",\"\",INDEX(Entradas!$H$3:$H$5000,MATCH(A34,IF(Entradas!$B$3:$B$5000=D34,Entradas!$A$3:$A$5000),1))),\"Preço não registrado\")","v":""},"",null,null,"",""]
[null,null,"",null,"","",null,{"$f":"IFERROR(IF(D35=\"\",\"\",INDEX(Entradas!$H$3:$H$5000,MATCH(A35,IF(Entradas!$B$3:$B$5000=D35,Entradas!$A$3:$A$5000),1))),\"Preço não registrado\")","v":""},"",null,null,"",""]
[null,null,"",null,"","",null,{"$f":"IFERROR(IF(D36=\"\",\"\",INDEX(Entradas!$H$3:$H$5000,MATCH(A36,IF(Entradas!$B$3:$B$5000=D36,Entradas!$A$3:$A$5000),1))),\"Preço não registrado\")","v":""},"",null,null,"",""]
[null,null,"",null,"","",null,{"$f":"IFERROR(IF(D37=\"\",\"\",INDEX(Entradas!$H$3:$H$5000,MATCH(A37,IF(Entradas!$B$3:$B$5000=D37,Entradas!$A$3:$A$5000),1))),\"Preço não registrado\")","v":""},"",null,null,"",""]
[null,null,"",null,"","",null,{"$f":"IFERROR(IF(D38=\"\",\"\",INDEX(Entradas!$H$3:$H$5000,MATCH(A38,IF(Entradas!$B$3:$B$5000=D38,Entradas!$A$3:$A$5000),1))),\"Preço não registrado\")","v":""},"",null,null,"",""]
[null,null,"",null,"","",null,{"$f":"IFERROR(IF(D39=\"\",\"\",INDEX(Entradas!$H$3:$H$5000,MATCH(A39,IF(Entradas!$B$3:$B$5000=D39,Entradas!$A$3:$A$5000),1))),\"Preço não registrado\")","v":""},"",null,null,"",""]
[null,null,"",null,"","",null,{"$f":"IFERROR(IF(D40=\"\",\"\",INDEX(Entradas!$H$3:$H$5000,MATCH(A40,IF(Entradas!$B$3:$B$5000=D40,Entradas!$A$3:$A$5000),1))),\"Preço não registrado\")","v":""},"",null,null,"",""]
[null,null,"",null,"","",null,{"$f":"IFERROR(IF(D41=\"\",\"\",INDEX(Entradas!$H$3:$H$5000,MATCH(A41,IF(Entradas!$B$3:$B$5000=D41,Entradas!$A$3:$A$5000),1))),\"Preço não registrado\")","v":""},"",null,null,"",""]
[null,null,"",null,"","",null,{"$f":"IFERROR(IF(D42=\"\",\"\",INDEX(Entradas!$H$3:$H$5000,MATCH(A42,IF(Entradas!$B$3:$B$5000=D42,Entradas!$A$3:$A$5000),1))),\"Preço não registrado\")","v":""},"",null,null,"",""]
[null,null,"",null,"","",null,{"$f":"IFERROR(IF(D43=\"\",\"\",INDEX(Entradas!$H$3:$H$5000,MATCH(A43,IF(Entradas!$B$3:$B$5000=D43,Entradas!$A$3:$A$5000),1))),\"Preço não registrado\")","v":""},"",null,null,"",""]
[null,null,"",null,"","",null,{"$f":"IFERROR(IF(D44=\"\",\"\",INDEX(Entradas!$H$3:$H$5000,MATCH(A44,IF(Entradas!$B$3:$B$5000=D44,Entradas!$A$3:$A$5000),1))),\"Preço não registrado\")","v":""},"",null,null,"",""]
[null,null,"",null,"","",null,{"$f":"IFERROR(IF(D45=\"\",\"\",INDEX(Entradas!$H$3:$H$5000,MATCH(A45,IF(Entradas!$B$3:$B$5000=D45,Entradas!$A$3:$A$5000),1))),\"Preço não registrado\")","v":""},"",null,null,"",""]
[null,null,"",null,"","",null,{"$f":"IFERROR(IF(D46=\"\",\"\",INDEX(Entradas!$H$3:$H$5000,MATCH(A46,IF(Entradas!$B$3:$B$5000=D46,Entradas!$A$3:$A$5000),1))),\"Preço não registrado\")","v":""},"",null,null,"",""]
[null,null,"",null,"","",null,{"$f":"IFERROR(IF(D47=\"\",\"\",INDEX(Entradas!$H$3:$H$5000,MATCH(A47,IF(Entradas!$B$3:$B$5000=D47,Entradas!$A$3:$A$5000),1))),\"Preço não registrado\")","v":""},"",null,null,"",""]
[null,null,"",null,"","",null,{"$f":"IFERROR(IF(D48=\"\",\"\",INDEX(Entradas!$H$3:$H$5000,MATCH(A48,IF(Entradas!$B$3:$B$5000=D48,Entradas!$A$3:$A$5000),1))),\"Preço não registrado\")","v":""},"",null,null,"",""]
[null,null,"",null,"","",null,{"$f":"IFERROR(IF(D49=\"\",\"\",INDEX(Entradas!$H$3:$H$5000,MATCH(A49,IF(Entradas!$B$3:$B$5000=D49,Entradas!$A$3:$A$5000),1))),\"Preço não registrado\")","v":""},"",null,null,"",""]
[null,null,"",null,"","",null,{"$f":"IFERROR(IF(D50=\"\",\"\",INDEX(Entradas!$H$3:$H$5000,MATCH(A50,IF(Entradas!$B$3:$B$5000=D50,Entradas!$A$3:$A$5000),1))),\"Preço não registrado\")","v":""},"",null,null,"",""]
[null,null,"",null,"","",null,{"$f":"IFERROR(IF(D51=\"\",\"\",INDEX(Entradas!$H$3:$H$5000,MATCH(A51,IF(Entradas!$B$3:$B$5000=D51,Entradas!$A$3:$A$5000),1))),\"Preço não registrado\")","v":""},"",null,null,"",""]
[null,null,"",null,"","",null,{"$f":"IFERROR(IF(D52=\"\",\"\",INDEX(Entradas!$H$3:$H$5000,MATCH(A52,IF(Entradas!$B$3:$B$5000=D52,Entradas!$A$3:$A$5000),1))),\"Preço não registrado\")","v":""},"",null,null,"",""]
[null,null,"",null,"","",null,{"$f":"IFERROR(IF(D53=\"\",\"\",INDEX(Entradas!$H$3:$H$5000,MATCH(A53,IF(Entradas!$B$3:$B$5000=D53,Entradas!$A$3:$A$5000),1))),\"Preço não registrado\")","v":""},"",null,null,"",""]
[null,null,"",null,"","",null,{"$f":"IFERROR(IF(D54=\"\",\"\",INDEX(Entradas!$H$3:$H$5000,MATCH(A54,IF(Entradas!$B$3:$B$5000=D54,Entradas!$A$3:$A$5000),1))),\"Preço não registrado\")","v":""},"",null,null,"",""]
[null,null,"",null,"","",null,{"$f":"IFERROR(IF(D55=\"\",\"\",INDEX(Entradas!$H$3:$H$5000,MATCH(A55,IF(Entradas!$B$3:$B$5000=D55,Entradas!$A$3:$A$5000),1))),\"Preço não registrado\")","v":""},"",null,null,"",""]
[null,null,"",null,"","",null,{"$f":"IFERROR(IF(D56=\"\",\"\",INDEX(Entradas!$H$3:$H$5000,MATCH(A56,IF(Entradas!$B$3:$B$5000=D56,Entradas!$A$3:$A$5000),1))),\"Preço não registrado\")","v":""},"",null,null,"",""]
[null,null,"",null,"","",null,{"$f":"IFERROR(IF(D57=\"\",\"\",INDEX(Entradas!$H$3:$H$5000,MATCH(A57,IF(Entradas!$B$3:$B$5000=D57,Entradas!$A$3:$A$5000),1))),\"Preço não registrado\")","v":""},"",null,null,"",""]
[null,null,"",null,"","",null,{"$f":"IFERROR(IF(D58=\"\",\"\",INDEX(Entradas!$H$3:$H$5000,MATCH(A58,IF(Entradas!$B$3:$B$5000=D58,Entradas!$A$3:$A$5000),1))),\"Preço não registrado\")","v":""},"",null,null,"",""]
[null,null,"",null,"","",null,{"$f":"IFERROR(IF(D59=\"\",\"\",INDEX(Entradas!$H$3:$H$5000,MATCH(A59,IF(Entradas!$B$3:$B$5000=D59,Entradas!$A$3:$A$5000),1))),\"Preço não registrado\")","v":""},"",null,null,"",""]
[null,null,"",null,"","",null,{"$f":"IFERROR(IF(D60=\"\",\"\",INDEX(Entradas!$H$3:$H$5000,MATCH(A60,IF(Entradas!$B$3:$B$5000=D60,Entradas!$A$3:$A$5000),1))),\"Preço não registrado\")","v":""},"",null,null,"",""]
[null,null,"",null,"","",null,{"$f":"IFERROR(IF(D61=\"\",\"\",INDEX(Entradas!$H$3:$H$5000,MATCH(A61,IF(Entradas!$B$3:$B$5000=D61,Entradas!$A$3:$A$5000),1))),\"Preço não registrado\")","v":""},"",null,null,"",""]
[null,null,"",null,"","",null,{"$f":"IFERROR(IF(D62=\"\",\"\",INDEX(Entradas!$H$3:$H$5000,MATCH(A62,IF(Entradas!$B$3:$B$5000=D62,Entradas!$A$3:$A$5000),1))),\"Preço não registrado\")","v":""},"",null,null,"",""]
[null,null,"",null,"","",null,{"$f":"IFERROR(IF(D63=\"\",\"\",INDEX(Entradas!$H$3:$H$5000,MATCH(A63,IF(Entradas!$B$3:$B$5000=D63,Entradas!$A$3:$A$5000),1))),\"Preço não registrado\")","v":""},"",null,null,"",""]
[null,null,"",null,"","",null,{"$f":"IFERROR(IF(D64=\"\",\"\",INDEX(Entradas!$H$3:$H$5000,MATCH(A64,IF(Entradas!$B$3:$B$5000=D64,Entradas!$A$3:$A$5000),1))),\"Preço não registrado\")","v":""},"",null,null,"",""]
[null,null,"",null,"","",null,{"$f":"IFERROR(IF(D65=\"\",\"\",INDEX(Entradas!$H$3:$H$5000,MATCH(A65,IF(Entradas!$B$3:$B$5000=D65,Entradas!$A$3:$A$5000),1))),\"Preço não registrado\")","v":""},"",null,null,"",""]
[null,null,"",null,"","",null,{"$f":"IFERROR(IF(D66=\"\",\"\",INDEX(Entradas!$H$3:$H$5000,MATCH(A66,IF(Entradas!$B$3:$B$5000=D66,Entradas!$A$3:$A$5000),1))),\"Preço não registrado\")","v":""},"",null,null,"",""]
[null,null,{"$f":"IFERROR(IF(B67=\"\",\"\",VLOOKUP(B67,Clientes,2,FALSE)),\"\")","v":""},null,{"$f":"IF(D67=\"\",\"\",VLOOKUP(D67,Itens,2,FALSE))","v":""},{"$f":"IF(D67=\"\",\"\",VLOOKUP(D67,Itens,3,FALSE))","v":""},null,{"$f":"IFERROR(IF(D67=\"\",\"\",INDEX(Entradas!$H$3:$H$5000,MATCH(A67,IF(Entradas!$B$3:$B$5000=D67,Entradas!$A$3:$A$5000),1))),\"Preço não registrado\")","v":""},"",null,null,"",""]
[null,null,"",null,"","",null,{"$f":"IFERROR(IF(D68=\"\",\"\",INDEX(Entradas!$H$3:$H$5000,MATCH(A68,IF(Entradas!$B$3:$B$5000=D68,Entradas!$A$3:$A$5000),1))),\"Preço não registrado\")","v":""},{"$f":"IFERROR(G68*H68,\"\")","v":""},null,null,{"$f":"IF(K68=\"\",\"\",HYPERLINK($P$13&K68,\"Rastreie aqui\"))","v":""},{"$f":"IF(A68=\"\",\"\",TEXT(A68,\"mmmm\"))","v":""}]
[null,null,"",null,"","",null,{"$f":"IFERROR(IF(D69=\"\",\"\",INDEX(Entradas!$H$3:$H$5000,MATCH(A69,IF(Entradas!$B$3:$B$5000=D69,Entradas!$A$3:$A$5000),1))),\"Preço não registrado\")","v":""},"",null,null,"",""]
[null,null,"",null,"","",null,{"$f":"IFERROR(IF(D70=\"\",\"\",INDEX(Entradas!$H$3:$H$5000,MATCH(A70,IF(Entradas!$B$3:$B$5000=D70,Entradas!$A$3:$A$5000),1))),\"Preço não registrado\")","v":""},"",null,null,"",""]
[null,null,"",null,"","",null,{"$f":"IFERROR(IF(D71=\"\",\"\",INDEX(Entradas!$H$3:$H$5000,MATCH(A71,IF(Entradas!$B$3:$B$5000=D71,Entradas!$A$3:$A$5000),1))),\"Preço não registrado\")","v":""},"",null,null,"",""]
[null,null,"",null,"","",null,{"$f":"IFERROR(IF(D72=\"\",\"\",INDEX(Entradas!$H$3:$H$5000,MATCH(A72,IF(Entradas!$B$3:$B$5000=D72,Entradas!$A$3:$A$5000),1))),\"Preço não registrado\")","v":""},"",null,null,"",""]
[null,null,"",null,"","",null,{"$f":"IFERROR(IF(D73=\"\",\"\",INDEX(Entradas!$H$3:$H$5000,MATCH(A73,IF(Entradas!$B$3:$B$5000=D73,Entradas!$A$3:$A$5000),1))),\"Preço não registrado\")","v":""},"",null,null,"",""]
[null,null,"",null,"","",null,{"$f":"IFERROR(IF(D74=\"\",\"\",INDEX(Entradas!$H$3:$H$5000,MATCH(A74,IF(Entradas!$B$3:$B$5000=D74,Entradas!$A$3:$A$5000),1))),\"Preço não registrado\")","v":""},"",null,null,"",""]
[null,null,"",null,"","",null,{"$f":"IFERROR(IF(D75=\"\",\"\",INDEX(Entradas!$H$3:$H$5000,MATCH(A75,IF(Entradas!$B$3:$B$5000=D75,Entradas!$A$3:$A$5000),1))),\"Preço não registrado\")","v":""},"",null,null,"",""]
[null,null,"",null,"","",null,{"$f":"IFERROR(IF(D76=\"\",\"\",INDEX(Entradas!$H$3:$H$5000,MATCH(A76,IF(Entradas!$B$3:$B$5000=D76,Entradas!$A$3:$A$5000),1))),\"Preço não registrado\")","v":""},"",null,null,"",""]
[null,null,"",null,"","",null,{"$f":"IFERROR(IF(D77=\"\",\"\",INDEX(Entradas!$H$3:$H$5000,MATCH(A77,IF(Entradas!$B$3:$B$5000=D77,Entradas!$A$3:$A$5000),1))),\"Preço não registrado\")","v":""},"",null,null,"",""]
[null,null,"",null,"","",null,{"$f":"IFERROR(IF(D78=\"\",\"\",INDEX(Entradas!$H$3:$H$5000,MATCH(A78,IF(Entradas!$B$3:$B$5000=D78,Entradas!$A$3:$A$5000),1))),\"Preço não registrado\")","v":""},"",null,null,"",""]
[null,null,"",null,"","",null,{"$f":"IFERROR(IF(D79=\"\",\"\",INDEX(Entradas!$H$3:$H$5000,MATCH(A79,IF(Entradas!$B$3:$B$5000=D79,Entradas!$A$3:$A$5000),1))),\"Preço não registrado\")","v":""},"",null,null,"",""]
[null,null,"",null,"","",null,{"$f":"IFERROR(IF(D80=\"\",\"\",INDEX(Entradas!$H$3:$H$5000,MATCH(A80,IF(Entradas!$B$3:$B$5000=D80,Entradas!$A$3:$A$5000),1))),\"Preço não registrado\")","v":""},"",null,null,"",""]
[null,null,"",null,"","",null,{"$f":"IFERROR(IF(D81=\"\",\"\",INDEX(Entradas!$H$3:$H$5000,MATCH(A81,IF(Entradas!$B$3:$B$5000=D81,Entradas!$A$3:$A$5000),1))),\"Preço não registrado\")","v":""},"",null,null,"",""]
[null,null,"",null,"","",null,{"$f":"IFERROR(IF(D82=\"\",\"\",INDEX(Entradas!$H$3:$H$5000,MATCH(A82,IF(Entradas!$B$3:$B$5000=D82,Entradas!$A$3:$A$5000),1))),\"Preço não registrado\")","v":""},"",null,null,"",""]
[null,null,"",null,"","",null,{"$f":"IFERROR(IF(D83=\"\",\"\",INDEX(Entradas!$H$3:$H$5000,MATCH(A83,IF(Entradas!$B$3:$B$5000=D83,Entradas!$A$3:$A$5000),1))),\"Preço não registrado\")","v":""},"",null,null,"",""]
[null,null,"",null,"","",null,{"$f":"IFERROR(IF(D84=\"\",\"\",INDEX(Entradas!$H$3:$H$5000,MATCH(A84,IF(Entradas!$B$3:$B$5000=D84,Entradas!$A$3:$A$5000),1))),\"Preço não registrado\")","v":""},"",null,null,"",""]
[null,null,"",null,"","",null,{"$f":"IFERROR(IF(D85=\"\",\"\",INDEX(Entradas!$H$3:$H$5000,MATCH(A85,IF(Entradas!$B$3:$B$5000=D85,Entradas!$A$3:$A$5000),1))),\"Preço não registrado\")","v":""},"",null,null,"",""]
[null,null,"",null,"","",null,{"$f":"IFERROR(IF(D86=\"\",\"\",INDEX(Entradas!$H$3:$H$5000,MATCH(A86,IF(Entradas!$B$3:$B$5000=D86,Entradas!$A$3:$A$5000),1))),\"Preço não registrado\")","v":""},"",null,null,"",""]
[null,null,"",null,"","",null,{"$f":"IFERROR(IF(D87=\"\",\"\",INDEX(Entradas!$H$3:$H$5000,MATCH(A87,IF(Entradas!$B$3:$B$5000=D87,Entradas!$A$3:$A$5000),1))),\"Preço não registrado\")","v":""},"",null,null,"",""]
[null,null,"",null,"","",null,{"$f":"IFERROR(IF(D88=\"\",\"\",INDEX(Entradas!$H$3:$H$5000,MATCH(A88,IF(Entradas!$B$3:$B$5000=D88,Entradas!$A$3:$A$5000),1))),\"Preço não registrado\")","v":""},"",null,null,"",""]
[null,null,"",null,"","",null,{"$f":"IFERROR(IF(D89=\"\",\"\",INDEX(Entradas!$H$3:$H$5000,MATCH(A89,IF(Entradas!$B$3:$B$5000=D89,Entradas!$A$3:$A$5000),1))),\"Preço não registrado\")","v":""},"",null,null,"",""]
[null,null,"",null,"","",null,{"$f":"IFERROR(IF(D90=\"\",\"\",INDEX(Entradas!$H$3:$H$5000,MATCH(A90,IF(Entradas!$B$3:$B$5000=D90,Entradas!$A$3:$A$5000),1))),\"Preço não registrado\")","v":""},"",null,null,"",""]
[null,null,"",null,"","",null,{"$f":"IFERROR(IF(D91=\"\",\"\",INDEX(Entradas!$H$3:$H$5000,MATCH(A91,IF(Entradas!$B$3:$B$5000=D91,Entradas!$A$3:$A$5000),1))),\"Preço não registrado\")","v":""},"",null,null,"",""]
[null,null,"",null,"","",null,{"$f":"IFERROR(IF(D92=\"\",\"\",INDEX(Entradas!$H$3:$H$5000,MATCH(A92,IF(Entradas!$B$3:$B$5000=D92,Entradas!$A$3:$A$5000),1))),\"Preço não registrado\")","v":""},"",null,null,"",""]
[null,null,"",null,"","",null,{"$f":"IFERROR(IF(D93=\"\",\"\",INDEX(Entradas!$H$3:$H$5000,MATCH(A93,IF(Entradas!$B$3:$B$5000=D93,Entradas!$A$3:$A$5000),1))),\"Preço não registrado\")","v":""},"",null,null,"",""]
[null,null,"",null,"","",null,{"$f":"IFERROR(IF(D94=\"\",\"\",INDEX(Entradas!$H$3:$H$5000,MATCH(A94,IF(Entradas!$B$3:$B$5000=D94,Entradas!$A$3:$A$5000),1))),\"Preço não registrado\")","v":""},"",null,null,"",""]
[null,null,"",null,"","",null,{"$f":"IFERROR(IF(D95=\"\",\"\",INDEX(Entradas!$H$3:$H$5000,MATCH(A95,IF(Entradas!$B$3:$B$5000=D95,Entradas!$A$3:$A$5000),1))),\"Preço não registrado\")","v":""},"",null,null,"",""]
[null,null,"",null,"","",null,{"$f":"IFERROR(IF(D96=\"\",\"\",INDEX(Entradas!$H$3:$H$5000,MATCH(A96,IF(Entradas!$B$3:$B$5000=D96,Entradas!$A$3:$A$5000),1))),\"Preço não registrado\")","v":""},"",null,null,"",""]
[null,null,"",null,"","",null,{"$f":"IFERROR(IF(D97=\"\",\"\",INDEX(Entradas!$H$3:$H$5000,MATCH(A97,IF(Entradas!$B$3:$B$5000=D97,Entradas!$A$3:$A$5000),1))),\"Preço não registrado\")","v":""},"",null,null,"",""]
[null,null,"",null,"","",null,{"$f":"IFERROR(IF(D98=\"\",\"\",INDEX(Entradas!$H$3:$H$5000,MATCH(A98,IF(Entradas!$B$3:$B$5000=D98,Entradas!$A$3:$A$5000),1))),\"Preço não registrado\")","v":""},"",null,null,"",""]
[null,null,"",null,"","",null,{"$f":"IFERROR(IF(D99=\"\",\"\",INDEX(Entradas!$H$3:$H$5000,MATCH(A99,IF(Entradas!$B$3:$B$5000=D99,Entradas!$A$3:$A$5000),1))),\"Preço não registrado\")","v":""},"",null,null,"",""]
[null,null,"",null,"","",null,{"$f":"IFERROR(IF(D100=\"\",\"\",INDEX(Entradas!$H$3:$H$5000,MATCH(A100,IF(Entradas!$B$3:$B$5000=D100,Entradas!$A$3:$A$5000),1))),\"Preço não registrado\")","v":""},"",null,null,"",""]
[null,null,"",null,"","",null,{"$f":"IFERROR(IF(D101=\"\",\"\",INDEX(Entradas!$H$3:$H$5000,MATCH(A101,IF(Entradas!$B$3:$B$5000=D101,Entradas!$A$3:$A$5000),1))),\"Preço não registrado\")","v":""},"",null,null,"",""]
[null,null,"",null,"","",null,{"$f":"IFERROR(IF(D102=\"\",\"\",INDEX(Entradas!$H$3:$H$5000,MATCH(A102,IF(Entradas!$B$3:$B$5000=D102,Entradas!$A$3:$A$5000),1))),\"Preço não registrado\")","v":""},"",null,null,"",""]
[null,null,"",null,"","",null,{"$f":"IFERROR(IF(D103=\"\",\"\",INDEX(Entradas!$H$3:$H$5000,MATCH(A103,IF(Entradas!$B$3:$B$5000=D103,Entradas!$A$3:$A$5000),1))),\"Preço não registrado\")","v":""},"",null,null,"",""]
[null,null,"",null,"","",null,{"$f":"IFERROR(IF(D104=\"\",\"\",INDEX(Entradas!$H$3:$H$5000,MATCH(A104,IF(Entradas!$B$3:$B$5000=D104,Entradas!$A$3:$A$5000),1))),\"Preço não registrado\")","v":""},"",null,null,"",""]
[null,null,"",null,"","",null,{"$f":"IFERROR(IF(D105=\"\",\"\",INDEX(Entradas!$H$3:$H$5000,MATCH(A105,IF(Entradas!$B$3:$B$5000=D105,Entradas!$A$3:$A$5000),1))),\"Preço não registrado\")","v":""},"",null,null,"",""]
[null,null,"",null,"","",null,{"$f":"IFERROR(IF(D106=\"\",\"\",INDEX(Entradas!$H$3:$H$5000,MATCH(A106,IF(Entradas!$B$3:$B$5000=D106,Entradas!$A$3:$A$5000),1))),\"Preço não registrado\")","v":""},"",null,null,"",""]
[null,null,"",null,"","",null,{"$f":"IFERROR(IF(D107=\"\",\"\",INDEX(Entradas!$H$3:$H$5000,MATCH(A107,IF(Entradas!$B$3:$B$5000=D107,Entradas!$A$3:$A$5000),1))),\"Preço não registrado\")","v":""},"",null,null,"",""]
[null,null,"",null,"","",null,{"$f":"IFERROR(IF(D108=\"\",\"\",INDEX(Entradas!$H$3:$H$5000,MATCH(A108,IF(Entradas!$B$3:$B$5000=D108,Entradas!$A$3:$A$5000),1))),\"Preço não registrado\")","v":""},"",null,null,"",""]
[null,null,"",null,"","",null,{"$f":"IFERROR(IF(D109=\"\",\"\",INDEX(Entradas!$H$3:$H$5000,MATCH(A109,IF(Entradas!$B$3:$B$5000=D109,Entradas!$A$3:$A$5000),1))),\"Preço não registrado\")","v":""},"",null,null,"",""]
[null,null,"",null,"","",null,{"$f":"IFERROR(IF(D110=\"\",\"\",INDEX(Entradas!$H$3:$H$5000,MATCH(A110,IF(Entradas!$B$3:$B$5000=D110,Entradas!$A$3:$A$5000),1))),\"Preço não registrado\")","v":""},"",null,null,"",""]
[null,null,"",null,"","",null,{"$f":"IFERROR(IF(D111=\"\",\"\",INDEX(Entradas!$H$3:$H$5000,MATCH(A111,IF(Entradas!$B$3:$B$5000=D111,Entradas!$A$3:$A$5000),1))),\"Preço não registrado\")","v":""},"",null,null,"",""]
[null,null,"",null,"","",null,{"$f":"IFERROR(IF(D112=\"\",\"\",INDEX(Entradas!$H$3:$H$5000,MATCH(A112,IF(Entradas!$B$3:$B$5000=D112,Entradas!$A$3:$A$5000),1))),\"Preço não registrado\")","v":""},"",null,null,"",""]
[null,null,"",null,"","",null,{"$f":"IFERROR(IF(D113=\"\",\"\",INDEX(Entradas!$H$3:$H$5000,MATCH(A113,IF(Entradas!$B$3:$B$5000=D113,Entradas!$A$3:$A$5000),1))),\"Preço não registrado\")","v":""},"",null,null,"",""]
[null,null,"",null,"","",null,{"$f":"IFERROR(IF(D114=\"\",\"\",INDEX(Entradas!$H$3:$H$5000,MATCH(A114,IF(Entradas!$B$3:$B$5000=D114,Entradas!$A$3:$A$5000),1))),\"Preço não registrado\")","v":""},"",null,null,"",""]
[null,null,"",null,"","",null,{"$f":"IFERROR(IF(D115=\"\",\"\",INDEX(Entradas!$H$3:$H$5000,MATCH(A115,IF(Entradas!$B$3:$B$5000=D115,Entradas!$A$3:$A$5000),1))),\"Preço não registrado\")","v":""},"",null,null,"",""]
[null,null,"",null,"","",null,{"$f":"IFERROR(IF(D116=\"\",\"\",INDEX(Entradas!$H$3:$H$5000,MATCH(A116,IF(Entradas!$B$3:$B$5000=D116,Entradas!$A$3:$A$5000),1))),\"Preço não registrado\")","v":""},"",null,null,"",""]
[null,null,"",null,"","",null,{"$f":"IFERROR(IF(D117=\"\",\"\",INDEX(Entradas!$H$3:$H$5000,MATCH(A117,IF(Entradas!$B$3:$B$5000=D117,Entradas!$A$3:$A$5000),1))),\"Preço não registrado\")","v":""},"",null,null,"",""]
[null,null,"",null,"","",null,{"$f":"IFERROR(IF(D118=\"\",\"\",INDEX(Entradas!$H$3:$H$5000,MATCH(A118,IF(Entradas!$B$3:$B$5000=D118,Entradas!$A$3:$A$5000),1))),\"Preço não registrado\")","v":""},"",null,null,"",""]
[null,null,"",null,"","",null,{"$f":"IFERROR(IF(D119=\"\",\"\",INDEX(Entradas!$H$3:$H$5000,MATCH(A119,IF(Entradas!$B$3:$B$5000=D119,Entradas!$A$3:$A$5000),1))),\"Preço não registrado\")","v":""},"",null,null,"",""]
[null,null,"",null,"","",null,{"$f":"IFERROR(IF(D120=\"\",\"\",INDEX(Entradas!$H$3:$H$5000,MATCH(A120,IF(Entradas!$B$3:$B$5000=D120,Entradas!$A$3:$A$5000),1))),\"Preço não registrado\")","v":""},"",null,null,"",""]
[null,null,"",null,"","",null,{"$f":"IFERROR(IF(D121=\"\",\"\",INDEX(Entradas!$H$3:$H$5000,MATCH(A121,IF(Entradas!$B$3:$B$5000=D121,Entradas!$A$3:$A$5000),1))),\"Preço não registrado\")","v":""},"",null,null,"",""]
[null,null,"",null,"","",null,{"$f":"IFERROR(IF(D122=\"\",\"\",INDEX(Entradas!$H$3:$H$5000,MATCH(A122,IF(Entradas!$B$3:$B$5000=D122,Entradas!$A$3:$A$5000),1))),\"Preço não registrado\")","v":""},"",null,null,"",""]
[null,null,"",null,"","",null,{"$f":"IFERROR(IF(D123=\"\",\"\",INDEX(Entradas!$H$3:$H$5000,MATCH(A123,IF(Entradas!$B$3:$B$5000=D123,Entradas!$A$3:$A$5000),1))),\"Preço não registrado\")","v":""},"",null,null,"",""]
[null,null,"",null,"","",null,{"$f":"IFERROR(IF(D124=\"\",\"\",INDEX(Entradas!$H$3:$H$5000,MATCH(A124,IF(Entradas!$B$3:$B$5000=D124,Entradas!$A$3:$A$5000),1))),\"Preço não registrado\")","v":""},"",null,null,"",""]
[null,null,"",null,"","",null,{"$f":"IFERROR(IF(D125=\"\",\"\",INDEX(Entradas!$H$3:$H$5000,MATCH(A125,IF(Entradas!$B$3:$B$5000=D125,Entradas!$A$3:$A$5000),1))),\"Preço não registrado\")","v":""},"",null,null,"",""]
[null,null,"",null,"","",null,{"$f":"IFERROR(IF(D126=\"\",\"\",INDEX(Entradas!$H$3:$H$5000,MATCH(A126,IF(Entradas!$B$3:$B$5000=D126,Entradas!$A$3:$A$5000),1))),\"Preço não registrado\")","v":""},"",null,null,"",""]
[null,null,"",null,"","",null,{"$f":"IFERROR(IF(D127=\"\",\"\",INDEX(Entradas!$H$3:$H$5000,MATCH(A127,IF(Entradas!$B$3:$B$5000=D127,Entradas!$A$3:$A$5000),1))),\"Preço não registrado\")","v":""},"",null,null,"",""]
[null,null,"",null,"","",null,{"$f":"IFERROR(IF(D128=\"\",\"\",INDEX(Entradas!$H$3:$H$5000,MATCH(A128,IF(Entradas!$B$3:$B$5000=D128,Entradas!$A$3:$A$5000),1))),\"Preço não registrado\")","v":""},"",null,null,"",""]
[null,null,"",null,"","",null,{"$f":"IFERROR(IF(D129=\"\",\"\",INDEX(Entradas!$H$3:$H$5000,MATCH(A129,IF(Entradas!$B$3:$B$5000=D129,Entradas!$A$3:$A$5000),1))),\"Preço não registrado\")","v":""},"",null,null,"",""]
[null,null,"",null,"","",null,{"$f":"IFERROR(IF(D130=\"\",\"\",INDEX(Entradas!$H$3:$H$5000,MATCH(A130,IF(Entradas!$B$3:$B$5000=D130,Entradas!$A$3:$A$5000),1))),\"Preço não registrado\")","v":""},"",null,null,"",""]
[null,null,{"$f":"IFERROR(IF(B131=\"\",\"\",VLOOKUP(B131,Clientes,2,FALSE)),\"\")","v":""},null,{"$f":"IF(D131=\"\",\"\",VLOOKUP(D131,Itens,2,FALSE))","v":""},{"$f":"IF(D131=\"\",\"\",VLOOKUP(D131,Itens,3,FALSE))","v":""},null,{"$f":"IFERROR(IF(D131=\"\",\"\",INDEX(Entradas!$H$3:$H$5000,MATCH(A131,IF(Entradas!$B$3:$B$5000=D131,Entradas!$A$3:$A$5000),1))),\"Preço não registrado\")","v":""},"",null,null,"",""]
[null,null,"",null,"","",null,{"$f":"IFERROR(IF(D132=\"\",\"\",INDEX(Entradas!$H$3:$H$5000,MATCH(A132,IF(Entradas!$B$3:$B$5000=D132,Entradas!$A$3:$A$5000),1))),\"Preço não registrado\")","v":""},{"$f":"IFERROR(G132*H132,\"\")","v":""},null,null,{"$f":"IF(K132=\"\",\"\",HYPERLINK($P$13&K132,\"Rastreie aqui\"))","v":""},{"$f":"IF(A132=\"\",\"\",TEXT(A132,\"mmmm\"))","v":""}]
[null,null,"",null,"","",null,{"$f":"IFERROR(IF(D133=\"\",\"\",INDEX(Entradas!$H$3:$H$5000,MATCH(A133,IF(Entradas!$B$3:$B$5000=D133,Entradas!$A$3:$A$5000),1))),\"Preço não registrado\")","v":""},"",null,null,"",""]
[null,null,"",null,"","",null,{"$f":"IFERROR(IF(D134=\"\",\"\",INDEX(Entradas!$H$3:$H$5000,MATCH(A134,IF(Entradas!$B$3:$B$5000=D134,Entradas!$A$3:$A$5000),1))),\"Preço não registrado\")","v":""},"",null,null,"",""]
[null,null,"",null,"","",null,{"$f":"IFERROR(IF(D135=\"\",\"\",INDEX(Entradas!$H$3:$H$5000,MATCH(A135,IF(Entradas!$B$3:$B$5000=D135,Entradas!$A$3:$A$5000),1))),\"Preço não registrado\")","v":""},"",null,null,"",""]
[null,null,"",null,"","",null,{"$f":"IFERROR(IF(D136=\"\",\"\",INDEX(Entradas!$H$3:$H$5000,MATCH(A136,IF(Entradas!$B$3:$B$5000=D136,Entradas!$A$3:$A$5000),1))),\"Preço não registrado\")","v":""},"",null,null,"",""]
[null,null,"",null,"","",null,{"$f":"IFERROR(IF(D137=\"\",\"\",INDEX(Entradas!$H$3:$H$5000,MATCH(A137,IF(Entradas!$B$3:$B$5000=D137,Entradas!$A$3:$A$5000),1))),\"Preço não registrado\")","v":""},"",null,null,"",""]
[null,null,"",null,"","",null,{"$f":"IFERROR(IF(D138=\"\",\"\",INDEX(Entradas!$H$3:$H$5000,MATCH(A138,IF(Entradas!$B$3:$B$5000=D138,Entradas!$A$3:$A$5000),1))),\"Preço não registrado\")","v":""},"",null,null,"",""]
[null,null,"",null,"","",null,{"$f":"IFERROR(IF(D139=\"\",\"\",INDEX(Entradas!$H$3:$H$5000,MATCH(A139,IF(Entradas!$B$3:$B$5000=D139,Entradas!$A$3:$A$5000),1))),\"Preço não registrado\")","v":""},"",null,null,"",""]
[null,null,"",null,"","",null,{"$f":"IFERROR(IF(D140=\"\",\"\",INDEX(Entradas!$H$3:$H$5000,MATCH(A140,IF(Entradas!$B$3:$B$5000=D140,Entradas!$A$3:$A$5000),1))),\"Preço não registrado\")","v":""},"",null,null,"",""]
[null,null,"",null,"","",null,{"$f":"IFERROR(IF(D141=\"\",\"\",INDEX(Entradas!$H$3:$H$5000,MATCH(A141,IF(Entradas!$B$3:$B$5000=D141,Entradas!$A$3:$A$5000),1))),\"Preço não registrado\")","v":""},"",null,null,"",""]
[null,null,"",null,"","",null,{"$f":"IFERROR(IF(D142=\"\",\"\",INDEX(Entradas!$H$3:$H$5000,MATCH(A142,IF(Entradas!$B$3:$B$5000=D142,Entradas!$A$3:$A$5000),1))),\"Preço não registrado\")","v":""},"",null,null,"",""]
[null,null,"",null,"","",null,{"$f":"IFERROR(IF(D143=\"\",\"\",INDEX(Entradas!$H$3:$H$5000,MATCH(A143,IF(Entradas!$B$3:$B$5000=D143,Entradas!$A$3:$A$5000),1))),\"Preço não registrado\")","v":""},"",null,null,"",""]
[null,null,"",null,"","",null,{"$f":"IFERROR(IF(D144=\"\",\"\",INDEX(Entradas!$H$3:$H$5000,MATCH(A144,IF(Entradas!$B$3:$B$5000=D144,Entradas!$A$3:$A$5000),1))),\"Preço não registrado\")","v":""},"",null,null,"",""]
[null,null,"",null,"","",null,{"$f":"IFERROR(IF(D145=\"\",\"\",INDEX(Entradas!$H$3:$H$5000,MATCH(A145,IF(Entradas!$B$3:$B$5000=D145,Entradas!$A$3:$A$5000),1))),\"Preço não registrado\")","v":""},"",null,null,"",""]
[null,null,"",null,"","",null,{"$f":"IFERROR(IF(D146=\"\",\"\",INDEX(Entradas!$H$3:$H$5000,MATCH(A146,IF(Entradas!$B$3:$B$5000=D146,Entradas!$A$3:$A$5000),1))),\"Preço não registrado\")","v":""},"",null,null,"",""]
[null,null,"",null,"","",null,{"$f":"IFERROR(IF(D147=\"\",\"\",INDEX(Entradas!$H$3:$H$5000,MATCH(A147,IF(Entradas!$B$3:$B$5000=D147,Entradas!$A$3:$A$5000),1))),\"Preço não registrado\")","v":""},"",null,null,"",""]
[null,null,"",null,"","",null,{"$f":"IFERROR(IF(D148=\"\",\"\",INDEX(Entradas!$H$3:$H$5000,MATCH(A148,IF(Entradas!$B$3:$B$5000=D148,Entradas!$A$3:$A$5000),1))),\"Preço não registrado\")","v":""},"",null,null,"",""]
[null,null,"",null,"","",null,{"$f":"IFERROR(IF(D149=\"\",\"\",INDEX(Entradas!$H$3:$H$5000,MATCH(A149,IF(Entradas!$B$3:$B$5000=D149,Entradas!$A$3:$A$5000),1))),\"Preço não registrado\")","v":""},"",null,null,"",""]
[null,null,"",null,"","",null,{"$f":"IFERROR(IF(D150=\"\",\"\",INDEX(Entradas!$H$3:$H$5000,MATCH(A150,IF(Entradas!$B$3:$B$5000=D150,Entradas!$A$3:$A$5000),1))),\"Preço não registrado\")","v":""},"",null,null,"",""]
[null,null,"",null,"","",null,{"$f":"IFERROR(IF(D151=\"\",\"\",INDEX(Entradas!$H$3:$H$5000,MATCH(A151,IF(Entradas!$B$3:$B$5000=D151,Entradas!$A$3:$A$5000),1))),\"Preço não registrado\")","v":""},"",null,null,"",""]
[null,null,"",null,"","",null,{"$f":"IFERROR(IF(D152=\"\",\"\",INDEX(Entradas!$H$3:$H$5000,MATCH(A152,IF(Entradas!$B$3:$B$5000=D152,Entradas!$A$3:$A$5000),1))),\"Preço não registrado\")","v":""},"",null,null,"",""]
[null,null,"",null,"","",null,{"$f":"IFERROR(IF(D153=\"\",\"\",INDEX(Entradas!$H$3:$H$5000,MATCH(A153,IF(Entradas!$B$3:$B$5000=D153,Entradas!$A$3:$A$5000),1))),\"Preço não registrado\")","v":""},"",null,null,"",""]
[null,null,"",null,"","",null,{"$f":"IFERROR(IF(D154=\"\",\"\",INDEX(Entradas!$H$3:$H$5000,MATCH(A154,IF(Entradas!$B$3:$B$5000=D154,Entradas!$A$3:$A$5000),1))),\"Preço não registrado\")","v":""},"",null,null,"",""]
[null,null,"",null,"","",null,{"$f":"IFERROR(IF(D155=\"\",\"\",INDEX(Entradas!$H$3:$H$5000,MATCH(A155,IF(Entradas!$B$3:$B$5000=D155,Entradas!$A$3:$A$5000),1))),\"Preço não registrado\")","v":""},"",null,null,"",""]
[null,null,"",null,"","",null,{"$f":"IFERROR(IF(D156=\"\",\"\",INDEX(Entradas!$H$3:$H$5000,MATCH(A156,IF(Entradas!$B$3:$B$5000=D156,Entradas!$A$3:$A$5000),1))),\"Preço não registrado\")","v":""},"",null,null,"",""]
[null,null,"",null,"","",null,{"$f":"IFERROR(IF(D157=\"\",\"\",INDEX(Entradas!$H$3:$H$5000,MATCH(A157,IF(Entradas!$B$3:$B$5000=D157,Entradas!$A$3:$A$5000),1))),\"Preço não registrado\")","v":""},"",null,null,"",""]
[null,null,"",null,"","",null,{"$f":"IFERROR(IF(D158=\"\",\"\",INDEX(Entradas!$H$3:$H$5000,MATCH(A158,IF(Entradas!$B$3:$B$5000=D158,Entradas!$A$3:$A$5000),1))),\"Preço não registrado\")","v":""},"",null,null,"",""]
[null,null,"",null,"","",null,{"$f":"IFERROR(IF(D159=\"\",\"\",INDEX(Entradas!$H$3:$H$5000,MATCH(A159,IF(Entradas!$B$3:$B$5000=D159,Entradas!$A$3:$A$5000),1))),\"Preço não registrado\")","v":""},"",null,null,"",""]
[null,null,"",null,"","",null,{"$f":"IFERROR(IF(D160=\"\",\"\",INDEX(Entradas!$H$3:$H$5000,MATCH(A160,IF(Entradas!$B$3:$B$5000=D160,Entradas!$A$3:$A$5000),1))),\"Preço não registrado\")","v":""},"",null,null,"",""]
[null,null,"",null,"","",null,{"$f":"IFERROR(IF(D161=\"\",\"\",INDEX(Entradas!$H$3:$H$5000,MATCH(A161,IF(Entradas!$B$3:$B$5000=D161,Entradas!$A$3:$A$5000),1))),\"Preço não registrado\")","v":""},"",null,null,"",""]
[null,null,"",null,"","",null,{"$f":"IFERROR(IF(D162=\"\",\"\",INDEX(Entradas!$H$3:$H$5000,MATCH(A162,IF(Entradas!$B$3:$B$5000=D162,Entradas!$A$3:$A$5000),1))),\"Preço não registrado\")","v":""},"",null,null,"",""]
[null,null,"",null,"","",null,{"$f":"IFERROR(IF(D163=\"\",\"\",INDEX(Entradas!$H$3:$H$5000,MATCH(A163,IF(Entradas!$B$3:$B$5000=D163,Entradas!$A$3:$A$5000),1))),\"Preço não registrado\")","v":""},"",null,null,"",""]
[null,null,"",null,"","",null,{"$f":"IFERROR(IF(D164=\"\",\"\",INDEX(Entradas!$H$3:$H$5000,MATCH(A164,IF(Entradas!$B$3:$B$5000=D164,Entradas!$A$3:$A$5000),1))),\"Preço não registrado\")","v":""},"",null,null,"",""]
[null,null,"",null,"","",null,{"$f":"IFERROR(IF(D165=\"\",\"\",INDEX(Entradas!$H$3:$H$5000,MATCH(A165,IF(Entradas!$B$3:$B$5000=D165,Entradas!$A$3:$A$5000),1))),\"Preço não registrado\")","v":""},"",null,null,"",""]
[null,null,"",null,"","",null,{"$f":"IFERROR(IF(D166=\"\",\"\",INDEX(Entradas!$H$3:$H$5000,MATCH(A166,IF(Entradas!$B$3:$B$5000=D166,Entradas!$A$3:$A$5000),1))),\"Preço não registrado\")","v":""},"",null,null,"",""]
[null,null,"",null,"","",null,{"$f":"IFERROR(IF(D167=\"\",\"\",INDEX(Entradas!$H$3:$H$5000,MATCH(A167,IF(Entradas!$B$3:$B$5000=D167,Entradas!$A$3:$A$5000),1))),\"Preço não registrado\")","v":""},"",null,null,"",""]
[null,null,"",null,"","",null,{"$f":"IFERROR(IF(D168=\"\",\"\",INDEX(Entradas!$H$3:$H$5000,MATCH(A168,IF(Entradas!$B$3:$B$5000=D168,Entradas!$A$3:$A$5000),1))),\"Preço não registrado\")","v":""},"",null,null,"",""]
[null,null,"",null,"","",null,{"$f":"IFERROR(IF(D169=\"\",\"\",INDEX(Entradas!$H$3:$H$5000,MATCH(A169,IF(Entradas!$B$3:$B$5000=D169,Entradas!$A$3:$A$5000),1))),\"Preço não registrado\")","v":""},"",null,null,"",""]
[null,null,"",null,"","",null,{"$f":"IFERROR(IF(D170=\"\",\"\",INDEX(Entradas!$H$3:$H$5000,MATCH(A170,IF(Entradas!$B$3:$B$5000=D170,Entradas!$A$3:$A$5000),1))),\"Preço não registrado\")","v":""},"",null,null,"",""]
[null,null,"",null,"","",null,{"$f":"IFERROR(IF(D171=\"\",\"\",INDEX(Entradas!$H$3:$H$5000,MATCH(A171,IF(Entradas!$B$3:$B$5000=D171,Entradas!$A$3:$A$5000),1))),\"Preço não registrado\")","v":""},"",null,null,"",""]
[null,null,"",null,"","",null,{"$f":"IFERROR(IF(D172=\"\",\"\",INDEX(Entradas!$H$3:$H$5000,MATCH(A172,IF(Entradas!$B$3:$B$5000=D172,Entradas!$A$3:$A$5000),1))),\"Preço não registrado\")","v":""},"",null,null,"",""]
[null,null,"",null,"","",null,{"$f":"IFERROR(IF(D173=\"\",\"\",INDEX(Entradas!$H$3:$H$5000,MATCH(A173,IF(Entradas!$B$3:$B$5000=D173,Entradas!$A$3:$A$5000),1))),\"Preço não registrado\")","v":""},"",null,null,"",""]
[null,null,"",null,"","",null,{"$f":"IFERROR(IF(D174=\"\",\"\",INDEX(Entradas!$H$3:$H$5000,MATCH(A174,IF(Entradas!$B$3:$B$5000=D174,Entradas!$A$3:$A$5000),1))),\"Preço não registrado\")","v":""},"",null,null,"",""]
[null,null,"",null,"","",null,{"$f":"IFERROR(IF(D175=\"\",\"\",INDEX(Entradas!$H$3:$H$5000,MATCH(A175,IF(Entradas!$B$3:$B$5000=D175,Entradas!$A$3:$A$5000),1))),\"Preço não registrado\")","v":""},"",null,null,"",""]
[null,null,"",null,"","",null,{"$f":"IFERROR(IF(D176=\"\",\"\",INDEX(Entradas!$H$3:$H$5000,MATCH(A176,IF(Entradas!$B$3:$B$5000=D176,Entradas!$A$3:$A$5000),1))),\"Preço não registrado\")","v":""},"",null,null,"",""]
[null,null,"",null,"","",null,{"$f":"IFERROR(IF(D177=\"\",\"\",INDEX(Entradas!$H$3:$H$5000,MATCH(A177,IF(Entradas!$B$3:$B$5000=D177,Entradas!$A$3:$A$5000),1))),\"Preço não registrado\")","v":""},"",null,null,"",""]
[null,null,"",null,"","",null,{"$f":"IFERROR(IF(D178=\"\",\"\",INDEX(Entradas!$H$3:$H$5000,MATCH(A178,IF(Entradas!$B$3:$B$5000=D178,Entradas!$A$3:$A$5000),1))),\"Preço não registrado\")","v":""},"",null,null,"",""]
[null,null,"",null,"","",null,{"$f":"IFERROR(IF(D179=\"\",\"\",INDEX(Entradas!$H$3:$H$5000,MATCH(A179,IF(Entradas!$B$3:$B$5000=D179,Entradas!$A$3:$A$5000),1))),\"Preço não registrado\")","v":""},"",null,null,"",""]
[null,null,"",null,"","",null,{"$f":"IFERROR(IF(D180=\"\",\"\",INDEX(Entradas!$H$3:$H$5000,MATCH(A180,IF(Entradas!$B$3:$B$5000=D180,Entradas!$A$3:$A$5000),1))),\"Preço não registrado\")","v":""},"",null,null,"",""]
[null,null,"",null,"","",null,{"$f":"IFERROR(IF(D181=\"\",\"\",INDEX(Entradas!$H$3:$H$5000,MATCH(A181,IF(Entradas!$B$3:$B$5000=D181,Entradas!$A$3:$A$5000),1))),\"Preço não registrado\")","v":""},"",null,null,"",""]
[null,null,"",null,"","",null,{"$f":"IFERROR(IF(D182=\"\",\"\",INDEX(Entradas!$H$3:$H$5000,MATCH(A182,IF(Entradas!$B$3:$B$5000=D182,Entradas!$A$3:$A$5000),1))),\"Preço não registrado\")","v":""},"",null,null,"",""]
[null,null,"",null,"","",null,{"$f":"IFERROR(IF(D183=\"\",\"\",INDEX(Entradas!$H$3:$H$5000,MATCH(A183,IF(Entradas!$B$3:$B$5000=D183,Entradas!$A$3:$A$5000),1))),\"Preço não registrado\")","v":""},"",null,null,"",""]
[null,null,"",null,"","",null,{"$f":"IFERROR(IF(D184=\"\",\"\",INDEX(Entradas!$H$3:$H$5000,MATCH(A184,IF(Entradas!$B$3:$B$5000=D184,Entradas!$A$3:$A$5000),1))),\"Preço não registrado\")","v":""},"",null,null,"",""]
[null,null,"",null,"","",null,{"$f":"IFERROR(IF(D185=\"\",\"\",INDEX(Entradas!$H$3:$H$5000,MATCH(A185,IF(Entradas!$B$3:$B$5000=D185,Entradas!$A$3:$A$5000),1))),\"Preço não registrado\")","v":""},"",null,null,"",""]
[null,null,"",null,"","",null,{"$f":"IFERROR(IF(D186=\"\",\"\",INDEX(Entradas!$H$3:$H$5000,MATCH(A186,IF(Entradas!$B$3:$B$5000=D186,Entradas!$A$3:$A$5000),1))),\"Preço não registrado\")","v":""},"",null,null,"",""]
[null,null,"",null,"","",null,{"$f":"IFERROR(IF(D187=\"\",\"\",INDEX(Entradas!$H$3:$H$5000,MATCH(A187,IF(Entradas!$B$3:$B$5000=D187,Entradas!$A$3:$A$5000),1))),\"Preço não registrado\")","v":""},"",null,null,"",""]
[null,null,"",null,"","",null,{"$f":"IFERROR(IF(D188=\"\",\"\",INDEX(Entradas!$H$3:$H$5000,MATCH(A188,IF(Entradas!$B$3:$B$5000=D188,Entradas!$A$3:$A$5000),1))),\"Preço não registrado\")","v":""},"",null,null,"",""]
[null,null,"",null,"","",null,{"$f":"IFERROR(IF(D189=\"\",\"\",INDEX(Entradas!$H$3:$H$5000,MATCH(A189,IF(Entradas!$B$3:$B$5000=D189,Entradas!$A$3:$A$5000),1))),\"Preço não registrado\")","v":""},"",null,null,"",""]
[null,null,"",null,"","",null,{"$f":"IFERROR(IF(D190=\"\",\"\",INDEX(Entradas!$H$3:$H$5000,MATCH(A190,IF(Entradas!$B$3:$B$5000=D190,Entradas!$A$3:$A$5000),1))),\"Preço não registrado\")","v":""},"",null,null,"",""]
[null,null,"",null,"","",null,{"$f":"IFERROR(IF(D191=\"\",\"\",INDEX(Entradas!$H$3:$H$5000,MATCH(A191,IF(Entradas!$B$3:$B$5000=D191,Entradas!$A$3:$A$5000),1))),\"Preço não registrado\")","v":""},"",null,null,"",""]
[null,null,"",null,"","",null,{"$f":"IFERROR(IF(D192=\"\",\"\",INDEX(Entradas!$H$3:$H$5000,MATCH(A192,IF(Entradas!$B$3:$B$5000=D192,Entradas!$A$3:$A$5000),1))),\"Preço não registrado\")","v":""},"",null,null,"",""]
[null,null,"",null,"","",null,{"$f":"IFERROR(IF(D193=\"\",\"\",INDEX(Entradas!$H$3:$H$5000,MATCH(A193,IF(Entradas!$B$3:$B$5000=D193,Entradas!$A$3:$A$5000),1))),\"Preço não registrado\")","v":""},"",null,null,"",""]
[null,null,"",null,"","",null,{"$f":"IFERROR(IF(D194=\"\",\"\",INDEX(Entradas!$H$3:$H$5000,MATCH(A194,IF(Entradas!$B$3:$B$5000=D194,Entradas!$A$3:$A$5000),1))),\"Preço não registrado\")","v":""},"",null,null,"",""]
[null,null,{"$f":"IFERROR(IF(B195=\"\",\"\",VLOOKUP(B195,Clientes,2,FALSE)),\"\")","v":""},null,{"$f":"IF(D195=\"\",\"\",VLOOKUP(D195,Itens,2,FALSE))","v":""},{"$f":"IF(D195=\"\",\"\",VLOOKUP(D195,Itens,3,FALSE))","v":""},null,{"$f":"IFERROR(IF(D195=\"\",\"\",INDEX(Entradas!$H$3:$H$5000,MATCH(A195,IF(Entradas!$B$3:$B$5000=D195,Entradas!$A$3:$A$5000),1))),\"Preço não registrado\")","v":""},"",null,null,"",""]
[null,null,"",null,"","",null,{"$f":"IFERROR(IF(D196=\"\",\"\",INDEX(Entradas!$H$3:$H$5000,MATCH(A196,IF(Entradas!$B$3:$B$5000=D196,Entradas!$A$3:$A$5000),1))),\"Preço não registrado\")","v":""},{"$f":"IFERROR(G196*H196,\"\")","v":""},null,null,{"$f":"IF(K196=\"\",\"\",HYPERLINK($P$13&K196,\"Rastreie aqui\"))","v":""},{"$f":"IF(A196=\"\",\"\",TEXT(A196,\"mmmm\"))","v":""}]
[null,null,"",null,"","",null,{"$f":"IFERROR(IF(D197=\"\",\"\",INDEX(Entradas!$H$3:$H$5000,MATCH(A197,IF(Entradas!$B$3:$B$5000=D197,Entradas!$A$3:$A$5000),1))),\"Preço não registrado\")","v":""},"",null,null,"",""]
[null,null,"",null,"","",null,{"$f":"IFERROR(IF(D198=\"\",\"\",INDEX(Entradas!$H$3:$H$5000,MATCH(A198,IF(Entradas!$B$3:$B$5000=D198,Entradas!$A$3:$A$5000),1))),\"Preço não registrado\")","v":""},"",null,null,"",""]
[null,null,"",null,"","",null,{"$f":"IFERROR(IF(D199=\"\",\"\",INDEX(Entradas!$H$3:$H$5000,MATCH(A199,IF(Entradas!$B$3:$B$5000=D199,Entradas!$A$3:$A$5000),1))),\"Preço não registrado\")","v":""},"",null,null,"",""]
[null,null,"",null,"","",null,{"$f":"IFERROR(IF(D200=\"\",\"\",INDEX(Entradas!$H$3:$H$5000,MATCH(A200,IF(Entradas!$B$3:$B$5000=D200,Entradas!$A$3:$A$5000),1))),\"Preço não registrado\")","v":""},"",null,null,"",""]
[null,null,"",null,"","",null,{"$f":"IFERROR(IF(D201=\"\",\"\",INDEX(Entradas!$H$3:$H$5000,MATCH(A201,IF(Entradas!$B$3:$B$5000=D201,Entradas!$A$3:$A$5000),1))),\"Preço não registrado\")","v":""},"",null,null,"",""]
[null,null,"",null,"","",null,{"$f":"IFERROR(IF(D202=\"\",\"\",INDEX(Entradas!$H$3:$H$5000,MATCH(A202,IF(Entradas!$B$3:$B$5000=D202,Entradas!$A$3:$A$5000),1))),\"Preço não registrado\")","v":""},"",null,null,"",""]
[null,null,"",null,"","",null,{"$f":"IFERROR(IF(D203=\"\",\"\",INDEX(Entradas!$H$3:$H$5000,MATCH(A203,IF(Entradas!$B$3:$B$5000=D203,Entradas!$A$3:$A$5000),1))),\"Preço não registrado\")","v":""},"",null,null,"",""]
[null,null,"",null,"","",null,{"$f":"IFERROR(IF(D204=\"\",\"\",INDEX(Entradas!$H$3:$H$5000,MATCH(A204,IF(Entradas!$B$3:$B$5000=D204,Entradas!$A$3:$A$5000),1))),\"Preço não registrado\")","v":""},"",null,null,"",""]
[null,null,"",null,"","",null,{"$f":"IFERROR(IF(D205=\"\",\"\",INDEX(Entradas!$H$3:$H$5000,MATCH(A205,IF(Entradas!$B$3:$B$5000=D205,Entradas!$A$3:$A$5000),1))),\"Preço não registrado\")","v":""},"",null,null,"",""]
[null,null,"",null,"","",null,{"$f":"IFERROR(IF(D206=\"\",\"\",INDEX(Entradas!$H$3:$H$5000,MATCH(A206,IF(Entradas!$B$3:$B$5000=D206,Entradas!$A$3:$A$5000),1))),\"Preço não registrado\")","v":""},"",null,null,"",""]
[null,null,"",null,"","",null,{"$f":"IFERROR(IF(D207=\"\",\"\",INDEX(Entradas!$H$3:$H$5000,MATCH(A207,IF(Entradas!$B$3:$B$5000=D207,Entradas!$A$3:$A$5000),1))),\"Preço não registrado\")","v":""},"",null,null,"",""]
[null,null,"",null,"","",null,{"$f":"IFERROR(IF(D208=\"\",\"\",INDEX(Entradas!$H$3:$H$5000,MATCH(A208,IF(Entradas!$B$3:$B$5000=D208,Entradas!$A$3:$A$5000),1))),\"Preço não registrado\")","v":""},"",null,null,"",""]
[null,null,"",null,"","",null,{"$f":"IFERROR(IF(D209=\"\",\"\",INDEX(Entradas!$H$3:$H$5000,MATCH(A209,IF(Entradas!$B$3:$B$5000=D209,Entradas!$A$3:$A$5000),1))),\"Preço não registrado\")","v":""},"",null,null,"",""]
[null,null,"",null,"","",null,{"$f":"IFERROR(IF(D210=\"\",\"\",INDEX(Entradas!$H$3:$H$5000,MATCH(A210,IF(Entradas!$B$3:$B$5000=D210,Entradas!$A$3:$A$5000),1))),\"Preço não registrado\")","v":""},"",null,null,"",""]
[null,null,"",null,"","",null,{"$f":"IFERROR(IF(D211=\"\",\"\",INDEX(Entradas!$H$3:$H$5000,MATCH(A211,IF(Entradas!$B$3:$B$5000=D211,Entradas!$A$3:$A$5000),1))),\"Preço não registrado\")","v":""},"",null,null,"",""]
[null,null,"",null,"","",null,{"$f":"IFERROR(IF(D212=\"\",\"\",INDEX(Entradas!$H$3:$H$5000,MATCH(A212,IF(Entradas!$B$3:$B$5000=D212,Entradas!$A$3:$A$5000),1))),\"Preço não registrado\")","v":""},"",null,null,"",""]
[null,null,"",null,"","",null,{"$f":"IFERROR(IF(D213=\"\",\"\",INDEX(Entradas!$H$3:$H$5000,MATCH(A213,IF(Entradas!$B$3:$B$5000=D213,Entradas!$A$3:$A$5000),1))),\"Preço não registrado\")","v":""},"",null,null,"",""]
[null,null,"",null,"","",null,{"$f":"IFERROR(IF(D214=\"\",\"\",INDEX(Entradas!$H$3:$H$5000,MATCH(A214,IF(Entradas!$B$3:$B$5000=D214,Entradas!$A$3:$A$5000),1))),\"Preço não registrado\")","v":""},"",null,null,"",""]
[null,null,"",null,"","",null,{"$f":"IFERROR(IF(D215=\"\",\"\",INDEX(Entradas!$H$3:$H$5000,MATCH(A215,IF(Entradas!$B$3:$B$5000=D215,Entradas!$A$3:$A$5000),1))),\"Preço não registrado\")","v":""},"",null,null,"",""]
[null,null,"",null,"","",null,{"$f":"IFERROR(IF(D216=\"\",\"\",INDEX(Entradas!$H$3:$H$5000,MATCH(A216,IF(Entradas!$B$3:$B$5000=D216,Entradas!$A$3:$A$5000),1))),\"Preço não registrado\")","v":""},"",null,null,"",""]
[null,null,"",null,"","",null,{"$f":"IFERROR(IF(D217=\"\",\"\",INDEX(Entradas!$H$3:$H$5000,MATCH(A217,IF(Entradas!$B$3:$B$5000=D217,Entradas!$A$3:$A$5000),1))),\"Preço não registrado\")","v":""},"",null,null,"",""]
[null,null,"",null,"","",null,{"$f":"IFERROR(IF(D218=\"\",\"\",INDEX(Entradas!$H$3:$H$5000,MATCH(A218,IF(Entradas!$B$3:$B$5000=D218,Entradas!$A$3:$A$5000),1))),\"Preço não registrado\")","v":""},"",null,null,"",""]
[null,null,"",null,"","",null,{"$f":"IFERROR(IF(D219=\"\",\"\",INDEX(Entradas!$H$3:$H$5000,MATCH(A219,IF(Entradas!$B$3:$B$5000=D219,Entradas!$A$3:$A$5000),1))),\"Preço não registrado\")","v":""},"",null,null,"",""]
[null,null,"",null,"","",null,{"$f":"IFERROR(IF(D220=\"\",\"\",INDEX(Entradas!$H$3:$H$5000,MATCH(A220,IF(Entradas!$B$3:$B$5000=D220,Entradas!$A$3:$A$5000),1))),\"Preço não registrado\")","v":""},"",null,null,"",""]
[null,null,"",null,"","",null,{"$f":"IFERROR(IF(D221=\"\",\"\",INDEX(Entradas!$H$3:$H$5000,MATCH(A221,IF(Entradas!$B$3:$B$5000=D221,Entradas!$A$3:$A$5000),1))),\"Preço não registrado\")","v":""},"",null,null,"",""]
[null,null,"",null,"","",null,{"$f":"IFERROR(IF(D222=\"\",\"\",INDEX(Entradas!$H$3:$H$5000,MATCH(A222,IF(Entradas!$B$3:$B$5000=D222,Entradas!$A$3:$A$5000),1))),\"Preço não registrado\")","v":""},"",null,null,"",""]
[null,null,"",null,"","",null,{"$f":"IFERROR(IF(D223=\"\",\"\",INDEX(Entradas!$H$3:$H$5000,MATCH(A223,IF(Entradas!$B$3:$B$5000=D223,Entradas!$A$3:$A$5000),1))),\"Preço não registrado\")","v":""},"",null,null,"",""]
[null,null,"",null,"","",null,{"$f":"IFERROR(IF(D224=\"\",\"\",INDEX(Entradas!$H$3:$H$5000,MATCH(A224,IF(Entradas!$B$3:$B$5000=D224,Entradas!$A$3:$A$5000),1))),\"Preço não registrado\")","v":""},"",null,null,"",""]
[null,null,"",null,"","",null,{"$f":"IFERROR(IF(D225=\"\",\"\",INDEX(Entradas!$H$3:$H$5000,MATCH(A225,IF(Entradas!$B$3:$B$5000=D225,Entradas!$A$3:$A$5000),1))),\"Preço não registrado\")","v":""},"",null,null,"",""]
[null,null,"",null,"","",null,{"$f":"IFERROR(IF(D226=\"\",\"\",INDEX(Entradas!$H$3:$H$5000,MATCH(A226,IF(Entradas!$B$3:$B$5000=D226,Entradas!$A$3:$A$5000),1))),\"Preço não registrado\")","v":""},"",null,null,"",""]
[null,null,"",null,"","",null,{"$f":"IFERROR(IF(D227=\"\",\"\",INDEX(Entradas!$H$3:$H$5000,MATCH(A227,IF(Entradas!$B$3:$B$5000=D227,Entradas!$A$3:$A$5000),1))),\"Preço não registrado\")","v":""},"",null,null,"",""]
[null,null,"",null,"","",null,{"$f":"IFERROR(IF(D228=\"\",\"\",INDEX(Entradas!$H$3:$H$5000,MATCH(A228,IF(Entradas!$B$3:$B$5000=D228,Entradas!$A$3:$A$5000),1))),\"Preço não registrado\")","v":""},"",null,null,"",""]
[null,null,"",null,"","",null,{"$f":"IFERROR(IF(D229=\"\",\"\",INDEX(Entradas!$H$3:$H$5000,MATCH(A229,IF(Entradas!$B$3:$B$5000=D229,Entradas!$A$3:$A$5000),1))),\"Preço não registrado\")","v":""},"",null,null,"",""]
[null,null,"",null,"","",null,{"$f":"IFERROR(IF(D230=\"\",\"\",INDEX(Entradas!$H$3:$H$5000,MATCH(A230,IF(Entradas!$B$3:$B$5000=D230,Entradas!$A$3:$A$5000),1))),\"Preço não registrado\")","v":""},"",null,null,"",""]
[null,null,"",null,"","",null,{"$f":"IFERROR(IF(D231=\"\",\"\",INDEX(Entradas!$H$3:$H$5000,MATCH(A231,IF(Entradas!$B$3:$B$5000=D231,Entradas!$A$3:$A$5000),1))),\"Preço não registrado\")","v":""},"",null,null,"",""]
[null,null,"",null,"","",null,{"$f":"IFERROR(IF(D232=\"\",\"\",INDEX(Entradas!$H$3:$H$5000,MATCH(A232,IF(Entradas!$B$3:$B$5000=D232,Entradas!$A$3:$A$5000),1))),\"Preço não registrado\")","v":""},"",null,null,"",""]
[null,null,"",null,"","",null,{"$f":"IFERROR(IF(D233=\"\",\"\",INDEX(Entradas!$H$3:$H$5000,MATCH(A233,IF(Entradas!$B$3:$B$5000=D233,Entradas!$A$3:$A$5000),1))),\"Preço não registrado\")","v":""},"",null,null,"",""]
[null,null,"",null,"","",null,{"$f":"IFERROR(IF(D234=\"\",\"\",INDEX(Entradas!$H$3:$H$5000,MATCH(A234,IF(Entradas!$B$3:$B$5000=D234,Entradas!$A$3:$A$5000),1))),\"Preço não registrado\")","v":""},"",null,null,"",""]
[null,null,"",null,"","",null,{"$f":"IFERROR(IF(D235=\"\",\"\",INDEX(Entradas!$H$3:$H$5000,MATCH(A235,IF(Entradas!$B$3:$B$5000=D235,Entradas!$A$3:$A$5000),1))),\"Preço não registrado\")","v":""},"",null,null,"",""]
[null,null,"",null,"","",null,{"$f":"IFERROR(IF(D236=\"\",\"\",INDEX(Entradas!$H$3:$H$5000,MATCH(A236,IF(Entradas!$B$3:$B$5000=D236,Entradas!$A$3:$A$5000),1))),\"Preço não registrado\")","v":""},"",null,null,"",""]
[null,null,"",null,"","",null,{"$f":"IFERROR(IF(D237=\"\",\"\",INDEX(Entradas!$H$3:$H$5000,MATCH(A237,IF(Entradas!$B$3:$B$5000=D237,Entradas!$A$3:$A$5000),1))),\"Preço não registrado\")","v":""},"",null,null,"",""]
[null,null,"",null,"","",null,{"$f":"IFERROR(IF(D238=\"\",\"\",INDEX(Entradas!$H$3:$H$5000,MATCH(A238,IF(Entradas!$B$3:$B$5000=D238,Entradas!$A$3:$A$5000),1))),\"Preço não registrado\")","v":""},"",null,null,"",""]
[null,null,"",null,"","",null,{"$f":"IFERROR(IF(D239=\"\",\"\",INDEX(Entradas!$H$3:$H$5000,MATCH(A239,IF(Entradas!$B$3:$B$5000=D239,Entradas!$A$3:$A$5000),1))),\"Preço não registrado\")","v":""},"",null,null,"",""]
[null,null,"",null,"","",null,{"$f":"IFERROR(IF(D240=\"\",\"\",INDEX(Entradas!$H$3:$H$5000,MATCH(A240,IF(Entradas!$B$3:$B$5000=D240,Entradas!$A$3:$A$5000),1))),\"Preço não registrado\")","v":""},"",null,null,"",""]
[null,null,"",null,"","",null,{"$f":"IFERROR(IF(D241=\"\",\"\",INDEX(Entradas!$H$3:$H$5000,MATCH(A241,IF(Entradas!$B$3:$B$5000=D241,Entradas!$A$3:$A$5000),1))),\"Preço não registrado\")","v":""},"",null,null,"",""]
[null,null,"",null,"","",null,{"$f":"IFERROR(IF(D242=\"\",\"\",INDEX(Entradas!$H$3:$H$5000,MATCH(A242,IF(Entradas!$B$3:$B$5000=D242,Entradas!$A$3:$A$5000),1))),\"Preço não registrado\")","v":""},"",null,null,"",""]
[null,null,"",null,"","",null,{"$f":"IFERROR(IF(D243=\"\",\"\",INDEX(Entradas!$H$3:$H$5000,MATCH(A243,IF(Entradas!$B$3:$B$5000=D243,Entradas!$A$3:$A$5000),1))),\"Preço não registrado\")","v":""},"",null,null,"",""]
[null,null,"",null,"","",null,{"$f":"IFERROR(IF(D244=\"\",\"\",INDEX(Entradas!$H$3:$H$5000,MATCH(A244,IF(Entradas!$B$3:$B$5000=D244,Entradas!$A$3:$A$5000),1))),\"Preço não registrado\")","v":""},"",null,null,"",""]
[null,null,"",null,"","",null,{"$f":"IFERROR(IF(D245=\"\",\"\",INDEX(Entradas!$H$3:$H$5000,MATCH(A245,IF(Entradas!$B$3:$B$5000=D245,Entradas!$A$3:$A$5000),1))),\"Preço não registrado\")","v":""},"",null,null,"",""]
[null,null,"",null,"","",null,{"$f":"IFERROR(IF(D246=\"\",\"\",INDEX(Entradas!$H$3:$H$5000,MATCH(A246,IF(Entradas!$B$3:$B$5000=D246,Entradas!$A$3:$A$5000),1))),\"Preço não registrado\")","v":""},"",null,null,"",""]
[null,null,"",null,"","",null,{"$f":"IFERROR(IF(D247=\"\",\"\",INDEX(Entradas!$H$3:$H$5000,MATCH(A247,IF(Entradas!$B$3:$B$5000=D247,Entradas!$A$3:$A$5000),1))),\"Preço não registrado\")","v":""},"",null,null,"",""]
[null,null,"",null,"","",null,{"$f":"IFERROR(IF(D248=\"\",\"\",INDEX(Entradas!$H$3:$H$5000,MATCH(A248,IF(Entradas!$B$3:$B$5000=D248,Entradas!$A$3:$A$5000),1))),\"Preço não registrado\")","v":""},"",null,null,"",""]
[null,null,"",null,"","",null,{"$f":"IFERROR(IF(D249=\"\",\"\",INDEX(Entradas!$H$3:$H$5000,MATCH(A249,IF(Entradas!$B$3:$B$5000=D249,Entradas!$A$3:$A$5000),1))),\"Preço não registrado\")","v":""},"",null,null,"",""]
[null,null,"",null,"","",null,{"$f":"IFERROR(IF(D250=\"\",\"\",INDEX(Entradas!$H$3:$H$5000,MATCH(A250,IF(Entradas!$B$3:$B$5000=D250,Entradas!$A$3:$A$5000),1))),\"Preço não registrado\")","v":""},"",null,null,"",""]
[null,null,"",null,"","",null,{"$f":"IFERROR(IF(D251=\"\",\"\",INDEX(Entradas!$H$3:$H$5000,MATCH(A251,IF(Entradas!$B$3:$B$5000=D251,Entradas!$A$3:$A$5000),1))),\"Preço não registrado\")","v":""},"",null,null,"",""]
[null,null,"",null,"","",null,{"$f":"IFERROR(IF(D252=\"\",\"\",INDEX(Entradas!$H$3:$H$5000,MATCH(A252,IF(Entradas!$B$3:$B$5000=D252,Entradas!$A$3:$A$5000),1))),\"Preço não registrado\")","v":""},"",null,null,"",""]
[null,null,"",null,"","",null,{"$f":"IFERROR(IF(D253=\"\",\"\",INDEX(Entradas!$H$3:$H$5000,MATCH(A253,IF(Entradas!$B$3:$B$5000=D253,Entradas!$A$3:$A$5000),1))),\"Preço não registrado\")","v":""},"",null,null,"",""]
[null,null,"",null,"","",null,{"$f":"IFERROR(IF(D254=\"\",\"\",INDEX(Entradas!$H$3:$H$5000,MATCH(A254,IF(Entradas!$B$3:$B$5000=D254,Entradas!$A$3:$A$5000),1))),\"Preço não registrado\")","v":""},"",null,null,"",""]
[null,null,"",null,"","",null,{"$f":"IFERROR(IF(D255=\"\",\"\",INDEX(Entradas!$H$3:$H$5000,MATCH(A255,IF(Entradas!$B$3:$B$5000=D255,Entradas!$A$3:$A$5000),1))),\"Preço não registrado\")","v":""},"",null,null,"",""]
[null,null,"",null,"","",null,{"$f":"IFERROR(IF(D256=\"\",\"\",INDEX(Entradas!$H$3:$H$5000,MATCH(A256,IF(Entradas!$B$3:$B$5000=D256,Entradas!$A$3:$A$5000),1))),\"Preço não registrado\")","v":""},"",null,null,"",""]
[null,null,"",null,"","",null,{"$f":"IFERROR(IF(D257=\"\",\"\",INDEX(Entradas!$H$3:$H$5000,MATCH(A257,IF(Entradas!$B$3:$B$5000=D257,Entradas!$A$3:$A$5000),1))),\"Preço não registrado\")","v":""},"",null,null,"",""]
[null,null,"",null,"","",null,{"$f":"IFERROR(IF(D258=\"\",\"\",INDEX(Entradas!$H$3:$H$5000,MATCH(A258,IF(Entradas!$B$3:$B$5000=D258,Entradas!$A$3:$A$5000),1))),\"Preço não registrado\")","v":""},"",null,null,"",""]
[null,null,{"$f":"IFERROR(IF(B259=\"\",\"\",VLOOKUP(B259,Clientes,2,FALSE)),\"\")","v":""},null,{"$f":"IF(D259=\"\",\"\",VLOOKUP(D259,Itens,2,FALSE))","v":""},{"$f":"IF(D259=\"\",\"\",VLOOKUP(D259,Itens,3,FALSE))","v":""},null,{"$f":"IFERROR(IF(D259=\"\",\"\",INDEX(Entradas!$H$3:$H$5000,MATCH(A259,IF(Entradas!$B$3:$B$5000=D259,Entradas!$A$3:$A$5000),1))),\"Preço não registrado\")","v":""},"",null,null,"",""]
[null,null,"",null,"","",null,{"$f":"IFERROR(IF(D260=\"\",\"\",INDEX(Entradas!$H$3:$H$5000,MATCH(A260,IF(Entradas!$B$3:$B$5000=D260,Entradas!$A$3:$A$5000),1))),\"Preço não registrado\")","v":""},{"$f":"IFERROR(G260*H260,\"\")","v":""},null,null,{"$f":"IF(K260=\"\",\"\",HYPERLINK($P$13&K260,\"Rastreie aqui\"))","v":""},{"$f":"IF(A260=\"\",\"\",TEXT(A260,\"mmmm\"))","v":""}]
[null,null,"",null,"","",null,{"$f":"IFERROR(IF(D261=\"\",\"\",INDEX(Entradas!$H$3:$H$5000,MATCH(A261,IF(Entradas!$B$3:$B$5000=D261,Entradas!$A$3:$A$5000),1))),\"Preço não registrado\")","v":""},"",null,null,"",""]
[null,null,"",null,"","",null,{"$f":"IFERROR(IF(D262=\"\",\"\",INDEX(Entradas!$H$3:$H$5000,MATCH(A262,IF(Entradas!$B$3:$B$5000=D262,Entradas!$A$3:$A$5000),1))),\"Preço não registrado\")","v":""},"",null,null,"",""]
[null,null,"",null,"","",null,{"$f":"IFERROR(IF(D263=\"\",\"\",INDEX(Entradas!$H$3:$H$5000,MATCH(A263,IF(Entradas!$B$3:$B$5000=D263,Entradas!$A$3:$A$5000),1))),\"Preço não registrado\")","v":""},"",null,null,"",""]
[null,null,"",null,"","",null,{"$f":"IFERROR(IF(D264=\"\",\"\",INDEX(Entradas!$H$3:$H$5000,MATCH(A264,IF(Entradas!$B$3:$B$5000=D264,Entradas!$A$3:$A$5000),1))),\"Preço não registrado\")","v":""},"",null,null,"",""]
[null,null,"",null,"","",null,{"$f":"IFERROR(IF(D265=\"\",\"\",INDEX(Entradas!$H$3:$H$5000,MATCH(A265,IF(Entradas!$B$3:$B$5000=D265,Entradas!$A$3:$A$5000),1))),\"Preço não registrado\")","v":""},"",null,null,"",""]
[null,null,"",null,"","",null,{"$f":"IFERROR(IF(D266=\"\",\"\",INDEX(Entradas!$H$3:$H$5000,MATCH(A266,IF(Entradas!$B$3:$B$5000=D266,Entradas!$A$3:$A$5000),1))),\"Preço não registrado\")","v":""},"",null,null,"",""]
[null,null,"",null,"","",null,{"$f":"IFERROR(IF(D267=\"\",\"\",INDEX(Entradas!$H$3:$H$5000,MATCH(A267,IF(Entradas!$B$3:$B$5000=D267,Entradas!$A$3:$A$5000),1))),\"Preço não registrado\")","v":""},"",null,null,"",""]
[null,null,"",null,"","",null,{"$f":"IFERROR(IF(D268=\"\",\"\",INDEX(Entradas!$H$3:$H$5000,MATCH(A268,IF(Entradas!$B$3:$B$5000=D268,Entradas!$A$3:$A$5000),1))),\"Preço não registrado\")","v":""},"",null,null,"",""]
[null,null,"",null,"","",null,{"$f":"IFERROR(IF(D269=\"\",\"\",INDEX(Entradas!$H$3:$H$5000,MATCH(A269,IF(Entradas!$B$3:$B$5000=D269,Entradas!$A$3:$A$5000),1))),\"Preço não registrado\")","v":""},"",null,null,"",""]
[null,null,"",null,"","",null,{"$f":"IFERROR(IF(D270=\"\",\"\",INDEX(Entradas!$H$3:$H$5000,MATCH(A270,IF(Entradas!$B$3:$B$5000=D270,Entradas!$A$3:$A$5000),1))),\"Preço não registrado\")","v":""},"",null,null,"",""]
[null,null,"",null,"","",null,{"$f":"IFERROR(IF(D271=\"\",\"\",INDEX(Entradas!$H$3:$H$5000,MATCH(A271,IF(Entradas!$B$3:$B$5000=D271,Entradas!$A$3:$A$5000),1))),\"Preço não registrado\")","v":""},"",null,null,"",""]
[null,null,"",null,"","",null,{"$f":"IFERROR(IF(D272=\"\",\"\",INDEX(Entradas!$H$3:$H$5000,MATCH(A272,IF(Entradas!$B$3:$B$5000=D272,Entradas!$A$3:$A$5000),1))),\"Preço não registrado\")","v":""},"",null,null,"",""]
[null,null,"",null,"","",null,{"$f":"IFERROR(IF(D273=\"\",\"\",INDEX(Entradas!$H$3:$H$5000,MATCH(A273,IF(Entradas!$B$3:$B$5000=D273,Entradas!$A$3:$A$5000),1))),\"Preço não registrado\")","v":""},"",null,null,"",""]
[null,null,"",null,"","",null,{"$f":"IFERROR(IF(D274=\"\",\"\",INDEX(Entradas!$H$3:$H$5000,MATCH(A274,IF(Entradas!$B$3:$B$5000=D274,Entradas!$A$3:$A$5000),1))),\"Preço não registrado\")","v":""},"",null,null,"",""]
[null,null,"",null,"","",null,{"$f":"IFERROR(IF(D275=\"\",\"\",INDEX(Entradas!$H$3:$H$5000,MATCH(A275,IF(Entradas!$B$3:$B$5000=D275,Entradas!$A$3:$A$5000),1))),\"Preço não registrado\")","v":""},"",null,null,"",""]
[null,null,"",null,"","",null,{"$f":"IFERROR(IF(D276=\"\",\"\",INDEX(Entradas!$H$3:$H$5000,MATCH(A276,IF(Entradas!$B$3:$B$5000=D276,Entradas!$A$3:$A$5000),1))),\"Preço não registrado\")","v":""},"",null,null,"",""]
[null,null,"",null,"","",null,{"$f":"IFERROR(IF(D277=\"\",\"\",INDEX(Entradas!$H$3:$H$5000,MATCH(A277,IF(Entradas!$B$3:$B$5000=D277,Entradas!$A$3:$A$5000),1))),\"Preço não registrado\")","v":""},"",null,null,"",""]
[null,null,"",null,"","",null,{"$f":"IFERROR(IF(D278=\"\",\"\",INDEX(Entradas!$H$3:$H$5000,MATCH(A278,IF(Entradas!$B$3:$B$5000=D278,Entradas!$A$3:$A$5000),1))),\"Preço não registrado\")","v":""},"",null,null,"",""]
[null,null,"",null,"","",null,{"$f":"IFERROR(IF(D279=\"\",\"\",INDEX(Entradas!$H$3:$H$5000,MATCH(A279,IF(Entradas!$B$3:$B$5000=D279,Entradas!$A$3:$A$5000),1))),\"Preço não registrado\")","v":""},"",null,null,"",""]
[null,null,"",null,"","",null,{"$f":"IFERROR(IF(D280=\"\",\"\",INDEX(Entradas!$H$3:$H$5000,MATCH(A280,IF(Entradas!$B$3:$B$5000=D280,Entradas!$A$3:$A$5000),1))),\"Preço não registrado\")","v":""},"",null,null,"",""]
[null,null,"",null,"","",null,{"$f":"IFERROR(IF(D281=\"\",\"\",INDEX(Entradas!$H$3:$H$5000,MATCH(A281,IF(Entradas!$B$3:$B$5000=D281,Entradas!$A$3:$A$5000),1))),\"Preço não registrado\")","v":""},"",null,null,"",""]
[null,null,"",null,"","",null,{"$f":"IFERROR(IF(D282=\"\",\"\",INDEX(Entradas!$H$3:$H$5000,MATCH(A282,IF(Entradas!$B$3:$B$5000=D282,Entradas!$A$3:$A$5000),1))),\"Preço não registrado\")","v":""},"",null,null,"",""]
[null,null,"",null,"","",null,{"$f":"IFERROR(IF(D283=\"\",\"\",INDEX(Entradas!$H$3:$H$5000,MATCH(A283,IF(Entradas!$B$3:$B$5000=D283,Entradas!$A$3:$A$5000),1))),\"Preço não registrado\")","v":""},"",null,null,"",""]
[null,null,"",null,"","",null,{"$f":"IFERROR(IF(D284=\"\",\"\",INDEX(Entradas!$H$3:$H$5000,MATCH(A284,IF(Entradas!$B$3:$B$5000=D284,Entradas!$A$3:$A$5000),1))),\"Preço não registrado\")","v":""},"",null,null,"",""]
[null,null,"",null,"","",null,{"$f":"IFERROR(IF(D285=\"\",\"\",INDEX(Entradas!$H$3:$H$5000,MATCH(A285,IF(Entradas!$B$3:$B$5000=D285,Entradas!$A$3:$A$5000),1))),\"Preço não registrado\")","v":""},"",null,null,"",""]
[null,null,"",null,"","",null,{"$f":"IFERROR(IF(D286=\"\",\"\",INDEX(Entradas!$H$3:$H$5000,MATCH(A286,IF(Entradas!$B$3:$B$5000=D286,Entradas!$A$3:$A$5000),1))),\"Preço não registrado\")","v":""},"",null,null,"",""]
[null,null,"",null,"","",null,{"$f":"IFERROR(IF(D287=\"\",\"\",INDEX(Entradas!$H$3:$H$5000,MATCH(A287,IF(Entradas!$B$3:$B$5000=D287,Entradas!$A$3:$A$5000),1))),\"Preço não registrado\")","v":""},"",null,null,"",""]
[null,null,"",null,"","",null,{"$f":"IFERROR(IF(D288=\"\",\"\",INDEX(Entradas!$H$3:$H$5000,MATCH(A288,IF(Entradas!$B$3:$B$5000=D288,Entradas!$A$3:$A$5000),1))),\"Preço não registrado\")","v":""},"",null,null,"",""]
[null,null,"",null,"","",null,{"$f":"IFERROR(IF(D289=\"\",\"\",INDEX(Entradas!$H$3:$H$5000,MATCH(A289,IF(Entradas!$B$3:$B$5000=D289,Entradas!$A$3:$A$5000),1))),\"Preço não registrado\")","v":""},"",null,null,"",""]
[null,null,"",null,"","",null,{"$f":"IFERROR(IF(D290=\"\",\"\",INDEX(Entradas!$H$3:$H$5000,MATCH(A290,IF(Entradas!$B$3:$B$5000=D290,Entradas!$A$3:$A$5000),1))),\"Preço não registrado\")","v":""},"",null,null,"",""]
[null,null,"",null,"","",null,{"$f":"IFERROR(IF(D291=\"\",\"\",INDEX(Entradas!$H$3:$H$5000,MATCH(A291,IF(Entradas!$B$3:$B$5000=D291,Entradas!$A$3:$A$5000),1))),\"Preço não registrado\")","v":""},"",null,null,"",""]
[null,null,"",null,"","",null,{"$f":"IFERROR(IF(D292=\"\",\"\",INDEX(Entradas!$H$3:$H$5000,MATCH(A292,IF(Entradas!$B$3:$B$5000=D292,Entradas!$A$3:$A$5000),1))),\"Preço não registrado\")","v":""},"",null,null,"",""]
[null,null,"",null,"","",null,{"$f":"IFERROR(IF(D293=\"\",\"\",INDEX(Entradas!$H$3:$H$5000,MATCH(A293,IF(Entradas!$B$3:$B$5000=D293,Entradas!$A$3:$A$5000),1))),\"Preço não registrado\")","v":""},"",null,null,"",""]
[null,null,"",null,"","",null,{"$f":"IFERROR(IF(D294=\"\",\"\",INDEX(Entradas!$H$3:$H$5000,MATCH(A294,IF(Entradas!$B$3:$B$5000=D294,Entradas!$A$3:$A$5000),1))),\"Preço não registrado\")","v":""},"",null,null,"",""]
[null,null,"",null,"","",null,{"$f":"IFERROR(IF(D295=\"\",\"\",INDEX(Entradas!$H$3:$H$5000,MATCH(A295,IF(Entradas!$B$3:$B$5000=D295,Entradas!$A$3:$A$5000),1))),\"Preço não registrado\")","v":""},"",null,null,"",""]
[null,null,"",null,"","",null,{"$f":"IFERROR(IF(D296=\"\",\"\",INDEX(Entradas!$H$3:$H$5000,MATCH(A296,IF(Entradas!$B$3:$B$5000=D296,Entradas!$A$3:$A$5000),1))),\"Preço não registrado\")","v":""},"",null,null,"",""]
[null,null,"",null,"","",null,{"$f":"IFERROR(IF(D297=\"\",\"\",INDEX(Entradas!$H$3:$H$5000,MATCH(A297,IF(Entradas!$B$3:$B$5000=D297,Entradas!$A$3:$A$5000),1))),\"Preço não registrado\")","v":""},"",null,null,"",""]
[null,null,"",null,"","",null,{"$f":"IFERROR(IF(D298=\"\",\"\",INDEX(Entradas!$H$3:$H$5000,MATCH(A298,IF(Entradas!$B$3:$B$5000=D298,Entradas!$A$3:$A$5000),1))),\"Preço não registrado\")","v":""},"",null,null,"",""]
[null,null,"",null,"","",null,{"$f":"IFERROR(IF(D299=\"\",\"\",INDEX(Entradas!$H$3:$H$5000,MATCH(A299,IF(Entradas!$B$3:$B$5000=D299,Entradas!$A$3:$A$5000),1))),\"Preço não registrado\")","v":""},"",null,null,"",""]
[null,null,"",null,"","",null,{"$f":"IFERROR(IF(D300=\"\",\"\",INDEX(Entradas!$H$3:$H$5000,MATCH(A300,IF(Entradas!$B$3:$B$5000=D300,Entradas!$A$3:$A$5000),1))),\"Preço não registrado\")","v":""},"",null,null,"",""]
[null,null,"",null,"","",null,{"$f":"IFERROR(IF(D301=\"\",\"\",INDEX(Entradas!$H$3:$H$5000,MATCH(A301,IF(Entradas!$B$3:$B$5000=D301,Entradas!$A$3:$A$5000),1))),\"Preço não registrado\")","v":""},"",null,null,"",""]
[null,null,"",null,"","",null,{"$f":"IFERROR(IF(D302=\"\",\"\",INDEX(Entradas!$H$3:$H$5000,MATCH(A302,IF(Entradas!$B$3:$B$5000=D302,Entradas!$A$3:$A$5000),1))),\"Preço não registrado\")","v":""},"",null,null,"",""]
[null,null,"",null,"","",null,{"$f":"IFERROR(IF(D303=\"\",\"\",INDEX(Entradas!$H$3:$H$5000,MATCH(A303,IF(Entradas!$B$3:$B$5000=D303,Entradas!$A$3:$A$5000),1))),\"Preço não registrado\")","v":""},"",null,null,"",""]
[null,null,"",null,"","",null,{"$f":"IFERROR(IF(D304=\"\",\"\",INDEX(Entradas!$H$3:$H$5000,MATCH(A304,IF(Entradas!$B$3:$B$5000=D304,Entradas!$A$3:$A$5000),1))),\"Preço não registrado\")","v":""},"",null,null,"",""]
[null,null,"",null,"","",null,{"$f":"IFERROR(IF(D305=\"\",\"\",INDEX(Entradas!$H$3:$H$5000,MATCH(A305,IF(Entradas!$B$3:$B$5000=D305,Entradas!$A$3:$A$5000),1))),\"Preço não registrado\")","v":""},"",null,null,"",""]
[null,null,"",null,"","",null,{"$f":"IFERROR(IF(D306=\"\",\"\",INDEX(Entradas!$H$3:$H$5000,MATCH(A306,IF(Entradas!$B$3:$B$5000=D306,Entradas!$A$3:$A$5000),1))),\"Preço não registrado\")","v":""},"",null,null,"",""]
[null,null,"",null,"","",null,{"$f":"IFERROR(IF(D307=\"\",\"\",INDEX(Entradas!$H$3:$H$5000,MATCH(A307,IF(Entradas!$B$3:$B$5000=D307,Entradas!$A$3:$A$5000),1))),\"Preço não registrado\")","v":""},"",null,null,"",""]
[null,null,"",null,"","",null,{"$f":"IFERROR(IF(D308=\"\",\"\",INDEX(Entradas!$H$3:$H$5000,MATCH(A308,IF(Entradas!$B$3:$B$5000=D308,Entradas!$A$3:$A$5000),1))),\"Preço não registrado\")","v":""},"",null,null,"",""]
[null,null,"",null,"","",null,{"$f":"IFERROR(IF(D309=\"\",\"\",INDEX(Entradas!$H$3:$H$5000,MATCH(A309,IF(Entradas!$B$3:$B$5000=D309,Entradas!$A$3:$A$5000),1))),\"Preço não registrado\")","v":""},"",null,null,"",""]
[null,null,"",null,"","",null,{"$f":"IFERROR(IF(D310=\"\",\"\",INDEX(Entradas!$H$3:$H$5000,MATCH(A310,IF(Entradas!$B$3:$B$5000=D310,Entradas!$A$3:$A$5000),1))),\"Preço não registrado\")","v":""},"",null,null,"",""]
[null,null,"",null,"","",null,{"$f":"IFERROR(IF(D311=\"\",\"\",INDEX(Entradas!$H$3:$H$5000,MATCH(A311,IF(Entradas!$B$3:$B$5000=D311,Entradas!$A$3:$A$5000),1))),\"Preço não registrado\")","v":""},"",null,null,"",""]
[null,null,"",null,"","",null,{"$f":"IFERROR(IF(D312=\"\",\"\",INDEX(Entradas!$H$3:$H$5000,MATCH(A312,IF(Entradas!$B$3:$B$5000=D312,Entradas!$A$3:$A$5000),1))),\"Preço não registrado\")","v":""},"",null,null,"",""]
[null,null,"",null,"","",null,{"$f":"IFERROR(IF(D313=\"\",\"\",INDEX(Entradas!$H$3:$H$5000,MATCH(A313,IF(Entradas!$B$3:$B$5000=D313,Entradas!$A$3:$A$5000),1))),\"Preço não registrado\")","v":""},"",null,null,"",""]
[null,null,"",null,"","",null,{"$f":"IFERROR(IF(D314=\"\",\"\",INDEX(Entradas!$H$3:$H$5000,MATCH(A314,IF(Entradas!$B$3:$B$5000=D314,Entradas!$A$3:$A$5000),1))),\"Preço não registrado\")","v":""},"",null,null,"",""]
[null,null,"",null,"","",null,{"$f":"IFERROR(IF(D315=\"\",\"\",INDEX(Entradas!$H$3:$H$5000,MATCH(A315,IF(Entradas!$B$3:$B$5000=D315,Entradas!$A$3:$A$5000),1))),\"Preço não registrado\")","v":""},"",null,null,"",""]
[null,null,"",null,"","",null,{"$f":"IFERROR(IF(D316=\"\",\"\",INDEX(Entradas!$H$3:$H$5000,MATCH(A316,IF(Entradas!$B$3:$B$5000=D316,Entradas!$A$3:$A$5000),1))),\"Preço não registrado\")","v":""},"",null,null,"",""]
[null,null,"",null,"","",null,{"$f":"IFERROR(IF(D317=\"\",\"\",INDEX(Entradas!$H$3:$H$5000,MATCH(A317,IF(Entradas!$B$3:$B$5000=D317,Entradas!$A$3:$A$5000),1))),\"Preço não registrado\")","v":""},"",null,null,"",""]
[null,null,"",null,"","",null,{"$f":"IFERROR(IF(D318=\"\",\"\",INDEX(Entradas!$H$3:$H$5000,MATCH(A318,IF(Entradas!$B$3:$B$5000=D318,Entradas!$A$3:$A$5000),1))),\"Preço não registrado\")","v":""},"",null,null,"",""]
[null,null,"",null,"","",null,{"$f":"IFERROR(IF(D319=\"\",\"\",INDEX(Entradas!$H$3:$H$5000,MATCH(A319,IF(Entradas!$B$3:$B$5000=D319,Entradas!$A$3:$A$5000),1))),\"Preço não registrado\")","v":""},"",null,null,"",""]
[null,null,"",null,"","",null,{"$f":"IFERROR(IF(D320=\"\",\"\",INDEX(Entradas!$H$3:$H$5000,MATCH(A320,IF(Entradas!$B$3:$B$5000=D320,Entradas!$A$3:$A$5000),1))),\"Preço não registrado\")","v":""},"",null,null,"",""]
[null,null,"",null,"","",null,{"$f":"IFERROR(IF(D321=\"\",\"\",INDEX(Entradas!$H$3:$H$5000,MATCH(A321,IF(Entradas!$B$3:$B$5000=D321,Entradas!$A$3:$A$5000),1))),\"Preço não registrado\")","v":""},"",null,null,"",""]
[null,null,"",null,"","",null,{"$f":"IFERROR(IF(D322=\"\",\"\",INDEX(Entradas!$H$3:$H$5000,MATCH(A322,IF(Entradas!$B$3:$B$5000=D322,Entradas!$A$3:$A$5000),1))),\"Preço não registrado\")","v":""},"",null,null,"",""]
[null,null,{"$f":"IFERROR(IF(B323=\"\",\"\",VLOOKUP(B323,Clientes,2,FALSE)),\"\")","v":""},null,{"$f":"IF(D323=\"\",\"\",VLOOKUP(D323,Itens,2,FALSE))","v":""},{"$f":"IF(D323=\"\",\"\",VLOOKUP(D323,Itens,3,FALSE))","v":""},null,{"$f":"IFERROR(IF(D323=\"\",\"\",INDEX(Entradas!$H$3:$H$5000,MATCH(A323,IF(Entradas!$B$3:$B$5000=D323,Entradas!$A$3:$A$5000),1))),\"Preço não registrado\")","v":""},"",null,null,"",""]
[null,null,"",null,"","",null,{"$f":"IFERROR(IF(D324=\"\",\"\",INDEX(Entradas!$H$3:$H$5000,MATCH(A324,IF(Entradas!$B$3:$B$5000=D324,Entradas!$A$3:$A$5000),1))),\"Preço não registrado\")","v":""},{"$f":"IFERROR(G324*H324,\"\")","v":""},null,null,{"$f":"IF(K324=\"\",\"\",HYPERLINK($P$13&K324,\"Rastreie aqui\"))","v":""},{"$f":"IF(A324=\"\",\"\",TEXT(A324,\"mmmm\"))","v":""}]
[null,null,"",null,"","",null,{"$f":"IFERROR(IF(D325=\"\",\"\",INDEX(Entradas!$H$3:$H$5000,MATCH(A325,IF(Entradas!$B$3:$B$5000=D325,Entradas!$A$3:$A$5000),1))),\"Preço não registrado\")","v":""},"",null,null,"",""]
[null,null,"",null,"","",null,{"$f":"IFERROR(IF(D326=\"\",\"\",INDEX(Entradas!$H$3:$H$5000,MATCH(A326,IF(Entradas!$B$3:$B$5000=D326,Entradas!$A$3:$A$5000),1))),\"Preço não registrado\")","v":""},"",null,null,"",""]
[null,null,"",null,"","",null,{"$f":"IFERROR(IF(D327=\"\",\"\",INDEX(Entradas!$H$3:$H$5000,MATCH(A327,IF(Entradas!$B$3:$B$5000=D327,Entradas!$A$3:$A$5000),1))),\"Preço não registrado\")","v":""},"",null,null,"",""]
[null,null,"",null,"","",null,{"$f":"IFERROR(IF(D328=\"\",\"\",INDEX(Entradas!$H$3:$H$5000,MATCH(A328,IF(Entradas!$B$3:$B$5000=D328,Entradas!$A$3:$A$5000),1))),\"Preço não registrado\")","v":""},"",null,null,"",""]
[null,null,"",null,"","",null,{"$f":"IFERROR(IF(D329=\"\",\"\",INDEX(Entradas!$H$3:$H$5000,MATCH(A329,IF(Entradas!$B$3:$B$5000=D329,Entradas!$A$3:$A$5000),1))),\"Preço não registrado\")","v":""},"",null,null,"",""]
[null,null,"",null,"","",null,{"$f":"IFERROR(IF(D330=\"\",\"\",INDEX(Entradas!$H$3:$H$5000,MATCH(A330,IF(Entradas!$B$3:$B$5000=D330,Entradas!$A$3:$A$5000),1))),\"Preço não registrado\")","v":""},"",null,null,"",""]
[null,null,"",null,"","",null,{"$f":"IFERROR(IF(D331=\"\",\"\",INDEX(Entradas!$H$3:$H$5000,MATCH(A331,IF(Entradas!$B$3:$B$5000=D331,Entradas!$A$3:$A$5000),1))),\"Preço não registrado\")","v":""},"",null,null,"",""]
[null,null,"",null,"","",null,{"$f":"IFERROR(IF(D332=\"\",\"\",INDEX(Entradas!$H$3:$H$5000,MATCH(A332,IF(Entradas!$B$3:$B$5000=D332,Entradas!$A$3:$A$5000),1))),\"Preço não registrado\")","v":""},"",null,null,"",""]
[null,null,"",null,"","",null,{"$f":"IFERROR(IF(D333=\"\",\"\",INDEX(Entradas!$H$3:$H$5000,MATCH(A333,IF(Entradas!$B$3:$B$5000=D333,Entradas!$A$3:$A$5000),1))),\"Preço não registrado\")","v":""},"",null,null,"",""]
[null,null,"",null,"","",null,{"$f":"IFERROR(IF(D334=\"\",\"\",INDEX(Entradas!$H$3:$H$5000,MATCH(A334,IF(Entradas!$B$3:$B$5000=D334,Entradas!$A$3:$A$5000),1))),\"Preço não registrado\")","v":""},"",null,null,"",""]
[null,null,"",null,"","",null,{"$f":"IFERROR(IF(D335=\"\",\"\",INDEX(Entradas!$H$3:$H$5000,MATCH(A335,IF(Entradas!$B$3:$B$5000=D335,Entradas!$A$3:$A$5000),1))),\"Preço não registrado\")","v":""},"",null,null,"",""]
[null,null,"",null,"","",null,{"$f":"IFERROR(IF(D336=\"\",\"\",INDEX(Entradas!$H$3:$H$5000,MATCH(A336,IF(Entradas!$B$3:$B$5000=D336,Entradas!$A$3:$A$5000),1))),\"Preço não registrado\")","v":""},"",null,null,"",""]
[null,null,"",null,"","",null,{"$f":"IFERROR(IF(D337=\"\",\"\",INDEX(Entradas!$H$3:$H$5000,MATCH(A337,IF(Entradas!$B$3:$B$5000=D337,Entradas!$A$3:$A$5000),1))),\"Preço não registrado\")","v":""},"",null,null,"",""]
[null,null,"",null,"","",null,{"$f":"IFERROR(IF(D338=\"\",\"\",INDEX(Entradas!$H$3:$H$5000,MATCH(A338,IF(Entradas!$B$3:$B$5000=D338,Entradas!$A$3:$A$5000),1))),\"Preço não registrado\")","v":""},"",null,null,"",""]
[null,null,"",null,"","",null,{"$f":"IFERROR(IF(D339=\"\",\"\",INDEX(Entradas!$H$3:$H$5000,MATCH(A339,IF(Entradas!$B$3:$B$5000=D339,Entradas!$A$3:$A$5000),1))),\"Preço não registrado\")","v":""},"",null,null,"",""]
[null,null,"",null,"","",null,{"$f":"IFERROR(IF(D340=\"\",\"\",INDEX(Entradas!$H$3:$H$5000,MATCH(A340,IF(Entradas!$B$3:$B$5000=D340,Entradas!$A$3:$A$5000),1))),\"Preço não registrado\")","v":""},"",null,null,"",""]
[null,null,"",null,"","",null,{"$f":"IFERROR(IF(D341=\"\",\"\",INDEX(Entradas!$H$3:$H$5000,MATCH(A341,IF(Entradas!$B$3:$B$5000=D341,Entradas!$A$3:$A$5000),1))),\"Preço não registrado\")","v":""},"",null,null,"",""]
[null,null,"",null,"","",null,{"$f":"IFERROR(IF(D342=\"\",\"\",INDEX(Entradas!$H$3:$H$5000,MATCH(A342,IF(Entradas!$B$3:$B$5000=D342,Entradas!$A$3:$A$5000),1))),\"Preço não registrado\")","v":""},"",null,null,"",""]
[null,null,"",null,"","",null,{"$f":"IFERROR(IF(D343=\"\",\"\",INDEX(Entradas!$H$3:$H$5000,MATCH(A343,IF(Entradas!$B$3:$B$5000=D343,Entradas!$A$3:$A$5000),1))),\"Preço não registrado\")","v":""},"",null,null,"",""]
[null,null,"",null,"","",null,{"$f":"IFERROR(IF(D344=\"\",\"\",INDEX(Entradas!$H$3:$H$5000,MATCH(A344,IF(Entradas!$B$3:$B$5000=D344,Entradas!$A$3:$A$5000),1))),\"Preço não registrado\")","v":""},"",null,null,"",""]
[null,null,"",null,"","",null,{"$f":"IFERROR(IF(D345=\"\",\"\",INDEX(Entradas!$H$3:$H$5000,MATCH(A345,IF(Entradas!$B$3:$B$5000=D345,Entradas!$A$3:$A$5000),1))),\"Preço não registrado\")","v":""},"",null,null,"",""]
[null,null,"",null,"","",null,{"$f":"IFERROR(IF(D346=\"\",\"\",INDEX(Entradas!$H$3:$H$5000,MATCH(A346,IF(Entradas!$B$3:$B$5000=D346,Entradas!$A$3:$A$5000),1))),\"Preço não registrado\")","v":""},"",null,null,"",""]
[null,null,"",null,"","",null,{"$f":"IFERROR(IF(D347=\"\",\"\",INDEX(Entradas!$H$3:$H$5000,MATCH(A347,IF(Entradas!$B$3:$B$5000=D347,Entradas!$A$3:$A$5000),1))),\"Preço não registrado\")","v":""},"",null,null,"",""]
[null,null,"",null,"","",null,{"$f":"IFERROR(IF(D348=\"\",\"\",INDEX(Entradas!$H$3:$H$5000,MATCH(A348,IF(Entradas!$B$3:$B$5000=D348,Entradas!$A$3:$A$5000),1))),\"Preço não registrado\")","v":""},"",null,null,"",""]
[null,null,"",null,"","",null,{"$f":"IFERROR(IF(D349=\"\",\"\",INDEX(Entradas!$H$3:$H$5000,MATCH(A349,IF(Entradas!$B$3:$B$5000=D349,Entradas!$A$3:$A$5000),1))),\"Preço não registrado\")","v":""},"",null,null,"",""]
[null,null,"",null,"","",null,{"$f":"IFERROR(IF(D350=\"\",\"\",INDEX(Entradas!$H$3:$H$5000,MATCH(A350,IF(Entradas!$B$3:$B$5000=D350,Entradas!$A$3:$A$5000),1))),\"Preço não registrado\")","v":""},"",null,null,"",""]
[null,null,"",null,"","",null,{"$f":"IFERROR(IF(D351=\"\",\"\",INDEX(Entradas!$H$3:$H$5000,MATCH(A351,IF(Entradas!$B$3:$B$5000=D351,Entradas!$A$3:$A$5000),1))),\"Preço não registrado\")","v":""},"",null,null,"",""]
[null,null,"",null,"","",null,{"$f":"IFERROR(IF(D352=\"\",\"\",INDEX(Entradas!$H$3:$H$5000,MATCH(A352,IF(Entradas!$B$3:$B$5000=D352,Entradas!$A$3:$A$5000),1))),\"Preço não registrado\")","v":""},"",null,null,"",""]
[null,null,"",null,"","",null,{"$f":"IFERROR(IF(D353=\"\",\"\",INDEX(Entradas!$H$3:$H$5000,MATCH(A353,IF(Entradas!$B$3:$B$5000=D353,Entradas!$A$3:$A$5000),1))),\"Preço não registrado\")","v":""},"",null,null,"",""]
[null,null,"",null,"","",null,{"$f":"IFERROR(IF(D354=\"\",\"\",INDEX(Entradas!$H$3:$H$5000,MATCH(A354,IF(Entradas!$B$3:$B$5000=D354,Entradas!$A$3:$A$5000),1))),\"Preço não registrado\")","v":""},"",null,null,"",""]
[null,null,"",null,"","",null,{"$f":"IFERROR(IF(D355=\"\",\"\",INDEX(Entradas!$H$3:$H$5000,MATCH(A355,IF(Entradas!$B$3:$B$5000=D355,Entradas!$A$3:$A$5000),1))),\"Preço não registrado\")","v":""},"",null,null,"",""]
[null,null,"",null,"","",null,{"$f":"IFERROR(IF(D356=\"\",\"\",INDEX(Entradas!$H$3:$H$5000,MATCH(A356,IF(Entradas!$B$3:$B$5000=D356,Entradas!$A$3:$A$5000),1))),\"Preço não registrado\")","v":""},"",null,null,"",""]
[null,null,"",null,"","",null,{"$f":"IFERROR(IF(D357=\"\",\"\",INDEX(Entradas!$H$3:$H$5000,MATCH(A357,IF(Entradas!$B$3:$B$5000=D357,Entradas!$A$3:$A$5000),1))),\"Preço não registrado\")","v":""},"",null,null,"",""]
[null,null,"",null,"","",null,{"$f":"IFERROR(IF(D358=\"\",\"\",INDEX(Entradas!$H$3:$H$5000,MATCH(A358,IF(Entradas!$B$3:$B$5000=D358,Entradas!$A$3:$A$5000),1))),\"Preço não registrado\")","v":""},"",null,null,"",""]
[null,null,"",null,"","",null,{"$f":"IFERROR(IF(D359=\"\",\"\",INDEX(Entradas!$H$3:$H$5000,MATCH(A359,IF(Entradas!$B$3:$B$5000=D359,Entradas!$A$3:$A$5000),1))),\"Preço não registrado\")","v":""},"",null,null,"",""]
[null,null,"",null,"","",null,{"$f":"IFERROR(IF(D360=\"\",\"\",INDEX(Entradas!$H$3:$H$5000,MATCH(A360,IF(Entradas!$B$3:$B$5000=D360,Entradas!$A$3:$A$5000),1))),\"Preço não registrado\")","v":""},"",null,null,"",""]
[null,null,"",null,"","",null,{"$f":"IFERROR(IF(D361=\"\",\"\",INDEX(Entradas!$H$3:$H$5000,MATCH(A361,IF(Entradas!$B$3:$B$5000=D361,Entradas!$A$3:$A$5000),1))),\"Preço não registrado\")","v":""},"",null,null,"",""]
[null,null,"",null,"","",null,{"$f":"IFERROR(IF(D362=\"\",\"\",INDEX(Entradas!$H$3:$H$5000,MATCH(A362,IF(Entradas!$B$3:$B$5000=D362,Entradas!$A$3:$A$5000),1))),\"Preço não registrado\")","v":""},"",null,null,"",""]
[null,null,"",null,"","",null,{"$f":"IFERROR(IF(D363=\"\",\"\",INDEX(Entradas!$H$3:$H$5000,MATCH(A363,IF(Entradas!$B$3:$B$5000=D363,Entradas!$A$3:$A$5000),1))),\"Preço não registrado\")","v":""},"",null,null,"",""]
[null,null,"",null,"","",null,{"$f":"IFERROR(IF(D364=\"\",\"\",INDEX(Entradas!$H$3:$H$5000,MATCH(A364,IF(Entradas!$B$3:$B$5000=D364,Entradas!$A$3:$A$5000),1))),\"Preço não registrado\")","v":""},"",null,null,"",""]
[null,null,"",null,"","",null,{"$f":"IFERROR(IF(D365=\"\",\"\",INDEX(Entradas!$H$3:$H$5000,MATCH(A365,IF(Entradas!$B$3:$B$5000=D365,Entradas!$A$3:$A$5000),1))),\"Preço não registrado\")","v":""},"",null,null,"",""]
[null,null,"",null,"","",null,{"$f":"IFERROR(IF(D366=\"\",\"\",INDEX(Entradas!$H$3:$H$5000,MATCH(A366,IF(Entradas!$B$3:$B$5000=D366,Entradas!$A$3:$A$5000),1))),\"Preço não registrado\")","v":""},"",null,null,"",""]
[null,null,"",null,"","",null,{"$f":"IFERROR(IF(D367=\"\",\"\",INDEX(Entradas!$H$3:$H$5000,MATCH(A367,IF(Entradas!$B$3:$B$5000=D367,Entradas!$A$3:$A$5000),1))),\"Preço não registrado\")","v":""},"",null,null,"",""]
[null,null,"",null,"","",null,{"$f":"IFERROR(IF(D368=\"\",\"\",INDEX(Entradas!$H$3:$H$5000,MATCH(A368,IF(Entradas!$B$3:$B$5000=D368,Entradas!$A$3:$A$5000),1))),\"Preço não registrado\")","v":""},"",null,null,"",""]
[null,null,"",null,"","",null,{"$f":"IFERROR(IF(D369=\"\",\"\",INDEX(Entradas!$H$3:$H$5000,MATCH(A369,IF(Entradas!$B$3:$B$5000=D369,Entradas!$A$3:$A$5000),1))),\"Preço não registrado\")","v":""},"",null,null,"",""]
[null,null,"",null,"","",null,{"$f":"IFERROR(IF(D370=\"\",\"\",INDEX(Entradas!$H$3:$H$5000,MATCH(A370,IF(Entradas!$B$3:$B$5000=D370,Entradas!$A$3:$A$5000),1))),\"Preço não registrado\")","v":""},"",null,null,"",""]
[null,null,"",null,"","",null,{"$f":"IFERROR(IF(D371=\"\",\"\",INDEX(Entradas!$H$3:$H$5000,MATCH(A371,IF(Entradas!$B$3:$B$5000=D371,Entradas!$A$3:$A$5000),1))),\"Preço não registrado\")","v":""},"",null,null,"",""]
[null,null,"",null,"","",null,{"$f":"IFERROR(IF(D372=\"\",\"\",INDEX(Entradas!$H$3:$H$5000,MATCH(A372,IF(Entradas!$B$3:$B$5000=D372,Entradas!$A$3:$A$5000),1))),\"Preço não registrado\")","v":""},"",null,null,"",""]
[null,null,"",null,"","",null,{"$f":"IFERROR(IF(D373=\"\",\"\",INDEX(Entradas!$H$3:$H$5000,MATCH(A373,IF(Entradas!$B$3:$B$5000=D373,Entradas!$A$3:$A$5000),1))),\"Preço não registrado\")","v":""},"",null,null,"",""]
[null,null,"",null,"","",null,{"$f":"IFERROR(IF(D374=\"\",\"\",INDEX(Entradas!$H$3:$H$5000,MATCH(A374,IF(Entradas!$B$3:$B$5000=D374,Entradas!$A$3:$A$5000),1))),\"Preço não registrado\")","v":""},"",null,null,"",""]
[null,null,"",null,"","",null,{"$f":"IFERROR(IF(D375=\"\",\"\",INDEX(Entradas!$H$3:$H$5000,MATCH(A375,IF(Entradas!$B$3:$B$5000=D375,Entradas!$A$3:$A$5000),1))),\"Preço não registrado\")","v":""},"",null,null,"",""]
[null,null,"",null,"","",null,{"$f":"IFERROR(IF(D376=\"\",\"\",INDEX(Entradas!$H$3:$H$5000,MATCH(A376,IF(Entradas!$B$3:$B$5000=D376,Entradas!$A$3:$A$5000),1))),\"Preço não registrado\")","v":""},"",null,null,"",""]
[null,null,"",null,"","",null,{"$f":"IFERROR(IF(D377=\"\",\"\",INDEX(Entradas!$H$3:$H$5000,MATCH(A377,IF(Entradas!$B$3:$B$5000=D377,Entradas!$A$3:$A$5000),1))),\"Preço não registrado\")","v":""},"",null,null,"",""]
[null,null,"",null,"","",null,{"$f":"IFERROR(IF(D378=\"\",\"\",INDEX(Entradas!$H$3:$H$5000,MATCH(A378,IF(Entradas!$B$3:$B$5000=D378,Entradas!$A$3:$A$5000),1))),\"Preço não registrado\")","v":""},"",null,null,"",""]
[null,null,"",null,"","",null,{"$f":"IFERROR(IF(D379=\"\",\"\",INDEX(Entradas!$H$3:$H$5000,MATCH(A379,IF(Entradas!$B$3:$B$5000=D379,Entradas!$A$3:$A$5000),1))),\"Preço não registrado\")","v":""},"",null,null,"",""]
[null,null,"",null,"","",null,{"$f":"IFERROR(IF(D380=\"\",\"\",INDEX(Entradas!$H$3:$H$5000,MATCH(A380,IF(Entradas!$B$3:$B$5000=D380,Entradas!$A$3:$A$5000),1))),\"Preço não registrado\")","v":""},"",null,null,"",""]
[null,null,"",null,"","",null,{"$f":"IFERROR(IF(D381=\"\",\"\",INDEX(Entradas!$H$3:$H$5000,MATCH(A381,IF(Entradas!$B$3:$B$5000=D381,Entradas!$A$3:$A$5000),1))),\"Preço não registrado\")","v":""},"",null,null,"",""]
[null,null,"",null,"","",null,{"$f":"IFERROR(IF(D382=\"\",\"\",INDEX(Entradas!$H$3:$H$5000,MATCH(A382,IF(Entradas!$B$3:$B$5000=D382,Entradas!$A$3:$A$5000),1))),\"Preço não registrado\")","v":""},"",null,null,"",""]
[null,null,"",null,"","",null,{"$f":"IFERROR(IF(D383=\"\",\"\",INDEX(Entradas!$H$3:$H$5000,MATCH(A383,IF(Entradas!$B$3:$B$5000=D383,Entradas!$A$3:$A$5000),1))),\"Preço não registrado\")","v":""},"",null,null,"",""]
[null,null,"",null,"","",null,{"$f":"IFERROR(IF(D384=\"\",\"\",INDEX(Entradas!$H$3:$H$5000,MATCH(A384,IF(Entradas!$B$3:$B$5000=D384,Entradas!$A$3:$A$5000),1))),\"Preço não registrado\")","v":""},"",null,null,"",""]
[null,null,"",null,"","",null,{"$f":"IFERROR(IF(D385=\"\",\"\",INDEX(Entradas!$H$3:$H$5000,MATCH(A385,IF(Entradas!$B$3:$B$5000=D385,Entradas!$A$3:$A$5000),1))),\"Preço não registrado\")","v":""},"",null,null,"",""]
[null,null,"",null,"","",null,{"$f":"IFERROR(IF(D386=\"\",\"\",INDEX(Entradas!$H$3:$H$5000,MATCH(A386,IF(Entradas!$B$3:$B$5000=D386,Entradas!$A$3:$A$5000),1))),\"Preço não registrado\")","v":""},"",null,null,"",""]
[null,null,{"$f":"IFERROR(IF(B387=\"\",\"\",VLOOKUP(B387,Clientes,2,FALSE)),\"\")","v":""},null,{"$f":"IF(D387=\"\",\"\",VLOOKUP(D387,Itens,2,FALSE))","v":""},{"$f":"IF(D387=\"\",\"\",VLOOKUP(D387,Itens,3,FALSE))","v":""},null,{"$f":"IFERROR(IF(D387=\"\",\"\",INDEX(Entradas!$H$3:$H$5000,MATCH(A387,IF(Entradas!$B$3:$B$5000=D387,Entradas!$A$3:$A$5000),1))),\"Preço não registrado\")","v":""},"",null,null,"",""]
[null,null,"",null,"","",null,{"$f":"IFERROR(IF(D388=\"\",\"\",INDEX(Entradas!$H$3:$H$5000,MATCH(A388,IF(Entradas!$B$3:$B$5000=D388,Entradas!$A$3:$A$5000),1))),\"Preço não registrado\")","v":""},{"$f":"IFERROR(G388*H388,\"\")","v":""},null,null,{"$f":"IF(K388=\"\",\"\",HYPERLINK($P$13&K388,\"Rastreie aqui\"))","v":""},{"$f":"IF(A388=\"\",\"\",TEXT(A388,\"mmmm\"))","v":""}]
[null,null,"",null,"","",null,{"$f":"IFERROR(IF(D389=\"\",\"\",INDEX(Entradas!$H$3:$H$5000,MATCH(A389,IF(Entradas!$B$3:$B$5000=D389,Entradas!$A$3:$A$5000),1))),\"Preço não registrado\")","v":""},"",null,null,"",""]
[null,null,"",null,"","",null,{"$f":"IFERROR(IF(D390=\"\",\"\",INDEX(Entradas!$H$3:$H$5000,MATCH(A390,IF(Entradas!$B$3:$B$5000=D390,Entradas!$A$3:$A$5000),1))),\"Preço não registrado\")","v":""},"",null,null,"",""]
[null,null,"",null,"","",null,{"$f":"IFERROR(IF(D391=\"\",\"\",INDEX(Entradas!$H$3:$H$5000,MATCH(A391,IF(Entradas!$B$3:$B$5000=D391,Entradas!$A$3:$A$5000),1))),\"Preço não registrado\")","v":""},"",null,null,"",""]
[null,null,"",null,"","",null,{"$f":"IFERROR(IF(D392=\"\",\"\",INDEX(Entradas!$H$3:$H$5000,MATCH(A392,IF(Entradas!$B$3:$B$5000=D392,Entradas!$A$3:$A$5000),1))),\"Preço não registrado\")","v":""},"",null,null,"",""]
[null,null,"",null,"","",null,{"$f":"IFERROR(IF(D393=\"\",\"\",INDEX(Entradas!$H$3:$H$5000,MATCH(A393,IF(Entradas!$B$3:$B$5000=D393,Entradas!$A$3:$A$5000),1))),\"Preço não registrado\")","v":""},"",null,null,"",""]
[null,null,"",null,"","",null,{"$f":"IFERROR(IF(D394=\"\",\"\",INDEX(Entradas!$H$3:$H$5000,MATCH(A394,IF(Entradas!$B$3:$B$5000=D394,Entradas!$A$3:$A$5000),1))),\"Preço não registrado\")","v":""},"",null,null,"",""]
[null,null,"",null,"","",null,{"$f":"IFERROR(IF(D395=\"\",\"\",INDEX(Entradas!$H$3:$H$5000,MATCH(A395,IF(Entradas!$B$3:$B$5000=D395,Entradas!$A$3:$A$5000),1))),\"Preço não registrado\")","v":""},"",null,null,"",""]
[null,null,"",null,"","",null,{"$f":"IFERROR(IF(D396=\"\",\"\",INDEX(Entradas!$H$3:$H$5000,MATCH(A396,IF(Entradas!$B$3:$B$5000=D396,Entradas!$A$3:$A$5000),1))),\"Preço não registrado\")","v":""},"",null,null,"",""]
[null,null,"",null,"","",null,{"$f":"IFERROR(IF(D397=\"\",\"\",INDEX(Entradas!$H$3:$H$5000,MATCH(A397,IF(Entradas!$B$3:$B$5000=D397,Entradas!$A$3:$A$5000),1))),\"Preço não registrado\")","v":""},"",null,null,"",""]
[null,null,"",null,"","",null,{"$f":"IFERROR(IF(D398=\"\",\"\",INDEX(Entradas!$H$3:$H$5000,MATCH(A398,IF(Entradas!$B$3:$B$5000=D398,Entradas!$A$3:$A$5000),1))),\"Preço não registrado\")","v":""},"",null,null,"",""]
[null,null,"",null,"","",null,{"$f":"IFERROR(IF(D399=\"\",\"\",INDEX(Entradas!$H$3:$H$5000,MATCH(A399,IF(Entradas!$B$3:$B$5000=D399,Entradas!$A$3:$A$5000),1))),\"Preço não registrado\")","v":""},"",null,null,"",""]
[null,null,"",null,"","",null,{"$f":"IFERROR(IF(D400=\"\",\"\",INDEX(Entradas!$H$3:$H$5000,MATCH(A400,IF(Entradas!$B$3:$B$5000=D400,Entradas!$A$3:$A$5000),1))),\"Preço não registrado\")","v":""},"",null,null,"",""]
[null,null,"",null,"","",null,{"$f":"IFERROR(IF(D401=\"\",\"\",INDEX(Entradas!$H$3:$H$5000,MATCH(A401,IF(Entradas!$B$3:$B$5000=D401,Entradas!$A$3:$A$5000),1))),\"Preço não registrado\")","v":""},"",null,null,"",""]
[null,null,"",null,"","",null,{"$f":"IFERROR(IF(D402=\"\",\"\",INDEX(Entradas!$H$3:$H$5000,MATCH(A402,IF(Entradas!$B$3:$B$5000=D402,Entradas!$A$3:$A$5000),1))),\"Preço não registrado\")","v":""},"",null,null,"",""]
[null,null,"",null,"","",null,{"$f":"IFERROR(IF(D403=\"\",\"\",INDEX(Entradas!$H$3:$H$5000,MATCH(A403,IF(Entradas!$B$3:$B$5000=D403,Entradas!$A$3:$A$5000),1))),\"Preço não registrado\")","v":""},"",null,null,"",""]
[null,null,"",null,"","",null,{"$f":"IFERROR(IF(D404=\"\",\"\",INDEX(Entradas!$H$3:$H$5000,MATCH(A404,IF(Entradas!$B$3:$B$5000=D404,Entradas!$A$3:$A$5000),1))),\"Preço não registrado\")","v":""},"",null,null,"",""]
[null,null,"",null,"","",null,{"$f":"IFERROR(IF(D405=\"\",\"\",INDEX(Entradas!$H$3:$H$5000,MATCH(A405,IF(Entradas!$B$3:$B$5000=D405,Entradas!$A$3:$A$5000),1))),\"Preço não registrado\")","v":""},"",null,null,"",""]
[null,null,"",null,"","",null,{"$f":"IFERROR(IF(D406=\"\",\"\",INDEX(Entradas!$H$3:$H$5000,MATCH(A406,IF(Entradas!$B$3:$B$5000=D406,Entradas!$A$3:$A$5000),1))),\"Preço não registrado\")","v":""},"",null,null,"",""]
[null,null,"",null,"","",null,{"$f":"IFERROR(IF(D407=\"\",\"\",INDEX(Entradas!$H$3:$H$5000,MATCH(A407,IF(Entradas!$B$3:$B$5000=D407,Entradas!$A$3:$A$5000),1))),\"Preço não registrado\")","v":""},"",null,null,"",""]
[null,null,"",null,"","",null,{"$f":"IFERROR(IF(D408=\"\",\"\",INDEX(Entradas!$H$3:$H$5000,MATCH(A408,IF(Entradas!$B$3:$B$5000=D408,Entradas!$A$3:$A$5000),1))),\"Preço não registrado\")","v":""},"",null,null,"",""]
[null,null,"",null,"","",null,{"$f":"IFERROR(IF(D409=\"\",\"\",INDEX(Entradas!$H$3:$H$5000,MATCH(A409,IF(Entradas!$B$3:$B$5000=D409,Entradas!$A$3:$A$5000),1))),\"Preço não registrado\")","v":""},"",null,null,"",""]
[null,null,"",null,"","",null,{"$f":"IFERROR(IF(D410=\"\",\"\",INDEX(Entradas!$H$3:$H$5000,MATCH(A410,IF(Entradas!$B$3:$B$5000=D410,Entradas!$A$3:$A$5000),1))),\"Preço não registrado\")","v":""},"",null,null,"",""]
[null,null,"",null,"","",null,{"$f":"IFERROR(IF(D411=\"\",\"\",INDEX(Entradas!$H$3:$H$5000,MATCH(A411,IF(Entradas!$B$3:$B$5000=D411,Entradas!$A$3:$A$5000),1))),\"Preço não registrado\")","v":""},"",null,null,"",""]
[null,null,"",null,"","",null,{"$f":"IFERROR(IF(D412=\"\",\"\",INDEX(Entradas!$H$3:$H$5000,MATCH(A412,IF(Entradas!$B$3:$B$5000=D412,Entradas!$A$3:$A$5000),1))),\"Preço não registrado\")","v":""},"",null,null,"",""]
[null,null,"",null,"","",null,{"$f":"IFERROR(IF(D413=\"\",\"\",INDEX(Entradas!$H$3:$H$5000,MATCH(A413,IF(Entradas!$B$3:$B$5000=D413,Entradas!$A$3:$A$5000),1))),\"Preço não registrado\")","v":""},"",null,null,"",""]
[null,null,"",null,"","",null,{"$f":"IFERROR(IF(D414=\"\",\"\",INDEX(Entradas!$H$3:$H$5000,MATCH(A414,IF(Entradas!$B$3:$B$5000=D414,Entradas!$A$3:$A$5000),1))),\"Preço não registrado\")","v":""},"",null,null,"",""]
[null,null,"",null,"","",null,{"$f":"IFERROR(IF(D415=\"\",\"\",INDEX(Entradas!$H$3:$H$5000,MATCH(A415,IF(Entradas!$B$3:$B$5000=D415,Entradas!$A$3:$A$5000),1))),\"Preço não registrado\")","v":""},"",null,null,"",""]
[null,null,"",null,"","",null,{"$f":"IFERROR(IF(D416=\"\",\"\",INDEX(Entradas!$H$3:$H$5000,MATCH(A416,IF(Entradas!$B$3:$B$5000=D416,Entradas!$A$3:$A$5000),1))),\"Preço não registrado\")","v":""},"",null,null,"",""]
[null,null,"",null,"","",null,{"$f":"IFERROR(IF(D417=\"\",\"\",INDEX(Entradas!$H$3:$H$5000,MATCH(A417,IF(Entradas!$B$3:$B$5000=D417,Entradas!$A$3:$A$5000),1))),\"Preço não registrado\")","v":""},"",null,null,"",""]
[null,null,"",null,"","",null,{"$f":"IFERROR(IF(D418=\"\",\"\",INDEX(Entradas!$H$3:$H$5000,MATCH(A418,IF(Entradas!$B$3:$B$5000=D418,Entradas!$A$3:$A$5000),1))),\"Preço não registrado\")","v":""},"",null,null,"",""]
[null,null,"",null,"","",null,{"$f":"IFERROR(IF(D419=\"\",\"\",INDEX(Entradas!$H$3:$H$5000,MATCH(A419,IF(Entradas!$B$3:$B$5000=D419,Entradas!$A$3:$A$5000),1))),\"Preço não registrado\")","v":""},"",null,null,"",""]
[null,null,"",null,"","",null,{"$f":"IFERROR(IF(D420=\"\",\"\",INDEX(Entradas!$H$3:$H$5000,MATCH(A420,IF(Entradas!$B$3:$B$5000=D420,Entradas!$A$3:$A$5000),1))),\"Preço não registrado\")","v":""},"",null,null,"",""]
[null,null,"",null,"","",null,{"$f":"IFERROR(IF(D421=\"\",\"\",INDEX(Entradas!$H$3:$H$5000,MATCH(A421,IF(Entradas!$B$3:$B$5000=D421,Entradas!$A$3:$A$5000),1))),\"Preço não registrado\")","v":""},"",null,null,"",""]
[null,null,"",null,"","",null,{"$f":"IFERROR(IF(D422=\"\",\"\",INDEX(Entradas!$H$3:$H$5000,MATCH(A422,IF(Entradas!$B$3:$B$5000=D422,Entradas!$A$3:$A$5000),1))),\"Preço não registrado\")","v":""},"",null,null,"",""]
[null,null,"",null,"","",null,{"$f":"IFERROR(IF(D423=\"\",\"\",INDEX(Entradas!$H$3:$H$5000,MATCH(A423,IF(Entradas!$B$3:$B$5000=D423,Entradas!$A$3:$A$5000),1))),\"Preço não registrado\")","v":""},"",null,null,"",""]
[null,null,"",null,"","",null,{"$f":"IFERROR(IF(D424=\"\",\"\",INDEX(Entradas!$H$3:$H$5000,MATCH(A424,IF(Entradas!$B$3:$B$5000=D424,Entradas!$A$3:$A$5000),1))),\"Preço não registrado\")","v":""},"",null,null,"",""]
[null,null,"",null,"","",null,{"$f":"IFERROR(IF(D425=\"\",\"\",INDEX(Entradas!$H$3:$H$5000,MATCH(A425,IF(Entradas!$B$3:$B$5000=D425,Entradas!$A$3:$A$5000),1))),\"Preço não registrado\")","v":""},"",null,null,"",""]
[null,null,"",null,"","",null,{"$f":"IFERROR(IF(D426=\"\",\"\",INDEX(Entradas!$H$3:$H$5000,MATCH(A426,IF(Entradas!$B$3:$B$5000=D426,Entradas!$A$3:$A$5000),1))),\"Preço não registrado\")","v":""},"",null,null,"",""]
[null,null,"",null,"","",null,{"$f":"IFERROR(IF(D427=\"\",\"\",INDEX(Entradas!$H$3:$H$5000,MATCH(A427,IF(Entradas!$B$3:$B$5000=D427,Entradas!$A$3:$A$5000),1))),\"Preço não registrado\")","v":""},"",null,null,"",""]
[null,null,"",null,"","",null,{"$f":"IFERROR(IF(D428=\"\",\"\",INDEX(Entradas!$H$3:$H$5000,MATCH(A428,IF(Entradas!$B$3:$B$5000=D428,Entradas!$A$3:$A$5000),1))),\"Preço não registrado\")","v":""},"",null,null,"",""]
[null,null,"",null,"","",null,{"$f":"IFERROR(IF(D429=\"\",\"\",INDEX(Entradas!$H$3:$H$5000,MATCH(A429,IF(Entradas!$B$3:$B$5000=D429,Entradas!$A$3:$A$5000),1))),\"Preço não registrado\")","v":""},"",null,null,"",""]
[null,null,"",null,"","",null,{"$f":"IFERROR(IF(D430=\"\",\"\",INDEX(Entradas!$H$3:$H$5000,MATCH(A430,IF(Entradas!$B$3:$B$5000=D430,Entradas!$A$3:$A$5000),1))),\"Preço não registrado\")","v":""},"",null,null,"",""]
[null,null,"",null,"","",null,{"$f":"IFERROR(IF(D431=\"\",\"\",INDEX(Entradas!$H$3:$H$5000,MATCH(A431,IF(Entradas!$B$3:$B$5000=D431,Entradas!$A$3:$A$5000),1))),\"Preço não registrado\")","v":""},"",null,null,"",""]
[null,null,"",null,"","",null,{"$f":"IFERROR(IF(D432=\"\",\"\",INDEX(Entradas!$H$3:$H$5000,MATCH(A432,IF(Entradas!$B$3:$B$5000=D432,Entradas!$A$3:$A$5000),1))),\"Preço não registrado\")","v":""},"",null,null,"",""]
[null,null,"",null,"","",null,{"$f":"IFERROR(IF(D433=\"\",\"\",INDEX(Entradas!$H$3:$H$5000,MATCH(A433,IF(Entradas!$B$3:$B$5000=D433,Entradas!$A$3:$A$5000),1))),\"Preço não registrado\")","v":""},"",null,null,"",""]
[null,null,"",null,"","",null,{"$f":"IFERROR(IF(D434=\"\",\"\",INDEX(Entradas!$H$3:$H$5000,MATCH(A434,IF(Entradas!$B$3:$B$5000=D434,Entradas!$A$3:$A$5000),1))),\"Preço não registrado\")","v":""},"",null,null,"",""]
[null,null,"",null,"","",null,{"$f":"IFERROR(IF(D435=\"\",\"\",INDEX(Entradas!$H$3:$H$5000,MATCH(A435,IF(Entradas!$B$3:$B$5000=D435,Entradas!$A$3:$A$5000),1))),\"Preço não registrado\")","v":""},"",null,null,"",""]
[null,null,"",null,"","",null,{"$f":"IFERROR(IF(D436=\"\",\"\",INDEX(Entradas!$H$3:$H$5000,MATCH(A436,IF(Entradas!$B$3:$B$5000=D436,Entradas!$A$3:$A$5000),1))),\"Preço não registrado\")","v":""},"",null,null,"",""]
[null,null,"",null,"","",null,{"$f":"IFERROR(IF(D437=\"\",\"\",INDEX(Entradas!$H$3:$H$5000,MATCH(A437,IF(Entradas!$B$3:$B$5000=D437,Entradas!$A$3:$A$5000),1))),\"Preço não registrado\")","v":""},"",null,null,"",""]
[null,null,"",null,"","",null,{"$f":"IFERROR(IF(D438=\"\",\"\",INDEX(Entradas!$H$3:$H$5000,MATCH(A438,IF(Entradas!$B$3:$B$5000=D438,Entradas!$A$3:$A$5000),1))),\"Preço não registrado\")","v":""},"",null,null,"",""]
[null,null,"",null,"","",null,{"$f":"IFERROR(IF(D439=\"\",\"\",INDEX(Entradas!$H$3:$H$5000,MATCH(A439,IF(Entradas!$B$3:$B$5000=D439,Entradas!$A$3:$A$5000),1))),\"Preço não registrado\")","v":""},"",null,null,"",""]
[null,null,"",null,"","",null,{"$f":"IFERROR(IF(D440=\"\",\"\",INDEX(Entradas!$H$3:$H$5000,MATCH(A440,IF(Entradas!$B$3:$B$5000=D440,Entradas!$A$3:$A$5000),1))),\"Preço não registrado\")","v":""},"",null,null,"",""]
[null,null,"",null,"","",null,{"$f":"IFERROR(IF(D441=\"\",\"\",INDEX(Entradas!$H$3:$H$5000,MATCH(A441,IF(Entradas!$B$3:$B$5000=D441,Entradas!$A$3:$A$5000),1))),\"Preço não registrado\")","v":""},"",null,null,"",""]
[null,null,"",null,"","",null,{"$f":"IFERROR(IF(D442=\"\",\"\",INDEX(Entradas!$H$3:$H$5000,MATCH(A442,IF(Entradas!$B$3:$B$5000=D442,Entradas!$A$3:$A$5000),1))),\"Preço não registrado\")","v":""},"",null,null,"",""]
[null,null,"",null,"","",null,{"$f":"IFERROR(IF(D443=\"\",\"\",INDEX(Entradas!$H$3:$H$5000,MATCH(A443,IF(Entradas!$B$3:$B$5000=D443,Entradas!$A$3:$A$5000),1))),\"Preço não registrado\")","v":""},"",null,null,"",""]
[null,null,"",null,"","",null,{"$f":"IFERROR(IF(D444=\"\",\"\",INDEX(Entradas!$H$3:$H$5000,MATCH(A444,IF(Entradas!$B$3:$B$5000=D444,Entradas!$A$3:$A$5000),1))),\"Preço não registrado\")","v":""},"",null,null,"",""]
[null,null,"",null,"","",null,{"$f":"IFERROR(IF(D445=\"\",\"\",INDEX(Entradas!$H$3:$H$5000,MATCH(A445,IF(Entradas!$B$3:$B$5000=D445,Entradas!$A$3:$A$5000),1))),\"Preço não registrado\")","v":""},"",null,null,"",""]
[null,null,"",null,"","",null,{"$f":"IFERROR(IF(D446=\"\",\"\",INDEX(Entradas!$H$3:$H$5000,MATCH(A446,IF(Entradas!$B$3:$B$5000=D446,Entradas!$A$3:$A$5000),1))),\"Preço não registrado\")","v":""},"",null,null,"",""]
[null,null,"",null,"","",null,{"$f":"IFERROR(IF(D447=\"\",\"\",INDEX(Entradas!$H$3:$H$5000,MATCH(A447,IF(Entradas!$B$3:$B$5000=D447,Entradas!$A$3:$A$5000),1))),\"Preço não registrado\")","v":""},"",null,null,"",""]
[null,null,"",null,"","",null,{"$f":"IFERROR(IF(D448=\"\",\"\",INDEX(Entradas!$H$3:$H$5000,MATCH(A448,IF(Entradas!$B$3:$B$5000=D448,Entradas!$A$3:$A$5000),1))),\"Preço não registrado\")","v":""},"",null,null,"",""]
[null,null,"",null,"","",null,{"$f":"IFERROR(IF(D449=\"\",\"\",INDEX(Entradas!$H$3:$H$5000,MATCH(A449,IF(Entradas!$B$3:$B$5000=D449,Entradas!$A$3:$A$5000),1))),\"Preço não registrado\")","v":""},"",null,null,"",""]
[null,null,"",null,"","",null,{"$f":"IFERROR(IF(D450=\"\",\"\",INDEX(Entradas!$H$3:$H$5000,MATCH(A450,IF(Entradas!$B$3:$B$5000=D450,Entradas!$A$3:$A$5000),1))),\"Preço não registrado\")","v":""},"",null,null,"",""]
[null,null,{"$f":"IFERROR(IF(B451=\"\",\"\",VLOOKUP(B451,Clientes,2,FALSE)),\"\")","v":""},null,{"$f":"IF(D451=\"\",\"\",VLOOKUP(D451,Itens,2,FALSE))","v":""},{"$f":"IF(D451=\"\",\"\",VLOOKUP(D451,Itens,3,FALSE))","v":""},null,{"$f":"IFERROR(IF(D451=\"\",\"\",INDEX(Entradas!$H$3:$H$5000,MATCH(A451,IF(Entradas!$B$3:$B$5000=D451,Entradas!$A$3:$A$5000),1))),\"Preço não registrado\")","v":""},"",null,null,"",""]
[null,null,"",null,"","",null,{"$f":"IFERROR(IF(D452=\"\",\"\",INDEX(Entradas!$H$3:$H$5000,MATCH(A452,IF(Entradas!$B$3:$B$5000=D452,Entradas!$A$3:$A$5000),1))),\"Preço não registrado\")","v":""},{"$f":"IFERROR(G452*H452,\"\")","v":""},null,null,{"$f":"IF(K452=\"\",\"\",HYPERLINK($P$13&K452,\"Rastreie aqui\"))","v":""},{"$f":"IF(A452=\"\",\"\",TEXT(A452,\"mmmm\"))","v":""}]
[null,null,"",null,"","",null,{"$f":"IFERROR(IF(D453=\"\",\"\",INDEX(Entradas!$H$3:$H$5000,MATCH(A453,IF(Entradas!$B$3:$B$5000=D453,Entradas!$A$3:$A$5000),1))),\"Preço não registrado\")","v":""},"",null,null,"",""]
[null,null,"",null,"","",null,{"$f":"IFERROR(IF(D454=\"\",\"\",INDEX(Entradas!$H$3:$H$5000,MATCH(A454,IF(Entradas!$B$3:$B$5000=D454,Entradas!$A$3:$A$5000),1))),\"Preço não registrado\")","v":""},"",null,null,"",""]
[null,null,"",null,"","",null,{"$f":"IFERROR(IF(D455=\"\",\"\",INDEX(Entradas!$H$3:$H$5000,MATCH(A455,IF(Entradas!$B$3:$B$5000=D455,Entradas!$A$3:$A$5000),1))),\"Preço não registrado\")","v":""},"",null,null,"",""]
[null,null,"",null,"","",null,{"$f":"IFERROR(IF(D456=\"\",\"\",INDEX(Entradas!$H$3:$H$5000,MATCH(A456,IF(Entradas!$B$3:$B$5000=D456,Entradas!$A$3:$A$5000),1))),\"Preço não registrado\")","v":""},"",null,null,"",""]
[null,null,"",null,"","",null,{"$f":"IFERROR(IF(D457=\"\",\"\",INDEX(Entradas!$H$3:$H$5000,MATCH(A457,IF(Entradas!$B$3:$B$5000=D457,Entradas!$A$3:$A$5000),1))),\"Preço não registrado\")","v":""},"",null,null,"",""]
[null,null,"",null,"","",null,{"$f":"IFERROR(IF(D458=\"\",\"\",INDEX(Entradas!$H$3:$H$5000,MATCH(A458,IF(Entradas!$B$3:$B$5000=D458,Entradas!$A$3:$A$5000),1))),\"Preço não registrado\")","v":""},"",null,null,"",""]
[null,null,"",null,"","",null,{"$f":"IFERROR(IF(D459=\"\",\"\",INDEX(Entradas!$H$3:$H$5000,MATCH(A459,IF(Entradas!$B$3:$B$5000=D459,Entradas!$A$3:$A$5000),1))),\"Preço não registrado\")","v":""},"",null,null,"",""]
[null,null,"",null,"","",null,{"$f":"IFERROR(IF(D460=\"\",\"\",INDEX(Entradas!$H$3:$H$5000,MATCH(A460,IF(Entradas!$B$3:$B$5000=D460,Entradas!$A$3:$A$5000),1))),\"Preço não registrado\")","v":""},"",null,null,"",""]
[null,null,"",null,"","",null,{"$f":"IFERROR(IF(D461=\"\",\"\",INDEX(Entradas!$H$3:$H$5000,MATCH(A461,IF(Entradas!$B$3:$B$5000=D461,Entradas!$A$3:$A$5000),1))),\"Preço não registrado\")","v":""},"",null,null,"",""]
[null,null,"",null,"","",null,{"$f":"IFERROR(IF(D462=\"\",\"\",INDEX(Entradas!$H$3:$H$5000,MATCH(A462,IF(Entradas!$B$3:$B$5000=D462,Entradas!$A$3:$A$5000),1))),\"Preço não registrado\")","v":""},"",null,null,"",""]
[null,null,"",null,"","",null,{"$f":"IFERROR(IF(D463=\"\",\"\",INDEX(Entradas!$H$3:$H$5000,MATCH(A463,IF(Entradas!$B$3:$B$5000=D463,Entradas!$A$3:$A$5000),1))),\"Preço não registrado\")","v":""},"",null,null,"",""]
[null,null,"",null,"","",null,{"$f":"IFERROR(IF(D464=\"\",\"\",INDEX(Entradas!$H$3:$H$5000,MATCH(A464,IF(Entradas!$B$3:$B$5000=D464,Entradas!$A$3:$A$5000),1))),\"Preço não registrado\")","v":""},"",null,null,"",""]
[null,null,"",null,"","",null,{"$f":"IFERROR(IF(D465=\"\",\"\",INDEX(Entradas!$H$3:$H$5000,MATCH(A465,IF(Entradas!$B$3:$B$5000=D465,Entradas!$A$3:$A$5000),1))),\"Preço não registrado\")","v":""},"",null,null,"",""]
[null,null,"",null,"","",null,{"$f":"IFERROR(IF(D466=\"\",\"\",INDEX(Entradas!$H$3:$H$5000,MATCH(A466,IF(Entradas!$B$3:$B$5000=D466,Entradas!$A$3:$A$5000),1))),\"Preço não registrado\")","v":""},"",null,null,"",""]
[null,null,"",null,"","",null,{"$f":"IFERROR(IF(D467=\"\",\"\",INDEX(Entradas!$H$3:$H$5000,MATCH(A467,IF(Entradas!$B$3:$B$5000=D467,Entradas!$A$3:$A$5000),1))),\"Preço não registrado\")","v":""},"",null,null,"",""]
[null,null,"",null,"","",null,{"$f":"IFERROR(IF(D468=\"\",\"\",INDEX(Entradas!$H$3:$H$5000,MATCH(A468,IF(Entradas!$B$3:$B$5000=D468,Entradas!$A$3:$A$5000),1))),\"Preço não registrado\")","v":""},"",null,null,"",""]
[null,null,"",null,"","",null,{"$f":"IFERROR(IF(D469=\"\",\"\",INDEX(Entradas!$H$3:$H$5000,MATCH(A469,IF(Entradas!$B$3:$B$5000=D469,Entradas!$A$3:$A$5000),1))),\"Preço não registrado\")","v":""},"",null,null,"",""]
[null,null,"",null,"","",null,{"$f":"IFERROR(IF(D470=\"\",\"\",INDEX(Entradas!$H$3:$H$5000,MATCH(A470,IF(Entradas!$B$3:$B$5000=D470,Entradas!$A$3:$A$5000),1))),\"Preço não registrado\")","v":""},"",null,null,"",""]
[null,null,"",null,"","",null,{"$f":"IFERROR(IF(D471=\"\",\"\",INDEX(Entradas!$H$3:$H$5000,MATCH(A471,IF(Entradas!$B$3:$B$5000=D471,Entradas!$A$3:$A$5000),1))),\"Preço não registrado\")","v":""},"",null,null,"",""]
[null,null,"",null,"","",null,{"$f":"IFERROR(IF(D472=\"\",\"\",INDEX(Entradas!$H$3:$H$5000,MATCH(A472,IF(Entradas!$B$3:$B$5000=D472,Entradas!$A$3:$A$5000),1))),\"Preço não registrado\")","v":""},"",null,null,"",""]
[null,null,"",null,"","",null,{"$f":"IFERROR(IF(D473=\"\",\"\",INDEX(Entradas!$H$3:$H$5000,MATCH(A473,IF(Entradas!$B$3:$B$5000=D473,Entradas!$A$3:$A$5000),1))),\"Preço não registrado\")","v":""},"",null,null,"",""]
[null,null,"",null,"","",null,{"$f":"IFERROR(IF(D474=\"\",\"\",INDEX(Entradas!$H$3:$H$5000,MATCH(A474,IF(Entradas!$B$3:$B$5000=D474,Entradas!$A$3:$A$5000),1))),\"Preço não registrado\")","v":""},"",null,null,"",""]
[null,null,"",null,"","",null,{"$f":"IFERROR(IF(D475=\"\",\"\",INDEX(Entradas!$H$3:$H$5000,MATCH(A475,IF(Entradas!$B$3:$B$5000=D475,Entradas!$A$3:$A$5000),1))),\"Preço não registrado\")","v":""},"",null,null,"",""]
[null,null,"",null,"","",null,{"$f":"IFERROR(IF(D476=\"\",\"\",INDEX(Entradas!$H$3:$H$5000,MATCH(A476,IF(Entradas!$B$3:$B$5000=D476,Entradas!$A$3:$A$5000),1))),\"Preço não registrado\")","v":""},"",null,null,"",""]
[null,null,"",null,"","",null,{"$f":"IFERROR(IF(D477=\"\",\"\",INDEX(Entradas!$H$3:$H$5000,MATCH(A477,IF(Entradas!$B$3:$B$5000=D477,Entradas!$A$3:$A$5000),1))),\"Preço não registrado\")","v":""},"",null,null,"",""]
[null,null,"",null,"","",null,{"$f":"IFERROR(IF(D478=\"\",\"\",INDEX(Entradas!$H$3:$H$5000,MATCH(A478,IF(Entradas!$B$3:$B$5000=D478,Entradas!$A$3:$A$5000),1))),\"Preço não registrado\")","v":""},"",null,null,"",""]
[null,null,"",null,"","",null,{"$f":"IFERROR(IF(D479=\"\",\"\",INDEX(Entradas!$H$3:$H$5000,MATCH(A479,IF(Entradas!$B$3:$B$5000=D479,Entradas!$A$3:$A$5000),1))),\"Preço não registrado\")","v":""},"",null,null,"",""]
[null,null,"",null,"","",null,{"$f":"IFERROR(IF(D480=\"\",\"\",INDEX(Entradas!$H$3:$H$5000,MATCH(A480,IF(Entradas!$B$3:$B$5000=D480,Entradas!$A$3:$A$5000),1))),\"Preço não registrado\")","v":""},"",null,null,"",""]
[null,null,"",null,"","",null,{"$f":"IFERROR(IF(D481=\"\",\"\",INDEX(Entradas!$H$3:$H$5000,MATCH(A481,IF(Entradas!$B$3:$B$5000=D481,Entradas!$A$3:$A$5000),1))),\"Preço não registrado\")","v":""},"",null,null,"",""]
[null,null,"",null,"","",null,{"$f":"IFERROR(IF(D482=\"\",\"\",INDEX(Entradas!$H$3:$H$5000,MATCH(A482,IF(Entradas!$B$3:$B$5000=D482,Entradas!$A$3:$A$5000),1))),\"Preço não registrado\")","v":""},"",null,null,"",""]
[null,null,"",null,"","",null,{"$f":"IFERROR(IF(D483=\"\",\"\",INDEX(Entradas!$H$3:$H$5000,MATCH(A483,IF(Entradas!$B$3:$B$5000=D483,Entradas!$A$3:$A$5000),1))),\"Preço não registrado\")","v":""},"",null,null,"",""]
[null,null,"",null,"","",null,{"$f":"IFERROR(IF(D484=\"\",\"\",INDEX(Entradas!$H$3:$H$5000,MATCH(A484,IF(Entradas!$B$3:$B$5000=D484,Entradas!$A$3:$A$5000),1))),\"Preço não registrado\")","v":""},"",null,null,"",""]
[null,null,"",null,"","",null,{"$f":"IFERROR(IF(D485=\"\",\"\",INDEX(Entradas!$H$3:$H$5000,MATCH(A485,IF(Entradas!$B$3:$B$5000=D485,Entradas!$A$3:$A$5000),1))),\"Preço não registrado\")","v":""},"",null,null,"",""]
[null,null,"",null,"","",null,{"$f":"IFERROR(IF(D486=\"\",\"\",INDEX(Entradas!$H$3:$H$5000,MATCH(A486,IF(Entradas!$B$3:$B$5000=D486,Entradas!$A$3:$A$5000),1))),\"Preço não registrado\")","v":""},"",null,null,"",""]
[null,null,"",null,"","",null,{"$f":"IFERROR(IF(D487=\"\",\"\",INDEX(Entradas!$H$3:$H$5000,MATCH(A487,IF(Entradas!$B$3:$B$5000=D487,Entradas!$A$3:$A$5000),1))),\"Preço não registrado\")","v":""},"",null,null,"",""]
[null,null,"",null,"","",null,{"$f":"IFERROR(IF(D488=\"\",\"\",INDEX(Entradas!$H$3:$H$5000,MATCH(A488,IF(Entradas!$B$3:$B$5000=D488,Entradas!$A$3:$A$5000),1))),\"Preço não registrado\")","v":""},"",null,null,"",""]
[null,null,"",null,"","",null,{"$f":"IFERROR(IF(D489=\"\",\"\",INDEX(Entradas!$H$3:$H$5000,MATCH(A489,IF(Entradas!$B$3:$B$5000=D489,Entradas!$A$3:$A$5000),1))),\"Preço não registrado\")","v":""},"",null,null,"",""]
[null,null,"",null,"","",null,{"$f":"IFERROR(IF(D490=\"\",\"\",INDEX(Entradas!$H$3:$H$5000,MATCH(A490,IF(Entradas!$B$3:$B$5000=D490,Entradas!$A$3:$A$5000),1))),\"Preço não registrado\")","v":""},"",null,null,"",""]
[null,null,"",null,"","",null,{"$f":"IFERROR(IF(D491=\"\",\"\",INDEX(Entradas!$H$3:$H$5000,MATCH(A491,IF(Entradas!$B$3:$B$5000=D491,Entradas!$A$3:$A$5000),1))),\"Preço não registrado\")","v":""},"",null,null,"",""]
[null,null,"",null,"","",null,{"$f":"IFERROR(IF(D492=\"\",\"\",INDEX(Entradas!$H$3:$H$5000,MATCH(A492,IF(Entradas!$B$3:$B$5000=D492,Entradas!$A$3:$A$5000),1))),\"Preço não registrado\")","v":""},"",null,null,"",""]
[null,null,"",null,"","",null,{"$f":"IFERROR(IF(D493=\"\",\"\",INDEX(Entradas!$H$3:$H$5000,MATCH(A493,IF(Entradas!$B$3:$B$5000=D493,Entradas!$A$3:$A$5000),1))),\"Preço não registrado\")","v":""},"",null,null,"",""]
[null,null,"",null,"","",null,{"$f":"IFERROR(IF(D494=\"\",\"\",INDEX(Entradas!$H$3:$H$5000,MATCH(A494,IF(Entradas!$B$3:$B$5000=D494,Entradas!$A$3:$A$5000),1))),\"Preço não registrado\")","v":""},"",null,null,"",""]
[null,null,"",null,"","",null,{"$f":"IFERROR(IF(D495=\"\",\"\",INDEX(Entradas!$H$3:$H$5000,MATCH(A495,IF(Entradas!$B$3:$B$5000=D495,Entradas!$A$3:$A$5000),1))),\"Preço não registrado\")","v":""},"",null,null,"",""]
[null,null,"",null,"","",null,{"$f":"IFERROR(IF(D496=\"\",\"\",INDEX(Entradas!$H$3:$H$5000,MATCH(A496,IF(Entradas!$B$3:$B$5000=D496,Entradas!$A$3:$A$5000),1))),\"Preço não registrado\")","v":""},"",null,null,"",""]
[null,null,"",null,"","",null,{"$f":"IFERROR(IF(D497=\"\",\"\",INDEX(Entradas!$H$3:$H$5000,MATCH(A497,IF(Entradas!$B$3:$B$5000=D497,Entradas!$A$3:$A$5000),1))),\"Preço não registrado\")","v":""},"",null,null,"",""]
[null,null,"",null,"","",null,{"$f":"IFERROR(IF(D498=\"\",\"\",INDEX(Entradas!$H$3:$H$5000,MATCH(A498,IF(Entradas!$B$3:$B$5000=D498,Entradas!$A$3:$A$5000),1))),\"Preço não registrado\")","v":""},"",null,null,"",""]
[null,null,"",null,"","",null,{"$f":"IFERROR(IF(D499=\"\",\"\",INDEX(Entradas!$H$3:$H$5000,MATCH(A499,IF(Entradas!$B$3:$B$5000=D499,Entradas!$A$3:$A$5000),1))),\"Preço não registrado\")","v":""},"",null,null,"",""]
[null,null,"",null,"","",null,{"$f":"IFERROR(IF(D500=\"\",\"\",INDEX(Entradas!$H$3:$H$5000,MATCH(A500,IF(Entradas!$B$3:$B$5000=D500,Entradas!$A$3:$A$5000),1))),\"Preço não registrado\")","v":""},"",null,null,"",""]
[null,null,"",null,"","",null,{"$f":"IFERROR(IF(D501=\"\",\"\",INDEX(Entradas!$H$3:$H$5000,MATCH(A501,IF(Entradas!$B$3:$B$5000=D501,Entradas!$A$3:$A$5000),1))),\"Preço não registrado\")","v":""},"",null,null,"",""]
[null,null,"",null,"","",null,{"$f":"IFERROR(IF(D502=\"\",\"\",INDEX(Entradas!$H$3:$H$5000,MATCH(A502,IF(Entradas!$B$3:$B$5000=D502,Entradas!$A$3:$A$5000),1))),\"Preço não registrado\")","v":""},"",null,null,"",""]
[null,null,"",null,"","",null,{"$f":"IFERROR(IF(D503=\"\",\"\",INDEX(Entradas!$H$3:$H$5000,MATCH(A503,IF(Entradas!$B$3:$B$5000=D503,Entradas!$A$3:$A$5000),1))),\"Preço não registrado\")","v":""},"",null,null,"",""]
[null,null,"",null,"","",null,{"$f":"IFERROR(IF(D504=\"\",\"\",INDEX(Entradas!$H$3:$H$5000,MATCH(A504,IF(Entradas!$B$3:$B$5000=D504,Entradas!$A$3:$A$5000),1))),\"Preço não registrado\")","v":""},"",null,null,"",""]
[null,null,"",null,"","",null,{"$f":"IFERROR(IF(D505=\"\",\"\",INDEX(Entradas!$H$3:$H$5000,MATCH(A505,IF(Entradas!$B$3:$B$5000=D505,Entradas!$A$3:$A$5000),1))),\"Preço não registrado\")","v":""},"",null,null,"",""]
[null,null,"",null,"","",null,{"$f":"IFERROR(IF(D506=\"\",\"\",INDEX(Entradas!$H$3:$H$5000,MATCH(A506,IF(Entradas!$B$3:$B$5000=D506,Entradas!$A$3:$A$5000),1))),\"Preço não registrado\")","v":""},"",null,null,"",""]
[null,null,"",null,"","",null,{"$f":"IFERROR(IF(D507=\"\",\"\",INDEX(Entradas!$H$3:$H$5000,MATCH(A507,IF(Entradas!$B$3:$B$5000=D507,Entradas!$A$3:$A$5000),1))),\"Preço não registrado\")","v":""},"",null,null,"",""]
[null,null,"",null,"","",null,{"$f":"IFERROR(IF(D508=\"\",\"\",INDEX(Entradas!$H$3:$H$5000,MATCH(A508,IF(Entradas!$B$3:$B$5000=D508,Entradas!$A$3:$A$5000),1))),\"Preço não registrado\")","v":""},"",null,null,"",""]
[null,null,"",null,"","",null,{"$f":"IFERROR(IF(D509=\"\",\"\",INDEX(Entradas!$H$3:$H$5000,MATCH(A509,IF(Entradas!$B$3:$B$5000=D509,Entradas!$A$3:$A$5000),1))),\"Preço não registrado\")","v":""},"",null,null,"",""]
[null,null,"",null,"","",null,{"$f":"IFERROR(IF(D510=\"\",\"\",INDEX(Entradas!$H$3:$H$5000,MATCH(A510,IF(Entradas!$B$3:$B$5000=D510,Entradas!$A$3:$A$5000),1))),\"Preço não registrado\")","v":""},"",null,null,"",""]
[null,null,"",null,"","",null,{"$f":"IFERROR(IF(D511=\"\",\"\",INDEX(Entradas!$H$3:$H$5000,MATCH(A511,IF(Entradas!$B$3:$B$5000=D511,Entradas!$A$3:$A$5000),1))),\"Preço não registrado\")","v":""},"",null,null,"",""]
[null,null,"",null,"","",null,{"$f":"IFERROR(IF(D512=\"\",\"\",INDEX(Entradas!$H$3:$H$5000,MATCH(A512,IF(Entradas!$B$3:$B$5000=D512,Entradas!$A$3:$A$5000),1))),\"Preço não registrado\")","v":""},"",null,null,"",""]
[null,null,"",null,"","",null,{"$f":"IFERROR(IF(D513=\"\",\"\",INDEX(Entradas!$H$3:$H$5000,MATCH(A513,IF(Entradas!$B$3:$B$5000=D513,Entradas!$A$3:$A$5000),1))),\"Preço não registrado\")","v":""},"",null,null,"",""]
[null,null,"",null,"","",null,{"$f":"IFERROR(IF(D514=\"\",\"\",INDEX(Entradas!$H$3:$H$5000,MATCH(A514,IF(Entradas!$B$3:$B$5000=D514,Entradas!$A$3:$A$5000),1))),\"Preço não registrado\")","v":""},"",null,null,"",""]
[null,null,{"$f":"IFERROR(IF(B515=\"\",\"\",VLOOKUP(B515,Clientes,2,FALSE)),\"\")","v":""},null,{"$f":"IF(D515=\"\",\"\",VLOOKUP(D515,Itens,2,FALSE))","v":""},{"$f":"IF(D515=\"\",\"\",VLOOKUP(D515,Itens,3,FALSE))","v":""},null,{"$f":"IFERROR(IF(D515=\"\",\"\",INDEX(Entradas!$H$3:$H$5000,MATCH(A515,IF(Entradas!$B$3:$B$5000=D515,Entradas!$A$3:$A$5000),1))),\"Preço não registrado\")","v":""},"",null,null,"",""]
[null,null,"",null,"","",null,{"$f":"IFERROR(IF(D516=\"\",\"\",INDEX(Entradas!$H$3:$H$5000,MATCH(A516,IF(Entradas!$B$3:$B$5000=D516,Entradas!$A$3:$A$5000),1))),\"Preço não registrado\")","v":""},{"$f":"IFERROR(G516*H516,\"\")","v":""},null,null,{"$f":"IF(K516=\"\",\"\",HYPERLINK($P$13&K516,\"Rastreie aqui\"))","v":""},{"$f":"IF(A516=\"\",\"\",TEXT(A516,\"mmmm\"))","v":""}]
[null,null,"",null,"","",null,{"$f":"IFERROR(IF(D517=\"\",\"\",INDEX(Entradas!$H$3:$H$5000,MATCH(A517,IF(Entradas!$B$3:$B$5000=D517,Entradas!$A$3:$A$5000),1))),\"Preço não registrado\")","v":""},"",null,null,"",""]
[null,null,"",null,"","",null,{"$f":"IFERROR(IF(D518=\"\",\"\",INDEX(Entradas!$H$3:$H$5000,MATCH(A518,IF(Entradas!$B$3:$B$5000=D518,Entradas!$A$3:$A$5000),1))),\"Preço não registrado\")","v":""},"",null,null,"",""]
[null,null,"",null,"","",null,{"$f":"IFERROR(IF(D519=\"\",\"\",INDEX(Entradas!$H$3:$H$5000,MATCH(A519,IF(Entradas!$B$3:$B$5000=D519,Entradas!$A$3:$A$5000),1))),\"Preço não registrado\")","v":""},"",null,null,"",""]
[null,null,"",null,"","",null,{"$f":"IFERROR(IF(D520=\"\",\"\",INDEX(Entradas!$H$3:$H$5000,MATCH(A520,IF(Entradas!$B$3:$B$5000=D520,Entradas!$A$3:$A$5000),1))),\"Preço não registrado\")","v":""},"",null,null,"",""]
[null,null,"",null,"","",null,{"$f":"IFERROR(IF(D521=\"\",\"\",INDEX(Entradas!$H$3:$H$5000,MATCH(A521,IF(Entradas!$B$3:$B$5000=D521,Entradas!$A$3:$A$5000),1))),\"Preço não registrado\")","v":""},"",null,null,"",""]
[null,null,"",null,"","",null,{"$f":"IFERROR(IF(D522=\"\",\"\",INDEX(Entradas!$H$3:$H$5000,MATCH(A522,IF(Entradas!$B$3:$B$5000=D522,Entradas!$A$3:$A$5000),1))),\"Preço não registrado\")","v":""},"",null,null,"",""]
[null,null,"",null,"","",null,{"$f":"IFERROR(IF(D523=\"\",\"\",INDEX(Entradas!$H$3:$H$5000,MATCH(A523,IF(Entradas!$B$3:$B$5000=D523,Entradas!$A$3:$A$5000),1))),\"Preço não registrado\")","v":""},"",null,null,"",""]
[null,null,"",null,"","",null,{"$f":"IFERROR(IF(D524=\"\",\"\",INDEX(Entradas!$H$3:$H$5000,MATCH(A524,IF(Entradas!$B$3:$B$5000=D524,Entradas!$A$3:$A$5000),1))),\"Preço não registrado\")","v":""},"",null,null,"",""]
[null,null,"",null,"","",null,{"$f":"IFERROR(IF(D525=\"\",\"\",INDEX(Entradas!$H$3:$H$5000,MATCH(A525,IF(Entradas!$B$3:$B$5000=D525,Entradas!$A$3:$A$5000),1))),\"Preço não registrado\")","v":""},"",null,null,"",""]
[null,null,"",null,"","",null,{"$f":"IFERROR(IF(D526=\"\",\"\",INDEX(Entradas!$H$3:$H$5000,MATCH(A526,IF(Entradas!$B$3:$B$5000=D526,Entradas!$A$3:$A$5000),1))),\"Preço não registrado\")","v":""},"",null,null,"",""]
[null,null,"",null,"","",null,{"$f":"IFERROR(IF(D527=\"\",\"\",INDEX(Entradas!$H$3:$H$5000,MATCH(A527,IF(Entradas!$B$3:$B$5000=D527,Entradas!$A$3:$A$5000),1))),\"Preço não registrado\")","v":""},"",null,null,"",""]
[null,null,"",null,"","",null,{"$f":"IFERROR(IF(D528=\"\",\"\",INDEX(Entradas!$H$3:$H$5000,MATCH(A528,IF(Entradas!$B$3:$B$5000=D528,Entradas!$A$3:$A$5000),1))),\"Preço não registrado\")","v":""},"",null,null,"",""]
[null,null,"",null,"","",null,{"$f":"IFERROR(IF(D529=\"\",\"\",INDEX(Entradas!$H$3:$H$5000,MATCH(A529,IF(Entradas!$B$3:$B$5000=D529,Entradas!$A$3:$A$5000),1))),\"Preço não registrado\")","v":""},"",null,null,"",""]
[null,null,"",null,"","",null,{"$f":"IFERROR(IF(D530=\"\",\"\",INDEX(Entradas!$H$3:$H$5000,MATCH(A530,IF(Entradas!$B$3:$B$5000=D530,Entradas!$A$3:$A$5000),1))),\"Preço não registrado\")","v":""},"",null,null,"",""]
[null,null,"",null,"","",null,{"$f":"IFERROR(IF(D531=\"\",\"\",INDEX(Entradas!$H$3:$H$5000,MATCH(A531,IF(Entradas!$B$3:$B$5000=D531,Entradas!$A$3:$A$5000),1))),\"Preço não registrado\")","v":""},"",null,null,"",""]
[null,null,"",null,"","",null,{"$f":"IFERROR(IF(D532=\"\",\"\",INDEX(Entradas!$H$3:$H$5000,MATCH(A532,IF(Entradas!$B$3:$B$5000=D532,Entradas!$A$3:$A$5000),1))),\"Preço não registrado\")","v":""},"",null,null,"",""]
[null,null,"",null,"","",null,{"$f":"IFERROR(IF(D533=\"\",\"\",INDEX(Entradas!$H$3:$H$5000,MATCH(A533,IF(Entradas!$B$3:$B$5000=D533,Entradas!$A$3:$A$5000),1))),\"Preço não registrado\")","v":""},"",null,null,"",""]
[null,null,"",null,"","",null,{"$f":"IFERROR(IF(D534=\"\",\"\",INDEX(Entradas!$H$3:$H$5000,MATCH(A534,IF(Entradas!$B$3:$B$5000=D534,Entradas!$A$3:$A$5000),1))),\"Preço não registrado\")","v":""},"",null,null,"",""]
[null,null,"",null,"","",null,{"$f":"IFERROR(IF(D535=\"\",\"\",INDEX(Entradas!$H$3:$H$5000,MATCH(A535,IF(Entradas!$B$3:$B$5000=D535,Entradas!$A$3:$A$5000),1))),\"Preço não registrado\")","v":""},"",null,null,"",""]
[null,null,"",null,"","",null,{"$f":"IFERROR(IF(D536=\"\",\"\",INDEX(Entradas!$H$3:$H$5000,MATCH(A536,IF(Entradas!$B$3:$B$5000=D536,Entradas!$A$3:$A$5000),1))),\"Preço não registrado\")","v":""},"",null,null,"",""]
[null,null,"",null,"","",null,{"$f":"IFERROR(IF(D537=\"\",\"\",INDEX(Entradas!$H$3:$H$5000,MATCH(A537,IF(Entradas!$B$3:$B$5000=D537,Entradas!$A$3:$A$5000),1))),\"Preço não registrado\")","v":""},"",null,null,"",""]
[null,null,"",null,"","",null,{"$f":"IFERROR(IF(D538=\"\",\"\",INDEX(Entradas!$H$3:$H$5000,MATCH(A538,IF(Entradas!$B$3:$B$5000=D538,Entradas!$A$3:$A$5000),1))),\"Preço não registrado\")","v":""},"",null,null,"",""]
[null,null,"",null,"","",null,{"$f":"IFERROR(IF(D539=\"\",\"\",INDEX(Entradas!$H$3:$H$5000,MATCH(A539,IF(Entradas!$B$3:$B$5000=D539,Entradas!$A$3:$A$5000),1))),\"Preço não registrado\")","v":""},"",null,null,"",""]
[null,null,"",null,"","",null,{"$f":"IFERROR(IF(D540=\"\",\"\",INDEX(Entradas!$H$3:$H$5000,MATCH(A540,IF(Entradas!$B$3:$B$5000=D540,Entradas!$A$3:$A$5000),1))),\"Preço não registrado\")","v":""},"",null,null,"",""]
[null,null,"",null,"","",null,{"$f":"IFERROR(IF(D541=\"\",\"\",INDEX(Entradas!$H$3:$H$5000,MATCH(A541,IF(Entradas!$B$3:$B$5000=D541,Entradas!$A$3:$A$5000),1))),\"Preço não registrado\")","v":""},"",null,null,"",""]
[null,null,"",null,"","",null,{"$f":"IFERROR(IF(D542=\"\",\"\",INDEX(Entradas!$H$3:$H$5000,MATCH(A542,IF(Entradas!$B$3:$B$5000=D542,Entradas!$A$3:$A$5000),1))),\"Preço não registrado\")","v":""},"",null,null,"",""]
[null,null,"",null,"","",null,{"$f":"IFERROR(IF(D543=\"\",\"\",INDEX(Entradas!$H$3:$H$5000,MATCH(A543,IF(Entradas!$B$3:$B$5000=D543,Entradas!$A$3:$A$5000),1))),\"Preço não registrado\")","v":""},"",null,null,"",""]
[null,null,"",null,"","",null,{"$f":"IFERROR(IF(D544=\"\",\"\",INDEX(Entradas!$H$3:$H$5000,MATCH(A544,IF(Entradas!$B$3:$B$5000=D544,Entradas!$A$3:$A$5000),1))),\"Preço não registrado\")","v":""},"",null,null,"",""]
[null,null,"",null,"","",null,{"$f":"IFERROR(IF(D545=\"\",\"\",INDEX(Entradas!$H$3:$H$5000,MATCH(A545,IF(Entradas!$B$3:$B$5000=D545,Entradas!$A$3:$A$5000),1))),\"Preço não registrado\")","v":""},"",null,null,"",""]
[null,null,"",null,"","",null,{"$f":"IFERROR(IF(D546=\"\",\"\",INDEX(Entradas!$H$3:$H$5000,MATCH(A546,IF(Entradas!$B$3:$B$5000=D546,Entradas!$A$3:$A$5000),1))),\"Preço não registrado\")","v":""},"",null,null,"",""]
[null,null,"",null,"","",null,{"$f":"IFERROR(IF(D547=\"\",\"\",INDEX(Entradas!$H$3:$H$5000,MATCH(A547,IF(Entradas!$B$3:$B$5000=D547,Entradas!$A$3:$A$5000),1))),\"Preço não registrado\")","v":""},"",null,null,"",""]
[null,null,"",null,"","",null,{"$f":"IFERROR(IF(D548=\"\",\"\",INDEX(Entradas!$H$3:$H$5000,MATCH(A548,IF(Entradas!$B$3:$B$5000=D548,Entradas!$A$3:$A$5000),1))),\"Preço não registrado\")","v":""},"",null,null,"",""]
[null,null,"",null,"","",null,{"$f":"IFERROR(IF(D549=\"\",\"\",INDEX(Entradas!$H$3:$H$5000,MATCH(A549,IF(Entradas!$B$3:$B$5000=D549,Entradas!$A$3:$A$5000),1))),\"Preço não registrado\")","v":""},"",null,null,"",""]
[null,null,"",null,"","",null,{"$f":"IFERROR(IF(D550=\"\",\"\",INDEX(Entradas!$H$3:$H$5000,MATCH(A550,IF(Entradas!$B$3:$B$5000=D550,Entradas!$A$3:$A$5000),1))),\"Preço não registrado\")","v":""},"",null,null,"",""]
[null,null,"",null,"","",null,{"$f":"IFERROR(IF(D551=\"\",\"\",INDEX(Entradas!$H$3:$H$5000,MATCH(A551,IF(Entradas!$B$3:$B$5000=D551,Entradas!$A$3:$A$5000),1))),\"Preço não registrado\")","v":""},"",null,null,"",""]
[null,null,"",null,"","",null,{"$f":"IFERROR(IF(D552=\"\",\"\",INDEX(Entradas!$H$3:$H$5000,MATCH(A552,IF(Entradas!$B$3:$B$5000=D552,Entradas!$A$3:$A$5000),1))),\"Preço não registrado\")","v":""},"",null,null,"",""]
[null,null,"",null,"","",null,{"$f":"IFERROR(IF(D553=\"\",\"\",INDEX(Entradas!$H$3:$H$5000,MATCH(A553,IF(Entradas!$B$3:$B$5000=D553,Entradas!$A$3:$A$5000),1))),\"Preço não registrado\")","v":""},"",null,null,"",""]
[null,null,"",null,"","",null,{"$f":"IFERROR(IF(D554=\"\",\"\",INDEX(Entradas!$H$3:$H$5000,MATCH(A554,IF(Entradas!$B$3:$B$5000=D554,Entradas!$A$3:$A$5000),1))),\"Preço não registrado\")","v":""},"",null,null,"",""]
[null,null,"",null,"","",null,{"$f":"IFERROR(IF(D555=\"\",\"\",INDEX(Entradas!$H$3:$H$5000,MATCH(A555,IF(Entradas!$B$3:$B$5000=D555,Entradas!$A$3:$A$5000),1))),\"Preço não registrado\")","v":""},"",null,null,"",""]
[null,null,"",null,"","",null,{"$f":"IFERROR(IF(D556=\"\",\"\",INDEX(Entradas!$H$3:$H$5000,MATCH(A556,IF(Entradas!$B$3:$B$5000=D556,Entradas!$A$3:$A$5000),1))),\"Preço não registrado\")","v":""},"",null,null,"",""]
[null,null,"",null,"","",null,{"$f":"IFERROR(IF(D557=\"\",\"\",INDEX(Entradas!$H$3:$H$5000,MATCH(A557,IF(Entradas!$B$3:$B$5000=D557,Entradas!$A$3:$A$5000),1))),\"Preço não registrado\")","v":""},"",null,null,"",""]
[null,null,"",null,"","",null,{"$f":"IFERROR(IF(D558=\"\",\"\",INDEX(Entradas!$H$3:$H$5000,MATCH(A558,IF(Entradas!$B$3:$B$5000=D558,Entradas!$A$3:$A$5000),1))),\"Preço não registrado\")","v":""},"",null,null,"",""]
[null,null,"",null,"","",null,{"$f":"IFERROR(IF(D559=\"\",\"\",INDEX(Entradas!$H$3:$H$5000,MATCH(A559,IF(Entradas!$B$3:$B$5000=D559,Entradas!$A$3:$A$5000),1))),\"Preço não registrado\")","v":""},"",null,null,"",""]
[null,null,"",null,"","",null,{"$f":"IFERROR(IF(D560=\"\",\"\",INDEX(Entradas!$H$3:$H$5000,MATCH(A560,IF(Entradas!$B$3:$B$5000=D560,Entradas!$A$3:$A$5000),1))),\"Preço não registrado\")","v":""},"",null,null,"",""]
[null,null,"",null,"","",null,{"$f":"IFERROR(IF(D561=\"\",\"\",INDEX(Entradas!$H$3:$H$5000,MATCH(A561,IF(Entradas!$B$3:$B$5000=D561,Entradas!$A$3:$A$5000),1))),\"Preço não registrado\")","v":""},"",null,null,"",""]
[null,null,"",null,"","",null,{"$f":"IFERROR(IF(D562=\"\",\"\",INDEX(Entradas!$H$3:$H$5000,MATCH(A562,IF(Entradas!$B$3:$B$5000=D562,Entradas!$A$3:$A$5000),1))),\"Preço não registrado\")","v":""},"",null,null,"",""]
[null,null,"",null,"","",null,{"$f":"IFERROR(IF(D563=\"\",\"\",INDEX(Entradas!$H$3:$H$5000,MATCH(A563,IF(Entradas!$B$3:$B$5000=D563,Entradas!$A$3:$A$5000),1))),\"Preço não registrado\")","v":""},"",null,null,"",""]
[null,null,"",null,"","",null,{"$f":"IFERROR(IF(D564=\"\",\"\",INDEX(Entradas!$H$3:$H$5000,MATCH(A564,IF(Entradas!$B$3:$B$5000=D564,Entradas!$A$3:$A$5000),1))),\"Preço não registrado\")","v":""},"",null,null,"",""]
[null,null,"",null,"","",null,{"$f":"IFERROR(IF(D565=\"\",\"\",INDEX(Entradas!$H$3:$H$5000,MATCH(A565,IF(Entradas!$B$3:$B$5000=D565,Entradas!$A$3:$A$5000),1))),\"Preço não registrado\")","v":""},"",null,null,"",""]
[null,null,"",null,"","",null,{"$f":"IFERROR(IF(D566=\"\",\"\",INDEX(Entradas!$H$3:$H$5000,MATCH(A566,IF(Entradas!$B$3:$B$5000=D566,Entradas!$A$3:$A$5000),1))),\"Preço não registrado\")","v":""},"",null,null,"",""]
[null,null,"",null,"","",null,{"$f":"IFERROR(IF(D567=\"\",\"\",INDEX(Entradas!$H$3:$H$5000,MATCH(A567,IF(Entradas!$B$3:$B$5000=D567,Entradas!$A$3:$A$5000),1))),\"Preço não registrado\")","v":""},"",null,null,"",""]
[null,null,"",null,"","",null,{"$f":"IFERROR(IF(D568=\"\",\"\",INDEX(Entradas!$H$3:$H$5000,MATCH(A568,IF(Entradas!$B$3:$B$5000=D568,Entradas!$A$3:$A$5000),1))),\"Preço não registrado\")","v":""},"",null,null,"",""]
[null,null,"",null,"","",null,{"$f":"IFERROR(IF(D569=\"\",\"\",INDEX(Entradas!$H$3:$H$5000,MATCH(A569,IF(Entradas!$B$3:$B$5000=D569,Entradas!$A$3:$A$5000),1))),\"Preço não registrado\")","v":""},"",null,null,"",""]
[null,null,"",null,"","",null,{"$f":"IFERROR(IF(D570=\"\",\"\",INDEX(Entradas!$H$3:$H$5000,MATCH(A570,IF(Entradas!$B$3:$B$5000=D570,Entradas!$A$3:$A$5000),1))),\"Preço não registrado\")","v":""},"",null,null,"",""]
[null,null,"",null,"","",null,{"$f":"IFERROR(IF(D571=\"\",\"\",INDEX(Entradas!$H$3:$H$5000,MATCH(A571,IF(Entradas!$B$3:$B$5000=D571,Entradas!$A$3:$A$5000),1))),\"Preço não registrado\")","v":""},"",null,null,"",""]
[null,null,"",null,"","",null,{"$f":"IFERROR(IF(D572=\"\",\"\",INDEX(Entradas!$H$3:$H$5000,MATCH(A572,IF(Entradas!$B$3:$B$5000=D572,Entradas!$A$3:$A$5000),1))),\"Preço não registrado\")","v":""},"",null,null,"",""]
[null,null,"",null,"","",null,{"$f":"IFERROR(IF(D573=\"\",\"\",INDEX(Entradas!$H$3:$H$5000,MATCH(A573,IF(Entradas!$B$3:$B$5000=D573,Entradas!$A$3:$A$5000),1))),\"Preço não registrado\")","v":""},"",null,null,"",""]
[null,null,"",null,"","",null,{"$f":"IFERROR(IF(D574=\"\",\"\",INDEX(Entradas!$H$3:$H$5000,MATCH(A574,IF(Entradas!$B$3:$B$5000=D574,Entradas!$A$3:$A$5000),1))),\"Preço não registrado\")","v":""},"",null,null,"",""]
[null,null,"",null,"","",null,{"$f":"IFERROR(IF(D575=\"\",\"\",INDEX(Entradas!$H$3:$H$5000,MATCH(A575,IF(Entradas!$B$3:$B$5000=D575,Entradas!$A$3:$A$5000),1))),\"Preço não registrado\")","v":""},"",null,null,"",""]
[null,null,"",null,"","",null,{"$f":"IFERROR(IF(D576=\"\",\"\",INDEX(Entradas!$H$3:$H$5000,MATCH(A576,IF(Entradas!$B$3:$B$5000=D576,Entradas!$A$3:$A$5000),1))),\"Preço não registrado\")","v":""},"",null,null,"",""]
[null,null,"",null,"","",null,{"$f":"IFERROR(IF(D577=\"\",\"\",INDEX(Entradas!$H$3:$H$5000,MATCH(A577,IF(Entradas!$B$3:$B$5000=D577,Entradas!$A$3:$A$5000),1))),\"Preço não registrado\")","v":""},"",null,null,"",""]
[null,null,"",null,"","",null,{"$f":"IFERROR(IF(D578=\"\",\"\",INDEX(Entradas!$H$3:$H$5000,MATCH(A578,IF(Entradas!$B$3:$B$5000=D578,Entradas!$A$3:$A$5000),1))),\"Preço não registrado\")","v":""},"",null,null,"",""]
[null,null,{"$f":"IFERROR(IF(B579=\"\",\"\",VLOOKUP(B579,Clientes,2,FALSE)),\"\")","v":""},null,{"$f":"IF(D579=\"\",\"\",VLOOKUP(D579,Itens,2,FALSE))","v":""},{"$f":"IF(D579=\"\",\"\",VLOOKUP(D579,Itens,3,FALSE))","v":""},null,{"$f":"IFERROR(IF(D579=\"\",\"\",INDEX(Entradas!$H$3:$H$5000,MATCH(A579,IF(Entradas!$B$3:$B$5000=D579,Entradas!$A$3:$A$5000),1))),\"Preço não registrado\")","v":""},"",null,null,"",""]
[null,null,"",null,"","",null,{"$f":"IFERROR(IF(D580=\"\",\"\",INDEX(Entradas!$H$3:$H$5000,MATCH(A580,IF(Entradas!$B$3:$B$5000=D580,Entradas!$A$3:$A$5000),1))),\"Preço não registrado\")","v":""},{"$f":"IFERROR(G580*H580,\"\")","v":""},null,null,{"$f":"IF(K580=\"\",\"\",HYPERLINK($P$13&K580,\"Rastreie aqui\"))","v":""},{"$f":"IF(A580=\"\",\"\",TEXT(A580,\"mmmm\"))","v":""}]
[null,null,"",null,"","",null,{"$f":"IFERROR(IF(D581=\"\",\"\",INDEX(Entradas!$H$3:$H$5000,MATCH(A581,IF(Entradas!$B$3:$B$5000=D581,Entradas!$A$3:$A$5000),1))),\"Preço não registrado\")","v":""},"",null,null,"",""]
[null,null,"",null,"","",null,{"$f":"IFERROR(IF(D582=\"\",\"\",INDEX(Entradas!$H$3:$H$5000,MATCH(A582,IF(Entradas!$B$3:$B$5000=D582,Entradas!$A$3:$A$5000),1))),\"Preço não registrado\")","v":""},"",null,null,"",""]
[null,null,"",null,"","",null,{"$f":"IFERROR(IF(D583=\"\",\"\",INDEX(Entradas!$H$3:$H$5000,MATCH(A583,IF(Entradas!$B$3:$B$5000=D583,Entradas!$A$3:$A$5000),1))),\"Preço não registrado\")","v":""},"",null,null,"",""]
[null,null,"",null,"","",null,{"$f":"IFERROR(IF(D584=\"\",\"\",INDEX(Entradas!$H$3:$H$5000,MATCH(A584,IF(Entradas!$B$3:$B$5000=D584,Entradas!$A$3:$A$5000),1))),\"Preço não registrado\")","v":""},"",null,null,"",""]
[null,null,"",null,"","",null,{"$f":"IFERROR(IF(D585=\"\",\"\",INDEX(Entradas!$H$3:$H$5000,MATCH(A585,IF(Entradas!$B$3:$B$5000=D585,Entradas!$A$3:$A$5000),1))),\"Preço não registrado\")","v":""},"",null,null,"",""]
[null,null,"",null,"","",null,{"$f":"IFERROR(IF(D586=\"\",\"\",INDEX(Entradas!$H$3:$H$5000,MATCH(A586,IF(Entradas!$B$3:$B$5000=D586,Entradas!$A$3:$A$5000),1))),\"Preço não registrado\")","v":""},"",null,null,"",""]
[null,null,"",null,"","",null,{"$f":"IFERROR(IF(D587=\"\",\"\",INDEX(Entradas!$H$3:$H$5000,MATCH(A587,IF(Entradas!$B$3:$B$5000=D587,Entradas!$A$3:$A$5000),1))),\"Preço não registrado\")","v":""},"",null,null,"",""]
[null,null,"",null,"","",null,{"$f":"IFERROR(IF(D588=\"\",\"\",INDEX(Entradas!$H$3:$H$5000,MATCH(A588,IF(Entradas!$B$3:$B$5000=D588,Entradas!$A$3:$A$5000),1))),\"Preço não registrado\")","v":""},"",null,null,"",""]
[null,null,"",null,"","",null,{"$f":"IFERROR(IF(D589=\"\",\"\",INDEX(Entradas!$H$3:$H$5000,MATCH(A589,IF(Entradas!$B$3:$B$5000=D589,Entradas!$A$3:$A$5000),1))),\"Preço não registrado\")","v":""},"",null,null,"",""]
[null,null,"",null,"","",null,{"$f":"IFERROR(IF(D590=\"\",\"\",INDEX(Entradas!$H$3:$H$5000,MATCH(A590,IF(Entradas!$B$3:$B$5000=D590,Entradas!$A$3:$A$5000),1))),\"Preço não registrado\")","v":""},"",null,null,"",""]
[null,null,"",null,"","",null,{"$f":"IFERROR(IF(D591=\"\",\"\",INDEX(Entradas!$H$3:$H$5000,MATCH(A591,IF(Entradas!$B$3:$B$5000=D591,Entradas!$A$3:$A$5000),1))),\"Preço não registrado\")","v":""},"",null,null,"",""]
[null,null,"",null,"","",null,{"$f":"IFERROR(IF(D592=\"\",\"\",INDEX(Entradas!$H$3:$H$5000,MATCH(A592,IF(Entradas!$B$3:$B$5000=D592,Entradas!$A$3:$A$5000),1))),\"Preço não registrado\")","v":""},"",null,null,"",""]
[null,null,"",null,"","",null,{"$f":"IFERROR(IF(D593=\"\",\"\",INDEX(Entradas!$H$3:$H$5000,MATCH(A593,IF(Entradas!$B$3:$B$5000=D593,Entradas!$A$3:$A$5000),1))),\"Preço não registrado\")","v":""},"",null,null,"",""]
[null,null,"",null,"","",null,{"$f":"IFERROR(IF(D594=\"\",\"\",INDEX(Entradas!$H$3:$H$5000,MATCH(A594,IF(Entradas!$B$3:$B$5000=D594,Entradas!$A$3:$A$5000),1))),\"Preço não registrado\")","v":""},"",null,null,"",""]
[null,null,"",null,"","",null,{"$f":"IFERROR(IF(D595=\"\",\"\",INDEX(Entradas!$H$3:$H$5000,MATCH(A595,IF(Entradas!$B$3:$B$5000=D595,Entradas!$A$3:$A$5000),1))),\"Preço não registrado\")","v":""},"",null,null,"",""]
[null,null,"",null,"","",null,{"$f":"IFERROR(IF(D596=\"\",\"\",INDEX(Entradas!$H$3:$H$5000,MATCH(A596,IF(Entradas!$B$3:$B$5000=D596,Entradas!$A$3:$A$5000),1))),\"Preço não registrado\")","v":""},"",null,null,"",""]
[null,null,"",null,"","",null,{"$f":"IFERROR(IF(D597=\"\",\"\",INDEX(Entradas!$H$3:$H$5000,MATCH(A597,IF(Entradas!$B$3:$B$5000=D597,Entradas!$A$3:$A$5000),1))),\"Preço não registrado\")","v":""},"",null,null,"",""]
[null,null,"",null,"","",null,{"$f":"IFERROR(IF(D598=\"\",\"\",INDEX(Entradas!$H$3:$H$5000,MATCH(A598,IF(Entradas!$B$3:$B$5000=D598,Entradas!$A$3:$A$5000),1))),\"Preço não registrado\")","v":""},"",null,null,"",""]
[null,null,"",null,"","",null,{"$f":"IFERROR(IF(D599=\"\",\"\",INDEX(Entradas!$H$3:$H$5000,MATCH(A599,IF(Entradas!$B$3:$B$5000=D599,Entradas!$A$3:$A$5000),1))),\"Preço não registrado\")","v":""},"",null,null,"",""]
[null,null,"",null,"","",null,{"$f":"IFERROR(IF(D600=\"\",\"\",INDEX(Entradas!$H$3:$H$5000,MATCH(A600,IF(Entradas!$B$3:$B$5000=D600,Entradas!$A$3:$A$5000),1))),\"Preço não registrado\")","v":""},"",null,null,"",""]
[null,null,"",null,"","",null,{"$f":"IFERROR(IF(D601=\"\",\"\",INDEX(Entradas!$H$3:$H$5000,MATCH(A601,IF(Entradas!$B$3:$B$5000=D601,Entradas!$A$3:$A$5000),1))),\"Preço não registrado\")","v":""},"",null,null,"",""]
[null,null,"",null,"","",null,{"$f":"IFERROR(IF(D602=\"\",\"\",INDEX(Entradas!$H$3:$H$5000,MATCH(A602,IF(Entradas!$B$3:$B$5000=D602,Entradas!$A$3:$A$5000),1))),\"Preço não registrado\")","v":""},"",null,null,"",""]
[null,null,"",null,"","",null,{"$f":"IFERROR(IF(D603=\"\",\"\",INDEX(Entradas!$H$3:$H$5000,MATCH(A603,IF(Entradas!$B$3:$B$5000=D603,Entradas!$A$3:$A$5000),1))),\"Preço não registrado\")","v":""},"",null,null,"",""]
[null,null,"",null,"","",null,{"$f":"IFERROR(IF(D604=\"\",\"\",INDEX(Entradas!$H$3:$H$5000,MATCH(A604,IF(Entradas!$B$3:$B$5000=D604,Entradas!$A$3:$A$5000),1))),\"Preço não registrado\")","v":""},"",null,null,"",""]
[null,null,"",null,"","",null,{"$f":"IFERROR(IF(D605=\"\",\"\",INDEX(Entradas!$H$3:$H$5000,MATCH(A605,IF(Entradas!$B$3:$B$5000=D605,Entradas!$A$3:$A$5000),1))),\"Preço não registrado\")","v":""},"",null,null,"",""]
[null,null,"",null,"","",null,{"$f":"IFERROR(IF(D606=\"\",\"\",INDEX(Entradas!$H$3:$H$5000,MATCH(A606,IF(Entradas!$B$3:$B$5000=D606,Entradas!$A$3:$A$5000),1))),\"Preço não registrado\")","v":""},"",null,null,"",""]
[null,null,"",null,"","",null,{"$f":"IFERROR(IF(D607=\"\",\"\",INDEX(Entradas!$H$3:$H$5000,MATCH(A607,IF(Entradas!$B$3:$B$5000=D607,Entradas!$A$3:$A$5000),1))),\"Preço não registrado\")","v":""},"",null,null,"",""]
[null,null,"",null,"","",null,{"$f":"IFERROR(IF(D608=\"\",\"\",INDEX(Entradas!$H$3:$H$5000,MATCH(A608,IF(Entradas!$B$3:$B$5000=D608,Entradas!$A$3:$A$5000),1))),\"Preço não registrado\")","v":""},"",null,null,"",""]
[null,null,"",null,"","",null,{"$f":"IFERROR(IF(D609=\"\",\"\",INDEX(Entradas!$H$3:$H$5000,MATCH(A609,IF(Entradas!$B$3:$B$5000=D609,Entradas!$A$3:$A$5000),1))),\"Preço não registrado\")","v":""},"",null,null,"",""]
[null,null,"",null,"","",null,{"$f":"IFERROR(IF(D610=\"\",\"\",INDEX(Entradas!$H$3:$H$5000,MATCH(A610,IF(Entradas!$B$3:$B$5000=D610,Entradas!$A$3:$A$5000),1))),\"Preço não registrado\")","v":""},"",null,null,"",""]
[null,null,"",null,"","",null,{"$f":"IFERROR(IF(D611=\"\",\"\",INDEX(Entradas!$H$3:$H$5000,MATCH(A611,IF(Entradas!$B$3:$B$5000=D611,Entradas!$A$3:$A$5000),1))),\"Preço não registrado\")","v":""},"",null,null,"",""]
[null,null,"",null,"","",null,{"$f":"IFERROR(IF(D612=\"\",\"\",INDEX(Entradas!$H$3:$H$5000,MATCH(A612,IF(Entradas!$B$3:$B$5000=D612,Entradas!$A$3:$A$5000),1))),\"Preço não registrado\")","v":""},"",null,null,"",""]
[null,null,"",null,"","",null,{"$f":"IFERROR(IF(D613=\"\",\"\",INDEX(Entradas!$H$3:$H$5000,MATCH(A613,IF(Entradas!$B$3:$B$5000=D613,Entradas!$A$3:$A$5000),1))),\"Preço não registrado\")","v":""},"",null,null,"",""]
[null,null,"",null,"","",null,{"$f":"IFERROR(IF(D614=\"\",\"\",INDEX(Entradas!$H$3:$H$5000,MATCH(A614,IF(Entradas!$B$3:$B$5000=D614,Entradas!$A$3:$A$5000),1))),\"Preço não registrado\")","v":""},"",null,null,"",""]
[null,null,"",null,"","",null,{"$f":"IFERROR(IF(D615=\"\",\"\",INDEX(Entradas!$H$3:$H$5000,MATCH(A615,IF(Entradas!$B$3:$B$5000=D615,Entradas!$A$3:$A$5000),1))),\"Preço não registrado\")","v":""},"",null,null,"",""]
[null,null,"",null,"","",null,{"$f":"IFERROR(IF(D616=\"\",\"\",INDEX(Entradas!$H$3:$H$5000,MATCH(A616,IF(Entradas!$B$3:$B$5000=D616,Entradas!$A$3:$A$5000),1))),\"Preço não registrado\")","v":""},"",null,null,"",""]
[null,null,"",null,"","",null,{"$f":"IFERROR(IF(D617=\"\",\"\",INDEX(Entradas!$H$3:$H$5000,MATCH(A617,IF(Entradas!$B$3:$B$5000=D617,Entradas!$A$3:$A$5000),1))),\"Preço não registrado\")","v":""},"",null,null,"",""]
[null,null,"",null,"","",null,{"$f":"IFERROR(IF(D618=\"\",\"\",INDEX(Entradas!$H$3:$H$5000,MATCH(A618,IF(Entradas!$B$3:$B$5000=D618,Entradas!$A$3:$A$5000),1))),\"Preço não registrado\")","v":""},"",null,null,"",""]
[null,null,"",null,"","",null,{"$f":"IFERROR(IF(D619=\"\",\"\",INDEX(Entradas!$H$3:$H$5000,MATCH(A619,IF(Entradas!$B$3:$B$5000=D619,Entradas!$A$3:$A$5000),1))),\"Preço não registrado\")","v":""},"",null,null,"",""]
[null,null,"",null,"","",null,{"$f":"IFERROR(IF(D620=\"\",\"\",INDEX(Entradas!$H$3:$H$5000,MATCH(A620,IF(Entradas!$B$3:$B$5000=D620,Entradas!$A$3:$A$5000),1))),\"Preço não registrado\")","v":""},"",null,null,"",""]
[null,null,"",null,"","",null,{"$f":"IFERROR(IF(D621=\"\",\"\",INDEX(Entradas!$H$3:$H$5000,MATCH(A621,IF(Entradas!$B$3:$B$5000=D621,Entradas!$A$3:$A$5000),1))),\"Preço não registrado\")","v":""},"",null,null,"",""]
[null,null,"",null,"","",null,{"$f":"IFERROR(IF(D622=\"\",\"\",INDEX(Entradas!$H$3:$H$5000,MATCH(A622,IF(Entradas!$B$3:$B$5000=D622,Entradas!$A$3:$A$5000),1))),\"Preço não registrado\")","v":""},"",null,null,"",""]
[null,null,"",null,"","",null,{"$f":"IFERROR(IF(D623=\"\",\"\",INDEX(Entradas!$H$3:$H$5000,MATCH(A623,IF(Entradas!$B$3:$B$5000=D623,Entradas!$A$3:$A$5000),1))),\"Preço não registrado\")","v":""},"",null,null,"",""]
[null,null,"",null,"","",null,{"$f":"IFERROR(IF(D624=\"\",\"\",INDEX(Entradas!$H$3:$H$5000,MATCH(A624,IF(Entradas!$B$3:$B$5000=D624,Entradas!$A$3:$A$5000),1))),\"Preço não registrado\")","v":""},"",null,null,"",""]
[null,null,"",null,"","",null,{"$f":"IFERROR(IF(D625=\"\",\"\",INDEX(Entradas!$H$3:$H$5000,MATCH(A625,IF(Entradas!$B$3:$B$5000=D625,Entradas!$A$3:$A$5000),1))),\"Preço não registrado\")","v":""},"",null,null,"",""]
[null,null,"",null,"","",null,{"$f":"IFERROR(IF(D626=\"\",\"\",INDEX(Entradas!$H$3:$H$5000,MATCH(A626,IF(Entradas!$B$3:$B$5000=D626,Entradas!$A$3:$A$5000),1))),\"Preço não registrado\")","v":""},"",null,null,"",""]
[null,null,"",null,"","",null,{"$f":"IFERROR(IF(D627=\"\",\"\",INDEX(Entradas!$H$3:$H$5000,MATCH(A627,IF(Entradas!$B$3:$B$5000=D627,Entradas!$A$3:$A$5000),1))),\"Preço não registrado\")","v":""},"",null,null,"",""]
[null,null,"",null,"","",null,{"$f":"IFERROR(IF(D628=\"\",\"\",INDEX(Entradas!$H$3:$H$5000,MATCH(A628,IF(Entradas!$B$3:$B$5000=D628,Entradas!$A$3:$A$5000),1))),\"Preço não registrado\")","v":""},"",null,null,"",""]
[null,null,"",null,"","",null,{"$f":"IFERROR(IF(D629=\"\",\"\",INDEX(Entradas!$H$3:$H$5000,MATCH(A629,IF(Entradas!$B$3:$B$5000=D629,Entradas!$A$3:$A$5000),1))),\"Preço não registrado\")","v":""},"",null,null,"",""]
[null,null,"",null,"","",null,{"$f":"IFERROR(IF(D630=\"\",\"\",INDEX(Entradas!$H$3:$H$5000,MATCH(A630,IF(Entradas!$B$3:$B$5000=D630,Entradas!$A$3:$A$5000),1))),\"Preço não registrado\")","v":""},"",null,null,"",""]
[null,null,"",null,"","",null,{"$f":"IFERROR(IF(D631=\"\",\"\",INDEX(Entradas!$H$3:$H$5000,MATCH(A631,IF(Entradas!$B$3:$B$5000=D631,Entradas!$A$3:$A$5000),1))),\"Preço não registrado\")","v":""},"",null,null,"",""]
[null,null,"",null,"","",null,{"$f":"IFERROR(IF(D632=\"\",\"\",INDEX(Entradas!$H$3:$H$5000,MATCH(A632,IF(Entradas!$B$3:$B$5000=D632,Entradas!$A$3:$A$5000),1))),\"Preço não registrado\")","v":""},"",null,null,"",""]
[null,null,"",null,"","",null,{"$f":"IFERROR(IF(D633=\"\",\"\",INDEX(Entradas!$H$3:$H$5000,MATCH(A633,IF(Entradas!$B$3:$B$5000=D633,Entradas!$A$3:$A$5000),1))),\"Preço não registrado\")","v":""},"",null,null,"",""]
[null,null,"",null,"","",null,{"$f":"IFERROR(IF(D634=\"\",\"\",INDEX(Entradas!$H$3:$H$5000,MATCH(A634,IF(Entradas!$B$3:$B$5000=D634,Entradas!$A$3:$A$5000),1))),\"Preço não registrado\")","v":""},"",null,null,"",""]
[null,null,"",null,"","",null,{"$f":"IFERROR(IF(D635=\"\",\"\",INDEX(Entradas!$H$3:$H$5000,MATCH(A635,IF(Entradas!$B$3:$B$5000=D635,Entradas!$A$3:$A$5000),1))),\"Preço não registrado\")","v":""},"",null,null,"",""]
[null,null,"",null,"","",null,{"$f":"IFERROR(IF(D636=\"\",\"\",INDEX(Entradas!$H$3:$H$5000,MATCH(A636,IF(Entradas!$B$3:$B$5000=D636,Entradas!$A$3:$A$5000),1))),\"Preço não registrado\")","v":""},"",null,null,"",""]
[null,null,"",null,"","",null,{"$f":"IFERROR(IF(D637=\"\",\"\",INDEX(Entradas!$H$3:$H$5000,MATCH(A637,IF(Entradas!$B$3:$B$5000=D637,Entradas!$A$3:$A$5000),1))),\"Preço não registrado\")","v":""},"",null,null,"",""]
[null,null,"",null,"","",null,{"$f":"IFERROR(IF(D638=\"\",\"\",INDEX(Entradas!$H$3:$H$5000,MATCH(A638,IF(Entradas!$B$3:$B$5000=D638,Entradas!$A$3:$A$5000),1))),\"Preço não registrado\")","v":""},"",null,null,"",""]
[null,null,"",null,"","",null,{"$f":"IFERROR(IF(D639=\"\",\"\",INDEX(Entradas!$H$3:$H$5000,MATCH(A639,IF(Entradas!$B$3:$B$5000=D639,Entradas!$A$3:$A$5000),1))),\"Preço não registrado\")","v":""},"",null,null,"",""]
[null,null,"",null,"","",null,{"$f":"IFERROR(IF(D640=\"\",\"\",INDEX(Entradas!$H$3:$H$5000,MATCH(A640,IF(Entradas!$B$3:$B$5000=D640,Entradas!$A$3:$A$5000),1))),\"Preço não registrado\")","v":""},"",null,null,"",""]
[null,null,"",null,"","",null,{"$f":"IFERROR(IF(D641=\"\",\"\",INDEX(Entradas!$H$3:$H$5000,MATCH(A641,IF(Entradas!$B$3:$B$5000=D641,Entradas!$A$3:$A$5000),1))),\"Preço não registrado\")","v":""},"",null,null,"",""]
[null,null,"",null,"","",null,{"$f":"IFERROR(IF(D642=\"\",\"\",INDEX(Entradas!$H$3:$H$5000,MATCH(A642,IF(Entradas!$B$3:$B$5000=D642,Entradas!$A$3:$A$5000),1))),\"Preço não registrado\")","v":""},"",null,null,"",""]
[null,null,{"$f":"IFERROR(IF(B643=\"\",\"\",VLOOKUP(B643,Clientes,2,FALSE)),\"\")","v":""},null,{"$f":"IF(D643=\"\",\"\",VLOOKUP(D643,Itens,2,FALSE))","v":""},{"$f":"IF(D643=\"\",\"\",VLOOKUP(D643,Itens,3,FALSE))","v":""},null,{"$f":"IFERROR(IF(D643=\"\",\"\",INDEX(Entradas!$H$3:$H$5000,MATCH(A643,IF(Entradas!$B$3:$B$5000=D643,Entradas!$A$3:$A$5000),1))),\"Preço não registrado\")","v":""},"",null,null,"",""]
[null,null,"",null,"","",null,{"$f":"IFERROR(IF(D644=\"\",\"\",INDEX(Entradas!$H$3:$H$5000,MATCH(A644,IF(Entradas!$B$3:$B$5000=D644,Entradas!$A$3:$A$5000),1))),\"Preço não registrado\")","v":""},{"$f":"IFERROR(G644*H644,\"\")","v":""},null,null,{"$f":"IF(K644=\"\",\"\",HYPERLINK($P$13&K644,\"Rastreie aqui\"))","v":""},{"$f":"IF(A644=\"\",\"\",TEXT(A644,\"mmmm\"))","v":""}]
[null,null,"",null,"","",null,{"$f":"IFERROR(IF(D645=\"\",\"\",INDEX(Entradas!$H$3:$H$5000,MATCH(A645,IF(Entradas!$B$3:$B$5000=D645,Entradas!$A$3:$A$5000),1))),\"Preço não registrado\")","v":""},"",null,null,"",""]
[null,null,"",null,"","",null,{"$f":"IFERROR(IF(D646=\"\",\"\",INDEX(Entradas!$H$3:$H$5000,MATCH(A646,IF(Entradas!$B$3:$B$5000=D646,Entradas!$A$3:$A$5000),1))),\"Preço não registrado\")","v":""},"",null,null,"",""]
[null,null,"",null,"","",null,{"$f":"IFERROR(IF(D647=\"\",\"\",INDEX(Entradas!$H$3:$H$5000,MATCH(A647,IF(Entradas!$B$3:$B$5000=D647,Entradas!$A$3:$A$5000),1))),\"Preço não registrado\")","v":""},"",null,null,"",""]
[null,null,"",null,"","",null,{"$f":"IFERROR(IF(D648=\"\",\"\",INDEX(Entradas!$H$3:$H$5000,MATCH(A648,IF(Entradas!$B$3:$B$5000=D648,Entradas!$A$3:$A$5000),1))),\"Preço não registrado\")","v":""},"",null,null,"",""]
[null,null,"",null,"","",null,{"$f":"IFERROR(IF(D649=\"\",\"\",INDEX(Entradas!$H$3:$H$5000,MATCH(A649,IF(Entradas!$B$3:$B$5000=D649,Entradas!$A$3:$A$5000),1))),\"Preço não registrado\")","v":""},"",null,null,"",""]
[null,null,"",null,"","",null,{"$f":"IFERROR(IF(D650=\"\",\"\",INDEX(Entradas!$H$3:$H$5000,MATCH(A650,IF(Entradas!$B$3:$B$5000=D650,Entradas!$A$3:$A$5000),1))),\"Preço não registrado\")","v":""},"",null,null,"",""]
[null,null,"",null,"","",null,{"$f":"IFERROR(IF(D651=\"\",\"\",INDEX(Entradas!$H$3:$H$5000,MATCH(A651,IF(Entradas!$B$3:$B$5000=D651,Entradas!$A$3:$A$5000),1))),\"Preço não registrado\")","v":""},"",null,null,"",""]
[null,null,"",null,"","",null,{"$f":"IFERROR(IF(D652=\"\",\"\",INDEX(Entradas!$H$3:$H$5000,MATCH(A652,IF(Entradas!$B$3:$B$5000=D652,Entradas!$A$3:$A$5000),1))),\"Preço não registrado\")","v":""},"",null,null,"",""]
[null,null,"",null,"","",null,{"$f":"IFERROR(IF(D653=\"\",\"\",INDEX(Entradas!$H$3:$H$5000,MATCH(A653,IF(Entradas!$B$3:$B$5000=D653,Entradas!$A$3:$A$5000),1))),\"Preço não registrado\")","v":""},"",null,null,"",""]
[null,null,"",null,"","",null,{"$f":"IFERROR(IF(D654=\"\",\"\",INDEX(Entradas!$H$3:$H$5000,MATCH(A654,IF(Entradas!$B$3:$B$5000=D654,Entradas!$A$3:$A$5000),1))),\"Preço não registrado\")","v":""},"",null,null,"",""]
[null,null,"",null,"","",null,{"$f":"IFERROR(IF(D655=\"\",\"\",INDEX(Entradas!$H$3:$H$5000,MATCH(A655,IF(Entradas!$B$3:$B$5000=D655,Entradas!$A$3:$A$5000),1))),\"Preço não registrado\")","v":""},"",null,null,"",""]
[null,null,"",null,"","",null,{"$f":"IFERROR(IF(D656=\"\",\"\",INDEX(Entradas!$H$3:$H$5000,MATCH(A656,IF(Entradas!$B$3:$B$5000=D656,Entradas!$A$3:$A$5000),1))),\"Preço não registrado\")","v":""},"",null,null,"",""]
[null,null,"",null,"","",null,{"$f":"IFERROR(IF(D657=\"\",\"\",INDEX(Entradas!$H$3:$H$5000,MATCH(A657,IF(Entradas!$B$3:$B$5000=D657,Entradas!$A$3:$A$5000),1))),\"Preço não registrado\")","v":""},"",null,null,"",""]
[null,null,"",null,"","",null,{"$f":"IFERROR(IF(D658=\"\",\"\",INDEX(Entradas!$H$3:$H$5000,MATCH(A658,IF(Entradas!$B$3:$B$5000=D658,Entradas!$A$3:$A$5000),1))),\"Preço não registrado\")","v":""},"",null,null,"",""]
[null,null,"",null,"","",null,{"$f":"IFERROR(IF(D659=\"\",\"\",INDEX(Entradas!$H$3:$H$5000,MATCH(A659,IF(Entradas!$B$3:$B$5000=D659,Entradas!$A$3:$A$5000),1))),\"Preço não registrado\")","v":""},"",null,null,"",""]
[null,null,"",null,"","",null,{"$f":"IFERROR(IF(D660=\"\",\"\",INDEX(Entradas!$H$3:$H$5000,MATCH(A660,IF(Entradas!$B$3:$B$5000=D660,Entradas!$A$3:$A$5000),1))),\"Preço não registrado\")","v":""},"",null,null,"",""]
[null,null,"",null,"","",null,{"$f":"IFERROR(IF(D661=\"\",\"\",INDEX(Entradas!$H$3:$H$5000,MATCH(A661,IF(Entradas!$B$3:$B$5000=D661,Entradas!$A$3:$A$5000),1))),\"Preço não registrado\")","v":""},"",null,null,"",""]
[null,null,"",null,"","",null,{"$f":"IFERROR(IF(D662=\"\",\"\",INDEX(Entradas!$H$3:$H$5000,MATCH(A662,IF(Entradas!$B$3:$B$5000=D662,Entradas!$A$3:$A$5000),1))),\"Preço não registrado\")","v":""},"",null,null,"",""]
[null,null,"",null,"","",null,{"$f":"IFERROR(IF(D663=\"\",\"\",INDEX(Entradas!$H$3:$H$5000,MATCH(A663,IF(Entradas!$B$3:$B$5000=D663,Entradas!$A$3:$A$5000),1))),\"Preço não registrado\")","v":""},"",null,null,"",""]
[null,null,"",null,"","",null,{"$f":"IFERROR(IF(D664=\"\",\"\",INDEX(Entradas!$H$3:$H$5000,MATCH(A664,IF(Entradas!$B$3:$B$5000=D664,Entradas!$A$3:$A$5000),1))),\"Preço não registrado\")","v":""},"",null,null,"",""]
[null,null,"",null,"","",null,{"$f":"IFERROR(IF(D665=\"\",\"\",INDEX(Entradas!$H$3:$H$5000,MATCH(A665,IF(Entradas!$B$3:$B$5000=D665,Entradas!$A$3:$A$5000),1))),\"Preço não registrado\")","v":""},"",null,null,"",""]
[null,null,"",null,"","",null,{"$f":"IFERROR(IF(D666=\"\",\"\",INDEX(Entradas!$H$3:$H$5000,MATCH(A666,IF(Entradas!$B$3:$B$5000=D666,Entradas!$A$3:$A$5000),1))),\"Preço não registrado\")","v":""},"",null,null,"",""]
[null,null,"",null,"","",null,{"$f":"IFERROR(IF(D667=\"\",\"\",INDEX(Entradas!$H$3:$H$5000,MATCH(A667,IF(Entradas!$B$3:$B$5000=D667,Entradas!$A$3:$A$5000),1))),\"Preço não registrado\")","v":""},"",null,null,"",""]
[null,null,"",null,"","",null,{"$f":"IFERROR(IF(D668=\"\",\"\",INDEX(Entradas!$H$3:$H$5000,MATCH(A668,IF(Entradas!$B$3:$B$5000=D668,Entradas!$A$3:$A$5000),1))),\"Preço não registrado\")","v":""},"",null,null,"",""]
[null,null,"",null,"","",null,{"$f":"IFERROR(IF(D669=\"\",\"\",INDEX(Entradas!$H$3:$H$5000,MATCH(A669,IF(Entradas!$B$3:$B$5000=D669,Entradas!$A$3:$A$5000),1))),\"Preço não registrado\")","v":""},"",null,null,"",""]
[null,null,"",null,"","",null,{"$f":"IFERROR(IF(D670=\"\",\"\",INDEX(Entradas!$H$3:$H$5000,MATCH(A670,IF(Entradas!$B$3:$B$5000=D670,Entradas!$A$3:$A$5000),1))),\"Preço não registrado\")","v":""},"",null,null,"",""]
[null,null,"",null,"","",null,{"$f":"IFERROR(IF(D671=\"\",\"\",INDEX(Entradas!$H$3:$H$5000,MATCH(A671,IF(Entradas!$B$3:$B$5000=D671,Entradas!$A$3:$A$5000),1))),\"Preço não registrado\")","v":""},"",null,null,"",""]
[null,null,"",null,"","",null,{"$f":"IFERROR(IF(D672=\"\",\"\",INDEX(Entradas!$H$3:$H$5000,MATCH(A672,IF(Entradas!$B$3:$B$5000=D672,Entradas!$A$3:$A$5000),1))),\"Preço não registrado\")","v":""},"",null,null,"",""]
[null,null,"",null,"","",null,{"$f":"IFERROR(IF(D673=\"\",\"\",INDEX(Entradas!$H$3:$H$5000,MATCH(A673,IF(Entradas!$B$3:$B$5000=D673,Entradas!$A$3:$A$5000),1))),\"Preço não registrado\")","v":""},"",null,null,"",""]
[null,null,"",null,"","",null,{"$f":"IFERROR(IF(D674=\"\",\"\",INDEX(Entradas!$H$3:$H$5000,MATCH(A674,IF(Entradas!$B$3:$B$5000=D674,Entradas!$A$3:$A$5000),1))),\"Preço não registrado\")","v":""},"",null,null,"",""]
[null,null,"",null,"","",null,{"$f":"IFERROR(IF(D675=\"\",\"\",INDEX(Entradas!$H$3:$H$5000,MATCH(A675,IF(Entradas!$B$3:$B$5000=D675,Entradas!$A$3:$A$5000),1))),\"Preço não registrado\")","v":""},"",null,null,"",""]
[null,null,"",null,"","",null,{"$f":"IFERROR(IF(D676=\"\",\"\",INDEX(Entradas!$H$3:$H$5000,MATCH(A676,IF(Entradas!$B$3:$B$5000=D676,Entradas!$A$3:$A$5000),1))),\"Preço não registrado\")","v":""},"",null,null,"",""]
[null,null,"",null,"","",null,{"$f":"IFERROR(IF(D677=\"\",\"\",INDEX(Entradas!$H$3:$H$5000,MATCH(A677,IF(Entradas!$B$3:$B$5000=D677,Entradas!$A$3:$A$5000),1))),\"Preço não registrado\")","v":""},"",null,null,"",""]
[null,null,"",null,"","",null,{"$f":"IFERROR(IF(D678=\"\",\"\",INDEX(Entradas!$H$3:$H$5000,MATCH(A678,IF(Entradas!$B$3:$B$5000=D678,Entradas!$A$3:$A$5000),1))),\"Preço não registrado\")","v":""},"",null,null,"",""]
[null,null,"",null,"","",null,{"$f":"IFERROR(IF(D679=\"\",\"\",INDEX(Entradas!$H$3:$H$5000,MATCH(A679,IF(Entradas!$B$3:$B$5000=D679,Entradas!$A$3:$A$5000),1))),\"Preço não registrado\")","v":""},"",null,null,"",""]
[null,null,"",null,"","",null,{"$f":"IFERROR(IF(D680=\"\",\"\",INDEX(Entradas!$H$3:$H$5000,MATCH(A680,IF(Entradas!$B$3:$B$5000=D680,Entradas!$A$3:$A$5000),1))),\"Preço não registrado\")","v":""},"",null,null,"",""]
[null,null,"",null,"","",null,{"$f":"IFERROR(IF(D681=\"\",\"\",INDEX(Entradas!$H$3:$H$5000,MATCH(A681,IF(Entradas!$B$3:$B$5000=D681,Entradas!$A$3:$A$5000),1))),\"Preço não registrado\")","v":""},"",null,null,"",""]
[null,null,"",null,"","",null,{"$f":"IFERROR(IF(D682=\"\",\"\",INDEX(Entradas!$H$3:$H$5000,MATCH(A682,IF(Entradas!$B$3:$B$5000=D682,Entradas!$A$3:$A$5000),1))),\"Preço não registrado\")","v":""},"",null,null,"",""]
[null,null,"",null,"","",null,{"$f":"IFERROR(IF(D683=\"\",\"\",INDEX(Entradas!$H$3:$H$5000,MATCH(A683,IF(Entradas!$B$3:$B$5000=D683,Entradas!$A$3:$A$5000),1))),\"Preço não registrado\")","v":""},"",null,null,"",""]
[null,null,"",null,"","",null,{"$f":"IFERROR(IF(D684=\"\",\"\",INDEX(Entradas!$H$3:$H$5000,MATCH(A684,IF(Entradas!$B$3:$B$5000=D684,Entradas!$A$3:$A$5000),1))),\"Preço não registrado\")","v":""},"",null,null,"",""]
[null,null,"",null,"","",null,{"$f":"IFERROR(IF(D685=\"\",\"\",INDEX(Entradas!$H$3:$H$5000,MATCH(A685,IF(Entradas!$B$3:$B$5000=D685,Entradas!$A$3:$A$5000),1))),\"Preço não registrado\")","v":""},"",null,null,"",""]
[null,null,"",null,"","",null,{"$f":"IFERROR(IF(D686=\"\",\"\",INDEX(Entradas!$H$3:$H$5000,MATCH(A686,IF(Entradas!$B$3:$B$5000=D686,Entradas!$A$3:$A$5000),1))),\"Preço não registrado\")","v":""},"",null,null,"",""]
[null,null,"",null,"","",null,{"$f":"IFERROR(IF(D687=\"\",\"\",INDEX(Entradas!$H$3:$H$5000,MATCH(A687,IF(Entradas!$B$3:$B$5000=D687,Entradas!$A$3:$A$5000),1))),\"Preço não registrado\")","v":""},"",null,null,"",""]
[null,null,"",null,"","",null,{"$f":"IFERROR(IF(D688=\"\",\"\",INDEX(Entradas!$H$3:$H$5000,MATCH(A688,IF(Entradas!$B$3:$B$5000=D688,Entradas!$A$3:$A$5000),1))),\"Preço não registrado\")","v":""},"",null,null,"",""]
[null,null,"",null,"","",null,{"$f":"IFERROR(IF(D689=\"\",\"\",INDEX(Entradas!$H$3:$H$5000,MATCH(A689,IF(Entradas!$B$3:$B$5000=D689,Entradas!$A$3:$A$5000),1))),\"Preço não registrado\")","v":""},"",null,null,"",""]
[null,null,"",null,"","",null,{"$f":"IFERROR(IF(D690=\"\",\"\",INDEX(Entradas!$H$3:$H$5000,MATCH(A690,IF(Entradas!$B$3:$B$5000=D690,Entradas!$A$3:$A$5000),1))),\"Preço não registrado\")","v":""},"",null,null,"",""]
[null,null,"",null,"","",null,{"$f":"IFERROR(IF(D691=\"\",\"\",INDEX(Entradas!$H$3:$H$5000,MATCH(A691,IF(Entradas!$B$3:$B$5000=D691,Entradas!$A$3:$A$5000),1))),\"Preço não registrado\")","v":""},"",null,null,"",""]
[null,null,"",null,"","",null,{"$f":"IFERROR(IF(D692=\"\",\"\",INDEX(Entradas!$H$3:$H$5000,MATCH(A692,IF(Entradas!$B$3:$B$5000=D692,Entradas!$A$3:$A$5000),1))),\"Preço não registrado\")","v":""},"",null,null,"",""]
[null,null,"",null,"","",null,{"$f":"IFERROR(IF(D693=\"\",\"\",INDEX(Entradas!$H$3:$H$5000,MATCH(A693,IF(Entradas!$B$3:$B$5000=D693,Entradas!$A$3:$A$5000),1))),\"Preço não registrado\")","v":""},"",null,null,"",""]
[null,null,"",null,"","",null,{"$f":"IFERROR(IF(D694=\"\",\"\",INDEX(Entradas!$H$3:$H$5000,MATCH(A694,IF(Entradas!$B$3:$B$5000=D694,Entradas!$A$3:$A$5000),1))),\"Preço não registrado\")","v":""},"",null,null,"",""]
[null,null,"",null,"","",null,{"$f":"IFERROR(IF(D695=\"\",\"\",INDEX(Entradas!$H$3:$H$5000,MATCH(A695,IF(Entradas!$B$3:$B$5000=D695,Entradas!$A$3:$A$5000),1))),\"Preço não registrado\")","v":""},"",null,null,"",""]
[null,null,"",null,"","",null,{"$f":"IFERROR(IF(D696=\"\",\"\",INDEX(Entradas!$H$3:$H$5000,MATCH(A696,IF(Entradas!$B$3:$B$5000=D696,Entradas!$A$3:$A$5000),1))),\"Preço não registrado\")","v":""},"",null,null,"",""]
[null,null,"",null,"","",null,{"$f":"IFERROR(IF(D697=\"\",\"\",INDEX(Entradas!$H$3:$H$5000,MATCH(A697,IF(Entradas!$B$3:$B$5000=D697,Entradas!$A$3:$A$5000),1))),\"Preço não registrado\")","v":""},"",null,null,"",""]
[null,null,"",null,"","",null,{"$f":"IFERROR(IF(D698=\"\",\"\",INDEX(Entradas!$H$3:$H$5000,MATCH(A698,IF(Entradas!$B$3:$B$5000=D698,Entradas!$A$3:$A$5000),1))),\"Preço não registrado\")","v":""},"",null,null,"",""]
[null,null,"",null,"","",null,{"$f":"IFERROR(IF(D699=\"\",\"\",INDEX(Entradas!$H$3:$H$5000,MATCH(A699,IF(Entradas!$B$3:$B$5000=D699,Entradas!$A$3:$A$5000),1))),\"Preço não registrado\")","v":""},"",null,null,"",""]
[null,null,"",null,"","",null,{"$f":"IFERROR(IF(D700=\"\",\"\",INDEX(Entradas!$H$3:$H$5000,MATCH(A700,IF(Entradas!$B$3:$B$5000=D700,Entradas!$A$3:$A$5000),1))),\"Preço não registrado\")","v":""},"",null,null,"",""]
[null,null,"",null,"","",null,{"$f":"IFERROR(IF(D701=\"\",\"\",INDEX(Entradas!$H$3:$H$5000,MATCH(A701,IF(Entradas!$B$3:$B$5000=D701,Entradas!$A$3:$A$5000),1))),\"Preço não registrado\")","v":""},"",null,null,"",""]
[null,null,"",null,"","",null,{"$f":"IFERROR(IF(D702=\"\",\"\",INDEX(Entradas!$H$3:$H$5000,MATCH(A702,IF(Entradas!$B$3:$B$5000=D702,Entradas!$A$3:$A$5000),1))),\"Preço não registrado\")","v":""},"",null,null,"",""]
[null,null,"",null,"","",null,{"$f":"IFERROR(IF(D703=\"\",\"\",INDEX(Entradas!$H$3:$H$5000,MATCH(A703,IF(Entradas!$B$3:$B$5000=D703,Entradas!$A$3:$A$5000),1))),\"Preço não registrado\")","v":""},"",null,null,"",""]
[null,null,"",null,"","",null,{"$f":"IFERROR(IF(D704=\"\",\"\",INDEX(Entradas!$H$3:$H$5000,MATCH(A704,IF(Entradas!$B$3:$B$5000=D704,Entradas!$A$3:$A$5000),1))),\"Preço não registrado\")","v":""},"",null,null,"",""]
[null,null,"",null,"","",null,{"$f":"IFERROR(IF(D705=\"\",\"\",INDEX(Entradas!$H$3:$H$5000,MATCH(A705,IF(Entradas!$B$3:$B$5000=D705,Entradas!$A$3:$A$5000),1))),\"Preço não registrado\")","v":""},"",null,null,"",""]
[null,null,"",null,"","",null,{"$f":"IFERROR(IF(D706=\"\",\"\",INDEX(Entradas!$H$3:$H$5000,MATCH(A706,IF(Entradas!$B$3:$B$5000=D706,Entradas!$A$3:$A$5000),1))),\"Preço não registrado\")","v":""},"",null,null,"",""]
[null,null,{"$f":"IFERROR(IF(B707=\"\",\"\",VLOOKUP(B707,Clientes,2,FALSE)),\"\")","v":""},null,{"$f":"IF(D707=\"\",\"\",VLOOKUP(D707,Itens,2,FALSE))","v":""},{"$f":"IF(D707=\"\",\"\",VLOOKUP(D707,Itens,3,FALSE))","v":""},null,{"$f":"IFERROR(IF(D707=\"\",\"\",INDEX(Entradas!$H$3:$H$5000,MATCH(A707,IF(Entradas!$B$3:$B$5000=D707,Entradas!$A$3:$A$5000),1))),\"Preço não registrado\")","v":""},"",null,null,"",""]
[null,null,"",null,"","",null,{"$f":"IFERROR(IF(D708=\"\",\"\",INDEX(Entradas!$H$3:$H$5000,MATCH(A708,IF(Entradas!$B$3:$B$5000=D708,Entradas!$A$3:$A$5000),1))),\"Preço não registrado\")","v":""},{"$f":"IFERROR(G708*H708,\"\")","v":""},null,null,{"$f":"IF(K708=\"\",\"\",HYPERLINK($P$13&K708,\"Rastreie aqui\"))","v":""},{"$f":"IF(A708=\"\",\"\",TEXT(A708,\"mmmm\"))","v":""}]
[null,null,"",null,"","",null,{"$f":"IFERROR(IF(D709=\"\",\"\",INDEX(Entradas!$H$3:$H$5000,MATCH(A709,IF(Entradas!$B$3:$B$5000=D709,Entradas!$A$3:$A$5000),1))),\"Preço não registrado\")","v":""},"",null,null,"",""]
[null,null,"",null,"","",null,{"$f":"IFERROR(IF(D710=\"\",\"\",INDEX(Entradas!$H$3:$H$5000,MATCH(A710,IF(Entradas!$B$3:$B$5000=D710,Entradas!$A$3:$A$5000),1))),\"Preço não registrado\")","v":""},"",null,null,"",""]
[null,null,"",null,"","",null,{"$f":"IFERROR(IF(D711=\"\",\"\",INDEX(Entradas!$H$3:$H$5000,MATCH(A711,IF(Entradas!$B$3:$B$5000=D711,Entradas!$A$3:$A$5000),1))),\"Preço não registrado\")","v":""},"",null,null,"",""]
[null,null,"",null,"","",null,{"$f":"IFERROR(IF(D712=\"\",\"\",INDEX(Entradas!$H$3:$H$5000,MATCH(A712,IF(Entradas!$B$3:$B$5000=D712,Entradas!$A$3:$A$5000),1))),\"Preço não registrado\")","v":""},"",null,null,"",""]
[null,null,"",null,"","",null,{"$f":"IFERROR(IF(D713=\"\",\"\",INDEX(Entradas!$H$3:$H$5000,MATCH(A713,IF(Entradas!$B$3:$B$5000=D713,Entradas!$A$3:$A$5000),1))),\"Preço não registrado\")","v":""},"",null,null,"",""]
[null,null,"",null,"","",null,{"$f":"IFERROR(IF(D714=\"\",\"\",INDEX(Entradas!$H$3:$H$5000,MATCH(A714,IF(Entradas!$B$3:$B$5000=D714,Entradas!$A$3:$A$5000),1))),\"Preço não registrado\")","v":""},"",null,null,"",""]
[null,null,"",null,"","",null,{"$f":"IFERROR(IF(D715=\"\",\"\",INDEX(Entradas!$H$3:$H$5000,MATCH(A715,IF(Entradas!$B$3:$B$5000=D715,Entradas!$A$3:$A$5000),1))),\"Preço não registrado\")","v":""},"",null,null,"",""]
[null,null,"",null,"","",null,{"$f":"IFERROR(IF(D716=\"\",\"\",INDEX(Entradas!$H$3:$H$5000,MATCH(A716,IF(Entradas!$B$3:$B$5000=D716,Entradas!$A$3:$A$5000),1))),\"Preço não registrado\")","v":""},"",null,null,"",""]
[null,null,"",null,"","",null,{"$f":"IFERROR(IF(D717=\"\",\"\",INDEX(Entradas!$H$3:$H$5000,MATCH(A717,IF(Entradas!$B$3:$B$5000=D717,Entradas!$A$3:$A$5000),1))),\"Preço não registrado\")","v":""},"",null,null,"",""]
[null,null,"",null,"","",null,{"$f":"IFERROR(IF(D718=\"\",\"\",INDEX(Entradas!$H$3:$H$5000,MATCH(A718,IF(Entradas!$B$3:$B$5000=D718,Entradas!$A$3:$A$5000),1))),\"Preço não registrado\")","v":""},"",null,null,"",""]
[null,null,"",null,"","",null,{"$f":"IFERROR(IF(D719=\"\",\"\",INDEX(Entradas!$H$3:$H$5000,MATCH(A719,IF(Entradas!$B$3:$B$5000=D719,Entradas!$A$3:$A$5000),1))),\"Preço não registrado\")","v":""},"",null,null,"",""]
[null,null,"",null,"","",null,{"$f":"IFERROR(IF(D720=\"\",\"\",INDEX(Entradas!$H$3:$H$5000,MATCH(A720,IF(Entradas!$B$3:$B$5000=D720,Entradas!$A$3:$A$5000),1))),\"Preço não registrado\")","v":""},"",null,null,"",""]
[null,null,"",null,"","",null,{"$f":"IFERROR(IF(D721=\"\",\"\",INDEX(Entradas!$H$3:$H$5000,MATCH(A721,IF(Entradas!$B$3:$B$5000=D721,Entradas!$A$3:$A$5000),1))),\"Preço não registrado\")","v":""},"",null,null,"",""]
[null,null,"",null,"","",null,{"$f":"IFERROR(IF(D722=\"\",\"\",INDEX(Entradas!$H$3:$H$5000,MATCH(A722,IF(Entradas!$B$3:$B$5000=D722,Entradas!$A$3:$A$5000),1))),\"Preço não registrado\")","v":""},"",null,null,"",""]
[null,null,"",null,"","",null,{"$f":"IFERROR(IF(D723=\"\",\"\",INDEX(Entradas!$H$3:$H$5000,MATCH(A723,IF(Entradas!$B$3:$B$5000=D723,Entradas!$A$3:$A$5000),1))),\"Preço não registrado\")","v":""},"",null,null,"",""]
[null,null,"",null,"","",null,{"$f":"IFERROR(IF(D724=\"\",\"\",INDEX(Entradas!$H$3:$H$5000,MATCH(A724,IF(Entradas!$B$3:$B$5000=D724,Entradas!$A$3:$A$5000),1))),\"Preço não registrado\")","v":""},"",null,null,"",""]
[null,null,"",null,"","",null,{"$f":"IFERROR(IF(D725=\"\",\"\",INDEX(Entradas!$H$3:$H$5000,MATCH(A725,IF(Entradas!$B$3:$B$5000=D725,Entradas!$A$3:$A$5000),1))),\"Preço não registrado\")","v":""},"",null,null,"",""]
[null,null,"",null,"","",null,{"$f":"IFERROR(IF(D726=\"\",\"\",INDEX(Entradas!$H$3:$H$5000,MATCH(A726,IF(Entradas!$B$3:$B$5000=D726,Entradas!$A$3:$A$5000),1))),\"Preço não registrado\")","v":""},"",null,null,"",""]
[null,null,"",null,"","",null,{"$f":"IFERROR(IF(D727=\"\",\"\",INDEX(Entradas!$H$3:$H$5000,MATCH(A727,IF(Entradas!$B$3:$B$5000=D727,Entradas!$A$3:$A$5000),1))),\"Preço não registrado\")","v":""},"",null,null,"",""]
[null,null,"",null,"","",null,{"$f":"IFERROR(IF(D728=\"\",\"\",INDEX(Entradas!$H$3:$H$5000,MATCH(A728,IF(Entradas!$B$3:$B$5000=D728,Entradas!$A$3:$A$5000),1))),\"Preço não registrado\")","v":""},"",null,null,"",""]
[null,null,"",null,"","",null,{"$f":"IFERROR(IF(D729=\"\",\"\",INDEX(Entradas!$H$3:$H$5000,MATCH(A729,IF(Entradas!$B$3:$B$5000=D729,Entradas!$A$3:$A$5000),1))),\"Preço não registrado\")","v":""},"",null,null,"",""]
[null,null,"",null,"","",null,{"$f":"IFERROR(IF(D730=\"\",\"\",INDEX(Entradas!$H$3:$H$5000,MATCH(A730,IF(Entradas!$B$3:$B$5000=D730,Entradas!$A$3:$A$5000),1))),\"Preço não registrado\")","v":""},"",null,null,"",""]
[null,null,"",null,"","",null,{"$f":"IFERROR(IF(D731=\"\",\"\",INDEX(Entradas!$H$3:$H$5000,MATCH(A731,IF(Entradas!$B$3:$B$5000=D731,Entradas!$A$3:$A$5000),1))),\"Preço não registrado\")","v":""},"",null,null,"",""]
[null,null,"",null,"","",null,{"$f":"IFERROR(IF(D732=\"\",\"\",INDEX(Entradas!$H$3:$H$5000,MATCH(A732,IF(Entradas!$B$3:$B$5000=D732,Entradas!$A$3:$A$5000),1))),\"Preço não registrado\")","v":""},"",null,null,"",""]
[null,null,"",null,"","",null,{"$f":"IFERROR(IF(D733=\"\",\"\",INDEX(Entradas!$H$3:$H$5000,MATCH(A733,IF(Entradas!$B$3:$B$5000=D733,Entradas!$A$3:$A$5000),1))),\"Preço não registrado\")","v":""},"",null,null,"",""]
[null,null,"",null,"","",null,{"$f":"IFERROR(IF(D734=\"\",\"\",INDEX(Entradas!$H$3:$H$5000,MATCH(A734,IF(Entradas!$B$3:$B$5000=D734,Entradas!$A$3:$A$5000),1))),\"Preço não registrado\")","v":""},"",null,null,"",""]
[null,null,"",null,"","",null,{"$f":"IFERROR(IF(D735=\"\",\"\",INDEX(Entradas!$H$3:$H$5000,MATCH(A735,IF(Entradas!$B$3:$B$5000=D735,Entradas!$A$3:$A$5000),1))),\"Preço não registrado\")","v":""},"",null,null,"",""]
[null,null,"",null,"","",null,{"$f":"IFERROR(IF(D736=\"\",\"\",INDEX(Entradas!$H$3:$H$5000,MATCH(A736,IF(Entradas!$B$3:$B$5000=D736,Entradas!$A$3:$A$5000),1))),\"Preço não registrado\")","v":""},"",null,null,"",""]
[null,null,"",null,"","",null,{"$f":"IFERROR(IF(D737=\"\",\"\",INDEX(Entradas!$H$3:$H$5000,MATCH(A737,IF(Entradas!$B$3:$B$5000=D737,Entradas!$A$3:$A$5000),1))),\"Preço não registrado\")","v":""},"",null,null,"",""]
[null,null,"",null,"","",null,{"$f":"IFERROR(IF(D738=\"\",\"\",INDEX(Entradas!$H$3:$H$5000,MATCH(A738,IF(Entradas!$B$3:$B$5000=D738,Entradas!$A$3:$A$5000),1))),\"Preço não registrado\")","v":""},"",null,null,"",""]
[null,null,"",null,"","",null,{"$f":"IFERROR(IF(D739=\"\",\"\",INDEX(Entradas!$H$3:$H$5000,MATCH(A739,IF(Entradas!$B$3:$B$5000=D739,Entradas!$A$3:$A$5000),1))),\"Preço não registrado\")","v":""},"",null,null,"",""]
[null,null,"",null,"","",null,{"$f":"IFERROR(IF(D740=\"\",\"\",INDEX(Entradas!$H$3:$H$5000,MATCH(A740,IF(Entradas!$B$3:$B$5000=D740,Entradas!$A$3:$A$5000),1))),\"Preço não registrado\")","v":""},"",null,null,"",""]
[null,null,"",null,"","",null,{"$f":"IFERROR(IF(D741=\"\",\"\",INDEX(Entradas!$H$3:$H$5000,MATCH(A741,IF(Entradas!$B$3:$B$5000=D741,Entradas!$A$3:$A$5000),1))),\"Preço não registrado\")","v":""},"",null,null,"",""]
[null,null,"",null,"","",null,{"$f":"IFERROR(IF(D742=\"\",\"\",INDEX(Entradas!$H$3:$H$5000,MATCH(A742,IF(Entradas!$B$3:$B$5000=D742,Entradas!$A$3:$A$5000),1))),\"Preço não registrado\")","v":""},"",null,null,"",""]
[null,null,"",null,"","",null,{"$f":"IFERROR(IF(D743=\"\",\"\",INDEX(Entradas!$H$3:$H$5000,MATCH(A743,IF(Entradas!$B$3:$B$5000=D743,Entradas!$A$3:$A$5000),1))),\"Preço não registrado\")","v":""},"",null,null,"",""]
[null,null,"",null,"","",null,{"$f":"IFERROR(IF(D744=\"\",\"\",INDEX(Entradas!$H$3:$H$5000,MATCH(A744,IF(Entradas!$B$3:$B$5000=D744,Entradas!$A$3:$A$5000),1))),\"Preço não registrado\")","v":""},"",null,null,"",""]
[null,null,"",null,"","",null,{"$f":"IFERROR(IF(D745=\"\",\"\",INDEX(Entradas!$H$3:$H$5000,MATCH(A745,IF(Entradas!$B$3:$B$5000=D745,Entradas!$A$3:$A$5000),1))),\"Preço não registrado\")","v":""},"",null,null,"",""]
[null,null,"",null,"","",null,{"$f":"IFERROR(IF(D746=\"\",\"\",INDEX(Entradas!$H$3:$H$5000,MATCH(A746,IF(Entradas!$B$3:$B$5000=D746,Entradas!$A$3:$A$5000),1))),\"Preço não registrado\")","v":""},"",null,null,"",""]
[null,null,"",null,"","",null,{"$f":"IFERROR(IF(D747=\"\",\"\",INDEX(Entradas!$H$3:$H$5000,MATCH(A747,IF(Entradas!$B$3:$B$5000=D747,Entradas!$A$3:$A$5000),1))),\"Preço não registrado\")","v":""},"",null,null,"",""]
[null,null,"",null,"","",null,{"$f":"IFERROR(IF(D748=\"\",\"\",INDEX(Entradas!$H$3:$H$5000,MATCH(A748,IF(Entradas!$B$3:$B$5000=D748,Entradas!$A$3:$A$5000),1))),\"Preço não registrado\")","v":""},"",null,null,"",""]
[null,null,"",null,"","",null,{"$f":"IFERROR(IF(D749=\"\",\"\",INDEX(Entradas!$H$3:$H$5000,MATCH(A749,IF(Entradas!$B$3:$B$5000=D749,Entradas!$A$3:$A$5000),1))),\"Preço não registrado\")","v":""},"",null,null,"",""]
[null,null,"",null,"","",null,{"$f":"IFERROR(IF(D750=\"\",\"\",INDEX(Entradas!$H$3:$H$5000,MATCH(A750,IF(Entradas!$B$3:$B$5000=D750,Entradas!$A$3:$A$5000),1))),\"Preço não registrado\")","v":""},"",null,null,"",""]
[null,null,"",null,"","",null,{"$f":"IFERROR(IF(D751=\"\",\"\",INDEX(Entradas!$H$3:$H$5000,MATCH(A751,IF(Entradas!$B$3:$B$5000=D751,Entradas!$A$3:$A$5000),1))),\"Preço não registrado\")","v":""},"",null,null,"",""]
[null,null,"",null,"","",null,{"$f":"IFERROR(IF(D752=\"\",\"\",INDEX(Entradas!$H$3:$H$5000,MATCH(A752,IF(Entradas!$B$3:$B$5000=D752,Entradas!$A$3:$A$5000),1))),\"Preço não registrado\")","v":""},"",null,null,"",""]
[null,null,"",null,"","",null,{"$f":"IFERROR(IF(D753=\"\",\"\",INDEX(Entradas!$H$3:$H$5000,MATCH(A753,IF(Entradas!$B$3:$B$5000=D753,Entradas!$A$3:$A$5000),1))),\"Preço não registrado\")","v":""},"",null,null,"",""]
[null,null,"",null,"","",null,{"$f":"IFERROR(IF(D754=\"\",\"\",INDEX(Entradas!$H$3:$H$5000,MATCH(A754,IF(Entradas!$B$3:$B$5000=D754,Entradas!$A$3:$A$5000),1))),\"Preço não registrado\")","v":""},"",null,null,"",""]
[null,null,"",null,"","",null,{"$f":"IFERROR(IF(D755=\"\",\"\",INDEX(Entradas!$H$3:$H$5000,MATCH(A755,IF(Entradas!$B$3:$B$5000=D755,Entradas!$A$3:$A$5000),1))),\"Preço não registrado\")","v":""},"",null,null,"",""]
[null,null,"",null,"","",null,{"$f":"IFERROR(IF(D756=\"\",\"\",INDEX(Entradas!$H$3:$H$5000,MATCH(A756,IF(Entradas!$B$3:$B$5000=D756,Entradas!$A$3:$A$5000),1))),\"Preço não registrado\")","v":""},"",null,null,"",""]
[null,null,"",null,"","",null,{"$f":"IFERROR(IF(D757=\"\",\"\",INDEX(Entradas!$H$3:$H$5000,MATCH(A757,IF(Entradas!$B$3:$B$5000=D757,Entradas!$A$3:$A$5000),1))),\"Preço não registrado\")","v":""},"",null,null,"",""]
[null,null,"",null,"","",null,{"$f":"IFERROR(IF(D758=\"\",\"\",INDEX(Entradas!$H$3:$H$5000,MATCH(A758,IF(Entradas!$B$3:$B$5000=D758,Entradas!$A$3:$A$5000),1))),\"Preço não registrado\")","v":""},"",null,null,"",""]
[null,null,"",null,"","",null,{"$f":"IFERROR(IF(D759=\"\",\"\",INDEX(Entradas!$H$3:$H$5000,MATCH(A759,IF(Entradas!$B$3:$B$5000=D759,Entradas!$A$3:$A$5000),1))),\"Preço não registrado\")","v":""},"",null,null,"",""]
[null,null,"",null,"","",null,{"$f":"IFERROR(IF(D760=\"\",\"\",INDEX(Entradas!$H$3:$H$5000,MATCH(A760,IF(Entradas!$B$3:$B$5000=D760,Entradas!$A$3:$A$5000),1))),\"Preço não registrado\")","v":""},"",null,null,"",""]
[null,null,"",null,"","",null,{"$f":"IFERROR(IF(D761=\"\",\"\",INDEX(Entradas!$H$3:$H$5000,MATCH(A761,IF(Entradas!$B$3:$B$5000=D761,Entradas!$A$3:$A$5000),1))),\"Preço não registrado\")","v":""},"",null,null,"",""]
[null,null,"",null,"","",null,{"$f":"IFERROR(IF(D762=\"\",\"\",INDEX(Entradas!$H$3:$H$5000,MATCH(A762,IF(Entradas!$B$3:$B$5000=D762,Entradas!$A$3:$A$5000),1))),\"Preço não registrado\")","v":""},"",null,null,"",""]
[null,null,"",null,"","",null,{"$f":"IFERROR(IF(D763=\"\",\"\",INDEX(Entradas!$H$3:$H$5000,MATCH(A763,IF(Entradas!$B$3:$B$5000=D763,Entradas!$A$3:$A$5000),1))),\"Preço não registrado\")","v":""},"",null,null,"",""]
[null,null,"",null,"","",null,{"$f":"IFERROR(IF(D764=\"\",\"\",INDEX(Entradas!$H$3:$H$5000,MATCH(A764,IF(Entradas!$B$3:$B$5000=D764,Entradas!$A$3:$A$5000),1))),\"Preço não registrado\")","v":""},"",null,null,"",""]
[null,null,"",null,"","",null,{"$f":"IFERROR(IF(D765=\"\",\"\",INDEX(Entradas!$H$3:$H$5000,MATCH(A765,IF(Entradas!$B$3:$B$5000=D765,Entradas!$A$3:$A$5000),1))),\"Preço não registrado\")","v":""},"",null,null,"",""]
[null,null,"",null,"","",null,{"$f":"IFERROR(IF(D766=\"\",\"\",INDEX(Entradas!$H$3:$H$5000,MATCH(A766,IF(Entradas!$B$3:$B$5000=D766,Entradas!$A$3:$A$5000),1))),\"Preço não registrado\")","v":""},"",null,null,"",""]
[null,null,"",null,"","",null,{"$f":"IFERROR(IF(D767=\"\",\"\",INDEX(Entradas!$H$3:$H$5000,MATCH(A767,IF(Entradas!$B$3:$B$5000=D767,Entradas!$A$3:$A$5000),1))),\"Preço não registrado\")","v":""},"",null,null,"",""]
[null,null,"",null,"","",null,{"$f":"IFERROR(IF(D768=\"\",\"\",INDEX(Entradas!$H$3:$H$5000,MATCH(A768,IF(Entradas!$B$3:$B$5000=D768,Entradas!$A$3:$A$5000),1))),\"Preço não registrado\")","v":""},"",null,null,"",""]
[null,null,"",null,"","",null,{"$f":"IFERROR(IF(D769=\"\",\"\",INDEX(Entradas!$H$3:$H$5000,MATCH(A769,IF(Entradas!$B$3:$B$5000=D769,Entradas!$A$3:$A$5000),1))),\"Preço não registrado\")","v":""},"",null,null,"",""]
[null,null,"",null,"","",null,{"$f":"IFERROR(IF(D770=\"\",\"\",INDEX(Entradas!$H$3:$H$5000,MATCH(A770,IF(Entradas!$B$3:$B$5000=D770,Entradas!$A$3:$A$5000),1))),\"Preço não registrado\")","v":""},"",null,null,"",""]
[null,null,{"$f":"IFERROR(IF(B771=\"\",\"\",VLOOKUP(B771,Clientes,2,FALSE)),\"\")","v":""},null,{"$f":"IF(D771=\"\",\"\",VLOOKUP(D771,Itens,2,FALSE))","v":""},{"$f":"IF(D771=\"\",\"\",VLOOKUP(D771,Itens,3,FALSE))","v":""},null,{"$f":"IFERROR(IF(D771=\"\",\"\",INDEX(Entradas!$H$3:$H$5000,MATCH(A771,IF(Entradas!$B$3:$B$5000=D771,Entradas!$A$3:$A$5000),1))),\"Preço não registrado\")","v":""},"",null,null,"",""]
[null,null,"",null,"","",null,{"$f":"IFERROR(IF(D772=\"\",\"\",INDEX(Entradas!$H$3:$H$5000,MATCH(A772,IF(Entradas!$B$3:$B$5000=D772,Entradas!$A$3:$A$5000),1))),\"Preço não registrado\")","v":""},{"$f":"IFERROR(G772*H772,\"\")","v":""},null,null,{"$f":"IF(K772=\"\",\"\",HYPERLINK($P$13&K772,\"Rastreie aqui\"))","v":""},{"$f":"IF(A772=\"\",\"\",TEXT(A772,\"mmmm\"))","v":""}]
[null,null,"",null,"","",null,{"$f":"IFERROR(IF(D773=\"\",\"\",INDEX(Entradas!$H$3:$H$5000,MATCH(A773,IF(Entradas!$B$3:$B$5000=D773,Entradas!$A$3:$A$5000),1))),\"Preço não registrado\")","v":""},"",null,null,"",""]
[null,null,"",null,"","",null,{"$f":"IFERROR(IF(D774=\"\",\"\",INDEX(Entradas!$H$3:$H$5000,MATCH(A774,IF(Entradas!$B$3:$B$5000=D774,Entradas!$A$3:$A$5000),1))),\"Preço não registrado\")","v":""},"",null,null,"",""]
[null,null,"",null,"","",null,{"$f":"IFERROR(IF(D775=\"\",\"\",INDEX(Entradas!$H$3:$H$5000,MATCH(A775,IF(Entradas!$B$3:$B$5000=D775,Entradas!$A$3:$A$5000),1))),\"Preço não registrado\")","v":""},"",null,null,"",""]
[null,null,"",null,"","",null,{"$f":"IFERROR(IF(D776=\"\",\"\",INDEX(Entradas!$H$3:$H$5000,MATCH(A776,IF(Entradas!$B$3:$B$5000=D776,Entradas!$A$3:$A$5000),1))),\"Preço não registrado\")","v":""},"",null,null,"",""]
[null,null,"",null,"","",null,{"$f":"IFERROR(IF(D777=\"\",\"\",INDEX(Entradas!$H$3:$H$5000,MATCH(A777,IF(Entradas!$B$3:$B$5000=D777,Entradas!$A$3:$A$5000),1))),\"Preço não registrado\")","v":""},"",null,null,"",""]
[null,null,"",null,"","",null,{"$f":"IFERROR(IF(D778=\"\",\"\",INDEX(Entradas!$H$3:$H$5000,MATCH(A778,IF(Entradas!$B$3:$B$5000=D778,Entradas!$A$3:$A$5000),1))),\"Preço não registrado\")","v":""},"",null,null,"",""]
[null,null,"",null,"","",null,{"$f":"IFERROR(IF(D779=\"\",\"\",INDEX(Entradas!$H$3:$H$5000,MATCH(A779,IF(Entradas!$B$3:$B$5000=D779,Entradas!$A$3:$A$5000),1))),\"Preço não registrado\")","v":""},"",null,null,"",""]
[null,null,"",null,"","",null,{"$f":"IFERROR(IF(D780=\"\",\"\",INDEX(Entradas!$H$3:$H$5000,MATCH(A780,IF(Entradas!$B$3:$B$5000=D780,Entradas!$A$3:$A$5000),1))),\"Preço não registrado\")","v":""},"",null,null,"",""]
[null,null,"",null,"","",null,{"$f":"IFERROR(IF(D781=\"\",\"\",INDEX(Entradas!$H$3:$H$5000,MATCH(A781,IF(Entradas!$B$3:$B$5000=D781,Entradas!$A$3:$A$5000),1))),\"Preço não registrado\")","v":""},"",null,null,"",""]
[null,null,"",null,"","",null,{"$f":"IFERROR(IF(D782=\"\",\"\",INDEX(Entradas!$H$3:$H$5000,MATCH(A782,IF(Entradas!$B$3:$B$5000=D782,Entradas!$A$3:$A$5000),1))),\"Preço não registrado\")","v":""},"",null,null,"",""]
[null,null,"",null,"","",null,{"$f":"IFERROR(IF(D783=\"\",\"\",INDEX(Entradas!$H$3:$H$5000,MATCH(A783,IF(Entradas!$B$3:$B$5000=D783,Entradas!$A$3:$A$5000),1))),\"Preço não registrado\")","v":""},"",null,null,"",""]
[null,null,"",null,"","",null,{"$f":"IFERROR(IF(D784=\"\",\"\",INDEX(Entradas!$H$3:$H$5000,MATCH(A784,IF(Entradas!$B$3:$B$5000=D784,Entradas!$A$3:$A$5000),1))),\"Preço não registrado\")","v":""},"",null,null,"",""]
[null,null,"",null,"","",null,{"$f":"IFERROR(IF(D785=\"\",\"\",INDEX(Entradas!$H$3:$H$5000,MATCH(A785,IF(Entradas!$B$3:$B$5000=D785,Entradas!$A$3:$A$5000),1))),\"Preço não registrado\")","v":""},"",null,null,"",""]
[null,null,"",null,"","",null,{"$f":"IFERROR(IF(D786=\"\",\"\",INDEX(Entradas!$H$3:$H$5000,MATCH(A786,IF(Entradas!$B$3:$B$5000=D786,Entradas!$A$3:$A$5000),1))),\"Preço não registrado\")","v":""},"",null,null,"",""]
[null,null,"",null,"","",null,{"$f":"IFERROR(IF(D787=\"\",\"\",INDEX(Entradas!$H$3:$H$5000,MATCH(A787,IF(Entradas!$B$3:$B$5000=D787,Entradas!$A$3:$A$5000),1))),\"Preço não registrado\")","v":""},"",null,null,"",""]
[null,null,"",null,"","",null,{"$f":"IFERROR(IF(D788=\"\",\"\",INDEX(Entradas!$H$3:$H$5000,MATCH(A788,IF(Entradas!$B$3:$B$5000=D788,Entradas!$A$3:$A$5000),1))),\"Preço não registrado\")","v":""},"",null,null,"",""]
[null,null,"",null,"","",null,{"$f":"IFERROR(IF(D789=\"\",\"\",INDEX(Entradas!$H$3:$H$5000,MATCH(A789,IF(Entradas!$B$3:$B$5000=D789,Entradas!$A$3:$A$5000),1))),\"Preço não registrado\")","v":""},"",null,null,"",""]
[null,null,"",null,"","",null,{"$f":"IFERROR(IF(D790=\"\",\"\",INDEX(Entradas!$H$3:$H$5000,MATCH(A790,IF(Entradas!$B$3:$B$5000=D790,Entradas!$A$3:$A$5000),1))),\"Preço não registrado\")","v":""},"",null,null,"",""]
[null,null,"",null,"","",null,{"$f":"IFERROR(IF(D791=\"\",\"\",INDEX(Entradas!$H$3:$H$5000,MATCH(A791,IF(Entradas!$B$3:$B$5000=D791,Entradas!$A$3:$A$5000),1))),\"Preço não registrado\")","v":""},"",null,null,"",""]
[null,null,"",null,"","",null,{"$f":"IFERROR(IF(D792=\"\",\"\",INDEX(Entradas!$H$3:$H$5000,MATCH(A792,IF(Entradas!$B$3:$B$5000=D792,Entradas!$A$3:$A$5000),1))),\"Preço não registrado\")","v":""},"",null,null,"",""]
[null,null,"",null,"","",null,{"$f":"IFERROR(IF(D793=\"\",\"\",INDEX(Entradas!$H$3:$H$5000,MATCH(A793,IF(Entradas!$B$3:$B$5000=D793,Entradas!$A$3:$A$5000),1))),\"Preço não registrado\")","v":""},"",null,null,"",""]
[null,null,"",null,"","",null,{"$f":"IFERROR(IF(D794=\"\",\"\",INDEX(Entradas!$H$3:$H$5000,MATCH(A794,IF(Entradas!$B$3:$B$5000=D794,Entradas!$A$3:$A$5000),1))),\"Preço não registrado\")","v":""},"",null,null,"",""]
[null,null,"",null,"","",null,{"$f":"IFERROR(IF(D795=\"\",\"\",INDEX(Entradas!$H$3:$H$5000,MATCH(A795,IF(Entradas!$B$3:$B$5000=D795,Entradas!$A$3:$A$5000),1))),\"Preço não registrado\")","v":""},"",null,null,"",""]
[null,null,"",null,"","",null,{"$f":"IFERROR(IF(D796=\"\",\"\",INDEX(Entradas!$H$3:$H$5000,MATCH(A796,IF(Entradas!$B$3:$B$5000=D796,Entradas!$A$3:$A$5000),1))),\"Preço não registrado\")","v":""},"",null,null,"",""]
[null,null,"",null,"","",null,{"$f":"IFERROR(IF(D797=\"\",\"\",INDEX(Entradas!$H$3:$H$5000,MATCH(A797,IF(Entradas!$B$3:$B$5000=D797,Entradas!$A$3:$A$5000),1))),\"Preço não registrado\")","v":""},"",null,null,"",""]
[null,null,"",null,"","",null,{"$f":"IFERROR(IF(D798=\"\",\"\",INDEX(Entradas!$H$3:$H$5000,MATCH(A798,IF(Entradas!$B$3:$B$5000=D798,Entradas!$A$3:$A$5000),1))),\"Preço não registrado\")","v":""},"",null,null,"",""]
[null,null,"",null,"","",null,{"$f":"IFERROR(IF(D799=\"\",\"\",INDEX(Entradas!$H$3:$H$5000,MATCH(A799,IF(Entradas!$B$3:$B$5000=D799,Entradas!$A$3:$A$5000),1))),\"Preço não registrado\")","v":""},"",null,null,"",""]
[null,null,"",null,"","",null,{"$f":"IFERROR(IF(D800=\"\",\"\",INDEX(Entradas!$H$3:$H$5000,MATCH(A800,IF(Entradas!$B$3:$B$5000=D800,Entradas!$A$3:$A$5000),1))),\"Preço não registrado\")","v":""},"",null,null,"",""]
[null,null,"",null,"","",null,{"$f":"IFERROR(IF(D801=\"\",\"\",INDEX(Entradas!$H$3:$H$5000,MATCH(A801,IF(Entradas!$B$3:$B$5000=D801,Entradas!$A$3:$A$5000),1))),\"Preço não registrado\")","v":""},"",null,null,"",""]
[null,null,"",null,"","",null,{"$f":"IFERROR(IF(D802=\"\",\"\",INDEX(Entradas!$H$3:$H$5000,MATCH(A802,IF(Entradas!$B$3:$B$5000=D802,Entradas!$A$3:$A$5000),1))),\"Preço não registrado\")","v":""},"",null,null,"",""]
[null,null,"",null,"","",null,{"$f":"IFERROR(IF(D803=\"\",\"\",INDEX(Entradas!$H$3:$H$5000,MATCH(A803,IF(Entradas!$B$3:$B$5000=D803,Entradas!$A$3:$A$5000),1))),\"Preço não registrado\")","v":""},"",null,null,"",""]
[null,null,"",null,"","",null,{"$f":"IFERROR(IF(D804=\"\",\"\",INDEX(Entradas!$H$3:$H$5000,MATCH(A804,IF(Entradas!$B$3:$B$5000=D804,Entradas!$A$3:$A$5000),1))),\"Preço não registrado\")","v":""},"",null,null,"",""]
[null,null,"",null,"","",null,{"$f":"IFERROR(IF(D805=\"\",\"\",INDEX(Entradas!$H$3:$H$5000,MATCH(A805,IF(Entradas!$B$3:$B$5000=D805,Entradas!$A$3:$A$5000),1))),\"Preço não registrado\")","v":""},"",null,null,"",""]
[null,null,"",null,"","",null,{"$f":"IFERROR(IF(D806=\"\",\"\",INDEX(Entradas!$H$3:$H$5000,MATCH(A806,IF(Entradas!$B$3:$B$5000=D806,Entradas!$A$3:$A$5000),1))),\"Preço não registrado\")","v":""},"",null,null,"",""]
[null,null,"",null,"","",null,{"$f":"IFERROR(IF(D807=\"\",\"\",INDEX(Entradas!$H$3:$H$5000,MATCH(A807,IF(Entradas!$B$3:$B$5000=D807,Entradas!$A$3:$A$5000),1))),\"Preço não registrado\")","v":""},"",null,null,"",""]
[null,null,"",null,"","",null,{"$f":"IFERROR(IF(D808=\"\",\"\",INDEX(Entradas!$H$3:$H$5000,MATCH(A808,IF(Entradas!$B$3:$B$5000=D808,Entradas!$A$3:$A$5000),1))),\"Preço não registrado\")","v":""},"",null,null,"",""]
[null,null,"",null,"","",null,{"$f":"IFERROR(IF(D809=\"\",\"\",INDEX(Entradas!$H$3:$H$5000,MATCH(A809,IF(Entradas!$B$3:$B$5000=D809,Entradas!$A$3:$A$5000),1))),\"Preço não registrado\")","v":""},"",null,null,"",""]
[null,null,"",null,"","",null,{"$f":"IFERROR(IF(D810=\"\",\"\",INDEX(Entradas!$H$3:$H$5000,MATCH(A810,IF(Entradas!$B$3:$B$5000=D810,Entradas!$A$3:$A$5000),1))),\"Preço não registrado\")","v":""},"",null,null,"",""]
[null,null,"",null,"","",null,{"$f":"IFERROR(IF(D811=\"\",\"\",INDEX(Entradas!$H$3:$H$5000,MATCH(A811,IF(Entradas!$B$3:$B$5000=D811,Entradas!$A$3:$A$5000),1))),\"Preço não registrado\")","v":""},"",null,null,"",""]
[null,null,"",null,"","",null,{"$f":"IFERROR(IF(D812=\"\",\"\",INDEX(Entradas!$H$3:$H$5000,MATCH(A812,IF(Entradas!$B$3:$B$5000=D812,Entradas!$A$3:$A$5000),1))),\"Preço não registrado\")","v":""},"",null,null,"",""]
[null,null,"",null,"","",null,{"$f":"IFERROR(IF(D813=\"\",\"\",INDEX(Entradas!$H$3:$H$5000,MATCH(A813,IF(Entradas!$B$3:$B$5000=D813,Entradas!$A$3:$A$5000),1))),\"Preço não registrado\")","v":""},"",null,null,"",""]
[null,null,"",null,"","",null,{"$f":"IFERROR(IF(D814=\"\",\"\",INDEX(Entradas!$H$3:$H$5000,MATCH(A814,IF(Entradas!$B$3:$B$5000=D814,Entradas!$A$3:$A$5000),1))),\"Preço não registrado\")","v":""},"",null,null,"",""]
[null,null,"",null,"","",null,{"$f":"IFERROR(IF(D815=\"\",\"\",INDEX(Entradas!$H$3:$H$5000,MATCH(A815,IF(Entradas!$B$3:$B$5000=D815,Entradas!$A$3:$A$5000),1))),\"Preço não registrado\")","v":""},"",null,null,"",""]
[null,null,"",null,"","",null,{"$f":"IFERROR(IF(D816=\"\",\"\",INDEX(Entradas!$H$3:$H$5000,MATCH(A816,IF(Entradas!$B$3:$B$5000=D816,Entradas!$A$3:$A$5000),1))),\"Preço não registrado\")","v":""},"",null,null,"",""]
[null,null,"",null,"","",null,{"$f":"IFERROR(IF(D817=\"\",\"\",INDEX(Entradas!$H$3:$H$5000,MATCH(A817,IF(Entradas!$B$3:$B$5000=D817,Entradas!$A$3:$A$5000),1))),\"Preço não registrado\")","v":""},"",null,null,"",""]
[null,null,"",null,"","",null,{"$f":"IFERROR(IF(D818=\"\",\"\",INDEX(Entradas!$H$3:$H$5000,MATCH(A818,IF(Entradas!$B$3:$B$5000=D818,Entradas!$A$3:$A$5000),1))),\"Preço não registrado\")","v":""},"",null,null,"",""]
[null,null,"",null,"","",null,{"$f":"IFERROR(IF(D819=\"\",\"\",INDEX(Entradas!$H$3:$H$5000,MATCH(A819,IF(Entradas!$B$3:$B$5000=D819,Entradas!$A$3:$A$5000),1))),\"Preço não registrado\")","v":""},"",null,null,"",""]
[null,null,"",null,"","",null,{"$f":"IFERROR(IF(D820=\"\",\"\",INDEX(Entradas!$H$3:$H$5000,MATCH(A820,IF(Entradas!$B$3:$B$5000=D820,Entradas!$A$3:$A$5000),1))),\"Preço não registrado\")","v":""},"",null,null,"",""]
[null,null,"",null,"","",null,{"$f":"IFERROR(IF(D821=\"\",\"\",INDEX(Entradas!$H$3:$H$5000,MATCH(A821,IF(Entradas!$B$3:$B$5000=D821,Entradas!$A$3:$A$5000),1))),\"Preço não registrado\")","v":""},"",null,null,"",""]
[null,null,"",null,"","",null,{"$f":"IFERROR(IF(D822=\"\",\"\",INDEX(Entradas!$H$3:$H$5000,MATCH(A822,IF(Entradas!$B$3:$B$5000=D822,Entradas!$A$3:$A$5000),1))),\"Preço não registrado\")","v":""},"",null,null,"",""]
[null,null,"",null,"","",null,{"$f":"IFERROR(IF(D823=\"\",\"\",INDEX(Entradas!$H$3:$H$5000,MATCH(A823,IF(Entradas!$B$3:$B$5000=D823,Entradas!$A$3:$A$5000),1))),\"Preço não registrado\")","v":""},"",null,null,"",""]
[null,null,"",null,"","",null,{"$f":"IFERROR(IF(D824=\"\",\"\",INDEX(Entradas!$H$3:$H$5000,MATCH(A824,IF(Entradas!$B$3:$B$5000=D824,Entradas!$A$3:$A$5000),1))),\"Preço não registrado\")","v":""},"",null,null,"",""]
[null,null,"",null,"","",null,{"$f":"IFERROR(IF(D825=\"\",\"\",INDEX(Entradas!$H$3:$H$5000,MATCH(A825,IF(Entradas!$B$3:$B$5000=D825,Entradas!$A$3:$A$5000),1))),\"Preço não registrado\")","v":""},"",null,null,"",""]
[null,null,"",null,"","",null,{"$f":"IFERROR(IF(D826=\"\",\"\",INDEX(Entradas!$H$3:$H$5000,MATCH(A826,IF(Entradas!$B$3:$B$5000=D826,Entradas!$A$3:$A$5000),1))),\"Preço não registrado\")","v":""},"",null,null,"",""]
[null,null,"",null,"","",null,{"$f":"IFERROR(IF(D827=\"\",\"\",INDEX(Entradas!$H$3:$H$5000,MATCH(A827,IF(Entradas!$B$3:$B$5000=D827,Entradas!$A$3:$A$5000),1))),\"Preço não registrado\")","v":""},"",null,null,"",""]
[null,null,"",null,"","",null,{"$f":"IFERROR(IF(D828=\"\",\"\",INDEX(Entradas!$H$3:$H$5000,MATCH(A828,IF(Entradas!$B$3:$B$5000=D828,Entradas!$A$3:$A$5000),1))),\"Preço não registrado\")","v":""},"",null,null,"",""]
[null,null,"",null,"","",null,{"$f":"IFERROR(IF(D829=\"\",\"\",INDEX(Entradas!$H$3:$H$5000,MATCH(A829,IF(Entradas!$B$3:$B$5000=D829,Entradas!$A$3:$A$5000),1))),\"Preço não registrado\")","v":""},"",null,null,"",""]
[null,null,"",null,"","",null,{"$f":"IFERROR(IF(D830=\"\",\"\",INDEX(Entradas!$H$3:$H$5000,MATCH(A830,IF(Entradas!$B$3:$B$5000=D830,Entradas!$A$3:$A$5000),1))),\"Preço não registrado\")","v":""},"",null,null,"",""]
[null,null,"",null,"","",null,{"$f":"IFERROR(IF(D831=\"\",\"\",INDEX(Entradas!$H$3:$H$5000,MATCH(A831,IF(Entradas!$B$3:$B$5000=D831,Entradas!$A$3:$A$5000),1))),\"Preço não registrado\")","v":""},"",null,null,"",""]
[null,null,"",null,"","",null,{"$f":"IFERROR(IF(D832=\"\",\"\",INDEX(Entradas!$H$3:$H$5000,MATCH(A832,IF(Entradas!$B$3:$B$5000=D832,Entradas!$A$3:$A$5000),1))),\"Preço não registrado\")","v":""},"",null,null,"",""]
[null,null,"",null,"","",null,{"$f":"IFERROR(IF(D833=\"\",\"\",INDEX(Entradas!$H$3:$H$5000,MATCH(A833,IF(Entradas!$B$3:$B$5000=D833,Entradas!$A$3:$A$5000),1))),\"Preço não registrado\")","v":""},"",null,null,"",""]
[null,null,"",null,"","",null,{"$f":"IFERROR(IF(D834=\"\",\"\",INDEX(Entradas!$H$3:$H$5000,MATCH(A834,IF(Entradas!$B$3:$B$5000=D834,Entradas!$A$3:$A$5000),1))),\"Preço não registrado\")","v":""},"",null,null,"",""]
[null,null,{"$f":"IFERROR(IF(B835=\"\",\"\",VLOOKUP(B835,Clientes,2,FALSE)),\"\")","v":""},null,{"$f":"IF(D835=\"\",\"\",VLOOKUP(D835,Itens,2,FALSE))","v":""},{"$f":"IF(D835=\"\",\"\",VLOOKUP(D835,Itens,3,FALSE))","v":""},null,{"$f":"IFERROR(IF(D835=\"\",\"\",INDEX(Entradas!$H$3:$H$5000,MATCH(A835,IF(Entradas!$B$3:$B$5000=D835,Entradas!$A$3:$A$5000),1))),\"Preço não registrado\")","v":""},"",null,null,"",""]
[null,null,"",null,"","",null,{"$f":"IFERROR(IF(D836=\"\",\"\",INDEX(Entradas!$H$3:$H$5000,MATCH(A836,IF(Entradas!$B$3:$B$5000=D836,Entradas!$A$3:$A$5000),1))),\"Preço não registrado\")","v":""},{"$f":"IFERROR(G836*H836,\"\")","v":""},null,null,{"$f":"IF(K836=\"\",\"\",HYPERLINK($P$13&K836,\"Rastreie aqui\"))","v":""},{"$f":"IF(A836=\"\",\"\",TEXT(A836,\"mmmm\"))","v":""}]
[null,null,"",null,"","",null,{"$f":"IFERROR(IF(D837=\"\",\"\",INDEX(Entradas!$H$3:$H$5000,MATCH(A837,IF(Entradas!$B$3:$B$5000=D837,Entradas!$A$3:$A$5000),1))),\"Preço não registrado\")","v":""},"",null,null,"",""]
[null,null,"",null,"","",null,{"$f":"IFERROR(IF(D838=\"\",\"\",INDEX(Entradas!$H$3:$H$5000,MATCH(A838,IF(Entradas!$B$3:$B$5000=D838,Entradas!$A$3:$A$5000),1))),\"Preço não registrado\")","v":""},"",null,null,"",""]
[null,null,"",null,"","",null,{"$f":"IFERROR(IF(D839=\"\",\"\",INDEX(Entradas!$H$3:$H$5000,MATCH(A839,IF(Entradas!$B$3:$B$5000=D839,Entradas!$A$3:$A$5000),1))),\"Preço não registrado\")","v":""},"",null,null,"",""]
[null,null,"",null,"","",null,{"$f":"IFERROR(IF(D840=\"\",\"\",INDEX(Entradas!$H$3:$H$5000,MATCH(A840,IF(Entradas!$B$3:$B$5000=D840,Entradas!$A$3:$A$5000),1))),\"Preço não registrado\")","v":""},"",null,null,"",""]
[null,null,"",null,"","",null,{"$f":"IFERROR(IF(D841=\"\",\"\",INDEX(Entradas!$H$3:$H$5000,MATCH(A841,IF(Entradas!$B$3:$B$5000=D841,Entradas!$A$3:$A$5000),1))),\"Preço não registrado\")","v":""},"",null,null,"",""]
[null,null,"",null,"","",null,{"$f":"IFERROR(IF(D842=\"\",\"\",INDEX(Entradas!$H$3:$H$5000,MATCH(A842,IF(Entradas!$B$3:$B$5000=D842,Entradas!$A$3:$A$5000),1))),\"Preço não registrado\")","v":""},"",null,null,"",""]
[null,null,"",null,"","",null,{"$f":"IFERROR(IF(D843=\"\",\"\",INDEX(Entradas!$H$3:$H$5000,MATCH(A843,IF(Entradas!$B$3:$B$5000=D843,Entradas!$A$3:$A$5000),1))),\"Preço não registrado\")","v":""},"",null,null,"",""]
[null,null,"",null,"","",null,{"$f":"IFERROR(IF(D844=\"\",\"\",INDEX(Entradas!$H$3:$H$5000,MATCH(A844,IF(Entradas!$B$3:$B$5000=D844,Entradas!$A$3:$A$5000),1))),\"Preço não registrado\")","v":""},"",null,null,"",""]
[null,null,"",null,"","",null,{"$f":"IFERROR(IF(D845=\"\",\"\",INDEX(Entradas!$H$3:$H$5000,MATCH(A845,IF(Entradas!$B$3:$B$5000=D845,Entradas!$A$3:$A$5000),1))),\"Preço não registrado\")","v":""},"",null,null,"",""]
[null,null,"",null,"","",null,{"$f":"IFERROR(IF(D846=\"\",\"\",INDEX(Entradas!$H$3:$H$5000,MATCH(A846,IF(Entradas!$B$3:$B$5000=D846,Entradas!$A$3:$A$5000),1))),\"Preço não registrado\")","v":""},"",null,null,"",""]
[null,null,"",null,"","",null,{"$f":"IFERROR(IF(D847=\"\",\"\",INDEX(Entradas!$H$3:$H$5000,MATCH(A847,IF(Entradas!$B$3:$B$5000=D847,Entradas!$A$3:$A$5000),1))),\"Preço não registrado\")","v":""},"",null,null,"",""]
[null,null,"",null,"","",null,{"$f":"IFERROR(IF(D848=\"\",\"\",INDEX(Entradas!$H$3:$H$5000,MATCH(A848,IF(Entradas!$B$3:$B$5000=D848,Entradas!$A$3:$A$5000),1))),\"Preço não registrado\")","v":""},"",null,null,"",""]
[null,null,"",null,"","",null,{"$f":"IFERROR(IF(D849=\"\",\"\",INDEX(Entradas!$H$3:$H$5000,MATCH(A849,IF(Entradas!$B$3:$B$5000=D849,Entradas!$A$3:$A$5000),1))),\"Preço não registrado\")","v":""},"",null,null,"",""]
[null,null,"",null,"","",null,{"$f":"IFERROR(IF(D850=\"\",\"\",INDEX(Entradas!$H$3:$H$5000,MATCH(A850,IF(Entradas!$B$3:$B$5000=D850,Entradas!$A$3:$A$5000),1))),\"Preço não registrado\")","v":""},"",null,null,"",""]
[null,null,"",null,"","",null,{"$f":"IFERROR(IF(D851=\"\",\"\",INDEX(Entradas!$H$3:$H$5000,MATCH(A851,IF(Entradas!$B$3:$B$5000=D851,Entradas!$A$3:$A$5000),1))),\"Preço não registrado\")","v":""},"",null,null,"",""]
[null,null,"",null,"","",null,{"$f":"IFERROR(IF(D852=\"\",\"\",INDEX(Entradas!$H$3:$H$5000,MATCH(A852,IF(Entradas!$B$3:$B$5000=D852,Entradas!$A$3:$A$5000),1))),\"Preço não registrado\")","v":""},"",null,null,"",""]
[null,null,"",null,"","",null,{"$f":"IFERROR(IF(D853=\"\",\"\",INDEX(Entradas!$H$3:$H$5000,MATCH(A853,IF(Entradas!$B$3:$B$5000=D853,Entradas!$A$3:$A$5000),1))),\"Preço não registrado\")","v":""},"",null,null,"",""]
[null,null,"",null,"","",null,{"$f":"IFERROR(IF(D854=\"\",\"\",INDEX(Entradas!$H$3:$H$5000,MATCH(A854,IF(Entradas!$B$3:$B$5000=D854,Entradas!$A$3:$A$5000),1))),\"Preço não registrado\")","v":""},"",null,null,"",""]
[null,null,"",null,"","",null,{"$f":"IFERROR(IF(D855=\"\",\"\",INDEX(Entradas!$H$3:$H$5000,MATCH(A855,IF(Entradas!$B$3:$B$5000=D855,Entradas!$A$3:$A$5000),1))),\"Preço não registrado\")","v":""},"",null,null,"",""]
[null,null,"",null,"","",null,{"$f":"IFERROR(IF(D856=\"\",\"\",INDEX(Entradas!$H$3:$H$5000,MATCH(A856,IF(Entradas!$B$3:$B$5000=D856,Entradas!$A$3:$A$5000),1))),\"Preço não registrado\")","v":""},"",null,null,"",""]
[null,null,"",null,"","",null,{"$f":"IFERROR(IF(D857=\"\",\"\",INDEX(Entradas!$H$3:$H$5000,MATCH(A857,IF(Entradas!$B$3:$B$5000=D857,Entradas!$A$3:$A$5000),1))),\"Preço não registrado\")","v":""},"",null,null,"",""]
[null,null,"",null,"","",null,{"$f":"IFERROR(IF(D858=\"\",\"\",INDEX(Entradas!$H$3:$H$5000,MATCH(A858,IF(Entradas!$B$3:$B$5000=D858,Entradas!$A$3:$A$5000),1))),\"Preço não registrado\")","v":""},"",null,null,"",""]
[null,null,"",null,"","",null,{"$f":"IFERROR(IF(D859=\"\",\"\",INDEX(Entradas!$H$3:$H$5000,MATCH(A859,IF(Entradas!$B$3:$B$5000=D859,Entradas!$A$3:$A$5000),1))),\"Preço não registrado\")","v":""},"",null,null,"",""]
[null,null,"",null,"","",null,{"$f":"IFERROR(IF(D860=\"\",\"\",INDEX(Entradas!$H$3:$H$5000,MATCH(A860,IF(Entradas!$B$3:$B$5000=D860,Entradas!$A$3:$A$5000),1))),\"Preço não registrado\")","v":""},"",null,null,"",""]
[null,null,"",null,"","",null,{"$f":"IFERROR(IF(D861=\"\",\"\",INDEX(Entradas!$H$3:$H$5000,MATCH(A861,IF(Entradas!$B$3:$B$5000=D861,Entradas!$A$3:$A$5000),1))),\"Preço não registrado\")","v":""},"",null,null,"",""]
[null,null,"",null,"","",null,{"$f":"IFERROR(IF(D862=\"\",\"\",INDEX(Entradas!$H$3:$H$5000,MATCH(A862,IF(Entradas!$B$3:$B$5000=D862,Entradas!$A$3:$A$5000),1))),\"Preço não registrado\")","v":""},"",null,null,"",""]
[null,null,"",null,"","",null,{"$f":"IFERROR(IF(D863=\"\",\"\",INDEX(Entradas!$H$3:$H$5000,MATCH(A863,IF(Entradas!$B$3:$B$5000=D863,Entradas!$A$3:$A$5000),1))),\"Preço não registrado\")","v":""},"",null,null,"",""]
[null,null,"",null,"","",null,{"$f":"IFERROR(IF(D864=\"\",\"\",INDEX(Entradas!$H$3:$H$5000,MATCH(A864,IF(Entradas!$B$3:$B$5000=D864,Entradas!$A$3:$A$5000),1))),\"Preço não registrado\")","v":""},"",null,null,"",""]
[null,null,"",null,"","",null,{"$f":"IFERROR(IF(D865=\"\",\"\",INDEX(Entradas!$H$3:$H$5000,MATCH(A865,IF(Entradas!$B$3:$B$5000=D865,Entradas!$A$3:$A$5000),1))),\"Preço não registrado\")","v":""},"",null,null,"",""]
[null,null,"",null,"","",null,{"$f":"IFERROR(IF(D866=\"\",\"\",INDEX(Entradas!$H$3:$H$5000,MATCH(A866,IF(Entradas!$B$3:$B$5000=D866,Entradas!$A$3:$A$5000),1))),\"Preço não registrado\")","v":""},"",null,null,"",""]
[null,null,"",null,"","",null,{"$f":"IFERROR(IF(D867=\"\",\"\",INDEX(Entradas!$H$3:$H$5000,MATCH(A867,IF(Entradas!$B$3:$B$5000=D867,Entradas!$A$3:$A$5000),1))),\"Preço não registrado\")","v":""},"",null,null,"",""]
[null,null,"",null,"","",null,{"$f":"IFERROR(IF(D868=\"\",\"\",INDEX(Entradas!$H$3:$H$5000,MATCH(A868,IF(Entradas!$B$3:$B$5000=D868,Entradas!$A$3:$A$5000),1))),\"Preço não registrado\")","v":""},"",null,null,"",""]
[null,null,"",null,"","",null,{"$f":"IFERROR(IF(D869=\"\",\"\",INDEX(Entradas!$H$3:$H$5000,MATCH(A869,IF(Entradas!$B$3:$B$5000=D869,Entradas!$A$3:$A$5000),1))),\"Preço não registrado\")","v":""},"",null,null,"",""]
[null,null,"",null,"","",null,{"$f":"IFERROR(IF(D870=\"\",\"\",INDEX(Entradas!$H$3:$H$5000,MATCH(A870,IF(Entradas!$B$3:$B$5000=D870,Entradas!$A$3:$A$5000),1))),\"Preço não registrado\")","v":""},"",null,null,"",""]
[null,null,"",null,"","",null,{"$f":"IFERROR(IF(D871=\"\",\"\",INDEX(Entradas!$H$3:$H$5000,MATCH(A871,IF(Entradas!$B$3:$B$5000=D871,Entradas!$A$3:$A$5000),1))),\"Preço não registrado\")","v":""},"",null,null,"",""]
[null,null,"",null,"","",null,{"$f":"IFERROR(IF(D872=\"\",\"\",INDEX(Entradas!$H$3:$H$5000,MATCH(A872,IF(Entradas!$B$3:$B$5000=D872,Entradas!$A$3:$A$5000),1))),\"Preço não registrado\")","v":""},"",null,null,"",""]
[null,null,"",null,"","",null,{"$f":"IFERROR(IF(D873=\"\",\"\",INDEX(Entradas!$H$3:$H$5000,MATCH(A873,IF(Entradas!$B$3:$B$5000=D873,Entradas!$A$3:$A$5000),1))),\"Preço não registrado\")","v":""},"",null,null,"",""]
[null,null,"",null,"","",null,{"$f":"IFERROR(IF(D874=\"\",\"\",INDEX(Entradas!$H$3:$H$5000,MATCH(A874,IF(Entradas!$B$3:$B$5000=D874,Entradas!$A$3:$A$5000),1))),\"Preço não registrado\")","v":""},"",null,null,"",""]
[null,null,"",null,"","",null,{"$f":"IFERROR(IF(D875=\"\",\"\",INDEX(Entradas!$H$3:$H$5000,MATCH(A875,IF(Entradas!$B$3:$B$5000=D875,Entradas!$A$3:$A$5000),1))),\"Preço não registrado\")","v":""},"",null,null,"",""]
[null,null,"",null,"","",null,{"$f":"IFERROR(IF(D876=\"\",\"\",INDEX(Entradas!$H$3:$H$5000,MATCH(A876,IF(Entradas!$B$3:$B$5000=D876,Entradas!$A$3:$A$5000),1))),\"Preço não registrado\")","v":""},"",null,null,"",""]
[null,null,"",null,"","",null,{"$f":"IFERROR(IF(D877=\"\",\"\",INDEX(Entradas!$H$3:$H$5000,MATCH(A877,IF(Entradas!$B$3:$B$5000=D877,Entradas!$A$3:$A$5000),1))),\"Preço não registrado\")","v":""},"",null,null,"",""]
[null,null,"",null,"","",null,{"$f":"IFERROR(IF(D878=\"\",\"\",INDEX(Entradas!$H$3:$H$5000,MATCH(A878,IF(Entradas!$B$3:$B$5000=D878,Entradas!$A$3:$A$5000),1))),\"Preço não registrado\")","v":""},"",null,null,"",""]
[null,null,"",null,"","",null,{"$f":"IFERROR(IF(D879=\"\",\"\",INDEX(Entradas!$H$3:$H$5000,MATCH(A879,IF(Entradas!$B$3:$B$5000=D879,Entradas!$A$3:$A$5000),1))),\"Preço não registrado\")","v":""},"",null,null,"",""]
[null,null,"",null,"","",null,{"$f":"IFERROR(IF(D880=\"\",\"\",INDEX(Entradas!$H$3:$H$5000,MATCH(A880,IF(Entradas!$B$3:$B$5000=D880,Entradas!$A$3:$A$5000),1))),\"Preço não registrado\")","v":""},"",null,null,"",""]
[null,null,"",null,"","",null,{"$f":"IFERROR(IF(D881=\"\",\"\",INDEX(Entradas!$H$3:$H$5000,MATCH(A881,IF(Entradas!$B$3:$B$5000=D881,Entradas!$A$3:$A$5000),1))),\"Preço não registrado\")","v":""},"",null,null,"",""]
[null,null,"",null,"","",null,{"$f":"IFERROR(IF(D882=\"\",\"\",INDEX(Entradas!$H$3:$H$5000,MATCH(A882,IF(Entradas!$B$3:$B$5000=D882,Entradas!$A$3:$A$5000),1))),\"Preço não registrado\")","v":""},"",null,null,"",""]
[null,null,"",null,"","",null,{"$f":"IFERROR(IF(D883=\"\",\"\",INDEX(Entradas!$H$3:$H$5000,MATCH(A883,IF(Entradas!$B$3:$B$5000=D883,Entradas!$A$3:$A$5000),1))),\"Preço não registrado\")","v":""},"",null,null,"",""]
[null,null,"",null,"","",null,{"$f":"IFERROR(IF(D884=\"\",\"\",INDEX(Entradas!$H$3:$H$5000,MATCH(A884,IF(Entradas!$B$3:$B$5000=D884,Entradas!$A$3:$A$5000),1))),\"Preço não registrado\")","v":""},"",null,null,"",""]
[null,null,"",null,"","",null,{"$f":"IFERROR(IF(D885=\"\",\"\",INDEX(Entradas!$H$3:$H$5000,MATCH(A885,IF(Entradas!$B$3:$B$5000=D885,Entradas!$A$3:$A$5000),1))),\"Preço não registrado\")","v":""},"",null,null,"",""]
[null,null,"",null,"","",null,{"$f":"IFERROR(IF(D886=\"\",\"\",INDEX(Entradas!$H$3:$H$5000,MATCH(A886,IF(Entradas!$B$3:$B$5000=D886,Entradas!$A$3:$A$5000),1))),\"Preço não registrado\")","v":""},"",null,null,"",""]
[null,null,"",null,"","",null,{"$f":"IFERROR(IF(D887=\"\",\"\",INDEX(Entradas!$H$3:$H$5000,MATCH(A887,IF(Entradas!$B$3:$B$5000=D887,Entradas!$A$3:$A$5000),1))),\"Preço não registrado\")","v":""},"",null,null,"",""]
[null,null,"",null,"","",null,{"$f":"IFERROR(IF(D888=\"\",\"\",INDEX(Entradas!$H$3:$H$5000,MATCH(A888,IF(Entradas!$B$3:$B$5000=D888,Entradas!$A$3:$A$5000),1))),\"Preço não registrado\")","v":""},"",null,null,"",""]
[null,null,"",null,"","",null,{"$f":"IFERROR(IF(D889=\"\",\"\",INDEX(Entradas!$H$3:$H$5000,MATCH(A889,IF(Entradas!$B$3:$B$5000=D889,Entradas!$A$3:$A$5000),1))),\"Preço não registrado\")","v":""},"",null,null,"",""]
[null,null,"",null,"","",null,{"$f":"IFERROR(IF(D890=\"\",\"\",INDEX(Entradas!$H$3:$H$5000,MATCH(A890,IF(Entradas!$B$3:$B$5000=D890,Entradas!$A$3:$A$5000),1))),\"Preço não registrado\")","v":""},"",null,null,"",""]
[null,null,"",null,"","",null,{"$f":"IFERROR(IF(D891=\"\",\"\",INDEX(Entradas!$H$3:$H$5000,MATCH(A891,IF(Entradas!$B$3:$B$5000=D891,Entradas!$A$3:$A$5000),1))),\"Preço não registrado\")","v":""},"",null,null,"",""]
[null,null,"",null,"","",null,{"$f":"IFERROR(IF(D892=\"\",\"\",INDEX(Entradas!$H$3:$H$5000,MATCH(A892,IF(Entradas!$B$3:$B$5000=D892,Entradas!$A$3:$A$5000),1))),\"Preço não registrado\")","v":""},"",null,null,"",""]
[null,null,"",null,"","",null,{"$f":"IFERROR(IF(D893=\"\",\"\",INDEX(Entradas!$H$3:$H$5000,MATCH(A893,IF(Entradas!$B$3:$B$5000=D893,Entradas!$A$3:$A$5000),1))),\"Preço não registrado\")","v":""},"",null,null,"",""]
[null,null,"",null,"","",null,{"$f":"IFERROR(IF(D894=\"\",\"\",INDEX(Entradas!$H$3:$H$5000,MATCH(A894,IF(Entradas!$B$3:$B$5000=D894,Entradas!$A$3:$A$5000),1))),\"Preço não registrado\")","v":""},"",null,null,"",""]
[null,null,"",null,"","",null,{"$f":"IFERROR(IF(D895=\"\",\"\",INDEX(Entradas!$H$3:$H$5000,MATCH(A895,IF(Entradas!$B$3:$B$5000=D895,Entradas!$A$3:$A$5000),1))),\"Preço não registrado\")","v":""},"",null,null,"",""]
[null,null,"",null,"","",null,{"$f":"IFERROR(IF(D896=\"\",\"\",INDEX(Entradas!$H$3:$H$5000,MATCH(A896,IF(Entradas!$B$3:$B$5000=D896,Entradas!$A$3:$A$5000),1))),\"Preço não registrado\")","v":""},"",null,null,"",""]
[null,null,"",null,"","",null,{"$f":"IFERROR(IF(D897=\"\",\"\",INDEX(Entradas!$H$3:$H$5000,MATCH(A897,IF(Entradas!$B$3:$B$5000=D897,Entradas!$A$3:$A$5000),1))),\"Preço não registrado\")","v":""},"",null,null,"",""]
[null,null,"",null,"","",null,{"$f":"IFERROR(IF(D898=\"\",\"\",INDEX(Entradas!$H$3:$H$5000,MATCH(A898,IF(Entradas!$B$3:$B$5000=D898,Entradas!$A$3:$A$5000),1))),\"Preço não registrado\")","v":""},"",null,null,"",""]
[null,null,{"$f":"IFERROR(IF(B899=\"\",\"\",VLOOKUP(B899,Clientes,2,FALSE)),\"\")","v":""},null,{"$f":"IF(D899=\"\",\"\",VLOOKUP(D899,Itens,2,FALSE))","v":""},{"$f":"IF(D899=\"\",\"\",VLOOKUP(D899,Itens,3,FALSE))","v":""},null,{"$f":"IFERROR(IF(D899=\"\",\"\",INDEX(Entradas!$H$3:$H$5000,MATCH(A899,IF(Entradas!$B$3:$B$5000=D899,Entradas!$A$3:$A$5000),1))),\"Preço não registrado\")","v":""},"",null,null,"",""]
[null,null,"",null,"","",null,{"$f":"IFERROR(IF(D900=\"\",\"\",INDEX(Entradas!$H$3:$H$5000,MATCH(A900,IF(Entradas!$B$3:$B$5000=D900,Entradas!$A$3:$A$5000),1))),\"Preço não registrado\")","v":""},{"$f":"IFERROR(G900*H900,\"\")","v":""},null,null,{"$f":"IF(K900=\"\",\"\",HYPERLINK($P$13&K900,\"Rastreie aqui\"))","v":""},{"$f":"IF(A900=\"\",\"\",TEXT(A900,\"mmmm\"))","v":""}]
[null,null,"",null,"","",null,{"$f":"IFERROR(IF(D901=\"\",\"\",INDEX(Entradas!$H$3:$H$5000,MATCH(A901,IF(Entradas!$B$3:$B$5000=D901,Entradas!$A$3:$A$5000),1))),\"Preço não registrado\")","v":""},"",null,null,"",""]
[null,null,"",null,"","",null,{"$f":"IFERROR(IF(D902=\"\",\"\",INDEX(Entradas!$H$3:$H$5000,MATCH(A902,IF(Entradas!$B$3:$B$5000=D902,Entradas!$A$3:$A$5000),1))),\"Preço não registrado\")","v":""},"",null,null,"",""]
[null,null,"",null,"","",null,{"$f":"IFERROR(IF(D903=\"\",\"\",INDEX(Entradas!$H$3:$H$5000,MATCH(A903,IF(Entradas!$B$3:$B$5000=D903,Entradas!$A$3:$A$5000),1))),\"Preço não registrado\")","v":""},"",null,null,"",""]
[null,null,"",null,"","",null,{"$f":"IFERROR(IF(D904=\"\",\"\",INDEX(Entradas!$H$3:$H$5000,MATCH(A904,IF(Entradas!$B$3:$B$5000=D904,Entradas!$A$3:$A$5000),1))),\"Preço não registrado\")","v":""},"",null,null,"",""]
[null,null,"",null,"","",null,{"$f":"IFERROR(IF(D905=\"\",\"\",INDEX(Entradas!$H$3:$H$5000,MATCH(A905,IF(Entradas!$B$3:$B$5000=D905,Entradas!$A$3:$A$5000),1))),\"Preço não registrado\")","v":""},"",null,null,"",""]
[null,null,"",null,"","",null,{"$f":"IFERROR(IF(D906=\"\",\"\",INDEX(Entradas!$H$3:$H$5000,MATCH(A906,IF(Entradas!$B$3:$B$5000=D906,Entradas!$A$3:$A$5000),1))),\"Preço não registrado\")","v":""},"",null,null,"",""]
[null,null,"",null,"","",null,{"$f":"IFERROR(IF(D907=\"\",\"\",INDEX(Entradas!$H$3:$H$5000,MATCH(A907,IF(Entradas!$B$3:$B$5000=D907,Entradas!$A$3:$A$5000),1))),\"Preço não registrado\")","v":""},"",null,null,"",""]
[null,null,"",null,"","",null,{"$f":"IFERROR(IF(D908=\"\",\"\",INDEX(Entradas!$H$3:$H$5000,MATCH(A908,IF(Entradas!$B$3:$B$5000=D908,Entradas!$A$3:$A$5000),1))),\"Preço não registrado\")","v":""},"",null,null,"",""]
[null,null,"",null,"","",null,{"$f":"IFERROR(IF(D909=\"\",\"\",INDEX(Entradas!$H$3:$H$5000,MATCH(A909,IF(Entradas!$B$3:$B$5000=D909,Entradas!$A$3:$A$5000),1))),\"Preço não registrado\")","v":""},"",null,null,"",""]
[null,null,"",null,"","",null,{"$f":"IFERROR(IF(D910=\"\",\"\",INDEX(Entradas!$H$3:$H$5000,MATCH(A910,IF(Entradas!$B$3:$B$5000=D910,Entradas!$A$3:$A$5000),1))),\"Preço não registrado\")","v":""},"",null,null,"",""]
[null,null,"",null,"","",null,{"$f":"IFERROR(IF(D911=\"\",\"\",INDEX(Entradas!$H$3:$H$5000,MATCH(A911,IF(Entradas!$B$3:$B$5000=D911,Entradas!$A$3:$A$5000),1))),\"Preço não registrado\")","v":""},"",null,null,"",""]
[null,null,"",null,"","",null,{"$f":"IFERROR(IF(D912=\"\",\"\",INDEX(Entradas!$H$3:$H$5000,MATCH(A912,IF(Entradas!$B$3:$B$5000=D912,Entradas!$A$3:$A$5000),1))),\"Preço não registrado\")","v":""},"",null,null,"",""]
[null,null,"",null,"","",null,{"$f":"IFERROR(IF(D913=\"\",\"\",INDEX(Entradas!$H$3:$H$5000,MATCH(A913,IF(Entradas!$B$3:$B$5000=D913,Entradas!$A$3:$A$5000),1))),\"Preço não registrado\")","v":""},"",null,null,"",""]
[null,null,"",null,"","",null,{"$f":"IFERROR(IF(D914=\"\",\"\",INDEX(Entradas!$H$3:$H$5000,MATCH(A914,IF(Entradas!$B$3:$B$5000=D914,Entradas!$A$3:$A$5000),1))),\"Preço não registrado\")","v":""},"",null,null,"",""]
[null,null,"",null,"","",null,{"$f":"IFERROR(IF(D915=\"\",\"\",INDEX(Entradas!$H$3:$H$5000,MATCH(A915,IF(Entradas!$B$3:$B$5000=D915,Entradas!$A$3:$A$5000),1))),\"Preço não registrado\")","v":""},"",null,null,"",""]
[null,null,"",null,"","",null,{"$f":"IFERROR(IF(D916=\"\",\"\",INDEX(Entradas!$H$3:$H$5000,MATCH(A916,IF(Entradas!$B$3:$B$5000=D916,Entradas!$A$3:$A$5000),1))),\"Preço não registrado\")","v":""},"",null,null,"",""]
[null,null,"",null,"","",null,{"$f":"IFERROR(IF(D917=\"\",\"\",INDEX(Entradas!$H$3:$H$5000,MATCH(A917,IF(Entradas!$B$3:$B$5000=D917,Entradas!$A$3:$A$5000),1))),\"Preço não registrado\")","v":""},"",null,null,"",""]
[null,null,"",null,"","",null,{"$f":"IFERROR(IF(D918=\"\",\"\",INDEX(Entradas!$H$3:$H$5000,MATCH(A918,IF(Entradas!$B$3:$B$5000=D918,Entradas!$A$3:$A$5000),1))),\"Preço não registrado\")","v":""},"",null,null,"",""]
[null,null,"",null,"","",null,{"$f":"IFERROR(IF(D919=\"\",\"\",INDEX(Entradas!$H$3:$H$5000,MATCH(A919,IF(Entradas!$B$3:$B$5000=D919,Entradas!$A$3:$A$5000),1))),\"Preço não registrado\")","v":""},"",null,null,"",""]
[null,null,"",null,"","",null,{"$f":"IFERROR(IF(D920=\"\",\"\",INDEX(Entradas!$H$3:$H$5000,MATCH(A920,IF(Entradas!$B$3:$B$5000=D920,Entradas!$A$3:$A$5000),1))),\"Preço não registrado\")","v":""},"",null,null,"",""]
[null,null,"",null,"","",null,{"$f":"IFERROR(IF(D921=\"\",\"\",INDEX(Entradas!$H$3:$H$5000,MATCH(A921,IF(Entradas!$B$3:$B$5000=D921,Entradas!$A$3:$A$5000),1))),\"Preço não registrado\")","v":""},"",null,null,"",""]
[null,null,"",null,"","",null,{"$f":"IFERROR(IF(D922=\"\",\"\",INDEX(Entradas!$H$3:$H$5000,MATCH(A922,IF(Entradas!$B$3:$B$5000=D922,Entradas!$A$3:$A$5000),1))),\"Preço não registrado\")","v":""},"",null,null,"",""]
[null,null,"",null,"","",null,{"$f":"IFERROR(IF(D923=\"\",\"\",INDEX(Entradas!$H$3:$H$5000,MATCH(A923,IF(Entradas!$B$3:$B$5000=D923,Entradas!$A$3:$A$5000),1))),\"Preço não registrado\")","v":""},"",null,null,"",""]
[null,null,"",null,"","",null,{"$f":"IFERROR(IF(D924=\"\",\"\",INDEX(Entradas!$H$3:$H$5000,MATCH(A924,IF(Entradas!$B$3:$B$5000=D924,Entradas!$A$3:$A$5000),1))),\"Preço não registrado\")","v":""},"",null,null,"",""]
[null,null,"",null,"","",null,{"$f":"IFERROR(IF(D925=\"\",\"\",INDEX(Entradas!$H$3:$H$5000,MATCH(A925,IF(Entradas!$B$3:$B$5000=D925,Entradas!$A$3:$A$5000),1))),\"Preço não registrado\")","v":""},"",null,null,"",""]
[null,null,"",null,"","",null,{"$f":"IFERROR(IF(D926=\"\",\"\",INDEX(Entradas!$H$3:$H$5000,MATCH(A926,IF(Entradas!$B$3:$B$5000=D926,Entradas!$A$3:$A$5000),1))),\"Preço não registrado\")","v":""},"",null,null,"",""]
[null,null,"",null,"","",null,{"$f":"IFERROR(IF(D927=\"\",\"\",INDEX(Entradas!$H$3:$H$5000,MATCH(A927,IF(Entradas!$B$3:$B$5000=D927,Entradas!$A$3:$A$5000),1))),\"Preço não registrado\")","v":""},"",null,null,"",""]
[null,null,"",null,"","",null,{"$f":"IFERROR(IF(D928=\"\",\"\",INDEX(Entradas!$H$3:$H$5000,MATCH(A928,IF(Entradas!$B$3:$B$5000=D928,Entradas!$A$3:$A$5000),1))),\"Preço não registrado\")","v":""},"",null,null,"",""]
[null,null,"",null,"","",null,{"$f":"IFERROR(IF(D929=\"\",\"\",INDEX(Entradas!$H$3:$H$5000,MATCH(A929,IF(Entradas!$B$3:$B$5000=D929,Entradas!$A$3:$A$5000),1))),\"Preço não registrado\")","v":""},"",null,null,"",""]
[null,null,"",null,"","",null,{"$f":"IFERROR(IF(D930=\"\",\"\",INDEX(Entradas!$H$3:$H$5000,MATCH(A930,IF(Entradas!$B$3:$B$5000=D930,Entradas!$A$3:$A$5000),1))),\"Preço não registrado\")","v":""},"",null,null,"",""]
[null,null,"",null,"","",null,{"$f":"IFERROR(IF(D931=\"\",\"\",INDEX(Entradas!$H$3:$H$5000,MATCH(A931,IF(Entradas!$B$3:$B$5000=D931,Entradas!$A$3:$A$5000),1))),\"Preço não registrado\")","v":""},"",null,null,"",""]
[null,null,"",null,"","",null,{"$f":"IFERROR(IF(D932=\"\",\"\",INDEX(Entradas!$H$3:$H$5000,MATCH(A932,IF(Entradas!$B$3:$B$5000=D932,Entradas!$A$3:$A$5000),1))),\"Preço não registrado\")","v":""},"",null,null,"",""]
[null,null,"",null,"","",null,{"$f":"IFERROR(IF(D933=\"\",\"\",INDEX(Entradas!$H$3:$H$5000,MATCH(A933,IF(Entradas!$B$3:$B$5000=D933,Entradas!$A$3:$A$5000),1))),\"Preço não registrado\")","v":""},"",null,null,"",""]
[null,null,"",null,"","",null,{"$f":"IFERROR(IF(D934=\"\",\"\",INDEX(Entradas!$H$3:$H$5000,MATCH(A934,IF(Entradas!$B$3:$B$5000=D934,Entradas!$A$3:$A$5000),1))),\"Preço não registrado\")","v":""},"",null,null,"",""]
[null,null,"",null,"","",null,{"$f":"IFERROR(IF(D935=\"\",\"\",INDEX(Entradas!$H$3:$H$5000,MATCH(A935,IF(Entradas!$B$3:$B$5000=D935,Entradas!$A$3:$A$5000),1))),\"Preço não registrado\")","v":""},"",null,null,"",""]
[null,null,"",null,"","",null,{"$f":"IFERROR(IF(D936=\"\",\"\",INDEX(Entradas!$H$3:$H$5000,MATCH(A936,IF(Entradas!$B$3:$B$5000=D936,Entradas!$A$3:$A$5000),1))),\"Preço não registrado\")","v":""},"",null,null,"",""]
[null,null,"",null,"","",null,{"$f":"IFERROR(IF(D937=\"\",\"\",INDEX(Entradas!$H$3:$H$5000,MATCH(A937,IF(Entradas!$B$3:$B$5000=D937,Entradas!$A$3:$A$5000),1))),\"Preço não registrado\")","v":""},"",null,null,"",""]
[null,null,"",null,"","",null,{"$f":"IFERROR(IF(D938=\"\",\"\",INDEX(Entradas!$H$3:$H$5000,MATCH(A938,IF(Entradas!$B$3:$B$5000=D938,Entradas!$A$3:$A$5000),1))),\"Preço não registrado\")","v":""},"",null,null,"",""]
[null,null,"",null,"","",null,{"$f":"IFERROR(IF(D939=\"\",\"\",INDEX(Entradas!$H$3:$H$5000,MATCH(A939,IF(Entradas!$B$3:$B$5000=D939,Entradas!$A$3:$A$5000),1))),\"Preço não registrado\")","v":""},"",null,null,"",""]
[null,null,"",null,"","",null,{"$f":"IFERROR(IF(D940=\"\",\"\",INDEX(Entradas!$H$3:$H$5000,MATCH(A940,IF(Entradas!$B$3:$B$5000=D940,Entradas!$A$3:$A$5000),1))),\"Preço não registrado\")","v":""},"",null,null,"",""]
[null,null,"",null,"","",null,{"$f":"IFERROR(IF(D941=\"\",\"\",INDEX(Entradas!$H$3:$H$5000,MATCH(A941,IF(Entradas!$B$3:$B$5000=D941,Entradas!$A$3:$A$5000),1))),\"Preço não registrado\")","v":""},"",null,null,"",""]
[null,null,"",null,"","",null,{"$f":"IFERROR(IF(D942=\"\",\"\",INDEX(Entradas!$H$3:$H$5000,MATCH(A942,IF(Entradas!$B$3:$B$5000=D942,Entradas!$A$3:$A$5000),1))),\"Preço não registrado\")","v":""},"",null,null,"",""]
[null,null,"",null,"","",null,{"$f":"IFERROR(IF(D943=\"\",\"\",INDEX(Entradas!$H$3:$H$5000,MATCH(A943,IF(Entradas!$B$3:$B$5000=D943,Entradas!$A$3:$A$5000),1))),\"Preço não registrado\")","v":""},"",null,null,"",""]
[null,null,"",null,"","",null,{"$f":"IFERROR(IF(D944=\"\",\"\",INDEX(Entradas!$H$3:$H$5000,MATCH(A944,IF(Entradas!$B$3:$B$5000=D944,Entradas!$A$3:$A$5000),1))),\"Preço não registrado\")","v":""},"",null,null,"",""]
[null,null,"",null,"","",null,{"$f":"IFERROR(IF(D945=\"\",\"\",INDEX(Entradas!$H$3:$H$5000,MATCH(A945,IF(Entradas!$B$3:$B$5000=D945,Entradas!$A$3:$A$5000),1))),\"Preço não registrado\")","v":""},"",null,null,"",""]
[null,null,"",null,"","",null,{"$f":"IFERROR(IF(D946=\"\",\"\",INDEX(Entradas!$H$3:$H$5000,MATCH(A946,IF(Entradas!$B$3:$B$5000=D946,Entradas!$A$3:$A$5000),1))),\"Preço não registrado\")","v":""},"",null,null,"",""]
[null,null,"",null,"","",null,{"$f":"IFERROR(IF(D947=\"\",\"\",INDEX(Entradas!$H$3:$H$5000,MATCH(A947,IF(Entradas!$B$3:$B$5000=D947,Entradas!$A$3:$A$5000),1))),\"Preço não registrado\")","v":""},"",null,null,"",""]
[null,null,"",null,"","",null,{"$f":"IFERROR(IF(D948=\"\",\"\",INDEX(Entradas!$H$3:$H$5000,MATCH(A948,IF(Entradas!$B$3:$B$5000=D948,Entradas!$A$3:$A$5000),1))),\"Preço não registrado\")","v":""},"",null,null,"",""]
[null,null,"",null,"","",null,{"$f":"IFERROR(IF(D949=\"\",\"\",INDEX(Entradas!$H$3:$H$5000,MATCH(A949,IF(Entradas!$B$3:$B$5000=D949,Entradas!$A$3:$A$5000),1))),\"Preço não registrado\")","v":""},"",null,null,"",""]
[null,null,"",null,"","",null,{"$f":"IFERROR(IF(D950=\"\",\"\",INDEX(Entradas!$H$3:$H$5000,MATCH(A950,IF(Entradas!$B$3:$B$5000=D950,Entradas!$A$3:$A$5000),1))),\"Preço não registrado\")","v":""},"",null,null,"",""]
[null,null,"",null,"","",null,{"$f":"IFERROR(IF(D951=\"\",\"\",INDEX(Entradas!$H$3:$H$5000,MATCH(A951,IF(Entradas!$B$3:$B$5000=D951,Entradas!$A$3:$A$5000),1))),\"Preço não registrado\")","v":""},"",null,null,"",""]
[null,null,"",null,"","",null,{"$f":"IFERROR(IF(D952=\"\",\"\",INDEX(Entradas!$H$3:$H$5000,MATCH(A952,IF(Entradas!$B$3:$B$5000=D952,Entradas!$A$3:$A$5000),1))),\"Preço não registrado\")","v":""},"",null,null,"",""]
[null,null,"",null,"","",null,{"$f":"IFERROR(IF(D953=\"\",\"\",INDEX(Entradas!$H$3:$H$5000,MATCH(A953,IF(Entradas!$B$3:$B$5000=D953,Entradas!$A$3:$A$5000),1))),\"Preço não registrado\")","v":""},"",null,null,"",""]
[null,null,"",null,"","",null,{"$f":"IFERROR(IF(D954=\"\",\"\",INDEX(Entradas!$H$3:$H$5000,MATCH(A954,IF(Entradas!$B$3:$B$5000=D954,Entradas!$A$3:$A$5000),1))),\"Preço não registrado\")","v":""},"",null,null,"",""]
[null,null,"",null,"","",null,{"$f":"IFERROR(IF(D955=\"\",\"\",INDEX(Entradas!$H$3:$H$5000,MATCH(A955,IF(Entradas!$B$3:$B$5000=D955,Entradas!$A$3:$A$5000),1))),\"Preço não registrado\")","v":""},"",null,null,"",""]
[null,null,"",null,"","",null,{"$f":"IFERROR(IF(D956=\"\",\"\",INDEX(Entradas!$H$3:$H$5000,MATCH(A956,IF(Entradas!$B$3:$B$5000=D956,Entradas!$A$3:$A$5000),1))),\"Preço não registrado\")","v":""},"",null,null,"",""]
[null,null,"",null,"","",null,{"$f":"IFERROR(IF(D957=\"\",\"\",INDEX(Entradas!$H$3:$H$5000,MATCH(A957,IF(Entradas!$B$3:$B$5000=D957,Entradas!$A$3:$A$5000),1))),\"Preço não registrado\")","v":""},"",null,null,"",""]
[null,null,"",null,"","",null,{"$f":"IFERROR(IF(D958=\"\",\"\",INDEX(Entradas!$H$3:$H$5000,MATCH(A958,IF(Entradas!$B$3:$B$5000=D958,Entradas!$A$3:$A$5000),1))),\"Preço não registrado\")","v":""},"",null,null,"",""]
[null,null,"",null,"","",null,{"$f":"IFERROR(IF(D959=\"\",\"\",INDEX(Entradas!$H$3:$H$5000,MATCH(A959,IF(Entradas!$B$3:$B$5000=D959,Entradas!$A$3:$A$5000),1))),\"Preço não registrado\")","v":""},"",null,null,"",""]
[null,null,"",null,"","",null,{"$f":"IFERROR(IF(D960=\"\",\"\",INDEX(Entradas!$H$3:$H$5000,MATCH(A960,IF(Entradas!$B$3:$B$5000=D960,Entradas!$A$3:$A$5000),1))),\"Preço não registrado\")","v":""},"",null,null,"",""]
[null,null,"",null,"","",null,{"$f":"IFERROR(IF(D961=\"\",\"\",INDEX(Entradas!$H$3:$H$5000,MATCH(A961,IF(Entradas!$B$3:$B$5000=D961,Entradas!$A$3:$A$5000),1))),\"Preço não registrado\")","v":""},"",null,null,"",""]
[null,null,"",null,"","",null,{"$f":"IFERROR(IF(D962=\"\",\"\",INDEX(Entradas!$H$3:$H$5000,MATCH(A962,IF(Entradas!$B$3:$B$5000=D962,Entradas!$A$3:$A$5000),1))),\"Preço não registrado\")","v":""},"",null,null,"",""]
[null,null,{"$f":"IFERROR(IF(B963=\"\",\"\",VLOOKUP(B963,Clientes,2,FALSE)),\"\")","v":""},null,{"$f":"IF(D963=\"\",\"\",VLOOKUP(D963,Itens,2,FALSE))","v":""},{"$f":"IF(D963=\"\",\"\",VLOOKUP(D963,Itens,3,FALSE))","v":""},null,{"$f":"IFERROR(IF(D963=\"\",\"\",INDEX(Entradas!$H$3:$H$5000,MATCH(A963,IF(Entradas!$B$3:$B$5000=D963,Entradas!$A$3:$A$5000),1))),\"Preço não registrado\")","v":""},"",null,null,"",""]
[null,null,"",null,"","",null,{"$f":"IFERROR(IF(D964=\"\",\"\",INDEX(Entradas!$H$3:$H$5000,MATCH(A964,IF(Entradas!$B$3:$B$5000=D964,Entradas!$A$3:$A$5000),1))),\"Preço não registrado\")","v":""},{"$f":"IFERROR(G964*H964,\"\")","v":""},null,null,{"$f":"IF(K964=\"\",\"\",HYPERLINK($P$13&K964,\"Rastreie aqui\"))","v":""},{"$f":"IF(A964=\"\",\"\",TEXT(A964,\"mmmm\"))","v":""}]
[null,null,"",null,"","",null,{"$f":"IFERROR(IF(D965=\"\",\"\",INDEX(Entradas!$H$3:$H$5000,MATCH(A965,IF(Entradas!$B$3:$B$5000=D965,Entradas!$A$3:$A$5000),1))),\"Preço não registrado\")","v":""},"",null,null,"",""]
[null,null,"",null,"","",null,{"$f":"IFERROR(IF(D966=\"\",\"\",INDEX(Entradas!$H$3:$H$5000,MATCH(A966,IF(Entradas!$B$3:$B$5000=D966,Entradas!$A$3:$A$5000),1))),\"Preço não registrado\")","v":""},"",null,null,"",""]
[null,null,"",null,"","",null,{"$f":"IFERROR(IF(D967=\"\",\"\",INDEX(Entradas!$H$3:$H$5000,MATCH(A967,IF(Entradas!$B$3:$B$5000=D967,Entradas!$A$3:$A$5000),1))),\"Preço não registrado\")","v":""},"",null,null,"",""]
[null,null,"",null,"","",null,{"$f":"IFERROR(IF(D968=\"\",\"\",INDEX(Entradas!$H$3:$H$5000,MATCH(A968,IF(Entradas!$B$3:$B$5000=D968,Entradas!$A$3:$A$5000),1))),\"Preço não registrado\")","v":""},"",null,null,"",""]
[null,null,"",null,"","",null,{"$f":"IFERROR(IF(D969=\"\",\"\",INDEX(Entradas!$H$3:$H$5000,MATCH(A969,IF(Entradas!$B$3:$B$5000=D969,Entradas!$A$3:$A$5000),1))),\"Preço não registrado\")","v":""},"",null,null,"",""]
[null,null,"",null,"","",null,{"$f":"IFERROR(IF(D970=\"\",\"\",INDEX(Entradas!$H$3:$H$5000,MATCH(A970,IF(Entradas!$B$3:$B$5000=D970,Entradas!$A$3:$A$5000),1))),\"Preço não registrado\")","v":""},"",null,null,"",""]
[null,null,"",null,"","",null,{"$f":"IFERROR(IF(D971=\"\",\"\",INDEX(Entradas!$H$3:$H$5000,MATCH(A971,IF(Entradas!$B$3:$B$5000=D971,Entradas!$A$3:$A$5000),1))),\"Preço não registrado\")","v":""},"",null,null,"",""]
[null,null,"",null,"","",null,{"$f":"IFERROR(IF(D972=\"\",\"\",INDEX(Entradas!$H$3:$H$5000,MATCH(A972,IF(Entradas!$B$3:$B$5000=D972,Entradas!$A$3:$A$5000),1))),\"Preço não registrado\")","v":""},"",null,null,"",""]
[null,null,"",null,"","",null,{"$f":"IFERROR(IF(D973=\"\",\"\",INDEX(Entradas!$H$3:$H$5000,MATCH(A973,IF(Entradas!$B$3:$B$5000=D973,Entradas!$A$3:$A$5000),1))),\"Preço não registrado\")","v":""},"",null,null,"",""]
[null,null,"",null,"","",null,{"$f":"IFERROR(IF(D974=\"\",\"\",INDEX(Entradas!$H$3:$H$5000,MATCH(A974,IF(Entradas!$B$3:$B$5000=D974,Entradas!$A$3:$A$5000),1))),\"Preço não registrado\")","v":""},"",null,null,"",""]
[null,null,"",null,"","",null,{"$f":"IFERROR(IF(D975=\"\",\"\",INDEX(Entradas!$H$3:$H$5000,MATCH(A975,IF(Entradas!$B$3:$B$5000=D975,Entradas!$A$3:$A$5000),1))),\"Preço não registrado\")","v":""},"",null,null,"",""]
[null,null,"",null,"","",null,{"$f":"IFERROR(IF(D976=\"\",\"\",INDEX(Entradas!$H$3:$H$5000,MATCH(A976,IF(Entradas!$B$3:$B$5000=D976,Entradas!$A$3:$A$5000),1))),\"Preço não registrado\")","v":""},"",null,null,"",""]
[null,null,"",null,"","",null,{"$f":"IFERROR(IF(D977=\"\",\"\",INDEX(Entradas!$H$3:$H$5000,MATCH(A977,IF(Entradas!$B$3:$B$5000=D977,Entradas!$A$3:$A$5000),1))),\"Preço não registrado\")","v":""},"",null,null,"",""]
[null,null,"",null,"","",null,{"$f":"IFERROR(IF(D978=\"\",\"\",INDEX(Entradas!$H$3:$H$5000,MATCH(A978,IF(Entradas!$B$3:$B$5000=D978,Entradas!$A$3:$A$5000),1))),\"Preço não registrado\")","v":""},"",null,null,"",""]
[null,null,"",null,"","",null,{"$f":"IFERROR(IF(D979=\"\",\"\",INDEX(Entradas!$H$3:$H$5000,MATCH(A979,IF(Entradas!$B$3:$B$5000=D979,Entradas!$A$3:$A$5000),1))),\"Preço não registrado\")","v":""},"",null,null,"",""]
[null,null,"",null,"","",null,{"$f":"IFERROR(IF(D980=\"\",\"\",INDEX(Entradas!$H$3:$H$5000,MATCH(A980,IF(Entradas!$B$3:$B$5000=D980,Entradas!$A$3:$A$5000),1))),\"Preço não registrado\")","v":""},"",null,null,"",""]
[null,null,"",null,"","",null,{"$f":"IFERROR(IF(D981=\"\",\"\",INDEX(Entradas!$H$3:$H$5000,MATCH(A981,IF(Entradas!$B$3:$B$5000=D981,Entradas!$A$3:$A$5000),1))),\"Preço não registrado\")","v":""},"",null,null,"",""]
[null,null,"",null,"","",null,{"$f":"IFERROR(IF(D982=\"\",\"\",INDEX(Entradas!$H$3:$H$5000,MATCH(A982,IF(Entradas!$B$3:$B$5000=D982,Entradas!$A$3:$A$5000),1))),\"Preço não registrado\")","v":""},"",null,null,"",""]
[null,null,"",null,"","",null,{"$f":"IFERROR(IF(D983=\"\",\"\",INDEX(Entradas!$H$3:$H$5000,MATCH(A983,IF(Entradas!$B$3:$B$5000=D983,Entradas!$A$3:$A$5000),1))),\"Preço não registrado\")","v":""},"",null,null,"",""]
[null,null,"",null,"","",null,{"$f":"IFERROR(IF(D984=\"\",\"\",INDEX(Entradas!$H$3:$H$5000,MATCH(A984,IF(Entradas!$B$3:$B$5000=D984,Entradas!$A$3:$A$5000),1))),\"Preço não registrado\")","v":""},"",null,null,"",""]
[null,null,"",null,"","",null,{"$f":"IFERROR(IF(D985=\"\",\"\",INDEX(Entradas!$H$3:$H$5000,MATCH(A985,IF(Entradas!$B$3:$B$5000=D985,Entradas!$A$3:$A$5000),1))),\"Preço não registrado\")","v":""},"",null,null,"",""]
[null,null,"",null,"","",null,{"$f":"IFERROR(IF(D986=\"\",\"\",INDEX(Entradas!$H$3:$H$5000,MATCH(A986,IF(Entradas!$B$3:$B$5000=D986,Entradas!$A$3:$A$5000),1))),\"Preço não registrado\")","v":""},"",null,null,"",""]
[null,null,"",null,"","",null,{"$f":"IFERROR(IF(D987=\"\",\"\",INDEX(Entradas!$H$3:$H$5000,MATCH(A987,IF(Entradas!$B$3:$B$5000=D987,Entradas!$A$3:$A$5000),1))),\"Preço não registrado\")","v":""},"",null,null,"",""]
[null,null,"",null,"","",null,{"$f":"IFERROR(IF(D988=\"\",\"\",INDEX(Entradas!$H$3:$H$5000,MATCH(A988,IF(Entradas!$B$3:$B$5000=D988,Entradas!$A$3:$A$5000),1))),\"Preço não registrado\")","v":""},"",null,null,"",""]
[null,null,"",null,"","",null,{"$f":"IFERROR(IF(D989=\"\",\"\",INDEX(Entradas!$H$3:$H$5000,MATCH(A989,IF(Entradas!$B$3:$B$5000=D989,Entradas!$A$3:$A$5000),1))),\"Preço não registrado\")","v":""},"",null,null,"",""]
[null,null,"",null,"","",null,{"$f":"IFERROR(IF(D990=\"\",\"\",INDEX(Entradas!$H$3:$H$5000,MATCH(A990,IF(Entradas!$B$3:$B$5000=D990,Entradas!$A$3:$A$5000),1))),\"Preço não registrado\")","v":""},"",null,null,"",""]
[null,null,"",null,"","",null,{"$f":"IFERROR(IF(D991=\"\",\"\",INDEX(Entradas!$H$3:$H$5000,MATCH(A991,IF(Entradas!$B$3:$B$5000=D991,Entradas!$A$3:$A$5000),1))),\"Preço não registrado\")","v":""},"",null,null,"",""]
[null,null,"",null,"","",null,{"$f":"IFERROR(IF(D992=\"\",\"\",INDEX(Entradas!$H$3:$H$5000,MATCH(A992,IF(Entradas!$B$3:$B$5000=D992,Entradas!$A$3:$A$5000),1))),\"Preço não registrado\")","v":""},"",null,null,"",""]
[null,null,"",null,"","",null,{"$f":"IFERROR(IF(D993=\"\",\"\",INDEX(Entradas!$H$3:$H$5000,MATCH(A993,IF(Entradas!$B$3:$B$5000=D993,Entradas!$A$3:$A$5000),1))),\"Preço não registrado\")","v":""},"",null,null,"",""]
[null,null,"",null,"","",null,{"$f":"IFERROR(IF(D994=\"\",\"\",INDEX(Entradas!$H$3:$H$5000,MATCH(A994,IF(Entradas!$B$3:$B$5000=D994,Entradas!$A$3:$A$5000),1))),\"Preço não registrado\")","v":""},"",null,null,"",""]
[null,null,"",null,"","",null,{"$f":"IFERROR(IF(D995=\"\",\"\",INDEX(Entradas!$H$3:$H$5000,MATCH(A995,IF(Entradas!$B$3:$B$5000=D995,Entradas!$A$3:$A$5000),1))),\"Preço não registrado\")","v":""},"",null,null,"",""]
[null,null,"",null,"","",null,{"$f":"IFERROR(IF(D996=\"\",\"\",INDEX(Entradas!$H$3:$H$5000,MATCH(A996,IF(Entradas!$B$3:$B$5000=D996,Entradas!$A$3:$A$5000),1))),\"Preço não registrado\")","v":""},"",null,null,"",""]
[null,null,"",null,"","",null,{"$f":"IFERROR(IF(D997=\"\",\"\",INDEX(Entradas!$H$3:$H$5000,MATCH(A997,IF(Entradas!$B$3:$B$5000=D997,Entradas!$A$3:$A$5000),1))),\"Preço não registrado\")","v":""},"",null,null,"",""]
[null,null,"",null,"","",null,{"$f":"IFERROR(IF(D998=\"\",\"\",INDEX(Entradas!$H$3:$H$5000,MATCH(A998,IF(Entradas!$B$3:$B$5000=D998,Entradas!$A$3:$A$5000),1))),\"Preço não registrado\")","v":""},"",null,null,"",""]
[null,null,"",null,"","",null,{"$f":"IFERROR(IF(D999=\"\",\"\",INDEX(Entradas!$H$3:$H$5000,MATCH(A999,IF(Entradas!$B$3:$B$5000=D999,Entradas!$A$3:$A$5000),1))),\"Preço não registrado\")","v":""},"",null,null,"",""]
[null,null,"",null,"","",null,{"$f":"IFERROR(IF(D1000=\"\",\"\",INDEX(Entradas!$H$3:$H$5000,MATCH(A1000,IF(Entradas!$B$3:$B$5000=D1000,Entradas!$A$3:$A$5000),1))),\"Preço não registrado\")","v":""},"",null,null,"",""]
[null,null,"",null,"","",null,{"$f":"IFERROR(IF(D1001=\"\",\"\",INDEX(Entradas!$H$3:$H$5000,MATCH(A1001,IF(Entradas!$B$3:$B$5000=D1001,Entradas!$A$3:$A$5000),1))),\"Preço não registrado\")","v":""},"",null,null,"",""]
[null,null,"",null,"","",null,{"$f":"IFERROR(IF(D1002=\"\",\"\",INDEX(Entradas!$H$3:$H$5000,MATCH(A1002,IF(Entradas!$B$3:$B$5000=D1002,Entradas!$A$3:$A$5000),1))),\"Preço não registrado\")","v":""},"",null,null,"",""]
[null,null,"",null,"","",null,{"$f":"IFERROR(IF(D1003=\"\",\"\",INDEX(Entradas!$H$3:$H$5000,MATCH(A1003,IF(Entradas!$B$3:$B$5000=D1003,Entradas!$A$3:$A$5000),1))),\"Preço não registrado\")","v":""},"",null,null,"",""]
[null,null,"",null,"","",null,{"$f":"IFERROR(IF(D1004=\"\",\"\",INDEX(Entradas!$H$3:$H$5000,MATCH(A1004,IF(Entradas!$B$3:$B$5000=D1004,Entradas!$A$3:$A$5000),1))),\"Preço não registrado\")","v":""},"",null,null,"",""]
[null,null,"",null,"","",null,{"$f":"IFERROR(IF(D1005=\"\",\"\",INDEX(Entradas!$H$3:$H$5000,MATCH(A1005,IF(Entradas!$B$3:$B$5000=D1005,Entradas!$A$3:$A$5000),1))),\"Preço não registrado\")","v":""},"",null,null,"",""]
[null,null,"",null,"","",null,{"$f":"IFERROR(IF(D1006=\"\",\"\",INDEX(Entradas!$H$3:$H$5000,MATCH(A1006,IF(Entradas!$B$3:$B$5000=D1006,Entradas!$A$3:$A$5000),1))),\"Preço não registrado\")","v":""},"",null,null,"",""]
[null,null,"",null,"","",null,{"$f":"IFERROR(IF(D1007=\"\",\"\",INDEX(Entradas!$H$3:$H$5000,MATCH(A1007,IF(Entradas!$B$3:$B$5000=D1007,Entradas!$A$3:$A$5000),1))),\"Preço não registrado\")","v":""},"",null,null,"",""]
[null,null,"",null,"","",null,{"$f":"IFERROR(IF(D1008=\"\",\"\",INDEX(Entradas!$H$3:$H$5000,MATCH(A1008,IF(Entradas!$B$3:$B$5000=D1008,Entradas!$A$3:$A$5000),1))),\"Preço não registrado\")","v":""},"",null,null,"",""]
[null,null,"",null,"","",null,{"$f":"IFERROR(IF(D1009=\"\",\"\",INDEX(Entradas!$H$3:$H$5000,MATCH(A1009,IF(Entradas!$B$3:$B$5000=D1009,Entradas!$A$3:$A$5000),1))),\"Preço não registrado\")","v":""},"",null,null,"",""]
[null,null,"",null,"","",null,{"$f":"IFERROR(IF(D1010=\"\",\"\",INDEX(Entradas!$H$3:$H$5000,MATCH(A1010,IF(Entradas!$B$3:$B$5000=D1010,Entradas!$A$3:$A$5000),1))),\"Preço não registrado\")","v":""},"",null,null,"",""]
[null,null,"",null,"","",null,{"$f":"IFERROR(IF(D1011=\"\",\"\",INDEX(Entradas!$H$3:$H$5000,MATCH(A1011,IF(Entradas!$B$3:$B$5000=D1011,Entradas!$A$3:$A$5000),1))),\"Preço não registrado\")","v":""},"",null,null,"",""]
[null,null,"",null,"","",null,{"$f":"IFERROR(IF(D1012=\"\",\"\",INDEX(Entradas!$H$3:$H$5000,MATCH(A1012,IF(Entradas!$B$3:$B$5000=D1012,Entradas!$A$3:$A$5000),1))),\"Preço não registrado\")","v":""},"",null,null,"",""]
[null,null,"",null,"","",null,{"$f":"IFERROR(IF(D1013=\"\",\"\",INDEX(Entradas!$H$3:$H$5000,MATCH(A1013,IF(Entradas!$B$3:$B$5000=D1013,Entradas!$A$3:$A$5000),1))),\"Preço não registrado\")","v":""},"",null,null,"",""]
[null,null,"",null,"","",null,{"$f":"IFERROR(IF(D1014=\"\",\"\",INDEX(Entradas!$H$3:$H$5000,MATCH(A1014,IF(Entradas!$B$3:$B$5000=D1014,Entradas!$A$3:$A$5000),1))),\"Preço não registrado\")","v":""},"",null,null,"",""]
[null,null,"",null,"","",null,{"$f":"IFERROR(IF(D1015=\"\",\"\",INDEX(Entradas!$H$3:$H$5000,MATCH(A1015,IF(Entradas!$B$3:$B$5000=D1015,Entradas!$A$3:$A$5000),1))),\"Preço não registrado\")","v":""},"",null,null,"",""]
[null,null,"",null,"","",null,{"$f":"IFERROR(IF(D1016=\"\",\"\",INDEX(Entradas!$H$3:$H$5000,MATCH(A1016,IF(Entradas!$B$3:$B$5000=D1016,Entradas!$A$3:$A$5000),1))),\"Preço não registrado\")","v":""},"",null,null,"",""]
[null,null,"",null,"","",null,{"$f":"IFERROR(IF(D1017=\"\",\"\",INDEX(Entradas!$H$3:$H$5000,MATCH(A1017,IF(Entradas!$B$3:$B$5000=D1017,Entradas!$A$3:$A$5000),1))),\"Preço não registrado\")","v":""},"",null,null,"",""]
[null,null,"",null,"","",null,{"$f":"IFERROR(IF(D1018=\"\",\"\",INDEX(Entradas!$H$3:$H$5000,MATCH(A1018,IF(Entradas!$B$3:$B$5000=D1018,Entradas!$A$3:$A$5000),1))),\"Preço não registrado\")","v":""},"",null,null,"",""]
[null,null,"",null,"","",null,{"$f":"IFERROR(IF(D1019=\"\",\"\",INDEX(Entradas!$H$3:$H$5000,MATCH(A1019,IF(Entradas!$B$3:$B$5000=D1019,Entradas!$A$3:$A$5000),1))),\"Preço não registrado\")","v":""},"",null,null,"",""]
[null,null,"",null,"","",null,{"$f":"IFERROR(IF(D1020=\"\",\"\",INDEX(Entradas!$H$3:$H$5000,MATCH(A1020,IF(Entradas!$B$3:$B$5000=D1020,Entradas!$A$3:$A$5000),1))),\"Preço não registrado\")","v":""},"",null,null,"",""]
[null,null,"",null,"","",null,{"$f":"IFERROR(IF(D1021=\"\",\"\",INDEX(Entradas!$H$3:$H$5000,MATCH(A1021,IF(Entradas!$B$3:$B$5000=D1021,Entradas!$A$3:$A$5000),1))),\"Preço não registrado\")","v":""},"",null,null,"",""]
[null,null,"",null,"","",null,{"$f":"IFERROR(IF(D1022=\"\",\"\",INDEX(Entradas!$H$3:$H$5000,MATCH(A1022,IF(Entradas!$B$3:$B$5000=D1022,Entradas!$A$3:$A$5000),1))),\"Preço não registrado\")","v":""},"",null,null,"",""]
[null,null,"",null,"","",null,{"$f":"IFERROR(IF(D1023=\"\",\"\",INDEX(Entradas!$H$3:$H$5000,MATCH(A1023,IF(Entradas!$B$3:$B$5000=D1023,Entradas!$A$3:$A$5000),1))),\"Preço não registrado\")","v":""},"",null,null,"",""]
[null,null,"",null,"","",null,{"$f":"IFERROR(IF(D1024=\"\",\"\",INDEX(Entradas!$H$3:$H$5000,MATCH(A1024,IF(Entradas!$B$3:$B$5000=D1024,Entradas!$A$3:$A$5000),1))),\"Preço não registrado\")","v":""},"",null,null,"",""]
[null,null,"",null,"","",null,{"$f":"IFERROR(IF(D1025=\"\",\"\",INDEX(Entradas!$H$3:$H$5000,MATCH(A1025,IF(Entradas!$B$3:$B$5000=D1025,Entradas!$A$3:$A$5000),1))),\"Preço não registrado\")","v":""},"",null,null,"",""]
[null,null,"",null,"","",null,{"$f":"IFERROR(IF(D1026=\"\",\"\",INDEX(Entradas!$H$3:$H$5000,MATCH(A1026,IF(Entradas!$B$3:$B$5000=D1026,Entradas!$A$3:$A$5000),1))),\"Preço não registrado\")","v":""},"",null,null,"",""]
[null,null,{"$f":"IFERROR(IF(B1027=\"\",\"\",VLOOKUP(B1027,Clientes,2,FALSE)),\"\")","v":""},null,{"$f":"IF(D1027=\"\",\"\",VLOOKUP(D1027,Itens,2,FALSE))","v":""},{"$f":"IF(D1027=\"\",\"\",VLOOKUP(D1027,Itens,3,FALSE))","v":""},null,{"$f":"IFERROR(IF(D1027=\"\",\"\",INDEX(Entradas!$H$3:$H$5000,MATCH(A1027,IF(Entradas!$B$3:$B$5000=D1027,Entradas!$A$3:$A$5000),1))),\"Preço não registrado\")","v":""},"",null,null,"",""]
[null,null,"",null,"","",null,{"$f":"IFERROR(IF(D1028=\"\",\"\",INDEX(Entradas!$H$3:$H$5000,MATCH(A1028,IF(Entradas!$B$3:$B$5000=D1028,Entradas!$A$3:$A$5000),1))),\"Preço não registrado\")","v":""},{"$f":"IFERROR(G1028*H1028,\"\")","v":""},null,null,{"$f":"IF(K1028=\"\",\"\",HYPERLINK($P$13&K1028,\"Rastreie aqui\"))","v":""},{"$f":"IF(A1028=\"\",\"\",TEXT(A1028,\"mmmm\"))","v":""}]
[null,null,"",null,"","",null,{"$f":"IFERROR(IF(D1029=\"\",\"\",INDEX(Entradas!$H$3:$H$5000,MATCH(A1029,IF(Entradas!$B$3:$B$5000=D1029,Entradas!$A$3:$A$5000),1))),\"Preço não registrado\")","v":""},"",null,null,"",""]
[null,null,"",null,"","",null,{"$f":"IFERROR(IF(D1030=\"\",\"\",INDEX(Entradas!$H$3:$H$5000,MATCH(A1030,IF(Entradas!$B$3:$B$5000=D1030,Entradas!$A$3:$A$5000),1))),\"Preço não registrado\")","v":""},"",null,null,"",""]
[null,null,"",null,"","",null,{"$f":"IFERROR(IF(D1031=\"\",\"\",INDEX(Entradas!$H$3:$H$5000,MATCH(A1031,IF(Entradas!$B$3:$B$5000=D1031,Entradas!$A$3:$A$5000),1))),\"Preço não registrado\")","v":""},"",null,null,"",""]
[null,null,"",null,"","",null,{"$f":"IFERROR(IF(D1032=\"\",\"\",INDEX(Entradas!$H$3:$H$5000,MATCH(A1032,IF(Entradas!$B$3:$B$5000=D1032,Entradas!$A$3:$A$5000),1))),\"Preço não registrado\")","v":""},"",null,null,"",""]
[null,null,"",null,"","",null,{"$f":"IFERROR(IF(D1033=\"\",\"\",INDEX(Entradas!$H$3:$H$5000,MATCH(A1033,IF(Entradas!$B$3:$B$5000=D1033,Entradas!$A$3:$A$5000),1))),\"Preço não registrado\")","v":""},"",null,null,"",""]
[null,null,"",null,"","",null,{"$f":"IFERROR(IF(D1034=\"\",\"\",INDEX(Entradas!$H$3:$H$5000,MATCH(A1034,IF(Entradas!$B$3:$B$5000=D1034,Entradas!$A$3:$A$5000),1))),\"Preço não registrado\")","v":""},"",null,null,"",""]
[null,null,"",null,"","",null,{"$f":"IFERROR(IF(D1035=\"\",\"\",INDEX(Entradas!$H$3:$H$5000,MATCH(A1035,IF(Entradas!$B$3:$B$5000=D1035,Entradas!$A$3:$A$5000),1))),\"Preço não registrado\")","v":""},"",null,null,"",""]
[null,null,"",null,"","",null,{"$f":"IFERROR(IF(D1036=\"\",\"\",INDEX(Entradas!$H$3:$H$5000,MATCH(A1036,IF(Entradas!$B$3:$B$5000=D1036,Entradas!$A$3:$A$5000),1))),\"Preço não registrado\")","v":""},"",null,null,"",""]
[null,null,"",null,"","",null,{"$f":"IFERROR(IF(D1037=\"\",\"\",INDEX(Entradas!$H$3:$H$5000,MATCH(A1037,IF(Entradas!$B$3:$B$5000=D1037,Entradas!$A$3:$A$5000),1))),\"Preço não registrado\")","v":""},"",null,null,"",""]
[null,null,"",null,"","",null,{"$f":"IFERROR(IF(D1038=\"\",\"\",INDEX(Entradas!$H$3:$H$5000,MATCH(A1038,IF(Entradas!$B$3:$B$5000=D1038,Entradas!$A$3:$A$5000),1))),\"Preço não registrado\")","v":""},"",null,null,"",""]
[null,null,"",null,"","",null,{"$f":"IFERROR(IF(D1039=\"\",\"\",INDEX(Entradas!$H$3:$H$5000,MATCH(A1039,IF(Entradas!$B$3:$B$5000=D1039,Entradas!$A$3:$A$5000),1))),\"Preço não registrado\")","v":""},"",null,null,"",""]
[null,null,"",null,"","",null,{"$f":"IFERROR(IF(D1040=\"\",\"\",INDEX(Entradas!$H$3:$H$5000,MATCH(A1040,IF(Entradas!$B$3:$B$5000=D1040,Entradas!$A$3:$A$5000),1))),\"Preço não registrado\")","v":""},"",null,null,"",""]
[null,null,"",null,"","",null,{"$f":"IFERROR(IF(D1041=\"\",\"\",INDEX(Entradas!$H$3:$H$5000,MATCH(A1041,IF(Entradas!$B$3:$B$5000=D1041,Entradas!$A$3:$A$5000),1))),\"Preço não registrado\")","v":""},"",null,null,"",""]
[null,null,"",null,"","",null,{"$f":"IFERROR(IF(D1042=\"\",\"\",INDEX(Entradas!$H$3:$H$5000,MATCH(A1042,IF(Entradas!$B$3:$B$5000=D1042,Entradas!$A$3:$A$5000),1))),\"Preço não registrado\")","v":""},"",null,null,"",""]
[null,null,"",null,"","",null,{"$f":"IFERROR(IF(D1043=\"\",\"\",INDEX(Entradas!$H$3:$H$5000,MATCH(A1043,IF(Entradas!$B$3:$B$5000=D1043,Entradas!$A$3:$A$5000),1))),\"Preço não registrado\")","v":""},"",null,null,"",""]
[null,null,"",null,"","",null,{"$f":"IFERROR(IF(D1044=\"\",\"\",INDEX(Entradas!$H$3:$H$5000,MATCH(A1044,IF(Entradas!$B$3:$B$5000=D1044,Entradas!$A$3:$A$5000),1))),\"Preço não registrado\")","v":""},"",null,null,"",""]
[null,null,"",null,"","",null,{"$f":"IFERROR(IF(D1045=\"\",\"\",INDEX(Entradas!$H$3:$H$5000,MATCH(A1045,IF(Entradas!$B$3:$B$5000=D1045,Entradas!$A$3:$A$5000),1))),\"Preço não registrado\")","v":""},"",null,null,"",""]
[null,null,"",null,"","",null,{"$f":"IFERROR(IF(D1046=\"\",\"\",INDEX(Entradas!$H$3:$H$5000,MATCH(A1046,IF(Entradas!$B$3:$B$5000=D1046,Entradas!$A$3:$A$5000),1))),\"Preço não registrado\")","v":""},"",null,null,"",""]
[null,null,"",null,"","",null,{"$f":"IFERROR(IF(D1047=\"\",\"\",INDEX(Entradas!$H$3:$H$5000,MATCH(A1047,IF(Entradas!$B$3:$B$5000=D1047,Entradas!$A$3:$A$5000),1))),\"Preço não registrado\")","v":""},"",null,null,"",""]
[null,null,"",null,"","",null,{"$f":"IFERROR(IF(D1048=\"\",\"\",INDEX(Entradas!$H$3:$H$5000,MATCH(A1048,IF(Entradas!$B$3:$B$5000=D1048,Entradas!$A$3:$A$5000),1))),\"Preço não registrado\")","v":""},"",null,null,"",""]
[null,null,"",null,"","",null,{"$f":"IFERROR(IF(D1049=\"\",\"\",INDEX(Entradas!$H$3:$H$5000,MATCH(A1049,IF(Entradas!$B$3:$B$5000=D1049,Entradas!$A$3:$A$5000),1))),\"Preço não registrado\")","v":""},"",null,null,"",""]
[null,null,"",null,"","",null,{"$f":"IFERROR(IF(D1050=\"\",\"\",INDEX(Entradas!$H$3:$H$5000,MATCH(A1050,IF(Entradas!$B$3:$B$5000=D1050,Entradas!$A$3:$A$5000),1))),\"Preço não registrado\")","v":""},"",null,null,"",""]
[null,null,"",null,"","",null,{"$f":"IFERROR(IF(D1051=\"\",\"\",INDEX(Entradas!$H$3:$H$5000,MATCH(A1051,IF(Entradas!$B$3:$B$5000=D1051,Entradas!$A$3:$A$5000),1))),\"Preço não registrado\")","v":""},"",null,null,"",""]
[null,null,"",null,"","",null,{"$f":"IFERROR(IF(D1052=\"\",\"\",INDEX(Entradas!$H$3:$H$5000,MATCH(A1052,IF(Entradas!$B$3:$B$5000=D1052,Entradas!$A$3:$A$5000),1))),\"Preço não registrado\")","v":""},"",null,null,"",""]
[null,null,"",null,"","",null,{"$f":"IFERROR(IF(D1053=\"\",\"\",INDEX(Entradas!$H$3:$H$5000,MATCH(A1053,IF(Entradas!$B$3:$B$5000=D1053,Entradas!$A$3:$A$5000),1))),\"Preço não registrado\")","v":""},"",null,null,"",""]
[null,null,"",null,"","",null,{"$f":"IFERROR(IF(D1054=\"\",\"\",INDEX(Entradas!$H$3:$H$5000,MATCH(A1054,IF(Entradas!$B$3:$B$5000=D1054,Entradas!$A$3:$A$5000),1))),\"Preço não registrado\")","v":""},"",null,null,"",""]
[null,null,"",null,"","",null,{"$f":"IFERROR(IF(D1055=\"\",\"\",INDEX(Entradas!$H$3:$H$5000,MATCH(A1055,IF(Entradas!$B$3:$B$5000=D1055,Entradas!$A$3:$A$5000),1))),\"Preço não registrado\")","v":""},"",null,null,"",""]
[null,null,"",null,"","",null,{"$f":"IFERROR(IF(D1056=\"\",\"\",INDEX(Entradas!$H$3:$H$5000,MATCH(A1056,IF(Entradas!$B$3:$B$5000=D1056,Entradas!$A$3:$A$5000),1))),\"Preço não registrado\")","v":""},"",null,null,"",""]
[null,null,"",null,"","",null,{"$f":"IFERROR(IF(D1057=\"\",\"\",INDEX(Entradas!$H$3:$H$5000,MATCH(A1057,IF(Entradas!$B$3:$B$5000=D1057,Entradas!$A$3:$A$5000),1))),\"Preço não registrado\")","v":""},"",null,null,"",""]
[null,null,"",null,"","",null,{"$f":"IFERROR(IF(D1058=\"\",\"\",INDEX(Entradas!$H$3:$H$5000,MATCH(A1058,IF(Entradas!$B$3:$B$5000=D1058,Entradas!$A$3:$A$5000),1))),\"Preço não registrado\")","v":""},"",null,null,"",""]
[null,null,"",null,"","",null,{"$f":"IFERROR(IF(D1059=\"\",\"\",INDEX(Entradas!$H$3:$H$5000,MATCH(A1059,IF(Entradas!$B$3:$B$5000=D1059,Entradas!$A$3:$A$5000),1))),\"Preço não registrado\")","v":""},"",null,null,"",""]
[null,null,"",null,"","",null,{"$f":"IFERROR(IF(D1060=\"\",\"\",INDEX(Entradas!$H$3:$H$5000,MATCH(A1060,IF(Entradas!$B$3:$B$5000=D1060,Entradas!$A$3:$A$5000),1))),\"Preço não registrado\")","v":""},"",null,null,"",""]
[null,null,"",null,"","",null,{"$f":"IFERROR(IF(D1061=\"\",\"\",INDEX(Entradas!$H$3:$H$5000,MATCH(A1061,IF(Entradas!$B$3:$B$5000=D1061,Entradas!$A$3:$A$5000),1))),\"Preço não registrado\")","v":""},"",null,null,"",""]
[null,null,"",null,"","",null,{"$f":"IFERROR(IF(D1062=\"\",\"\",INDEX(Entradas!$H$3:$H$5000,MATCH(A1062,IF(Entradas!$B$3:$B$5000=D1062,Entradas!$A$3:$A$5000),1))),\"Preço não registrado\")","v":""},"",null,null,"",""]
[null,null,"",null,"","",null,{"$f":"IFERROR(IF(D1063=\"\",\"\",INDEX(Entradas!$H$3:$H$5000,MATCH(A1063,IF(Entradas!$B$3:$B$5000=D1063,Entradas!$A$3:$A$5000),1))),\"Preço não registrado\")","v":""},"",null,null,"",""]
[null,null,"",null,"","",null,{"$f":"IFERROR(IF(D1064=\"\",\"\",INDEX(Entradas!$H$3:$H$5000,MATCH(A1064,IF(Entradas!$B$3:$B$5000=D1064,Entradas!$A$3:$A$5000),1))),\"Preço não registrado\")","v":""},"",null,null,"",""]
[null,null,"",null,"","",null,{"$f":"IFERROR(IF(D1065=\"\",\"\",INDEX(Entradas!$H$3:$H$5000,MATCH(A1065,IF(Entradas!$B$3:$B$5000=D1065,Entradas!$A$3:$A$5000),1))),\"Preço não registrado\")","v":""},"",null,null,"",""]
[null,null,"",null,"","",null,{"$f":"IFERROR(IF(D1066=\"\",\"\",INDEX(Entradas!$H$3:$H$5000,MATCH(A1066,IF(Entradas!$B$3:$B$5000=D1066,Entradas!$A$3:$A$5000),1))),\"Preço não registrado\")","v":""},"",null,null,"",""]
[null,null,"",null,"","",null,{"$f":"IFERROR(IF(D1067=\"\",\"\",INDEX(Entradas!$H$3:$H$5000,MATCH(A1067,IF(Entradas!$B$3:$B$5000=D1067,Entradas!$A$3:$A$5000),1))),\"Preço não registrado\")","v":""},"",null,null,"",""]
[null,null,"",null,"","",null,{"$f":"IFERROR(IF(D1068=\"\",\"\",INDEX(Entradas!$H$3:$H$5000,MATCH(A1068,IF(Entradas!$B$3:$B$5000=D1068,Entradas!$A$3:$A$5000),1))),\"Preço não registrado\")","v":""},"",null,null,"",""]
[null,null,"",null,"","",null,{"$f":"IFERROR(IF(D1069=\"\",\"\",INDEX(Entradas!$H$3:$H$5000,MATCH(A1069,IF(Entradas!$B$3:$B$5000=D1069,Entradas!$A$3:$A$5000),1))),\"Preço não registrado\")","v":""},"",null,null,"",""]
[null,null,"",null,"","",null,{"$f":"IFERROR(IF(D1070=\"\",\"\",INDEX(Entradas!$H$3:$H$5000,MATCH(A1070,IF(Entradas!$B$3:$B$5000=D1070,Entradas!$A$3:$A$5000),1))),\"Preço não registrado\")","v":""},"",null,null,"",""]
[null,null,"",null,"","",null,{"$f":"IFERROR(IF(D1071=\"\",\"\",INDEX(Entradas!$H$3:$H$5000,MATCH(A1071,IF(Entradas!$B$3:$B$5000=D1071,Entradas!$A$3:$A$5000),1))),\"Preço não registrado\")","v":""},"",null,null,"",""]
[null,null,"",null,"","",null,{"$f":"IFERROR(IF(D1072=\"\",\"\",INDEX(Entradas!$H$3:$H$5000,MATCH(A1072,IF(Entradas!$B$3:$B$5000=D1072,Entradas!$A$3:$A$5000),1))),\"Preço não registrado\")","v":""},"",null,null,"",""]
[null,null,"",null,"","",null,{"$f":"IFERROR(IF(D1073=\"\",\"\",INDEX(Entradas!$H$3:$H$5000,MATCH(A1073,IF(Entradas!$B$3:$B$5000=D1073,Entradas!$A$3:$A$5000),1))),\"Preço não registrado\")","v":""},"",null,null,"",""]
[null,null,"",null,"","",null,{"$f":"IFERROR(IF(D1074=\"\",\"\",INDEX(Entradas!$H$3:$H$5000,MATCH(A1074,IF(Entradas!$B$3:$B$5000=D1074,Entradas!$A$3:$A$5000),1))),\"Preço não registrado\")","v":""},"",null,null,"",""]
[null,null,"",null,"","",null,{"$f":"IFERROR(IF(D1075=\"\",\"\",INDEX(Entradas!$H$3:$H$5000,MATCH(A1075,IF(Entradas!$B$3:$B$5000=D1075,Entradas!$A$3:$A$5000),1))),\"Preço não registrado\")","v":""},"",null,null,"",""]
[null,null,"",null,"","",null,{"$f":"IFERROR(IF(D1076=\"\",\"\",INDEX(Entradas!$H$3:$H$5000,MATCH(A1076,IF(Entradas!$B$3:$B$5000=D1076,Entradas!$A$3:$A$5000),1))),\"Preço não registrado\")","v":""},"",null,null,"",""]
[null,null,"",null,"","",null,{"$f":"IFERROR(IF(D1077=\"\",\"\",INDEX(Entradas!$H$3:$H$5000,MATCH(A1077,IF(Entradas!$B$3:$B$5000=D1077,Entradas!$A$3:$A$5000),1))),\"Preço não registrado\")","v":""},"",null,null,"",""]
[null,null,"",null,"","",null,{"$f":"IFERROR(IF(D1078=\"\",\"\",INDEX(Entradas!$H$3:$H$5000,MATCH(A1078,IF(Entradas!$B$3:$B$5000=D1078,Entradas!$A$3:$A$5000),1))),\"Preço não registrado\")","v":""},"",null,null,"",""]
[null,null,"",null,"","",null,{"$f":"IFERROR(IF(D1079=\"\",\"\",INDEX(Entradas!$H$3:$H$5000,MATCH(A1079,IF(Entradas!$B$3:$B$5000=D1079,Entradas!$A$3:$A$5000),1))),\"Preço não registrado\")","v":""},"",null,null,"",""]
[null,null,"",null,"","",null,{"$f":"IFERROR(IF(D1080=\"\",\"\",INDEX(Entradas!$H$3:$H$5000,MATCH(A1080,IF(Entradas!$B$3:$B$5000=D1080,Entradas!$A$3:$A$5000),1))),\"Preço não registrado\")","v":""},"",null,null,"",""]
[null,null,"",null,"","",null,{"$f":"IFERROR(IF(D1081=\"\",\"\",INDEX(Entradas!$H$3:$H$5000,MATCH(A1081,IF(Entradas!$B$3:$B$5000=D1081,Entradas!$A$3:$A$5000),1))),\"Preço não registrado\")","v":""},"",null,null,"",""]
[null,null,"",null,"","",null,{"$f":"IFERROR(IF(D1082=\"\",\"\",INDEX(Entradas!$H$3:$H$5000,MATCH(A1082,IF(Entradas!$B$3:$B$5000=D1082,Entradas!$A$3:$A$5000),1))),\"Preço não registrado\")","v":""},"",null,null,"",""]
[null,null,"",null,"","",null,{"$f":"IFERROR(IF(D1083=\"\",\"\",INDEX(Entradas!$H$3:$H$5000,MATCH(A1083,IF(Entradas!$B$3:$B$5000=D1083,Entradas!$A$3:$A$5000),1))),\"Preço não registrado\")","v":""},"",null,null,"",""]
[null,null,"",null,"","",null,{"$f":"IFERROR(IF(D1084=\"\",\"\",INDEX(Entradas!$H$3:$H$5000,MATCH(A1084,IF(Entradas!$B$3:$B$5000=D1084,Entradas!$A$3:$A$5000),1))),\"Preço não registrado\")","v":""},"",null,null,"",""]
[null,null,"",null,"","",null,{"$f":"IFERROR(IF(D1085=\"\",\"\",INDEX(Entradas!$H$3:$H$5000,MATCH(A1085,IF(Entradas!$B$3:$B$5000=D1085,Entradas!$A$3:$A$5000),1))),\"Preço não registrado\")","v":""},"",null,null,"",""]
[null,null,"",null,"","",null,{"$f":"IFERROR(IF(D1086=\"\",\"\",INDEX(Entradas!$H$3:$H$5000,MATCH(A1086,IF(Entradas!$B$3:$B$5000=D1086,Entradas!$A$3:$A$5000),1))),\"Preço não registrado\")","v":""},"",null,null,"",""]
[null,null,"",null,"","",null,{"$f":"IFERROR(IF(D1087=\"\",\"\",INDEX(Entradas!$H$3:$H$5000,MATCH(A1087,IF(Entradas!$B$3:$B$5000=D1087,Entradas!$A$3:$A$5000),1))),\"Preço não registrado\")","v":""},"",null,null,"",""]
[null,null,"",null,"","",null,{"$f":"IFERROR(IF(D1088=\"\",\"\",INDEX(Entradas!$H$3:$H$5000,MATCH(A1088,IF(Entradas!$B$3:$B$5000=D1088,Entradas!$A$3:$A$5000),1))),\"Preço não registrado\")","v":""},"",null,null,"",""]
[null,null,"",null,"","",null,{"$f":"IFERROR(IF(D1089=\"\",\"\",INDEX(Entradas!$H$3:$H$5000,MATCH(A1089,IF(Entradas!$B$3:$B$5000=D1089,Entradas!$A$3:$A$5000),1))),\"Preço não registrado\")","v":""},"",null,null,"",""]
[null,null,"",null,"","",null,{"$f":"IFERROR(IF(D1090=\"\",\"\",INDEX(Entradas!$H$3:$H$5000,MATCH(A1090,IF(Entradas!$B$3:$B$5000=D1090,Entradas!$A$3:$A$5000),1))),\"Preço não registrado\")","v":""},"",null,null,"",""]
[null,null,{"$f":"IFERROR(IF(B1091=\"\",\"\",VLOOKUP(B1091,Clientes,2,FALSE)),\"\")","v":""},null,{"$f":"IF(D1091=\"\",\"\",VLOOKUP(D1091,Itens,2,FALSE))","v":""},{"$f":"IF(D1091=\"\",\"\",VLOOKUP(D1091,Itens,3,FALSE))","v":""},null,{"$f":"IFERROR(IF(D1091=\"\",\"\",INDEX(Entradas!$H$3:$H$5000,MATCH(A1091,IF(Entradas!$B$3:$B$5000=D1091,Entradas!$A$3:$A$5000),1))),\"Preço não registrado\")","v":""},"",null,null,"",""]
[null,null,"",null,"","",null,{"$f":"IFERROR(IF(D1092=\"\",\"\",INDEX(Entradas!$H$3:$H$5000,MATCH(A1092,IF(Entradas!$B$3:$B$5000=D1092,Entradas!$A$3:$A$5000),1))),\"Preço não registrado\")","v":""},{"$f":"IFERROR(G1092*H1092,\"\")","v":""},null,null,{"$f":"IF(K1092=\"\",\"\",HYPERLINK($P$13&K1092,\"Rastreie aqui\"))","v":""},{"$f":"IF(A1092=\"\",\"\",TEXT(A1092,\"mmmm\"))","v":""}]
[null,null,"",null,"","",null,{"$f":"IFERROR(IF(D1093=\"\",\"\",INDEX(Entradas!$H$3:$H$5000,MATCH(A1093,IF(Entradas!$B$3:$B$5000=D1093,Entradas!$A$3:$A$5000),1))),\"Preço não registrado\")","v":""},"",null,null,"",""]
[null,null,"",null,"","",null,{"$f":"IFERROR(IF(D1094=\"\",\"\",INDEX(Entradas!$H$3:$H$5000,MATCH(A1094,IF(Entradas!$B$3:$B$5000=D1094,Entradas!$A$3:$A$5000),1))),\"Preço não registrado\")","v":""},"",null,null,"",""]
[null,null,"",null,"","",null,{"$f":"IFERROR(IF(D1095=\"\",\"\",INDEX(Entradas!$H$3:$H$5000,MATCH(A1095,IF(Entradas!$B$3:$B$5000=D1095,Entradas!$A$3:$A$5000),1))),\"Preço não registrado\")","v":""},"",null,null,"",""]
[null,null,"",null,"","",null,{"$f":"IFERROR(IF(D1096=\"\",\"\",INDEX(Entradas!$H$3:$H$5000,MATCH(A1096,IF(Entradas!$B$3:$B$5000=D1096,Entradas!$A$3:$A$5000),1))),\"Preço não registrado\")","v":""},"",null,null,"",""]
[null,null,"",null,"","",null,{"$f":"IFERROR(IF(D1097=\"\",\"\",INDEX(Entradas!$H$3:$H$5000,MATCH(A1097,IF(Entradas!$B$3:$B$5000=D1097,Entradas!$A$3:$A$5000),1))),\"Preço não registrado\")","v":""},"",null,null,"",""]
[null,null,"",null,"","",null,{"$f":"IFERROR(IF(D1098=\"\",\"\",INDEX(Entradas!$H$3:$H$5000,MATCH(A1098,IF(Entradas!$B$3:$B$5000=D1098,Entradas!$A$3:$A$5000),1))),\"Preço não registrado\")","v":""},"",null,null,"",""]
[null,null,"",null,"","",null,{"$f":"IFERROR(IF(D1099=\"\",\"\",INDEX(Entradas!$H$3:$H$5000,MATCH(A1099,IF(Entradas!$B$3:$B$5000=D1099,Entradas!$A$3:$A$5000),1))),\"Preço não registrado\")","v":""},"",null,null,"",""]
[null,null,"",null,"","",null,{"$f":"IFERROR(IF(D1100=\"\",\"\",INDEX(Entradas!$H$3:$H$5000,MATCH(A1100,IF(Entradas!$B$3:$B$5000=D1100,Entradas!$A$3:$A$5000),1))),\"Preço não registrado\")","v":""},"",null,null,"",""]
[null,null,"",null,"","",null,{"$f":"IFERROR(IF(D1101=\"\",\"\",INDEX(Entradas!$H$3:$H$5000,MATCH(A1101,IF(Entradas!$B$3:$B$5000=D1101,Entradas!$A$3:$A$5000),1))),\"Preço não registrado\")","v":""},"",null,null,"",""]
[null,null,"",null,"","",null,{"$f":"IFERROR(IF(D1102=\"\",\"\",INDEX(Entradas!$H$3:$H$5000,MATCH(A1102,IF(Entradas!$B$3:$B$5000=D1102,Entradas!$A$3:$A$5000),1))),\"Preço não registrado\")","v":""},"",null,null,"",""]
[null,null,"",null,"","",null,{"$f":"IFERROR(IF(D1103=\"\",\"\",INDEX(Entradas!$H$3:$H$5000,MATCH(A1103,IF(Entradas!$B$3:$B$5000=D1103,Entradas!$A$3:$A$5000),1))),\"Preço não registrado\")","v":""},"",null,null,"",""]
[null,null,"",null,"","",null,{"$f":"IFERROR(IF(D1104=\"\",\"\",INDEX(Entradas!$H$3:$H$5000,MATCH(A1104,IF(Entradas!$B$3:$B$5000=D1104,Entradas!$A$3:$A$5000),1))),\"Preço não registrado\")","v":""},"",null,null,"",""]
[null,null,"",null,"","",null,{"$f":"IFERROR(IF(D1105=\"\",\"\",INDEX(Entradas!$H$3:$H$5000,MATCH(A1105,IF(Entradas!$B$3:$B$5000=D1105,Entradas!$A$3:$A$5000),1))),\"Preço não registrado\")","v":""},"",null,null,"",""]
[null,null,"",null,"","",null,{"$f":"IFERROR(IF(D1106=\"\",\"\",INDEX(Entradas!$H$3:$H$5000,MATCH(A1106,IF(Entradas!$B$3:$B$5000=D1106,Entradas!$A$3:$A$5000),1))),\"Preço não registrado\")","v":""},"",null,null,"",""]
[null,null,"",null,"","",null,{"$f":"IFERROR(IF(D1107=\"\",\"\",INDEX(Entradas!$H$3:$H$5000,MATCH(A1107,IF(Entradas!$B$3:$B$5000=D1107,Entradas!$A$3:$A$5000),1))),\"Preço não registrado\")","v":""},"",null,null,"",""]
[null,null,"",null,"","",null,{"$f":"IFERROR(IF(D1108=\"\",\"\",INDEX(Entradas!$H$3:$H$5000,MATCH(A1108,IF(Entradas!$B$3:$B$5000=D1108,Entradas!$A$3:$A$5000),1))),\"Preço não registrado\")","v":""},"",null,null,"",""]
[null,null,"",null,"","",null,{"$f":"IFERROR(IF(D1109=\"\",\"\",INDEX(Entradas!$H$3:$H$5000,MATCH(A1109,IF(Entradas!$B$3:$B$5000=D1109,Entradas!$A$3:$A$5000),1))),\"Preço não registrado\")","v":""},"",null,null,"",""]
[null,null,"",null,"","",null,{"$f":"IFERROR(IF(D1110=\"\",\"\",INDEX(Entradas!$H$3:$H$5000,MATCH(A1110,IF(Entradas!$B$3:$B$5000=D1110,Entradas!$A$3:$A$5000),1))),\"Preço não registrado\")","v":""},"",null,null,"",""]
[null,null,"",null,"","",null,{"$f":"IFERROR(IF(D1111=\"\",\"\",INDEX(Entradas!$H$3:$H$5000,MATCH(A1111,IF(Entradas!$B$3:$B$5000=D1111,Entradas!$A$3:$A$5000),1))),\"Preço não registrado\")","v":""},"",null,null,"",""]
[null,null,"",null,"","",null,{"$f":"IFERROR(IF(D1112=\"\",\"\",INDEX(Entradas!$H$3:$H$5000,MATCH(A1112,IF(Entradas!$B$3:$B$5000=D1112,Entradas!$A$3:$A$5000),1))),\"Preço não registrado\")","v":""},"",null,null,"",""]
[null,null,"",null,"","",null,{"$f":"IFERROR(IF(D1113=\"\",\"\",INDEX(Entradas!$H$3:$H$5000,MATCH(A1113,IF(Entradas!$B$3:$B$5000=D1113,Entradas!$A$3:$A$5000),1))),\"Preço não registrado\")","v":""},"",null,null,"",""]
[null,null,"",null,"","",null,{"$f":"IFERROR(IF(D1114=\"\",\"\",INDEX(Entradas!$H$3:$H$5000,MATCH(A1114,IF(Entradas!$B$3:$B$5000=D1114,Entradas!$A$3:$A$5000),1))),\"Preço não registrado\")","v":""},"",null,null,"",""]
[null,null,"",null,"","",null,{"$f":"IFERROR(IF(D1115=\"\",\"\",INDEX(Entradas!$H$3:$H$5000,MATCH(A1115,IF(Entradas!$B$3:$B$5000=D1115,Entradas!$A$3:$A$5000),1))),\"Preço não registrado\")","v":""},"",null,null,"",""]
[null,null,"",null,"","",null,{"$f":"IFERROR(IF(D1116=\"\",\"\",INDEX(Entradas!$H$3:$H$5000,MATCH(A1116,IF(Entradas!$B$3:$B$5000=D1116,Entradas!$A$3:$A$5000),1))),\"Preço não registrado\")","v":""},"",null,null,"",""]
[null,null,"",null,"","",null,{"$f":"IFERROR(IF(D1117=\"\",\"\",INDEX(Entradas!$H$3:$H$5000,MATCH(A1117,IF(Entradas!$B$3:$B$5000=D1117,Entradas!$A$3:$A$5000),1))),\"Preço não registrado\")","v":""},"",null,null,"",""]
[null,null,"",null,"","",null,{"$f":"IFERROR(IF(D1118=\"\",\"\",INDEX(Entradas!$H$3:$H$5000,MATCH(A1118,IF(Entradas!$B$3:$B$5000=D1118,Entradas!$A$3:$A$5000),1))),\"Preço não registrado\")","v":""},"",null,null,"",""]
[null,null,"",null,"","",null,{"$f":"IFERROR(IF(D1119=\"\",\"\",INDEX(Entradas!$H$3:$H$5000,MATCH(A1119,IF(Entradas!$B$3:$B$5000=D1119,Entradas!$A$3:$A$5000),1))),\"Preço não registrado\")","v":""},"",null,null,"",""]
[null,null,"",null,"","",null,{"$f":"IFERROR(IF(D1120=\"\",\"\",INDEX(Entradas!$H$3:$H$5000,MATCH(A1120,IF(Entradas!$B$3:$B$5000=D1120,Entradas!$A$3:$A$5000),1))),\"Preço não registrado\")","v":""},"",null,null,"",""]
[null,null,"",null,"","",null,{"$f":"IFERROR(IF(D1121=\"\",\"\",INDEX(Entradas!$H$3:$H$5000,MATCH(A1121,IF(Entradas!$B$3:$B$5000=D1121,Entradas!$A$3:$A$5000),1))),\"Preço não registrado\")","v":""},"",null,null,"",""]
[null,null,"",null,"","",null,{"$f":"IFERROR(IF(D1122=\"\",\"\",INDEX(Entradas!$H$3:$H$5000,MATCH(A1122,IF(Entradas!$B$3:$B$5000=D1122,Entradas!$A$3:$A$5000),1))),\"Preço não registrado\")","v":""},"",null,null,"",""]
[null,null,"",null,"","",null,{"$f":"IFERROR(IF(D1123=\"\",\"\",INDEX(Entradas!$H$3:$H$5000,MATCH(A1123,IF(Entradas!$B$3:$B$5000=D1123,Entradas!$A$3:$A$5000),1))),\"Preço não registrado\")","v":""},"",null,null,"",""]
[null,null,"",null,"","",null,{"$f":"IFERROR(IF(D1124=\"\",\"\",INDEX(Entradas!$H$3:$H$5000,MATCH(A1124,IF(Entradas!$B$3:$B$5000=D1124,Entradas!$A$3:$A$5000),1))),\"Preço não registrado\")","v":""},"",null,null,"",""]
[null,null,"",null,"","",null,{"$f":"IFERROR(IF(D1125=\"\",\"\",INDEX(Entradas!$H$3:$H$5000,MATCH(A1125,IF(Entradas!$B$3:$B$5000=D1125,Entradas!$A$3:$A$5000),1))),\"Preço não registrado\")","v":""},"",null,null,"",""]
[null,null,"",null,"","",null,{"$f":"IFERROR(IF(D1126=\"\",\"\",INDEX(Entradas!$H$3:$H$5000,MATCH(A1126,IF(Entradas!$B$3:$B$5000=D1126,Entradas!$A$3:$A$5000),1))),\"Preço não registrado\")","v":""},"",null,null,"",""]
[null,null,"",null,"","",null,{"$f":"IFERROR(IF(D1127=\"\",\"\",INDEX(Entradas!$H$3:$H$5000,MATCH(A1127,IF(Entradas!$B$3:$B$5000=D1127,Entradas!$A$3:$A$5000),1))),\"Preço não registrado\")","v":""},"",null,null,"",""]
[null,null,"",null,"","",null,{"$f":"IFERROR(IF(D1128=\"\",\"\",INDEX(Entradas!$H$3:$H$5000,MATCH(A1128,IF(Entradas!$B$3:$B$5000=D1128,Entradas!$A$3:$A$5000),1))),\"Preço não registrado\")","v":""},"",null,null,"",""]
[null,null,"",null,"","",null,{"$f":"IFERROR(IF(D1129=\"\",\"\",INDEX(Entradas!$H$3:$H$5000,MATCH(A1129,IF(Entradas!$B$3:$B$5000=D1129,Entradas!$A$3:$A$5000),1))),\"Preço não registrado\")","v":""},"",null,null,"",""]
[null,null,"",null,"","",null,{"$f":"IFERROR(IF(D1130=\"\",\"\",INDEX(Entradas!$H$3:$H$5000,MATCH(A1130,IF(Entradas!$B$3:$B$5000=D1130,Entradas!$A$3:$A$5000),1))),\"Preço não registrado\")","v":""},"",null,null,"",""]
[null,null,"",null,"","",null,{"$f":"IFERROR(IF(D1131=\"\",\"\",INDEX(Entradas!$H$3:$H$5000,MATCH(A1131,IF(Entradas!$B$3:$B$5000=D1131,Entradas!$A$3:$A$5000),1))),\"Preço não registrado\")","v":""},"",null,null,"",""]
[null,null,"",null,"","",null,{"$f":"IFERROR(IF(D1132=\"\",\"\",INDEX(Entradas!$H$3:$H$5000,MATCH(A1132,IF(Entradas!$B$3:$B$5000=D1132,Entradas!$A$3:$A$5000),1))),\"Preço não registrado\")","v":""},"",null,null,"",""]
[null,null,"",null,"","",null,{"$f":"IFERROR(IF(D1133=\"\",\"\",INDEX(Entradas!$H$3:$H$5000,MATCH(A1133,IF(Entradas!$B$3:$B$5000=D1133,Entradas!$A$3:$A$5000),1))),\"Preço não registrado\")","v":""},"",null,null,"",""]
[null,null,"",null,"","",null,{"$f":"IFERROR(IF(D1134=\"\",\"\",INDEX(Entradas!$H$3:$H$5000,MATCH(A1134,IF(Entradas!$B$3:$B$5000=D1134,Entradas!$A$3:$A$5000),1))),\"Preço não registrado\")","v":""},"",null,null,"",""]
[null,null,"",null,"","",null,{"$f":"IFERROR(IF(D1135=\"\",\"\",INDEX(Entradas!$H$3:$H$5000,MATCH(A1135,IF(Entradas!$B$3:$B$5000=D1135,Entradas!$A$3:$A$5000),1))),\"Preço não registrado\")","v":""},"",null,null,"",""]
[null,null,"",null,"","",null,{"$f":"IFERROR(IF(D1136=\"\",\"\",INDEX(Entradas!$H$3:$H$5000,MATCH(A1136,IF(Entradas!$B$3:$B$5000=D1136,Entradas!$A$3:$A$5000),1))),\"Preço não registrado\")","v":""},"",null,null,"",""]
[null,null,"",null,"","",null,{"$f":"IFERROR(IF(D1137=\"\",\"\",INDEX(Entradas!$H$3:$H$5000,MATCH(A1137,IF(Entradas!$B$3:$B$5000=D1137,Entradas!$A$3:$A$5000),1))),\"Preço não registrado\")","v":""},"",null,null,"",""]
[null,null,"",null,"","",null,{"$f":"IFERROR(IF(D1138=\"\",\"\",INDEX(Entradas!$H$3:$H$5000,MATCH(A1138,IF(Entradas!$B$3:$B$5000=D1138,Entradas!$A$3:$A$5000),1))),\"Preço não registrado\")","v":""},"",null,null,"",""]
[null,null,"",null,"","",null,{"$f":"IFERROR(IF(D1139=\"\",\"\",INDEX(Entradas!$H$3:$H$5000,MATCH(A1139,IF(Entradas!$B$3:$B$5000=D1139,Entradas!$A$3:$A$5000),1))),\"Preço não registrado\")","v":""},"",null,null,"",""]
[null,null,"",null,"","",null,{"$f":"IFERROR(IF(D1140=\"\",\"\",INDEX(Entradas!$H$3:$H$5000,MATCH(A1140,IF(Entradas!$B$3:$B$5000=D1140,Entradas!$A$3:$A$5000),1))),\"Preço não registrado\")","v":""},"",null,null,"",""]
[null,null,"",null,"","",null,{"$f":"IFERROR(IF(D1141=\"\",\"\",INDEX(Entradas!$H$3:$H$5000,MATCH(A1141,IF(Entradas!$B$3:$B$5000=D1141,Entradas!$A$3:$A$5000),1))),\"Preço não registrado\")","v":""},"",null,null,"",""]
[null,null,"",null,"","",null,{"$f":"IFERROR(IF(D1142=\"\",\"\",INDEX(Entradas!$H$3:$H$5000,MATCH(A1142,IF(Entradas!$B$3:$B$5000=D1142,Entradas!$A$3:$A$5000),1))),\"Preço não registrado\")","v":""},"",null,null,"",""]
[null,null,"",null,"","",null,{"$f":"IFERROR(IF(D1143=\"\",\"\",INDEX(Entradas!$H$3:$H$5000,MATCH(A1143,IF(Entradas!$B$3:$B$5000=D1143,Entradas!$A$3:$A$5000),1))),\"Preço não registrado\")","v":""},"",null,null,"",""]
[null,null,"",null,"","",null,{"$f":"IFERROR(IF(D1144=\"\",\"\",INDEX(Entradas!$H$3:$H$5000,MATCH(A1144,IF(Entradas!$B$3:$B$5000=D1144,Entradas!$A$3:$A$5000),1))),\"Preço não registrado\")","v":""},"",null,null,"",""]
[null,null,"",null,"","",null,{"$f":"IFERROR(IF(D1145=\"\",\"\",INDEX(Entradas!$H$3:$H$5000,MATCH(A1145,IF(Entradas!$B$3:$B$5000=D1145,Entradas!$A$3:$A$5000),1))),\"Preço não registrado\")","v":""},"",null,null,"",""]
[null,null,"",null,"","",null,{"$f":"IFERROR(IF(D1146=\"\",\"\",INDEX(Entradas!$H$3:$H$5000,MATCH(A1146,IF(Entradas!$B$3:$B$5000=D1146,Entradas!$A$3:$A$5000),1))),\"Preço não registrado\")","v":""},"",null,null,"",""]
[null,null,"",null,"","",null,{"$f":"IFERROR(IF(D1147=\"\",\"\",INDEX(Entradas!$H$3:$H$5000,MATCH(A1147,IF(Entradas!$B$3:$B$5000=D1147,Entradas!$A$3:$A$5000),1))),\"Preço não registrado\")","v":""},"",null,null,"",""]
[null,null,"",null,"","",null,{"$f":"IFERROR(IF(D1148=\"\",\"\",INDEX(Entradas!$H$3:$H$5000,MATCH(A1148,IF(Entradas!$B$3:$B$5000=D1148,Entradas!$A$3:$A$5000),1))),\"Preço não registrado\")","v":""},"",null,null,"",""]
[null,null,"",null,"","",null,{"$f":"IFERROR(IF(D1149=\"\",\"\",INDEX(Entradas!$H$3:$H$5000,MATCH(A1149,IF(Entradas!$B$3:$B$5000=D1149,Entradas!$A$3:$A$5000),1))),\"Preço não registrado\")","v":""},"",null,null,"",""]
[null,null,"",null,"","",null,{"$f":"IFERROR(IF(D1150=\"\",\"\",INDEX(Entradas!$H$3:$H$5000,MATCH(A1150,IF(Entradas!$B$3:$B$5000=D1150,Entradas!$A$3:$A$5000),1))),\"Preço não registrado\")","v":""},"",null,null,"",""]
[null,null,"",null,"","",null,{"$f":"IFERROR(IF(D1151=\"\",\"\",INDEX(Entradas!$H$3:$H$5000,MATCH(A1151,IF(Entradas!$B$3:$B$5000=D1151,Entradas!$A$3:$A$5000),1))),\"Preço não registrado\")","v":""},"",null,null,"",""]
[null,null,"",null,"","",null,{"$f":"IFERROR(IF(D1152=\"\",\"\",INDEX(Entradas!$H$3:$H$5000,MATCH(A1152,IF(Entradas!$B$3:$B$5000=D1152,Entradas!$A$3:$A$5000),1))),\"Preço não registrado\")","v":""},"",null,null,"",""]
[null,null,"",null,"","",null,{"$f":"IFERROR(IF(D1153=\"\",\"\",INDEX(Entradas!$H$3:$H$5000,MATCH(A1153,IF(Entradas!$B$3:$B$5000=D1153,Entradas!$A$3:$A$5000),1))),\"Preço não registrado\")","v":""},"",null,null,"",""]
[null,null,"",null,"","",null,{"$f":"IFERROR(IF(D1154=\"\",\"\",INDEX(Entradas!$H$3:$H$5000,MATCH(A1154,IF(Entradas!$B$3:$B$5000=D1154,Entradas!$A$3:$A$5000),1))),\"Preço não registrado\")","v":""},"",null,null,"",""]
[null,null,{"$f":"IFERROR(IF(B1155=\"\",\"\",VLOOKUP(B1155,Clientes,2,FALSE)),\"\")","v":""},null,{"$f":"IF(D1155=\"\",\"\",VLOOKUP(D1155,Itens,2,FALSE))","v":""},{"$f":"IF(D1155=\"\",\"\",VLOOKUP(D1155,Itens,3,FALSE))","v":""},null,{"$f":"IFERROR(IF(D1155=\"\",\"\",INDEX(Entradas!$H$3:$H$5000,MATCH(A1155,IF(Entradas!$B$3:$B$5000=D1155,Entradas!$A$3:$A$5000),1))),\"Preço não registrado\")","v":""},"",null,null,"",""]
[null,null,"",null,"","",null,{"$f":"IFERROR(IF(D1156=\"\",\"\",INDEX(Entradas!$H$3:$H$5000,MATCH(A1156,IF(Entradas!$B$3:$B$5000=D1156,Entradas!$A$3:$A$5000),1))),\"Preço não registrado\")","v":""},{"$f":"IFERROR(G1156*H1156,\"\")","v":""},null,null,{"$f":"IF(K1156=\"\",\"\",HYPERLINK($P$13&K1156,\"Rastreie aqui\"))","v":""},{"$f":"IF(A1156=\"\",\"\",TEXT(A1156,\"mmmm\"))","v":""}]
[null,null,"",null,"","",null,{"$f":"IFERROR(IF(D1157=\"\",\"\",INDEX(Entradas!$H$3:$H$5000,MATCH(A1157,IF(Entradas!$B$3:$B$5000=D1157,Entradas!$A$3:$A$5000),1))),\"Preço não registrado\")","v":""},"",null,null,"",""]
[null,null,"",null,"","",null,{"$f":"IFERROR(IF(D1158=\"\",\"\",INDEX(Entradas!$H$3:$H$5000,MATCH(A1158,IF(Entradas!$B$3:$B$5000=D1158,Entradas!$A$3:$A$5000),1))),\"Preço não registrado\")","v":""},"",null,null,"",""]
[null,null,"",null,"","",null,{"$f":"IFERROR(IF(D1159=\"\",\"\",INDEX(Entradas!$H$3:$H$5000,MATCH(A1159,IF(Entradas!$B$3:$B$5000=D1159,Entradas!$A$3:$A$5000),1))),\"Preço não registrado\")","v":""},"",null,null,"",""]
[null,null,"",null,"","",null,{"$f":"IFERROR(IF(D1160=\"\",\"\",INDEX(Entradas!$H$3:$H$5000,MATCH(A1160,IF(Entradas!$B$3:$B$5000=D1160,Entradas!$A$3:$A$5000),1))),\"Preço não registrado\")","v":""},"",null,null,"",""]
[null,null,"",null,"","",null,{"$f":"IFERROR(IF(D1161=\"\",\"\",INDEX(Entradas!$H$3:$H$5000,MATCH(A1161,IF(Entradas!$B$3:$B$5000=D1161,Entradas!$A$3:$A$5000),1))),\"Preço não registrado\")","v":""},"",null,null,"",""]
[null,null,"",null,"","",null,{"$f":"IFERROR(IF(D1162=\"\",\"\",INDEX(Entradas!$H$3:$H$5000,MATCH(A1162,IF(Entradas!$B$3:$B$5000=D1162,Entradas!$A$3:$A$5000),1))),\"Preço não registrado\")","v":""},"",null,null,"",""]
[null,null,"",null,"","",null,{"$f":"IFERROR(IF(D1163=\"\",\"\",INDEX(Entradas!$H$3:$H$5000,MATCH(A1163,IF(Entradas!$B$3:$B$5000=D1163,Entradas!$A$3:$A$5000),1))),\"Preço não registrado\")","v":""},"",null,null,"",""]
[null,null,"",null,"","",null,{"$f":"IFERROR(IF(D1164=\"\",\"\",INDEX(Entradas!$H$3:$H$5000,MATCH(A1164,IF(Entradas!$B$3:$B$5000=D1164,Entradas!$A$3:$A$5000),1))),\"Preço não registrado\")","v":""},"",null,null,"",""]
[null,null,"",null,"","",null,{"$f":"IFERROR(IF(D1165=\"\",\"\",INDEX(Entradas!$H$3:$H$5000,MATCH(A1165,IF(Entradas!$B$3:$B$5000=D1165,Entradas!$A$3:$A$5000),1))),\"Preço não registrado\")","v":""},"",null,null,"",""]
[null,null,"",null,"","",null,{"$f":"IFERROR(IF(D1166=\"\",\"\",INDEX(Entradas!$H$3:$H$5000,MATCH(A1166,IF(Entradas!$B$3:$B$5000=D1166,Entradas!$A$3:$A$5000),1))),\"Preço não registrado\")","v":""},"",null,null,"",""]
[null,null,"",null,"","",null,{"$f":"IFERROR(IF(D1167=\"\",\"\",INDEX(Entradas!$H$3:$H$5000,MATCH(A1167,IF(Entradas!$B$3:$B$5000=D1167,Entradas!$A$3:$A$5000),1))),\"Preço não registrado\")","v":""},"",null,null,"",""]
[null,null,"",null,"","",null,{"$f":"IFERROR(IF(D1168=\"\",\"\",INDEX(Entradas!$H$3:$H$5000,MATCH(A1168,IF(Entradas!$B$3:$B$5000=D1168,Entradas!$A$3:$A$5000),1))),\"Preço não registrado\")","v":""},"",null,null,"",""]
[null,null,"",null,"","",null,{"$f":"IFERROR(IF(D1169=\"\",\"\",INDEX(Entradas!$H$3:$H$5000,MATCH(A1169,IF(Entradas!$B$3:$B$5000=D1169,Entradas!$A$3:$A$5000),1))),\"Preço não registrado\")","v":""},"",null,null,"",""]
[null,null,"",null,"","",null,{"$f":"IFERROR(IF(D1170=\"\",\"\",INDEX(Entradas!$H$3:$H$5000,MATCH(A1170,IF(Entradas!$B$3:$B$5000=D1170,Entradas!$A$3:$A$5000),1))),\"Preço não registrado\")","v":""},"",null,null,"",""]
[null,null,"",null,"","",null,{"$f":"IFERROR(IF(D1171=\"\",\"\",INDEX(Entradas!$H$3:$H$5000,MATCH(A1171,IF(Entradas!$B$3:$B$5000=D1171,Entradas!$A$3:$A$5000),1))),\"Preço não registrado\")","v":""},"",null,null,"",""]
[null,null,"",null,"","",null,{"$f":"IFERROR(IF(D1172=\"\",\"\",INDEX(Entradas!$H$3:$H$5000,MATCH(A1172,IF(Entradas!$B$3:$B$5000=D1172,Entradas!$A$3:$A$5000),1))),\"Preço não registrado\")","v":""},"",null,null,"",""]
[null,null,"",null,"","",null,{"$f":"IFERROR(IF(D1173=\"\",\"\",INDEX(Entradas!$H$3:$H$5000,MATCH(A1173,IF(Entradas!$B$3:$B$5000=D1173,Entradas!$A$3:$A$5000),1))),\"Preço não registrado\")","v":""},"",null,null,"",""]
[null,null,"",null,"","",null,{"$f":"IFERROR(IF(D1174=\"\",\"\",INDEX(Entradas!$H$3:$H$5000,MATCH(A1174,IF(Entradas!$B$3:$B$5000=D1174,Entradas!$A$3:$A$5000),1))),\"Preço não registrado\")","v":""},"",null,null,"",""]
[null,null,"",null,"","",null,{"$f":"IFERROR(IF(D1175=\"\",\"\",INDEX(Entradas!$H$3:$H$5000,MATCH(A1175,IF(Entradas!$B$3:$B$5000=D1175,Entradas!$A$3:$A$5000),1))),\"Preço não registrado\")","v":""},"",null,null,"",""]
[null,null,"",null,"","",null,{"$f":"IFERROR(IF(D1176=\"\",\"\",INDEX(Entradas!$H$3:$H$5000,MATCH(A1176,IF(Entradas!$B$3:$B$5000=D1176,Entradas!$A$3:$A$5000),1))),\"Preço não registrado\")","v":""},"",null,null,"",""]
[null,null,"",null,"","",null,{"$f":"IFERROR(IF(D1177=\"\",\"\",INDEX(Entradas!$H$3:$H$5000,MATCH(A1177,IF(Entradas!$B$3:$B$5000=D1177,Entradas!$A$3:$A$5000),1))),\"Preço não registrado\")","v":""},"",null,null,"",""]
[null,null,"",null,"","",null,{"$f":"IFERROR(IF(D1178=\"\",\"\",INDEX(Entradas!$H$3:$H$5000,MATCH(A1178,IF(Entradas!$B$3:$B$5000=D1178,Entradas!$A$3:$A$5000),1))),\"Preço não registrado\")","v":""},"",null,null,"",""]
[null,null,"",null,"","",null,{"$f":"IFERROR(IF(D1179=\"\",\"\",INDEX(Entradas!$H$3:$H$5000,MATCH(A1179,IF(Entradas!$B$3:$B$5000=D1179,Entradas!$A$3:$A$5000),1))),\"Preço não registrado\")","v":""},"",null,null,"",""]
[null,null,"",null,"","",null,{"$f":"IFERROR(IF(D1180=\"\",\"\",INDEX(Entradas!$H$3:$H$5000,MATCH(A1180,IF(Entradas!$B$3:$B$5000=D1180,Entradas!$A$3:$A$5000),1))),\"Preço não registrado\")","v":""},"",null,null,"",""]
[null,null,"",null,"","",null,{"$f":"IFERROR(IF(D1181=\"\",\"\",INDEX(Entradas!$H$3:$H$5000,MATCH(A1181,IF(Entradas!$B$3:$B$5000=D1181,Entradas!$A$3:$A$5000),1))),\"Preço não registrado\")","v":""},"",null,null,"",""]
[null,null,"",null,"","",null,{"$f":"IFERROR(IF(D1182=\"\",\"\",INDEX(Entradas!$H$3:$H$5000,MATCH(A1182,IF(Entradas!$B$3:$B$5000=D1182,Entradas!$A$3:$A$5000),1))),\"Preço não registrado\")","v":""},"",null,null,"",""]
[null,null,"",null,"","",null,{"$f":"IFERROR(IF(D1183=\"\",\"\",INDEX(Entradas!$H$3:$H$5000,MATCH(A1183,IF(Entradas!$B$3:$B$5000=D1183,Entradas!$A$3:$A$5000),1))),\"Preço não registrado\")","v":""},"",null,null,"",""]
[null,null,"",null,"","",null,{"$f":"IFERROR(IF(D1184=\"\",\"\",INDEX(Entradas!$H$3:$H$5000,MATCH(A1184,IF(Entradas!$B$3:$B$5000=D1184,Entradas!$A$3:$A$5000),1))),\"Preço não registrado\")","v":""},"",null,null,"",""]
[null,null,"",null,"","",null,{"$f":"IFERROR(IF(D1185=\"\",\"\",INDEX(Entradas!$H$3:$H$5000,MATCH(A1185,IF(Entradas!$B$3:$B$5000=D1185,Entradas!$A$3:$A$5000),1))),\"Preço não registrado\")","v":""},"",null,null,"",""]
[null,null,"",null,"","",null,{"$f":"IFERROR(IF(D1186=\"\",\"\",INDEX(Entradas!$H$3:$H$5000,MATCH(A1186,IF(Entradas!$B$3:$B$5000=D1186,Entradas!$A$3:$A$5000),1))),\"Preço não registrado\")","v":""},"",null,null,"",""]
[null,null,"",null,"","",null,{"$f":"IFERROR(IF(D1187=\"\",\"\",INDEX(Entradas!$H$3:$H$5000,MATCH(A1187,IF(Entradas!$B$3:$B$5000=D1187,Entradas!$A$3:$A$5000),1))),\"Preço não registrado\")","v":""},"",null,null,"",""]
[null,null,"",null,"","",null,{"$f":"IFERROR(IF(D1188=\"\",\"\",INDEX(Entradas!$H$3:$H$5000,MATCH(A1188,IF(Entradas!$B$3:$B$5000=D1188,Entradas!$A$3:$A$5000),1))),\"Preço não registrado\")","v":""},"",null,null,"",""]
[null,null,"",null,"","",null,{"$f":"IFERROR(IF(D1189=\"\",\"\",INDEX(Entradas!$H$3:$H$5000,MATCH(A1189,IF(Entradas!$B$3:$B$5000=D1189,Entradas!$A$3:$A$5000),1))),\"Preço não registrado\")","v":""},"",null,null,"",""]
[null,null,"",null,"","",null,{"$f":"IFERROR(IF(D1190=\"\",\"\",INDEX(Entradas!$H$3:$H$5000,MATCH(A1190,IF(Entradas!$B$3:$B$5000=D1190,Entradas!$A$3:$A$5000),1))),\"Preço não registrado\")","v":""},"",null,null,"",""]
[null,null,"",null,"","",null,{"$f":"IFERROR(IF(D1191=\"\",\"\",INDEX(Entradas!$H$3:$H$5000,MATCH(A1191,IF(Entradas!$B$3:$B$5000=D1191,Entradas!$A$3:$A$5000),1))),\"Preço não registrado\")","v":""},"",null,null,"",""]
[null,null,"",null,"","",null,{"$f":"IFERROR(IF(D1192=\"\",\"\",INDEX(Entradas!$H$3:$H$5000,MATCH(A1192,IF(Entradas!$B$3:$B$5000=D1192,Entradas!$A$3:$A$5000),1))),\"Preço não registrado\")","v":""},"",null,null,"",""]
[null,null,"",null,"","",null,{"$f":"IFERROR(IF(D1193=\"\",\"\",INDEX(Entradas!$H$3:$H$5000,MATCH(A1193,IF(Entradas!$B$3:$B$5000=D1193,Entradas!$A$3:$A$5000),1))),\"Preço não registrado\")","v":""},"",null,null,"",""]
[null,null,"",null,"","",null,{"$f":"IFERROR(IF(D1194=\"\",\"\",INDEX(Entradas!$H$3:$H$5000,MATCH(A1194,IF(Entradas!$B$3:$B$5000=D1194,Entradas!$A$3:$A$5000),1))),\"Preço não registrado\")","v":""},"",null,null,"",""]
[null,null,"",null,"","",null,{"$f":"IFERROR(IF(D1195=\"\",\"\",INDEX(Entradas!$H$3:$H$5000,MATCH(A1195,IF(Entradas!$B$3:$B$5000=D1195,Entradas!$A$3:$A$5000),1))),\"Preço não registrado\")","v":""},"",null,null,"",""]
[null,null,"",null,"","",null,{"$f":"IFERROR(IF(D1196=\"\",\"\",INDEX(Entradas!$H$3:$H$5000,MATCH(A1196,IF(Entradas!$B$3:$B$5000=D1196,Entradas!$A$3:$A$5000),1))),\"Preço não registrado\")","v":""},"",null,null,"",""]
[null,null,"",null,"","",null,{"$f":"IFERROR(IF(D1197=\"\",\"\",INDEX(Entradas!$H$3:$H$5000,MATCH(A1197,IF(Entradas!$B$3:$B$5000=D1197,Entradas!$A$3:$A$5000),1))),\"Preço não registrado\")","v":""},"",null,null,"",""]
[null,null,"",null,"","",null,{"$f":"IFERROR(IF(D1198=\"\",\"\",INDEX(Entradas!$H$3:$H$5000,MATCH(A1198,IF(Entradas!$B$3:$B$5000=D1198,Entradas!$A$3:$A$5000),1))),\"Preço não registrado\")","v":""},"",null,null,"",""]
[null,null,"",null,"","",null,{"$f":"IFERROR(IF(D1199=\"\",\"\",INDEX(Entradas!$H$3:$H$5000,MATCH(A1199,IF(Entradas!$B$3:$B$5000=D1199,Entradas!$A$3:$A$5000),1))),\"Preço não registrado\")","v":""},"",null,null,"",""]
[null,null,"",null,"","",null,{"$f":"IFERROR(IF(D1200=\"\",\"\",INDEX(Entradas!$H$3:$H$5000,MATCH(A1200,IF(Entradas!$B$3:$B$5000=D1200,Entradas!$A$3:$A$5000),1))),\"Preço não registrado\")","v":""},"",null,null,"",""]
[null,null,"",null,"","",null,{"$f":"IFERROR(IF(D1201=\"\",\"\",INDEX(Entradas!$H$3:$H$5000,MATCH(A1201,IF(Entradas!$B$3:$B$5000=D1201,Entradas!$A$3:$A$5000),1))),\"Preço não registrado\")","v":""},"",null,null,"",""]
[null,null,"",null,"","",null,{"$f":"IFERROR(IF(D1202=\"\",\"\",INDEX(Entradas!$H$3:$H$5000,MATCH(A1202,IF(Entradas!$B$3:$B$5000=D1202,Entradas!$A$3:$A$5000),1))),\"Preço não registrado\")","v":""},"",null,null,"",""]
[null,null,"",null,"","",null,{"$f":"IFERROR(IF(D1203=\"\",\"\",INDEX(Entradas!$H$3:$H$5000,MATCH(A1203,IF(Entradas!$B$3:$B$5000=D1203,Entradas!$A$3:$A$5000),1))),\"Preço não registrado\")","v":""},"",null,null,"",""]
[null,null,"",null,"","",null,{"$f":"IFERROR(IF(D1204=\"\",\"\",INDEX(Entradas!$H$3:$H$5000,MATCH(A1204,IF(Entradas!$B$3:$B$5000=D1204,Entradas!$A$3:$A$5000),1))),\"Preço não registrado\")","v":""},"",null,null,"",""]
[null,null,"",null,"","",null,{"$f":"IFERROR(IF(D1205=\"\",\"\",INDEX(Entradas!$H$3:$H$5000,MATCH(A1205,IF(Entradas!$B$3:$B$5000=D1205,Entradas!$A$3:$A$5000),1))),\"Preço não registrado\")","v":""},"",null,null,"",""]
[null,null,"",null,"","",null,{"$f":"IFERROR(IF(D1206=\"\",\"\",INDEX(Entradas!$H$3:$H$5000,MATCH(A1206,IF(Entradas!$B$3:$B$5000=D1206,Entradas!$A$3:$A$5000),1))),\"Preço não registrado\")","v":""},"",null,null,"",""]
[null,null,"",null,"","",null,{"$f":"IFERROR(IF(D1207=\"\",\"\",INDEX(Entradas!$H$3:$H$5000,MATCH(A1207,IF(Entradas!$B$3:$B$5000=D1207,Entradas!$A$3:$A$5000),1))),\"Preço não registrado\")","v":""},"",null,null,"",""]
[null,null,"",null,"","",null,{"$f":"IFERROR(IF(D1208=\"\",\"\",INDEX(Entradas!$H$3:$H$5000,MATCH(A1208,IF(Entradas!$B$3:$B$5000=D1208,Entradas!$A$3:$A$5000),1))),\"Preço não registrado\")","v":""},"",null,null,"",""]
[null,null,"",null,"","",null,{"$f":"IFERROR(IF(D1209=\"\",\"\",INDEX(Entradas!$H$3:$H$5000,MATCH(A1209,IF(Entradas!$B$3:$B$5000=D1209,Entradas!$A$3:$A$5000),1))),\"Preço não registrado\")","v":""},"",null,null,"",""]
[null,null,"",null,"","",null,{"$f":"IFERROR(IF(D1210=\"\",\"\",INDEX(Entradas!$H$3:$H$5000,MATCH(A1210,IF(Entradas!$B$3:$B$5000=D1210,Entradas!$A$3:$A$5000),1))),\"Preço não registrado\")","v":""},"",null,null,"",""]
[null,null,"",null,"","",null,{"$f":"IFERROR(IF(D1211=\"\",\"\",INDEX(Entradas!$H$3:$H$5000,MATCH(A1211,IF(Entradas!$B$3:$B$5000=D1211,Entradas!$A$3:$A$5000),1))),\"Preço não registrado\")","v":""},"",null,null,"",""]
[null,null,"",null,"","",null,{"$f":"IFERROR(IF(D1212=\"\",\"\",INDEX(Entradas!$H$3:$H$5000,MATCH(A1212,IF(Entradas!$B$3:$B$5000=D1212,Entradas!$A$3:$A$5000),1))),\"Preço não registrado\")","v":""},"",null,null,"",""]
[null,null,"",null,"","",null,{"$f":"IFERROR(IF(D1213=\"\",\"\",INDEX(Entradas!$H$3:$H$5000,MATCH(A1213,IF(Entradas!$B$3:$B$5000=D1213,Entradas!$A$3:$A$5000),1))),\"Preço não registrado\")","v":""},"",null,null,"",""]
[null,null,"",null,"","",null,{"$f":"IFERROR(IF(D1214=\"\",\"\",INDEX(Entradas!$H$3:$H$5000,MATCH(A1214,IF(Entradas!$B$3:$B$5000=D1214,Entradas!$A$3:$A$5000),1))),\"Preço não registrado\")","v":""},"",null,null,"",""]
[null,null,"",null,"","",null,{"$f":"IFERROR(IF(D1215=\"\",\"\",INDEX(Entradas!$H$3:$H$5000,MATCH(A1215,IF(Entradas!$B$3:$B$5000=D1215,Entradas!$A$3:$A$5000),1))),\"Preço não registrado\")","v":""},"",null,null,"",""]
[null,null,"",null,"","",null,{"$f":"IFERROR(IF(D1216=\"\",\"\",INDEX(Entradas!$H$3:$H$5000,MATCH(A1216,IF(Entradas!$B$3:$B$5000=D1216,Entradas!$A$3:$A$5000),1))),\"Preço não registrado\")","v":""},"",null,null,"",""]
[null,null,"",null,"","",null,{"$f":"IFERROR(IF(D1217=\"\",\"\",INDEX(Entradas!$H$3:$H$5000,MATCH(A1217,IF(Entradas!$B$3:$B$5000=D1217,Entradas!$A$3:$A$5000),1))),\"Preço não registrado\")","v":""},"",null,null,"",""]
[null,null,"",null,"","",null,{"$f":"IFERROR(IF(D1218=\"\",\"\",INDEX(Entradas!$H$3:$H$5000,MATCH(A1218,IF(Entradas!$B$3:$B$5000=D1218,Entradas!$A$3:$A$5000),1))),\"Preço não registrado\")","v":""},"",null,null,"",""]
[null,null,{"$f":"IFERROR(IF(B1219=\"\",\"\",VLOOKUP(B1219,Clientes,2,FALSE)),\"\")","v":""},null,{"$f":"IF(D1219=\"\",\"\",VLOOKUP(D1219,Itens,2,FALSE))","v":""},{"$f":"IF(D1219=\"\",\"\",VLOOKUP(D1219,Itens,3,FALSE))","v":""},null,{"$f":"IFERROR(IF(D1219=\"\",\"\",INDEX(Entradas!$H$3:$H$5000,MATCH(A1219,IF(Entradas!$B$3:$B$5000=D1219,Entradas!$A$3:$A$5000),1))),\"Preço não registrado\")","v":""},"",null,null,"",""]
[null,null,"",null,"","",null,{"$f":"IFERROR(IF(D1220=\"\",\"\",INDEX(Entradas!$H$3:$H$5000,MATCH(A1220,IF(Entradas!$B$3:$B$5000=D1220,Entradas!$A$3:$A$5000),1))),\"Preço não registrado\")","v":""},{"$f":"IFERROR(G1220*H1220,\"\")","v":""},null,null,{"$f":"IF(K1220=\"\",\"\",HYPERLINK($P$13&K1220,\"Rastreie aqui\"))","v":""},{"$f":"IF(A1220=\"\",\"\",TEXT(A1220,\"mmmm\"))","v":""}]
[null,null,"",null,"","",null,{"$f":"IFERROR(IF(D1221=\"\",\"\",INDEX(Entradas!$H$3:$H$5000,MATCH(A1221,IF(Entradas!$B$3:$B$5000=D1221,Entradas!$A$3:$A$5000),1))),\"Preço não registrado\")","v":""},"",null,null,"",""]
[null,null,"",null,"","",null,{"$f":"IFERROR(IF(D1222=\"\",\"\",INDEX(Entradas!$H$3:$H$5000,MATCH(A1222,IF(Entradas!$B$3:$B$5000=D1222,Entradas!$A$3:$A$5000),1))),\"Preço não registrado\")","v":""},"",null,null,"",""]
[null,null,"",null,"","",null,{"$f":"IFERROR(IF(D1223=\"\",\"\",INDEX(Entradas!$H$3:$H$5000,MATCH(A1223,IF(Entradas!$B$3:$B$5000=D1223,Entradas!$A$3:$A$5000),1))),\"Preço não registrado\")","v":""},"",null,null,"",""]
[null,null,"",null,"","",null,{"$f":"IFERROR(IF(D1224=\"\",\"\",INDEX(Entradas!$H$3:$H$5000,MATCH(A1224,IF(Entradas!$B$3:$B$5000=D1224,Entradas!$A$3:$A$5000),1))),\"Preço não registrado\")","v":""},"",null,null,"",""]
[null,null,"",null,"","",null,{"$f":"IFERROR(IF(D1225=\"\",\"\",INDEX(Entradas!$H$3:$H$5000,MATCH(A1225,IF(Entradas!$B$3:$B$5000=D1225,Entradas!$A$3:$A$5000),1))),\"Preço não registrado\")","v":""},"",null,null,"",""]
[null,null,"",null,"","",null,{"$f":"IFERROR(IF(D1226=\"\",\"\",INDEX(Entradas!$H$3:$H$5000,MATCH(A1226,IF(Entradas!$B$3:$B$5000=D1226,Entradas!$A$3:$A$5000),1))),\"Preço não registrado\")","v":""},"",null,null,"",""]
[null,null,"",null,"","",null,{"$f":"IFERROR(IF(D1227=\"\",\"\",INDEX(Entradas!$H$3:$H$5000,MATCH(A1227,IF(Entradas!$B$3:$B$5000=D1227,Entradas!$A$3:$A$5000),1))),\"Preço não registrado\")","v":""},"",null,null,"",""]
[null,null,"",null,"","",null,{"$f":"IFERROR(IF(D1228=\"\",\"\",INDEX(Entradas!$H$3:$H$5000,MATCH(A1228,IF(Entradas!$B$3:$B$5000=D1228,Entradas!$A$3:$A$5000),1))),\"Preço não registrado\")","v":""},"",null,null,"",""]
[null,null,"",null,"","",null,{"$f":"IFERROR(IF(D1229=\"\",\"\",INDEX(Entradas!$H$3:$H$5000,MATCH(A1229,IF(Entradas!$B$3:$B$5000=D1229,Entradas!$A$3:$A$5000),1))),\"Preço não registrado\")","v":""},"",null,null,"",""]
[null,null,"",null,"","",null,{"$f":"IFERROR(IF(D1230=\"\",\"\",INDEX(Entradas!$H$3:$H$5000,MATCH(A1230,IF(Entradas!$B$3:$B$5000=D1230,Entradas!$A$3:$A$5000),1))),\"Preço não registrado\")","v":""},"",null,null,"",""]
[null,null,"",null,"","",null,{"$f":"IFERROR(IF(D1231=\"\",\"\",INDEX(Entradas!$H$3:$H$5000,MATCH(A1231,IF(Entradas!$B$3:$B$5000=D1231,Entradas!$A$3:$A$5000),1))),\"Preço não registrado\")","v":""},"",null,null,"",""]
[null,null,"",null,"","",null,{"$f":"IFERROR(IF(D1232=\"\",\"\",INDEX(Entradas!$H$3:$H$5000,MATCH(A1232,IF(Entradas!$B$3:$B$5000=D1232,Entradas!$A$3:$A$5000),1))),\"Preço não registrado\")","v":""},"",null,null,"",""]
[null,null,"",null,"","",null,{"$f":"IFERROR(IF(D1233=\"\",\"\",INDEX(Entradas!$H$3:$H$5000,MATCH(A1233,IF(Entradas!$B$3:$B$5000=D1233,Entradas!$A$3:$A$5000),1))),\"Preço não registrado\")","v":""},"",null,null,"",""]
[null,null,"",null,"","",null,{"$f":"IFERROR(IF(D1234=\"\",\"\",INDEX(Entradas!$H$3:$H$5000,MATCH(A1234,IF(Entradas!$B$3:$B$5000=D1234,Entradas!$A$3:$A$5000),1))),\"Preço não registrado\")","v":""},"",null,null,"",""]
[null,null,"",null,"","",null,{"$f":"IFERROR(IF(D1235=\"\",\"\",INDEX(Entradas!$H$3:$H$5000,MATCH(A1235,IF(Entradas!$B$3:$B$5000=D1235,Entradas!$A$3:$A$5000),1))),\"Preço não registrado\")","v":""},"",null,null,"",""]
[null,null,"",null,"","",null,{"$f":"IFERROR(IF(D1236=\"\",\"\",INDEX(Entradas!$H$3:$H$5000,MATCH(A1236,IF(Entradas!$B$3:$B$5000=D1236,Entradas!$A$3:$A$5000),1))),\"Preço não registrado\")","v":""},"",null,null,"",""]
[null,null,"",null,"","",null,{"$f":"IFERROR(IF(D1237=\"\",\"\",INDEX(Entradas!$H$3:$H$5000,MATCH(A1237,IF(Entradas!$B$3:$B$5000=D1237,Entradas!$A$3:$A$5000),1))),\"Preço não registrado\")","v":""},"",null,null,"",""]
[null,null,"",null,"","",null,{"$f":"IFERROR(IF(D1238=\"\",\"\",INDEX(Entradas!$H$3:$H$5000,MATCH(A1238,IF(Entradas!$B$3:$B$5000=D1238,Entradas!$A$3:$A$5000),1))),\"Preço não registrado\")","v":""},"",null,null,"",""]
[null,null,"",null,"","",null,{"$f":"IFERROR(IF(D1239=\"\",\"\",INDEX(Entradas!$H$3:$H$5000,MATCH(A1239,IF(Entradas!$B$3:$B$5000=D1239,Entradas!$A$3:$A$5000),1))),\"Preço não registrado\")","v":""},"",null,null,"",""]
[null,null,"",null,"","",null,{"$f":"IFERROR(IF(D1240=\"\",\"\",INDEX(Entradas!$H$3:$H$5000,MATCH(A1240,IF(Entradas!$B$3:$B$5000=D1240,Entradas!$A$3:$A$5000),1))),\"Preço não registrado\")","v":""},"",null,null,"",""]
[null,null,"",null,"","",null,{"$f":"IFERROR(IF(D1241=\"\",\"\",INDEX(Entradas!$H$3:$H$5000,MATCH(A1241,IF(Entradas!$B$3:$B$5000=D1241,Entradas!$A$3:$A$5000),1))),\"Preço não registrado\")","v":""},"",null,null,"",""]
[null,null,"",null,"","",null,{"$f":"IFERROR(IF(D1242=\"\",\"\",INDEX(Entradas!$H$3:$H$5000,MATCH(A1242,IF(Entradas!$B$3:$B$5000=D1242,Entradas!$A$3:$A$5000),1))),\"Preço não registrado\")","v":""},"",null,null,"",""]
[null,null,"",null,"","",null,{"$f":"IFERROR(IF(D1243=\"\",\"\",INDEX(Entradas!$H$3:$H$5000,MATCH(A1243,IF(Entradas!$B$3:$B$5000=D1243,Entradas!$A$3:$A$5000),1))),\"Preço não registrado\")","v":""},"",null,null,"",""]
[null,null,"",null,"","",null,{"$f":"IFERROR(IF(D1244=\"\",\"\",INDEX(Entradas!$H$3:$H$5000,MATCH(A1244,IF(Entradas!$B$3:$B$5000=D1244,Entradas!$A$3:$A$5000),1))),\"Preço não registrado\")","v":""},"",null,null,"",""]
[null,null,"",null,"","",null,{"$f":"IFERROR(IF(D1245=\"\",\"\",INDEX(Entradas!$H$3:$H$5000,MATCH(A1245,IF(Entradas!$B$3:$B$5000=D1245,Entradas!$A$3:$A$5000),1))),\"Preço não registrado\")","v":""},"",null,null,"",""]
[null,null,"",null,"","",null,{"$f":"IFERROR(IF(D1246=\"\",\"\",INDEX(Entradas!$H$3:$H$5000,MATCH(A1246,IF(Entradas!$B$3:$B$5000=D1246,Entradas!$A$3:$A$5000),1))),\"Preço não registrado\")","v":""},"",null,null,"",""]
[null,null,"",null,"","",null,{"$f":"IFERROR(IF(D1247=\"\",\"\",INDEX(Entradas!$H$3:$H$5000,MATCH(A1247,IF(Entradas!$B$3:$B$5000=D1247,Entradas!$A$3:$A$5000),1))),\"Preço não registrado\")","v":""},"",null,null,"",""]
[null,null,"",null,"","",null,{"$f":"IFERROR(IF(D1248=\"\",\"\",INDEX(Entradas!$H$3:$H$5000,MATCH(A1248,IF(Entradas!$B$3:$B$5000=D1248,Entradas!$A$3:$A$5000),1))),\"Preço não registrado\")","v":""},"",null,null,"",""]
[null,null,"",null,"","",null,{"$f":"IFERROR(IF(D1249=\"\",\"\",INDEX(Entradas!$H$3:$H$5000,MATCH(A1249,IF(Entradas!$B$3:$B$5000=D1249,Entradas!$A$3:$A$5000),1))),\"Preço não registrado\")","v":""},"",null,null,"",""]
[null,null,"",null,"","",null,{"$f":"IFERROR(IF(D1250=\"\",\"\",INDEX(Entradas!$H$3:$H$5000,MATCH(A1250,IF(Entradas!$B$3:$B$5000=D1250,Entradas!$A$3:$A$5000),1))),\"Preço não registrado\")","v":""},"",null,null,"",""]
[null,null,"",null,"","",null,{"$f":"IFERROR(IF(D1251=\"\",\"\",INDEX(Entradas!$H$3:$H$5000,MATCH(A1251,IF(Entradas!$B$3:$B$5000=D1251,Entradas!$A$3:$A$5000),1))),\"Preço não registrado\")","v":""},"",null,null,"",""]
[null,null,"",null,"","",null,{"$f":"IFERROR(IF(D1252=\"\",\"\",INDEX(Entradas!$H$3:$H$5000,MATCH(A1252,IF(Entradas!$B$3:$B$5000=D1252,Entradas!$A$3:$A$5000),1))),\"Preço não registrado\")","v":""},"",null,null,"",""]
[null,null,"",null,"","",null,{"$f":"IFERROR(IF(D1253=\"\",\"\",INDEX(Entradas!$H$3:$H$5000,MATCH(A1253,IF(Entradas!$B$3:$B$5000=D1253,Entradas!$A$3:$A$5000),1))),\"Preço não registrado\")","v":""},"",null,null,"",""]
[null,null,"",null,"","",null,{"$f":"IFERROR(IF(D1254=\"\",\"\",INDEX(Entradas!$H$3:$H$5000,MATCH(A1254,IF(Entradas!$B$3:$B$5000=D1254,Entradas!$A$3:$A$5000),1))),\"Preço não registrado\")","v":""},"",null,null,"",""]
[null,null,"",null,"","",null,{"$f":"IFERROR(IF(D1255=\"\",\"\",INDEX(Entradas!$H$3:$H$5000,MATCH(A1255,IF(Entradas!$B$3:$B$5000=D1255,Entradas!$A$3:$A$5000),1))),\"Preço não registrado\")","v":""},"",null,null,"",""]
[null,null,"",null,"","",null,{"$f":"IFERROR(IF(D1256=\"\",\"\",INDEX(Entradas!$H$3:$H$5000,MATCH(A1256,IF(Entradas!$B$3:$B$5000=D1256,Entradas!$A$3:$A$5000),1))),\"Preço não registrado\")","v":""},"",null,null,"",""]
[null,null,"",null,"","",null,{"$f":"IFERROR(IF(D1257=\"\",\"\",INDEX(Entradas!$H$3:$H$5000,MATCH(A1257,IF(Entradas!$B$3:$B$5000=D1257,Entradas!$A$3:$A$5000),1))),\"Preço não registrado\")","v":""},"",null,null,"",""]
[null,null,"",null,"","",null,{"$f":"IFERROR(IF(D1258=\"\",\"\",INDEX(Entradas!$H$3:$H$5000,MATCH(A1258,IF(Entradas!$B$3:$B$5000=D1258,Entradas!$A$3:$A$5000),1))),\"Preço não registrado\")","v":""},"",null,null,"",""]
[null,null,"",null,"","",null,{"$f":"IFERROR(IF(D1259=\"\",\"\",INDEX(Entradas!$H$3:$H$5000,MATCH(A1259,IF(Entradas!$B$3:$B$5000=D1259,Entradas!$A$3:$A$5000),1))),\"Preço não registrado\")","v":""},"",null,null,"",""]
[null,null,"",null,"","",null,{"$f":"IFERROR(IF(D1260=\"\",\"\",INDEX(Entradas!$H$3:$H$5000,MATCH(A1260,IF(Entradas!$B$3:$B$5000=D1260,Entradas!$A$3:$A$5000),1))),\"Preço não registrado\")","v":""},"",null,null,"",""]
[null,null,"",null,"","",null,{"$f":"IFERROR(IF(D1261=\"\",\"\",INDEX(Entradas!$H$3:$H$5000,MATCH(A1261,IF(Entradas!$B$3:$B$5000=D1261,Entradas!$A$3:$A$5000),1))),\"Preço não registrado\")","v":""},"",null,null,"",""]
[null,null,"",null,"","",null,{"$f":"IFERROR(IF(D1262=\"\",\"\",INDEX(Entradas!$H$3:$H$5000,MATCH(A1262,IF(Entradas!$B$3:$B$5000=D1262,Entradas!$A$3:$A$5000),1))),\"Preço não registrado\")","v":""},"",null,null,"",""]
[null,null,"",null,"","",null,{"$f":"IFERROR(IF(D1263=\"\",\"\",INDEX(Entradas!$H$3:$H$5000,MATCH(A1263,IF(Entradas!$B$3:$B$5000=D1263,Entradas!$A$3:$A$5000),1))),\"Preço não registrado\")","v":""},"",null,null,"",""]
[null,null,"",null,"","",null,{"$f":"IFERROR(IF(D1264=\"\",\"\",INDEX(Entradas!$H$3:$H$5000,MATCH(A1264,IF(Entradas!$B$3:$B$5000=D1264,Entradas!$A$3:$A$5000),1))),\"Preço não registrado\")","v":""},"",null,null,"",""]
[null,null,"",null,"","",null,{"$f":"IFERROR(IF(D1265=\"\",\"\",INDEX(Entradas!$H$3:$H$5000,MATCH(A1265,IF(Entradas!$B$3:$B$5000=D1265,Entradas!$A$3:$A$5000),1))),\"Preço não registrado\")","v":""},"",null,null,"",""]
[null,null,"",null,"","",null,{"$f":"IFERROR(IF(D1266=\"\",\"\",INDEX(Entradas!$H$3:$H$5000,MATCH(A1266,IF(Entradas!$B$3:$B$5000=D1266,Entradas!$A$3:$A$5000),1))),\"Preço não registrado\")","v":""},"",null,null,"",""]
[null,null,"",null,"","",null,{"$f":"IFERROR(IF(D1267=\"\",\"\",INDEX(Entradas!$H$3:$H$5000,MATCH(A1267,IF(Entradas!$B$3:$B$5000=D1267,Entradas!$A$3:$A$5000),1))),\"Preço não registrado\")","v":""},"",null,null,"",""]
[null,null,"",null,"","",null,{"$f":"IFERROR(IF(D1268=\"\",\"\",INDEX(Entradas!$H$3:$H$5000,MATCH(A1268,IF(Entradas!$B$3:$B$5000=D1268,Entradas!$A$3:$A$5000),1))),\"Preço não registrado\")","v":""},"",null,null,"",""]
[null,null,"",null,"","",null,{"$f":"IFERROR(IF(D1269=\"\",\"\",INDEX(Entradas!$H$3:$H$5000,MATCH(A1269,IF(Entradas!$B$3:$B$5000=D1269,Entradas!$A$3:$A$5000),1))),\"Preço não registrado\")","v":""},"",null,null,"",""]
[null,null,"",null,"","",null,{"$f":"IFERROR(IF(D1270=\"\",\"\",INDEX(Entradas!$H$3:$H$5000,MATCH(A1270,IF(Entradas!$B$3:$B$5000=D1270,Entradas!$A$3:$A$5000),1))),\"Preço não registrado\")","v":""},"",null,null,"",""]
[null,null,"",null,"","",null,{"$f":"IFERROR(IF(D1271=\"\",\"\",INDEX(Entradas!$H$3:$H$5000,MATCH(A1271,IF(Entradas!$B$3:$B$5000=D1271,Entradas!$A$3:$A$5000),1))),\"Preço não registrado\")","v":""},"",null,null,"",""]
[null,null,"",null,"","",null,{"$f":"IFERROR(IF(D1272=\"\",\"\",INDEX(Entradas!$H$3:$H$5000,MATCH(A1272,IF(Entradas!$B$3:$B$5000=D1272,Entradas!$A$3:$A$5000),1))),\"Preço não registrado\")","v":""},"",null,null,"",""]
[null,null,"",null,"","",null,{"$f":"IFERROR(IF(D1273=\"\",\"\",INDEX(Entradas!$H$3:$H$5000,MATCH(A1273,IF(Entradas!$B$3:$B$5000=D1273,Entradas!$A$3:$A$5000),1))),\"Preço não registrado\")","v":""},"",null,null,"",""]
[null,null,"",null,"","",null,{"$f":"IFERROR(IF(D1274=\"\",\"\",INDEX(Entradas!$H$3:$H$5000,MATCH(A1274,IF(Entradas!$B$3:$B$5000=D1274,Entradas!$A$3:$A$5000),1))),\"Preço não registrado\")","v":""},"",null,null,"",""]
[null,null,"",null,"","",null,{"$f":"IFERROR(IF(D1275=\"\",\"\",INDEX(Entradas!$H$3:$H$5000,MATCH(A1275,IF(Entradas!$B$3:$B$5000=D1275,Entradas!$A$3:$A$5000),1))),\"Preço não registrado\")","v":""},"",null,null,"",""]
[null,null,"",null,"","",null,{"$f":"IFERROR(IF(D1276=\"\",\"\",INDEX(Entradas!$H$3:$H$5000,MATCH(A1276,IF(Entradas!$B$3:$B$5000=D1276,Entradas!$A$3:$A$5000),1))),\"Preço não registrado\")","v":""},"",null,null,"",""]
[null,null,"",null,"","",null,{"$f":"IFERROR(IF(D1277=\"\",\"\",INDEX(Entradas!$H$3:$H$5000,MATCH(A1277,IF(Entradas!$B$3:$B$5000=D1277,Entradas!$A$3:$A$5000),1))),\"Preço não registrado\")","v":""},"",null,null,"",""]
[null,null,"",null,"","",null,{"$f":"IFERROR(IF(D1278=\"\",\"\",INDEX(Entradas!$H$3:$H$5000,MATCH(A1278,IF(Entradas!$B$3:$B$5000=D1278,Entradas!$A$3:$A$5000),1))),\"Preço não registrado\")","v":""},"",null,null,"",""]
[null,null,"",null,"","",null,{"$f":"IFERROR(IF(D1279=\"\",\"\",INDEX(Entradas!$H$3:$H$5000,MATCH(A1279,IF(Entradas!$B$3:$B$5000=D1279,Entradas!$A$3:$A$5000),1))),\"Preço não registrado\")","v":""},"",null,null,"",""]
[null,null,"",null,"","",null,{"$f":"IFERROR(IF(D1280=\"\",\"\",INDEX(Entradas!$H$3:$H$5000,MATCH(A1280,IF(Entradas!$B$3:$B$5000=D1280,Entradas!$A$3:$A$5000),1))),\"Preço não registrado\")","v":""},"",null,null,"",""]
[null,null,"",null,"","",null,{"$f":"IFERROR(IF(D1281=\"\",\"\",INDEX(Entradas!$H$3:$H$5000,MATCH(A1281,IF(Entradas!$B$3:$B$5000=D1281,Entradas!$A$3:$A$5000),1))),\"Preço não registrado\")","v":""},"",null,null,"",""]
[null,null,"",null,"","",null,{"$f":"IFERROR(IF(D1282=\"\",\"\",INDEX(Entradas!$H$3:$H$5000,MATCH(A1282,IF(Entradas!$B$3:$B$5000=D1282,Entradas!$A$3:$A$5000),1))),\"Preço não registrado\")","v":""},"",null,null,"",""]
[null,null,{"$f":"IFERROR(IF(B1283=\"\",\"\",VLOOKUP(B1283,Clientes,2,FALSE)),\"\")","v":""},null,{"$f":"IF(D1283=\"\",\"\",VLOOKUP(D1283,Itens,2,FALSE))","v":""},{"$f":"IF(D1283=\"\",\"\",VLOOKUP(D1283,Itens,3,FALSE))","v":""},null,{"$f":"IFERROR(IF(D1283=\"\",\"\",INDEX(Entradas!$H$3:$H$5000,MATCH(A1283,IF(Entradas!$B$3:$B$5000=D1283,Entradas!$A$3:$A$5000),1))),\"Preço não registrado\")","v":""},"",null,null,"",""]
[null,null,"",null,"","",null,{"$f":"IFERROR(IF(D1284=\"\",\"\",INDEX(Entradas!$H$3:$H$5000,MATCH(A1284,IF(Entradas!$B$3:$B$5000=D1284,Entradas!$A$3:$A$5000),1))),\"Preço não registrado\")","v":""},{"$f":"IFERROR(G1284*H1284,\"\")","v":""},null,null,{"$f":"IF(K1284=\"\",\"\",HYPERLINK($P$13&K1284,\"Rastreie aqui\"))","v":""},{"$f":"IF(A1284=\"\",\"\",TEXT(A1284,\"mmmm\"))","v":""}]
[null,null,"",null,"","",null,{"$f":"IFERROR(IF(D1285=\"\",\"\",INDEX(Entradas!$H$3:$H$5000,MATCH(A1285,IF(Entradas!$B$3:$B$5000=D1285,Entradas!$A$3:$A$5000),1))),\"Preço não registrado\")","v":""},"",null,null,"",""]
[null,null,"",null,"","",null,{"$f":"IFERROR(IF(D1286=\"\",\"\",INDEX(Entradas!$H$3:$H$5000,MATCH(A1286,IF(Entradas!$B$3:$B$5000=D1286,Entradas!$A$3:$A$5000),1))),\"Preço não registrado\")","v":""},"",null,null,"",""]
[null,null,"",null,"","",null,{"$f":"IFERROR(IF(D1287=\"\",\"\",INDEX(Entradas!$H$3:$H$5000,MATCH(A1287,IF(Entradas!$B$3:$B$5000=D1287,Entradas!$A$3:$A$5000),1))),\"Preço não registrado\")","v":""},"",null,null,"",""]
[null,null,"",null,"","",null,{"$f":"IFERROR(IF(D1288=\"\",\"\",INDEX(Entradas!$H$3:$H$5000,MATCH(A1288,IF(Entradas!$B$3:$B$5000=D1288,Entradas!$A$3:$A$5000),1))),\"Preço não registrado\")","v":""},"",null,null,"",""]
[null,null,"",null,"","",null,{"$f":"IFERROR(IF(D1289=\"\",\"\",INDEX(Entradas!$H$3:$H$5000,MATCH(A1289,IF(Entradas!$B$3:$B$5000=D1289,Entradas!$A$3:$A$5000),1))),\"Preço não registrado\")","v":""},"",null,null,"",""]
[null,null,"",null,"","",null,{"$f":"IFERROR(IF(D1290=\"\",\"\",INDEX(Entradas!$H$3:$H$5000,MATCH(A1290,IF(Entradas!$B$3:$B$5000=D1290,Entradas!$A$3:$A$5000),1))),\"Preço não registrado\")","v":""},"",null,null,"",""]
[null,null,"",null,"","",null,{"$f":"IFERROR(IF(D1291=\"\",\"\",INDEX(Entradas!$H$3:$H$5000,MATCH(A1291,IF(Entradas!$B$3:$B$5000=D1291,Entradas!$A$3:$A$5000),1))),\"Preço não registrado\")","v":""},"",null,null,"",""]
[null,null,"",null,"","",null,{"$f":"IFERROR(IF(D1292=\"\",\"\",INDEX(Entradas!$H$3:$H$5000,MATCH(A1292,IF(Entradas!$B$3:$B$5000=D1292,Entradas!$A$3:$A$5000),1))),\"Preço não registrado\")","v":""},"",null,null,"",""]
[null,null,"",null,"","",null,{"$f":"IFERROR(IF(D1293=\"\",\"\",INDEX(Entradas!$H$3:$H$5000,MATCH(A1293,IF(Entradas!$B$3:$B$5000=D1293,Entradas!$A$3:$A$5000),1))),\"Preço não registrado\")","v":""},"",null,null,"",""]
[null,null,"",null,"","",null,{"$f":"IFERROR(IF(D1294=\"\",\"\",INDEX(Entradas!$H$3:$H$5000,MATCH(A1294,IF(Entradas!$B$3:$B$5000=D1294,Entradas!$A$3:$A$5000),1))),\"Preço não registrado\")","v":""},"",null,null,"",""]
[null,null,"",null,"","",null,{"$f":"IFERROR(IF(D1295=\"\",\"\",INDEX(Entradas!$H$3:$H$5000,MATCH(A1295,IF(Entradas!$B$3:$B$5000=D1295,Entradas!$A$3:$A$5000),1))),\"Preço não registrado\")","v":""},"",null,null,"",""]
[null,null,"",null,"","",null,{"$f":"IFERROR(IF(D1296=\"\",\"\",INDEX(Entradas!$H$3:$H$5000,MATCH(A1296,IF(Entradas!$B$3:$B$5000=D1296,Entradas!$A$3:$A$5000),1))),\"Preço não registrado\")","v":""},"",null,null,"",""]
[null,null,"",null,"","",null,{"$f":"IFERROR(IF(D1297=\"\",\"\",INDEX(Entradas!$H$3:$H$5000,MATCH(A1297,IF(Entradas!$B$3:$B$5000=D1297,Entradas!$A$3:$A$5000),1))),\"Preço não registrado\")","v":""},"",null,null,"",""]
[null,null,"",null,"","",null,{"$f":"IFERROR(IF(D1298=\"\",\"\",INDEX(Entradas!$H$3:$H$5000,MATCH(A1298,IF(Entradas!$B$3:$B$5000=D1298,Entradas!$A$3:$A$5000),1))),\"Preço não registrado\")","v":""},"",null,null,"",""]
[null,null,"",null,"","",null,{"$f":"IFERROR(IF(D1299=\"\",\"\",INDEX(Entradas!$H$3:$H$5000,MATCH(A1299,IF(Entradas!$B$3:$B$5000=D1299,Entradas!$A$3:$A$5000),1))),\"Preço não registrado\")","v":""},"",null,null,"",""]
[null,null,"",null,"","",null,{"$f":"IFERROR(IF(D1300=\"\",\"\",INDEX(Entradas!$H$3:$H$5000,MATCH(A1300,IF(Entradas!$B$3:$B$5000=D1300,Entradas!$A$3:$A$5000),1))),\"Preço não registrado\")","v":""},"",null,null,"",""]
[null,null,"",null,"","",null,{"$f":"IFERROR(IF(D1301=\"\",\"\",INDEX(Entradas!$H$3:$H$5000,MATCH(A1301,IF(Entradas!$B$3:$B$5000=D1301,Entradas!$A$3:$A$5000),1))),\"Preço não registrado\")","v":""},"",null,null,"",""]
[null,null,"",null,"","",null,{"$f":"IFERROR(IF(D1302=\"\",\"\",INDEX(Entradas!$H$3:$H$5000,MATCH(A1302,IF(Entradas!$B$3:$B$5000=D1302,Entradas!$A$3:$A$5000),1))),\"Preço não registrado\")","v":""},"",null,null,"",""]
[null,null,"",null,"","",null,{"$f":"IFERROR(IF(D1303=\"\",\"\",INDEX(Entradas!$H$3:$H$5000,MATCH(A1303,IF(Entradas!$B$3:$B$5000=D1303,Entradas!$A$3:$A$5000),1))),\"Preço não registrado\")","v":""},"",null,null,"",""]
[null,null,"",null,"","",null,{"$f":"IFERROR(IF(D1304=\"\",\"\",INDEX(Entradas!$H$3:$H$5000,MATCH(A1304,IF(Entradas!$B$3:$B$5000=D1304,Entradas!$A$3:$A$5000),1))),\"Preço não registrado\")","v":""},"",null,null,"",""]
[null,null,"",null,"","",null,{"$f":"IFERROR(IF(D1305=\"\",\"\",INDEX(Entradas!$H$3:$H$5000,MATCH(A1305,IF(Entradas!$B$3:$B$5000=D1305,Entradas!$A$3:$A$5000),1))),\"Preço não registrado\")","v":""},"",null,null,"",""]
[null,null,"",null,"","",null,{"$f":"IFERROR(IF(D1306=\"\",\"\",INDEX(Entradas!$H$3:$H$5000,MATCH(A1306,IF(Entradas!$B$3:$B$5000=D1306,Entradas!$A$3:$A$5000),1))),\"Preço não registrado\")","v":""},"",null,null,"",""]
[null,null,"",null,"","",null,{"$f":"IFERROR(IF(D1307=\"\",\"\",INDEX(Entradas!$H$3:$H$5000,MATCH(A1307,IF(Entradas!$B$3:$B$5000=D1307,Entradas!$A$3:$A$5000),1))),\"Preço não registrado\")","v":""},"",null,null,"",""]
[null,null,"",null,"","",null,{"$f":"IFERROR(IF(D1308=\"\",\"\",INDEX(Entradas!$H$3:$H$5000,MATCH(A1308,IF(Entradas!$B$3:$B$5000=D1308,Entradas!$A$3:$A$5000),1))),\"Preço não registrado\")","v":""},"",null,null,"",""]
[null,null,"",null,"","",null,{"$f":"IFERROR(IF(D1309=\"\",\"\",INDEX(Entradas!$H$3:$H$5000,MATCH(A1309,IF(Entradas!$B$3:$B$5000=D1309,Entradas!$A$3:$A$5000),1))),\"Preço não registrado\")","v":""},"",null,null,"",""]
[null,null,"",null,"","",null,{"$f":"IFERROR(IF(D1310=\"\",\"\",INDEX(Entradas!$H$3:$H$5000,MATCH(A1310,IF(Entradas!$B$3:$B$5000=D1310,Entradas!$A$3:$A$5000),1))),\"Preço não registrado\")","v":""},"",null,null,"",""]
[null,null,"",null,"","",null,{"$f":"IFERROR(IF(D1311=\"\",\"\",INDEX(Entradas!$H$3:$H$5000,MATCH(A1311,IF(Entradas!$B$3:$B$5000=D1311,Entradas!$A$3:$A$5000),1))),\"Preço não registrado\")","v":""},"",null,null,"",""]
[null,null,"",null,"","",null,{"$f":"IFERROR(IF(D1312=\"\",\"\",INDEX(Entradas!$H$3:$H$5000,MATCH(A1312,IF(Entradas!$B$3:$B$5000=D1312,Entradas!$A$3:$A$5000),1))),\"Preço não registrado\")","v":""},"",null,null,"",""]
[null,null,"",null,"","",null,{"$f":"IFERROR(IF(D1313=\"\",\"\",INDEX(Entradas!$H$3:$H$5000,MATCH(A1313,IF(Entradas!$B$3:$B$5000=D1313,Entradas!$A$3:$A$5000),1))),\"Preço não registrado\")","v":""},"",null,null,"",""]
[null,null,"",null,"","",null,{"$f":"IFERROR(IF(D1314=\"\",\"\",INDEX(Entradas!$H$3:$H$5000,MATCH(A1314,IF(Entradas!$B$3:$B$5000=D1314,Entradas!$A$3:$A$5000),1))),\"Preço não registrado\")","v":""},"",null,null,"",""]
[null,null,"",null,"","",null,{"$f":"IFERROR(IF(D1315=\"\",\"\",INDEX(Entradas!$H$3:$H$5000,MATCH(A1315,IF(Entradas!$B$3:$B$5000=D1315,Entradas!$A$3:$A$5000),1))),\"Preço não registrado\")","v":""},"",null,null,"",""]
[null,null,"",null,"","",null,{"$f":"IFERROR(IF(D1316=\"\",\"\",INDEX(Entradas!$H$3:$H$5000,MATCH(A1316,IF(Entradas!$B$3:$B$5000=D1316,Entradas!$A$3:$A$5000),1))),\"Preço não registrado\")","v":""},"",null,null,"",""]
[null,null,"",null,"","",null,{"$f":"IFERROR(IF(D1317=\"\",\"\",INDEX(Entradas!$H$3:$H$5000,MATCH(A1317,IF(Entradas!$B$3:$B$5000=D1317,Entradas!$A$3:$A$5000),1))),\"Preço não registrado\")","v":""},"",null,null,"",""]
[null,null,"",null,"","",null,{"$f":"IFERROR(IF(D1318=\"\",\"\",INDEX(Entradas!$H$3:$H$5000,MATCH(A1318,IF(Entradas!$B$3:$B$5000=D1318,Entradas!$A$3:$A$5000),1))),\"Preço não registrado\")","v":""},"",null,null,"",""]
[null,null,"",null,"","",null,{"$f":"IFERROR(IF(D1319=\"\",\"\",INDEX(Entradas!$H$3:$H$5000,MATCH(A1319,IF(Entradas!$B$3:$B$5000=D1319,Entradas!$A$3:$A$5000),1))),\"Preço não registrado\")","v":""},"",null,null,"",""]
[null,null,"",null,"","",null,{"$f":"IFERROR(IF(D1320=\"\",\"\",INDEX(Entradas!$H$3:$H$5000,MATCH(A1320,IF(Entradas!$B$3:$B$5000=D1320,Entradas!$A$3:$A$5000),1))),\"Preço não registrado\")","v":""},"",null,null,"",""]
[null,null,"",null,"","",null,{"$f":"IFERROR(IF(D1321=\"\",\"\",INDEX(Entradas!$H$3:$H$5000,MATCH(A1321,IF(Entradas!$B$3:$B$5000=D1321,Entradas!$A$3:$A$5000),1))),\"Preço não registrado\")","v":""},"",null,null,"",""]
[null,null,"",null,"","",null,{"$f":"IFERROR(IF(D1322=\"\",\"\",INDEX(Entradas!$H$3:$H$5000,MATCH(A1322,IF(Entradas!$B$3:$B$5000=D1322,Entradas!$A$3:$A$5000),1))),\"Preço não registrado\")","v":""},"",null,null,"",""]
[null,null,"",null,"","",null,{"$f":"IFERROR(IF(D1323=\"\",\"\",INDEX(Entradas!$H$3:$H$5000,MATCH(A1323,IF(Entradas!$B$3:$B$5000=D1323,Entradas!$A$3:$A$5000),1))),\"Preço não registrado\")","v":""},"",null,null,"",""]
[null,null,"",null,"","",null,{"$f":"IFERROR(IF(D1324=\"\",\"\",INDEX(Entradas!$H$3:$H$5000,MATCH(A1324,IF(Entradas!$B$3:$B$5000=D1324,Entradas!$A$3:$A$5000),1))),\"Preço não registrado\")","v":""},"",null,null,"",""]
[null,null,"",null,"","",null,{"$f":"IFERROR(IF(D1325=\"\",\"\",INDEX(Entradas!$H$3:$H$5000,MATCH(A1325,IF(Entradas!$B$3:$B$5000=D1325,Entradas!$A$3:$A$5000),1))),\"Preço não registrado\")","v":""},"",null,null,"",""]
[null,null,"",null,"","",null,{"$f":"IFERROR(IF(D1326=\"\",\"\",INDEX(Entradas!$H$3:$H$5000,MATCH(A1326,IF(Entradas!$B$3:$B$5000=D1326,Entradas!$A$3:$A$5000),1))),\"Preço não registrado\")","v":""},"",null,null,"",""]
[null,null,"",null,"","",null,{"$f":"IFERROR(IF(D1327=\"\",\"\",INDEX(Entradas!$H$3:$H$5000,MATCH(A1327,IF(Entradas!$B$3:$B$5000=D1327,Entradas!$A$3:$A$5000),1))),\"Preço não registrado\")","v":""},"",null,null,"",""]
[null,null,"",null,"","",null,{"$f":"IFERROR(IF(D1328=\"\",\"\",INDEX(Entradas!$H$3:$H$5000,MATCH(A1328,IF(Entradas!$B$3:$B$5000=D1328,Entradas!$A$3:$A$5000),1))),\"Preço não registrado\")","v":""},"",null,null,"",""]
[null,null,"",null,"","",null,{"$f":"IFERROR(IF(D1329=\"\",\"\",INDEX(Entradas!$H$3:$H$5000,MATCH(A1329,IF(Entradas!$B$3:$B$5000=D1329,Entradas!$A$3:$A$5000),1))),\"Preço não registrado\")","v":""},"",null,null,"",""]
[null,null,"",null,"","",null,{"$f":"IFERROR(IF(D1330=\"\",\"\",INDEX(Entradas!$H$3:$H$5000,MATCH(A1330,IF(Entradas!$B$3:$B$5000=D1330,Entradas!$A$3:$A$5000),1))),\"Preço não registrado\")","v":""},"",null,null,"",""]
[null,null,"",null,"","",null,{"$f":"IFERROR(IF(D1331=\"\",\"\",INDEX(Entradas!$H$3:$H$5000,MATCH(A1331,IF(Entradas!$B$3:$B$5000=D1331,Entradas!$A$3:$A$5000),1))),\"Preço não registrado\")","v":""},"",null,null,"",""]
[null,null,"",null,"","",null,{"$f":"IFERROR(IF(D1332=\"\",\"\",INDEX(Entradas!$H$3:$H$5000,MATCH(A1332,IF(Entradas!$B$3:$B$5000=D1332,Entradas!$A$3:$A$5000),1))),\"Preço não registrado\")","v":""},"",null,null,"",""]
[null,null,"",null,"","",null,{"$f":"IFERROR(IF(D1333=\"\",\"\",INDEX(Entradas!$H$3:$H$5000,MATCH(A1333,IF(Entradas!$B$3:$B$5000=D1333,Entradas!$A$3:$A$5000),1))),\"Preço não registrado\")","v":""},"",null,null,"",""]
[null,null,"",null,"","",null,{"$f":"IFERROR(IF(D1334=\"\",\"\",INDEX(Entradas!$H$3:$H$5000,MATCH(A1334,IF(Entradas!$B$3:$B$5000=D1334,Entradas!$A$3:$A$5000),1))),\"Preço não registrado\")","v":""},"",null,null,"",""]
[null,null,"",null,"","",null,{"$f":"IFERROR(IF(D1335=\"\",\"\",INDEX(Entradas!$H$3:$H$5000,MATCH(A1335,IF(Entradas!$B$3:$B$5000=D1335,Entradas!$A$3:$A$5000),1))),\"Preço não registrado\")","v":""},"",null,null,"",""]
[null,null,"",null,"","",null,{"$f":"IFERROR(IF(D1336=\"\",\"\",INDEX(Entradas!$H$3:$H$5000,MATCH(A1336,IF(Entradas!$B$3:$B$5000=D1336,Entradas!$A$3:$A$5000),1))),\"Preço não registrado\")","v":""},"",null,null,"",""]
[null,null,"",null,"","",null,{"$f":"IFERROR(IF(D1337=\"\",\"\",INDEX(Entradas!$H$3:$H$5000,MATCH(A1337,IF(Entradas!$B$3:$B$5000=D1337,Entradas!$A$3:$A$5000),1))),\"Preço não registrado\")","v":""},"",null,null,"",""]
[null,null,"",null,"","",null,{"$f":"IFERROR(IF(D1338=\"\",\"\",INDEX(Entradas!$H$3:$H$5000,MATCH(A1338,IF(Entradas!$B$3:$B$5000=D1338,Entradas!$A$3:$A$5000),1))),\"Preço não registrado\")","v":""},"",null,null,"",""]
[null,null,"",null,"","",null,{"$f":"IFERROR(IF(D1339=\"\",\"\",INDEX(Entradas!$H$3:$H$5000,MATCH(A1339,IF(Entradas!$B$3:$B$5000=D1339,Entradas!$A$3:$A$5000),1))),\"Preço não registrado\")","v":""},"",null,null,"",""]
[null,null,"",null,"","",null,{"$f":"IFERROR(IF(D1340=\"\",\"\",INDEX(Entradas!$H$3:$H$5000,MATCH(A1340,IF(Entradas!$B$3:$B$5000=D1340,Entradas!$A$3:$A$5000),1))),\"Preço não registrado\")","v":""},"",null,null,"",""]
[null,null,"",null,"","",null,{"$f":"IFERROR(IF(D1341=\"\",\"\",INDEX(Entradas!$H$3:$H$5000,MATCH(A1341,IF(Entradas!$B$3:$B$5000=D1341,Entradas!$A$3:$A$5000),1))),\"Preço não registrado\")","v":""},"",null,null,"",""]
[null,null,"",null,"","",null,{"$f":"IFERROR(IF(D1342=\"\",\"\",INDEX(Entradas!$H$3:$H$5000,MATCH(A1342,IF(Entradas!$B$3:$B$5000=D1342,Entradas!$A$3:$A$5000),1))),\"Preço não registrado\")","v":""},"",null,null,"",""]
[null,null,"",null,"","",null,{"$f":"IFERROR(IF(D1343=\"\",\"\",INDEX(Entradas!$H$3:$H$5000,MATCH(A1343,IF(Entradas!$B$3:$B$5000=D1343,Entradas!$A$3:$A$5000),1))),\"Preço não registrado\")","v":""},"",null,null,"",""]
[null,null,"",null,"","",null,{"$f":"IFERROR(IF(D1344=\"\",\"\",INDEX(Entradas!$H$3:$H$5000,MATCH(A1344,IF(Entradas!$B$3:$B$5000=D1344,Entradas!$A$3:$A$5000),1))),\"Preço não registrado\")","v":""},"",null,null,"",""]
[null,null,"",null,"","",null,{"$f":"IFERROR(IF(D1345=\"\",\"\",INDEX(Entradas!$H$3:$H$5000,MATCH(A1345,IF(Entradas!$B$3:$B$5000=D1345,Entradas!$A$3:$A$5000),1))),\"Preço não registrado\")","v":""},"",null,null,"",""]
[null,null,"",null,"","",null,{"$f":"IFERROR(IF(D1346=\"\",\"\",INDEX(Entradas!$H$3:$H$5000,MATCH(A1346,IF(Entradas!$B$3:$B$5000=D1346,Entradas!$A$3:$A$5000),1))),\"Preço não registrado\")","v":""},"",null,null,"",""]
[null,null,{"$f":"IFERROR(IF(B1347=\"\",\"\",VLOOKUP(B1347,Clientes,2,FALSE)),\"\")","v":""},null,{"$f":"IF(D1347=\"\",\"\",VLOOKUP(D1347,Itens,2,FALSE))","v":""},{"$f":"IF(D1347=\"\",\"\",VLOOKUP(D1347,Itens,3,FALSE))","v":""},null,{"$f":"IFERROR(IF(D1347=\"\",\"\",INDEX(Entradas!$H$3:$H$5000,MATCH(A1347,IF(Entradas!$B$3:$B$5000=D1347,Entradas!$A$3:$A$5000),1))),\"Preço não registrado\")","v":""},"",null,null,"",""]
[null,null,"",null,"","",null,{"$f":"IFERROR(IF(D1348=\"\",\"\",INDEX(Entradas!$H$3:$H$5000,MATCH(A1348,IF(Entradas!$B$3:$B$5000=D1348,Entradas!$A$3:$A$5000),1))),\"Preço não registrado\")","v":""},{"$f":"IFERROR(G1348*H1348,\"\")","v":""},null,null,{"$f":"IF(K1348=\"\",\"\",HYPERLINK($P$13&K1348,\"Rastreie aqui\"))","v":""},{"$f":"IF(A1348=\"\",\"\",TEXT(A1348,\"mmmm\"))","v":""}]
[null,null,"",null,"","",null,{"$f":"IFERROR(IF(D1349=\"\",\"\",INDEX(Entradas!$H$3:$H$5000,MATCH(A1349,IF(Entradas!$B$3:$B$5000=D1349,Entradas!$A$3:$A$5000),1))),\"Preço não registrado\")","v":""},"",null,null,"",""]
[null,null,"",null,"","",null,{"$f":"IFERROR(IF(D1350=\"\",\"\",INDEX(Entradas!$H$3:$H$5000,MATCH(A1350,IF(Entradas!$B$3:$B$5000=D1350,Entradas!$A$3:$A$5000),1))),\"Preço não registrado\")","v":""},"",null,null,"",""]
[null,null,"",null,"","",null,{"$f":"IFERROR(IF(D1351=\"\",\"\",INDEX(Entradas!$H$3:$H$5000,MATCH(A1351,IF(Entradas!$B$3:$B$5000=D1351,Entradas!$A$3:$A$5000),1))),\"Preço não registrado\")","v":""},"",null,null,"",""]
[null,null,"",null,"","",null,{"$f":"IFERROR(IF(D1352=\"\",\"\",INDEX(Entradas!$H$3:$H$5000,MATCH(A1352,IF(Entradas!$B$3:$B$5000=D1352,Entradas!$A$3:$A$5000),1))),\"Preço não registrado\")","v":""},"",null,null,"",""]
[null,null,"",null,"","",null,{"$f":"IFERROR(IF(D1353=\"\",\"\",INDEX(Entradas!$H$3:$H$5000,MATCH(A1353,IF(Entradas!$B$3:$B$5000=D1353,Entradas!$A$3:$A$5000),1))),\"Preço não registrado\")","v":""},"",null,null,"",""]
[null,null,"",null,"","",null,{"$f":"IFERROR(IF(D1354=\"\",\"\",INDEX(Entradas!$H$3:$H$5000,MATCH(A1354,IF(Entradas!$B$3:$B$5000=D1354,Entradas!$A$3:$A$5000),1))),\"Preço não registrado\")","v":""},"",null,null,"",""]
[null,null,"",null,"","",null,{"$f":"IFERROR(IF(D1355=\"\",\"\",INDEX(Entradas!$H$3:$H$5000,MATCH(A1355,IF(Entradas!$B$3:$B$5000=D1355,Entradas!$A$3:$A$5000),1))),\"Preço não registrado\")","v":""},"",null,null,"",""]
[null,null,"",null,"","",null,{"$f":"IFERROR(IF(D1356=\"\",\"\",INDEX(Entradas!$H$3:$H$5000,MATCH(A1356,IF(Entradas!$B$3:$B$5000=D1356,Entradas!$A$3:$A$5000),1))),\"Preço não registrado\")","v":""},"",null,null,"",""]
[null,null,"",null,"","",null,{"$f":"IFERROR(IF(D1357=\"\",\"\",INDEX(Entradas!$H$3:$H$5000,MATCH(A1357,IF(Entradas!$B$3:$B$5000=D1357,Entradas!$A$3:$A$5000),1))),\"Preço não registrado\")","v":""},"",null,null,"",""]
[null,null,"",null,"","",null,{"$f":"IFERROR(IF(D1358=\"\",\"\",INDEX(Entradas!$H$3:$H$5000,MATCH(A1358,IF(Entradas!$B$3:$B$5000=D1358,Entradas!$A$3:$A$5000),1))),\"Preço não registrado\")","v":""},"",null,null,"",""]
[null,null,"",null,"","",null,{"$f":"IFERROR(IF(D1359=\"\",\"\",INDEX(Entradas!$H$3:$H$5000,MATCH(A1359,IF(Entradas!$B$3:$B$5000=D1359,Entradas!$A$3:$A$5000),1))),\"Preço não registrado\")","v":""},"",null,null,"",""]
[null,null,"",null,"","",null,{"$f":"IFERROR(IF(D1360=\"\",\"\",INDEX(Entradas!$H$3:$H$5000,MATCH(A1360,IF(Entradas!$B$3:$B$5000=D1360,Entradas!$A$3:$A$5000),1))),\"Preço não registrado\")","v":""},"",null,null,"",""]
[null,null,"",null,"","",null,{"$f":"IFERROR(IF(D1361=\"\",\"\",INDEX(Entradas!$H$3:$H$5000,MATCH(A1361,IF(Entradas!$B$3:$B$5000=D1361,Entradas!$A$3:$A$5000),1))),\"Preço não registrado\")","v":""},"",null,null,"",""]
[null,null,"",null,"","",null,{"$f":"IFERROR(IF(D1362=\"\",\"\",INDEX(Entradas!$H$3:$H$5000,MATCH(A1362,IF(Entradas!$B$3:$B$5000=D1362,Entradas!$A$3:$A$5000),1))),\"Preço não registrado\")","v":""},"",null,null,"",""]
[null,null,"",null,"","",null,{"$f":"IFERROR(IF(D1363=\"\",\"\",INDEX(Entradas!$H$3:$H$5000,MATCH(A1363,IF(Entradas!$B$3:$B$5000=D1363,Entradas!$A$3:$A$5000),1))),\"Preço não registrado\")","v":""},"",null,null,"",""]
[null,null,"",null,"","",null,{"$f":"IFERROR(IF(D1364=\"\",\"\",INDEX(Entradas!$H$3:$H$5000,MATCH(A1364,IF(Entradas!$B$3:$B$5000=D1364,Entradas!$A$3:$A$5000),1))),\"Preço não registrado\")","v":""},"",null,null,"",""]
[null,null,"",null,"","",null,{"$f":"IFERROR(IF(D1365=\"\",\"\",INDEX(Entradas!$H$3:$H$5000,MATCH(A1365,IF(Entradas!$B$3:$B$5000=D1365,Entradas!$A$3:$A$5000),1))),\"Preço não registrado\")","v":""},"",null,null,"",""]
[null,null,"",null,"","",null,{"$f":"IFERROR(IF(D1366=\"\",\"\",INDEX(Entradas!$H$3:$H$5000,MATCH(A1366,IF(Entradas!$B$3:$B$5000=D1366,Entradas!$A$3:$A$5000),1))),\"Preço não registrado\")","v":""},"",null,null,"",""]
[null,null,"",null,"","",null,{"$f":"IFERROR(IF(D1367=\"\",\"\",INDEX(Entradas!$H$3:$H$5000,MATCH(A1367,IF(Entradas!$B$3:$B$5000=D1367,Entradas!$A$3:$A$5000),1))),\"Preço não registrado\")","v":""},"",null,null,"",""]
[null,null,"",null,"","",null,{"$f":"IFERROR(IF(D1368=\"\",\"\",INDEX(Entradas!$H$3:$H$5000,MATCH(A1368,IF(Entradas!$B$3:$B$5000=D1368,Entradas!$A$3:$A$5000),1))),\"Preço não registrado\")","v":""},"",null,null,"",""]
[null,null,"",null,"","",null,{"$f":"IFERROR(IF(D1369=\"\",\"\",INDEX(Entradas!$H$3:$H$5000,MATCH(A1369,IF(Entradas!$B$3:$B$5000=D1369,Entradas!$A$3:$A$5000),1))),\"Preço não registrado\")","v":""},"",null,null,"",""]
[null,null,"",null,"","",null,{"$f":"IFERROR(IF(D1370=\"\",\"\",INDEX(Entradas!$H$3:$H$5000,MATCH(A1370,IF(Entradas!$B$3:$B$5000=D1370,Entradas!$A$3:$A$5000),1))),\"Preço não registrado\")","v":""},"",null,null,"",""]
[null,null,"",null,"","",null,{"$f":"IFERROR(IF(D1371=\"\",\"\",INDEX(Entradas!$H$3:$H$5000,MATCH(A1371,IF(Entradas!$B$3:$B$5000=D1371,Entradas!$A$3:$A$5000),1))),\"Preço não registrado\")","v":""},"",null,null,"",""]
[null,null,"",null,"","",null,{"$f":"IFERROR(IF(D1372=\"\",\"\",INDEX(Entradas!$H$3:$H$5000,MATCH(A1372,IF(Entradas!$B$3:$B$5000=D1372,Entradas!$A$3:$A$5000),1))),\"Preço não registrado\")","v":""},"",null,null,"",""]
[null,null,"",null,"","",null,{"$f":"IFERROR(IF(D1373=\"\",\"\",INDEX(Entradas!$H$3:$H$5000,MATCH(A1373,IF(Entradas!$B$3:$B$5000=D1373,Entradas!$A$3:$A$5000),1))),\"Preço não registrado\")","v":""},"",null,null,"",""]
[null,null,"",null,"","",null,{"$f":"IFERROR(IF(D1374=\"\",\"\",INDEX(Entradas!$H$3:$H$5000,MATCH(A1374,IF(Entradas!$B$3:$B$5000=D1374,Entradas!$A$3:$A$5000),1))),\"Preço não registrado\")","v":""},"",null,null,"",""]
[null,null,"",null,"","",null,{"$f":"IFERROR(IF(D1375=\"\",\"\",INDEX(Entradas!$H$3:$H$5000,MATCH(A1375,IF(Entradas!$B$3:$B$5000=D1375,Entradas!$A$3:$A$5000),1))),\"Preço não registrado\")","v":""},"",null,null,"",""]
[null,null,"",null,"","",null,{"$f":"IFERROR(IF(D1376=\"\",\"\",INDEX(Entradas!$H$3:$H$5000,MATCH(A1376,IF(Entradas!$B$3:$B$5000=D1376,Entradas!$A$3:$A$5000),1))),\"Preço não registrado\")","v":""},"",null,null,"",""]
[null,null,"",null,"","",null,{"$f":"IFERROR(IF(D1377=\"\",\"\",INDEX(Entradas!$H$3:$H$5000,MATCH(A1377,IF(Entradas!$B$3:$B$5000=D1377,Entradas!$A$3:$A$5000),1))),\"Preço não registrado\")","v":""},"",null,null,"",""]
[null,null,"",null,"","",null,{"$f":"IFERROR(IF(D1378=\"\",\"\",INDEX(Entradas!$H$3:$H$5000,MATCH(A1378,IF(Entradas!$B$3:$B$5000=D1378,Entradas!$A$3:$A$5000),1))),\"Preço não registrado\")","v":""},"",null,null,"",""]
[null,null,"",null,"","",null,{"$f":"IFERROR(IF(D1379=\"\",\"\",INDEX(Entradas!$H$3:$H$5000,MATCH(A1379,IF(Entradas!$B$3:$B$5000=D1379,Entradas!$A$3:$A$5000),1))),\"Preço não registrado\")","v":""},"",null,null,"",""]
[null,null,"",null,"","",null,{"$f":"IFERROR(IF(D1380=\"\",\"\",INDEX(Entradas!$H$3:$H$5000,MATCH(A1380,IF(Entradas!$B$3:$B$5000=D1380,Entradas!$A$3:$A$5000),1))),\"Preço não registrado\")","v":""},"",null,null,"",""]
[null,null,"",null,"","",null,{"$f":"IFERROR(IF(D1381=\"\",\"\",INDEX(Entradas!$H$3:$H$5000,MATCH(A1381,IF(Entradas!$B$3:$B$5000=D1381,Entradas!$A$3:$A$5000),1))),\"Preço não registrado\")","v":""},"",null,null,"",""]
[null,null,"",null,"","",null,{"$f":"IFERROR(IF(D1382=\"\",\"\",INDEX(Entradas!$H$3:$H$5000,MATCH(A1382,IF(Entradas!$B$3:$B$5000=D1382,Entradas!$A$3:$A$5000),1))),\"Preço não registrado\")","v":""},"",null,null,"",""]
[null,null,"",null,"","",null,{"$f":"IFERROR(IF(D1383=\"\",\"\",INDEX(Entradas!$H$3:$H$5000,MATCH(A1383,IF(Entradas!$B$3:$B$5000=D1383,Entradas!$A$3:$A$5000),1))),\"Preço não registrado\")","v":""},"",null,null,"",""]
[null,null,"",null,"","",null,{"$f":"IFERROR(IF(D1384=\"\",\"\",INDEX(Entradas!$H$3:$H$5000,MATCH(A1384,IF(Entradas!$B$3:$B$5000=D1384,Entradas!$A$3:$A$5000),1))),\"Preço não registrado\")","v":""},"",null,null,"",""]
[null,null,"",null,"","",null,{"$f":"IFERROR(IF(D1385=\"\",\"\",INDEX(Entradas!$H$3:$H$5000,MATCH(A1385,IF(Entradas!$B$3:$B$5000=D1385,Entradas!$A$3:$A$5000),1))),\"Preço não registrado\")","v":""},"",null,null,"",""]
[null,null,"",null,"","",null,{"$f":"IFERROR(IF(D1386=\"\",\"\",INDEX(Entradas!$H$3:$H$5000,MATCH(A1386,IF(Entradas!$B$3:$B$5000=D1386,Entradas!$A$3:$A$5000),1))),\"Preço não registrado\")","v":""},"",null,null,"",""]
[null,null,"",null,"","",null,{"$f":"IFERROR(IF(D1387=\"\",\"\",INDEX(Entradas!$H$3:$H$5000,MATCH(A1387,IF(Entradas!$B$3:$B$5000=D1387,Entradas!$A$3:$A$5000),1))),\"Preço não registrado\")","v":""},"",null,null,"",""]
[null,null,"",null,"","",null,{"$f":"IFERROR(IF(D1388=\"\",\"\",INDEX(Entradas!$H$3:$H$5000,MATCH(A1388,IF(Entradas!$B$3:$B$5000=D1388,Entradas!$A$3:$A$5000),1))),\"Preço não registrado\")","v":""},"",null,null,"",""]
[null,null,"",null,"","",null,{"$f":"IFERROR(IF(D1389=\"\",\"\",INDEX(Entradas!$H$3:$H$5000,MATCH(A1389,IF(Entradas!$B$3:$B$5000=D1389,Entradas!$A$3:$A$5000),1))),\"Preço não registrado\")","v":""},"",null,null,"",""]
[null,null,"",null,"","",null,{"$f":"IFERROR(IF(D1390=\"\",\"\",INDEX(Entradas!$H$3:$H$5000,MATCH(A1390,IF(Entradas!$B$3:$B$5000=D1390,Entradas!$A$3:$A$5000),1))),\"Preço não registrado\")","v":""},"",null,null,"",""]
[null,null,"",null,"","",null,{"$f":"IFERROR(IF(D1391=\"\",\"\",INDEX(Entradas!$H$3:$H$5000,MATCH(A1391,IF(Entradas!$B$3:$B$5000=D1391,Entradas!$A$3:$A$5000),1))),\"Preço não registrado\")","v":""},"",null,null,"",""]
[null,null,"",null,"","",null,{"$f":"IFERROR(IF(D1392=\"\",\"\",INDEX(Entradas!$H$3:$H$5000,MATCH(A1392,IF(Entradas!$B$3:$B$5000=D1392,Entradas!$A$3:$A$5000),1))),\"Preço não registrado\")","v":""},"",null,null,"",""]
[null,null,"",null,"","",null,{"$f":"IFERROR(IF(D1393=\"\",\"\",INDEX(Entradas!$H$3:$H$5000,MATCH(A1393,IF(Entradas!$B$3:$B$5000=D1393,Entradas!$A$3:$A$5000),1))),\"Preço não registrado\")","v":""},"",null,null,"",""]
[null,null,"",null,"","",null,{"$f":"IFERROR(IF(D1394=\"\",\"\",INDEX(Entradas!$H$3:$H$5000,MATCH(A1394,IF(Entradas!$B$3:$B$5000=D1394,Entradas!$A$3:$A$5000),1))),\"Preço não registrado\")","v":""},"",null,null,"",""]
[null,null,"",null,"","",null,{"$f":"IFERROR(IF(D1395=\"\",\"\",INDEX(Entradas!$H$3:$H$5000,MATCH(A1395,IF(Entradas!$B$3:$B$5000=D1395,Entradas!$A$3:$A$5000),1))),\"Preço não registrado\")","v":""},"",null,null,"",""]
[null,null,"",null,"","",null,{"$f":"IFERROR(IF(D1396=\"\",\"\",INDEX(Entradas!$H$3:$H$5000,MATCH(A1396,IF(Entradas!$B$3:$B$5000=D1396,Entradas!$A$3:$A$5000),1))),\"Preço não registrado\")","v":""},"",null,null,"",""]
[null,null,"",null,"","",null,{"$f":"IFERROR(IF(D1397=\"\",\"\",INDEX(Entradas!$H$3:$H$5000,MATCH(A1397,IF(Entradas!$B$3:$B$5000=D1397,Entradas!$A$3:$A$5000),1))),\"Preço não registrado\")","v":""},"",null,null,"",""]
[null,null,"",null,"","",null,{"$f":"IFERROR(IF(D1398=\"\",\"\",INDEX(Entradas!$H$3:$H$5000,MATCH(A1398,IF(Entradas!$B$3:$B$5000=D1398,Entradas!$A$3:$A$5000),1))),\"Preço não registrado\")","v":""},"",null,null,"",""]
[null,null,"",null,"","",null,{"$f":"IFERROR(IF(D1399=\"\",\"\",INDEX(Entradas!$H$3:$H$5000,MATCH(A1399,IF(Entradas!$B$3:$B$5000=D1399,Entradas!$A$3:$A$5000),1))),\"Preço não registrado\")","v":""},"",null,null,"",""]
[null,null,"",null,"","",null,{"$f":"IFERROR(IF(D1400=\"\",\"\",INDEX(Entradas!$H$3:$H$5000,MATCH(A1400,IF(Entradas!$B$3:$B$5000=D1400,Entradas!$A$3:$A$5000),1))),\"Preço não registrado\")","v":""},"",null,null,"",""]
[null,null,"",null,"","",null,{"$f":"IFERROR(IF(D1401=\"\",\"\",INDEX(Entradas!$H$3:$H$5000,MATCH(A1401,IF(Entradas!$B$3:$B$5000=D1401,Entradas!$A$3:$A$5000),1))),\"Preço não registrado\")","v":""},"",null,null,"",""]
[null,null,"",null,"","",null,{"$f":"IFERROR(IF(D1402=\"\",\"\",INDEX(Entradas!$H$3:$H$5000,MATCH(A1402,IF(Entradas!$B$3:$B$5000=D1402,Entradas!$A$3:$A$5000),1))),\"Preço não registrado\")","v":""},"",null,null,"",""]
[null,null,"",null,"","",null,{"$f":"IFERROR(IF(D1403=\"\",\"\",INDEX(Entradas!$H$3:$H$5000,MATCH(A1403,IF(Entradas!$B$3:$B$5000=D1403,Entradas!$A$3:$A$5000),1))),\"Preço não registrado\")","v":""},"",null,null,"",""]
[null,null,"",null,"","",null,{"$f":"IFERROR(IF(D1404=\"\",\"\",INDEX(Entradas!$H$3:$H$5000,MATCH(A1404,IF(Entradas!$B$3:$B$5000=D1404,Entradas!$A$3:$A$5000),1))),\"Preço não registrado\")","v":""},"",null,null,"",""]
[null,null,"",null,"","",null,{"$f":"IFERROR(IF(D1405=\"\",\"\",INDEX(Entradas!$H$3:$H$5000,MATCH(A1405,IF(Entradas!$B$3:$B$5000=D1405,Entradas!$A$3:$A$5000),1))),\"Preço não registrado\")","v":""},"",null,null,"",""]
[null,null,"",null,"","",null,{"$f":"IFERROR(IF(D1406=\"\",\"\",INDEX(Entradas!$H$3:$H$5000,MATCH(A1406,IF(Entradas!$B$3:$B$5000=D1406,Entradas!$A$3:$A$5000),1))),\"Preço não registrado\")","v":""},"",null,null,"",""]
[null,null,"",null,"","",null,{"$f":"IFERROR(IF(D1407=\"\",\"\",INDEX(Entradas!$H$3:$H$5000,MATCH(A1407,IF(Entradas!$B$3:$B$5000=D1407,Entradas!$A$3:$A$5000),1))),\"Preço não registrado\")","v":""},"",null,null,"",""]
[null,null,"",null,"","",null,{"$f":"IFERROR(IF(D1408=\"\",\"\",INDEX(Entradas!$H$3:$H$5000,MATCH(A1408,IF(Entradas!$B$3:$B$5000=D1408,Entradas!$A$3:$A$5000),1))),\"Preço não registrado\")","v":""},"",null,null,"",""]
[null,null,"",null,"","",null,{"$f":"IFERROR(IF(D1409=\"\",\"\",INDEX(Entradas!$H$3:$H$5000,MATCH(A1409,IF(Entradas!$B$3:$B$5000=D1409,Entradas!$A$3:$A$5000),1))),\"Preço não registrado\")","v":""},"",null,null,"",""]
[null,null,"",null,"","",null,{"$f":"IFERROR(IF(D1410=\"\",\"\",INDEX(Entradas!$H$3:$H$5000,MATCH(A1410,IF(Entradas!$B$3:$B$5000=D1410,Entradas!$A$3:$A$5000),1))),\"Preço não registrado\")","v":""},"",null,null,"",""]
[null,null,{"$f":"IFERROR(IF(B1411=\"\",\"\",VLOOKUP(B1411,Clientes,2,FALSE)),\"\")","v":""},null,{"$f":"IF(D1411=\"\",\"\",VLOOKUP(D1411,Itens,2,FALSE))","v":""},{"$f":"IF(D1411=\"\",\"\",VLOOKUP(D1411,Itens,3,FALSE))","v":""},null,{"$f":"IFERROR(IF(D1411=\"\",\"\",INDEX(Entradas!$H$3:$H$5000,MATCH(A1411,IF(Entradas!$B$3:$B$5000=D1411,Entradas!$A$3:$A$5000),1))),\"Preço não registrado\")","v":""},"",null,null,"",""]
[null,null,"",null,"","",null,{"$f":"IFERROR(IF(D1412=\"\",\"\",INDEX(Entradas!$H$3:$H$5000,MATCH(A1412,IF(Entradas!$B$3:$B$5000=D1412,Entradas!$A$3:$A$5000),1))),\"Preço não registrado\")","v":""},{"$f":"IFERROR(G1412*H1412,\"\")","v":""},null,null,{"$f":"IF(K1412=\"\",\"\",HYPERLINK($P$13&K1412,\"Rastreie aqui\"))","v":""},{"$f":"IF(A1412=\"\",\"\",TEXT(A1412,\"mmmm\"))","v":""}]
[null,null,"",null,"","",null,{"$f":"IFERROR(IF(D1413=\"\",\"\",INDEX(Entradas!$H$3:$H$5000,MATCH(A1413,IF(Entradas!$B$3:$B$5000=D1413,Entradas!$A$3:$A$5000),1))),\"Preço não registrado\")","v":""},"",null,null,"",""]
[null,null,"",null,"","",null,{"$f":"IFERROR(IF(D1414=\"\",\"\",INDEX(Entradas!$H$3:$H$5000,MATCH(A1414,IF(Entradas!$B$3:$B$5000=D1414,Entradas!$A$3:$A$5000),1))),\"Preço não registrado\")","v":""},"",null,null,"",""]
[null,null,"",null,"","",null,{"$f":"IFERROR(IF(D1415=\"\",\"\",INDEX(Entradas!$H$3:$H$5000,MATCH(A1415,IF(Entradas!$B$3:$B$5000=D1415,Entradas!$A$3:$A$5000),1))),\"Preço não registrado\")","v":""},"",null,null,"",""]
[null,null,"",null,"","",null,{"$f":"IFERROR(IF(D1416=\"\",\"\",INDEX(Entradas!$H$3:$H$5000,MATCH(A1416,IF(Entradas!$B$3:$B$5000=D1416,Entradas!$A$3:$A$5000),1))),\"Preço não registrado\")","v":""},"",null,null,"",""]
[null,null,"",null,"","",null,{"$f":"IFERROR(IF(D1417=\"\",\"\",INDEX(Entradas!$H$3:$H$5000,MATCH(A1417,IF(Entradas!$B$3:$B$5000=D1417,Entradas!$A$3:$A$5000),1))),\"Preço não registrado\")","v":""},"",null,null,"",""]
[null,null,"",null,"","",null,{"$f":"IFERROR(IF(D1418=\"\",\"\",INDEX(Entradas!$H$3:$H$5000,MATCH(A1418,IF(Entradas!$B$3:$B$5000=D1418,Entradas!$A$3:$A$5000),1))),\"Preço não registrado\")","v":""},"",null,null,"",""]
[null,null,"",null,"","",null,{"$f":"IFERROR(IF(D1419=\"\",\"\",INDEX(Entradas!$H$3:$H$5000,MATCH(A1419,IF(Entradas!$B$3:$B$5000=D1419,Entradas!$A$3:$A$5000),1))),\"Preço não registrado\")","v":""},"",null,null,"",""]
[null,null,"",null,"","",null,{"$f":"IFERROR(IF(D1420=\"\",\"\",INDEX(Entradas!$H$3:$H$5000,MATCH(A1420,IF(Entradas!$B$3:$B$5000=D1420,Entradas!$A$3:$A$5000),1))),\"Preço não registrado\")","v":""},"",null,null,"",""]
[null,null,"",null,"","",null,{"$f":"IFERROR(IF(D1421=\"\",\"\",INDEX(Entradas!$H$3:$H$5000,MATCH(A1421,IF(Entradas!$B$3:$B$5000=D1421,Entradas!$A$3:$A$5000),1))),\"Preço não registrado\")","v":""},"",null,null,"",""]
[null,null,"",null,"","",null,{"$f":"IFERROR(IF(D1422=\"\",\"\",INDEX(Entradas!$H$3:$H$5000,MATCH(A1422,IF(Entradas!$B$3:$B$5000=D1422,Entradas!$A$3:$A$5000),1))),\"Preço não registrado\")","v":""},"",null,null,"",""]
[null,null,"",null,"","",null,{"$f":"IFERROR(IF(D1423=\"\",\"\",INDEX(Entradas!$H$3:$H$5000,MATCH(A1423,IF(Entradas!$B$3:$B$5000=D1423,Entradas!$A$3:$A$5000),1))),\"Preço não registrado\")","v":""},"",null,null,"",""]
[null,null,"",null,"","",null,{"$f":"IFERROR(IF(D1424=\"\",\"\",INDEX(Entradas!$H$3:$H$5000,MATCH(A1424,IF(Entradas!$B$3:$B$5000=D1424,Entradas!$A$3:$A$5000),1))),\"Preço não registrado\")","v":""},"",null,null,"",""]
[null,null,"",null,"","",null,{"$f":"IFERROR(IF(D1425=\"\",\"\",INDEX(Entradas!$H$3:$H$5000,MATCH(A1425,IF(Entradas!$B$3:$B$5000=D1425,Entradas!$A$3:$A$5000),1))),\"Preço não registrado\")","v":""},"",null,null,"",""]
[null,null,"",null,"","",null,{"$f":"IFERROR(IF(D1426=\"\",\"\",INDEX(Entradas!$H$3:$H$5000,MATCH(A1426,IF(Entradas!$B$3:$B$5000=D1426,Entradas!$A$3:$A$5000),1))),\"Preço não registrado\")","v":""},"",null,null,"",""]
[null,null,"",null,"","",null,{"$f":"IFERROR(IF(D1427=\"\",\"\",INDEX(Entradas!$H$3:$H$5000,MATCH(A1427,IF(Entradas!$B$3:$B$5000=D1427,Entradas!$A$3:$A$5000),1))),\"Preço não registrado\")","v":""},"",null,null,"",""]
[null,null,"",null,"","",null,{"$f":"IFERROR(IF(D1428=\"\",\"\",INDEX(Entradas!$H$3:$H$5000,MATCH(A1428,IF(Entradas!$B$3:$B$5000=D1428,Entradas!$A$3:$A$5000),1))),\"Preço não registrado\")","v":""},"",null,null,"",""]
[null,null,"",null,"","",null,{"$f":"IFERROR(IF(D1429=\"\",\"\",INDEX(Entradas!$H$3:$H$5000,MATCH(A1429,IF(Entradas!$B$3:$B$5000=D1429,Entradas!$A$3:$A$5000),1))),\"Preço não registrado\")","v":""},"",null,null,"",""]
[null,null,"",null,"","",null,{"$f":"IFERROR(IF(D1430=\"\",\"\",INDEX(Entradas!$H$3:$H$5000,MATCH(A1430,IF(Entradas!$B$3:$B$5000=D1430,Entradas!$A$3:$A$5000),1))),\"Preço não registrado\")","v":""},"",null,null,"",""]
[null,null,"",null,"","",null,{"$f":"IFERROR(IF(D1431=\"\",\"\",INDEX(Entradas!$H$3:$H$5000,MATCH(A1431,IF(Entradas!$B$3:$B$5000=D1431,Entradas!$A$3:$A$5000),1))),\"Preço não registrado\")","v":""},"",null,null,"",""]
[null,null,"",null,"","",null,{"$f":"IFERROR(IF(D1432=\"\",\"\",INDEX(Entradas!$H$3:$H$5000,MATCH(A1432,IF(Entradas!$B$3:$B$5000=D1432,Entradas!$A$3:$A$5000),1))),\"Preço não registrado\")","v":""},"",null,null,"",""]
[null,null,"",null,"","",null,{"$f":"IFERROR(IF(D1433=\"\",\"\",INDEX(Entradas!$H$3:$H$5000,MATCH(A1433,IF(Entradas!$B$3:$B$5000=D1433,Entradas!$A$3:$A$5000),1))),\"Preço não registrado\")","v":""},"",null,null,"",""]
[null,null,"",null,"","",null,{"$f":"IFERROR(IF(D1434=\"\",\"\",INDEX(Entradas!$H$3:$H$5000,MATCH(A1434,IF(Entradas!$B$3:$B$5000=D1434,Entradas!$A$3:$A$5000),1))),\"Preço não registrado\")","v":""},"",null,null,"",""]
[null,null,"",null,"","",null,{"$f":"IFERROR(IF(D1435=\"\",\"\",INDEX(Entradas!$H$3:$H$5000,MATCH(A1435,IF(Entradas!$B$3:$B$5000=D1435,Entradas!$A$3:$A$5000),1))),\"Preço não registrado\")","v":""},"",null,null,"",""]
[null,null,"",null,"","",null,{"$f":"IFERROR(IF(D1436=\"\",\"\",INDEX(Entradas!$H$3:$H$5000,MATCH(A1436,IF(Entradas!$B$3:$B$5000=D1436,Entradas!$A$3:$A$5000),1))),\"Preço não registrado\")","v":""},"",null,null,"",""]
[null,null,"",null,"","",null,{"$f":"IFERROR(IF(D1437=\"\",\"\",INDEX(Entradas!$H$3:$H$5000,MATCH(A1437,IF(Entradas!$B$3:$B$5000=D1437,Entradas!$A$3:$A$5000),1))),\"Preço não registrado\")","v":""},"",null,null,"",""]
[null,null,"",null,"","",null,{"$f":"IFERROR(IF(D1438=\"\",\"\",INDEX(Entradas!$H$3:$H$5000,MATCH(A1438,IF(Entradas!$B$3:$B$5000=D1438,Entradas!$A$3:$A$5000),1))),\"Preço não registrado\")","v":""},"",null,null,"",""]
[null,null,"",null,"","",null,{"$f":"IFERROR(IF(D1439=\"\",\"\",INDEX(Entradas!$H$3:$H$5000,MATCH(A1439,IF(Entradas!$B$3:$B$5000=D1439,Entradas!$A$3:$A$5000),1))),\"Preço não registrado\")","v":""},"",null,null,"",""]
[null,null,"",null,"","",null,{"$f":"IFERROR(IF(D1440=\"\",\"\",INDEX(Entradas!$H$3:$H$5000,MATCH(A1440,IF(Entradas!$B$3:$B$5000=D1440,Entradas!$A$3:$A$5000),1))),\"Preço não registrado\")","v":""},"",null,null,"",""]
[null,null,"",null,"","",null,{"$f":"IFERROR(IF(D1441=\"\",\"\",INDEX(Entradas!$H$3:$H$5000,MATCH(A1441,IF(Entradas!$B$3:$B$5000=D1441,Entradas!$A$3:$A$5000),1))),\"Preço não registrado\")","v":""},"",null,null,"",""]
[null,null,"",null,"","",null,{"$f":"IFERROR(IF(D1442=\"\",\"\",INDEX(Entradas!$H$3:$H$5000,MATCH(A1442,IF(Entradas!$B$3:$B$5000=D1442,Entradas!$A$3:$A$5000),1))),\"Preço não registrado\")","v":""},"",null,null,"",""]
[null,null,"",null,"","",null,{"$f":"IFERROR(IF(D1443=\"\",\"\",INDEX(Entradas!$H$3:$H$5000,MATCH(A1443,IF(Entradas!$B$3:$B$5000=D1443,Entradas!$A$3:$A$5000),1))),\"Preço não registrado\")","v":""},"",null,null,"",""]
[null,null,"",null,"","",null,{"$f":"IFERROR(IF(D1444=\"\",\"\",INDEX(Entradas!$H$3:$H$5000,MATCH(A1444,IF(Entradas!$B$3:$B$5000=D1444,Entradas!$A$3:$A$5000),1))),\"Preço não registrado\")","v":""},"",null,null,"",""]
[null,null,"",null,"","",null,{"$f":"IFERROR(IF(D1445=\"\",\"\",INDEX(Entradas!$H$3:$H$5000,MATCH(A1445,IF(Entradas!$B$3:$B$5000=D1445,Entradas!$A$3:$A$5000),1))),\"Preço não registrado\")","v":""},"",null,null,"",""]
[null,null,"",null,"","",null,{"$f":"IFERROR(IF(D1446=\"\",\"\",INDEX(Entradas!$H$3:$H$5000,MATCH(A1446,IF(Entradas!$B$3:$B$5000=D1446,Entradas!$A$3:$A$5000),1))),\"Preço não registrado\")","v":""},"",null,null,"",""]
[null,null,"",null,"","",null,{"$f":"IFERROR(IF(D1447=\"\",\"\",INDEX(Entradas!$H$3:$H$5000,MATCH(A1447,IF(Entradas!$B$3:$B$5000=D1447,Entradas!$A$3:$A$5000),1))),\"Preço não registrado\")","v":""},"",null,null,"",""]
[null,null,"",null,"","",null,{"$f":"IFERROR(IF(D1448=\"\",\"\",INDEX(Entradas!$H$3:$H$5000,MATCH(A1448,IF(Entradas!$B$3:$B$5000=D1448,Entradas!$A$3:$A$5000),1))),\"Preço não registrado\")","v":""},"",null,null,"",""]
[null,null,"",null,"","",null,{"$f":"IFERROR(IF(D1449=\"\",\"\",INDEX(Entradas!$H$3:$H$5000,MATCH(A1449,IF(Entradas!$B$3:$B$5000=D1449,Entradas!$A$3:$A$5000),1))),\"Preço não registrado\")","v":""},"",null,null,"",""]
[null,null,"",null,"","",null,{"$f":"IFERROR(IF(D1450=\"\",\"\",INDEX(Entradas!$H$3:$H$5000,MATCH(A1450,IF(Entradas!$B$3:$B$5000=D1450,Entradas!$A$3:$A$5000),1))),\"Preço não registrado\")","v":""},"",null,null,"",""]
[null,null,"",null,"","",null,{"$f":"IFERROR(IF(D1451=\"\",\"\",INDEX(Entradas!$H$3:$H$5000,MATCH(A1451,IF(Entradas!$B$3:$B$5000=D1451,Entradas!$A$3:$A$5000),1))),\"Preço não registrado\")","v":""},"",null,null,"",""]
[null,null,"",null,"","",null,{"$f":"IFERROR(IF(D1452=\"\",\"\",INDEX(Entradas!$H$3:$H$5000,MATCH(A1452,IF(Entradas!$B$3:$B$5000=D1452,Entradas!$A$3:$A$5000),1))),\"Preço não registrado\")","v":""},"",null,null,"",""]
[null,null,"",null,"","",null,{"$f":"IFERROR(IF(D1453=\"\",\"\",INDEX(Entradas!$H$3:$H$5000,MATCH(A1453,IF(Entradas!$B$3:$B$5000=D1453,Entradas!$A$3:$A$5000),1))),\"Preço não registrado\")","v":""},"",null,null,"",""]
[null,null,"",null,"","",null,{"$f":"IFERROR(IF(D1454=\"\",\"\",INDEX(Entradas!$H$3:$H$5000,MATCH(A1454,IF(Entradas!$B$3:$B$5000=D1454,Entradas!$A$3:$A$5000),1))),\"Preço não registrado\")","v":""},"",null,null,"",""]
[null,null,"",null,"","",null,{"$f":"IFERROR(IF(D1455=\"\",\"\",INDEX(Entradas!$H$3:$H$5000,MATCH(A1455,IF(Entradas!$B$3:$B$5000=D1455,Entradas!$A$3:$A$5000),1))),\"Preço não registrado\")","v":""},"",null,null,"",""]
[null,null,"",null,"","",null,{"$f":"IFERROR(IF(D1456=\"\",\"\",INDEX(Entradas!$H$3:$H$5000,MATCH(A1456,IF(Entradas!$B$3:$B$5000=D1456,Entradas!$A$3:$A$5000),1))),\"Preço não registrado\")","v":""},"",null,null,"",""]
[null,null,"",null,"","",null,{"$f":"IFERROR(IF(D1457=\"\",\"\",INDEX(Entradas!$H$3:$H$5000,MATCH(A1457,IF(Entradas!$B$3:$B$5000=D1457,Entradas!$A$3:$A$5000),1))),\"Preço não registrado\")","v":""},"",null,null,"",""]
[null,null,"",null,"","",null,{"$f":"IFERROR(IF(D1458=\"\",\"\",INDEX(Entradas!$H$3:$H$5000,MATCH(A1458,IF(Entradas!$B$3:$B$5000=D1458,Entradas!$A$3:$A$5000),1))),\"Preço não registrado\")","v":""},"",null,null,"",""]
[null,null,"",null,"","",null,{"$f":"IFERROR(IF(D1459=\"\",\"\",INDEX(Entradas!$H$3:$H$5000,MATCH(A1459,IF(Entradas!$B$3:$B$5000=D1459,Entradas!$A$3:$A$5000),1))),\"Preço não registrado\")","v":""},"",null,null,"",""]
[null,null,"",null,"","",null,{"$f":"IFERROR(IF(D1460=\"\",\"\",INDEX(Entradas!$H$3:$H$5000,MATCH(A1460,IF(Entradas!$B$3:$B$5000=D1460,Entradas!$A$3:$A$5000),1))),\"Preço não registrado\")","v":""},"",null,null,"",""]
[null,null,"",null,"","",null,{"$f":"IFERROR(IF(D1461=\"\",\"\",INDEX(Entradas!$H$3:$H$5000,MATCH(A1461,IF(Entradas!$B$3:$B$5000=D1461,Entradas!$A$3:$A$5000),1))),\"Preço não registrado\")","v":""},"",null,null,"",""]
[null,null,"",null,"","",null,{"$f":"IFERROR(IF(D1462=\"\",\"\",INDEX(Entradas!$H$3:$H$5000,MATCH(A1462,IF(Entradas!$B$3:$B$5000=D1462,Entradas!$A$3:$A$5000),1))),\"Preço não registrado\")","v":""},"",null,null,"",""]
[null,null,"",null,"","",null,{"$f":"IFERROR(IF(D1463=\"\",\"\",INDEX(Entradas!$H$3:$H$5000,MATCH(A1463,IF(Entradas!$B$3:$B$5000=D1463,Entradas!$A$3:$A$5000),1))),\"Preço não registrado\")","v":""},"",null,null,"",""]
[null,null,"",null,"","",null,{"$f":"IFERROR(IF(D1464=\"\",\"\",INDEX(Entradas!$H$3:$H$5000,MATCH(A1464,IF(Entradas!$B$3:$B$5000=D1464,Entradas!$A$3:$A$5000),1))),\"Preço não registrado\")","v":""},"",null,null,"",""]
[null,null,"",null,"","",null,{"$f":"IFERROR(IF(D1465=\"\",\"\",INDEX(Entradas!$H$3:$H$5000,MATCH(A1465,IF(Entradas!$B$3:$B$5000=D1465,Entradas!$A$3:$A$5000),1))),\"Preço não registrado\")","v":""},"",null,null,"",""]
[null,null,"",null,"","",null,{"$f":"IFERROR(IF(D1466=\"\",\"\",INDEX(Entradas!$H$3:$H$5000,MATCH(A1466,IF(Entradas!$B$3:$B$5000=D1466,Entradas!$A$3:$A$5000),1))),\"Preço não registrado\")","v":""},"",null,null,"",""]
[null,null,"",null,"","",null,{"$f":"IFERROR(IF(D1467=\"\",\"\",INDEX(Entradas!$H$3:$H$5000,MATCH(A1467,IF(Entradas!$B$3:$B$5000=D1467,Entradas!$A$3:$A$5000),1))),\"Preço não registrado\")","v":""},"",null,null,"",""]
[null,null,"",null,"","",null,{"$f":"IFERROR(IF(D1468=\"\",\"\",INDEX(Entradas!$H$3:$H$5000,MATCH(A1468,IF(Entradas!$B$3:$B$5000=D1468,Entradas!$A$3:$A$5000),1))),\"Preço não registrado\")","v":""},"",null,null,"",""]
[null,null,"",null,"","",null,{"$f":"IFERROR(IF(D1469=\"\",\"\",INDEX(Entradas!$H$3:$H$5000,MATCH(A1469,IF(Entradas!$B$3:$B$5000=D1469,Entradas!$A$3:$A$5000),1))),\"Preço não registrado\")","v":""},"",null,null,"",""]
[null,null,"",null,"","",null,{"$f":"IFERROR(IF(D1470=\"\",\"\",INDEX(Entradas!$H$3:$H$5000,MATCH(A1470,IF(Entradas!$B$3:$B$5000=D1470,Entradas!$A$3:$A$5000),1))),\"Preço não registrado\")","v":""},"",null,null,"",""]
[null,null,"",null,"","",null,{"$f":"IFERROR(IF(D1471=\"\",\"\",INDEX(Entradas!$H$3:$H$5000,MATCH(A1471,IF(Entradas!$B$3:$B$5000=D1471,Entradas!$A$3:$A$5000),1))),\"Preço não registrado\")","v":""},"",null,null,"",""]
[null,null,"",null,"","",null,{"$f":"IFERROR(IF(D1472=\"\",\"\",INDEX(Entradas!$H$3:$H$5000,MATCH(A1472,IF(Entradas!$B$3:$B$5000=D1472,Entradas!$A$3:$A$5000),1))),\"Preço não registrado\")","v":""},"",null,null,"",""]
[null,null,"",null,"","",null,{"$f":"IFERROR(IF(D1473=\"\",\"\",INDEX(Entradas!$H$3:$H$5000,MATCH(A1473,IF(Entradas!$B$3:$B$5000=D1473,Entradas!$A$3:$A$5000),1))),\"Preço não registrado\")","v":""},"",null,null,"",""]
[null,null,"",null,"","",null,{"$f":"IFERROR(IF(D1474=\"\",\"\",INDEX(Entradas!$H$3:$H$5000,MATCH(A1474,IF(Entradas!$B$3:$B$5000=D1474,Entradas!$A$3:$A$5000),1))),\"Preço não registrado\")","v":""},"",null,null,"",""]
[null,null,{"$f":"IFERROR(IF(B1475=\"\",\"\",VLOOKUP(B1475,Clientes,2,FALSE)),\"\")","v":""},null,{"$f":"IF(D1475=\"\",\"\",VLOOKUP(D1475,Itens,2,FALSE))","v":""},{"$f":"IF(D1475=\"\",\"\",VLOOKUP(D1475,Itens,3,FALSE))","v":""},null,{"$f":"IFERROR(IF(D1475=\"\",\"\",INDEX(Entradas!$H$3:$H$5000,MATCH(A1475,IF(Entradas!$B$3:$B$5000=D1475,Entradas!$A$3:$A$5000),1))),\"Preço não registrado\")","v":""},"",null,null,"",""]
[null,null,"",null,"","",null,{"$f":"IFERROR(IF(D1476=\"\",\"\",INDEX(Entradas!$H$3:$H$5000,MATCH(A1476,IF(Entradas!$B$3:$B$5000=D1476,Entradas!$A$3:$A$5000),1))),\"Preço não registrado\")","v":""},{"$f":"IFERROR(G1476*H1476,\"\")","v":""},null,null,{"$f":"IF(K1476=\"\",\"\",HYPERLINK($P$13&K1476,\"Rastreie aqui\"))","v":""},{"$f":"IF(A1476=\"\",\"\",TEXT(A1476,\"mmmm\"))","v":""}]
[null,null,"",null,"","",null,{"$f":"IFERROR(IF(D1477=\"\",\"\",INDEX(Entradas!$H$3:$H$5000,MATCH(A1477,IF(Entradas!$B$3:$B$5000=D1477,Entradas!$A$3:$A$5000),1))),\"Preço não registrado\")","v":""},"",null,null,"",""]
[null,null,"",null,"","",null,{"$f":"IFERROR(IF(D1478=\"\",\"\",INDEX(Entradas!$H$3:$H$5000,MATCH(A1478,IF(Entradas!$B$3:$B$5000=D1478,Entradas!$A$3:$A$5000),1))),\"Preço não registrado\")","v":""},"",null,null,"",""]
[null,null,"",null,"","",null,{"$f":"IFERROR(IF(D1479=\"\",\"\",INDEX(Entradas!$H$3:$H$5000,MATCH(A1479,IF(Entradas!$B$3:$B$5000=D1479,Entradas!$A$3:$A$5000),1))),\"Preço não registrado\")","v":""},"",null,null,"",""]
[null,null,"",null,"","",null,{"$f":"IFERROR(IF(D1480=\"\",\"\",INDEX(Entradas!$H$3:$H$5000,MATCH(A1480,IF(Entradas!$B$3:$B$5000=D1480,Entradas!$A$3:$A$5000),1))),\"Preço não registrado\")","v":""},"",null,null,"",""]
[null,null,"",null,"","",null,{"$f":"IFERROR(IF(D1481=\"\",\"\",INDEX(Entradas!$H$3:$H$5000,MATCH(A1481,IF(Entradas!$B$3:$B$5000=D1481,Entradas!$A$3:$A$5000),1))),\"Preço não registrado\")","v":""},"",null,null,"",""]
[null,null,"",null,"","",null,{"$f":"IFERROR(IF(D1482=\"\",\"\",INDEX(Entradas!$H$3:$H$5000,MATCH(A1482,IF(Entradas!$B$3:$B$5000=D1482,Entradas!$A$3:$A$5000),1))),\"Preço não registrado\")","v":""},"",null,null,"",""]
[null,null,"",null,"","",null,{"$f":"IFERROR(IF(D1483=\"\",\"\",INDEX(Entradas!$H$3:$H$5000,MATCH(A1483,IF(Entradas!$B$3:$B$5000=D1483,Entradas!$A$3:$A$5000),1))),\"Preço não registrado\")","v":""},"",null,null,"",""]
[null,null,"",null,"","",null,{"$f":"IFERROR(IF(D1484=\"\",\"\",INDEX(Entradas!$H$3:$H$5000,MATCH(A1484,IF(Entradas!$B$3:$B$5000=D1484,Entradas!$A$3:$A$5000),1))),\"Preço não registrado\")","v":""},"",null,null,"",""]
[null,null,"",null,"","",null,{"$f":"IFERROR(IF(D1485=\"\",\"\",INDEX(Entradas!$H$3:$H$5000,MATCH(A1485,IF(Entradas!$B$3:$B$5000=D1485,Entradas!$A$3:$A$5000),1))),\"Preço não registrado\")","v":""},"",null,null,"",""]
[null,null,"",null,"","",null,{"$f":"IFERROR(IF(D1486=\"\",\"\",INDEX(Entradas!$H$3:$H$5000,MATCH(A1486,IF(Entradas!$B$3:$B$5000=D1486,Entradas!$A$3:$A$5000),1))),\"Preço não registrado\")","v":""},"",null,null,"",""]
[null,null,"",null,"","",null,{"$f":"IFERROR(IF(D1487=\"\",\"\",INDEX(Entradas!$H$3:$H$5000,MATCH(A1487,IF(Entradas!$B$3:$B$5000=D1487,Entradas!$A$3:$A$5000),1))),\"Preço não registrado\")","v":""},"",null,null,"",""]
[null,null,"",null,"","",null,{"$f":"IFERROR(IF(D1488=\"\",\"\",INDEX(Entradas!$H$3:$H$5000,MATCH(A1488,IF(Entradas!$B$3:$B$5000=D1488,Entradas!$A$3:$A$5000),1))),\"Preço não registrado\")","v":""},"",null,null,"",""]
[null,null,"",null,"","",null,{"$f":"IFERROR(IF(D1489=\"\",\"\",INDEX(Entradas!$H$3:$H$5000,MATCH(A1489,IF(Entradas!$B$3:$B$5000=D1489,Entradas!$A$3:$A$5000),1))),\"Preço não registrado\")","v":""},"",null,null,"",""]
[null,null,"",null,"","",null,{"$f":"IFERROR(IF(D1490=\"\",\"\",INDEX(Entradas!$H$3:$H$5000,MATCH(A1490,IF(Entradas!$B$3:$B$5000=D1490,Entradas!$A$3:$A$5000),1))),\"Preço não registrado\")","v":""},"",null,null,"",""]
[null,null,"",null,"","",null,{"$f":"IFERROR(IF(D1491=\"\",\"\",INDEX(Entradas!$H$3:$H$5000,MATCH(A1491,IF(Entradas!$B$3:$B$5000=D1491,Entradas!$A$3:$A$5000),1))),\"Preço não registrado\")","v":""},"",null,null,"",""]
[null,null,"",null,"","",null,{"$f":"IFERROR(IF(D1492=\"\",\"\",INDEX(Entradas!$H$3:$H$5000,MATCH(A1492,IF(Entradas!$B$3:$B$5000=D1492,Entradas!$A$3:$A$5000),1))),\"Preço não registrado\")","v":""},"",null,null,"",""]
[null,null,"",null,"","",null,{"$f":"IFERROR(IF(D1493=\"\",\"\",INDEX(Entradas!$H$3:$H$5000,MATCH(A1493,IF(Entradas!$B$3:$B$5000=D1493,Entradas!$A$3:$A$5000),1))),\"Preço não registrado\")","v":""},"",null,null,"",""]
[null,null,"",null,"","",null,{"$f":"IFERROR(IF(D1494=\"\",\"\",INDEX(Entradas!$H$3:$H$5000,MATCH(A1494,IF(Entradas!$B$3:$B$5000=D1494,Entradas!$A$3:$A$5000),1))),\"Preço não registrado\")","v":""},"",null,null,"",""]
[null,null,"",null,"","",null,{"$f":"IFERROR(IF(D1495=\"\",\"\",INDEX(Entradas!$H$3:$H$5000,MATCH(A1495,IF(Entradas!$B$3:$B$5000=D1495,Entradas!$A$3:$A$5000),1))),\"Preço não registrado\")","v":""},"",null,null,"",""]
[null,null,"",null,"","",null,{"$f":"IFERROR(IF(D1496=\"\",\"\",INDEX(Entradas!$H$3:$H$5000,MATCH(A1496,IF(Entradas!$B$3:$B$5000=D1496,Entradas!$A$3:$A$5000),1))),\"Preço não registrado\")","v":""},"",null,null,"",""]
[null,null,"",null,"","",null,{"$f":"IFERROR(IF(D1497=\"\",\"\",INDEX(Entradas!$H$3:$H$5000,MATCH(A1497,IF(Entradas!$B$3:$B$5000=D1497,Entradas!$A$3:$A$5000),1))),\"Preço não registrado\")","v":""},"",null,null,"",""]
[null,null,"",null,"","",null,{"$f":"IFERROR(IF(D1498=\"\",\"\",INDEX(Entradas!$H$3:$H$5000,MATCH(A1498,IF(Entradas!$B$3:$B$5000=D1498,Entradas!$A$3:$A$5000),1))),\"Preço não registrado\")","v":""},"",null,null,"",""]
[null,null,"",null,"","",null,{"$f":"IFERROR(IF(D1499=\"\",\"\",INDEX(Entradas!$H$3:$H$5000,MATCH(A1499,IF(Entradas!$B$3:$B$5000=D1499,Entradas!$A$3:$A$5000),1))),\"Preço não registrado\")","v":""},"",null,null,"",""]
[null,null,"",null,"","",null,{"$f":"IFERROR(IF(D1500=\"\",\"\",INDEX(Entradas!$H$3:$H$5000,MATCH(A1500,IF(Entradas!$B$3:$B$5000=D1500,Entradas!$A$3:$A$5000),1))),\"Preço não registrado\")","v":""},"",null,null,"",""]
[null,null,"",null,"","",null,{"$f":"IFERROR(IF(D1501=\"\",\"\",INDEX(Entradas!$H$3:$H$5000,MATCH(A1501,IF(Entradas!$B$3:$B$5000=D1501,Entradas!$A$3:$A$5000),1))),\"Preço não registrado\")","v":""},"",null,null,"",""]
[null,null,"",null,"","",null,{"$f":"IFERROR(IF(D1502=\"\",\"\",INDEX(Entradas!$H$3:$H$5000,MATCH(A1502,IF(Entradas!$B$3:$B$5000=D1502,Entradas!$A$3:$A$5000),1))),\"Preço não registrado\")","v":""},"",null,null,"",""]
[null,null,"",null,"","",null,{"$f":"IFERROR(IF(D1503=\"\",\"\",INDEX(Entradas!$H$3:$H$5000,MATCH(A1503,IF(Entradas!$B$3:$B$5000=D1503,Entradas!$A$3:$A$5000),1))),\"Preço não registrado\")","v":""},"",null,null,"",""]
[null,null,"",null,"","",null,{"$f":"IFERROR(IF(D1504=\"\",\"\",INDEX(Entradas!$H$3:$H$5000,MATCH(A1504,IF(Entradas!$B$3:$B$5000=D1504,Entradas!$A$3:$A$5000),1))),\"Preço não registrado\")","v":""},"",null,null,"",""]
[null,null,"",null,"","",null,{"$f":"IFERROR(IF(D1505=\"\",\"\",INDEX(Entradas!$H$3:$H$5000,MATCH(A1505,IF(Entradas!$B$3:$B$5000=D1505,Entradas!$A$3:$A$5000),1))),\"Preço não registrado\")","v":""},"",null,null,"",""]
[null,null,"",null,"","",null,{"$f":"IFERROR(IF(D1506=\"\",\"\",INDEX(Entradas!$H$3:$H$5000,MATCH(A1506,IF(Entradas!$B$3:$B$5000=D1506,Entradas!$A$3:$A$5000),1))),\"Preço não registrado\")","v":""},"",null,null,"",""]
[null,null,"",null,"","",null,{"$f":"IFERROR(IF(D1507=\"\",\"\",INDEX(Entradas!$H$3:$H$5000,MATCH(A1507,IF(Entradas!$B$3:$B$5000=D1507,Entradas!$A$3:$A$5000),1))),\"Preço não registrado\")","v":""},"",null,null,"",""]
[null,null,"",null,"","",null,{"$f":"IFERROR(IF(D1508=\"\",\"\",INDEX(Entradas!$H$3:$H$5000,MATCH(A1508,IF(Entradas!$B$3:$B$5000=D1508,Entradas!$A$3:$A$5000),1))),\"Preço não registrado\")","v":""},"",null,null,"",""]
[null,null,"",null,"","",null,{"$f":"IFERROR(IF(D1509=\"\",\"\",INDEX(Entradas!$H$3:$H$5000,MATCH(A1509,IF(Entradas!$B$3:$B$5000=D1509,Entradas!$A$3:$A$5000),1))),\"Preço não registrado\")","v":""},"",null,null,"",""]
[null,null,"",null,"","",null,{"$f":"IFERROR(IF(D1510=\"\",\"\",INDEX(Entradas!$H$3:$H$5000,MATCH(A1510,IF(Entradas!$B$3:$B$5000=D1510,Entradas!$A$3:$A$5000),1))),\"Preço não registrado\")","v":""},"",null,null,"",""]
[null,null,"",null,"","",null,{"$f":"IFERROR(IF(D1511=\"\",\"\",INDEX(Entradas!$H$3:$H$5000,MATCH(A1511,IF(Entradas!$B$3:$B$5000=D1511,Entradas!$A$3:$A$5000),1))),\"Preço não registrado\")","v":""},"",null,null,"",""]
[null,null,"",null,"","",null,{"$f":"IFERROR(IF(D1512=\"\",\"\",INDEX(Entradas!$H$3:$H$5000,MATCH(A1512,IF(Entradas!$B$3:$B$5000=D1512,Entradas!$A$3:$A$5000),1))),\"Preço não registrado\")","v":""},"",null,null,"",""]
[null,null,"",null,"","",null,{"$f":"IFERROR(IF(D1513=\"\",\"\",INDEX(Entradas!$H$3:$H$5000,MATCH(A1513,IF(Entradas!$B$3:$B$5000=D1513,Entradas!$A$3:$A$5000),1))),\"Preço não registrado\")","v":""},"",null,null,"",""]
[null,null,"",null,"","",null,{"$f":"IFERROR(IF(D1514=\"\",\"\",INDEX(Entradas!$H$3:$H$5000,MATCH(A1514,IF(Entradas!$B$3:$B$5000=D1514,Entradas!$A$3:$A$5000),1))),\"Preço não registrado\")","v":""},"",null,null,"",""]
[null,null,"",null,"","",null,{"$f":"IFERROR(IF(D1515=\"\",\"\",INDEX(Entradas!$H$3:$H$5000,MATCH(A1515,IF(Entradas!$B$3:$B$5000=D1515,Entradas!$A$3:$A$5000),1))),\"Preço não registrado\")","v":""},"",null,null,"",""]
[null,null,"",null,"","",null,{"$f":"IFERROR(IF(D1516=\"\",\"\",INDEX(Entradas!$H$3:$H$5000,MATCH(A1516,IF(Entradas!$B$3:$B$5000=D1516,Entradas!$A$3:$A$5000),1))),\"Preço não registrado\")","v":""},"",null,null,"",""]
[null,null,"",null,"","",null,{"$f":"IFERROR(IF(D1517=\"\",\"\",INDEX(Entradas!$H$3:$H$5000,MATCH(A1517,IF(Entradas!$B$3:$B$5000=D1517,Entradas!$A$3:$A$5000),1))),\"Preço não registrado\")","v":""},"",null,null,"",""]
[null,null,"",null,"","",null,{"$f":"IFERROR(IF(D1518=\"\",\"\",INDEX(Entradas!$H$3:$H$5000,MATCH(A1518,IF(Entradas!$B$3:$B$5000=D1518,Entradas!$A$3:$A$5000),1))),\"Preço não registrado\")","v":""},"",null,null,"",""]
[null,null,"",null,"","",null,{"$f":"IFERROR(IF(D1519=\"\",\"\",INDEX(Entradas!$H$3:$H$5000,MATCH(A1519,IF(Entradas!$B$3:$B$5000=D1519,Entradas!$A$3:$A$5000),1))),\"Preço não registrado\")","v":""},"",null,null,"",""]
[null,null,"",null,"","",null,{"$f":"IFERROR(IF(D1520=\"\",\"\",INDEX(Entradas!$H$3:$H$5000,MATCH(A1520,IF(Entradas!$B$3:$B$5000=D1520,Entradas!$A$3:$A$5000),1))),\"Preço não registrado\")","v":""},"",null,null,"",""]
[null,null,"",null,"","",null,{"$f":"IFERROR(IF(D1521=\"\",\"\",INDEX(Entradas!$H$3:$H$5000,MATCH(A1521,IF(Entradas!$B$3:$B$5000=D1521,Entradas!$A$3:$A$5000),1))),\"Preço não registrado\")","v":""},"",null,null,"",""]
[null,null,"",null,"","",null,{"$f":"IFERROR(IF(D1522=\"\",\"\",INDEX(Entradas!$H$3:$H$5000,MATCH(A1522,IF(Entradas!$B$3:$B$5000=D1522,Entradas!$A$3:$A$5000),1))),\"Preço não registrado\")","v":""},"",null,null,"",""]
[null,null,"",null,"","",null,{"$f":"IFERROR(IF(D1523=\"\",\"\",INDEX(Entradas!$H$3:$H$5000,MATCH(A1523,IF(Entradas!$B$3:$B$5000=D1523,Entradas!$A$3:$A$5000),1))),\"Preço não registrado\")","v":""},"",null,null,"",""]
[null,null,"",null,"","",null,{"$f":"IFERROR(IF(D1524=\"\",\"\",INDEX(Entradas!$H$3:$H$5000,MATCH(A1524,IF(Entradas!$B$3:$B$5000=D1524,Entradas!$A$3:$A$5000),1))),\"Preço não registrado\")","v":""},"",null,null,"",""]
[null,null,"",null,"","",null,{"$f":"IFERROR(IF(D1525=\"\",\"\",INDEX(Entradas!$H$3:$H$5000,MATCH(A1525,IF(Entradas!$B$3:$B$5000=D1525,Entradas!$A$3:$A$5000),1))),\"Preço não registrado\")","v":""},"",null,null,"",""]
[null,null,"",null,"","",null,{"$f":"IFERROR(IF(D1526=\"\",\"\",INDEX(Entradas!$H$3:$H$5000,MATCH(A1526,IF(Entradas!$B$3:$B$5000=D1526,Entradas!$A$3:$A$5000),1))),\"Preço não registrado\")","v":""},"",null,null,"",""]
[null,null,"",null,"","",null,{"$f":"IFERROR(IF(D1527=\"\",\"\",INDEX(Entradas!$H$3:$H$5000,MATCH(A1527,IF(Entradas!$B$3:$B$5000=D1527,Entradas!$A$3:$A$5000),1))),\"Preço não registrado\")","v":""},"",null,null,"",""]
[null,null,"",null,"","",null,{"$f":"IFERROR(IF(D1528=\"\",\"\",INDEX(Entradas!$H$3:$H$5000,MATCH(A1528,IF(Entradas!$B$3:$B$5000=D1528,Entradas!$A$3:$A$5000),1))),\"Preço não registrado\")","v":""},"",null,null,"",""]
[null,null,"",null,"","",null,{"$f":"IFERROR(IF(D1529=\"\",\"\",INDEX(Entradas!$H$3:$H$5000,MATCH(A1529,IF(Entradas!$B$3:$B$5000=D1529,Entradas!$A$3:$A$5000),1))),\"Preço não registrado\")","v":""},"",null,null,"",""]
[null,null,"",null,"","",null,{"$f":"IFERROR(IF(D1530=\"\",\"\",INDEX(Entradas!$H$3:$H$5000,MATCH(A1530,IF(Entradas!$B$3:$B$5000=D1530,Entradas!$A$3:$A$5000),1))),\"Preço não registrado\")","v":""},"",null,null,"",""]
[null,null,"",null,"","",null,{"$f":"IFERROR(IF(D1531=\"\",\"\",INDEX(Entradas!$H$3:$H$5000,MATCH(A1531,IF(Entradas!$B$3:$B$5000=D1531,Entradas!$A$3:$A$5000),1))),\"Preço não registrado\")","v":""},"",null,null,"",""]
[null,null,"",null,"","",null,{"$f":"IFERROR(IF(D1532=\"\",\"\",INDEX(Entradas!$H$3:$H$5000,MATCH(A1532,IF(Entradas!$B$3:$B$5000=D1532,Entradas!$A$3:$A$5000),1))),\"Preço não registrado\")","v":""},"",null,null,"",""]
[null,null,"",null,"","",null,{"$f":"IFERROR(IF(D1533=\"\",\"\",INDEX(Entradas!$H$3:$H$5000,MATCH(A1533,IF(Entradas!$B$3:$B$5000=D1533,Entradas!$A$3:$A$5000),1))),\"Preço não registrado\")","v":""},"",null,null,"",""]
[null,null,"",null,"","",null,{"$f":"IFERROR(IF(D1534=\"\",\"\",INDEX(Entradas!$H$3:$H$5000,MATCH(A1534,IF(Entradas!$B$3:$B$5000=D1534,Entradas!$A$3:$A$5000),1))),\"Preço não registrado\")","v":""},"",null,null,"",""]
[null,null,"",null,"","",null,{"$f":"IFERROR(IF(D1535=\"\",\"\",INDEX(Entradas!$H$3:$H$5000,MATCH(A1535,IF(Entradas!$B$3:$B$5000=D1535,Entradas!$A$3:$A$5000),1))),\"Preço não registrado\")","v":""},"",null,null,"",""]
[null,null,"",null,"","",null,{"$f":"IFERROR(IF(D1536=\"\",\"\",INDEX(Entradas!$H$3:$H$5000,MATCH(A1536,IF(Entradas!$B$3:$B$5000=D1536,Entradas!$A$3:$A$5000),1))),\"Preço não registrado\")","v":""},"",null,null,"",""]
[null,null,"",null,"","",null,{"$f":"IFERROR(IF(D1537=\"\",\"\",INDEX(Entradas!$H$3:$H$5000,MATCH(A1537,IF(Entradas!$B$3:$B$5000=D1537,Entradas!$A$3:$A$5000),1))),\"Preço não registrado\")","v":""},"",null,null,"",""]
[null,null,"",null,"","",null,{"$f":"IFERROR(IF(D1538=\"\",\"\",INDEX(Entradas!$H$3:$H$5000,MATCH(A1538,IF(Entradas!$B$3:$B$5000=D1538,Entradas!$A$3:$A$5000),1))),\"Preço não registrado\")","v":""},"",null,null,"",""]
[null,null,{"$f":"IFERROR(IF(B1539=\"\",\"\",VLOOKUP(B1539,Clientes,2,FALSE)),\"\")","v":""},null,{"$f":"IF(D1539=\"\",\"\",VLOOKUP(D1539,Itens,2,FALSE))","v":""},{"$f":"IF(D1539=\"\",\"\",VLOOKUP(D1539,Itens,3,FALSE))","v":""},null,{"$f":"IFERROR(IF(D1539=\"\",\"\",INDEX(Entradas!$H$3:$H$5000,MATCH(A1539,IF(Entradas!$B$3:$B$5000=D1539,Entradas!$A$3:$A$5000),1))),\"Preço não registrado\")","v":""},"",null,null,"",""]
[null,null,"",null,"","",null,{"$f":"IFERROR(IF(D1540=\"\",\"\",INDEX(Entradas!$H$3:$H$5000,MATCH(A1540,IF(Entradas!$B$3:$B$5000=D1540,Entradas!$A$3:$A$5000),1))),\"Preço não registrado\")","v":""},{"$f":"IFERROR(G1540*H1540,\"\")","v":""},null,null,{"$f":"IF(K1540=\"\",\"\",HYPERLINK($P$13&K1540,\"Rastreie aqui\"))","v":""},{"$f":"IF(A1540=\"\",\"\",TEXT(A1540,\"mmmm\"))","v":""}]
[null,null,"",null,"","",null,{"$f":"IFERROR(IF(D1541=\"\",\"\",INDEX(Entradas!$H$3:$H$5000,MATCH(A1541,IF(Entradas!$B$3:$B$5000=D1541,Entradas!$A$3:$A$5000),1))),\"Preço não registrado\")","v":""},"",null,null,"",""]
[null,null,"",null,"","",null,{"$f":"IFERROR(IF(D1542=\"\",\"\",INDEX(Entradas!$H$3:$H$5000,MATCH(A1542,IF(Entradas!$B$3:$B$5000=D1542,Entradas!$A$3:$A$5000),1))),\"Preço não registrado\")","v":""},"",null,null,"",""]
[null,null,"",null,"","",null,{"$f":"IFERROR(IF(D1543=\"\",\"\",INDEX(Entradas!$H$3:$H$5000,MATCH(A1543,IF(Entradas!$B$3:$B$5000=D1543,Entradas!$A$3:$A$5000),1))),\"Preço não registrado\")","v":""},"",null,null,"",""]
[null,null,"",null,"","",null,{"$f":"IFERROR(IF(D1544=\"\",\"\",INDEX(Entradas!$H$3:$H$5000,MATCH(A1544,IF(Entradas!$B$3:$B$5000=D1544,Entradas!$A$3:$A$5000),1))),\"Preço não registrado\")","v":""},"",null,null,"",""]
[null,null,"",null,"","",null,{"$f":"IFERROR(IF(D1545=\"\",\"\",INDEX(Entradas!$H$3:$H$5000,MATCH(A1545,IF(Entradas!$B$3:$B$5000=D1545,Entradas!$A$3:$A$5000),1))),\"Preço não registrado\")","v":""},"",null,null,"",""]
[null,null,"",null,"","",null,{"$f":"IFERROR(IF(D1546=\"\",\"\",INDEX(Entradas!$H$3:$H$5000,MATCH(A1546,IF(Entradas!$B$3:$B$5000=D1546,Entradas!$A$3:$A$5000),1))),\"Preço não registrado\")","v":""},"",null,null,"",""]
[null,null,"",null,"","",null,{"$f":"IFERROR(IF(D1547=\"\",\"\",INDEX(Entradas!$H$3:$H$5000,MATCH(A1547,IF(Entradas!$B$3:$B$5000=D1547,Entradas!$A$3:$A$5000),1))),\"Preço não registrado\")","v":""},"",null,null,"",""]
[null,null,"",null,"","",null,{"$f":"IFERROR(IF(D1548=\"\",\"\",INDEX(Entradas!$H$3:$H$5000,MATCH(A1548,IF(Entradas!$B$3:$B$5000=D1548,Entradas!$A$3:$A$5000),1))),\"Preço não registrado\")","v":""},"",null,null,"",""]
[null,null,"",null,"","",null,{"$f":"IFERROR(IF(D1549=\"\",\"\",INDEX(Entradas!$H$3:$H$5000,MATCH(A1549,IF(Entradas!$B$3:$B$5000=D1549,Entradas!$A$3:$A$5000),1))),\"Preço não registrado\")","v":""},"",null,null,"",""]
[null,null,"",null,"","",null,{"$f":"IFERROR(IF(D1550=\"\",\"\",INDEX(Entradas!$H$3:$H$5000,MATCH(A1550,IF(Entradas!$B$3:$B$5000=D1550,Entradas!$A$3:$A$5000),1))),\"Preço não registrado\")","v":""},"",null,null,"",""]
[null,null,"",null,"","",null,{"$f":"IFERROR(IF(D1551=\"\",\"\",INDEX(Entradas!$H$3:$H$5000,MATCH(A1551,IF(Entradas!$B$3:$B$5000=D1551,Entradas!$A$3:$A$5000),1))),\"Preço não registrado\")","v":""},"",null,null,"",""]
[null,null,"",null,"","",null,{"$f":"IFERROR(IF(D1552=\"\",\"\",INDEX(Entradas!$H$3:$H$5000,MATCH(A1552,IF(Entradas!$B$3:$B$5000=D1552,Entradas!$A$3:$A$5000),1))),\"Preço não registrado\")","v":""},"",null,null,"",""]
[null,null,"",null,"","",null,{"$f":"IFERROR(IF(D1553=\"\",\"\",INDEX(Entradas!$H$3:$H$5000,MATCH(A1553,IF(Entradas!$B$3:$B$5000=D1553,Entradas!$A$3:$A$5000),1))),\"Preço não registrado\")","v":""},"",null,null,"",""]
[null,null,"",null,"","",null,{"$f":"IFERROR(IF(D1554=\"\",\"\",INDEX(Entradas!$H$3:$H$5000,MATCH(A1554,IF(Entradas!$B$3:$B$5000=D1554,Entradas!$A$3:$A$5000),1))),\"Preço não registrado\")","v":""},"",null,null,"",""]
[null,null,"",null,"","",null,{"$f":"IFERROR(IF(D1555=\"\",\"\",INDEX(Entradas!$H$3:$H$5000,MATCH(A1555,IF(Entradas!$B$3:$B$5000=D1555,Entradas!$A$3:$A$5000),1))),\"Preço não registrado\")","v":""},"",null,null,"",""]
[null,null,"",null,"","",null,{"$f":"IFERROR(IF(D1556=\"\",\"\",INDEX(Entradas!$H$3:$H$5000,MATCH(A1556,IF(Entradas!$B$3:$B$5000=D1556,Entradas!$A$3:$A$5000),1))),\"Preço não registrado\")","v":""},"",null,null,"",""]
[null,null,"",null,"","",null,{"$f":"IFERROR(IF(D1557=\"\",\"\",INDEX(Entradas!$H$3:$H$5000,MATCH(A1557,IF(Entradas!$B$3:$B$5000=D1557,Entradas!$A$3:$A$5000),1))),\"Preço não registrado\")","v":""},"",null,null,"",""]
[null,null,"",null,"","",null,{"$f":"IFERROR(IF(D1558=\"\",\"\",INDEX(Entradas!$H$3:$H$5000,MATCH(A1558,IF(Entradas!$B$3:$B$5000=D1558,Entradas!$A$3:$A$5000),1))),\"Preço não registrado\")","v":""},"",null,null,"",""]
[null,null,"",null,"","",null,{"$f":"IFERROR(IF(D1559=\"\",\"\",INDEX(Entradas!$H$3:$H$5000,MATCH(A1559,IF(Entradas!$B$3:$B$5000=D1559,Entradas!$A$3:$A$5000),1))),\"Preço não registrado\")","v":""},"",null,null,"",""]
[null,null,"",null,"","",null,{"$f":"IFERROR(IF(D1560=\"\",\"\",INDEX(Entradas!$H$3:$H$5000,MATCH(A1560,IF(Entradas!$B$3:$B$5000=D1560,Entradas!$A$3:$A$5000),1))),\"Preço não registrado\")","v":""},"",null,null,"",""]
[null,null,"",null,"","",null,{"$f":"IFERROR(IF(D1561=\"\",\"\",INDEX(Entradas!$H$3:$H$5000,MATCH(A1561,IF(Entradas!$B$3:$B$5000=D1561,Entradas!$A$3:$A$5000),1))),\"Preço não registrado\")","v":""},"",null,null,"",""]
[null,null,"",null,"","",null,{"$f":"IFERROR(IF(D1562=\"\",\"\",INDEX(Entradas!$H$3:$H$5000,MATCH(A1562,IF(Entradas!$B$3:$B$5000=D1562,Entradas!$A$3:$A$5000),1))),\"Preço não registrado\")","v":""},"",null,null,"",""]
[null,null,"",null,"","",null,{"$f":"IFERROR(IF(D1563=\"\",\"\",INDEX(Entradas!$H$3:$H$5000,MATCH(A1563,IF(Entradas!$B$3:$B$5000=D1563,Entradas!$A$3:$A$5000),1))),\"Preço não registrado\")","v":""},"",null,null,"",""]
[null,null,"",null,"","",null,{"$f":"IFERROR(IF(D1564=\"\",\"\",INDEX(Entradas!$H$3:$H$5000,MATCH(A1564,IF(Entradas!$B$3:$B$5000=D1564,Entradas!$A$3:$A$5000),1))),\"Preço não registrado\")","v":""},"",null,null,"",""]
[null,null,"",null,"","",null,{"$f":"IFERROR(IF(D1565=\"\",\"\",INDEX(Entradas!$H$3:$H$5000,MATCH(A1565,IF(Entradas!$B$3:$B$5000=D1565,Entradas!$A$3:$A$5000),1))),\"Preço não registrado\")","v":""},"",null,null,"",""]
[null,null,"",null,"","",null,{"$f":"IFERROR(IF(D1566=\"\",\"\",INDEX(Entradas!$H$3:$H$5000,MATCH(A1566,IF(Entradas!$B$3:$B$5000=D1566,Entradas!$A$3:$A$5000),1))),\"Preço não registrado\")","v":""},"",null,null,"",""]
[null,null,"",null,"","",null,{"$f":"IFERROR(IF(D1567=\"\",\"\",INDEX(Entradas!$H$3:$H$5000,MATCH(A1567,IF(Entradas!$B$3:$B$5000=D1567,Entradas!$A$3:$A$5000),1))),\"Preço não registrado\")","v":""},"",null,null,"",""]
[null,null,"",null,"","",null,{"$f":"IFERROR(IF(D1568=\"\",\"\",INDEX(Entradas!$H$3:$H$5000,MATCH(A1568,IF(Entradas!$B$3:$B$5000=D1568,Entradas!$A$3:$A$5000),1))),\"Preço não registrado\")","v":""},"",null,null,"",""]
[null,null,"",null,"","",null,{"$f":"IFERROR(IF(D1569=\"\",\"\",INDEX(Entradas!$H$3:$H$5000,MATCH(A1569,IF(Entradas!$B$3:$B$5000=D1569,Entradas!$A$3:$A$5000),1))),\"Preço não registrado\")","v":""},"",null,null,"",""]
[null,null,"",null,"","",null,{"$f":"IFERROR(IF(D1570=\"\",\"\",INDEX(Entradas!$H$3:$H$5000,MATCH(A1570,IF(Entradas!$B$3:$B$5000=D1570,Entradas!$A$3:$A$5000),1))),\"Preço não registrado\")","v":""},"",null,null,"",""]
[null,null,"",null,"","",null,{"$f":"IFERROR(IF(D1571=\"\",\"\",INDEX(Entradas!$H$3:$H$5000,MATCH(A1571,IF(Entradas!$B$3:$B$5000=D1571,Entradas!$A$3:$A$5000),1))),\"Preço não registrado\")","v":""},"",null,null,"",""]
[null,null,"",null,"","",null,{"$f":"IFERROR(IF(D1572=\"\",\"\",INDEX(Entradas!$H$3:$H$5000,MATCH(A1572,IF(Entradas!$B$3:$B$5000=D1572,Entradas!$A$3:$A$5000),1))),\"Preço não registrado\")","v":""},"",null,null,"",""]
[null,null,"",null,"","",null,{"$f":"IFERROR(IF(D1573=\"\",\"\",INDEX(Entradas!$H$3:$H$5000,MATCH(A1573,IF(Entradas!$B$3:$B$5000=D1573,Entradas!$A$3:$A$5000),1))),\"Preço não registrado\")","v":""},"",null,null,"",""]
[null,null,"",null,"","",null,{"$f":"IFERROR(IF(D1574=\"\",\"\",INDEX(Entradas!$H$3:$H$5000,MATCH(A1574,IF(Entradas!$B$3:$B$5000=D1574,Entradas!$A$3:$A$5000),1))),\"Preço não registrado\")","v":""},"",null,null,"",""]
[null,null,"",null,"","",null,{"$f":"IFERROR(IF(D1575=\"\",\"\",INDEX(Entradas!$H$3:$H$5000,MATCH(A1575,IF(Entradas!$B$3:$B$5000=D1575,Entradas!$A$3:$A$5000),1))),\"Preço não registrado\")","v":""},"",null,null,"",""]
[null,null,"",null,"","",null,{"$f":"IFERROR(IF(D1576=\"\",\"\",INDEX(Entradas!$H$3:$H$5000,MATCH(A1576,IF(Entradas!$B$3:$B$5000=D1576,Entradas!$A$3:$A$5000),1))),\"Preço não registrado\")","v":""},"",null,null,"",""]
[null,null,"",null,"","",null,{"$f":"IFERROR(IF(D1577=\"\",\"\",INDEX(Entradas!$H$3:$H$5000,MATCH(A1577,IF(Entradas!$B$3:$B$5000=D1577,Entradas!$A$3:$A$5000),1))),\"Preço não registrado\")","v":""},"",null,null,"",""]
[null,null,"",null,"","",null,{"$f":"IFERROR(IF(D1578=\"\",\"\",INDEX(Entradas!$H$3:$H$5000,MATCH(A1578,IF(Entradas!$B$3:$B$5000=D1578,Entradas!$A$3:$A$5000),1))),\"Preço não registrado\")","v":""},"",null,null,"",""]
[null,null,"",null,"","",null,{"$f":"IFERROR(IF(D1579=\"\",\"\",INDEX(Entradas!$H$3:$H$5000,MATCH(A1579,IF(Entradas!$B$3:$B$5000=D1579,Entradas!$A$3:$A$5000),1))),\"Preço não registrado\")","v":""},"",null,null,"",""]
[null,null,"",null,"","",null,{"$f":"IFERROR(IF(D1580=\"\",\"\",INDEX(Entradas!$H$3:$H$5000,MATCH(A1580,IF(Entradas!$B$3:$B$5000=D1580,Entradas!$A$3:$A$5000),1))),\"Preço não registrado\")","v":""},"",null,null,"",""]
[null,null,"",null,"","",null,{"$f":"IFERROR(IF(D1581=\"\",\"\",INDEX(Entradas!$H$3:$H$5000,MATCH(A1581,IF(Entradas!$B$3:$B$5000=D1581,Entradas!$A$3:$A$5000),1))),\"Preço não registrado\")","v":""},"",null,null,"",""]
[null,null,"",null,"","",null,{"$f":"IFERROR(IF(D1582=\"\",\"\",INDEX(Entradas!$H$3:$H$5000,MATCH(A1582,IF(Entradas!$B$3:$B$5000=D1582,Entradas!$A$3:$A$5000),1))),\"Preço não registrado\")","v":""},"",null,null,"",""]
[null,null,"",null,"","",null,{"$f":"IFERROR(IF(D1583=\"\",\"\",INDEX(Entradas!$H$3:$H$5000,MATCH(A1583,IF(Entradas!$B$3:$B$5000=D1583,Entradas!$A$3:$A$5000),1))),\"Preço não registrado\")","v":""},"",null,null,"",""]
[null,null,"",null,"","",null,{"$f":"IFERROR(IF(D1584=\"\",\"\",INDEX(Entradas!$H$3:$H$5000,MATCH(A1584,IF(Entradas!$B$3:$B$5000=D1584,Entradas!$A$3:$A$5000),1))),\"Preço não registrado\")","v":""},"",null,null,"",""]
[null,null,"",null,"","",null,{"$f":"IFERROR(IF(D1585=\"\",\"\",INDEX(Entradas!$H$3:$H$5000,MATCH(A1585,IF(Entradas!$B$3:$B$5000=D1585,Entradas!$A$3:$A$5000),1))),\"Preço não registrado\")","v":""},"",null,null,"",""]
[null,null,"",null,"","",null,{"$f":"IFERROR(IF(D1586=\"\",\"\",INDEX(Entradas!$H$3:$H$5000,MATCH(A1586,IF(Entradas!$B$3:$B$5000=D1586,Entradas!$A$3:$A$5000),1))),\"Preço não registrado\")","v":""},"",null,null,"",""]
[null,null,"",null,"","",null,{"$f":"IFERROR(IF(D1587=\"\",\"\",INDEX(Entradas!$H$3:$H$5000,MATCH(A1587,IF(Entradas!$B$3:$B$5000=D1587,Entradas!$A$3:$A$5000),1))),\"Preço não registrado\")","v":""},"",null,null,"",""]
[null,null,"",null,"","",null,{"$f":"IFERROR(IF(D1588=\"\",\"\",INDEX(Entradas!$H$3:$H$5000,MATCH(A1588,IF(Entradas!$B$3:$B$5000=D1588,Entradas!$A$3:$A$5000),1))),\"Preço não registrado\")","v":""},"",null,null,"",""]
[null,null,"",null,"","",null,{"$f":"IFERROR(IF(D1589=\"\",\"\",INDEX(Entradas!$H$3:$H$5000,MATCH(A1589,IF(Entradas!$B$3:$B$5000=D1589,Entradas!$A$3:$A$5000),1))),\"Preço não registrado\")","v":""},"",null,null,"",""]
[null,null,"",null,"","",null,{"$f":"IFERROR(IF(D1590=\"\",\"\",INDEX(Entradas!$H$3:$H$5000,MATCH(A1590,IF(Entradas!$B$3:$B$5000=D1590,Entradas!$A$3:$A$5000),1))),\"Preço não registrado\")","v":""},"",null,null,"",""]
[null,null,"",null,"","",null,{"$f":"IFERROR(IF(D1591=\"\",\"\",INDEX(Entradas!$H$3:$H$5000,MATCH(A1591,IF(Entradas!$B$3:$B$5000=D1591,Entradas!$A$3:$A$5000),1))),\"Preço não registrado\")","v":""},"",null,null,"",""]
[null,null,"",null,"","",null,{"$f":"IFERROR(IF(D1592=\"\",\"\",INDEX(Entradas!$H$3:$H$5000,MATCH(A1592,IF(Entradas!$B$3:$B$5000=D1592,Entradas!$A$3:$A$5000),1))),\"Preço não registrado\")","v":""},"",null,null,"",""]
[null,null,"",null,"","",null,{"$f":"IFERROR(IF(D1593=\"\",\"\",INDEX(Entradas!$H$3:$H$5000,MATCH(A1593,IF(Entradas!$B$3:$B$5000=D1593,Entradas!$A$3:$A$5000),1))),\"Preço não registrado\")","v":""},"",null,null,"",""]
[null,null,"",null,"","",null,{"$f":"IFERROR(IF(D1594=\"\",\"\",INDEX(Entradas!$H$3:$H$5000,MATCH(A1594,IF(Entradas!$B$3:$B$5000=D1594,Entradas!$A$3:$A$5000),1))),\"Preço não registrado\")","v":""},"",null,null,"",""]
[null,null,"",null,"","",null,{"$f":"IFERROR(IF(D1595=\"\",\"\",INDEX(Entradas!$H$3:$H$5000,MATCH(A1595,IF(Entradas!$B$3:$B$5000=D1595,Entradas!$A$3:$A$5000),1))),\"Preço não registrado\")","v":""},"",null,null,"",""]
[null,null,"",null,"","",null,{"$f":"IFERROR(IF(D1596=\"\",\"\",INDEX(Entradas!$H$3:$H$5000,MATCH(A1596,IF(Entradas!$B$3:$B$5000=D1596,Entradas!$A$3:$A$5000),1))),\"Preço não registrado\")","v":""},"",null,null,"",""]
[null,null,"",null,"","",null,{"$f":"IFERROR(IF(D1597=\"\",\"\",INDEX(Entradas!$H$3:$H$5000,MATCH(A1597,IF(Entradas!$B$3:$B$5000=D1597,Entradas!$A$3:$A$5000),1))),\"Preço não registrado\")","v":""},"",null,null,"",""]
[null,null,"",null,"","",null,{"$f":"IFERROR(IF(D1598=\"\",\"\",INDEX(Entradas!$H$3:$H$5000,MATCH(A1598,IF(Entradas!$B$3:$B$5000=D1598,Entradas!$A$3:$A$5000),1))),\"Preço não registrado\")","v":""},"",null,null,"",""]
[null,null,"",null,"","",null,{"$f":"IFERROR(IF(D1599=\"\",\"\",INDEX(Entradas!$H$3:$H$5000,MATCH(A1599,IF(Entradas!$B$3:$B$5000=D1599,Entradas!$A$3:$A$5000),1))),\"Preço não registrado\")","v":""},"",null,null,"",""]
[null,null,"",null,"","",null,{"$f":"IFERROR(IF(D1600=\"\",\"\",INDEX(Entradas!$H$3:$H$5000,MATCH(A1600,IF(Entradas!$B$3:$B$5000=D1600,Entradas!$A$3:$A$5000),1))),\"Preço não registrado\")","v":""},"",null,null,"",""]
[null,null,"",null,"","",null,{"$f":"IFERROR(IF(D1601=\"\",\"\",INDEX(Entradas!$H$3:$H$5000,MATCH(A1601,IF(Entradas!$B$3:$B$5000=D1601,Entradas!$A$3:$A$5000),1))),\"Preço não registrado\")","v":""},"",null,null,"",""]
[null,null,"",null,"","",null,{"$f":"IFERROR(IF(D1602=\"\",\"\",INDEX(Entradas!$H$3:$H$5000,MATCH(A1602,IF(Entradas!$B$3:$B$5000=D1602,Entradas!$A$3:$A$5000),1))),\"Preço não registrado\")","v":""},"",null,null,"",""]
[null,null,{"$f":"IFERROR(IF(B1603=\"\",\"\",VLOOKUP(B1603,Clientes,2,FALSE)),\"\")","v":""},null,{"$f":"IF(D1603=\"\",\"\",VLOOKUP(D1603,Itens,2,FALSE))","v":""},{"$f":"IF(D1603=\"\",\"\",VLOOKUP(D1603,Itens,3,FALSE))","v":""},null,{"$f":"IFERROR(IF(D1603=\"\",\"\",INDEX(Entradas!$H$3:$H$5000,MATCH(A1603,IF(Entradas!$B$3:$B$5000=D1603,Entradas!$A$3:$A$5000),1))),\"Preço não registrado\")","v":""},"",null,null,"",""]
[null,null,"",null,"","",null,{"$f":"IFERROR(IF(D1604=\"\",\"\",INDEX(Entradas!$H$3:$H$5000,MATCH(A1604,IF(Entradas!$B$3:$B$5000=D1604,Entradas!$A$3:$A$5000),1))),\"Preço não registrado\")","v":""},{"$f":"IFERROR(G1604*H1604,\"\")","v":""},null,null,{"$f":"IF(K1604=\"\",\"\",HYPERLINK($P$13&K1604,\"Rastreie aqui\"))","v":""},{"$f":"IF(A1604=\"\",\"\",TEXT(A1604,\"mmmm\"))","v":""}]
[null,null,"",null,"","",null,{"$f":"IFERROR(IF(D1605=\"\",\"\",INDEX(Entradas!$H$3:$H$5000,MATCH(A1605,IF(Entradas!$B$3:$B$5000=D1605,Entradas!$A$3:$A$5000),1))),\"Preço não registrado\")","v":""},"",null,null,"",""]
[null,null,"",null,"","",null,{"$f":"IFERROR(IF(D1606=\"\",\"\",INDEX(Entradas!$H$3:$H$5000,MATCH(A1606,IF(Entradas!$B$3:$B$5000=D1606,Entradas!$A$3:$A$5000),1))),\"Preço não registrado\")","v":""},"",null,null,"",""]
[null,null,"",null,"","",null,{"$f":"IFERROR(IF(D1607=\"\",\"\",INDEX(Entradas!$H$3:$H$5000,MATCH(A1607,IF(Entradas!$B$3:$B$5000=D1607,Entradas!$A$3:$A$5000),1))),\"Preço não registrado\")","v":""},"",null,null,"",""]
[null,null,"",null,"","",null,{"$f":"IFERROR(IF(D1608=\"\",\"\",INDEX(Entradas!$H$3:$H$5000,MATCH(A1608,IF(Entradas!$B$3:$B$5000=D1608,Entradas!$A$3:$A$5000),1))),\"Preço não registrado\")","v":""},"",null,null,"",""]
[null,null,"",null,"","",null,{"$f":"IFERROR(IF(D1609=\"\",\"\",INDEX(Entradas!$H$3:$H$5000,MATCH(A1609,IF(Entradas!$B$3:$B$5000=D1609,Entradas!$A$3:$A$5000),1))),\"Preço não registrado\")","v":""},"",null,null,"",""]
[null,null,"",null,"","",null,{"$f":"IFERROR(IF(D1610=\"\",\"\",INDEX(Entradas!$H$3:$H$5000,MATCH(A1610,IF(Entradas!$B$3:$B$5000=D1610,Entradas!$A$3:$A$5000),1))),\"Preço não registrado\")","v":""},"",null,null,"",""]
[null,null,"",null,"","",null,{"$f":"IFERROR(IF(D1611=\"\",\"\",INDEX(Entradas!$H$3:$H$5000,MATCH(A1611,IF(Entradas!$B$3:$B$5000=D1611,Entradas!$A$3:$A$5000),1))),\"Preço não registrado\")","v":""},"",null,null,"",""]
[null,null,"",null,"","",null,{"$f":"IFERROR(IF(D1612=\"\",\"\",INDEX(Entradas!$H$3:$H$5000,MATCH(A1612,IF(Entradas!$B$3:$B$5000=D1612,Entradas!$A$3:$A$5000),1))),\"Preço não registrado\")","v":""},"",null,null,"",""]
[null,null,"",null,"","",null,{"$f":"IFERROR(IF(D1613=\"\",\"\",INDEX(Entradas!$H$3:$H$5000,MATCH(A1613,IF(Entradas!$B$3:$B$5000=D1613,Entradas!$A$3:$A$5000),1))),\"Preço não registrado\")","v":""},"",null,null,"",""]
[null,null,"",null,"","",null,{"$f":"IFERROR(IF(D1614=\"\",\"\",INDEX(Entradas!$H$3:$H$5000,MATCH(A1614,IF(Entradas!$B$3:$B$5000=D1614,Entradas!$A$3:$A$5000),1))),\"Preço não registrado\")","v":""},"",null,null,"",""]
[null,null,"",null,"","",null,{"$f":"IFERROR(IF(D1615=\"\",\"\",INDEX(Entradas!$H$3:$H$5000,MATCH(A1615,IF(Entradas!$B$3:$B$5000=D1615,Entradas!$A$3:$A$5000),1))),\"Preço não registrado\")","v":""},"",null,null,"",""]
[null,null,"",null,"","",null,{"$f":"IFERROR(IF(D1616=\"\",\"\",INDEX(Entradas!$H$3:$H$5000,MATCH(A1616,IF(Entradas!$B$3:$B$5000=D1616,Entradas!$A$3:$A$5000),1))),\"Preço não registrado\")","v":""},"",null,null,"",""]
[null,null,"",null,"","",null,{"$f":"IFERROR(IF(D1617=\"\",\"\",INDEX(Entradas!$H$3:$H$5000,MATCH(A1617,IF(Entradas!$B$3:$B$5000=D1617,Entradas!$A$3:$A$5000),1))),\"Preço não registrado\")","v":""},"",null,null,"",""]
[null,null,"",null,"","",null,{"$f":"IFERROR(IF(D1618=\"\",\"\",INDEX(Entradas!$H$3:$H$5000,MATCH(A1618,IF(Entradas!$B$3:$B$5000=D1618,Entradas!$A$3:$A$5000),1))),\"Preço não registrado\")","v":""},"",null,null,"",""]
[null,null,"",null,"","",null,{"$f":"IFERROR(IF(D1619=\"\",\"\",INDEX(Entradas!$H$3:$H$5000,MATCH(A1619,IF(Entradas!$B$3:$B$5000=D1619,Entradas!$A$3:$A$5000),1))),\"Preço não registrado\")","v":""},"",null,null,"",""]
[null,null,"",null,"","",null,{"$f":"IFERROR(IF(D1620=\"\",\"\",INDEX(Entradas!$H$3:$H$5000,MATCH(A1620,IF(Entradas!$B$3:$B$5000=D1620,Entradas!$A$3:$A$5000),1))),\"Preço não registrado\")","v":""},"",null,null,"",""]
[null,null,"",null,"","",null,{"$f":"IFERROR(IF(D1621=\"\",\"\",INDEX(Entradas!$H$3:$H$5000,MATCH(A1621,IF(Entradas!$B$3:$B$5000=D1621,Entradas!$A$3:$A$5000),1))),\"Preço não registrado\")","v":""},"",null,null,"",""]
[null,null,"",null,"","",null,{"$f":"IFERROR(IF(D1622=\"\",\"\",INDEX(Entradas!$H$3:$H$5000,MATCH(A1622,IF(Entradas!$B$3:$B$5000=D1622,Entradas!$A$3:$A$5000),1))),\"Preço não registrado\")","v":""},"",null,null,"",""]
[null,null,"",null,"","",null,{"$f":"IFERROR(IF(D1623=\"\",\"\",INDEX(Entradas!$H$3:$H$5000,MATCH(A1623,IF(Entradas!$B$3:$B$5000=D1623,Entradas!$A$3:$A$5000),1))),\"Preço não registrado\")","v":""},"",null,null,"",""]
[null,null,"",null,"","",null,{"$f":"IFERROR(IF(D1624=\"\",\"\",INDEX(Entradas!$H$3:$H$5000,MATCH(A1624,IF(Entradas!$B$3:$B$5000=D1624,Entradas!$A$3:$A$5000),1))),\"Preço não registrado\")","v":""},"",null,null,"",""]
[null,null,"",null,"","",null,{"$f":"IFERROR(IF(D1625=\"\",\"\",INDEX(Entradas!$H$3:$H$5000,MATCH(A1625,IF(Entradas!$B$3:$B$5000=D1625,Entradas!$A$3:$A$5000),1))),\"Preço não registrado\")","v":""},"",null,null,"",""]
[null,null,"",null,"","",null,{"$f":"IFERROR(IF(D1626=\"\",\"\",INDEX(Entradas!$H$3:$H$5000,MATCH(A1626,IF(Entradas!$B$3:$B$5000=D1626,Entradas!$A$3:$A$5000),1))),\"Preço não registrado\")","v":""},"",null,null,"",""]
[null,null,"",null,"","",null,{"$f":"IFERROR(IF(D1627=\"\",\"\",INDEX(Entradas!$H$3:$H$5000,MATCH(A1627,IF(Entradas!$B$3:$B$5000=D1627,Entradas!$A$3:$A$5000),1))),\"Preço não registrado\")","v":""},"",null,null,"",""]
[null,null,"",null,"","",null,{"$f":"IFERROR(IF(D1628=\"\",\"\",INDEX(Entradas!$H$3:$H$5000,MATCH(A1628,IF(Entradas!$B$3:$B$5000=D1628,Entradas!$A$3:$A$5000),1))),\"Preço não registrado\")","v":""},"",null,null,"",""]
[null,null,"",null,"","",null,{"$f":"IFERROR(IF(D1629=\"\",\"\",INDEX(Entradas!$H$3:$H$5000,MATCH(A1629,IF(Entradas!$B$3:$B$5000=D1629,Entradas!$A$3:$A$5000),1))),\"Preço não registrado\")","v":""},"",null,null,"",""]
[null,null,"",null,"","",null,{"$f":"IFERROR(IF(D1630=\"\",\"\",INDEX(Entradas!$H$3:$H$5000,MATCH(A1630,IF(Entradas!$B$3:$B$5000=D1630,Entradas!$A$3:$A$5000),1))),\"Preço não registrado\")","v":""},"",null,null,"",""]
[null,null,"",null,"","",null,{"$f":"IFERROR(IF(D1631=\"\",\"\",INDEX(Entradas!$H$3:$H$5000,MATCH(A1631,IF(Entradas!$B$3:$B$5000=D1631,Entradas!$A$3:$A$5000),1))),\"Preço não registrado\")","v":""},"",null,null,"",""]
[null,null,"",null,"","",null,{"$f":"IFERROR(IF(D1632=\"\",\"\",INDEX(Entradas!$H$3:$H$5000,MATCH(A1632,IF(Entradas!$B$3:$B$5000=D1632,Entradas!$A$3:$A$5000),1))),\"Preço não registrado\")","v":""},"",null,null,"",""]
[null,null,"",null,"","",null,{"$f":"IFERROR(IF(D1633=\"\",\"\",INDEX(Entradas!$H$3:$H$5000,MATCH(A1633,IF(Entradas!$B$3:$B$5000=D1633,Entradas!$A$3:$A$5000),1))),\"Preço não registrado\")","v":""},"",null,null,"",""]
[null,null,"",null,"","",null,{"$f":"IFERROR(IF(D1634=\"\",\"\",INDEX(Entradas!$H$3:$H$5000,MATCH(A1634,IF(Entradas!$B$3:$B$5000=D1634,Entradas!$A$3:$A$5000),1))),\"Preço não registrado\")","v":""},"",null,null,"",""]
[null,null,"",null,"","",null,{"$f":"IFERROR(IF(D1635=\"\",\"\",INDEX(Entradas!$H$3:$H$5000,MATCH(A1635,IF(Entradas!$B$3:$B$5000=D1635,Entradas!$A$3:$A$5000),1))),\"Preço não registrado\")","v":""},"",null,null,"",""]
[null,null,"",null,"","",null,{"$f":"IFERROR(IF(D1636=\"\",\"\",INDEX(Entradas!$H$3:$H$5000,MATCH(A1636,IF(Entradas!$B$3:$B$5000=D1636,Entradas!$A$3:$A$5000),1))),\"Preço não registrado\")","v":""},"",null,null,"",""]
[null,null,"",null,"","",null,{"$f":"IFERROR(IF(D1637=\"\",\"\",INDEX(Entradas!$H$3:$H$5000,MATCH(A1637,IF(Entradas!$B$3:$B$5000=D1637,Entradas!$A$3:$A$5000),1))),\"Preço não registrado\")","v":""},"",null,null,"",""]
[null,null,"",null,"","",null,{"$f":"IFERROR(IF(D1638=\"\",\"\",INDEX(Entradas!$H$3:$H$5000,MATCH(A1638,IF(Entradas!$B$3:$B$5000=D1638,Entradas!$A$3:$A$5000),1))),\"Preço não registrado\")","v":""},"",null,null,"",""]
[null,null,"",null,"","",null,{"$f":"IFERROR(IF(D1639=\"\",\"\",INDEX(Entradas!$H$3:$H$5000,MATCH(A1639,IF(Entradas!$B$3:$B$5000=D1639,Entradas!$A$3:$A$5000),1))),\"Preço não registrado\")","v":""},"",null,null,"",""]
[null,null,"",null,"","",null,{"$f":"IFERROR(IF(D1640=\"\",\"\",INDEX(Entradas!$H$3:$H$5000,MATCH(A1640,IF(Entradas!$B$3:$B$5000=D1640,Entradas!$A$3:$A$5000),1))),\"Preço não registrado\")","v":""},"",null,null,"",""]
[null,null,"",null,"","",null,{"$f":"IFERROR(IF(D1641=\"\",\"\",INDEX(Entradas!$H$3:$H$5000,MATCH(A1641,IF(Entradas!$B$3:$B$5000=D1641,Entradas!$A$3:$A$5000),1))),\"Preço não registrado\")","v":""},"",null,null,"",""]
[null,null,"",null,"","",null,{"$f":"IFERROR(IF(D1642=\"\",\"\",INDEX(Entradas!$H$3:$H$5000,MATCH(A1642,IF(Entradas!$B$3:$B$5000=D1642,Entradas!$A$3:$A$5000),1))),\"Preço não registrado\")","v":""},"",null,null,"",""]
[null,null,"",null,"","",null,{"$f":"IFERROR(IF(D1643=\"\",\"\",INDEX(Entradas!$H$3:$H$5000,MATCH(A1643,IF(Entradas!$B$3:$B$5000=D1643,Entradas!$A$3:$A$5000),1))),\"Preço não registrado\")","v":""},"",null,null,"",""]
[null,null,"",null,"","",null,{"$f":"IFERROR(IF(D1644=\"\",\"\",INDEX(Entradas!$H$3:$H$5000,MATCH(A1644,IF(Entradas!$B$3:$B$5000=D1644,Entradas!$A$3:$A$5000),1))),\"Preço não registrado\")","v":""},"",null,null,"",""]
[null,null,"",null,"","",null,{"$f":"IFERROR(IF(D1645=\"\",\"\",INDEX(Entradas!$H$3:$H$5000,MATCH(A1645,IF(Entradas!$B$3:$B$5000=D1645,Entradas!$A$3:$A$5000),1))),\"Preço não registrado\")","v":""},"",null,null,"",""]
[null,null,"",null,"","",null,{"$f":"IFERROR(IF(D1646=\"\",\"\",INDEX(Entradas!$H$3:$H$5000,MATCH(A1646,IF(Entradas!$B$3:$B$5000=D1646,Entradas!$A$3:$A$5000),1))),\"Preço não registrado\")","v":""},"",null,null,"",""]
[null,null,"",null,"","",null,{"$f":"IFERROR(IF(D1647=\"\",\"\",INDEX(Entradas!$H$3:$H$5000,MATCH(A1647,IF(Entradas!$B$3:$B$5000=D1647,Entradas!$A$3:$A$5000),1))),\"Preço não registrado\")","v":""},"",null,null,"",""]
[null,null,"",null,"","",null,{"$f":"IFERROR(IF(D1648=\"\",\"\",INDEX(Entradas!$H$3:$H$5000,MATCH(A1648,IF(Entradas!$B$3:$B$5000=D1648,Entradas!$A$3:$A$5000),1))),\"Preço não registrado\")","v":""},"",null,null,"",""]
[null,null,"",null,"","",null,{"$f":"IFERROR(IF(D1649=\"\",\"\",INDEX(Entradas!$H$3:$H$5000,MATCH(A1649,IF(Entradas!$B$3:$B$5000=D1649,Entradas!$A$3:$A$5000),1))),\"Preço não registrado\")","v":""},"",null,null,"",""]
[null,null,"",null,"","",null,{"$f":"IFERROR(IF(D1650=\"\",\"\",INDEX(Entradas!$H$3:$H$5000,MATCH(A1650,IF(Entradas!$B$3:$B$5000=D1650,Entradas!$A$3:$A$5000),1))),\"Preço não registrado\")","v":""},"",null,null,"",""]
[null,null,"",null,"","",null,{"$f":"IFERROR(IF(D1651=\"\",\"\",INDEX(Entradas!$H$3:$H$5000,MATCH(A1651,IF(Entradas!$B$3:$B$5000=D1651,Entradas!$A$3:$A$5000),1))),\"Preço não registrado\")","v":""},"",null,null,"",""]
[null,null,"",null,"","",null,{"$f":"IFERROR(IF(D1652=\"\",\"\",INDEX(Entradas!$H$3:$H$5000,MATCH(A1652,IF(Entradas!$B$3:$B$5000=D1652,Entradas!$A$3:$A$5000),1))),\"Preço não registrado\")","v":""},"",null,null,"",""]
[null,null,"",null,"","",null,{"$f":"IFERROR(IF(D1653=\"\",\"\",INDEX(Entradas!$H$3:$H$5000,MATCH(A1653,IF(Entradas!$B$3:$B$5000=D1653,Entradas!$A$3:$A$5000),1))),\"Preço não registrado\")","v":""},"",null,null,"",""]
[null,null,"",null,"","",null,{"$f":"IFERROR(IF(D1654=\"\",\"\",INDEX(Entradas!$H$3:$H$5000,MATCH(A1654,IF(Entradas!$B$3:$B$5000=D1654,Entradas!$A$3:$A$5000),1))),\"Preço não registrado\")","v":""},"",null,null,"",""]
[null,null,"",null,"","",null,{"$f":"IFERROR(IF(D1655=\"\",\"\",INDEX(Entradas!$H$3:$H$5000,MATCH(A1655,IF(Entradas!$B$3:$B$5000=D1655,Entradas!$A$3:$A$5000),1))),\"Preço não registrado\")","v":""},"",null,null,"",""]
[null,null,"",null,"","",null,{"$f":"IFERROR(IF(D1656=\"\",\"\",INDEX(Entradas!$H$3:$H$5000,MATCH(A1656,IF(Entradas!$B$3:$B$5000=D1656,Entradas!$A$3:$A$5000),1))),\"Preço não registrado\")","v":""},"",null,null,"",""]
[null,null,"",null,"","",null,{"$f":"IFERROR(IF(D1657=\"\",\"\",INDEX(Entradas!$H$3:$H$5000,MATCH(A1657,IF(Entradas!$B$3:$B$5000=D1657,Entradas!$A$3:$A$5000),1))),\"Preço não registrado\")","v":""},"",null,null,"",""]
[null,null,"",null,"","",null,{"$f":"IFERROR(IF(D1658=\"\",\"\",INDEX(Entradas!$H$3:$H$5000,MATCH(A1658,IF(Entradas!$B$3:$B$5000=D1658,Entradas!$A$3:$A$5000),1))),\"Preço não registrado\")","v":""},"",null,null,"",""]
[null,null,"",null,"","",null,{"$f":"IFERROR(IF(D1659=\"\",\"\",INDEX(Entradas!$H$3:$H$5000,MATCH(A1659,IF(Entradas!$B$3:$B$5000=D1659,Entradas!$A$3:$A$5000),1))),\"Preço não registrado\")","v":""},"",null,null,"",""]
[null,null,"",null,"","",null,{"$f":"IFERROR(IF(D1660=\"\",\"\",INDEX(Entradas!$H$3:$H$5000,MATCH(A1660,IF(Entradas!$B$3:$B$5000=D1660,Entradas!$A$3:$A$5000),1))),\"Preço não registrado\")","v":""},"",null,null,"",""]
[null,null,"",null,"","",null,{"$f":"IFERROR(IF(D1661=\"\",\"\",INDEX(Entradas!$H$3:$H$5000,MATCH(A1661,IF(Entradas!$B$3:$B$5000=D1661,Entradas!$A$3:$A$5000),1))),\"Preço não registrado\")","v":""},"",null,null,"",""]
[null,null,"",null,"","",null,{"$f":"IFERROR(IF(D1662=\"\",\"\",INDEX(Entradas!$H$3:$H$5000,MATCH(A1662,IF(Entradas!$B$3:$B$5000=D1662,Entradas!$A$3:$A$5000),1))),\"Preço não registrado\")","v":""},"",null,null,"",""]
[null,null,"",null,"","",null,{"$f":"IFERROR(IF(D1663=\"\",\"\",INDEX(Entradas!$H$3:$H$5000,MATCH(A1663,IF(Entradas!$B$3:$B$5000=D1663,Entradas!$A$3:$A$5000),1))),\"Preço não registrado\")","v":""},"",null,null,"",""]
[null,null,"",null,"","",null,{"$f":"IFERROR(IF(D1664=\"\",\"\",INDEX(Entradas!$H$3:$H$5000,MATCH(A1664,IF(Entradas!$B$3:$B$5000=D1664,Entradas!$A$3:$A$5000),1))),\"Preço não registrado\")","v":""},"",null,null,"",""]
[null,null,"",null,"","",null,{"$f":"IFERROR(IF(D1665=\"\",\"\",INDEX(Entradas!$H$3:$H$5000,MATCH(A1665,IF(Entradas!$B$3:$B$5000=D1665,Entradas!$A$3:$A$5000),1))),\"Preço não registrado\")","v":""},"",null,null,"",""]
[null,null,"",null,"","",null,{"$f":"IFERROR(IF(D1666=\"\",\"\",INDEX(Entradas!$H$3:$H$5000,MATCH(A1666,IF(Entradas!$B$3:$B$5000=D1666,Entradas!$A$3:$A$5000),1))),\"Preço não registrado\")","v":""},"",null,null,"",""]
[null,null,{"$f":"IFERROR(IF(B1667=\"\",\"\",VLOOKUP(B1667,Clientes,2,FALSE)),\"\")","v":""},null,{"$f":"IF(D1667=\"\",\"\",VLOOKUP(D1667,Itens,2,FALSE))","v":""},{"$f":"IF(D1667=\"\",\"\",VLOOKUP(D1667,Itens,3,FALSE))","v":""},null,{"$f":"IFERROR(IF(D1667=\"\",\"\",INDEX(Entradas!$H$3:$H$5000,MATCH(A1667,IF(Entradas!$B$3:$B$5000=D1667,Entradas!$A$3:$A$5000),1))),\"Preço não registrado\")","v":""},"",null,null,"",""]
[null,null,"",null,"","",null,{"$f":"IFERROR(IF(D1668=\"\",\"\",INDEX(Entradas!$H$3:$H$5000,MATCH(A1668,IF(Entradas!$B$3:$B$5000=D1668,Entradas!$A$3:$A$5000),1))),\"Preço não registrado\")","v":""},{"$f":"IFERROR(G1668*H1668,\"\")","v":""},null,null,{"$f":"IF(K1668=\"\",\"\",HYPERLINK($P$13&K1668,\"Rastreie aqui\"))","v":""},{"$f":"IF(A1668=\"\",\"\",TEXT(A1668,\"mmmm\"))","v":""}]
[null,null,"",null,"","",null,{"$f":"IFERROR(IF(D1669=\"\",\"\",INDEX(Entradas!$H$3:$H$5000,MATCH(A1669,IF(Entradas!$B$3:$B$5000=D1669,Entradas!$A$3:$A$5000),1))),\"Preço não registrado\")","v":""},"",null,null,"",""]
[null,null,"",null,"","",null,{"$f":"IFERROR(IF(D1670=\"\",\"\",INDEX(Entradas!$H$3:$H$5000,MATCH(A1670,IF(Entradas!$B$3:$B$5000=D1670,Entradas!$A$3:$A$5000),1))),\"Preço não registrado\")","v":""},"",null,null,"",""]
[null,null,"",null,"","",null,{"$f":"IFERROR(IF(D1671=\"\",\"\",INDEX(Entradas!$H$3:$H$5000,MATCH(A1671,IF(Entradas!$B$3:$B$5000=D1671,Entradas!$A$3:$A$5000),1))),\"Preço não registrado\")","v":""},"",null,null,"",""]
[null,null,"",null,"","",null,{"$f":"IFERROR(IF(D1672=\"\",\"\",INDEX(Entradas!$H$3:$H$5000,MATCH(A1672,IF(Entradas!$B$3:$B$5000=D1672,Entradas!$A$3:$A$5000),1))),\"Preço não registrado\")","v":""},"",null,null,"",""]
[null,null,"",null,"","",null,{"$f":"IFERROR(IF(D1673=\"\",\"\",INDEX(Entradas!$H$3:$H$5000,MATCH(A1673,IF(Entradas!$B$3:$B$5000=D1673,Entradas!$A$3:$A$5000),1))),\"Preço não registrado\")","v":""},"",null,null,"",""]
[null,null,"",null,"","",null,{"$f":"IFERROR(IF(D1674=\"\",\"\",INDEX(Entradas!$H$3:$H$5000,MATCH(A1674,IF(Entradas!$B$3:$B$5000=D1674,Entradas!$A$3:$A$5000),1))),\"Preço não registrado\")","v":""},"",null,null,"",""]
[null,null,"",null,"","",null,{"$f":"IFERROR(IF(D1675=\"\",\"\",INDEX(Entradas!$H$3:$H$5000,MATCH(A1675,IF(Entradas!$B$3:$B$5000=D1675,Entradas!$A$3:$A$5000),1))),\"Preço não registrado\")","v":""},"",null,null,"",""]
[null,null,"",null,"","",null,{"$f":"IFERROR(IF(D1676=\"\",\"\",INDEX(Entradas!$H$3:$H$5000,MATCH(A1676,IF(Entradas!$B$3:$B$5000=D1676,Entradas!$A$3:$A$5000),1))),\"Preço não registrado\")","v":""},"",null,null,"",""]
[null,null,"",null,"","",null,{"$f":"IFERROR(IF(D1677=\"\",\"\",INDEX(Entradas!$H$3:$H$5000,MATCH(A1677,IF(Entradas!$B$3:$B$5000=D1677,Entradas!$A$3:$A$5000),1))),\"Preço não registrado\")","v":""},"",null,null,"",""]
[null,null,"",null,"","",null,{"$f":"IFERROR(IF(D1678=\"\",\"\",INDEX(Entradas!$H$3:$H$5000,MATCH(A1678,IF(Entradas!$B$3:$B$5000=D1678,Entradas!$A$3:$A$5000),1))),\"Preço não registrado\")","v":""},"",null,null,"",""]
[null,null,"",null,"","",null,{"$f":"IFERROR(IF(D1679=\"\",\"\",INDEX(Entradas!$H$3:$H$5000,MATCH(A1679,IF(Entradas!$B$3:$B$5000=D1679,Entradas!$A$3:$A$5000),1))),\"Preço não registrado\")","v":""},"",null,null,"",""]
[null,null,"",null,"","",null,{"$f":"IFERROR(IF(D1680=\"\",\"\",INDEX(Entradas!$H$3:$H$5000,MATCH(A1680,IF(Entradas!$B$3:$B$5000=D1680,Entradas!$A$3:$A$5000),1))),\"Preço não registrado\")","v":""},"",null,null,"",""]
[null,null,"",null,"","",null,{"$f":"IFERROR(IF(D1681=\"\",\"\",INDEX(Entradas!$H$3:$H$5000,MATCH(A1681,IF(Entradas!$B$3:$B$5000=D1681,Entradas!$A$3:$A$5000),1))),\"Preço não registrado\")","v":""},"",null,null,"",""]
[null,null,"",null,"","",null,{"$f":"IFERROR(IF(D1682=\"\",\"\",INDEX(Entradas!$H$3:$H$5000,MATCH(A1682,IF(Entradas!$B$3:$B$5000=D1682,Entradas!$A$3:$A$5000),1))),\"Preço não registrado\")","v":""},"",null,null,"",""]
[null,null,"",null,"","",null,{"$f":"IFERROR(IF(D1683=\"\",\"\",INDEX(Entradas!$H$3:$H$5000,MATCH(A1683,IF(Entradas!$B$3:$B$5000=D1683,Entradas!$A$3:$A$5000),1))),\"Preço não registrado\")","v":""},"",null,null,"",""]
[null,null,"",null,"","",null,{"$f":"IFERROR(IF(D1684=\"\",\"\",INDEX(Entradas!$H$3:$H$5000,MATCH(A1684,IF(Entradas!$B$3:$B$5000=D1684,Entradas!$A$3:$A$5000),1))),\"Preço não registrado\")","v":""},"",null,null,"",""]
[null,null,"",null,"","",null,{"$f":"IFERROR(IF(D1685=\"\",\"\",INDEX(Entradas!$H$3:$H$5000,MATCH(A1685,IF(Entradas!$B$3:$B$5000=D1685,Entradas!$A$3:$A$5000),1))),\"Preço não registrado\")","v":""},"",null,null,"",""]
[null,null,"",null,"","",null,{"$f":"IFERROR(IF(D1686=\"\",\"\",INDEX(Entradas!$H$3:$H$5000,MATCH(A1686,IF(Entradas!$B$3:$B$5000=D1686,Entradas!$A$3:$A$5000),1))),\"Preço não registrado\")","v":""},"",null,null,"",""]
[null,null,"",null,"","",null,{"$f":"IFERROR(IF(D1687=\"\",\"\",INDEX(Entradas!$H$3:$H$5000,MATCH(A1687,IF(Entradas!$B$3:$B$5000=D1687,Entradas!$A$3:$A$5000),1))),\"Preço não registrado\")","v":""},"",null,null,"",""]
[null,null,"",null,"","",null,{"$f":"IFERROR(IF(D1688=\"\",\"\",INDEX(Entradas!$H$3:$H$5000,MATCH(A1688,IF(Entradas!$B$3:$B$5000=D1688,Entradas!$A$3:$A$5000),1))),\"Preço não registrado\")","v":""},"",null,null,"",""]
[null,null,"",null,"","",null,{"$f":"IFERROR(IF(D1689=\"\",\"\",INDEX(Entradas!$H$3:$H$5000,MATCH(A1689,IF(Entradas!$B$3:$B$5000=D1689,Entradas!$A$3:$A$5000),1))),\"Preço não registrado\")","v":""},"",null,null,"",""]
[null,null,"",null,"","",null,{"$f":"IFERROR(IF(D1690=\"\",\"\",INDEX(Entradas!$H$3:$H$5000,MATCH(A1690,IF(Entradas!$B$3:$B$5000=D1690,Entradas!$A$3:$A$5000),1))),\"Preço não registrado\")","v":""},"",null,null,"",""]
[null,null,"",null,"","",null,{"$f":"IFERROR(IF(D1691=\"\",\"\",INDEX(Entradas!$H$3:$H$5000,MATCH(A1691,IF(Entradas!$B$3:$B$5000=D1691,Entradas!$A$3:$A$5000),1))),\"Preço não registrado\")","v":""},"",null,null,"",""]
[null,null,"",null,"","",null,{"$f":"IFERROR(IF(D1692=\"\",\"\",INDEX(Entradas!$H$3:$H$5000,MATCH(A1692,IF(Entradas!$B$3:$B$5000=D1692,Entradas!$A$3:$A$5000),1))),\"Preço não registrado\")","v":""},"",null,null,"",""]
[null,null,"",null,"","",null,{"$f":"IFERROR(IF(D1693=\"\",\"\",INDEX(Entradas!$H$3:$H$5000,MATCH(A1693,IF(Entradas!$B$3:$B$5000=D1693,Entradas!$A$3:$A$5000),1))),\"Preço não registrado\")","v":""},"",null,null,"",""]
[null,null,"",null,"","",null,{"$f":"IFERROR(IF(D1694=\"\",\"\",INDEX(Entradas!$H$3:$H$5000,MATCH(A1694,IF(Entradas!$B$3:$B$5000=D1694,Entradas!$A$3:$A$5000),1))),\"Preço não registrado\")","v":""},"",null,null,"",""]
[null,null,"",null,"","",null,{"$f":"IFERROR(IF(D1695=\"\",\"\",INDEX(Entradas!$H$3:$H$5000,MATCH(A1695,IF(Entradas!$B$3:$B$5000=D1695,Entradas!$A$3:$A$5000),1))),\"Preço não registrado\")","v":""},"",null,null,"",""]
[null,null,"",null,"","",null,{"$f":"IFERROR(IF(D1696=\"\",\"\",INDEX(Entradas!$H$3:$H$5000,MATCH(A1696,IF(Entradas!$B$3:$B$5000=D1696,Entradas!$A$3:$A$5000),1))),\"Preço não registrado\")","v":""},"",null,null,"",""]
[null,null,"",null,"","",null,{"$f":"IFERROR(IF(D1697=\"\",\"\",INDEX(Entradas!$H$3:$H$5000,MATCH(A1697,IF(Entradas!$B$3:$B$5000=D1697,Entradas!$A$3:$A$5000),1))),\"Preço não registrado\")","v":""},"",null,null,"",""]
[null,null,"",null,"","",null,{"$f":"IFERROR(IF(D1698=\"\",\"\",INDEX(Entradas!$H$3:$H$5000,MATCH(A1698,IF(Entradas!$B$3:$B$5000=D1698,Entradas!$A$3:$A$5000),1))),\"Preço não registrado\")","v":""},"",null,null,"",""]
[null,null,"",null,"","",null,{"$f":"IFERROR(IF(D1699=\"\",\"\",INDEX(Entradas!$H$3:$H$5000,MATCH(A1699,IF(Entradas!$B$3:$B$5000=D1699,Entradas!$A$3:$A$5000),1))),\"Preço não registrado\")","v":""},"",null,null,"",""]
[null,null,"",null,"","",null,{"$f":"IFERROR(IF(D1700=\"\",\"\",INDEX(Entradas!$H$3:$H$5000,MATCH(A1700,IF(Entradas!$B$3:$B$5000=D1700,Entradas!$A$3:$A$5000),1))),\"Preço não registrado\")","v":""},"",null,null,"",""]
[null,null,"",null,"","",null,{"$f":"IFERROR(IF(D1701=\"\",\"\",INDEX(Entradas!$H$3:$H$5000,MATCH(A1701,IF(Entradas!$B$3:$B$5000=D1701,Entradas!$A$3:$A$5000),1))),\"Preço não registrado\")","v":""},"",null,null,"",""]
[null,null,"",null,"","",null,{"$f":"IFERROR(IF(D1702=\"\",\"\",INDEX(Entradas!$H$3:$H$5000,MATCH(A1702,IF(Entradas!$B$3:$B$5000=D1702,Entradas!$A$3:$A$5000),1))),\"Preço não registrado\")","v":""},"",null,null,"",""]
[null,null,"",null,"","",null,{"$f":"IFERROR(IF(D1703=\"\",\"\",INDEX(Entradas!$H$3:$H$5000,MATCH(A1703,IF(Entradas!$B$3:$B$5000=D1703,Entradas!$A$3:$A$5000),1))),\"Preço não registrado\")","v":""},"",null,null,"",""]
[null,null,"",null,"","",null,{"$f":"IFERROR(IF(D1704=\"\",\"\",INDEX(Entradas!$H$3:$H$5000,MATCH(A1704,IF(Entradas!$B$3:$B$5000=D1704,Entradas!$A$3:$A$5000),1))),\"Preço não registrado\")","v":""},"",null,null,"",""]
[null,null,"",null,"","",null,{"$f":"IFERROR(IF(D1705=\"\",\"\",INDEX(Entradas!$H$3:$H$5000,MATCH(A1705,IF(Entradas!$B$3:$B$5000=D1705,Entradas!$A$3:$A$5000),1))),\"Preço não registrado\")","v":""},"",null,null,"",""]
[null,null,"",null,"","",null,{"$f":"IFERROR(IF(D1706=\"\",\"\",INDEX(Entradas!$H$3:$H$5000,MATCH(A1706,IF(Entradas!$B$3:$B$5000=D1706,Entradas!$A$3:$A$5000),1))),\"Preço não registrado\")","v":""},"",null,null,"",""]
[null,null,"",null,"","",null,{"$f":"IFERROR(IF(D1707=\"\",\"\",INDEX(Entradas!$H$3:$H$5000,MATCH(A1707,IF(Entradas!$B$3:$B$5000=D1707,Entradas!$A$3:$A$5000),1))),\"Preço não registrado\")","v":""},"",null,null,"",""]
[null,null,"",null,"","",null,{"$f":"IFERROR(IF(D1708=\"\",\"\",INDEX(Entradas!$H$3:$H$5000,MATCH(A1708,IF(Entradas!$B$3:$B$5000=D1708,Entradas!$A$3:$A$5000),1))),\"Preço não registrado\")","v":""},"",null,null,"",""]
[null,null,"",null,"","",null,{"$f":"IFERROR(IF(D1709=\"\",\"\",INDEX(Entradas!$H$3:$H$5000,MATCH(A1709,IF(Entradas!$B$3:$B$5000=D1709,Entradas!$A$3:$A$5000),1))),\"Preço não registrado\")","v":""},"",null,null,"",""]
[null,null,"",null,"","",null,{"$f":"IFERROR(IF(D1710=\"\",\"\",INDEX(Entradas!$H$3:$H$5000,MATCH(A1710,IF(Entradas!$B$3:$B$5000=D1710,Entradas!$A$3:$A$5000),1))),\"Preço não registrado\")","v":""},"",null,null,"",""]
[null,null,"",null,"","",null,{"$f":"IFERROR(IF(D1711=\"\",\"\",INDEX(Entradas!$H$3:$H$5000,MATCH(A1711,IF(Entradas!$B$3:$B$5000=D1711,Entradas!$A$3:$A$5000),1))),\"Preço não registrado\")","v":""},"",null,null,"",""]
[null,null,"",null,"","",null,{"$f":"IFERROR(IF(D1712=\"\",\"\",INDEX(Entradas!$H$3:$H$5000,MATCH(A1712,IF(Entradas!$B$3:$B$5000=D1712,Entradas!$A$3:$A$5000),1))),\"Preço não registrado\")","v":""},"",null,null,"",""]
[null,null,"",null,"","",null,{"$f":"IFERROR(IF(D1713=\"\",\"\",INDEX(Entradas!$H$3:$H$5000,MATCH(A1713,IF(Entradas!$B$3:$B$5000=D1713,Entradas!$A$3:$A$5000),1))),\"Preço não registrado\")","v":""},"",null,null,"",""]
[null,null,"",null,"","",null,{"$f":"IFERROR(IF(D1714=\"\",\"\",INDEX(Entradas!$H$3:$H$5000,MATCH(A1714,IF(Entradas!$B$3:$B$5000=D1714,Entradas!$A$3:$A$5000),1))),\"Preço não registrado\")","v":""},"",null,null,"",""]
[null,null,"",null,"","",null,{"$f":"IFERROR(IF(D1715=\"\",\"\",INDEX(Entradas!$H$3:$H$5000,MATCH(A1715,IF(Entradas!$B$3:$B$5000=D1715,Entradas!$A$3:$A$5000),1))),\"Preço não registrado\")","v":""},"",null,null,"",""]
[null,null,"",null,"","",null,{"$f":"IFERROR(IF(D1716=\"\",\"\",INDEX(Entradas!$H$3:$H$5000,MATCH(A1716,IF(Entradas!$B$3:$B$5000=D1716,Entradas!$A$3:$A$5000),1))),\"Preço não registrado\")","v":""},"",null,null,"",""]
[null,null,"",null,"","",null,{"$f":"IFERROR(IF(D1717=\"\",\"\",INDEX(Entradas!$H$3:$H$5000,MATCH(A1717,IF(Entradas!$B$3:$B$5000=D1717,Entradas!$A$3:$A$5000),1))),\"Preço não registrado\")","v":""},"",null,null,"",""]
[null,null,"",null,"","",null,{"$f":"IFERROR(IF(D1718=\"\",\"\",INDEX(Entradas!$H$3:$H$5000,MATCH(A1718,IF(Entradas!$B$3:$B$5000=D1718,Entradas!$A$3:$A$5000),1))),\"Preço não registrado\")","v":""},"",null,null,"",""]
[null,null,"",null,"","",null,{"$f":"IFERROR(IF(D1719=\"\",\"\",INDEX(Entradas!$H$3:$H$5000,MATCH(A1719,IF(Entradas!$B$3:$B$5000=D1719,Entradas!$A$3:$A$5000),1))),\"Preço não registrado\")","v":""},"",null,null,"",""]
[null,null,"",null,"","",null,{"$f":"IFERROR(IF(D1720=\"\",\"\",INDEX(Entradas!$H$3:$H$5000,MATCH(A1720,IF(Entradas!$B$3:$B$5000=D1720,Entradas!$A$3:$A$5000),1))),\"Preço não registrado\")","v":""},"",null,null,"",""]
[null,null,"",null,"","",null,{"$f":"IFERROR(IF(D1721=\"\",\"\",INDEX(Entradas!$H$3:$H$5000,MATCH(A1721,IF(Entradas!$B$3:$B$5000=D1721,Entradas!$A$3:$A$5000),1))),\"Preço não registrado\")","v":""},"",null,null,"",""]
[null,null,"",null,"","",null,{"$f":"IFERROR(IF(D1722=\"\",\"\",INDEX(Entradas!$H$3:$H$5000,MATCH(A1722,IF(Entradas!$B$3:$B$5000=D1722,Entradas!$A$3:$A$5000),1))),\"Preço não registrado\")","v":""},"",null,null,"",""]
[null,null,"",null,"","",null,{"$f":"IFERROR(IF(D1723=\"\",\"\",INDEX(Entradas!$H$3:$H$5000,MATCH(A1723,IF(Entradas!$B$3:$B$5000=D1723,Entradas!$A$3:$A$5000),1))),\"Preço não registrado\")","v":""},"",null,null,"",""]
[null,null,"",null,"","",null,{"$f":"IFERROR(IF(D1724=\"\",\"\",INDEX(Entradas!$H$3:$H$5000,MATCH(A1724,IF(Entradas!$B$3:$B$5000=D1724,Entradas!$A$3:$A$5000),1))),\"Preço não registrado\")","v":""},"",null,null,"",""]
[null,null,"",null,"","",null,{"$f":"IFERROR(IF(D1725=\"\",\"\",INDEX(Entradas!$H$3:$H$5000,MATCH(A1725,IF(Entradas!$B$3:$B$5000=D1725,Entradas!$A$3:$A$5000),1))),\"Preço não registrado\")","v":""},"",null,null,"",""]
[null,null,"",null,"","",null,{"$f":"IFERROR(IF(D1726=\"\",\"\",INDEX(Entradas!$H$3:$H$5000,MATCH(A1726,IF(Entradas!$B$3:$B$5000=D1726,Entradas!$A$3:$A$5000),1))),\"Preço não registrado\")","v":""},"",null,null,"",""]
[null,null,"",null,"","",null,{"$f":"IFERROR(IF(D1727=\"\",\"\",INDEX(Entradas!$H$3:$H$5000,MATCH(A1727,IF(Entradas!$B$3:$B$5000=D1727,Entradas!$A$3:$A$5000),1))),\"Preço não registrado\")","v":""},"",null,null,"",""]
[null,null,"",null,"","",null,{"$f":"IFERROR(IF(D1728=\"\",\"\",INDEX(Entradas!$H$3:$H$5000,MATCH(A1728,IF(Entradas!$B$3:$B$5000=D1728,Entradas!$A$3:$A$5000),1))),\"Preço não registrado\")","v":""},"",null,null,"",""]
[null,null,"",null,"","",null,{"$f":"IFERROR(IF(D1729=\"\",\"\",INDEX(Entradas!$H$3:$H$5000,MATCH(A1729,IF(Entradas!$B$3:$B$5000=D1729,Entradas!$A$3:$A$5000),1))),\"Preço não registrado\")","v":""},"",null,null,"",""]
[null,null,"",null,"","",null,{"$f":"IFERROR(IF(D1730=\"\",\"\",INDEX(Entradas!$H$3:$H$5000,MATCH(A1730,IF(Entradas!$B$3:$B$5000=D1730,Entradas!$A$3:$A$5000),1))),\"Preço não registrado\")","v":""},"",null,null,"",""]
[null,null,{"$f":"IFERROR(IF(B1731=\"\",\"\",VLOOKUP(B1731,Clientes,2,FALSE)),\"\")","v":""},null,{"$f":"IF(D1731=\"\",\"\",VLOOKUP(D1731,Itens,2,FALSE))","v":""},{"$f":"IF(D1731=\"\",\"\",VLOOKUP(D1731,Itens,3,FALSE))","v":""},null,{"$f":"IFERROR(IF(D1731=\"\",\"\",INDEX(Entradas!$H$3:$H$5000,MATCH(A1731,IF(Entradas!$B$3:$B$5000=D1731,Entradas!$A$3:$A$5000),1))),\"Preço não registrado\")","v":""},"",null,null,"",""]
[null,null,"",null,"","",null,{"$f":"IFERROR(IF(D1732=\"\",\"\",INDEX(Entradas!$H$3:$H$5000,MATCH(A1732,IF(Entradas!$B$3:$B$5000=D1732,Entradas!$A$3:$A$5000),1))),\"Preço não registrado\")","v":""},{"$f":"IFERROR(G1732*H1732,\"\")","v":""},null,null,{"$f":"IF(K1732=\"\",\"\",HYPERLINK($P$13&K1732,\"Rastreie aqui\"))","v":""},{"$f":"IF(A1732=\"\",\"\",TEXT(A1732,\"mmmm\"))","v":""}]
[null,null,"",null,"","",null,{"$f":"IFERROR(IF(D1733=\"\",\"\",INDEX(Entradas!$H$3:$H$5000,MATCH(A1733,IF(Entradas!$B$3:$B$5000=D1733,Entradas!$A$3:$A$5000),1))),\"Preço não registrado\")","v":""},"",null,null,"",""]
[null,null,"",null,"","",null,{"$f":"IFERROR(IF(D1734=\"\",\"\",INDEX(Entradas!$H$3:$H$5000,MATCH(A1734,IF(Entradas!$B$3:$B$5000=D1734,Entradas!$A$3:$A$5000),1))),\"Preço não registrado\")","v":""},"",null,null,"",""]
[null,null,"",null,"","",null,{"$f":"IFERROR(IF(D1735=\"\",\"\",INDEX(Entradas!$H$3:$H$5000,MATCH(A1735,IF(Entradas!$B$3:$B$5000=D1735,Entradas!$A$3:$A$5000),1))),\"Preço não registrado\")","v":""},"",null,null,"",""]
[null,null,"",null,"","",null,{"$f":"IFERROR(IF(D1736=\"\",\"\",INDEX(Entradas!$H$3:$H$5000,MATCH(A1736,IF(Entradas!$B$3:$B$5000=D1736,Entradas!$A$3:$A$5000),1))),\"Preço não registrado\")","v":""},"",null,null,"",""]
[null,null,"",null,"","",null,{"$f":"IFERROR(IF(D1737=\"\",\"\",INDEX(Entradas!$H$3:$H$5000,MATCH(A1737,IF(Entradas!$B$3:$B$5000=D1737,Entradas!$A$3:$A$5000),1))),\"Preço não registrado\")","v":""},"",null,null,"",""]
[null,null,"",null,"","",null,{"$f":"IFERROR(IF(D1738=\"\",\"\",INDEX(Entradas!$H$3:$H$5000,MATCH(A1738,IF(Entradas!$B$3:$B$5000=D1738,Entradas!$A$3:$A$5000),1))),\"Preço não registrado\")","v":""},"",null,null,"",""]
[null,null,"",null,"","",null,{"$f":"IFERROR(IF(D1739=\"\",\"\",INDEX(Entradas!$H$3:$H$5000,MATCH(A1739,IF(Entradas!$B$3:$B$5000=D1739,Entradas!$A$3:$A$5000),1))),\"Preço não registrado\")","v":""},"",null,null,"",""]
[null,null,"",null,"","",null,{"$f":"IFERROR(IF(D1740=\"\",\"\",INDEX(Entradas!$H$3:$H$5000,MATCH(A1740,IF(Entradas!$B$3:$B$5000=D1740,Entradas!$A$3:$A$5000),1))),\"Preço não registrado\")","v":""},"",null,null,"",""]
[null,null,"",null,"","",null,{"$f":"IFERROR(IF(D1741=\"\",\"\",INDEX(Entradas!$H$3:$H$5000,MATCH(A1741,IF(Entradas!$B$3:$B$5000=D1741,Entradas!$A$3:$A$5000),1))),\"Preço não registrado\")","v":""},"",null,null,"",""]
[null,null,"",null,"","",null,{"$f":"IFERROR(IF(D1742=\"\",\"\",INDEX(Entradas!$H$3:$H$5000,MATCH(A1742,IF(Entradas!$B$3:$B$5000=D1742,Entradas!$A$3:$A$5000),1))),\"Preço não registrado\")","v":""},"",null,null,"",""]
[null,null,"",null,"","",null,{"$f":"IFERROR(IF(D1743=\"\",\"\",INDEX(Entradas!$H$3:$H$5000,MATCH(A1743,IF(Entradas!$B$3:$B$5000=D1743,Entradas!$A$3:$A$5000),1))),\"Preço não registrado\")","v":""},"",null,null,"",""]
[null,null,"",null,"","",null,{"$f":"IFERROR(IF(D1744=\"\",\"\",INDEX(Entradas!$H$3:$H$5000,MATCH(A1744,IF(Entradas!$B$3:$B$5000=D1744,Entradas!$A$3:$A$5000),1))),\"Preço não registrado\")","v":""},"",null,null,"",""]
[null,null,"",null,"","",null,{"$f":"IFERROR(IF(D1745=\"\",\"\",INDEX(Entradas!$H$3:$H$5000,MATCH(A1745,IF(Entradas!$B$3:$B$5000=D1745,Entradas!$A$3:$A$5000),1))),\"Preço não registrado\")","v":""},"",null,null,"",""]
[null,null,"",null,"","",null,{"$f":"IFERROR(IF(D1746=\"\",\"\",INDEX(Entradas!$H$3:$H$5000,MATCH(A1746,IF(Entradas!$B$3:$B$5000=D1746,Entradas!$A$3:$A$5000),1))),\"Preço não registrado\")","v":""},"",null,null,"",""]
[null,null,"",null,"","",null,{"$f":"IFERROR(IF(D1747=\"\",\"\",INDEX(Entradas!$H$3:$H$5000,MATCH(A1747,IF(Entradas!$B$3:$B$5000=D1747,Entradas!$A$3:$A$5000),1))),\"Preço não registrado\")","v":""},"",null,null,"",""]
[null,null,"",null,"","",null,{"$f":"IFERROR(IF(D1748=\"\",\"\",INDEX(Entradas!$H$3:$H$5000,MATCH(A1748,IF(Entradas!$B$3:$B$5000=D1748,Entradas!$A$3:$A$5000),1))),\"Preço não registrado\")","v":""},"",null,null,"",""]
[null,null,"",null,"","",null,{"$f":"IFERROR(IF(D1749=\"\",\"\",INDEX(Entradas!$H$3:$H$5000,MATCH(A1749,IF(Entradas!$B$3:$B$5000=D1749,Entradas!$A$3:$A$5000),1))),\"Preço não registrado\")","v":""},"",null,null,"",""]
[null,null,"",null,"","",null,{"$f":"IFERROR(IF(D1750=\"\",\"\",INDEX(Entradas!$H$3:$H$5000,MATCH(A1750,IF(Entradas!$B$3:$B$5000=D1750,Entradas!$A$3:$A$5000),1))),\"Preço não registrado\")","v":""},"",null,null,"",""]
[null,null,"",null,"","",null,{"$f":"IFERROR(IF(D1751=\"\",\"\",INDEX(Entradas!$H$3:$H$5000,MATCH(A1751,IF(Entradas!$B$3:$B$5000=D1751,Entradas!$A$3:$A$5000),1))),\"Preço não registrado\")","v":""},"",null,null,"",""]
[null,null,"",null,"","",null,{"$f":"IFERROR(IF(D1752=\"\",\"\",INDEX(Entradas!$H$3:$H$5000,MATCH(A1752,IF(Entradas!$B$3:$B$5000=D1752,Entradas!$A$3:$A$5000),1))),\"Preço não registrado\")","v":""},"",null,null,"",""]
[null,null,"",null,"","",null,{"$f":"IFERROR(IF(D1753=\"\",\"\",INDEX(Entradas!$H$3:$H$5000,MATCH(A1753,IF(Entradas!$B$3:$B$5000=D1753,Entradas!$A$3:$A$5000),1))),\"Preço não registrado\")","v":""},"",null,null,"",""]
[null,null,"",null,"","",null,{"$f":"IFERROR(IF(D1754=\"\",\"\",INDEX(Entradas!$H$3:$H$5000,MATCH(A1754,IF(Entradas!$B$3:$B$5000=D1754,Entradas!$A$3:$A$5000),1))),\"Preço não registrado\")","v":""},"",null,null,"",""]
[null,null,"",null,"","",null,{"$f":"IFERROR(IF(D1755=\"\",\"\",INDEX(Entradas!$H$3:$H$5000,MATCH(A1755,IF(Entradas!$B$3:$B$5000=D1755,Entradas!$A$3:$A$5000),1))),\"Preço não registrado\")","v":""},"",null,null,"",""]
[null,null,"",null,"","",null,{"$f":"IFERROR(IF(D1756=\"\",\"\",INDEX(Entradas!$H$3:$H$5000,MATCH(A1756,IF(Entradas!$B$3:$B$5000=D1756,Entradas!$A$3:$A$5000),1))),\"Preço não registrado\")","v":""},"",null,null,"",""]
[null,null,"",null,"","",null,{"$f":"IFERROR(IF(D1757=\"\",\"\",INDEX(Entradas!$H$3:$H$5000,MATCH(A1757,IF(Entradas!$B$3:$B$5000=D1757,Entradas!$A$3:$A$5000),1))),\"Preço não registrado\")","v":""},"",null,null,"",""]
[null,null,"",null,"","",null,{"$f":"IFERROR(IF(D1758=\"\",\"\",INDEX(Entradas!$H$3:$H$5000,MATCH(A1758,IF(Entradas!$B$3:$B$5000=D1758,Entradas!$A$3:$A$5000),1))),\"Preço não registrado\")","v":""},"",null,null,"",""]
[null,null,"",null,"","",null,{"$f":"IFERROR(IF(D1759=\"\",\"\",INDEX(Entradas!$H$3:$H$5000,MATCH(A1759,IF(Entradas!$B$3:$B$5000=D1759,Entradas!$A$3:$A$5000),1))),\"Preço não registrado\")","v":""},"",null,null,"",""]
[null,null,"",null,"","",null,{"$f":"IFERROR(IF(D1760=\"\",\"\",INDEX(Entradas!$H$3:$H$5000,MATCH(A1760,IF(Entradas!$B$3:$B$5000=D1760,Entradas!$A$3:$A$5000),1))),\"Preço não registrado\")","v":""},"",null,null,"",""]
[null,null,"",null,"","",null,{"$f":"IFERROR(IF(D1761=\"\",\"\",INDEX(Entradas!$H$3:$H$5000,MATCH(A1761,IF(Entradas!$B$3:$B$5000=D1761,Entradas!$A$3:$A$5000),1))),\"Preço não registrado\")","v":""},"",null,null,"",""]
[null,null,"",null,"","",null,{"$f":"IFERROR(IF(D1762=\"\",\"\",INDEX(Entradas!$H$3:$H$5000,MATCH(A1762,IF(Entradas!$B$3:$B$5000=D1762,Entradas!$A$3:$A$5000),1))),\"Preço não registrado\")","v":""},"",null,null,"",""]
[null,null,"",null,"","",null,{"$f":"IFERROR(IF(D1763=\"\",\"\",INDEX(Entradas!$H$3:$H$5000,MATCH(A1763,IF(Entradas!$B$3:$B$5000=D1763,Entradas!$A$3:$A$5000),1))),\"Preço não registrado\")","v":""},"",null,null,"",""]
[null,null,"",null,"","",null,{"$f":"IFERROR(IF(D1764=\"\",\"\",INDEX(Entradas!$H$3:$H$5000,MATCH(A1764,IF(Entradas!$B$3:$B$5000=D1764,Entradas!$A$3:$A$5000),1))),\"Preço não registrado\")","v":""},"",null,null,"",""]
[null,null,"",null,"","",null,{"$f":"IFERROR(IF(D1765=\"\",\"\",INDEX(Entradas!$H$3:$H$5000,MATCH(A1765,IF(Entradas!$B$3:$B$5000=D1765,Entradas!$A$3:$A$5000),1))),\"Preço não registrado\")","v":""},"",null,null,"",""]
[null,null,"",null,"","",null,{"$f":"IFERROR(IF(D1766=\"\",\"\",INDEX(Entradas!$H$3:$H$5000,MATCH(A1766,IF(Entradas!$B$3:$B$5000=D1766,Entradas!$A$3:$A$5000),1))),\"Preço não registrado\")","v":""},"",null,null,"",""]
[null,null,"",null,"","",null,{"$f":"IFERROR(IF(D1767=\"\",\"\",INDEX(Entradas!$H$3:$H$5000,MATCH(A1767,IF(Entradas!$B$3:$B$5000=D1767,Entradas!$A$3:$A$5000),1))),\"Preço não registrado\")","v":""},"",null,null,"",""]
[null,null,"",null,"","",null,{"$f":"IFERROR(IF(D1768=\"\",\"\",INDEX(Entradas!$H$3:$H$5000,MATCH(A1768,IF(Entradas!$B$3:$B$5000=D1768,Entradas!$A$3:$A$5000),1))),\"Preço não registrado\")","v":""},"",null,null,"",""]
[null,null,"",null,"","",null,{"$f":"IFERROR(IF(D1769=\"\",\"\",INDEX(Entradas!$H$3:$H$5000,MATCH(A1769,IF(Entradas!$B$3:$B$5000=D1769,Entradas!$A$3:$A$5000),1))),\"Preço não registrado\")","v":""},"",null,null,"",""]
[null,null,"",null,"","",null,{"$f":"IFERROR(IF(D1770=\"\",\"\",INDEX(Entradas!$H$3:$H$5000,MATCH(A1770,IF(Entradas!$B$3:$B$5000=D1770,Entradas!$A$3:$A$5000),1))),\"Preço não registrado\")","v":""},"",null,null,"",""]
[null,null,"",null,"","",null,{"$f":"IFERROR(IF(D1771=\"\",\"\",INDEX(Entradas!$H$3:$H$5000,MATCH(A1771,IF(Entradas!$B$3:$B$5000=D1771,Entradas!$A$3:$A$5000),1))),\"Preço não registrado\")","v":""},"",null,null,"",""]
[null,null,"",null,"","",null,{"$f":"IFERROR(IF(D1772=\"\",\"\",INDEX(Entradas!$H$3:$H$5000,MATCH(A1772,IF(Entradas!$B$3:$B$5000=D1772,Entradas!$A$3:$A$5000),1))),\"Preço não registrado\")","v":""},"",null,null,"",""]
[null,null,"",null,"","",null,{"$f":"IFERROR(IF(D1773=\"\",\"\",INDEX(Entradas!$H$3:$H$5000,MATCH(A1773,IF(Entradas!$B$3:$B$5000=D1773,Entradas!$A$3:$A$5000),1))),\"Preço não registrado\")","v":""},"",null,null,"",""]
[null,null,"",null,"","",null,{"$f":"IFERROR(IF(D1774=\"\",\"\",INDEX(Entradas!$H$3:$H$5000,MATCH(A1774,IF(Entradas!$B$3:$B$5000=D1774,Entradas!$A$3:$A$5000),1))),\"Preço não registrado\")","v":""},"",null,null,"",""]
[null,null,"",null,"","",null,{"$f":"IFERROR(IF(D1775=\"\",\"\",INDEX(Entradas!$H$3:$H$5000,MATCH(A1775,IF(Entradas!$B$3:$B$5000=D1775,Entradas!$A$3:$A$5000),1))),\"Preço não registrado\")","v":""},"",null,null,"",""]
[null,null,"",null,"","",null,{"$f":"IFERROR(IF(D1776=\"\",\"\",INDEX(Entradas!$H$3:$H$5000,MATCH(A1776,IF(Entradas!$B$3:$B$5000=D1776,Entradas!$A$3:$A$5000),1))),\"Preço não registrado\")","v":""},"",null,null,"",""]
[null,null,"",null,"","",null,{"$f":"IFERROR(IF(D1777=\"\",\"\",INDEX(Entradas!$H$3:$H$5000,MATCH(A1777,IF(Entradas!$B$3:$B$5000=D1777,Entradas!$A$3:$A$5000),1))),\"Preço não registrado\")","v":""},"",null,null,"",""]
[null,null,"",null,"","",null,{"$f":"IFERROR(IF(D1778=\"\",\"\",INDEX(Entradas!$H$3:$H$5000,MATCH(A1778,IF(Entradas!$B$3:$B$5000=D1778,Entradas!$A$3:$A$5000),1))),\"Preço não registrado\")","v":""},"",null,null,"",""]
[null,null,"",null,"","",null,{"$f":"IFERROR(IF(D1779=\"\",\"\",INDEX(Entradas!$H$3:$H$5000,MATCH(A1779,IF(Entradas!$B$3:$B$5000=D1779,Entradas!$A$3:$A$5000),1))),\"Preço não registrado\")","v":""},"",null,null,"",""]
[null,null,"",null,"","",null,{"$f":"IFERROR(IF(D1780=\"\",\"\",INDEX(Entradas!$H$3:$H$5000,MATCH(A1780,IF(Entradas!$B$3:$B$5000=D1780,Entradas!$A$3:$A$5000),1))),\"Preço não registrado\")","v":""},"",null,null,"",""]
[null,null,"",null,"","",null,{"$f":"IFERROR(IF(D1781=\"\",\"\",INDEX(Entradas!$H$3:$H$5000,MATCH(A1781,IF(Entradas!$B$3:$B$5000=D1781,Entradas!$A$3:$A$5000),1))),\"Preço não registrado\")","v":""},"",null,null,"",""]
[null,null,"",null,"","",null,{"$f":"IFERROR(IF(D1782=\"\",\"\",INDEX(Entradas!$H$3:$H$5000,MATCH(A1782,IF(Entradas!$B$3:$B$5000=D1782,Entradas!$A$3:$A$5000),1))),\"Preço não registrado\")","v":""},"",null,null,"",""]
[null,null,"",null,"","",null,{"$f":"IFERROR(IF(D1783=\"\",\"\",INDEX(Entradas!$H$3:$H$5000,MATCH(A1783,IF(Entradas!$B$3:$B$5000=D1783,Entradas!$A$3:$A$5000),1))),\"Preço não registrado\")","v":""},"",null,null,"",""]
[null,null,"",null,"","",null,{"$f":"IFERROR(IF(D1784=\"\",\"\",INDEX(Entradas!$H$3:$H$5000,MATCH(A1784,IF(Entradas!$B$3:$B$5000=D1784,Entradas!$A$3:$A$5000),1))),\"Preço não registrado\")","v":""},"",null,null,"",""]
[null,null,"",null,"","",null,{"$f":"IFERROR(IF(D1785=\"\",\"\",INDEX(Entradas!$H$3:$H$5000,MATCH(A1785,IF(Entradas!$B$3:$B$5000=D1785,Entradas!$A$3:$A$5000),1))),\"Preço não registrado\")","v":""},"",null,null,"",""]
[null,null,"",null,"","",null,{"$f":"IFERROR(IF(D1786=\"\",\"\",INDEX(Entradas!$H$3:$H$5000,MATCH(A1786,IF(Entradas!$B$3:$B$5000=D1786,Entradas!$A$3:$A$5000),1))),\"Preço não registrado\")","v":""},"",null,null,"",""]
[null,null,"",null,"","",null,{"$f":"IFERROR(IF(D1787=\"\",\"\",INDEX(Entradas!$H$3:$H$5000,MATCH(A1787,IF(Entradas!$B$3:$B$5000=D1787,Entradas!$A$3:$A$5000),1))),\"Preço não registrado\")","v":""},"",null,null,"",""]
[null,null,"",null,"","",null,{"$f":"IFERROR(IF(D1788=\"\",\"\",INDEX(Entradas!$H$3:$H$5000,MATCH(A1788,IF(Entradas!$B$3:$B$5000=D1788,Entradas!$A$3:$A$5000),1))),\"Preço não registrado\")","v":""},"",null,null,"",""]
[null,null,"",null,"","",null,{"$f":"IFERROR(IF(D1789=\"\",\"\",INDEX(Entradas!$H$3:$H$5000,MATCH(A1789,IF(Entradas!$B$3:$B$5000=D1789,Entradas!$A$3:$A$5000),1))),\"Preço não registrado\")","v":""},"",null,null,"",""]
[null,null,"",null,"","",null,{"$f":"IFERROR(IF(D1790=\"\",\"\",INDEX(Entradas!$H$3:$H$5000,MATCH(A1790,IF(Entradas!$B$3:$B$5000=D1790,Entradas!$A$3:$A$5000),1))),\"Preço não registrado\")","v":""},"",null,null,"",""]
[null,null,"",null,"","",null,{"$f":"IFERROR(IF(D1791=\"\",\"\",INDEX(Entradas!$H$3:$H$5000,MATCH(A1791,IF(Entradas!$B$3:$B$5000=D1791,Entradas!$A$3:$A$5000),1))),\"Preço não registrado\")","v":""},"",null,null,"",""]
[null,null,"",null,"","",null,{"$f":"IFERROR(IF(D1792=\"\",\"\",INDEX(Entradas!$H$3:$H$5000,MATCH(A1792,IF(Entradas!$B$3:$B$5000=D1792,Entradas!$A$3:$A$5000),1))),\"Preço não registrado\")","v":""},"",null,null,"",""]
[null,null,"",null,"","",null,{"$f":"IFERROR(IF(D1793=\"\",\"\",INDEX(Entradas!$H$3:$H$5000,MATCH(A1793,IF(Entradas!$B$3:$B$5000=D1793,Entradas!$A$3:$A$5000),1))),\"Preço não registrado\")","v":""},"",null,null,"",""]
[null,null,"",null,"","",null,{"$f":"IFERROR(IF(D1794=\"\",\"\",INDEX(Entradas!$H$3:$H$5000,MATCH(A1794,IF(Entradas!$B$3:$B$5000=D1794,Entradas!$A$3:$A$5000),1))),\"Preço não registrado\")","v":""},"",null,null,"",""]
[null,null,{"$f":"IFERROR(IF(B1795=\"\",\"\",VLOOKUP(B1795,Clientes,2,FALSE)),\"\")","v":""},null,{"$f":"IF(D1795=\"\",\"\",VLOOKUP(D1795,Itens,2,FALSE))","v":""},{"$f":"IF(D1795=\"\",\"\",VLOOKUP(D1795,Itens,3,FALSE))","v":""},null,{"$f":"IFERROR(IF(D1795=\"\",\"\",INDEX(Entradas!$H$3:$H$5000,MATCH(A1795,IF(Entradas!$B$3:$B$5000=D1795,Entradas!$A$3:$A$5000),1))),\"Preço não registrado\")","v":""},"",null,null,"",""]
[null,null,"",null,"","",null,{"$f":"IFERROR(IF(D1796=\"\",\"\",INDEX(Entradas!$H$3:$H$5000,MATCH(A1796,IF(Entradas!$B$3:$B$5000=D1796,Entradas!$A$3:$A$5000),1))),\"Preço não registrado\")","v":""},{"$f":"IFERROR(G1796*H1796,\"\")","v":""},null,null,{"$f":"IF(K1796=\"\",\"\",HYPERLINK($P$13&K1796,\"Rastreie aqui\"))","v":""},{"$f":"IF(A1796=\"\",\"\",TEXT(A1796,\"mmmm\"))","v":""}]
[null,null,"",null,"","",null,{"$f":"IFERROR(IF(D1797=\"\",\"\",INDEX(Entradas!$H$3:$H$5000,MATCH(A1797,IF(Entradas!$B$3:$B$5000=D1797,Entradas!$A$3:$A$5000),1))),\"Preço não registrado\")","v":""},"",null,null,"",""]
[null,null,"",null,"","",null,{"$f":"IFERROR(IF(D1798=\"\",\"\",INDEX(Entradas!$H$3:$H$5000,MATCH(A1798,IF(Entradas!$B$3:$B$5000=D1798,Entradas!$A$3:$A$5000),1))),\"Preço não registrado\")","v":""},"",null,null,"",""]
[null,null,"",null,"","",null,{"$f":"IFERROR(IF(D1799=\"\",\"\",INDEX(Entradas!$H$3:$H$5000,MATCH(A1799,IF(Entradas!$B$3:$B$5000=D1799,Entradas!$A$3:$A$5000),1))),\"Preço não registrado\")","v":""},"",null,null,"",""]
[null,null,"",null,"","",null,{"$f":"IFERROR(IF(D1800=\"\",\"\",INDEX(Entradas!$H$3:$H$5000,MATCH(A1800,IF(Entradas!$B$3:$B$5000=D1800,Entradas!$A$3:$A$5000),1))),\"Preço não registrado\")","v":""},"",null,null,"",""]
[null,null,"",null,"","",null,{"$f":"IFERROR(IF(D1801=\"\",\"\",INDEX(Entradas!$H$3:$H$5000,MATCH(A1801,IF(Entradas!$B$3:$B$5000=D1801,Entradas!$A$3:$A$5000),1))),\"Preço não registrado\")","v":""},"",null,null,"",""]
[null,null,"",null,"","",null,{"$f":"IFERROR(IF(D1802=\"\",\"\",INDEX(Entradas!$H$3:$H$5000,MATCH(A1802,IF(Entradas!$B$3:$B$5000=D1802,Entradas!$A$3:$A$5000),1))),\"Preço não registrado\")","v":""},"",null,null,"",""]
[null,null,"",null,"","",null,{"$f":"IFERROR(IF(D1803=\"\",\"\",INDEX(Entradas!$H$3:$H$5000,MATCH(A1803,IF(Entradas!$B$3:$B$5000=D1803,Entradas!$A$3:$A$5000),1))),\"Preço não registrado\")","v":""},"",null,null,"",""]
[null,null,"",null,"","",null,{"$f":"IFERROR(IF(D1804=\"\",\"\",INDEX(Entradas!$H$3:$H$5000,MATCH(A1804,IF(Entradas!$B$3:$B$5000=D1804,Entradas!$A$3:$A$5000),1))),\"Preço não registrado\")","v":""},"",null,null,"",""]
[null,null,"",null,"","",null,{"$f":"IFERROR(IF(D1805=\"\",\"\",INDEX(Entradas!$H$3:$H$5000,MATCH(A1805,IF(Entradas!$B$3:$B$5000=D1805,Entradas!$A$3:$A$5000),1))),\"Preço não registrado\")","v":""},"",null,null,"",""]
[null,null,"",null,"","",null,{"$f":"IFERROR(IF(D1806=\"\",\"\",INDEX(Entradas!$H$3:$H$5000,MATCH(A1806,IF(Entradas!$B$3:$B$5000=D1806,Entradas!$A$3:$A$5000),1))),\"Preço não registrado\")","v":""},"",null,null,"",""]
[null,null,"",null,"","",null,{"$f":"IFERROR(IF(D1807=\"\",\"\",INDEX(Entradas!$H$3:$H$5000,MATCH(A1807,IF(Entradas!$B$3:$B$5000=D1807,Entradas!$A$3:$A$5000),1))),\"Preço não registrado\")","v":""},"",null,null,"",""]
[null,null,"",null,"","",null,{"$f":"IFERROR(IF(D1808=\"\",\"\",INDEX(Entradas!$H$3:$H$5000,MATCH(A1808,IF(Entradas!$B$3:$B$5000=D1808,Entradas!$A$3:$A$5000),1))),\"Preço não registrado\")","v":""},"",null,null,"",""]
[null,null,"",null,"","",null,{"$f":"IFERROR(IF(D1809=\"\",\"\",INDEX(Entradas!$H$3:$H$5000,MATCH(A1809,IF(Entradas!$B$3:$B$5000=D1809,Entradas!$A$3:$A$5000),1))),\"Preço não registrado\")","v":""},"",null,null,"",""]
[null,null,"",null,"","",null,{"$f":"IFERROR(IF(D1810=\"\",\"\",INDEX(Entradas!$H$3:$H$5000,MATCH(A1810,IF(Entradas!$B$3:$B$5000=D1810,Entradas!$A$3:$A$5000),1))),\"Preço não registrado\")","v":""},"",null,null,"",""]
[null,null,"",null,"","",null,{"$f":"IFERROR(IF(D1811=\"\",\"\",INDEX(Entradas!$H$3:$H$5000,MATCH(A1811,IF(Entradas!$B$3:$B$5000=D1811,Entradas!$A$3:$A$5000),1))),\"Preço não registrado\")","v":""},"",null,null,"",""]
[null,null,"",null,"","",null,{"$f":"IFERROR(IF(D1812=\"\",\"\",INDEX(Entradas!$H$3:$H$5000,MATCH(A1812,IF(Entradas!$B$3:$B$5000=D1812,Entradas!$A$3:$A$5000),1))),\"Preço não registrado\")","v":""},"",null,null,"",""]
[null,null,"",null,"","",null,{"$f":"IFERROR(IF(D1813=\"\",\"\",INDEX(Entradas!$H$3:$H$5000,MATCH(A1813,IF(Entradas!$B$3:$B$5000=D1813,Entradas!$A$3:$A$5000),1))),\"Preço não registrado\")","v":""},"",null,null,"",""]
[null,null,"",null,"","",null,{"$f":"IFERROR(IF(D1814=\"\",\"\",INDEX(Entradas!$H$3:$H$5000,MATCH(A1814,IF(Entradas!$B$3:$B$5000=D1814,Entradas!$A$3:$A$5000),1))),\"Preço não registrado\")","v":""},"",null,null,"",""]
[null,null,"",null,"","",null,{"$f":"IFERROR(IF(D1815=\"\",\"\",INDEX(Entradas!$H$3:$H$5000,MATCH(A1815,IF(Entradas!$B$3:$B$5000=D1815,Entradas!$A$3:$A$5000),1))),\"Preço não registrado\")","v":""},"",null,null,"",""]
[null,null,"",null,"","",null,{"$f":"IFERROR(IF(D1816=\"\",\"\",INDEX(Entradas!$H$3:$H$5000,MATCH(A1816,IF(Entradas!$B$3:$B$5000=D1816,Entradas!$A$3:$A$5000),1))),\"Preço não registrado\")","v":""},"",null,null,"",""]
[null,null,"",null,"","",null,{"$f":"IFERROR(IF(D1817=\"\",\"\",INDEX(Entradas!$H$3:$H$5000,MATCH(A1817,IF(Entradas!$B$3:$B$5000=D1817,Entradas!$A$3:$A$5000),1))),\"Preço não registrado\")","v":""},"",null,null,"",""]
[null,null,"",null,"","",null,{"$f":"IFERROR(IF(D1818=\"\",\"\",INDEX(Entradas!$H$3:$H$5000,MATCH(A1818,IF(Entradas!$B$3:$B$5000=D1818,Entradas!$A$3:$A$5000),1))),\"Preço não registrado\")","v":""},"",null,null,"",""]
[null,null,"",null,"","",null,{"$f":"IFERROR(IF(D1819=\"\",\"\",INDEX(Entradas!$H$3:$H$5000,MATCH(A1819,IF(Entradas!$B$3:$B$5000=D1819,Entradas!$A$3:$A$5000),1))),\"Preço não registrado\")","v":""},"",null,null,"",""]
[null,null,"",null,"","",null,{"$f":"IFERROR(IF(D1820=\"\",\"\",INDEX(Entradas!$H$3:$H$5000,MATCH(A1820,IF(Entradas!$B$3:$B$5000=D1820,Entradas!$A$3:$A$5000),1))),\"Preço não registrado\")","v":""},"",null,null,"",""]
[null,null,"",null,"","",null,{"$f":"IFERROR(IF(D1821=\"\",\"\",INDEX(Entradas!$H$3:$H$5000,MATCH(A1821,IF(Entradas!$B$3:$B$5000=D1821,Entradas!$A$3:$A$5000),1))),\"Preço não registrado\")","v":""},"",null,null,"",""]
[null,null,"",null,"","",null,{"$f":"IFERROR(IF(D1822=\"\",\"\",INDEX(Entradas!$H$3:$H$5000,MATCH(A1822,IF(Entradas!$B$3:$B$5000=D1822,Entradas!$A$3:$A$5000),1))),\"Preço não registrado\")","v":""},"",null,null,"",""]
[null,null,"",null,"","",null,{"$f":"IFERROR(IF(D1823=\"\",\"\",INDEX(Entradas!$H$3:$H$5000,MATCH(A1823,IF(Entradas!$B$3:$B$5000=D1823,Entradas!$A$3:$A$5000),1))),\"Preço não registrado\")","v":""},"",null,null,"",""]
[null,null,"",null,"","",null,{"$f":"IFERROR(IF(D1824=\"\",\"\",INDEX(Entradas!$H$3:$H$5000,MATCH(A1824,IF(Entradas!$B$3:$B$5000=D1824,Entradas!$A$3:$A$5000),1))),\"Preço não registrado\")","v":""},"",null,null,"",""]
[null,null,"",null,"","",null,{"$f":"IFERROR(IF(D1825=\"\",\"\",INDEX(Entradas!$H$3:$H$5000,MATCH(A1825,IF(Entradas!$B$3:$B$5000=D1825,Entradas!$A$3:$A$5000),1))),\"Preço não registrado\")","v":""},"",null,null,"",""]
[null,null,"",null,"","",null,{"$f":"IFERROR(IF(D1826=\"\",\"\",INDEX(Entradas!$H$3:$H$5000,MATCH(A1826,IF(Entradas!$B$3:$B$5000=D1826,Entradas!$A$3:$A$5000),1))),\"Preço não registrado\")","v":""},"",null,null,"",""]
[null,null,"",null,"","",null,{"$f":"IFERROR(IF(D1827=\"\",\"\",INDEX(Entradas!$H$3:$H$5000,MATCH(A1827,IF(Entradas!$B$3:$B$5000=D1827,Entradas!$A$3:$A$5000),1))),\"Preço não registrado\")","v":""},"",null,null,"",""]
[null,null,"",null,"","",null,{"$f":"IFERROR(IF(D1828=\"\",\"\",INDEX(Entradas!$H$3:$H$5000,MATCH(A1828,IF(Entradas!$B$3:$B$5000=D1828,Entradas!$A$3:$A$5000),1))),\"Preço não registrado\")","v":""},"",null,null,"",""]
[null,null,"",null,"","",null,{"$f":"IFERROR(IF(D1829=\"\",\"\",INDEX(Entradas!$H$3:$H$5000,MATCH(A1829,IF(Entradas!$B$3:$B$5000=D1829,Entradas!$A$3:$A$5000),1))),\"Preço não registrado\")","v":""},"",null,null,"",""]
[null,null,"",null,"","",null,{"$f":"IFERROR(IF(D1830=\"\",\"\",INDEX(Entradas!$H$3:$H$5000,MATCH(A1830,IF(Entradas!$B$3:$B$5000=D1830,Entradas!$A$3:$A$5000),1))),\"Preço não registrado\")","v":""},"",null,null,"",""]
[null,null,"",null,"","",null,{"$f":"IFERROR(IF(D1831=\"\",\"\",INDEX(Entradas!$H$3:$H$5000,MATCH(A1831,IF(Entradas!$B$3:$B$5000=D1831,Entradas!$A$3:$A$5000),1))),\"Preço não registrado\")","v":""},"",null,null,"",""]
[null,null,"",null,"","",null,{"$f":"IFERROR(IF(D1832=\"\",\"\",INDEX(Entradas!$H$3:$H$5000,MATCH(A1832,IF(Entradas!$B$3:$B$5000=D1832,Entradas!$A$3:$A$5000),1))),\"Preço não registrado\")","v":""},"",null,null,"",""]
[null,null,"",null,"","",null,{"$f":"IFERROR(IF(D1833=\"\",\"\",INDEX(Entradas!$H$3:$H$5000,MATCH(A1833,IF(Entradas!$B$3:$B$5000=D1833,Entradas!$A$3:$A$5000),1))),\"Preço não registrado\")","v":""},"",null,null,"",""]
[null,null,"",null,"","",null,{"$f":"IFERROR(IF(D1834=\"\",\"\",INDEX(Entradas!$H$3:$H$5000,MATCH(A1834,IF(Entradas!$B$3:$B$5000=D1834,Entradas!$A$3:$A$5000),1))),\"Preço não registrado\")","v":""},"",null,null,"",""]
[null,null,"",null,"","",null,{"$f":"IFERROR(IF(D1835=\"\",\"\",INDEX(Entradas!$H$3:$H$5000,MATCH(A1835,IF(Entradas!$B$3:$B$5000=D1835,Entradas!$A$3:$A$5000),1))),\"Preço não registrado\")","v":""},"",null,null,"",""]
[null,null,"",null,"","",null,{"$f":"IFERROR(IF(D1836=\"\",\"\",INDEX(Entradas!$H$3:$H$5000,MATCH(A1836,IF(Entradas!$B$3:$B$5000=D1836,Entradas!$A$3:$A$5000),1))),\"Preço não registrado\")","v":""},"",null,null,"",""]
[null,null,"",null,"","",null,{"$f":"IFERROR(IF(D1837=\"\",\"\",INDEX(Entradas!$H$3:$H$5000,MATCH(A1837,IF(Entradas!$B$3:$B$5000=D1837,Entradas!$A$3:$A$5000),1))),\"Preço não registrado\")","v":""},"",null,null,"",""]
[null,null,"",null,"","",null,{"$f":"IFERROR(IF(D1838=\"\",\"\",INDEX(Entradas!$H$3:$H$5000,MATCH(A1838,IF(Entradas!$B$3:$B$5000=D1838,Entradas!$A$3:$A$5000),1))),\"Preço não registrado\")","v":""},"",null,null,"",""]
[null,null,"",null,"","",null,{"$f":"IFERROR(IF(D1839=\"\",\"\",INDEX(Entradas!$H$3:$H$5000,MATCH(A1839,IF(Entradas!$B$3:$B$5000=D1839,Entradas!$A$3:$A$5000),1))),\"Preço não registrado\")","v":""},"",null,null,"",""]
[null,null,"",null,"","",null,{"$f":"IFERROR(IF(D1840=\"\",\"\",INDEX(Entradas!$H$3:$H$5000,MATCH(A1840,IF(Entradas!$B$3:$B$5000=D1840,Entradas!$A$3:$A$5000),1))),\"Preço não registrado\")","v":""},"",null,null,"",""]
[null,null,"",null,"","",null,{"$f":"IFERROR(IF(D1841=\"\",\"\",INDEX(Entradas!$H$3:$H$5000,MATCH(A1841,IF(Entradas!$B$3:$B$5000=D1841,Entradas!$A$3:$A$5000),1))),\"Preço não registrado\")","v":""},"",null,null,"",""]
[null,null,"",null,"","",null,{"$f":"IFERROR(IF(D1842=\"\",\"\",INDEX(Entradas!$H$3:$H$5000,MATCH(A1842,IF(Entradas!$B$3:$B$5000=D1842,Entradas!$A$3:$A$5000),1))),\"Preço não registrado\")","v":""},"",null,null,"",""]
[null,null,"",null,"","",null,{"$f":"IFERROR(IF(D1843=\"\",\"\",INDEX(Entradas!$H$3:$H$5000,MATCH(A1843,IF(Entradas!$B$3:$B$5000=D1843,Entradas!$A$3:$A$5000),1))),\"Preço não registrado\")","v":""},"",null,null,"",""]
[null,null,"",null,"","",null,{"$f":"IFERROR(IF(D1844=\"\",\"\",INDEX(Entradas!$H$3:$H$5000,MATCH(A1844,IF(Entradas!$B$3:$B$5000=D1844,Entradas!$A$3:$A$5000),1))),\"Preço não registrado\")","v":""},"",null,null,"",""]
[null,null,"",null,"","",null,{"$f":"IFERROR(IF(D1845=\"\",\"\",INDEX(Entradas!$H$3:$H$5000,MATCH(A1845,IF(Entradas!$B$3:$B$5000=D1845,Entradas!$A$3:$A$5000),1))),\"Preço não registrado\")","v":""},"",null,null,"",""]
[null,null,"",null,"","",null,{"$f":"IFERROR(IF(D1846=\"\",\"\",INDEX(Entradas!$H$3:$H$5000,MATCH(A1846,IF(Entradas!$B$3:$B$5000=D1846,Entradas!$A$3:$A$5000),1))),\"Preço não registrado\")","v":""},"",null,null,"",""]
[null,null,"",null,"","",null,{"$f":"IFERROR(IF(D1847=\"\",\"\",INDEX(Entradas!$H$3:$H$5000,MATCH(A1847,IF(Entradas!$B$3:$B$5000=D1847,Entradas!$A$3:$A$5000),1))),\"Preço não registrado\")","v":""},"",null,null,"",""]
[null,null,"",null,"","",null,{"$f":"IFERROR(IF(D1848=\"\",\"\",INDEX(Entradas!$H$3:$H$5000,MATCH(A1848,IF(Entradas!$B$3:$B$5000=D1848,Entradas!$A$3:$A$5000),1))),\"Preço não registrado\")","v":""},"",null,null,"",""]
[null,null,"",null,"","",null,{"$f":"IFERROR(IF(D1849=\"\",\"\",INDEX(Entradas!$H$3:$H$5000,MATCH(A1849,IF(Entradas!$B$3:$B$5000=D1849,Entradas!$A$3:$A$5000),1))),\"Preço não registrado\")","v":""},"",null,null,"",""]
[null,null,"",null,"","",null,{"$f":"IFERROR(IF(D1850=\"\",\"\",INDEX(Entradas!$H$3:$H$5000,MATCH(A1850,IF(Entradas!$B$3:$B$5000=D1850,Entradas!$A$3:$A$5000),1))),\"Preço não registrado\")","v":""},"",null,null,"",""]
[null,null,"",null,"","",null,{"$f":"IFERROR(IF(D1851=\"\",\"\",INDEX(Entradas!$H$3:$H$5000,MATCH(A1851,IF(Entradas!$B$3:$B$5000=D1851,Entradas!$A$3:$A$5000),1))),\"Preço não registrado\")","v":""},"",null,null,"",""]
[null,null,"",null,"","",null,{"$f":"IFERROR(IF(D1852=\"\",\"\",INDEX(Entradas!$H$3:$H$5000,MATCH(A1852,IF(Entradas!$B$3:$B$5000=D1852,Entradas!$A$3:$A$5000),1))),\"Preço não registrado\")","v":""},"",null,null,"",""]
[null,null,"",null,"","",null,{"$f":"IFERROR(IF(D1853=\"\",\"\",INDEX(Entradas!$H$3:$H$5000,MATCH(A1853,IF(Entradas!$B$3:$B$5000=D1853,Entradas!$A$3:$A$5000),1))),\"Preço não registrado\")","v":""},"",null,null,"",""]
[null,null,"",null,"","",null,{"$f":"IFERROR(IF(D1854=\"\",\"\",INDEX(Entradas!$H$3:$H$5000,MATCH(A1854,IF(Entradas!$B$3:$B$5000=D1854,Entradas!$A$3:$A$5000),1))),\"Preço não registrado\")","v":""},"",null,null,"",""]
[null,null,"",null,"","",null,{"$f":"IFERROR(IF(D1855=\"\",\"\",INDEX(Entradas!$H$3:$H$5000,MATCH(A1855,IF(Entradas!$B$3:$B$5000=D1855,Entradas!$A$3:$A$5000),1))),\"Preço não registrado\")","v":""},"",null,null,"",""]
[null,null,"",null,"","",null,{"$f":"IFERROR(IF(D1856=\"\",\"\",INDEX(Entradas!$H$3:$H$5000,MATCH(A1856,IF(Entradas!$B$3:$B$5000=D1856,Entradas!$A$3:$A$5000),1))),\"Preço não registrado\")","v":""},"",null,null,"",""]
[null,null,"",null,"","",null,{"$f":"IFERROR(IF(D1857=\"\",\"\",INDEX(Entradas!$H$3:$H$5000,MATCH(A1857,IF(Entradas!$B$3:$B$5000=D1857,Entradas!$A$3:$A$5000),1))),\"Preço não registrado\")","v":""},"",null,null,"",""]
[null,null,"",null,"","",null,{"$f":"IFERROR(IF(D1858=\"\",\"\",INDEX(Entradas!$H$3:$H$5000,MATCH(A1858,IF(Entradas!$B$3:$B$5000=D1858,Entradas!$A$3:$A$5000),1))),\"Preço não registrado\")","v":""},"",null,null,"",""]
[null,null,{"$f":"IFERROR(IF(B1859=\"\",\"\",VLOOKUP(B1859,Clientes,2,FALSE)),\"\")","v":""},null,{"$f":"IF(D1859=\"\",\"\",VLOOKUP(D1859,Itens,2,FALSE))","v":""},{"$f":"IF(D1859=\"\",\"\",VLOOKUP(D1859,Itens,3,FALSE))","v":""},null,{"$f":"IFERROR(IF(D1859=\"\",\"\",INDEX(Entradas!$H$3:$H$5000,MATCH(A1859,IF(Entradas!$B$3:$B$5000=D1859,Entradas!$A$3:$A$5000),1))),\"Preço não registrado\")","v":""},"",null,null,"",""]
[null,null,"",null,"","",null,{"$f":"IFERROR(IF(D1860=\"\",\"\",INDEX(Entradas!$H$3:$H$5000,MATCH(A1860,IF(Entradas!$B$3:$B$5000=D1860,Entradas!$A$3:$A$5000),1))),\"Preço não registrado\")","v":""},{"$f":"IFERROR(G1860*H1860,\"\")","v":""},null,null,{"$f":"IF(K1860=\"\",\"\",HYPERLINK($P$13&K1860,\"Rastreie aqui\"))","v":""},{"$f":"IF(A1860=\"\",\"\",TEXT(A1860,\"mmmm\"))","v":""}]
[null,null,"",null,"","",null,{"$f":"IFERROR(IF(D1861=\"\",\"\",INDEX(Entradas!$H$3:$H$5000,MATCH(A1861,IF(Entradas!$B$3:$B$5000=D1861,Entradas!$A$3:$A$5000),1))),\"Preço não registrado\")","v":""},"",null,null,"",""]
[null,null,"",null,"","",null,{"$f":"IFERROR(IF(D1862=\"\",\"\",INDEX(Entradas!$H$3:$H$5000,MATCH(A1862,IF(Entradas!$B$3:$B$5000=D1862,Entradas!$A$3:$A$5000),1))),\"Preço não registrado\")","v":""},"",null,null,"",""]
[null,null,"",null,"","",null,{"$f":"IFERROR(IF(D1863=\"\",\"\",INDEX(Entradas!$H$3:$H$5000,MATCH(A1863,IF(Entradas!$B$3:$B$5000=D1863,Entradas!$A$3:$A$5000),1))),\"Preço não registrado\")","v":""},"",null,null,"",""]
[null,null,"",null,"","",null,{"$f":"IFERROR(IF(D1864=\"\",\"\",INDEX(Entradas!$H$3:$H$5000,MATCH(A1864,IF(Entradas!$B$3:$B$5000=D1864,Entradas!$A$3:$A$5000),1))),\"Preço não registrado\")","v":""},"",null,null,"",""]
[null,null,"",null,"","",null,{"$f":"IFERROR(IF(D1865=\"\",\"\",INDEX(Entradas!$H$3:$H$5000,MATCH(A1865,IF(Entradas!$B$3:$B$5000=D1865,Entradas!$A$3:$A$5000),1))),\"Preço não registrado\")","v":""},"",null,null,"",""]
[null,null,"",null,"","",null,{"$f":"IFERROR(IF(D1866=\"\",\"\",INDEX(Entradas!$H$3:$H$5000,MATCH(A1866,IF(Entradas!$B$3:$B$5000=D1866,Entradas!$A$3:$A$5000),1))),\"Preço não registrado\")","v":""},"",null,null,"",""]
[null,null,"",null,"","",null,{"$f":"IFERROR(IF(D1867=\"\",\"\",INDEX(Entradas!$H$3:$H$5000,MATCH(A1867,IF(Entradas!$B$3:$B$5000=D1867,Entradas!$A$3:$A$5000),1))),\"Preço não registrado\")","v":""},"",null,null,"",""]
[null,null,"",null,"","",null,{"$f":"IFERROR(IF(D1868=\"\",\"\",INDEX(Entradas!$H$3:$H$5000,MATCH(A1868,IF(Entradas!$B$3:$B$5000=D1868,Entradas!$A$3:$A$5000),1))),\"Preço não registrado\")","v":""},"",null,null,"",""]
[null,null,"",null,"","",null,{"$f":"IFERROR(IF(D1869=\"\",\"\",INDEX(Entradas!$H$3:$H$5000,MATCH(A1869,IF(Entradas!$B$3:$B$5000=D1869,Entradas!$A$3:$A$5000),1))),\"Preço não registrado\")","v":""},"",null,null,"",""]
[null,null,"",null,"","",null,{"$f":"IFERROR(IF(D1870=\"\",\"\",INDEX(Entradas!$H$3:$H$5000,MATCH(A1870,IF(Entradas!$B$3:$B$5000=D1870,Entradas!$A$3:$A$5000),1))),\"Preço não registrado\")","v":""},"",null,null,"",""]
[null,null,"",null,"","",null,{"$f":"IFERROR(IF(D1871=\"\",\"\",INDEX(Entradas!$H$3:$H$5000,MATCH(A1871,IF(Entradas!$B$3:$B$5000=D1871,Entradas!$A$3:$A$5000),1))),\"Preço não registrado\")","v":""},"",null,null,"",""]
[null,null,"",null,"","",null,{"$f":"IFERROR(IF(D1872=\"\",\"\",INDEX(Entradas!$H$3:$H$5000,MATCH(A1872,IF(Entradas!$B$3:$B$5000=D1872,Entradas!$A$3:$A$5000),1))),\"Preço não registrado\")","v":""},"",null,null,"",""]
[null,null,"",null,"","",null,{"$f":"IFERROR(IF(D1873=\"\",\"\",INDEX(Entradas!$H$3:$H$5000,MATCH(A1873,IF(Entradas!$B$3:$B$5000=D1873,Entradas!$A$3:$A$5000),1))),\"Preço não registrado\")","v":""},"",null,null,"",""]
[null,null,"",null,"","",null,{"$f":"IFERROR(IF(D1874=\"\",\"\",INDEX(Entradas!$H$3:$H$5000,MATCH(A1874,IF(Entradas!$B$3:$B$5000=D1874,Entradas!$A$3:$A$5000),1))),\"Preço não registrado\")","v":""},"",null,null,"",""]
[null,null,"",null,"","",null,{"$f":"IFERROR(IF(D1875=\"\",\"\",INDEX(Entradas!$H$3:$H$5000,MATCH(A1875,IF(Entradas!$B$3:$B$5000=D1875,Entradas!$A$3:$A$5000),1))),\"Preço não registrado\")","v":""},"",null,null,"",""]
[null,null,"",null,"","",null,{"$f":"IFERROR(IF(D1876=\"\",\"\",INDEX(Entradas!$H$3:$H$5000,MATCH(A1876,IF(Entradas!$B$3:$B$5000=D1876,Entradas!$A$3:$A$5000),1))),\"Preço não registrado\")","v":""},"",null,null,"",""]
[null,null,"",null,"","",null,{"$f":"IFERROR(IF(D1877=\"\",\"\",INDEX(Entradas!$H$3:$H$5000,MATCH(A1877,IF(Entradas!$B$3:$B$5000=D1877,Entradas!$A$3:$A$5000),1))),\"Preço não registrado\")","v":""},"",null,null,"",""]
[null,null,"",null,"","",null,{"$f":"IFERROR(IF(D1878=\"\",\"\",INDEX(Entradas!$H$3:$H$5000,MATCH(A1878,IF(Entradas!$B$3:$B$5000=D1878,Entradas!$A$3:$A$5000),1))),\"Preço não registrado\")","v":""},"",null,null,"",""]
[null,null,"",null,"","",null,{"$f":"IFERROR(IF(D1879=\"\",\"\",INDEX(Entradas!$H$3:$H$5000,MATCH(A1879,IF(Entradas!$B$3:$B$5000=D1879,Entradas!$A$3:$A$5000),1))),\"Preço não registrado\")","v":""},"",null,null,"",""]
[null,null,"",null,"","",null,{"$f":"IFERROR(IF(D1880=\"\",\"\",INDEX(Entradas!$H$3:$H$5000,MATCH(A1880,IF(Entradas!$B$3:$B$5000=D1880,Entradas!$A$3:$A$5000),1))),\"Preço não registrado\")","v":""},"",null,null,"",""]
[null,null,"",null,"","",null,{"$f":"IFERROR(IF(D1881=\"\",\"\",INDEX(Entradas!$H$3:$H$5000,MATCH(A1881,IF(Entradas!$B$3:$B$5000=D1881,Entradas!$A$3:$A$5000),1))),\"Preço não registrado\")","v":""},"",null,null,"",""]
[null,null,"",null,"","",null,{"$f":"IFERROR(IF(D1882=\"\",\"\",INDEX(Entradas!$H$3:$H$5000,MATCH(A1882,IF(Entradas!$B$3:$B$5000=D1882,Entradas!$A$3:$A$5000),1))),\"Preço não registrado\")","v":""},"",null,null,"",""]
[null,null,"",null,"","",null,{"$f":"IFERROR(IF(D1883=\"\",\"\",INDEX(Entradas!$H$3:$H$5000,MATCH(A1883,IF(Entradas!$B$3:$B$5000=D1883,Entradas!$A$3:$A$5000),1))),\"Preço não registrado\")","v":""},"",null,null,"",""]
[null,null,"",null,"","",null,{"$f":"IFERROR(IF(D1884=\"\",\"\",INDEX(Entradas!$H$3:$H$5000,MATCH(A1884,IF(Entradas!$B$3:$B$5000=D1884,Entradas!$A$3:$A$5000),1))),\"Preço não registrado\")","v":""},"",null,null,"",""]
[null,null,"",null,"","",null,{"$f":"IFERROR(IF(D1885=\"\",\"\",INDEX(Entradas!$H$3:$H$5000,MATCH(A1885,IF(Entradas!$B$3:$B$5000=D1885,Entradas!$A$3:$A$5000),1))),\"Preço não registrado\")","v":""},"",null,null,"",""]
[null,null,"",null,"","",null,{"$f":"IFERROR(IF(D1886=\"\",\"\",INDEX(Entradas!$H$3:$H$5000,MATCH(A1886,IF(Entradas!$B$3:$B$5000=D1886,Entradas!$A$3:$A$5000),1))),\"Preço não registrado\")","v":""},"",null,null,"",""]
[null,null,"",null,"","",null,{"$f":"IFERROR(IF(D1887=\"\",\"\",INDEX(Entradas!$H$3:$H$5000,MATCH(A1887,IF(Entradas!$B$3:$B$5000=D1887,Entradas!$A$3:$A$5000),1))),\"Preço não registrado\")","v":""},"",null,null,"",""]
[null,null,"",null,"","",null,{"$f":"IFERROR(IF(D1888=\"\",\"\",INDEX(Entradas!$H$3:$H$5000,MATCH(A1888,IF(Entradas!$B$3:$B$5000=D1888,Entradas!$A$3:$A$5000),1))),\"Preço não registrado\")","v":""},"",null,null,"",""]
[null,null,"",null,"","",null,{"$f":"IFERROR(IF(D1889=\"\",\"\",INDEX(Entradas!$H$3:$H$5000,MATCH(A1889,IF(Entradas!$B$3:$B$5000=D1889,Entradas!$A$3:$A$5000),1))),\"Preço não registrado\")","v":""},"",null,null,"",""]
[null,null,"",null,"","",null,{"$f":"IFERROR(IF(D1890=\"\",\"\",INDEX(Entradas!$H$3:$H$5000,MATCH(A1890,IF(Entradas!$B$3:$B$5000=D1890,Entradas!$A$3:$A$5000),1))),\"Preço não registrado\")","v":""},"",null,null,"",""]
[null,null,"",null,"","",null,{"$f":"IFERROR(IF(D1891=\"\",\"\",INDEX(Entradas!$H$3:$H$5000,MATCH(A1891,IF(Entradas!$B$3:$B$5000=D1891,Entradas!$A$3:$A$5000),1))),\"Preço não registrado\")","v":""},"",null,null,"",""]
[null,null,"",null,"","",null,{"$f":"IFERROR(IF(D1892=\"\",\"\",INDEX(Entradas!$H$3:$H$5000,MATCH(A1892,IF(Entradas!$B$3:$B$5000=D1892,Entradas!$A$3:$A$5000),1))),\"Preço não registrado\")","v":""},"",null,null,"",""]
[null,null,"",null,"","",null,{"$f":"IFERROR(IF(D1893=\"\",\"\",INDEX(Entradas!$H$3:$H$5000,MATCH(A1893,IF(Entradas!$B$3:$B$5000=D1893,Entradas!$A$3:$A$5000),1))),\"Preço não registrado\")","v":""},"",null,null,"",""]
[null,null,"",null,"","",null,{"$f":"IFERROR(IF(D1894=\"\",\"\",INDEX(Entradas!$H$3:$H$5000,MATCH(A1894,IF(Entradas!$B$3:$B$5000=D1894,Entradas!$A$3:$A$5000),1))),\"Preço não registrado\")","v":""},"",null,null,"",""]
[null,null,"",null,"","",null,{"$f":"IFERROR(IF(D1895=\"\",\"\",INDEX(Entradas!$H$3:$H$5000,MATCH(A1895,IF(Entradas!$B$3:$B$5000=D1895,Entradas!$A$3:$A$5000),1))),\"Preço não registrado\")","v":""},"",null,null,"",""]
[null,null,"",null,"","",null,{"$f":"IFERROR(IF(D1896=\"\",\"\",INDEX(Entradas!$H$3:$H$5000,MATCH(A1896,IF(Entradas!$B$3:$B$5000=D1896,Entradas!$A$3:$A$5000),1))),\"Preço não registrado\")","v":""},"",null,null,"",""]
[null,null,"",null,"","",null,{"$f":"IFERROR(IF(D1897=\"\",\"\",INDEX(Entradas!$H$3:$H$5000,MATCH(A1897,IF(Entradas!$B$3:$B$5000=D1897,Entradas!$A$3:$A$5000),1))),\"Preço não registrado\")","v":""},"",null,null,"",""]
[null,null,"",null,"","",null,{"$f":"IFERROR(IF(D1898=\"\",\"\",INDEX(Entradas!$H$3:$H$5000,MATCH(A1898,IF(Entradas!$B$3:$B$5000=D1898,Entradas!$A$3:$A$5000),1))),\"Preço não registrado\")","v":""},"",null,null,"",""]
[null,null,"",null,"","",null,{"$f":"IFERROR(IF(D1899=\"\",\"\",INDEX(Entradas!$H$3:$H$5000,MATCH(A1899,IF(Entradas!$B$3:$B$5000=D1899,Entradas!$A$3:$A$5000),1))),\"Preço não registrado\")","v":""},"",null,null,"",""]
[null,null,"",null,"","",null,{"$f":"IFERROR(IF(D1900=\"\",\"\",INDEX(Entradas!$H$3:$H$5000,MATCH(A1900,IF(Entradas!$B$3:$B$5000=D1900,Entradas!$A$3:$A$5000),1))),\"Preço não registrado\")","v":""},"",null,null,"",""]
[null,null,"",null,"","",null,{"$f":"IFERROR(IF(D1901=\"\",\"\",INDEX(Entradas!$H$3:$H$5000,MATCH(A1901,IF(Entradas!$B$3:$B$5000=D1901,Entradas!$A$3:$A$5000),1))),\"Preço não registrado\")","v":""},"",null,null,"",""]
[null,null,"",null,"","",null,{"$f":"IFERROR(IF(D1902=\"\",\"\",INDEX(Entradas!$H$3:$H$5000,MATCH(A1902,IF(Entradas!$B$3:$B$5000=D1902,Entradas!$A$3:$A$5000),1))),\"Preço não registrado\")","v":""},"",null,null,"",""]
[null,null,"",null,"","",null,{"$f":"IFERROR(IF(D1903=\"\",\"\",INDEX(Entradas!$H$3:$H$5000,MATCH(A1903,IF(Entradas!$B$3:$B$5000=D1903,Entradas!$A$3:$A$5000),1))),\"Preço não registrado\")","v":""},"",null,null,"",""]
[null,null,"",null,"","",null,{"$f":"IFERROR(IF(D1904=\"\",\"\",INDEX(Entradas!$H$3:$H$5000,MATCH(A1904,IF(Entradas!$B$3:$B$5000=D1904,Entradas!$A$3:$A$5000),1))),\"Preço não registrado\")","v":""},"",null,null,"",""]
[null,null,"",null,"","",null,{"$f":"IFERROR(IF(D1905=\"\",\"\",INDEX(Entradas!$H$3:$H$5000,MATCH(A1905,IF(Entradas!$B$3:$B$5000=D1905,Entradas!$A$3:$A$5000),1))),\"Preço não registrado\")","v":""},"",null,null,"",""]
[null,null,"",null,"","",null,{"$f":"IFERROR(IF(D1906=\"\",\"\",INDEX(Entradas!$H$3:$H$5000,MATCH(A1906,IF(Entradas!$B$3:$B$5000=D1906,Entradas!$A$3:$A$5000),1))),\"Preço não registrado\")","v":""},"",null,null,"",""]
[null,null,"",null,"","",null,{"$f":"IFERROR(IF(D1907=\"\",\"\",INDEX(Entradas!$H$3:$H$5000,MATCH(A1907,IF(Entradas!$B$3:$B$5000=D1907,Entradas!$A$3:$A$5000),1))),\"Preço não registrado\")","v":""},"",null,null,"",""]
[null,null,"",null,"","",null,{"$f":"IFERROR(IF(D1908=\"\",\"\",INDEX(Entradas!$H$3:$H$5000,MATCH(A1908,IF(Entradas!$B$3:$B$5000=D1908,Entradas!$A$3:$A$5000),1))),\"Preço não registrado\")","v":""},"",null,null,"",""]
[null,null,"",null,"","",null,{"$f":"IFERROR(IF(D1909=\"\",\"\",INDEX(Entradas!$H$3:$H$5000,MATCH(A1909,IF(Entradas!$B$3:$B$5000=D1909,Entradas!$A$3:$A$5000),1))),\"Preço não registrado\")","v":""},"",null,null,"",""]
[null,null,"",null,"","",null,{"$f":"IFERROR(IF(D1910=\"\",\"\",INDEX(Entradas!$H$3:$H$5000,MATCH(A1910,IF(Entradas!$B$3:$B$5000=D1910,Entradas!$A$3:$A$5000),1))),\"Preço não registrado\")","v":""},"",null,null,"",""]
[null,null,"",null,"","",null,{"$f":"IFERROR(IF(D1911=\"\",\"\",INDEX(Entradas!$H$3:$H$5000,MATCH(A1911,IF(Entradas!$B$3:$B$5000=D1911,Entradas!$A$3:$A$5000),1))),\"Preço não registrado\")","v":""},"",null,null,"",""]
[null,null,"",null,"","",null,{"$f":"IFERROR(IF(D1912=\"\",\"\",INDEX(Entradas!$H$3:$H$5000,MATCH(A1912,IF(Entradas!$B$3:$B$5000=D1912,Entradas!$A$3:$A$5000),1))),\"Preço não registrado\")","v":""},"",null,null,"",""]
[null,null,"",null,"","",null,{"$f":"IFERROR(IF(D1913=\"\",\"\",INDEX(Entradas!$H$3:$H$5000,MATCH(A1913,IF(Entradas!$B$3:$B$5000=D1913,Entradas!$A$3:$A$5000),1))),\"Preço não registrado\")","v":""},"",null,null,"",""]
[null,null,"",null,"","",null,{"$f":"IFERROR(IF(D1914=\"\",\"\",INDEX(Entradas!$H$3:$H$5000,MATCH(A1914,IF(Entradas!$B$3:$B$5000=D1914,Entradas!$A$3:$A$5000),1))),\"Preço não registrado\")","v":""},"",null,null,"",""]
[null,null,"",null,"","",null,{"$f":"IFERROR(IF(D1915=\"\",\"\",INDEX(Entradas!$H$3:$H$5000,MATCH(A1915,IF(Entradas!$B$3:$B$5000=D1915,Entradas!$A$3:$A$5000),1))),\"Preço não registrado\")","v":""},"",null,null,"",""]
[null,null,"",null,"","",null,{"$f":"IFERROR(IF(D1916=\"\",\"\",INDEX(Entradas!$H$3:$H$5000,MATCH(A1916,IF(Entradas!$B$3:$B$5000=D1916,Entradas!$A$3:$A$5000),1))),\"Preço não registrado\")","v":""},"",null,null,"",""]
[null,null,"",null,"","",null,{"$f":"IFERROR(IF(D1917=\"\",\"\",INDEX(Entradas!$H$3:$H$5000,MATCH(A1917,IF(Entradas!$B$3:$B$5000=D1917,Entradas!$A$3:$A$5000),1))),\"Preço não registrado\")","v":""},"",null,null,"",""]
[null,null,"",null,"","",null,{"$f":"IFERROR(IF(D1918=\"\",\"\",INDEX(Entradas!$H$3:$H$5000,MATCH(A1918,IF(Entradas!$B$3:$B$5000=D1918,Entradas!$A$3:$A$5000),1))),\"Preço não registrado\")","v":""},"",null,null,"",""]
[null,null,"",null,"","",null,{"$f":"IFERROR(IF(D1919=\"\",\"\",INDEX(Entradas!$H$3:$H$5000,MATCH(A1919,IF(Entradas!$B$3:$B$5000=D1919,Entradas!$A$3:$A$5000),1))),\"Preço não registrado\")","v":""},"",null,null,"",""]
[null,null,"",null,"","",null,{"$f":"IFERROR(IF(D1920=\"\",\"\",INDEX(Entradas!$H$3:$H$5000,MATCH(A1920,IF(Entradas!$B$3:$B$5000=D1920,Entradas!$A$3:$A$5000),1))),\"Preço não registrado\")","v":""},"",null,null,"",""]
[null,null,"",null,"","",null,{"$f":"IFERROR(IF(D1921=\"\",\"\",INDEX(Entradas!$H$3:$H$5000,MATCH(A1921,IF(Entradas!$B$3:$B$5000=D1921,Entradas!$A$3:$A$5000),1))),\"Preço não registrado\")","v":""},"",null,null,"",""]
[null,null,"",null,"","",null,{"$f":"IFERROR(IF(D1922=\"\",\"\",INDEX(Entradas!$H$3:$H$5000,MATCH(A1922,IF(Entradas!$B$3:$B$5000=D1922,Entradas!$A$3:$A$5000),1))),\"Preço não registrado\")","v":""},"",null,null,"",""]
[null,null,{"$f":"IFERROR(IF(B1923=\"\",\"\",VLOOKUP(B1923,Clientes,2,FALSE)),\"\")","v":""},null,{"$f":"IF(D1923=\"\",\"\",VLOOKUP(D1923,Itens,2,FALSE))","v":""},{"$f":"IF(D1923=\"\",\"\",VLOOKUP(D1923,Itens,3,FALSE))","v":""},null,{"$f":"IFERROR(IF(D1923=\"\",\"\",INDEX(Entradas!$H$3:$H$5000,MATCH(A1923,IF(Entradas!$B$3:$B$5000=D1923,Entradas!$A$3:$A$5000),1))),\"Preço não registrado\")","v":""},"",null,null,"",""]
[null,null,"",null,"","",null,{"$f":"IFERROR(IF(D1924=\"\",\"\",INDEX(Entradas!$H$3:$H$5000,MATCH(A1924,IF(Entradas!$B$3:$B$5000=D1924,Entradas!$A$3:$A$5000),1))),\"Preço não registrado\")","v":""},{"$f":"IFERROR(G1924*H1924,\"\")","v":""},null,null,{"$f":"IF(K1924=\"\",\"\",HYPERLINK($P$13&K1924,\"Rastreie aqui\"))","v":""},{"$f":"IF(A1924=\"\",\"\",TEXT(A1924,\"mmmm\"))","v":""}]
[null,null,"",null,"","",null,{"$f":"IFERROR(IF(D1925=\"\",\"\",INDEX(Entradas!$H$3:$H$5000,MATCH(A1925,IF(Entradas!$B$3:$B$5000=D1925,Entradas!$A$3:$A$5000),1))),\"Preço não registrado\")","v":""},"",null,null,"",""]
[null,null,"",null,"","",null,{"$f":"IFERROR(IF(D1926=\"\",\"\",INDEX(Entradas!$H$3:$H$5000,MATCH(A1926,IF(Entradas!$B$3:$B$5000=D1926,Entradas!$A$3:$A$5000),1))),\"Preço não registrado\")","v":""},"",null,null,"",""]
[null,null,"",null,"","",null,{"$f":"IFERROR(IF(D1927=\"\",\"\",INDEX(Entradas!$H$3:$H$5000,MATCH(A1927,IF(Entradas!$B$3:$B$5000=D1927,Entradas!$A$3:$A$5000),1))),\"Preço não registrado\")","v":""},"",null,null,"",""]
[null,null,"",null,"","",null,{"$f":"IFERROR(IF(D1928=\"\",\"\",INDEX(Entradas!$H$3:$H$5000,MATCH(A1928,IF(Entradas!$B$3:$B$5000=D1928,Entradas!$A$3:$A$5000),1))),\"Preço não registrado\")","v":""},"",null,null,"",""]
[null,null,"",null,"","",null,{"$f":"IFERROR(IF(D1929=\"\",\"\",INDEX(Entradas!$H$3:$H$5000,MATCH(A1929,IF(Entradas!$B$3:$B$5000=D1929,Entradas!$A$3:$A$5000),1))),\"Preço não registrado\")","v":""},"",null,null,"",""]
[null,null,"",null,"","",null,{"$f":"IFERROR(IF(D1930=\"\",\"\",INDEX(Entradas!$H$3:$H$5000,MATCH(A1930,IF(Entradas!$B$3:$B$5000=D1930,Entradas!$A$3:$A$5000),1))),\"Preço não registrado\")","v":""},"",null,null,"",""]
[null,null,"",null,"","",null,{"$f":"IFERROR(IF(D1931=\"\",\"\",INDEX(Entradas!$H$3:$H$5000,MATCH(A1931,IF(Entradas!$B$3:$B$5000=D1931,Entradas!$A$3:$A$5000),1))),\"Preço não registrado\")","v":""},"",null,null,"",""]
[null,null,"",null,"","",null,{"$f":"IFERROR(IF(D1932=\"\",\"\",INDEX(Entradas!$H$3:$H$5000,MATCH(A1932,IF(Entradas!$B$3:$B$5000=D1932,Entradas!$A$3:$A$5000),1))),\"Preço não registrado\")","v":""},"",null,null,"",""]
[null,null,"",null,"","",null,{"$f":"IFERROR(IF(D1933=\"\",\"\",INDEX(Entradas!$H$3:$H$5000,MATCH(A1933,IF(Entradas!$B$3:$B$5000=D1933,Entradas!$A$3:$A$5000),1))),\"Preço não registrado\")","v":""},"",null,null,"",""]
[null,null,"",null,"","",null,{"$f":"IFERROR(IF(D1934=\"\",\"\",INDEX(Entradas!$H$3:$H$5000,MATCH(A1934,IF(Entradas!$B$3:$B$5000=D1934,Entradas!$A$3:$A$5000),1))),\"Preço não registrado\")","v":""},"",null,null,"",""]
[null,null,"",null,"","",null,{"$f":"IFERROR(IF(D1935=\"\",\"\",INDEX(Entradas!$H$3:$H$5000,MATCH(A1935,IF(Entradas!$B$3:$B$5000=D1935,Entradas!$A$3:$A$5000),1))),\"Preço não registrado\")","v":""},"",null,null,"",""]
[null,null,"",null,"","",null,{"$f":"IFERROR(IF(D1936=\"\",\"\",INDEX(Entradas!$H$3:$H$5000,MATCH(A1936,IF(Entradas!$B$3:$B$5000=D1936,Entradas!$A$3:$A$5000),1))),\"Preço não registrado\")","v":""},"",null,null,"",""]
[null,null,"",null,"","",null,{"$f":"IFERROR(IF(D1937=\"\",\"\",INDEX(Entradas!$H$3:$H$5000,MATCH(A1937,IF(Entradas!$B$3:$B$5000=D1937,Entradas!$A$3:$A$5000),1))),\"Preço não registrado\")","v":""},"",null,null,"",""]
[null,null,"",null,"","",null,{"$f":"IFERROR(IF(D1938=\"\",\"\",INDEX(Entradas!$H$3:$H$5000,MATCH(A1938,IF(Entradas!$B$3:$B$5000=D1938,Entradas!$A$3:$A$5000),1))),\"Preço não registrado\")","v":""},"",null,null,"",""]
[null,null,"",null,"","",null,{"$f":"IFERROR(IF(D1939=\"\",\"\",INDEX(Entradas!$H$3:$H$5000,MATCH(A1939,IF(Entradas!$B$3:$B$5000=D1939,Entradas!$A$3:$A$5000),1))),\"Preço não registrado\")","v":""},"",null,null,"",""]
[null,null,"",null,"","",null,{"$f":"IFERROR(IF(D1940=\"\",\"\",INDEX(Entradas!$H$3:$H$5000,MATCH(A1940,IF(Entradas!$B$3:$B$5000=D1940,Entradas!$A$3:$A$5000),1))),\"Preço não registrado\")","v":""},"",null,null,"",""]
[null,null,"",null,"","",null,{"$f":"IFERROR(IF(D1941=\"\",\"\",INDEX(Entradas!$H$3:$H$5000,MATCH(A1941,IF(Entradas!$B$3:$B$5000=D1941,Entradas!$A$3:$A$5000),1))),\"Preço não registrado\")","v":""},"",null,null,"",""]
[null,null,"",null,"","",null,{"$f":"IFERROR(IF(D1942=\"\",\"\",INDEX(Entradas!$H$3:$H$5000,MATCH(A1942,IF(Entradas!$B$3:$B$5000=D1942,Entradas!$A$3:$A$5000),1))),\"Preço não registrado\")","v":""},"",null,null,"",""]
[null,null,"",null,"","",null,{"$f":"IFERROR(IF(D1943=\"\",\"\",INDEX(Entradas!$H$3:$H$5000,MATCH(A1943,IF(Entradas!$B$3:$B$5000=D1943,Entradas!$A$3:$A$5000),1))),\"Preço não registrado\")","v":""},"",null,null,"",""]
[null,null,"",null,"","",null,{"$f":"IFERROR(IF(D1944=\"\",\"\",INDEX(Entradas!$H$3:$H$5000,MATCH(A1944,IF(Entradas!$B$3:$B$5000=D1944,Entradas!$A$3:$A$5000),1))),\"Preço não registrado\")","v":""},"",null,null,"",""]
[null,null,"",null,"","",null,{"$f":"IFERROR(IF(D1945=\"\",\"\",INDEX(Entradas!$H$3:$H$5000,MATCH(A1945,IF(Entradas!$B$3:$B$5000=D1945,Entradas!$A$3:$A$5000),1))),\"Preço não registrado\")","v":""},"",null,null,"",""]
[null,null,"",null,"","",null,{"$f":"IFERROR(IF(D1946=\"\",\"\",INDEX(Entradas!$H$3:$H$5000,MATCH(A1946,IF(Entradas!$B$3:$B$5000=D1946,Entradas!$A$3:$A$5000),1))),\"Preço não registrado\")","v":""},"",null,null,"",""]
[null,null,"",null,"","",null,{"$f":"IFERROR(IF(D1947=\"\",\"\",INDEX(Entradas!$H$3:$H$5000,MATCH(A1947,IF(Entradas!$B$3:$B$5000=D1947,Entradas!$A$3:$A$5000),1))),\"Preço não registrado\")","v":""},"",null,null,"",""]
[null,null,"",null,"","",null,{"$f":"IFERROR(IF(D1948=\"\",\"\",INDEX(Entradas!$H$3:$H$5000,MATCH(A1948,IF(Entradas!$B$3:$B$5000=D1948,Entradas!$A$3:$A$5000),1))),\"Preço não registrado\")","v":""},"",null,null,"",""]
[null,null,"",null,"","",null,{"$f":"IFERROR(IF(D1949=\"\",\"\",INDEX(Entradas!$H$3:$H$5000,MATCH(A1949,IF(Entradas!$B$3:$B$5000=D1949,Entradas!$A$3:$A$5000),1))),\"Preço não registrado\")","v":""},"",null,null,"",""]
[null,null,"",null,"","",null,{"$f":"IFERROR(IF(D1950=\"\",\"\",INDEX(Entradas!$H$3:$H$5000,MATCH(A1950,IF(Entradas!$B$3:$B$5000=D1950,Entradas!$A$3:$A$5000),1))),\"Preço não registrado\")","v":""},"",null,null,"",""]
[null,null,"",null,"","",null,{"$f":"IFERROR(IF(D1951=\"\",\"\",INDEX(Entradas!$H$3:$H$5000,MATCH(A1951,IF(Entradas!$B$3:$B$5000=D1951,Entradas!$A$3:$A$5000),1))),\"Preço não registrado\")","v":""},"",null,null,"",""]
[null,null,"",null,"","",null,{"$f":"IFERROR(IF(D1952=\"\",\"\",INDEX(Entradas!$H$3:$H$5000,MATCH(A1952,IF(Entradas!$B$3:$B$5000=D1952,Entradas!$A$3:$A$5000),1))),\"Preço não registrado\")","v":""},"",null,null,"",""]
[null,null,"",null,"","",null,{"$f":"IFERROR(IF(D1953=\"\",\"\",INDEX(Entradas!$H$3:$H$5000,MATCH(A1953,IF(Entradas!$B$3:$B$5000=D1953,Entradas!$A$3:$A$5000),1))),\"Preço não registrado\")","v":""},"",null,null,"",""]
[null,null,"",null,"","",null,{"$f":"IFERROR(IF(D1954=\"\",\"\",INDEX(Entradas!$H$3:$H$5000,MATCH(A1954,IF(Entradas!$B$3:$B$5000=D1954,Entradas!$A$3:$A$5000),1))),\"Preço não registrado\")","v":""},"",null,null,"",""]
[null,null,"",null,"","",null,{"$f":"IFERROR(IF(D1955=\"\",\"\",INDEX(Entradas!$H$3:$H$5000,MATCH(A1955,IF(Entradas!$B$3:$B$5000=D1955,Entradas!$A$3:$A$5000),1))),\"Preço não registrado\")","v":""},"",null,null,"",""]
[null,null,"",null,"","",null,{"$f":"IFERROR(IF(D1956=\"\",\"\",INDEX(Entradas!$H$3:$H$5000,MATCH(A1956,IF(Entradas!$B$3:$B$5000=D1956,Entradas!$A$3:$A$5000),1))),\"Preço não registrado\")","v":""},"",null,null,"",""]
[null,null,"",null,"","",null,{"$f":"IFERROR(IF(D1957=\"\",\"\",INDEX(Entradas!$H$3:$H$5000,MATCH(A1957,IF(Entradas!$B$3:$B$5000=D1957,Entradas!$A$3:$A$5000),1))),\"Preço não registrado\")","v":""},"",null,null,"",""]
[null,null,"",null,"","",null,{"$f":"IFERROR(IF(D1958=\"\",\"\",INDEX(Entradas!$H$3:$H$5000,MATCH(A1958,IF(Entradas!$B$3:$B$5000=D1958,Entradas!$A$3:$A$5000),1))),\"Preço não registrado\")","v":""},"",null,null,"",""]
[null,null,"",null,"","",null,{"$f":"IFERROR(IF(D1959=\"\",\"\",INDEX(Entradas!$H$3:$H$5000,MATCH(A1959,IF(Entradas!$B$3:$B$5000=D1959,Entradas!$A$3:$A$5000),1))),\"Preço não registrado\")","v":""},"",null,null,"",""]
[null,null,"",null,"","",null,{"$f":"IFERROR(IF(D1960=\"\",\"\",INDEX(Entradas!$H$3:$H$5000,MATCH(A1960,IF(Entradas!$B$3:$B$5000=D1960,Entradas!$A$3:$A$5000),1))),\"Preço não registrado\")","v":""},"",null,null,"",""]
[null,null,"",null,"","",null,{"$f":"IFERROR(IF(D1961=\"\",\"\",INDEX(Entradas!$H$3:$H$5000,MATCH(A1961,IF(Entradas!$B$3:$B$5000=D1961,Entradas!$A$3:$A$5000),1))),\"Preço não registrado\")","v":""},"",null,null,"",""]
[null,null,"",null,"","",null,{"$f":"IFERROR(IF(D1962=\"\",\"\",INDEX(Entradas!$H$3:$H$5000,MATCH(A1962,IF(Entradas!$B$3:$B$5000=D1962,Entradas!$A$3:$A$5000),1))),\"Preço não registrado\")","v":""},"",null,null,"",""]
[null,null,"",null,"","",null,{"$f":"IFERROR(IF(D1963=\"\",\"\",INDEX(Entradas!$H$3:$H$5000,MATCH(A1963,IF(Entradas!$B$3:$B$5000=D1963,Entradas!$A$3:$A$5000),1))),\"Preço não registrado\")","v":""},"",null,null,"",""]
[null,null,"",null,"","",null,{"$f":"IFERROR(IF(D1964=\"\",\"\",INDEX(Entradas!$H$3:$H$5000,MATCH(A1964,IF(Entradas!$B$3:$B$5000=D1964,Entradas!$A$3:$A$5000),1))),\"Preço não registrado\")","v":""},"",null,null,"",""]
[null,null,"",null,"","",null,{"$f":"IFERROR(IF(D1965=\"\",\"\",INDEX(Entradas!$H$3:$H$5000,MATCH(A1965,IF(Entradas!$B$3:$B$5000=D1965,Entradas!$A$3:$A$5000),1))),\"Preço não registrado\")","v":""},"",null,null,"",""]
[null,null,"",null,"","",null,{"$f":"IFERROR(IF(D1966=\"\",\"\",INDEX(Entradas!$H$3:$H$5000,MATCH(A1966,IF(Entradas!$B$3:$B$5000=D1966,Entradas!$A$3:$A$5000),1))),\"Preço não registrado\")","v":""},"",null,null,"",""]
[null,null,"",null,"","",null,{"$f":"IFERROR(IF(D1967=\"\",\"\",INDEX(Entradas!$H$3:$H$5000,MATCH(A1967,IF(Entradas!$B$3:$B$5000=D1967,Entradas!$A$3:$A$5000),1))),\"Preço não registrado\")","v":""},"",null,null,"",""]
[null,null,"",null,"","",null,{"$f":"IFERROR(IF(D1968=\"\",\"\",INDEX(Entradas!$H$3:$H$5000,MATCH(A1968,IF(Entradas!$B$3:$B$5000=D1968,Entradas!$A$3:$A$5000),1))),\"Preço não registrado\")","v":""},"",null,null,"",""]
[null,null,"",null,"","",null,{"$f":"IFERROR(IF(D1969=\"\",\"\",INDEX(Entradas!$H$3:$H$5000,MATCH(A1969,IF(Entradas!$B$3:$B$5000=D1969,Entradas!$A$3:$A$5000),1))),\"Preço não registrado\")","v":""},"",null,null,"",""]
[null,null,"",null,"","",null,{"$f":"IFERROR(IF(D1970=\"\",\"\",INDEX(Entradas!$H$3:$H$5000,MATCH(A1970,IF(Entradas!$B$3:$B$5000=D1970,Entradas!$A$3:$A$5000),1))),\"Preço não registrado\")","v":""},"",null,null,"",""]
[null,null,"",null,"","",null,{"$f":"IFERROR(IF(D1971=\"\",\"\",INDEX(Entradas!$H$3:$H$5000,MATCH(A1971,IF(Entradas!$B$3:$B$5000=D1971,Entradas!$A$3:$A$5000),1))),\"Preço não registrado\")","v":""},"",null,null,"",""]
[null,null,"",null,"","",null,{"$f":"IFERROR(IF(D1972=\"\",\"\",INDEX(Entradas!$H$3:$H$5000,MATCH(A1972,IF(Entradas!$B$3:$B$5000=D1972,Entradas!$A$3:$A$5000),1))),\"Preço não registrado\")","v":""},"",null,null,"",""]
[null,null,"",null,"","",null,{"$f":"IFERROR(IF(D1973=\"\",\"\",INDEX(Entradas!$H$3:$H$5000,MATCH(A1973,IF(Entradas!$B$3:$B$5000=D1973,Entradas!$A$3:$A$5000),1))),\"Preço não registrado\")","v":""},"",null,null,"",""]
[null,null,"",null,"","",null,{"$f":"IFERROR(IF(D1974=\"\",\"\",INDEX(Entradas!$H$3:$H$5000,MATCH(A1974,IF(Entradas!$B$3:$B$5000=D1974,Entradas!$A$3:$A$5000),1))),\"Preço não registrado\")","v":""},"",null,null,"",""]
[null,null,"",null,"","",null,{"$f":"IFERROR(IF(D1975=\"\",\"\",INDEX(Entradas!$H$3:$H$5000,MATCH(A1975,IF(Entradas!$B$3:$B$5000=D1975,Entradas!$A$3:$A$5000),1))),\"Preço não registrado\")","v":""},"",null,null,"",""]
[null,null,"",null,"","",null,{"$f":"IFERROR(IF(D1976=\"\",\"\",INDEX(Entradas!$H$3:$H$5000,MATCH(A1976,IF(Entradas!$B$3:$B$5000=D1976,Entradas!$A$3:$A$5000),1))),\"Preço não registrado\")","v":""},"",null,null,"",""]
[null,null,"",null,"","",null,{"$f":"IFERROR(IF(D1977=\"\",\"\",INDEX(Entradas!$H$3:$H$5000,MATCH(A1977,IF(Entradas!$B$3:$B$5000=D1977,Entradas!$A$3:$A$5000),1))),\"Preço não registrado\")","v":""},"",null,null,"",""]
[null,null,"",null,"","",null,{"$f":"IFERROR(IF(D1978=\"\",\"\",INDEX(Entradas!$H$3:$H$5000,MATCH(A1978,IF(Entradas!$B$3:$B$5000=D1978,Entradas!$A$3:$A$5000),1))),\"Preço não registrado\")","v":""},"",null,null,"",""]
[null,null,"",null,"","",null,{"$f":"IFERROR(IF(D1979=\"\",\"\",INDEX(Entradas!$H$3:$H$5000,MATCH(A1979,IF(Entradas!$B$3:$B$5000=D1979,Entradas!$A$3:$A$5000),1))),\"Preço não registrado\")","v":""},"",null,null,"",""]
[null,null,"",null,"","",null,{"$f":"IFERROR(IF(D1980=\"\",\"\",INDEX(Entradas!$H$3:$H$5000,MATCH(A1980,IF(Entradas!$B$3:$B$5000=D1980,Entradas!$A$3:$A$5000),1))),\"Preço não registrado\")","v":""},"",null,null,"",""]
[null,null,"",null,"","",null,{"$f":"IFERROR(IF(D1981=\"\",\"\",INDEX(Entradas!$H$3:$H$5000,MATCH(A1981,IF(Entradas!$B$3:$B$5000=D1981,Entradas!$A$3:$A$5000),1))),\"Preço não registrado\")","v":""},"",null,null,"",""]
[null,null,"",null,"","",null,{"$f":"IFERROR(IF(D1982=\"\",\"\",INDEX(Entradas!$H$3:$H$5000,MATCH(A1982,IF(Entradas!$B$3:$B$5000=D1982,Entradas!$A$3:$A$5000),1))),\"Preço não registrado\")","v":""},"",null,null,"",""]
[null,null,"",null,"","",null,{"$f":"IFERROR(IF(D1983=\"\",\"\",INDEX(Entradas!$H$3:$H$5000,MATCH(A1983,IF(Entradas!$B$3:$B$5000=D1983,Entradas!$A$3:$A$5000),1))),\"Preço não registrado\")","v":""},"",null,null,"",""]
[null,null,"",null,"","",null,{"$f":"IFERROR(IF(D1984=\"\",\"\",INDEX(Entradas!$H$3:$H$5000,MATCH(A1984,IF(Entradas!$B$3:$B$5000=D1984,Entradas!$A$3:$A$5000),1))),\"Preço não registrado\")","v":""},"",null,null,"",""]
[null,null,"",null,"","",null,{"$f":"IFERROR(IF(D1985=\"\",\"\",INDEX(Entradas!$H$3:$H$5000,MATCH(A1985,IF(Entradas!$B$3:$B$5000=D1985,Entradas!$A$3:$A$5000),1))),\"Preço não registrado\")","v":""},"",null,null,"",""]
[null,null,"",null,"","",null,{"$f":"IFERROR(IF(D1986=\"\",\"\",INDEX(Entradas!$H$3:$H$5000,MATCH(A1986,IF(Entradas!$B$3:$B$5000=D1986,Entradas!$A$3:$A$5000),1))),\"Preço não registrado\")","v":""},"",null,null,"",""]
[null,null,{"$f":"IFERROR(IF(B1987=\"\",\"\",VLOOKUP(B1987,Clientes,2,FALSE)),\"\")","v":""},null,{"$f":"IF(D1987=\"\",\"\",VLOOKUP(D1987,Itens,2,FALSE))","v":""},{"$f":"IF(D1987=\"\",\"\",VLOOKUP(D1987,Itens,3,FALSE))","v":""},null,{"$f":"IFERROR(IF(D1987=\"\",\"\",INDEX(Entradas!$H$3:$H$5000,MATCH(A1987,IF(Entradas!$B$3:$B$5000=D1987,Entradas!$A$3:$A$5000),1))),\"Preço não registrado\")","v":""},"",null,null,"",""]
[null,null,"",null,"","",null,{"$f":"IFERROR(IF(D1988=\"\",\"\",INDEX(Entradas!$H$3:$H$5000,MATCH(A1988,IF(Entradas!$B$3:$B$5000=D1988,Entradas!$A$3:$A$5000),1))),\"Preço não registrado\")","v":""},{"$f":"IFERROR(G1988*H1988,\"\")","v":""},null,null,{"$f":"IF(K1988=\"\",\"\",HYPERLINK($P$13&K1988,\"Rastreie aqui\"))","v":""},{"$f":"IF(A1988=\"\",\"\",TEXT(A1988,\"mmmm\"))","v":""}]
[null,null,"",null,"","",null,{"$f":"IFERROR(IF(D1989=\"\",\"\",INDEX(Entradas!$H$3:$H$5000,MATCH(A1989,IF(Entradas!$B$3:$B$5000=D1989,Entradas!$A$3:$A$5000),1))),\"Preço não registrado\")","v":""},"",null,null,"",""]
[null,null,"",null,"","",null,{"$f":"IFERROR(IF(D1990=\"\",\"\",INDEX(Entradas!$H$3:$H$5000,MATCH(A1990,IF(Entradas!$B$3:$B$5000=D1990,Entradas!$A$3:$A$5000),1))),\"Preço não registrado\")","v":""},"",null,null,"",""]
[null,null,"",null,"","",null,{"$f":"IFERROR(IF(D1991=\"\",\"\",INDEX(Entradas!$H$3:$H$5000,MATCH(A1991,IF(Entradas!$B$3:$B$5000=D1991,Entradas!$A$3:$A$5000),1))),\"Preço não registrado\")","v":""},"",null,null,"",""]
[null,null,"",null,"","",null,{"$f":"IFERROR(IF(D1992=\"\",\"\",INDEX(Entradas!$H$3:$H$5000,MATCH(A1992,IF(Entradas!$B$3:$B$5000=D1992,Entradas!$A$3:$A$5000),1))),\"Preço não registrado\")","v":""},"",null,null,"",""]
[null,null,"",null,"","",null,{"$f":"IFERROR(IF(D1993=\"\",\"\",INDEX(Entradas!$H$3:$H$5000,MATCH(A1993,IF(Entradas!$B$3:$B$5000=D1993,Entradas!$A$3:$A$5000),1))),\"Preço não registrado\")","v":""},"",null,null,"",""]
[null,null,"",null,"","",null,{"$f":"IFERROR(IF(D1994=\"\",\"\",INDEX(Entradas!$H$3:$H$5000,MATCH(A1994,IF(Entradas!$B$3:$B$5000=D1994,Entradas!$A$3:$A$5000),1))),\"Preço não registrado\")","v":""},"",null,null,"",""]
[null,null,"",null,"","",null,{"$f":"IFERROR(IF(D1995=\"\",\"\",INDEX(Entradas!$H$3:$H$5000,MATCH(A1995,IF(Entradas!$B$3:$B$5000=D1995,Entradas!$A$3:$A$5000),1))),\"Preço não registrado\")","v":""},"",null,null,"",""]
[null,null,"",null,"","",null,{"$f":"IFERROR(IF(D1996=\"\",\"\",INDEX(Entradas!$H$3:$H$5000,MATCH(A1996,IF(Entradas!$B$3:$B$5000=D1996,Entradas!$A$3:$A$5000),1))),\"Preço não registrado\")","v":""},"",null,null,"",""]
[null,null,"",null,"","",null,{"$f":"IFERROR(IF(D1997=\"\",\"\",INDEX(Entradas!$H$3:$H$5000,MATCH(A1997,IF(Entradas!$B$3:$B$5000=D1997,Entradas!$A$3:$A$5000),1))),\"Preço não registrado\")","v":""},"",null,null,"",""]
[null,null,"",null,"","",null,{"$f":"IFERROR(IF(D1998=\"\",\"\",INDEX(Entradas!$H$3:$H$5000,MATCH(A1998,IF(Entradas!$B$3:$B$5000=D1998,Entradas!$A$3:$A$5000),1))),\"Preço não registrado\")","v":""},"",null,null,"",""]
[null,null,"",null,"","",null,{"$f":"IFERROR(IF(D1999=\"\",\"\",INDEX(Entradas!$H$3:$H$5000,MATCH(A1999,IF(Entradas!$B$3:$B$5000=D1999,Entradas!$A$3:$A$5000),1))),\"Preço não registrado\")","v":""},"",null,null,"",""]
[null,null,"",null,"","",null,{"$f":"IFERROR(IF(D2000=\"\",\"\",INDEX(Entradas!$H$3:$H$5000,MATCH(A2000,IF(Entradas!$B$3:$B$5000=D2000,Entradas!$A$3:$A$5000),1))),\"Preço não registrado\")","v":""},"",null,null,"",""]
[null,null,"",null,"","",null,{"$f":"IFERROR(IF(D2001=\"\",\"\",INDEX(Entradas!$H$3:$H$5000,MATCH(A2001,IF(Entradas!$B$3:$B$5000=D2001,Entradas!$A$3:$A$5000),1))),\"Preço não registrado\")","v":""},"",null,null,"",""]
[null,null,"",null,"","",null,{"$f":"IFERROR(IF(D2002=\"\",\"\",INDEX(Entradas!$H$3:$H$5000,MATCH(A2002,IF(Entradas!$B$3:$B$5000=D2002,Entradas!$A$3:$A$5000),1))),\"Preço não registrado\")","v":""},"",null,null,"",""]
[null,null,"",null,"","",null,{"$f":"IFERROR(IF(D2003=\"\",\"\",INDEX(Entradas!$H$3:$H$5000,MATCH(A2003,IF(Entradas!$B$3:$B$5000=D2003,Entradas!$A$3:$A$5000),1))),\"Preço não registrado\")","v":""},"",null,null,"",""]
[null,null,"",null,"","",null,{"$f":"IFERROR(IF(D2004=\"\",\"\",INDEX(Entradas!$H$3:$H$5000,MATCH(A2004,IF(Entradas!$B$3:$B$5000=D2004,Entradas!$A$3:$A$5000),1))),\"Preço não registrado\")","v":""},"",null,null,"",""]
[null,null,"",null,"","",null,{"$f":"IFERROR(IF(D2005=\"\",\"\",INDEX(Entradas!$H$3:$H$5000,MATCH(A2005,IF(Entradas!$B$3:$B$5000=D2005,Entradas!$A$3:$A$5000),1))),\"Preço não registrado\")","v":""},"",null,null,"",""]
[null,null,"",null,"","",null,{"$f":"IFERROR(IF(D2006=\"\",\"\",INDEX(Entradas!$H$3:$H$5000,MATCH(A2006,IF(Entradas!$B$3:$B$5000=D2006,Entradas!$A$3:$A$5000),1))),\"Preço não registrado\")","v":""},"",null,null,"",""]
[null,null,"",null,"","",null,{"$f":"IFERROR(IF(D2007=\"\",\"\",INDEX(Entradas!$H$3:$H$5000,MATCH(A2007,IF(Entradas!$B$3:$B$5000=D2007,Entradas!$A$3:$A$5000),1))),\"Preço não registrado\")","v":""},"",null,null,"",""]
[null,null,"",null,"","",null,{"$f":"IFERROR(IF(D2008=\"\",\"\",INDEX(Entradas!$H$3:$H$5000,MATCH(A2008,IF(Entradas!$B$3:$B$5000=D2008,Entradas!$A$3:$A$5000),1))),\"Preço não registrado\")","v":""},"",null,null,"",""]
[null,null,"",null,"","",null,{"$f":"IFERROR(IF(D2009=\"\",\"\",INDEX(Entradas!$H$3:$H$5000,MATCH(A2009,IF(Entradas!$B$3:$B$5000=D2009,Entradas!$A$3:$A$5000),1))),\"Preço não registrado\")","v":""},"",null,null,"",""]
[null,null,"",null,"","",null,{"$f":"IFERROR(IF(D2010=\"\",\"\",INDEX(Entradas!$H$3:$H$5000,MATCH(A2010,IF(Entradas!$B$3:$B$5000=D2010,Entradas!$A$3:$A$5000),1))),\"Preço não registrado\")","v":""},"",null,null,"",""]
[null,null,"",null,"","",null,{"$f":"IFERROR(IF(D2011=\"\",\"\",INDEX(Entradas!$H$3:$H$5000,MATCH(A2011,IF(Entradas!$B$3:$B$5000=D2011,Entradas!$A$3:$A$5000),1))),\"Preço não registrado\")","v":""},"",null,null,"",""]
[null,null,"",null,"","",null,{"$f":"IFERROR(IF(D2012=\"\",\"\",INDEX(Entradas!$H$3:$H$5000,MATCH(A2012,IF(Entradas!$B$3:$B$5000=D2012,Entradas!$A$3:$A$5000),1))),\"Preço não registrado\")","v":""},"",null,null,"",""]
[null,null,"",null,"","",null,{"$f":"IFERROR(IF(D2013=\"\",\"\",INDEX(Entradas!$H$3:$H$5000,MATCH(A2013,IF(Entradas!$B$3:$B$5000=D2013,Entradas!$A$3:$A$5000),1))),\"Preço não registrado\")","v":""},"",null,null,"",""]
[null,null,"",null,"","",null,{"$f":"IFERROR(IF(D2014=\"\",\"\",INDEX(Entradas!$H$3:$H$5000,MATCH(A2014,IF(Entradas!$B$3:$B$5000=D2014,Entradas!$A$3:$A$5000),1))),\"Preço não registrado\")","v":""},"",null,null,"",""]
[null,null,"",null,"","",null,{"$f":"IFERROR(IF(D2015=\"\",\"\",INDEX(Entradas!$H$3:$H$5000,MATCH(A2015,IF(Entradas!$B$3:$B$5000=D2015,Entradas!$A$3:$A$5000),1))),\"Preço não registrado\")","v":""},"",null,null,"",""]
[null,null,"",null,"","",null,{"$f":"IFERROR(IF(D2016=\"\",\"\",INDEX(Entradas!$H$3:$H$5000,MATCH(A2016,IF(Entradas!$B$3:$B$5000=D2016,Entradas!$A$3:$A$5000),1))),\"Preço não registrado\")","v":""},"",null,null,"",""]
[null,null,"",null,"","",null,{"$f":"IFERROR(IF(D2017=\"\",\"\",INDEX(Entradas!$H$3:$H$5000,MATCH(A2017,IF(Entradas!$B$3:$B$5000=D2017,Entradas!$A$3:$A$5000),1))),\"Preço não registrado\")","v":""},"",null,null,"",""]
[null,null,"",null,"","",null,{"$f":"IFERROR(IF(D2018=\"\",\"\",INDEX(Entradas!$H$3:$H$5000,MATCH(A2018,IF(Entradas!$B$3:$B$5000=D2018,Entradas!$A$3:$A$5000),1))),\"Preço não registrado\")","v":""},"",null,null,"",""]
[null,null,"",null,"","",null,{"$f":"IFERROR(IF(D2019=\"\",\"\",INDEX(Entradas!$H$3:$H$5000,MATCH(A2019,IF(Entradas!$B$3:$B$5000=D2019,Entradas!$A$3:$A$5000),1))),\"Preço não registrado\")","v":""},"",null,null,"",""]
[null,null,"",null,"","",null,{"$f":"IFERROR(IF(D2020=\"\",\"\",INDEX(Entradas!$H$3:$H$5000,MATCH(A2020,IF(Entradas!$B$3:$B$5000=D2020,Entradas!$A$3:$A$5000),1))),\"Preço não registrado\")","v":""},"",null,null,"",""]
[null,null,"",null,"","",null,{"$f":"IFERROR(IF(D2021=\"\",\"\",INDEX(Entradas!$H$3:$H$5000,MATCH(A2021,IF(Entradas!$B$3:$B$5000=D2021,Entradas!$A$3:$A$5000),1))),\"Preço não registrado\")","v":""},"",null,null,"",""]
[null,null,"",null,"","",null,{"$f":"IFERROR(IF(D2022=\"\",\"\",INDEX(Entradas!$H$3:$H$5000,MATCH(A2022,IF(Entradas!$B$3:$B$5000=D2022,Entradas!$A$3:$A$5000),1))),\"Preço não registrado\")","v":""},"",null,null,"",""]
[null,null,"",null,"","",null,{"$f":"IFERROR(IF(D2023=\"\",\"\",INDEX(Entradas!$H$3:$H$5000,MATCH(A2023,IF(Entradas!$B$3:$B$5000=D2023,Entradas!$A$3:$A$5000),1))),\"Preço não registrado\")","v":""},"",null,null,"",""]
[null,null,"",null,"","",null,{"$f":"IFERROR(IF(D2024=\"\",\"\",INDEX(Entradas!$H$3:$H$5000,MATCH(A2024,IF(Entradas!$B$3:$B$5000=D2024,Entradas!$A$3:$A$5000),1))),\"Preço não registrado\")","v":""},"",null,null,"",""]
[null,null,"",null,"","",null,{"$f":"IFERROR(IF(D2025=\"\",\"\",INDEX(Entradas!$H$3:$H$5000,MATCH(A2025,IF(Entradas!$B$3:$B$5000=D2025,Entradas!$A$3:$A$5000),1))),\"Preço não registrado\")","v":""},"",null,null,"",""]
[null,null,"",null,"","",null,{"$f":"IFERROR(IF(D2026=\"\",\"\",INDEX(Entradas!$H$3:$H$5000,MATCH(A2026,IF(Entradas!$B$3:$B$5000=D2026,Entradas!$A$3:$A$5000),1))),\"Preço não registrado\")","v":""},"",null,null,"",""]
[null,null,"",null,"","",null,{"$f":"IFERROR(IF(D2027=\"\",\"\",INDEX(Entradas!$H$3:$H$5000,MATCH(A2027,IF(Entradas!$B$3:$B$5000=D2027,Entradas!$A$3:$A$5000),1))),\"Preço não registrado\")","v":""},"",null,null,"",""]
[null,null,"",null,"","",null,{"$f":"IFERROR(IF(D2028=\"\",\"\",INDEX(Entradas!$H$3:$H$5000,MATCH(A2028,IF(Entradas!$B$3:$B$5000=D2028,Entradas!$A$3:$A$5000),1))),\"Preço não registrado\")","v":""},"",null,null,"",""]
[null,null,"",null,"","",null,{"$f":"IFERROR(IF(D2029=\"\",\"\",INDEX(Entradas!$H$3:$H$5000,MATCH(A2029,IF(Entradas!$B$3:$B$5000=D2029,Entradas!$A$3:$A$5000),1))),\"Preço não registrado\")","v":""},"",null,null,"",""]
[null,null,"",null,"","",null,{"$f":"IFERROR(IF(D2030=\"\",\"\",INDEX(Entradas!$H$3:$H$5000,MATCH(A2030,IF(Entradas!$B$3:$B$5000=D2030,Entradas!$A$3:$A$5000),1))),\"Preço não registrado\")","v":""},"",null,null,"",""]
[null,null,"",null,"","",null,{"$f":"IFERROR(IF(D2031=\"\",\"\",INDEX(Entradas!$H$3:$H$5000,MATCH(A2031,IF(Entradas!$B$3:$B$5000=D2031,Entradas!$A$3:$A$5000),1))),\"Preço não registrado\")","v":""},"",null,null,"",""]
[null,null,"",null,"","",null,{"$f":"IFERROR(IF(D2032=\"\",\"\",INDEX(Entradas!$H$3:$H$5000,MATCH(A2032,IF(Entradas!$B$3:$B$5000=D2032,Entradas!$A$3:$A$5000),1))),\"Preço não registrado\")","v":""},"",null,null,"",""]
[null,null,"",null,"","",null,{"$f":"IFERROR(IF(D2033=\"\",\"\",INDEX(Entradas!$H$3:$H$5000,MATCH(A2033,IF(Entradas!$B$3:$B$5000=D2033,Entradas!$A$3:$A$5000),1))),\"Preço não registrado\")","v":""},"",null,null,"",""]
[null,null,"",null,"","",null,{"$f":"IFERROR(IF(D2034=\"\",\"\",INDEX(Entradas!$H$3:$H$5000,MATCH(A2034,IF(Entradas!$B$3:$B$5000=D2034,Entradas!$A$3:$A$5000),1))),\"Preço não registrado\")","v":""},"",null,null,"",""]
[null,null,"",null,"","",null,{"$f":"IFERROR(IF(D2035=\"\",\"\",INDEX(Entradas!$H$3:$H$5000,MATCH(A2035,IF(Entradas!$B$3:$B$5000=D2035,Entradas!$A$3:$A$5000),1))),\"Preço não registrado\")","v":""},"",null,null,"",""]
[null,null,"",null,"","",null,{"$f":"IFERROR(IF(D2036=\"\",\"\",INDEX(Entradas!$H$3:$H$5000,MATCH(A2036,IF(Entradas!$B$3:$B$5000=D2036,Entradas!$A$3:$A$5000),1))),\"Preço não registrado\")","v":""},"",null,null,"",""]
[null,null,"",null,"","",null,{"$f":"IFERROR(IF(D2037=\"\",\"\",INDEX(Entradas!$H$3:$H$5000,MATCH(A2037,IF(Entradas!$B$3:$B$5000=D2037,Entradas!$A$3:$A$5000),1))),\"Preço não registrado\")","v":""},"",null,null,"",""]
[null,null,"",null,"","",null,{"$f":"IFERROR(IF(D2038=\"\",\"\",INDEX(Entradas!$H$3:$H$5000,MATCH(A2038,IF(Entradas!$B$3:$B$5000=D2038,Entradas!$A$3:$A$5000),1))),\"Preço não registrado\")","v":""},"",null,null,"",""]
[null,null,"",null,"","",null,{"$f":"IFERROR(IF(D2039=\"\",\"\",INDEX(Entradas!$H$3:$H$5000,MATCH(A2039,IF(Entradas!$B$3:$B$5000=D2039,Entradas!$A$3:$A$5000),1))),\"Preço não registrado\")","v":""},"",null,null,"",""]
[null,null,"",null,"","",null,{"$f":"IFERROR(IF(D2040=\"\",\"\",INDEX(Entradas!$H$3:$H$5000,MATCH(A2040,IF(Entradas!$B$3:$B$5000=D2040,Entradas!$A$3:$A$5000),1))),\"Preço não registrado\")","v":""},"",null,null,"",""]
[null,null,"",null,"","",null,{"$f":"IFERROR(IF(D2041=\"\",\"\",INDEX(Entradas!$H$3:$H$5000,MATCH(A2041,IF(Entradas!$B$3:$B$5000=D2041,Entradas!$A$3:$A$5000),1))),\"Preço não registrado\")","v":""},"",null,null,"",""]
[null,null,"",null,"","",null,{"$f":"IFERROR(IF(D2042=\"\",\"\",INDEX(Entradas!$H$3:$H$5000,MATCH(A2042,IF(Entradas!$B$3:$B$5000=D2042,Entradas!$A$3:$A$5000),1))),\"Preço não registrado\")","v":""},"",null,null,"",""]
[null,null,"",null,"","",null,{"$f":"IFERROR(IF(D2043=\"\",\"\",INDEX(Entradas!$H$3:$H$5000,MATCH(A2043,IF(Entradas!$B$3:$B$5000=D2043,Entradas!$A$3:$A$5000),1))),\"Preço não registrado\")","v":""},"",null,null,"",""]
[null,null,"",null,"","",null,{"$f":"IFERROR(IF(D2044=\"\",\"\",INDEX(Entradas!$H$3:$H$5000,MATCH(A2044,IF(Entradas!$B$3:$B$5000=D2044,Entradas!$A$3:$A$5000),1))),\"Preço não registrado\")","v":""},"",null,null,"",""]
[null,null,"",null,"","",null,{"$f":"IFERROR(IF(D2045=\"\",\"\",INDEX(Entradas!$H$3:$H$5000,MATCH(A2045,IF(Entradas!$B$3:$B$5000=D2045,Entradas!$A$3:$A$5000),1))),\"Preço não registrado\")","v":""},"",null,null,"",""]
[null,null,"",null,"","",null,{"$f":"IFERROR(IF(D2046=\"\",\"\",INDEX(Entradas!$H$3:$H$5000,MATCH(A2046,IF(Entradas!$B$3:$B$5000=D2046,Entradas!$A$3:$A$5000),1))),\"Preço não registrado\")","v":""},"",null,null,"",""]
[null,null,"",null,"","",null,{"$f":"IFERROR(IF(D2047=\"\",\"\",INDEX(Entradas!$H$3:$H$5000,MATCH(A2047,IF(Entradas!$B$3:$B$5000=D2047,Entradas!$A$3:$A$5000),1))),\"Preço não registrado\")","v":""},"",null,null,"",""]
[null,null,"",null,"","",null,{"$f":"IFERROR(IF(D2048=\"\",\"\",INDEX(Entradas!$H$3:$H$5000,MATCH(A2048,IF(Entradas!$B$3:$B$5000=D2048,Entradas!$A$3:$A$5000),1))),\"Preço não registrado\")","v":""},"",null,null,"",""]
[null,null,"",null,"","",null,{"$f":"IFERROR(IF(D2049=\"\",\"\",INDEX(Entradas!$H$3:$H$5000,MATCH(A2049,IF(Entradas!$B$3:$B$5000=D2049,Entradas!$A$3:$A$5000),1))),\"Preço não registrado\")","v":""},"",null,null,"",""]
[null,null,"",null,"","",null,{"$f":"IFERROR(IF(D2050=\"\",\"\",INDEX(Entradas!$H$3:$H$5000,MATCH(A2050,IF(Entradas!$B$3:$B$5000=D2050,Entradas!$A$3:$A$5000),1))),\"Preço não registrado\")","v":""},"",null,null,"",""]
[null,null,{"$f":"IFERROR(IF(B2051=\"\",\"\",VLOOKUP(B2051,Clientes,2,FALSE)),\"\")","v":""},null,{"$f":"IF(D2051=\"\",\"\",VLOOKUP(D2051,Itens,2,FALSE))","v":""},{"$f":"IF(D2051=\"\",\"\",VLOOKUP(D2051,Itens,3,FALSE))","v":""},null,{"$f":"IFERROR(IF(D2051=\"\",\"\",INDEX(Entradas!$H$3:$H$5000,MATCH(A2051,IF(Entradas!$B$3:$B$5000=D2051,Entradas!$A$3:$A$5000),1))),\"Preço não registrado\")","v":""},"",null,null,"",""]
[null,null,"",null,"","",null,{"$f":"IFERROR(IF(D2052=\"\",\"\",INDEX(Entradas!$H$3:$H$5000,MATCH(A2052,IF(Entradas!$B$3:$B$5000=D2052,Entradas!$A$3:$A$5000),1))),\"Preço não registrado\")","v":""},{"$f":"IFERROR(G2052*H2052,\"\")","v":""},null,null,{"$f":"IF(K2052=\"\",\"\",HYPERLINK($P$13&K2052,\"Rastreie aqui\"))","v":""},{"$f":"IF(A2052=\"\",\"\",TEXT(A2052,\"mmmm\"))","v":""}]
[null,null,"",null,"","",null,{"$f":"IFERROR(IF(D2053=\"\",\"\",INDEX(Entradas!$H$3:$H$5000,MATCH(A2053,IF(Entradas!$B$3:$B$5000=D2053,Entradas!$A$3:$A$5000),1))),\"Preço não registrado\")","v":""},"",null,null,"",""]
[null,null,"",null,"","",null,{"$f":"IFERROR(IF(D2054=\"\",\"\",INDEX(Entradas!$H$3:$H$5000,MATCH(A2054,IF(Entradas!$B$3:$B$5000=D2054,Entradas!$A$3:$A$5000),1))),\"Preço não registrado\")","v":""},"",null,null,"",""]
[null,null,"",null,"","",null,{"$f":"IFERROR(IF(D2055=\"\",\"\",INDEX(Entradas!$H$3:$H$5000,MATCH(A2055,IF(Entradas!$B$3:$B$5000=D2055,Entradas!$A$3:$A$5000),1))),\"Preço não registrado\")","v":""},"",null,null,"",""]
[null,null,"",null,"","",null,{"$f":"IFERROR(IF(D2056=\"\",\"\",INDEX(Entradas!$H$3:$H$5000,MATCH(A2056,IF(Entradas!$B$3:$B$5000=D2056,Entradas!$A$3:$A$5000),1))),\"Preço não registrado\")","v":""},"",null,null,"",""]
[null,null,"",null,"","",null,{"$f":"IFERROR(IF(D2057=\"\",\"\",INDEX(Entradas!$H$3:$H$5000,MATCH(A2057,IF(Entradas!$B$3:$B$5000=D2057,Entradas!$A$3:$A$5000),1))),\"Preço não registrado\")","v":""},"",null,null,"",""]
[null,null,"",null,"","",null,{"$f":"IFERROR(IF(D2058=\"\",\"\",INDEX(Entradas!$H$3:$H$5000,MATCH(A2058,IF(Entradas!$B$3:$B$5000=D2058,Entradas!$A$3:$A$5000),1))),\"Preço não registrado\")","v":""},"",null,null,"",""]
[null,null,"",null,"","",null,{"$f":"IFERROR(IF(D2059=\"\",\"\",INDEX(Entradas!$H$3:$H$5000,MATCH(A2059,IF(Entradas!$B$3:$B$5000=D2059,Entradas!$A$3:$A$5000),1))),\"Preço não registrado\")","v":""},"",null,null,"",""]
[null,null,"",null,"","",null,{"$f":"IFERROR(IF(D2060=\"\",\"\",INDEX(Entradas!$H$3:$H$5000,MATCH(A2060,IF(Entradas!$B$3:$B$5000=D2060,Entradas!$A$3:$A$5000),1))),\"Preço não registrado\")","v":""},"",null,null,"",""]
[null,null,"",null,"","",null,{"$f":"IFERROR(IF(D2061=\"\",\"\",INDEX(Entradas!$H$3:$H$5000,MATCH(A2061,IF(Entradas!$B$3:$B$5000=D2061,Entradas!$A$3:$A$5000),1))),\"Preço não registrado\")","v":""},"",null,null,"",""]
[null,null,"",null,"","",null,{"$f":"IFERROR(IF(D2062=\"\",\"\",INDEX(Entradas!$H$3:$H$5000,MATCH(A2062,IF(Entradas!$B$3:$B$5000=D2062,Entradas!$A$3:$A$5000),1))),\"Preço não registrado\")","v":""},"",null,null,"",""]
[null,null,"",null,"","",null,{"$f":"IFERROR(IF(D2063=\"\",\"\",INDEX(Entradas!$H$3:$H$5000,MATCH(A2063,IF(Entradas!$B$3:$B$5000=D2063,Entradas!$A$3:$A$5000),1))),\"Preço não registrado\")","v":""},"",null,null,"",""]
[null,null,"",null,"","",null,{"$f":"IFERROR(IF(D2064=\"\",\"\",INDEX(Entradas!$H$3:$H$5000,MATCH(A2064,IF(Entradas!$B$3:$B$5000=D2064,Entradas!$A$3:$A$5000),1))),\"Preço não registrado\")","v":""},"",null,null,"",""]
[null,null,"",null,"","",null,{"$f":"IFERROR(IF(D2065=\"\",\"\",INDEX(Entradas!$H$3:$H$5000,MATCH(A2065,IF(Entradas!$B$3:$B$5000=D2065,Entradas!$A$3:$A$5000),1))),\"Preço não registrado\")","v":""},"",null,null,"",""]
[null,null,"",null,"","",null,{"$f":"IFERROR(IF(D2066=\"\",\"\",INDEX(Entradas!$H$3:$H$5000,MATCH(A2066,IF(Entradas!$B$3:$B$5000=D2066,Entradas!$A$3:$A$5000),1))),\"Preço não registrado\")","v":""},"",null,null,"",""]
[null,null,"",null,"","",null,{"$f":"IFERROR(IF(D2067=\"\",\"\",INDEX(Entradas!$H$3:$H$5000,MATCH(A2067,IF(Entradas!$B$3:$B$5000=D2067,Entradas!$A$3:$A$5000),1))),\"Preço não registrado\")","v":""},"",null,null,"",""]
[null,null,"",null,"","",null,{"$f":"IFERROR(IF(D2068=\"\",\"\",INDEX(Entradas!$H$3:$H$5000,MATCH(A2068,IF(Entradas!$B$3:$B$5000=D2068,Entradas!$A$3:$A$5000),1))),\"Preço não registrado\")","v":""},"",null,null,"",""]
[null,null,"",null,"","",null,{"$f":"IFERROR(IF(D2069=\"\",\"\",INDEX(Entradas!$H$3:$H$5000,MATCH(A2069,IF(Entradas!$B$3:$B$5000=D2069,Entradas!$A$3:$A$5000),1))),\"Preço não registrado\")","v":""},"",null,null,"",""]
[null,null,"",null,"","",null,{"$f":"IFERROR(IF(D2070=\"\",\"\",INDEX(Entradas!$H$3:$H$5000,MATCH(A2070,IF(Entradas!$B$3:$B$5000=D2070,Entradas!$A$3:$A$5000),1))),\"Preço não registrado\")","v":""},"",null,null,"",""]
[null,null,"",null,"","",null,{"$f":"IFERROR(IF(D2071=\"\",\"\",INDEX(Entradas!$H$3:$H$5000,MATCH(A2071,IF(Entradas!$B$3:$B$5000=D2071,Entradas!$A$3:$A$5000),1))),\"Preço não registrado\")","v":""},"",null,null,"",""]
[null,null,"",null,"","",null,{"$f":"IFERROR(IF(D2072=\"\",\"\",INDEX(Entradas!$H$3:$H$5000,MATCH(A2072,IF(Entradas!$B$3:$B$5000=D2072,Entradas!$A$3:$A$5000),1))),\"Preço não registrado\")","v":""},"",null,null,"",""]
[null,null,"",null,"","",null,{"$f":"IFERROR(IF(D2073=\"\",\"\",INDEX(Entradas!$H$3:$H$5000,MATCH(A2073,IF(Entradas!$B$3:$B$5000=D2073,Entradas!$A$3:$A$5000),1))),\"Preço não registrado\")","v":""},"",null,null,"",""]
[null,null,"",null,"","",null,{"$f":"IFERROR(IF(D2074=\"\",\"\",INDEX(Entradas!$H$3:$H$5000,MATCH(A2074,IF(Entradas!$B$3:$B$5000=D2074,Entradas!$A$3:$A$5000),1))),\"Preço não registrado\")","v":""},"",null,null,"",""]
[null,null,"",null,"","",null,{"$f":"IFERROR(IF(D2075=\"\",\"\",INDEX(Entradas!$H$3:$H$5000,MATCH(A2075,IF(Entradas!$B$3:$B$5000=D2075,Entradas!$A$3:$A$5000),1))),\"Preço não registrado\")","v":""},"",null,null,"",""]
[null,null,"",null,"","",null,{"$f":"IFERROR(IF(D2076=\"\",\"\",INDEX(Entradas!$H$3:$H$5000,MATCH(A2076,IF(Entradas!$B$3:$B$5000=D2076,Entradas!$A$3:$A$5000),1))),\"Preço não registrado\")","v":""},"",null,null,"",""]
[null,null,"",null,"","",null,{"$f":"IFERROR(IF(D2077=\"\",\"\",INDEX(Entradas!$H$3:$H$5000,MATCH(A2077,IF(Entradas!$B$3:$B$5000=D2077,Entradas!$A$3:$A$5000),1))),\"Preço não registrado\")","v":""},"",null,null,"",""]
[null,null,"",null,"","",null,{"$f":"IFERROR(IF(D2078=\"\",\"\",INDEX(Entradas!$H$3:$H$5000,MATCH(A2078,IF(Entradas!$B$3:$B$5000=D2078,Entradas!$A$3:$A$5000),1))),\"Preço não registrado\")","v":""},"",null,null,"",""]
[null,null,"",null,"","",null,{"$f":"IFERROR(IF(D2079=\"\",\"\",INDEX(Entradas!$H$3:$H$5000,MATCH(A2079,IF(Entradas!$B$3:$B$5000=D2079,Entradas!$A$3:$A$5000),1))),\"Preço não registrado\")","v":""},"",null,null,"",""]
[null,null,"",null,"","",null,{"$f":"IFERROR(IF(D2080=\"\",\"\",INDEX(Entradas!$H$3:$H$5000,MATCH(A2080,IF(Entradas!$B$3:$B$5000=D2080,Entradas!$A$3:$A$5000),1))),\"Preço não registrado\")","v":""},"",null,null,"",""]
[null,null,"",null,"","",null,{"$f":"IFERROR(IF(D2081=\"\",\"\",INDEX(Entradas!$H$3:$H$5000,MATCH(A2081,IF(Entradas!$B$3:$B$5000=D2081,Entradas!$A$3:$A$5000),1))),\"Preço não registrado\")","v":""},"",null,null,"",""]
[null,null,"",null,"","",null,{"$f":"IFERROR(IF(D2082=\"\",\"\",INDEX(Entradas!$H$3:$H$5000,MATCH(A2082,IF(Entradas!$B$3:$B$5000=D2082,Entradas!$A$3:$A$5000),1))),\"Preço não registrado\")","v":""},"",null,null,"",""]
[null,null,"",null,"","",null,{"$f":"IFERROR(IF(D2083=\"\",\"\",INDEX(Entradas!$H$3:$H$5000,MATCH(A2083,IF(Entradas!$B$3:$B$5000=D2083,Entradas!$A$3:$A$5000),1))),\"Preço não registrado\")","v":""},"",null,null,"",""]
[null,null,"",null,"","",null,{"$f":"IFERROR(IF(D2084=\"\",\"\",INDEX(Entradas!$H$3:$H$5000,MATCH(A2084,IF(Entradas!$B$3:$B$5000=D2084,Entradas!$A$3:$A$5000),1))),\"Preço não registrado\")","v":""},"",null,null,"",""]
[null,null,"",null,"","",null,{"$f":"IFERROR(IF(D2085=\"\",\"\",INDEX(Entradas!$H$3:$H$5000,MATCH(A2085,IF(Entradas!$B$3:$B$5000=D2085,Entradas!$A$3:$A$5000),1))),\"Preço não registrado\")","v":""},"",null,null,"",""]
[null,null,"",null,"","",null,{"$f":"IFERROR(IF(D2086=\"\",\"\",INDEX(Entradas!$H$3:$H$5000,MATCH(A2086,IF(Entradas!$B$3:$B$5000=D2086,Entradas!$A$3:$A$5000),1))),\"Preço não registrado\")","v":""},"",null,null,"",""]
[null,null,"",null,"","",null,{"$f":"IFERROR(IF(D2087=\"\",\"\",INDEX(Entradas!$H$3:$H$5000,MATCH(A2087,IF(Entradas!$B$3:$B$5000=D2087,Entradas!$A$3:$A$5000),1))),\"Preço não registrado\")","v":""},"",null,null,"",""]
[null,null,"",null,"","",null,{"$f":"IFERROR(IF(D2088=\"\",\"\",INDEX(Entradas!$H$3:$H$5000,MATCH(A2088,IF(Entradas!$B$3:$B$5000=D2088,Entradas!$A$3:$A$5000),1))),\"Preço não registrado\")","v":""},"",null,null,"",""]
[null,null,"",null,"","",null,{"$f":"IFERROR(IF(D2089=\"\",\"\",INDEX(Entradas!$H$3:$H$5000,MATCH(A2089,IF(Entradas!$B$3:$B$5000=D2089,Entradas!$A$3:$A$5000),1))),\"Preço não registrado\")","v":""},"",null,null,"",""]
[null,null,"",null,"","",null,{"$f":"IFERROR(IF(D2090=\"\",\"\",INDEX(Entradas!$H$3:$H$5000,MATCH(A2090,IF(Entradas!$B$3:$B$5000=D2090,Entradas!$A$3:$A$5000),1))),\"Preço não registrado\")","v":""},"",null,null,"",""]
[null,null,"",null,"","",null,{"$f":"IFERROR(IF(D2091=\"\",\"\",INDEX(Entradas!$H$3:$H$5000,MATCH(A2091,IF(Entradas!$B$3:$B$5000=D2091,Entradas!$A$3:$A$5000),1))),\"Preço não registrado\")","v":""},"",null,null,"",""]
[null,null,"",null,"","",null,{"$f":"IFERROR(IF(D2092=\"\",\"\",INDEX(Entradas!$H$3:$H$5000,MATCH(A2092,IF(Entradas!$B$3:$B$5000=D2092,Entradas!$A$3:$A$5000),1))),\"Preço não registrado\")","v":""},"",null,null,"",""]
[null,null,"",null,"","",null,{"$f":"IFERROR(IF(D2093=\"\",\"\",INDEX(Entradas!$H$3:$H$5000,MATCH(A2093,IF(Entradas!$B$3:$B$5000=D2093,Entradas!$A$3:$A$5000),1))),\"Preço não registrado\")","v":""},"",null,null,"",""]
[null,null,"",null,"","",null,{"$f":"IFERROR(IF(D2094=\"\",\"\",INDEX(Entradas!$H$3:$H$5000,MATCH(A2094,IF(Entradas!$B$3:$B$5000=D2094,Entradas!$A$3:$A$5000),1))),\"Preço não registrado\")","v":""},"",null,null,"",""]
[null,null,"",null,"","",null,{"$f":"IFERROR(IF(D2095=\"\",\"\",INDEX(Entradas!$H$3:$H$5000,MATCH(A2095,IF(Entradas!$B$3:$B$5000=D2095,Entradas!$A$3:$A$5000),1))),\"Preço não registrado\")","v":""},"",null,null,"",""]
[null,null,"",null,"","",null,{"$f":"IFERROR(IF(D2096=\"\",\"\",INDEX(Entradas!$H$3:$H$5000,MATCH(A2096,IF(Entradas!$B$3:$B$5000=D2096,Entradas!$A$3:$A$5000),1))),\"Preço não registrado\")","v":""},"",null,null,"",""]
[null,null,"",null,"","",null,{"$f":"IFERROR(IF(D2097=\"\",\"\",INDEX(Entradas!$H$3:$H$5000,MATCH(A2097,IF(Entradas!$B$3:$B$5000=D2097,Entradas!$A$3:$A$5000),1))),\"Preço não registrado\")","v":""},"",null,null,"",""]
[null,null,"",null,"","",null,{"$f":"IFERROR(IF(D2098=\"\",\"\",INDEX(Entradas!$H$3:$H$5000,MATCH(A2098,IF(Entradas!$B$3:$B$5000=D2098,Entradas!$A$3:$A$5000),1))),\"Preço não registrado\")","v":""},"",null,null,"",""]
[null,null,"",null,"","",null,{"$f":"IFERROR(IF(D2099=\"\",\"\",INDEX(Entradas!$H$3:$H$5000,MATCH(A2099,IF(Entradas!$B$3:$B$5000=D2099,Entradas!$A$3:$A$5000),1))),\"Preço não registrado\")","v":""},"",null,null,"",""]
[null,null,"",null,"","",null,{"$f":"IFERROR(IF(D2100=\"\",\"\",INDEX(Entradas!$H$3:$H$5000,MATCH(A2100,IF(Entradas!$B$3:$B$5000=D2100,Entradas!$A$3:$A$5000),1))),\"Preço não registrado\")","v":""},"",null,null,"",""]
[null,null,"",null,"","",null,{"$f":"IFERROR(IF(D2101=\"\",\"\",INDEX(Entradas!$H$3:$H$5000,MATCH(A2101,IF(Entradas!$B$3:$B$5000=D2101,Entradas!$A$3:$A$5000),1))),\"Preço não registrado\")","v":""},"",null,null,"",""]
[null,null,"",null,"","",null,{"$f":"IFERROR(IF(D2102=\"\",\"\",INDEX(Entradas!$H$3:$H$5000,MATCH(A2102,IF(Entradas!$B$3:$B$5000=D2102,Entradas!$A$3:$A$5000),1))),\"Preço não registrado\")","v":""},"",null,null,"",""]
[null,null,"",null,"","",null,{"$f":"IFERROR(IF(D2103=\"\",\"\",INDEX(Entradas!$H$3:$H$5000,MATCH(A2103,IF(Entradas!$B$3:$B$5000=D2103,Entradas!$A$3:$A$5000),1))),\"Preço não registrado\")","v":""},"",null,null,"",""]
[null,null,"",null,"","",null,{"$f":"IFERROR(IF(D2104=\"\",\"\",INDEX(Entradas!$H$3:$H$5000,MATCH(A2104,IF(Entradas!$B$3:$B$5000=D2104,Entradas!$A$3:$A$5000),1))),\"Preço não registrado\")","v":""},"",null,null,"",""]
[null,null,"",null,"","",null,{"$f":"IFERROR(IF(D2105=\"\",\"\",INDEX(Entradas!$H$3:$H$5000,MATCH(A2105,IF(Entradas!$B$3:$B$5000=D2105,Entradas!$A$3:$A$5000),1))),\"Preço não registrado\")","v":""},"",null,null,"",""]
[null,null,"",null,"","",null,{"$f":"IFERROR(IF(D2106=\"\",\"\",INDEX(Entradas!$H$3:$H$5000,MATCH(A2106,IF(Entradas!$B$3:$B$5000=D2106,Entradas!$A$3:$A$5000),1))),\"Preço não registrado\")","v":""},"",null,null,"",""]
[null,null,"",null,"","",null,{"$f":"IFERROR(IF(D2107=\"\",\"\",INDEX(Entradas!$H$3:$H$5000,MATCH(A2107,IF(Entradas!$B$3:$B$5000=D2107,Entradas!$A$3:$A$5000),1))),\"Preço não registrado\")","v":""},"",null,null,"",""]
[null,null,"",null,"","",null,{"$f":"IFERROR(IF(D2108=\"\",\"\",INDEX(Entradas!$H$3:$H$5000,MATCH(A2108,IF(Entradas!$B$3:$B$5000=D2108,Entradas!$A$3:$A$5000),1))),\"Preço não registrado\")","v":""},"",null,null,"",""]
[null,null,"",null,"","",null,{"$f":"IFERROR(IF(D2109=\"\",\"\",INDEX(Entradas!$H$3:$H$5000,MATCH(A2109,IF(Entradas!$B$3:$B$5000=D2109,Entradas!$A$3:$A$5000),1))),\"Preço não registrado\")","v":""},"",null,null,"",""]
[null,null,"",null,"","",null,{"$f":"IFERROR(IF(D2110=\"\",\"\",INDEX(Entradas!$H$3:$H$5000,MATCH(A2110,IF(Entradas!$B$3:$B$5000=D2110,Entradas!$A$3:$A$5000),1))),\"Preço não registrado\")","v":""},"",null,null,"",""]
[null,null,"",null,"","",null,{"$f":"IFERROR(IF(D2111=\"\",\"\",INDEX(Entradas!$H$3:$H$5000,MATCH(A2111,IF(Entradas!$B$3:$B$5000=D2111,Entradas!$A$3:$A$5000),1))),\"Preço não registrado\")","v":""},"",null,null,"",""]
[null,null,"",null,"","",null,{"$f":"IFERROR(IF(D2112=\"\",\"\",INDEX(Entradas!$H$3:$H$5000,MATCH(A2112,IF(Entradas!$B$3:$B$5000=D2112,Entradas!$A$3:$A$5000),1))),\"Preço não registrado\")","v":""},"",null,null,"",""]
[null,null,"",null,"","",null,{"$f":"IFERROR(IF(D2113=\"\",\"\",INDEX(Entradas!$H$3:$H$5000,MATCH(A2113,IF(Entradas!$B$3:$B$5000=D2113,Entradas!$A$3:$A$5000),1))),\"Preço não registrado\")","v":""},"",null,null,"",""]
[null,null,"",null,"","",null,{"$f":"IFERROR(IF(D2114=\"\",\"\",INDEX(Entradas!$H$3:$H$5000,MATCH(A2114,IF(Entradas!$B$3:$B$5000=D2114,Entradas!$A$3:$A$5000),1))),\"Preço não registrado\")","v":""},"",null,null,"",""]
[null,null,{"$f":"IFERROR(IF(B2115=\"\",\"\",VLOOKUP(B2115,Clientes,2,FALSE)),\"\")","v":""},null,{"$f":"IF(D2115=\"\",\"\",VLOOKUP(D2115,Itens,2,FALSE))","v":""},{"$f":"IF(D2115=\"\",\"\",VLOOKUP(D2115,Itens,3,FALSE))","v":""},null,{"$f":"IFERROR(IF(D2115=\"\",\"\",INDEX(Entradas!$H$3:$H$5000,MATCH(A2115,IF(Entradas!$B$3:$B$5000=D2115,Entradas!$A$3:$A$5000),1))),\"Preço não registrado\")","v":""},"",null,null,"",""]
[null,null,"",null,"","",null,{"$f":"IFERROR(IF(D2116=\"\",\"\",INDEX(Entradas!$H$3:$H$5000,MATCH(A2116,IF(Entradas!$B$3:$B$5000=D2116,Entradas!$A$3:$A$5000),1))),\"Preço não registrado\")","v":""},{"$f":"IFERROR(G2116*H2116,\"\")","v":""},null,null,{"$f":"IF(K2116=\"\",\"\",HYPERLINK($P$13&K2116,\"Rastreie aqui\"))","v":""},{"$f":"IF(A2116=\"\",\"\",TEXT(A2116,\"mmmm\"))","v":""}]
[null,null,"",null,"","",null,{"$f":"IFERROR(IF(D2117=\"\",\"\",INDEX(Entradas!$H$3:$H$5000,MATCH(A2117,IF(Entradas!$B$3:$B$5000=D2117,Entradas!$A$3:$A$5000),1))),\"Preço não registrado\")","v":""},"",null,null,"",""]
[null,null,"",null,"","",null,{"$f":"IFERROR(IF(D2118=\"\",\"\",INDEX(Entradas!$H$3:$H$5000,MATCH(A2118,IF(Entradas!$B$3:$B$5000=D2118,Entradas!$A$3:$A$5000),1))),\"Preço não registrado\")","v":""},"",null,null,"",""]
[null,null,"",null,"","",null,{"$f":"IFERROR(IF(D2119=\"\",\"\",INDEX(Entradas!$H$3:$H$5000,MATCH(A2119,IF(Entradas!$B$3:$B$5000=D2119,Entradas!$A$3:$A$5000),1))),\"Preço não registrado\")","v":""},"",null,null,"",""]
[null,null,"",null,"","",null,{"$f":"IFERROR(IF(D2120=\"\",\"\",INDEX(Entradas!$H$3:$H$5000,MATCH(A2120,IF(Entradas!$B$3:$B$5000=D2120,Entradas!$A$3:$A$5000),1))),\"Preço não registrado\")","v":""},"",null,null,"",""]
[null,null,"",null,"","",null,{"$f":"IFERROR(IF(D2121=\"\",\"\",INDEX(Entradas!$H$3:$H$5000,MATCH(A2121,IF(Entradas!$B$3:$B$5000=D2121,Entradas!$A$3:$A$5000),1))),\"Preço não registrado\")","v":""},"",null,null,"",""]
[null,null,"",null,"","",null,{"$f":"IFERROR(IF(D2122=\"\",\"\",INDEX(Entradas!$H$3:$H$5000,MATCH(A2122,IF(Entradas!$B$3:$B$5000=D2122,Entradas!$A$3:$A$5000),1))),\"Preço não registrado\")","v":""},"",null,null,"",""]
[null,null,"",null,"","",null,{"$f":"IFERROR(IF(D2123=\"\",\"\",INDEX(Entradas!$H$3:$H$5000,MATCH(A2123,IF(Entradas!$B$3:$B$5000=D2123,Entradas!$A$3:$A$5000),1))),\"Preço não registrado\")","v":""},"",null,null,"",""]
[null,null,"",null,"","",null,{"$f":"IFERROR(IF(D2124=\"\",\"\",INDEX(Entradas!$H$3:$H$5000,MATCH(A2124,IF(Entradas!$B$3:$B$5000=D2124,Entradas!$A$3:$A$5000),1))),\"Preço não registrado\")","v":""},"",null,null,"",""]
[null,null,"",null,"","",null,{"$f":"IFERROR(IF(D2125=\"\",\"\",INDEX(Entradas!$H$3:$H$5000,MATCH(A2125,IF(Entradas!$B$3:$B$5000=D2125,Entradas!$A$3:$A$5000),1))),\"Preço não registrado\")","v":""},"",null,null,"",""]
[null,null,"",null,"","",null,{"$f":"IFERROR(IF(D2126=\"\",\"\",INDEX(Entradas!$H$3:$H$5000,MATCH(A2126,IF(Entradas!$B$3:$B$5000=D2126,Entradas!$A$3:$A$5000),1))),\"Preço não registrado\")","v":""},"",null,null,"",""]
[null,null,"",null,"","",null,{"$f":"IFERROR(IF(D2127=\"\",\"\",INDEX(Entradas!$H$3:$H$5000,MATCH(A2127,IF(Entradas!$B$3:$B$5000=D2127,Entradas!$A$3:$A$5000),1))),\"Preço não registrado\")","v":""},"",null,null,"",""]
[null,null,"",null,"","",null,{"$f":"IFERROR(IF(D2128=\"\",\"\",INDEX(Entradas!$H$3:$H$5000,MATCH(A2128,IF(Entradas!$B$3:$B$5000=D2128,Entradas!$A$3:$A$5000),1))),\"Preço não registrado\")","v":""},"",null,null,"",""]
[null,null,"",null,"","",null,{"$f":"IFERROR(IF(D2129=\"\",\"\",INDEX(Entradas!$H$3:$H$5000,MATCH(A2129,IF(Entradas!$B$3:$B$5000=D2129,Entradas!$A$3:$A$5000),1))),\"Preço não registrado\")","v":""},"",null,null,"",""]
[null,null,"",null,"","",null,{"$f":"IFERROR(IF(D2130=\"\",\"\",INDEX(Entradas!$H$3:$H$5000,MATCH(A2130,IF(Entradas!$B$3:$B$5000=D2130,Entradas!$A$3:$A$5000),1))),\"Preço não registrado\")","v":""},"",null,null,"",""]
[null,null,"",null,"","",null,{"$f":"IFERROR(IF(D2131=\"\",\"\",INDEX(Entradas!$H$3:$H$5000,MATCH(A2131,IF(Entradas!$B$3:$B$5000=D2131,Entradas!$A$3:$A$5000),1))),\"Preço não registrado\")","v":""},"",null,null,"",""]
[null,null,"",null,"","",null,{"$f":"IFERROR(IF(D2132=\"\",\"\",INDEX(Entradas!$H$3:$H$5000,MATCH(A2132,IF(Entradas!$B$3:$B$5000=D2132,Entradas!$A$3:$A$5000),1))),\"Preço não registrado\")","v":""},"",null,null,"",""]
[null,null,"",null,"","",null,{"$f":"IFERROR(IF(D2133=\"\",\"\",INDEX(Entradas!$H$3:$H$5000,MATCH(A2133,IF(Entradas!$B$3:$B$5000=D2133,Entradas!$A$3:$A$5000),1))),\"Preço não registrado\")","v":""},"",null,null,"",""]
[null,null,"",null,"","",null,{"$f":"IFERROR(IF(D2134=\"\",\"\",INDEX(Entradas!$H$3:$H$5000,MATCH(A2134,IF(Entradas!$B$3:$B$5000=D2134,Entradas!$A$3:$A$5000),1))),\"Preço não registrado\")","v":""},"",null,null,"",""]
[null,null,"",null,"","",null,{"$f":"IFERROR(IF(D2135=\"\",\"\",INDEX(Entradas!$H$3:$H$5000,MATCH(A2135,IF(Entradas!$B$3:$B$5000=D2135,Entradas!$A$3:$A$5000),1))),\"Preço não registrado\")","v":""},"",null,null,"",""]
[null,null,"",null,"","",null,{"$f":"IFERROR(IF(D2136=\"\",\"\",INDEX(Entradas!$H$3:$H$5000,MATCH(A2136,IF(Entradas!$B$3:$B$5000=D2136,Entradas!$A$3:$A$5000),1))),\"Preço não registrado\")","v":""},"",null,null,"",""]
[null,null,"",null,"","",null,{"$f":"IFERROR(IF(D2137=\"\",\"\",INDEX(Entradas!$H$3:$H$5000,MATCH(A2137,IF(Entradas!$B$3:$B$5000=D2137,Entradas!$A$3:$A$5000),1))),\"Preço não registrado\")","v":""},"",null,null,"",""]
[null,null,"",null,"","",null,{"$f":"IFERROR(IF(D2138=\"\",\"\",INDEX(Entradas!$H$3:$H$5000,MATCH(A2138,IF(Entradas!$B$3:$B$5000=D2138,Entradas!$A$3:$A$5000),1))),\"Preço não registrado\")","v":""},"",null,null,"",""]
[null,null,"",null,"","",null,{"$f":"IFERROR(IF(D2139=\"\",\"\",INDEX(Entradas!$H$3:$H$5000,MATCH(A2139,IF(Entradas!$B$3:$B$5000=D2139,Entradas!$A$3:$A$5000),1))),\"Preço não registrado\")","v":""},"",null,null,"",""]
[null,null,"",null,"","",null,{"$f":"IFERROR(IF(D2140=\"\",\"\",INDEX(Entradas!$H$3:$H$5000,MATCH(A2140,IF(Entradas!$B$3:$B$5000=D2140,Entradas!$A$3:$A$5000),1))),\"Preço não registrado\")","v":""},"",null,null,"",""]
[null,null,"",null,"","",null,{"$f":"IFERROR(IF(D2141=\"\",\"\",INDEX(Entradas!$H$3:$H$5000,MATCH(A2141,IF(Entradas!$B$3:$B$5000=D2141,Entradas!$A$3:$A$5000),1))),\"Preço não registrado\")","v":""},"",null,null,"",""]
[null,null,"",null,"","",null,{"$f":"IFERROR(IF(D2142=\"\",\"\",INDEX(Entradas!$H$3:$H$5000,MATCH(A2142,IF(Entradas!$B$3:$B$5000=D2142,Entradas!$A$3:$A$5000),1))),\"Preço não registrado\")","v":""},"",null,null,"",""]
[null,null,"",null,"","",null,{"$f":"IFERROR(IF(D2143=\"\",\"\",INDEX(Entradas!$H$3:$H$5000,MATCH(A2143,IF(Entradas!$B$3:$B$5000=D2143,Entradas!$A$3:$A$5000),1))),\"Preço não registrado\")","v":""},"",null,null,"",""]
[null,null,"",null,"","",null,{"$f":"IFERROR(IF(D2144=\"\",\"\",INDEX(Entradas!$H$3:$H$5000,MATCH(A2144,IF(Entradas!$B$3:$B$5000=D2144,Entradas!$A$3:$A$5000),1))),\"Preço não registrado\")","v":""},"",null,null,"",""]
[null,null,"",null,"","",null,{"$f":"IFERROR(IF(D2145=\"\",\"\",INDEX(Entradas!$H$3:$H$5000,MATCH(A2145,IF(Entradas!$B$3:$B$5000=D2145,Entradas!$A$3:$A$5000),1))),\"Preço não registrado\")","v":""},"",null,null,"",""]
[null,null,"",null,"","",null,{"$f":"IFERROR(IF(D2146=\"\",\"\",INDEX(Entradas!$H$3:$H$5000,MATCH(A2146,IF(Entradas!$B$3:$B$5000=D2146,Entradas!$A$3:$A$5000),1))),\"Preço não registrado\")","v":""},"",null,null,"",""]
[null,null,"",null,"","",null,{"$f":"IFERROR(IF(D2147=\"\",\"\",INDEX(Entradas!$H$3:$H$5000,MATCH(A2147,IF(Entradas!$B$3:$B$5000=D2147,Entradas!$A$3:$A$5000),1))),\"Preço não registrado\")","v":""},"",null,null,"",""]
[null,null,"",null,"","",null,{"$f":"IFERROR(IF(D2148=\"\",\"\",INDEX(Entradas!$H$3:$H$5000,MATCH(A2148,IF(Entradas!$B$3:$B$5000=D2148,Entradas!$A$3:$A$5000),1))),\"Preço não registrado\")","v":""},"",null,null,"",""]
[null,null,"",null,"","",null,{"$f":"IFERROR(IF(D2149=\"\",\"\",INDEX(Entradas!$H$3:$H$5000,MATCH(A2149,IF(Entradas!$B$3:$B$5000=D2149,Entradas!$A$3:$A$5000),1))),\"Preço não registrado\")","v":""},"",null,null,"",""]
[null,null,"",null,"","",null,{"$f":"IFERROR(IF(D2150=\"\",\"\",INDEX(Entradas!$H$3:$H$5000,MATCH(A2150,IF(Entradas!$B$3:$B$5000=D2150,Entradas!$A$3:$A$5000),1))),\"Preço não registrado\")","v":""},"",null,null,"",""]
[null,null,"",null,"","",null,{"$f":"IFERROR(IF(D2151=\"\",\"\",INDEX(Entradas!$H$3:$H$5000,MATCH(A2151,IF(Entradas!$B$3:$B$5000=D2151,Entradas!$A$3:$A$5000),1))),\"Preço não registrado\")","v":""},"",null,null,"",""]
[null,null,"",null,"","",null,{"$f":"IFERROR(IF(D2152=\"\",\"\",INDEX(Entradas!$H$3:$H$5000,MATCH(A2152,IF(Entradas!$B$3:$B$5000=D2152,Entradas!$A$3:$A$5000),1))),\"Preço não registrado\")","v":""},"",null,null,"",""]
[null,null,"",null,"","",null,{"$f":"IFERROR(IF(D2153=\"\",\"\",INDEX(Entradas!$H$3:$H$5000,MATCH(A2153,IF(Entradas!$B$3:$B$5000=D2153,Entradas!$A$3:$A$5000),1))),\"Preço não registrado\")","v":""},"",null,null,"",""]
[null,null,"",null,"","",null,{"$f":"IFERROR(IF(D2154=\"\",\"\",INDEX(Entradas!$H$3:$H$5000,MATCH(A2154,IF(Entradas!$B$3:$B$5000=D2154,Entradas!$A$3:$A$5000),1))),\"Preço não registrado\")","v":""},"",null,null,"",""]
[null,null,"",null,"","",null,{"$f":"IFERROR(IF(D2155=\"\",\"\",INDEX(Entradas!$H$3:$H$5000,MATCH(A2155,IF(Entradas!$B$3:$B$5000=D2155,Entradas!$A$3:$A$5000),1))),\"Preço não registrado\")","v":""},"",null,null,"",""]
[null,null,"",null,"","",null,{"$f":"IFERROR(IF(D2156=\"\",\"\",INDEX(Entradas!$H$3:$H$5000,MATCH(A2156,IF(Entradas!$B$3:$B$5000=D2156,Entradas!$A$3:$A$5000),1))),\"Preço não registrado\")","v":""},"",null,null,"",""]
[null,null,"",null,"","",null,{"$f":"IFERROR(IF(D2157=\"\",\"\",INDEX(Entradas!$H$3:$H$5000,MATCH(A2157,IF(Entradas!$B$3:$B$5000=D2157,Entradas!$A$3:$A$5000),1))),\"Preço não registrado\")","v":""},"",null,null,"",""]
[null,null,"",null,"","",null,{"$f":"IFERROR(IF(D2158=\"\",\"\",INDEX(Entradas!$H$3:$H$5000,MATCH(A2158,IF(Entradas!$B$3:$B$5000=D2158,Entradas!$A$3:$A$5000),1))),\"Preço não registrado\")","v":""},"",null,null,"",""]
[null,null,"",null,"","",null,{"$f":"IFERROR(IF(D2159=\"\",\"\",INDEX(Entradas!$H$3:$H$5000,MATCH(A2159,IF(Entradas!$B$3:$B$5000=D2159,Entradas!$A$3:$A$5000),1))),\"Preço não registrado\")","v":""},"",null,null,"",""]
[null,null,"",null,"","",null,{"$f":"IFERROR(IF(D2160=\"\",\"\",INDEX(Entradas!$H$3:$H$5000,MATCH(A2160,IF(Entradas!$B$3:$B$5000=D2160,Entradas!$A$3:$A$5000),1))),\"Preço não registrado\")","v":""},"",null,null,"",""]
[null,null,"",null,"","",null,{"$f":"IFERROR(IF(D2161=\"\",\"\",INDEX(Entradas!$H$3:$H$5000,MATCH(A2161,IF(Entradas!$B$3:$B$5000=D2161,Entradas!$A$3:$A$5000),1))),\"Preço não registrado\")","v":""},"",null,null,"",""]
[null,null,"",null,"","",null,{"$f":"IFERROR(IF(D2162=\"\",\"\",INDEX(Entradas!$H$3:$H$5000,MATCH(A2162,IF(Entradas!$B$3:$B$5000=D2162,Entradas!$A$3:$A$5000),1))),\"Preço não registrado\")","v":""},"",null,null,"",""]
[null,null,"",null,"","",null,{"$f":"IFERROR(IF(D2163=\"\",\"\",INDEX(Entradas!$H$3:$H$5000,MATCH(A2163,IF(Entradas!$B$3:$B$5000=D2163,Entradas!$A$3:$A$5000),1))),\"Preço não registrado\")","v":""},"",null,null,"",""]
[null,null,"",null,"","",null,{"$f":"IFERROR(IF(D2164=\"\",\"\",INDEX(Entradas!$H$3:$H$5000,MATCH(A2164,IF(Entradas!$B$3:$B$5000=D2164,Entradas!$A$3:$A$5000),1))),\"Preço não registrado\")","v":""},"",null,null,"",""]
[null,null,"",null,"","",null,{"$f":"IFERROR(IF(D2165=\"\",\"\",INDEX(Entradas!$H$3:$H$5000,MATCH(A2165,IF(Entradas!$B$3:$B$5000=D2165,Entradas!$A$3:$A$5000),1))),\"Preço não registrado\")","v":""},"",null,null,"",""]
[null,null,"",null,"","",null,{"$f":"IFERROR(IF(D2166=\"\",\"\",INDEX(Entradas!$H$3:$H$5000,MATCH(A2166,IF(Entradas!$B$3:$B$5000=D2166,Entradas!$A$3:$A$5000),1))),\"Preço não registrado\")","v":""},"",null,null,"",""]
[null,null,"",null,"","",null,{"$f":"IFERROR(IF(D2167=\"\",\"\",INDEX(Entradas!$H$3:$H$5000,MATCH(A2167,IF(Entradas!$B$3:$B$5000=D2167,Entradas!$A$3:$A$5000),1))),\"Preço não registrado\")","v":""},"",null,null,"",""]
[null,null,"",null,"","",null,{"$f":"IFERROR(IF(D2168=\"\",\"\",INDEX(Entradas!$H$3:$H$5000,MATCH(A2168,IF(Entradas!$B$3:$B$5000=D2168,Entradas!$A$3:$A$5000),1))),\"Preço não registrado\")","v":""},"",null,null,"",""]
[null,null,"",null,"","",null,{"$f":"IFERROR(IF(D2169=\"\",\"\",INDEX(Entradas!$H$3:$H$5000,MATCH(A2169,IF(Entradas!$B$3:$B$5000=D2169,Entradas!$A$3:$A$5000),1))),\"Preço não registrado\")","v":""},"",null,null,"",""]
[null,null,"",null,"","",null,{"$f":"IFERROR(IF(D2170=\"\",\"\",INDEX(Entradas!$H$3:$H$5000,MATCH(A2170,IF(Entradas!$B$3:$B$5000=D2170,Entradas!$A$3:$A$5000),1))),\"Preço não registrado\")","v":""},"",null,null,"",""]
[null,null,"",null,"","",null,{"$f":"IFERROR(IF(D2171=\"\",\"\",INDEX(Entradas!$H$3:$H$5000,MATCH(A2171,IF(Entradas!$B$3:$B$5000=D2171,Entradas!$A$3:$A$5000),1))),\"Preço não registrado\")","v":""},"",null,null,"",""]
[null,null,"",null,"","",null,{"$f":"IFERROR(IF(D2172=\"\",\"\",INDEX(Entradas!$H$3:$H$5000,MATCH(A2172,IF(Entradas!$B$3:$B$5000=D2172,Entradas!$A$3:$A$5000),1))),\"Preço não registrado\")","v":""},"",null,null,"",""]
[null,null,"",null,"","",null,{"$f":"IFERROR(IF(D2173=\"\",\"\",INDEX(Entradas!$H$3:$H$5000,MATCH(A2173,IF(Entradas!$B$3:$B$5000=D2173,Entradas!$A$3:$A$5000),1))),\"Preço não registrado\")","v":""},"",null,null,"",""]
[null,null,"",null,"","",null,{"$f":"IFERROR(IF(D2174=\"\",\"\",INDEX(Entradas!$H$3:$H$5000,MATCH(A2174,IF(Entradas!$B$3:$B$5000=D2174,Entradas!$A$3:$A$5000),1))),\"Preço não registrado\")","v":""},"",null,null,"",""]
[null,null,"",null,"","",null,{"$f":"IFERROR(IF(D2175=\"\",\"\",INDEX(Entradas!$H$3:$H$5000,MATCH(A2175,IF(Entradas!$B$3:$B$5000=D2175,Entradas!$A$3:$A$5000),1))),\"Preço não registrado\")","v":""},"",null,null,"",""]
[null,null,"",null,"","",null,{"$f":"IFERROR(IF(D2176=\"\",\"\",INDEX(Entradas!$H$3:$H$5000,MATCH(A2176,IF(Entradas!$B$3:$B$5000=D2176,Entradas!$A$3:$A$5000),1))),\"Preço não registrado\")","v":""},"",null,null,"",""]
[null,null,"",null,"","",null,{"$f":"IFERROR(IF(D2177=\"\",\"\",INDEX(Entradas!$H$3:$H$5000,MATCH(A2177,IF(Entradas!$B$3:$B$5000=D2177,Entradas!$A$3:$A$5000),1))),\"Preço não registrado\")","v":""},"",null,null,"",""]
[null,null,"",null,"","",null,{"$f":"IFERROR(IF(D2178=\"\",\"\",INDEX(Entradas!$H$3:$H$5000,MATCH(A2178,IF(Entradas!$B$3:$B$5000=D2178,Entradas!$A$3:$A$5000),1))),\"Preço não registrado\")","v":""},"",null,null,"",""]
[null,null,{"$f":"IFERROR(IF(B2179=\"\",\"\",VLOOKUP(B2179,Clientes,2,FALSE)),\"\")","v":""},null,{"$f":"IF(D2179=\"\",\"\",VLOOKUP(D2179,Itens,2,FALSE))","v":""},{"$f":"IF(D2179=\"\",\"\",VLOOKUP(D2179,Itens,3,FALSE))","v":""},null,{"$f":"IFERROR(IF(D2179=\"\",\"\",INDEX(Entradas!$H$3:$H$5000,MATCH(A2179,IF(Entradas!$B$3:$B$5000=D2179,Entradas!$A$3:$A$5000),1))),\"Preço não registrado\")","v":""},"",null,null,"",""]
[null,null,"",null,"","",null,{"$f":"IFERROR(IF(D2180=\"\",\"\",INDEX(Entradas!$H$3:$H$5000,MATCH(A2180,IF(Entradas!$B$3:$B$5000=D2180,Entradas!$A$3:$A$5000),1))),\"Preço não registrado\")","v":""},{"$f":"IFERROR(G2180*H2180,\"\")","v":""},null,null,{"$f":"IF(K2180=\"\",\"\",HYPERLINK($P$13&K2180,\"Rastreie aqui\"))","v":""},{"$f":"IF(A2180=\"\",\"\",TEXT(A2180,\"mmmm\"))","v":""}]
[null,null,"",null,"","",null,{"$f":"IFERROR(IF(D2181=\"\",\"\",INDEX(Entradas!$H$3:$H$5000,MATCH(A2181,IF(Entradas!$B$3:$B$5000=D2181,Entradas!$A$3:$A$5000),1))),\"Preço não registrado\")","v":""},"",null,null,"",""]
[null,null,"",null,"","",null,{"$f":"IFERROR(IF(D2182=\"\",\"\",INDEX(Entradas!$H$3:$H$5000,MATCH(A2182,IF(Entradas!$B$3:$B$5000=D2182,Entradas!$A$3:$A$5000),1))),\"Preço não registrado\")","v":""},"",null,null,"",""]
[null,null,"",null,"","",null,{"$f":"IFERROR(IF(D2183=\"\",\"\",INDEX(Entradas!$H$3:$H$5000,MATCH(A2183,IF(Entradas!$B$3:$B$5000=D2183,Entradas!$A$3:$A$5000),1))),\"Preço não registrado\")","v":""},"",null,null,"",""]
[null,null,"",null,"","",null,{"$f":"IFERROR(IF(D2184=\"\",\"\",INDEX(Entradas!$H$3:$H$5000,MATCH(A2184,IF(Entradas!$B$3:$B$5000=D2184,Entradas!$A$3:$A$5000),1))),\"Preço não registrado\")","v":""},"",null,null,"",""]
[null,null,"",null,"","",null,{"$f":"IFERROR(IF(D2185=\"\",\"\",INDEX(Entradas!$H$3:$H$5000,MATCH(A2185,IF(Entradas!$B$3:$B$5000=D2185,Entradas!$A$3:$A$5000),1))),\"Preço não registrado\")","v":""},"",null,null,"",""]
[null,null,"",null,"","",null,{"$f":"IFERROR(IF(D2186=\"\",\"\",INDEX(Entradas!$H$3:$H$5000,MATCH(A2186,IF(Entradas!$B$3:$B$5000=D2186,Entradas!$A$3:$A$5000),1))),\"Preço não registrado\")","v":""},"",null,null,"",""]
[null,null,"",null,"","",null,{"$f":"IFERROR(IF(D2187=\"\",\"\",INDEX(Entradas!$H$3:$H$5000,MATCH(A2187,IF(Entradas!$B$3:$B$5000=D2187,Entradas!$A$3:$A$5000),1))),\"Preço não registrado\")","v":""},"",null,null,"",""]
[null,null,"",null,"","",null,{"$f":"IFERROR(IF(D2188=\"\",\"\",INDEX(Entradas!$H$3:$H$5000,MATCH(A2188,IF(Entradas!$B$3:$B$5000=D2188,Entradas!$A$3:$A$5000),1))),\"Preço não registrado\")","v":""},"",null,null,"",""]
[null,null,"",null,"","",null,{"$f":"IFERROR(IF(D2189=\"\",\"\",INDEX(Entradas!$H$3:$H$5000,MATCH(A2189,IF(Entradas!$B$3:$B$5000=D2189,Entradas!$A$3:$A$5000),1))),\"Preço não registrado\")","v":""},"",null,null,"",""]
[null,null,"",null,"","",null,{"$f":"IFERROR(IF(D2190=\"\",\"\",INDEX(Entradas!$H$3:$H$5000,MATCH(A2190,IF(Entradas!$B$3:$B$5000=D2190,Entradas!$A$3:$A$5000),1))),\"Preço não registrado\")","v":""},"",null,null,"",""]
[null,null,"",null,"","",null,{"$f":"IFERROR(IF(D2191=\"\",\"\",INDEX(Entradas!$H$3:$H$5000,MATCH(A2191,IF(Entradas!$B$3:$B$5000=D2191,Entradas!$A$3:$A$5000),1))),\"Preço não registrado\")","v":""},"",null,null,"",""]
[null,null,"",null,"","",null,{"$f":"IFERROR(IF(D2192=\"\",\"\",INDEX(Entradas!$H$3:$H$5000,MATCH(A2192,IF(Entradas!$B$3:$B$5000=D2192,Entradas!$A$3:$A$5000),1))),\"Preço não registrado\")","v":""},"",null,null,"",""]
[null,null,"",null,"","",null,{"$f":"IFERROR(IF(D2193=\"\",\"\",INDEX(Entradas!$H$3:$H$5000,MATCH(A2193,IF(Entradas!$B$3:$B$5000=D2193,Entradas!$A$3:$A$5000),1))),\"Preço não registrado\")","v":""},"",null,null,"",""]
[null,null,"",null,"","",null,{"$f":"IFERROR(IF(D2194=\"\",\"\",INDEX(Entradas!$H$3:$H$5000,MATCH(A2194,IF(Entradas!$B$3:$B$5000=D2194,Entradas!$A$3:$A$5000),1))),\"Preço não registrado\")","v":""},"",null,null,"",""]
[null,null,"",null,"","",null,{"$f":"IFERROR(IF(D2195=\"\",\"\",INDEX(Entradas!$H$3:$H$5000,MATCH(A2195,IF(Entradas!$B$3:$B$5000=D2195,Entradas!$A$3:$A$5000),1))),\"Preço não registrado\")","v":""},"",null,null,"",""]
[null,null,"",null,"","",null,{"$f":"IFERROR(IF(D2196=\"\",\"\",INDEX(Entradas!$H$3:$H$5000,MATCH(A2196,IF(Entradas!$B$3:$B$5000=D2196,Entradas!$A$3:$A$5000),1))),\"Preço não registrado\")","v":""},"",null,null,"",""]
[null,null,"",null,"","",null,{"$f":"IFERROR(IF(D2197=\"\",\"\",INDEX(Entradas!$H$3:$H$5000,MATCH(A2197,IF(Entradas!$B$3:$B$5000=D2197,Entradas!$A$3:$A$5000),1))),\"Preço não registrado\")","v":""},"",null,null,"",""]
[null,null,"",null,"","",null,{"$f":"IFERROR(IF(D2198=\"\",\"\",INDEX(Entradas!$H$3:$H$5000,MATCH(A2198,IF(Entradas!$B$3:$B$5000=D2198,Entradas!$A$3:$A$5000),1))),\"Preço não registrado\")","v":""},"",null,null,"",""]
[null,null,"",null,"","",null,{"$f":"IFERROR(IF(D2199=\"\",\"\",INDEX(Entradas!$H$3:$H$5000,MATCH(A2199,IF(Entradas!$B$3:$B$5000=D2199,Entradas!$A$3:$A$5000),1))),\"Preço não registrado\")","v":""},"",null,null,"",""]
[null,null,"",null,"","",null,{"$f":"IFERROR(IF(D2200=\"\",\"\",INDEX(Entradas!$H$3:$H$5000,MATCH(A2200,IF(Entradas!$B$3:$B$5000=D2200,Entradas!$A$3:$A$5000),1))),\"Preço não registrado\")","v":""},"",null,null,"",""]
[null,null,"",null,"","",null,{"$f":"IFERROR(IF(D2201=\"\",\"\",INDEX(Entradas!$H$3:$H$5000,MATCH(A2201,IF(Entradas!$B$3:$B$5000=D2201,Entradas!$A$3:$A$5000),1))),\"Preço não registrado\")","v":""},"",null,null,"",""]
[null,null,"",null,"","",null,{"$f":"IFERROR(IF(D2202=\"\",\"\",INDEX(Entradas!$H$3:$H$5000,MATCH(A2202,IF(Entradas!$B$3:$B$5000=D2202,Entradas!$A$3:$A$5000),1))),\"Preço não registrado\")","v":""},"",null,null,"",""]
[null,null,"",null,"","",null,{"$f":"IFERROR(IF(D2203=\"\",\"\",INDEX(Entradas!$H$3:$H$5000,MATCH(A2203,IF(Entradas!$B$3:$B$5000=D2203,Entradas!$A$3:$A$5000),1))),\"Preço não registrado\")","v":""},"",null,null,"",""]
[null,null,"",null,"","",null,{"$f":"IFERROR(IF(D2204=\"\",\"\",INDEX(Entradas!$H$3:$H$5000,MATCH(A2204,IF(Entradas!$B$3:$B$5000=D2204,Entradas!$A$3:$A$5000),1))),\"Preço não registrado\")","v":""},"",null,null,"",""]
[null,null,"",null,"","",null,{"$f":"IFERROR(IF(D2205=\"\",\"\",INDEX(Entradas!$H$3:$H$5000,MATCH(A2205,IF(Entradas!$B$3:$B$5000=D2205,Entradas!$A$3:$A$5000),1))),\"Preço não registrado\")","v":""},"",null,null,"",""]
[null,null,"",null,"","",null,{"$f":"IFERROR(IF(D2206=\"\",\"\",INDEX(Entradas!$H$3:$H$5000,MATCH(A2206,IF(Entradas!$B$3:$B$5000=D2206,Entradas!$A$3:$A$5000),1))),\"Preço não registrado\")","v":""},"",null,null,"",""]
[null,null,"",null,"","",null,{"$f":"IFERROR(IF(D2207=\"\",\"\",INDEX(Entradas!$H$3:$H$5000,MATCH(A2207,IF(Entradas!$B$3:$B$5000=D2207,Entradas!$A$3:$A$5000),1))),\"Preço não registrado\")","v":""},"",null,null,"",""]
[null,null,"",null,"","",null,{"$f":"IFERROR(IF(D2208=\"\",\"\",INDEX(Entradas!$H$3:$H$5000,MATCH(A2208,IF(Entradas!$B$3:$B$5000=D2208,Entradas!$A$3:$A$5000),1))),\"Preço não registrado\")","v":""},"",null,null,"",""]
[null,null,"",null,"","",null,{"$f":"IFERROR(IF(D2209=\"\",\"\",INDEX(Entradas!$H$3:$H$5000,MATCH(A2209,IF(Entradas!$B$3:$B$5000=D2209,Entradas!$A$3:$A$5000),1))),\"Preço não registrado\")","v":""},"",null,null,"",""]
[null,null,"",null,"","",null,{"$f":"IFERROR(IF(D2210=\"\",\"\",INDEX(Entradas!$H$3:$H$5000,MATCH(A2210,IF(Entradas!$B$3:$B$5000=D2210,Entradas!$A$3:$A$5000),1))),\"Preço não registrado\")","v":""},"",null,null,"",""]
[null,null,"",null,"","",null,{"$f":"IFERROR(IF(D2211=\"\",\"\",INDEX(Entradas!$H$3:$H$5000,MATCH(A2211,IF(Entradas!$B$3:$B$5000=D2211,Entradas!$A$3:$A$5000),1))),\"Preço não registrado\")","v":""},"",null,null,"",""]
[null,null,"",null,"","",null,{"$f":"IFERROR(IF(D2212=\"\",\"\",INDEX(Entradas!$H$3:$H$5000,MATCH(A2212,IF(Entradas!$B$3:$B$5000=D2212,Entradas!$A$3:$A$5000),1))),\"Preço não registrado\")","v":""},"",null,null,"",""]
[null,null,"",null,"","",null,{"$f":"IFERROR(IF(D2213=\"\",\"\",INDEX(Entradas!$H$3:$H$5000,MATCH(A2213,IF(Entradas!$B$3:$B$5000=D2213,Entradas!$A$3:$A$5000),1))),\"Preço não registrado\")","v":""},"",null,null,"",""]
[null,null,"",null,"","",null,{"$f":"IFERROR(IF(D2214=\"\",\"\",INDEX(Entradas!$H$3:$H$5000,MATCH(A2214,IF(Entradas!$B$3:$B$5000=D2214,Entradas!$A$3:$A$5000),1))),\"Preço não registrado\")","v":""},"",null,null,"",""]
[null,null,"",null,"","",null,{"$f":"IFERROR(IF(D2215=\"\",\"\",INDEX(Entradas!$H$3:$H$5000,MATCH(A2215,IF(Entradas!$B$3:$B$5000=D2215,Entradas!$A$3:$A$5000),1))),\"Preço não registrado\")","v":""},"",null,null,"",""]
[null,null,"",null,"","",null,{"$f":"IFERROR(IF(D2216=\"\",\"\",INDEX(Entradas!$H$3:$H$5000,MATCH(A2216,IF(Entradas!$B$3:$B$5000=D2216,Entradas!$A$3:$A$5000),1))),\"Preço não registrado\")","v":""},"",null,null,"",""]
[null,null,"",null,"","",null,{"$f":"IFERROR(IF(D2217=\"\",\"\",INDEX(Entradas!$H$3:$H$5000,MATCH(A2217,IF(Entradas!$B$3:$B$5000=D2217,Entradas!$A$3:$A$5000),1))),\"Preço não registrado\")","v":""},"",null,null,"",""]
[null,null,"",null,"","",null,{"$f":"IFERROR(IF(D2218=\"\",\"\",INDEX(Entradas!$H$3:$H$5000,MATCH(A2218,IF(Entradas!$B$3:$B$5000=D2218,Entradas!$A$3:$A$5000),1))),\"Preço não registrado\")","v":""},"",null,null,"",""]
[null,null,"",null,"","",null,{"$f":"IFERROR(IF(D2219=\"\",\"\",INDEX(Entradas!$H$3:$H$5000,MATCH(A2219,IF(Entradas!$B$3:$B$5000=D2219,Entradas!$A$3:$A$5000),1))),\"Preço não registrado\")","v":""},"",null,null,"",""]
[null,null,"",null,"","",null,{"$f":"IFERROR(IF(D2220=\"\",\"\",INDEX(Entradas!$H$3:$H$5000,MATCH(A2220,IF(Entradas!$B$3:$B$5000=D2220,Entradas!$A$3:$A$5000),1))),\"Preço não registrado\")","v":""},"",null,null,"",""]
[null,null,"",null,"","",null,{"$f":"IFERROR(IF(D2221=\"\",\"\",INDEX(Entradas!$H$3:$H$5000,MATCH(A2221,IF(Entradas!$B$3:$B$5000=D2221,Entradas!$A$3:$A$5000),1))),\"Preço não registrado\")","v":""},"",null,null,"",""]
[null,null,"",null,"","",null,{"$f":"IFERROR(IF(D2222=\"\",\"\",INDEX(Entradas!$H$3:$H$5000,MATCH(A2222,IF(Entradas!$B$3:$B$5000=D2222,Entradas!$A$3:$A$5000),1))),\"Preço não registrado\")","v":""},"",null,null,"",""]
[null,null,"",null,"","",null,{"$f":"IFERROR(IF(D2223=\"\",\"\",INDEX(Entradas!$H$3:$H$5000,MATCH(A2223,IF(Entradas!$B$3:$B$5000=D2223,Entradas!$A$3:$A$5000),1))),\"Preço não registrado\")","v":""},"",null,null,"",""]
[null,null,"",null,"","",null,{"$f":"IFERROR(IF(D2224=\"\",\"\",INDEX(Entradas!$H$3:$H$5000,MATCH(A2224,IF(Entradas!$B$3:$B$5000=D2224,Entradas!$A$3:$A$5000),1))),\"Preço não registrado\")","v":""},"",null,null,"",""]
[null,null,"",null,"","",null,{"$f":"IFERROR(IF(D2225=\"\",\"\",INDEX(Entradas!$H$3:$H$5000,MATCH(A2225,IF(Entradas!$B$3:$B$5000=D2225,Entradas!$A$3:$A$5000),1))),\"Preço não registrado\")","v":""},"",null,null,"",""]
[null,null,"",null,"","",null,{"$f":"IFERROR(IF(D2226=\"\",\"\",INDEX(Entradas!$H$3:$H$5000,MATCH(A2226,IF(Entradas!$B$3:$B$5000=D2226,Entradas!$A$3:$A$5000),1))),\"Preço não registrado\")","v":""},"",null,null,"",""]
[null,null,"",null,"","",null,{"$f":"IFERROR(IF(D2227=\"\",\"\",INDEX(Entradas!$H$3:$H$5000,MATCH(A2227,IF(Entradas!$B$3:$B$5000=D2227,Entradas!$A$3:$A$5000),1))),\"Preço não registrado\")","v":""},"",null,null,"",""]
[null,null,"",null,"","",null,{"$f":"IFERROR(IF(D2228=\"\",\"\",INDEX(Entradas!$H$3:$H$5000,MATCH(A2228,IF(Entradas!$B$3:$B$5000=D2228,Entradas!$A$3:$A$5000),1))),\"Preço não registrado\")","v":""},"",null,null,"",""]
[null,null,"",null,"","",null,{"$f":"IFERROR(IF(D2229=\"\",\"\",INDEX(Entradas!$H$3:$H$5000,MATCH(A2229,IF(Entradas!$B$3:$B$5000=D2229,Entradas!$A$3:$A$5000),1))),\"Preço não registrado\")","v":""},"",null,null,"",""]
[null,null,"",null,"","",null,{"$f":"IFERROR(IF(D2230=\"\",\"\",INDEX(Entradas!$H$3:$H$5000,MATCH(A2230,IF(Entradas!$B$3:$B$5000=D2230,Entradas!$A$3:$A$5000),1))),\"Preço não registrado\")","v":""},"",null,null,"",""]
[null,null,"",null,"","",null,{"$f":"IFERROR(IF(D2231=\"\",\"\",INDEX(Entradas!$H$3:$H$5000,MATCH(A2231,IF(Entradas!$B$3:$B$5000=D2231,Entradas!$A$3:$A$5000),1))),\"Preço não registrado\")","v":""},"",null,null,"",""]
[null,null,"",null,"","",null,{"$f":"IFERROR(IF(D2232=\"\",\"\",INDEX(Entradas!$H$3:$H$5000,MATCH(A2232,IF(Entradas!$B$3:$B$5000=D2232,Entradas!$A$3:$A$5000),1))),\"Preço não registrado\")","v":""},"",null,null,"",""]
[null,null,"",null,"","",null,{"$f":"IFERROR(IF(D2233=\"\",\"\",INDEX(Entradas!$H$3:$H$5000,MATCH(A2233,IF(Entradas!$B$3:$B$5000=D2233,Entradas!$A$3:$A$5000),1))),\"Preço não registrado\")","v":""},"",null,null,"",""]
[null,null,"",null,"","",null,{"$f":"IFERROR(IF(D2234=\"\",\"\",INDEX(Entradas!$H$3:$H$5000,MATCH(A2234,IF(Entradas!$B$3:$B$5000=D2234,Entradas!$A$3:$A$5000),1))),\"Preço não registrado\")","v":""},"",null,null,"",""]
[null,null,"",null,"","",null,{"$f":"IFERROR(IF(D2235=\"\",\"\",INDEX(Entradas!$H$3:$H$5000,MATCH(A2235,IF(Entradas!$B$3:$B$5000=D2235,Entradas!$A$3:$A$5000),1))),\"Preço não registrado\")","v":""},"",null,null,"",""]
[null,null,"",null,"","",null,{"$f":"IFERROR(IF(D2236=\"\",\"\",INDEX(Entradas!$H$3:$H$5000,MATCH(A2236,IF(Entradas!$B$3:$B$5000=D2236,Entradas!$A$3:$A$5000),1))),\"Preço não registrado\")","v":""},"",null,null,"",""]
[null,null,"",null,"","",null,{"$f":"IFERROR(IF(D2237=\"\",\"\",INDEX(Entradas!$H$3:$H$5000,MATCH(A2237,IF(Entradas!$B$3:$B$5000=D2237,Entradas!$A$3:$A$5000),1))),\"Preço não registrado\")","v":""},"",null,null,"",""]
[null,null,"",null,"","",null,{"$f":"IFERROR(IF(D2238=\"\",\"\",INDEX(Entradas!$H$3:$H$5000,MATCH(A2238,IF(Entradas!$B$3:$B$5000=D2238,Entradas!$A$3:$A$5000),1))),\"Preço não registrado\")","v":""},"",null,null,"",""]
[null,null,"",null,"","",null,{"$f":"IFERROR(IF(D2239=\"\",\"\",INDEX(Entradas!$H$3:$H$5000,MATCH(A2239,IF(Entradas!$B$3:$B$5000=D2239,Entradas!$A$3:$A$5000),1))),\"Preço não registrado\")","v":""},"",null,null,"",""]
[null,null,"",null,"","",null,{"$f":"IFERROR(IF(D2240=\"\",\"\",INDEX(Entradas!$H$3:$H$5000,MATCH(A2240,IF(Entradas!$B$3:$B$5000=D2240,Entradas!$A$3:$A$5000),1))),\"Preço não registrado\")","v":""},"",null,null,"",""]
[null,null,"",null,"","",null,{"$f":"IFERROR(IF(D2241=\"\",\"\",INDEX(Entradas!$H$3:$H$5000,MATCH(A2241,IF(Entradas!$B$3:$B$5000=D2241,Entradas!$A$3:$A$5000),1))),\"Preço não registrado\")","v":""},"",null,null,"",""]
[null,null,"",null,"","",null,{"$f":"IFERROR(IF(D2242=\"\",\"\",INDEX(Entradas!$H$3:$H$5000,MATCH(A2242,IF(Entradas!$B$3:$B$5000=D2242,Entradas!$A$3:$A$5000),1))),\"Preço não registrado\")","v":""},"",null,null,"",""]
[null,null,{"$f":"IFERROR(IF(B2243=\"\",\"\",VLOOKUP(B2243,Clientes,2,FALSE)),\"\")","v":""},null,{"$f":"IF(D2243=\"\",\"\",VLOOKUP(D2243,Itens,2,FALSE))","v":""},{"$f":"IF(D2243=\"\",\"\",VLOOKUP(D2243,Itens,3,FALSE))","v":""},null,{"$f":"IFERROR(IF(D2243=\"\",\"\",INDEX(Entradas!$H$3:$H$5000,MATCH(A2243,IF(Entradas!$B$3:$B$5000=D2243,Entradas!$A$3:$A$5000),1))),\"Preço não registrado\")","v":""},"",null,null,"",""]
[null,null,"",null,"","",null,{"$f":"IFERROR(IF(D2244=\"\",\"\",INDEX(Entradas!$H$3:$H$5000,MATCH(A2244,IF(Entradas!$B$3:$B$5000=D2244,Entradas!$A$3:$A$5000),1))),\"Preço não registrado\")","v":""},{"$f":"IFERROR(G2244*H2244,\"\")","v":""},null,null,{"$f":"IF(K2244=\"\",\"\",HYPERLINK($P$13&K2244,\"Rastreie aqui\"))","v":""},{"$f":"IF(A2244=\"\",\"\",TEXT(A2244,\"mmmm\"))","v":""}]
[null,null,"",null,"","",null,{"$f":"IFERROR(IF(D2245=\"\",\"\",INDEX(Entradas!$H$3:$H$5000,MATCH(A2245,IF(Entradas!$B$3:$B$5000=D2245,Entradas!$A$3:$A$5000),1))),\"Preço não registrado\")","v":""},"",null,null,"",""]
[null,null,"",null,"","",null,{"$f":"IFERROR(IF(D2246=\"\",\"\",INDEX(Entradas!$H$3:$H$5000,MATCH(A2246,IF(Entradas!$B$3:$B$5000=D2246,Entradas!$A$3:$A$5000),1))),\"Preço não registrado\")","v":""},"",null,null,"",""]
[null,null,"",null,"","",null,{"$f":"IFERROR(IF(D2247=\"\",\"\",INDEX(Entradas!$H$3:$H$5000,MATCH(A2247,IF(Entradas!$B$3:$B$5000=D2247,Entradas!$A$3:$A$5000),1))),\"Preço não registrado\")","v":""},"",null,null,"",""]
[null,null,"",null,"","",null,{"$f":"IFERROR(IF(D2248=\"\",\"\",INDEX(Entradas!$H$3:$H$5000,MATCH(A2248,IF(Entradas!$B$3:$B$5000=D2248,Entradas!$A$3:$A$5000),1))),\"Preço não registrado\")","v":""},"",null,null,"",""]
[null,null,"",null,"","",null,{"$f":"IFERROR(IF(D2249=\"\",\"\",INDEX(Entradas!$H$3:$H$5000,MATCH(A2249,IF(Entradas!$B$3:$B$5000=D2249,Entradas!$A$3:$A$5000),1))),\"Preço não registrado\")","v":""},"",null,null,"",""]
[null,null,"",null,"","",null,{"$f":"IFERROR(IF(D2250=\"\",\"\",INDEX(Entradas!$H$3:$H$5000,MATCH(A2250,IF(Entradas!$B$3:$B$5000=D2250,Entradas!$A$3:$A$5000),1))),\"Preço não registrado\")","v":""},"",null,null,"",""]
[null,null,"",null,"","",null,{"$f":"IFERROR(IF(D2251=\"\",\"\",INDEX(Entradas!$H$3:$H$5000,MATCH(A2251,IF(Entradas!$B$3:$B$5000=D2251,Entradas!$A$3:$A$5000),1))),\"Preço não registrado\")","v":""},"",null,null,"",""]
[null,null,"",null,"","",null,{"$f":"IFERROR(IF(D2252=\"\",\"\",INDEX(Entradas!$H$3:$H$5000,MATCH(A2252,IF(Entradas!$B$3:$B$5000=D2252,Entradas!$A$3:$A$5000),1))),\"Preço não registrado\")","v":""},"",null,null,"",""]
[null,null,"",null,"","",null,{"$f":"IFERROR(IF(D2253=\"\",\"\",INDEX(Entradas!$H$3:$H$5000,MATCH(A2253,IF(Entradas!$B$3:$B$5000=D2253,Entradas!$A$3:$A$5000),1))),\"Preço não registrado\")","v":""},"",null,null,"",""]
[null,null,"",null,"","",null,{"$f":"IFERROR(IF(D2254=\"\",\"\",INDEX(Entradas!$H$3:$H$5000,MATCH(A2254,IF(Entradas!$B$3:$B$5000=D2254,Entradas!$A$3:$A$5000),1))),\"Preço não registrado\")","v":""},"",null,null,"",""]
[null,null,"",null,"","",null,{"$f":"IFERROR(IF(D2255=\"\",\"\",INDEX(Entradas!$H$3:$H$5000,MATCH(A2255,IF(Entradas!$B$3:$B$5000=D2255,Entradas!$A$3:$A$5000),1))),\"Preço não registrado\")","v":""},"",null,null,"",""]
[null,null,"",null,"","",null,{"$f":"IFERROR(IF(D2256=\"\",\"\",INDEX(Entradas!$H$3:$H$5000,MATCH(A2256,IF(Entradas!$B$3:$B$5000=D2256,Entradas!$A$3:$A$5000),1))),\"Preço não registrado\")","v":""},"",null,null,"",""]
[null,null,"",null,"","",null,{"$f":"IFERROR(IF(D2257=\"\",\"\",INDEX(Entradas!$H$3:$H$5000,MATCH(A2257,IF(Entradas!$B$3:$B$5000=D2257,Entradas!$A$3:$A$5000),1))),\"Preço não registrado\")","v":""},"",null,null,"",""]
[null,null,"",null,"","",null,{"$f":"IFERROR(IF(D2258=\"\",\"\",INDEX(Entradas!$H$3:$H$5000,MATCH(A2258,IF(Entradas!$B$3:$B$5000=D2258,Entradas!$A$3:$A$5000),1))),\"Preço não registrado\")","v":""},"",null,null,"",""]
[null,null,"",null,"","",null,{"$f":"IFERROR(IF(D2259=\"\",\"\",INDEX(Entradas!$H$3:$H$5000,MATCH(A2259,IF(Entradas!$B$3:$B$5000=D2259,Entradas!$A$3:$A$5000),1))),\"Preço não registrado\")","v":""},"",null,null,"",""]
[null,null,"",null,"","",null,{"$f":"IFERROR(IF(D2260=\"\",\"\",INDEX(Entradas!$H$3:$H$5000,MATCH(A2260,IF(Entradas!$B$3:$B$5000=D2260,Entradas!$A$3:$A$5000),1))),\"Preço não registrado\")","v":""},"",null,null,"",""]
[null,null,"",null,"","",null,{"$f":"IFERROR(IF(D2261=\"\",\"\",INDEX(Entradas!$H$3:$H$5000,MATCH(A2261,IF(Entradas!$B$3:$B$5000=D2261,Entradas!$A$3:$A$5000),1))),\"Preço não registrado\")","v":""},"",null,null,"",""]
[null,null,"",null,"","",null,{"$f":"IFERROR(IF(D2262=\"\",\"\",INDEX(Entradas!$H$3:$H$5000,MATCH(A2262,IF(Entradas!$B$3:$B$5000=D2262,Entradas!$A$3:$A$5000),1))),\"Preço não registrado\")","v":""},"",null,null,"",""]
[null,null,"",null,"","",null,{"$f":"IFERROR(IF(D2263=\"\",\"\",INDEX(Entradas!$H$3:$H$5000,MATCH(A2263,IF(Entradas!$B$3:$B$5000=D2263,Entradas!$A$3:$A$5000),1))),\"Preço não registrado\")","v":""},"",null,null,"",""]
[null,null,"",null,"","",null,{"$f":"IFERROR(IF(D2264=\"\",\"\",INDEX(Entradas!$H$3:$H$5000,MATCH(A2264,IF(Entradas!$B$3:$B$5000=D2264,Entradas!$A$3:$A$5000),1))),\"Preço não registrado\")","v":""},"",null,null,"",""]
[null,null,"",null,"","",null,{"$f":"IFERROR(IF(D2265=\"\",\"\",INDEX(Entradas!$H$3:$H$5000,MATCH(A2265,IF(Entradas!$B$3:$B$5000=D2265,Entradas!$A$3:$A$5000),1))),\"Preço não registrado\")","v":""},"",null,null,"",""]
[null,null,"",null,"","",null,{"$f":"IFERROR(IF(D2266=\"\",\"\",INDEX(Entradas!$H$3:$H$5000,MATCH(A2266,IF(Entradas!$B$3:$B$5000=D2266,Entradas!$A$3:$A$5000),1))),\"Preço não registrado\")","v":""},"",null,null,"",""]
[null,null,"",null,"","",null,{"$f":"IFERROR(IF(D2267=\"\",\"\",INDEX(Entradas!$H$3:$H$5000,MATCH(A2267,IF(Entradas!$B$3:$B$5000=D2267,Entradas!$A$3:$A$5000),1))),\"Preço não registrado\")","v":""},"",null,null,"",""]
[null,null,"",null,"","",null,{"$f":"IFERROR(IF(D2268=\"\",\"\",INDEX(Entradas!$H$3:$H$5000,MATCH(A2268,IF(Entradas!$B$3:$B$5000=D2268,Entradas!$A$3:$A$5000),1))),\"Preço não registrado\")","v":""},"",null,null,"",""]
[null,null,"",null,"","",null,{"$f":"IFERROR(IF(D2269=\"\",\"\",INDEX(Entradas!$H$3:$H$5000,MATCH(A2269,IF(Entradas!$B$3:$B$5000=D2269,Entradas!$A$3:$A$5000),1))),\"Preço não registrado\")","v":""},"",null,null,"",""]
[null,null,"",null,"","",null,{"$f":"IFERROR(IF(D2270=\"\",\"\",INDEX(Entradas!$H$3:$H$5000,MATCH(A2270,IF(Entradas!$B$3:$B$5000=D2270,Entradas!$A$3:$A$5000),1))),\"Preço não registrado\")","v":""},"",null,null,"",""]
[null,null,"",null,"","",null,{"$f":"IFERROR(IF(D2271=\"\",\"\",INDEX(Entradas!$H$3:$H$5000,MATCH(A2271,IF(Entradas!$B$3:$B$5000=D2271,Entradas!$A$3:$A$5000),1))),\"Preço não registrado\")","v":""},"",null,null,"",""]
[null,null,"",null,"","",null,{"$f":"IFERROR(IF(D2272=\"\",\"\",INDEX(Entradas!$H$3:$H$5000,MATCH(A2272,IF(Entradas!$B$3:$B$5000=D2272,Entradas!$A$3:$A$5000),1))),\"Preço não registrado\")","v":""},"",null,null,"",""]
[null,null,"",null,"","",null,{"$f":"IFERROR(IF(D2273=\"\",\"\",INDEX(Entradas!$H$3:$H$5000,MATCH(A2273,IF(Entradas!$B$3:$B$5000=D2273,Entradas!$A$3:$A$5000),1))),\"Preço não registrado\")","v":""},"",null,null,"",""]
[null,null,"",null,"","",null,{"$f":"IFERROR(IF(D2274=\"\",\"\",INDEX(Entradas!$H$3:$H$5000,MATCH(A2274,IF(Entradas!$B$3:$B$5000=D2274,Entradas!$A$3:$A$5000),1))),\"Preço não registrado\")","v":""},"",null,null,"",""]
[null,null,"",null,"","",null,{"$f":"IFERROR(IF(D2275=\"\",\"\",INDEX(Entradas!$H$3:$H$5000,MATCH(A2275,IF(Entradas!$B$3:$B$5000=D2275,Entradas!$A$3:$A$5000),1))),\"Preço não registrado\")","v":""},"",null,null,"",""]
[null,null,"",null,"","",null,{"$f":"IFERROR(IF(D2276=\"\",\"\",INDEX(Entradas!$H$3:$H$5000,MATCH(A2276,IF(Entradas!$B$3:$B$5000=D2276,Entradas!$A$3:$A$5000),1))),\"Preço não registrado\")","v":""},"",null,null,"",""]
[null,null,"",null,"","",null,{"$f":"IFERROR(IF(D2277=\"\",\"\",INDEX(Entradas!$H$3:$H$5000,MATCH(A2277,IF(Entradas!$B$3:$B$5000=D2277,Entradas!$A$3:$A$5000),1))),\"Preço não registrado\")","v":""},"",null,null,"",""]
[null,null,"",null,"","",null,{"$f":"IFERROR(IF(D2278=\"\",\"\",INDEX(Entradas!$H$3:$H$5000,MATCH(A2278,IF(Entradas!$B$3:$B$5000=D2278,Entradas!$A$3:$A$5000),1))),\"Preço não registrado\")","v":""},"",null,null,"",""]
[null,null,"",null,"","",null,{"$f":"IFERROR(IF(D2279=\"\",\"\",INDEX(Entradas!$H$3:$H$5000,MATCH(A2279,IF(Entradas!$B$3:$B$5000=D2279,Entradas!$A$3:$A$5000),1))),\"Preço não registrado\")","v":""},"",null,null,"",""]
[null,null,"",null,"","",null,{"$f":"IFERROR(IF(D2280=\"\",\"\",INDEX(Entradas!$H$3:$H$5000,MATCH(A2280,IF(Entradas!$B$3:$B$5000=D2280,Entradas!$A$3:$A$5000),1))),\"Preço não registrado\")","v":""},"",null,null,"",""]
[null,null,"",null,"","",null,{"$f":"IFERROR(IF(D2281=\"\",\"\",INDEX(Entradas!$H$3:$H$5000,MATCH(A2281,IF(Entradas!$B$3:$B$5000=D2281,Entradas!$A$3:$A$5000),1))),\"Preço não registrado\")","v":""},"",null,null,"",""]
[null,null,"",null,"","",null,{"$f":"IFERROR(IF(D2282=\"\",\"\",INDEX(Entradas!$H$3:$H$5000,MATCH(A2282,IF(Entradas!$B$3:$B$5000=D2282,Entradas!$A$3:$A$5000),1))),\"Preço não registrado\")","v":""},"",null,null,"",""]
[null,null,"",null,"","",null,{"$f":"IFERROR(IF(D2283=\"\",\"\",INDEX(Entradas!$H$3:$H$5000,MATCH(A2283,IF(Entradas!$B$3:$B$5000=D2283,Entradas!$A$3:$A$5000),1))),\"Preço não registrado\")","v":""},"",null,null,"",""]
[null,null,"",null,"","",null,{"$f":"IFERROR(IF(D2284=\"\",\"\",INDEX(Entradas!$H$3:$H$5000,MATCH(A2284,IF(Entradas!$B$3:$B$5000=D2284,Entradas!$A$3:$A$5000),1))),\"Preço não registrado\")","v":""},"",null,null,"",""]
[null,null,"",null,"","",null,{"$f":"IFERROR(IF(D2285=\"\",\"\",INDEX(Entradas!$H$3:$H$5000,MATCH(A2285,IF(Entradas!$B$3:$B$5000=D2285,Entradas!$A$3:$A$5000),1))),\"Preço não registrado\")","v":""},"",null,null,"",""]
[null,null,"",null,"","",null,{"$f":"IFERROR(IF(D2286=\"\",\"\",INDEX(Entradas!$H$3:$H$5000,MATCH(A2286,IF(Entradas!$B$3:$B$5000=D2286,Entradas!$A$3:$A$5000),1))),\"Preço não registrado\")","v":""},"",null,null,"",""]
[null,null,"",null,"","",null,{"$f":"IFERROR(IF(D2287=\"\",\"\",INDEX(Entradas!$H$3:$H$5000,MATCH(A2287,IF(Entradas!$B$3:$B$5000=D2287,Entradas!$A$3:$A$5000),1))),\"Preço não registrado\")","v":""},"",null,null,"",""]
[null,null,"",null,"","",null,{"$f":"IFERROR(IF(D2288=\"\",\"\",INDEX(Entradas!$H$3:$H$5000,MATCH(A2288,IF(Entradas!$B$3:$B$5000=D2288,Entradas!$A$3:$A$5000),1))),\"Preço não registrado\")","v":""},"",null,null,"",""]
[null,null,"",null,"","",null,{"$f":"IFERROR(IF(D2289=\"\",\"\",INDEX(Entradas!$H$3:$H$5000,MATCH(A2289,IF(Entradas!$B$3:$B$5000=D2289,Entradas!$A$3:$A$5000),1))),\"Preço não registrado\")","v":""},"",null,null,"",""]
[null,null,"",null,"","",null,{"$f":"IFERROR(IF(D2290=\"\",\"\",INDEX(Entradas!$H$3:$H$5000,MATCH(A2290,IF(Entradas!$B$3:$B$5000=D2290,Entradas!$A$3:$A$5000),1))),\"Preço não registrado\")","v":""},"",null,null,"",""]
[null,null,"",null,"","",null,{"$f":"IFERROR(IF(D2291=\"\",\"\",INDEX(Entradas!$H$3:$H$5000,MATCH(A2291,IF(Entradas!$B$3:$B$5000=D2291,Entradas!$A$3:$A$5000),1))),\"Preço não registrado\")","v":""},"",null,null,"",""]
[null,null,"",null,"","",null,{"$f":"IFERROR(IF(D2292=\"\",\"\",INDEX(Entradas!$H$3:$H$5000,MATCH(A2292,IF(Entradas!$B$3:$B$5000=D2292,Entradas!$A$3:$A$5000),1))),\"Preço não registrado\")","v":""},"",null,null,"",""]
[null,null,"",null,"","",null,{"$f":"IFERROR(IF(D2293=\"\",\"\",INDEX(Entradas!$H$3:$H$5000,MATCH(A2293,IF(Entradas!$B$3:$B$5000=D2293,Entradas!$A$3:$A$5000),1))),\"Preço não registrado\")","v":""},"",null,null,"",""]
[null,null,"",null,"","",null,{"$f":"IFERROR(IF(D2294=\"\",\"\",INDEX(Entradas!$H$3:$H$5000,MATCH(A2294,IF(Entradas!$B$3:$B$5000=D2294,Entradas!$A$3:$A$5000),1))),\"Preço não registrado\")","v":""},"",null,null,"",""]
[null,null,"",null,"","",null,{"$f":"IFERROR(IF(D2295=\"\",\"\",INDEX(Entradas!$H$3:$H$5000,MATCH(A2295,IF(Entradas!$B$3:$B$5000=D2295,Entradas!$A$3:$A$5000),1))),\"Preço não registrado\")","v":""},"",null,null,"",""]
[null,null,"",null,"","",null,{"$f":"IFERROR(IF(D2296=\"\",\"\",INDEX(Entradas!$H$3:$H$5000,MATCH(A2296,IF(Entradas!$B$3:$B$5000=D2296,Entradas!$A$3:$A$5000),1))),\"Preço não registrado\")","v":""},"",null,null,"",""]
[null,null,"",null,"","",null,{"$f":"IFERROR(IF(D2297=\"\",\"\",INDEX(Entradas!$H$3:$H$5000,MATCH(A2297,IF(Entradas!$B$3:$B$5000=D2297,Entradas!$A$3:$A$5000),1))),\"Preço não registrado\")","v":""},"",null,null,"",""]
[null,null,"",null,"","",null,{"$f":"IFERROR(IF(D2298=\"\",\"\",INDEX(Entradas!$H$3:$H$5000,MATCH(A2298,IF(Entradas!$B$3:$B$5000=D2298,Entradas!$A$3:$A$5000),1))),\"Preço não registrado\")","v":""},"",null,null,"",""]
[null,null,"",null,"","",null,{"$f":"IFERROR(IF(D2299=\"\",\"\",INDEX(Entradas!$H$3:$H$5000,MATCH(A2299,IF(Entradas!$B$3:$B$5000=D2299,Entradas!$A$3:$A$5000),1))),\"Preço não registrado\")","v":""},"",null,null,"",""]
[null,null,"",null,"","",null,{"$f":"IFERROR(IF(D2300=\"\",\"\",INDEX(Entradas!$H$3:$H$5000,MATCH(A2300,IF(Entradas!$B$3:$B$5000=D2300,Entradas!$A$3:$A$5000),1))),\"Preço não registrado\")","v":""},"",null,null,"",""]
[null,null,"",null,"","",null,{"$f":"IFERROR(IF(D2301=\"\",\"\",INDEX(Entradas!$H$3:$H$5000,MATCH(A2301,IF(Entradas!$B$3:$B$5000=D2301,Entradas!$A$3:$A$5000),1))),\"Preço não registrado\")","v":""},"",null,null,"",""]
[null,null,"",null,"","",null,{"$f":"IFERROR(IF(D2302=\"\",\"\",INDEX(Entradas!$H$3:$H$5000,MATCH(A2302,IF(Entradas!$B$3:$B$5000=D2302,Entradas!$A$3:$A$5000),1))),\"Preço não registrado\")","v":""},"",null,null,"",""]
[null,null,"",null,"","",null,{"$f":"IFERROR(IF(D2303=\"\",\"\",INDEX(Entradas!$H$3:$H$5000,MATCH(A2303,IF(Entradas!$B$3:$B$5000=D2303,Entradas!$A$3:$A$5000),1))),\"Preço não registrado\")","v":""},"",null,null,"",""]
[null,null,"",null,"","",null,{"$f":"IFERROR(IF(D2304=\"\",\"\",INDEX(Entradas!$H$3:$H$5000,MATCH(A2304,IF(Entradas!$B$3:$B$5000=D2304,Entradas!$A$3:$A$5000),1))),\"Preço não registrado\")","v":""},"",null,null,"",""]
[null,null,"",null,"","",null,{"$f":"IFERROR(IF(D2305=\"\",\"\",INDEX(Entradas!$H$3:$H$5000,MATCH(A2305,IF(Entradas!$B$3:$B$5000=D2305,Entradas!$A$3:$A$5000),1))),\"Preço não registrado\")","v":""},"",null,null,"",""]
[null,null,"",null,"","",null,{"$f":"IFERROR(IF(D2306=\"\",\"\",INDEX(Entradas!$H$3:$H$5000,MATCH(A2306,IF(Entradas!$B$3:$B$5000=D2306,Entradas!$A$3:$A$5000),1))),\"Preço não registrado\")","v":""},"",null,null,"",""]
[null,null,{"$f":"IFERROR(IF(B2307=\"\",\"\",VLOOKUP(B2307,Clientes,2,FALSE)),\"\")","v":""},null,{"$f":"IF(D2307=\"\",\"\",VLOOKUP(D2307,Itens,2,FALSE))","v":""},{"$f":"IF(D2307=\"\",\"\",VLOOKUP(D2307,Itens,3,FALSE))","v":""},null,{"$f":"IFERROR(IF(D2307=\"\",\"\",INDEX(Entradas!$H$3:$H$5000,MATCH(A2307,IF(Entradas!$B$3:$B$5000=D2307,Entradas!$A$3:$A$5000),1))),\"Preço não registrado\")","v":""},"",null,null,"",""]
[null,null,"",null,"","",null,{"$f":"IFERROR(IF(D2308=\"\",\"\",INDEX(Entradas!$H$3:$H$5000,MATCH(A2308,IF(Entradas!$B$3:$B$5000=D2308,Entradas!$A$3:$A$5000),1))),\"Preço não registrado\")","v":""},{"$f":"IFERROR(G2308*H2308,\"\")","v":""},null,null,{"$f":"IF(K2308=\"\",\"\",HYPERLINK($P$13&K2308,\"Rastreie aqui\"))","v":""},{"$f":"IF(A2308=\"\",\"\",TEXT(A2308,\"mmmm\"))","v":""}]
[null,null,"",null,"","",null,{"$f":"IFERROR(IF(D2309=\"\",\"\",INDEX(Entradas!$H$3:$H$5000,MATCH(A2309,IF(Entradas!$B$3:$B$5000=D2309,Entradas!$A$3:$A$5000),1))),\"Preço não registrado\")","v":""},"",null,null,"",""]
[null,null,"",null,"","",null,{"$f":"IFERROR(IF(D2310=\"\",\"\",INDEX(Entradas!$H$3:$H$5000,MATCH(A2310,IF(Entradas!$B$3:$B$5000=D2310,Entradas!$A$3:$A$5000),1))),\"Preço não registrado\")","v":""},"",null,null,"",""]
[null,null,"",null,"","",null,{"$f":"IFERROR(IF(D2311=\"\",\"\",INDEX(Entradas!$H$3:$H$5000,MATCH(A2311,IF(Entradas!$B$3:$B$5000=D2311,Entradas!$A$3:$A$5000),1))),\"Preço não registrado\")","v":""},"",null,null,"",""]
[null,null,"",null,"","",null,{"$f":"IFERROR(IF(D2312=\"\",\"\",INDEX(Entradas!$H$3:$H$5000,MATCH(A2312,IF(Entradas!$B$3:$B$5000=D2312,Entradas!$A$3:$A$5000),1))),\"Preço não registrado\")","v":""},"",null,null,"",""]
[null,null,"",null,"","",null,{"$f":"IFERROR(IF(D2313=\"\",\"\",INDEX(Entradas!$H$3:$H$5000,MATCH(A2313,IF(Entradas!$B$3:$B$5000=D2313,Entradas!$A$3:$A$5000),1))),\"Preço não registrado\")","v":""},"",null,null,"",""]
[null,null,"",null,"","",null,{"$f":"IFERROR(IF(D2314=\"\",\"\",INDEX(Entradas!$H$3:$H$5000,MATCH(A2314,IF(Entradas!$B$3:$B$5000=D2314,Entradas!$A$3:$A$5000),1))),\"Preço não registrado\")","v":""},"",null,null,"",""]
[null,null,"",null,"","",null,{"$f":"IFERROR(IF(D2315=\"\",\"\",INDEX(Entradas!$H$3:$H$5000,MATCH(A2315,IF(Entradas!$B$3:$B$5000=D2315,Entradas!$A$3:$A$5000),1))),\"Preço não registrado\")","v":""},"",null,null,"",""]
[null,null,"",null,"","",null,{"$f":"IFERROR(IF(D2316=\"\",\"\",INDEX(Entradas!$H$3:$H$5000,MATCH(A2316,IF(Entradas!$B$3:$B$5000=D2316,Entradas!$A$3:$A$5000),1))),\"Preço não registrado\")","v":""},"",null,null,"",""]
[null,null,"",null,"","",null,{"$f":"IFERROR(IF(D2317=\"\",\"\",INDEX(Entradas!$H$3:$H$5000,MATCH(A2317,IF(Entradas!$B$3:$B$5000=D2317,Entradas!$A$3:$A$5000),1))),\"Preço não registrado\")","v":""},"",null,null,"",""]
[null,null,"",null,"","",null,{"$f":"IFERROR(IF(D2318=\"\",\"\",INDEX(Entradas!$H$3:$H$5000,MATCH(A2318,IF(Entradas!$B$3:$B$5000=D2318,Entradas!$A$3:$A$5000),1))),\"Preço não registrado\")","v":""},"",null,null,"",""]
[null,null,"",null,"","",null,{"$f":"IFERROR(IF(D2319=\"\",\"\",INDEX(Entradas!$H$3:$H$5000,MATCH(A2319,IF(Entradas!$B$3:$B$5000=D2319,Entradas!$A$3:$A$5000),1))),\"Preço não registrado\")","v":""},"",null,null,"",""]
[null,null,"",null,"","",null,{"$f":"IFERROR(IF(D2320=\"\",\"\",INDEX(Entradas!$H$3:$H$5000,MATCH(A2320,IF(Entradas!$B$3:$B$5000=D2320,Entradas!$A$3:$A$5000),1))),\"Preço não registrado\")","v":""},"",null,null,"",""]
[null,null,"",null,"","",null,{"$f":"IFERROR(IF(D2321=\"\",\"\",INDEX(Entradas!$H$3:$H$5000,MATCH(A2321,IF(Entradas!$B$3:$B$5000=D2321,Entradas!$A$3:$A$5000),1))),\"Preço não registrado\")","v":""},"",null,null,"",""]
[null,null,"",null,"","",null,{"$f":"IFERROR(IF(D2322=\"\",\"\",INDEX(Entradas!$H$3:$H$5000,MATCH(A2322,IF(Entradas!$B$3:$B$5000=D2322,Entradas!$A$3:$A$5000),1))),\"Preço não registrado\")","v":""},"",null,null,"",""]
[null,null,"",null,"","",null,{"$f":"IFERROR(IF(D2323=\"\",\"\",INDEX(Entradas!$H$3:$H$5000,MATCH(A2323,IF(Entradas!$B$3:$B$5000=D2323,Entradas!$A$3:$A$5000),1))),\"Preço não registrado\")","v":""},"",null,null,"",""]
[null,null,"",null,"","",null,{"$f":"IFERROR(IF(D2324=\"\",\"\",INDEX(Entradas!$H$3:$H$5000,MATCH(A2324,IF(Entradas!$B$3:$B$5000=D2324,Entradas!$A$3:$A$5000),1))),\"Preço não registrado\")","v":""},"",null,null,"",""]
[null,null,"",null,"","",null,{"$f":"IFERROR(IF(D2325=\"\",\"\",INDEX(Entradas!$H$3:$H$5000,MATCH(A2325,IF(Entradas!$B$3:$B$5000=D2325,Entradas!$A$3:$A$5000),1))),\"Preço não registrado\")","v":""},"",null,null,"",""]
[null,null,"",null,"","",null,{"$f":"IFERROR(IF(D2326=\"\",\"\",INDEX(Entradas!$H$3:$H$5000,MATCH(A2326,IF(Entradas!$B$3:$B$5000=D2326,Entradas!$A$3:$A$5000),1))),\"Preço não registrado\")","v":""},"",null,null,"",""]
[null,null,"",null,"","",null,{"$f":"IFERROR(IF(D2327=\"\",\"\",INDEX(Entradas!$H$3:$H$5000,MATCH(A2327,IF(Entradas!$B$3:$B$5000=D2327,Entradas!$A$3:$A$5000),1))),\"Preço não registrado\")","v":""},"",null,null,"",""]
[null,null,"",null,"","",null,{"$f":"IFERROR(IF(D2328=\"\",\"\",INDEX(Entradas!$H$3:$H$5000,MATCH(A2328,IF(Entradas!$B$3:$B$5000=D2328,Entradas!$A$3:$A$5000),1))),\"Preço não registrado\")","v":""},"",null,null,"",""]
[null,null,"",null,"","",null,{"$f":"IFERROR(IF(D2329=\"\",\"\",INDEX(Entradas!$H$3:$H$5000,MATCH(A2329,IF(Entradas!$B$3:$B$5000=D2329,Entradas!$A$3:$A$5000),1))),\"Preço não registrado\")","v":""},"",null,null,"",""]
[null,null,"",null,"","",null,{"$f":"IFERROR(IF(D2330=\"\",\"\",INDEX(Entradas!$H$3:$H$5000,MATCH(A2330,IF(Entradas!$B$3:$B$5000=D2330,Entradas!$A$3:$A$5000),1))),\"Preço não registrado\")","v":""},"",null,null,"",""]
[null,null,"",null,"","",null,{"$f":"IFERROR(IF(D2331=\"\",\"\",INDEX(Entradas!$H$3:$H$5000,MATCH(A2331,IF(Entradas!$B$3:$B$5000=D2331,Entradas!$A$3:$A$5000),1))),\"Preço não registrado\")","v":""},"",null,null,"",""]
[null,null,"",null,"","",null,{"$f":"IFERROR(IF(D2332=\"\",\"\",INDEX(Entradas!$H$3:$H$5000,MATCH(A2332,IF(Entradas!$B$3:$B$5000=D2332,Entradas!$A$3:$A$5000),1))),\"Preço não registrado\")","v":""},"",null,null,"",""]
[null,null,"",null,"","",null,{"$f":"IFERROR(IF(D2333=\"\",\"\",INDEX(Entradas!$H$3:$H$5000,MATCH(A2333,IF(Entradas!$B$3:$B$5000=D2333,Entradas!$A$3:$A$5000),1))),\"Preço não registrado\")","v":""},"",null,null,"",""]
[null,null,"",null,"","",null,{"$f":"IFERROR(IF(D2334=\"\",\"\",INDEX(Entradas!$H$3:$H$5000,MATCH(A2334,IF(Entradas!$B$3:$B$5000=D2334,Entradas!$A$3:$A$5000),1))),\"Preço não registrado\")","v":""},"",null,null,"",""]
[null,null,"",null,"","",null,{"$f":"IFERROR(IF(D2335=\"\",\"\",INDEX(Entradas!$H$3:$H$5000,MATCH(A2335,IF(Entradas!$B$3:$B$5000=D2335,Entradas!$A$3:$A$5000),1))),\"Preço não registrado\")","v":""},"",null,null,"",""]
[null,null,"",null,"","",null,{"$f":"IFERROR(IF(D2336=\"\",\"\",INDEX(Entradas!$H$3:$H$5000,MATCH(A2336,IF(Entradas!$B$3:$B$5000=D2336,Entradas!$A$3:$A$5000),1))),\"Preço não registrado\")","v":""},"",null,null,"",""]
[null,null,"",null,"","",null,{"$f":"IFERROR(IF(D2337=\"\",\"\",INDEX(Entradas!$H$3:$H$5000,MATCH(A2337,IF(Entradas!$B$3:$B$5000=D2337,Entradas!$A$3:$A$5000),1))),\"Preço não registrado\")","v":""},"",null,null,"",""]
[null,null,"",null,"","",null,{"$f":"IFERROR(IF(D2338=\"\",\"\",INDEX(Entradas!$H$3:$H$5000,MATCH(A2338,IF(Entradas!$B$3:$B$5000=D2338,Entradas!$A$3:$A$5000),1))),\"Preço não registrado\")","v":""},"",null,null,"",""]
[null,null,"",null,"","",null,{"$f":"IFERROR(IF(D2339=\"\",\"\",INDEX(Entradas!$H$3:$H$5000,MATCH(A2339,IF(Entradas!$B$3:$B$5000=D2339,Entradas!$A$3:$A$5000),1))),\"Preço não registrado\")","v":""},"",null,null,"",""]
[null,null,"",null,"","",null,{"$f":"IFERROR(IF(D2340=\"\",\"\",INDEX(Entradas!$H$3:$H$5000,MATCH(A2340,IF(Entradas!$B$3:$B$5000=D2340,Entradas!$A$3:$A$5000),1))),\"Preço não registrado\")","v":""},"",null,null,"",""]
[null,null,"",null,"","",null,{"$f":"IFERROR(IF(D2341=\"\",\"\",INDEX(Entradas!$H$3:$H$5000,MATCH(A2341,IF(Entradas!$B$3:$B$5000=D2341,Entradas!$A$3:$A$5000),1))),\"Preço não registrado\")","v":""},"",null,null,"",""]
[null,null,"",null,"","",null,{"$f":"IFERROR(IF(D2342=\"\",\"\",INDEX(Entradas!$H$3:$H$5000,MATCH(A2342,IF(Entradas!$B$3:$B$5000=D2342,Entradas!$A$3:$A$5000),1))),\"Preço não registrado\")","v":""},"",null,null,"",""]
[null,null,"",null,"","",null,{"$f":"IFERROR(IF(D2343=\"\",\"\",INDEX(Entradas!$H$3:$H$5000,MATCH(A2343,IF(Entradas!$B$3:$B$5000=D2343,Entradas!$A$3:$A$5000),1))),\"Preço não registrado\")","v":""},"",null,null,"",""]
[null,null,"",null,"","",null,{"$f":"IFERROR(IF(D2344=\"\",\"\",INDEX(Entradas!$H$3:$H$5000,MATCH(A2344,IF(Entradas!$B$3:$B$5000=D2344,Entradas!$A$3:$A$5000),1))),\"Preço não registrado\")","v":""},"",null,null,"",""]
[null,null,"",null,"","",null,{"$f":"IFERROR(IF(D2345=\"\",\"\",INDEX(Entradas!$H$3:$H$5000,MATCH(A2345,IF(Entradas!$B$3:$B$5000=D2345,Entradas!$A$3:$A$5000),1))),\"Preço não registrado\")","v":""},"",null,null,"",""]
[null,null,"",null,"","",null,{"$f":"IFERROR(IF(D2346=\"\",\"\",INDEX(Entradas!$H$3:$H$5000,MATCH(A2346,IF(Entradas!$B$3:$B$5000=D2346,Entradas!$A$3:$A$5000),1))),\"Preço não registrado\")","v":""},"",null,null,"",""]
[null,null,"",null,"","",null,{"$f":"IFERROR(IF(D2347=\"\",\"\",INDEX(Entradas!$H$3:$H$5000,MATCH(A2347,IF(Entradas!$B$3:$B$5000=D2347,Entradas!$A$3:$A$5000),1))),\"Preço não registrado\")","v":""},"",null,null,"",""]
[null,null,"",null,"","",null,{"$f":"IFERROR(IF(D2348=\"\",\"\",INDEX(Entradas!$H$3:$H$5000,MATCH(A2348,IF(Entradas!$B$3:$B$5000=D2348,Entradas!$A$3:$A$5000),1))),\"Preço não registrado\")","v":""},"",null,null,"",""]
[null,null,"",null,"","",null,{"$f":"IFERROR(IF(D2349=\"\",\"\",INDEX(Entradas!$H$3:$H$5000,MATCH(A2349,IF(Entradas!$B$3:$B$5000=D2349,Entradas!$A$3:$A$5000),1))),\"Preço não registrado\")","v":""},"",null,null,"",""]
[null,null,"",null,"","",null,{"$f":"IFERROR(IF(D2350=\"\",\"\",INDEX(Entradas!$H$3:$H$5000,MATCH(A2350,IF(Entradas!$B$3:$B$5000=D2350,Entradas!$A$3:$A$5000),1))),\"Preço não registrado\")","v":""},"",null,null,"",""]
[null,null,"",null,"","",null,{"$f":"IFERROR(IF(D2351=\"\",\"\",INDEX(Entradas!$H$3:$H$5000,MATCH(A2351,IF(Entradas!$B$3:$B$5000=D2351,Entradas!$A$3:$A$5000),1))),\"Preço não registrado\")","v":""},"",null,null,"",""]
[null,null,"",null,"","",null,{"$f":"IFERROR(IF(D2352=\"\",\"\",INDEX(Entradas!$H$3:$H$5000,MATCH(A2352,IF(Entradas!$B$3:$B$5000=D2352,Entradas!$A$3:$A$5000),1))),\"Preço não registrado\")","v":""},"",null,null,"",""]
[null,null,"",null,"","",null,{"$f":"IFERROR(IF(D2353=\"\",\"\",INDEX(Entradas!$H$3:$H$5000,MATCH(A2353,IF(Entradas!$B$3:$B$5000=D2353,Entradas!$A$3:$A$5000),1))),\"Preço não registrado\")","v":""},"",null,null,"",""]
[null,null,"",null,"","",null,{"$f":"IFERROR(IF(D2354=\"\",\"\",INDEX(Entradas!$H$3:$H$5000,MATCH(A2354,IF(Entradas!$B$3:$B$5000=D2354,Entradas!$A$3:$A$5000),1))),\"Preço não registrado\")","v":""},"",null,null,"",""]
[null,null,"",null,"","",null,{"$f":"IFERROR(IF(D2355=\"\",\"\",INDEX(Entradas!$H$3:$H$5000,MATCH(A2355,IF(Entradas!$B$3:$B$5000=D2355,Entradas!$A$3:$A$5000),1))),\"Preço não registrado\")","v":""},"",null,null,"",""]
[null,null,"",null,"","",null,{"$f":"IFERROR(IF(D2356=\"\",\"\",INDEX(Entradas!$H$3:$H$5000,MATCH(A2356,IF(Entradas!$B$3:$B$5000=D2356,Entradas!$A$3:$A$5000),1))),\"Preço não registrado\")","v":""},"",null,null,"",""]
[null,null,"",null,"","",null,{"$f":"IFERROR(IF(D2357=\"\",\"\",INDEX(Entradas!$H$3:$H$5000,MATCH(A2357,IF(Entradas!$B$3:$B$5000=D2357,Entradas!$A$3:$A$5000),1))),\"Preço não registrado\")","v":""},"",null,null,"",""]
[null,null,"",null,"","",null,{"$f":"IFERROR(IF(D2358=\"\",\"\",INDEX(Entradas!$H$3:$H$5000,MATCH(A2358,IF(Entradas!$B$3:$B$5000=D2358,Entradas!$A$3:$A$5000),1))),\"Preço não registrado\")","v":""},"",null,null,"",""]
[null,null,"",null,"","",null,{"$f":"IFERROR(IF(D2359=\"\",\"\",INDEX(Entradas!$H$3:$H$5000,MATCH(A2359,IF(Entradas!$B$3:$B$5000=D2359,Entradas!$A$3:$A$5000),1))),\"Preço não registrado\")","v":""},"",null,null,"",""]
[null,null,"",null,"","",null,{"$f":"IFERROR(IF(D2360=\"\",\"\",INDEX(Entradas!$H$3:$H$5000,MATCH(A2360,IF(Entradas!$B$3:$B$5000=D2360,Entradas!$A$3:$A$5000),1))),\"Preço não registrado\")","v":""},"",null,null,"",""]
[null,null,"",null,"","",null,{"$f":"IFERROR(IF(D2361=\"\",\"\",INDEX(Entradas!$H$3:$H$5000,MATCH(A2361,IF(Entradas!$B$3:$B$5000=D2361,Entradas!$A$3:$A$5000),1))),\"Preço não registrado\")","v":""},"",null,null,"",""]
[null,null,"",null,"","",null,{"$f":"IFERROR(IF(D2362=\"\",\"\",INDEX(Entradas!$H$3:$H$5000,MATCH(A2362,IF(Entradas!$B$3:$B$5000=D2362,Entradas!$A$3:$A$5000),1))),\"Preço não registrado\")","v":""},"",null,null,"",""]
[null,null,"",null,"","",null,{"$f":"IFERROR(IF(D2363=\"\",\"\",INDEX(Entradas!$H$3:$H$5000,MATCH(A2363,IF(Entradas!$B$3:$B$5000=D2363,Entradas!$A$3:$A$5000),1))),\"Preço não registrado\")","v":""},"",null,null,"",""]
[null,null,"",null,"","",null,{"$f":"IFERROR(IF(D2364=\"\",\"\",INDEX(Entradas!$H$3:$H$5000,MATCH(A2364,IF(Entradas!$B$3:$B$5000=D2364,Entradas!$A$3:$A$5000),1))),\"Preço não registrado\")","v":""},"",null,null,"",""]
[null,null,"",null,"","",null,{"$f":"IFERROR(IF(D2365=\"\",\"\",INDEX(Entradas!$H$3:$H$5000,MATCH(A2365,IF(Entradas!$B$3:$B$5000=D2365,Entradas!$A$3:$A$5000),1))),\"Preço não registrado\")","v":""},"",null,null,"",""]
[null,null,"",null,"","",null,{"$f":"IFERROR(IF(D2366=\"\",\"\",INDEX(Entradas!$H$3:$H$5000,MATCH(A2366,IF(Entradas!$B$3:$B$5000=D2366,Entradas!$A$3:$A$5000),1))),\"Preço não registrado\")","v":""},"",null,null,"",""]
[null,null,"",null,"","",null,{"$f":"IFERROR(IF(D2367=\"\",\"\",INDEX(Entradas!$H$3:$H$5000,MATCH(A2367,IF(Entradas!$B$3:$B$5000=D2367,Entradas!$A$3:$A$5000),1))),\"Preço não registrado\")","v":""},"",null,null,"",""]
[null,null,"",null,"","",null,{"$f":"IFERROR(IF(D2368=\"\",\"\",INDEX(Entradas!$H$3:$H$5000,MATCH(A2368,IF(Entradas!$B$3:$B$5000=D2368,Entradas!$A$3:$A$5000),1))),\"Preço não registrado\")","v":""},"",null,null,"",""]
[null,null,"",null,"","",null,{"$f":"IFERROR(IF(D2369=\"\",\"\",INDEX(Entradas!$H$3:$H$5000,MATCH(A2369,IF(Entradas!$B$3:$B$5000=D2369,Entradas!$A$3:$A$5000),1))),\"Preço não registrado\")","v":""},"",null,null,"",""]
[null,null,"",null,"","",null,{"$f":"IFERROR(IF(D2370=\"\",\"\",INDEX(Entradas!$H$3:$H$5000,MATCH(A2370,IF(Entradas!$B$3:$B$5000=D2370,Entradas!$A$3:$A$5000),1))),\"Preço não registrado\")","v":""},"",null,null,"",""]
[null,null,{"$f":"IFERROR(IF(B2371=\"\",\"\",VLOOKUP(B2371,Clientes,2,FALSE)),\"\")","v":""},null,{"$f":"IF(D2371=\"\",\"\",VLOOKUP(D2371,Itens,2,FALSE))","v":""},{"$f":"IF(D2371=\"\",\"\",VLOOKUP(D2371,Itens,3,FALSE))","v":""},null,{"$f":"IFERROR(IF(D2371=\"\",\"\",INDEX(Entradas!$H$3:$H$5000,MATCH(A2371,IF(Entradas!$B$3:$B$5000=D2371,Entradas!$A$3:$A$5000),1))),\"Preço não registrado\")","v":""},"",null,null,"",""]
[null,null,"",null,"","",null,{"$f":"IFERROR(IF(D2372=\"\",\"\",INDEX(Entradas!$H$3:$H$5000,MATCH(A2372,IF(Entradas!$B$3:$B$5000=D2372,Entradas!$A$3:$A$5000),1))),\"Preço não registrado\")","v":""},{"$f":"IFERROR(G2372*H2372,\"\")","v":""},null,null,{"$f":"IF(K2372=\"\",\"\",HYPERLINK($P$13&K2372,\"Rastreie aqui\"))","v":""},{"$f":"IF(A2372=\"\",\"\",TEXT(A2372,\"mmmm\"))","v":""}]
[null,null,"",null,"","",null,{"$f":"IFERROR(IF(D2373=\"\",\"\",INDEX(Entradas!$H$3:$H$5000,MATCH(A2373,IF(Entradas!$B$3:$B$5000=D2373,Entradas!$A$3:$A$5000),1))),\"Preço não registrado\")","v":""},"",null,null,"",""]
[null,null,"",null,"","",null,{"$f":"IFERROR(IF(D2374=\"\",\"\",INDEX(Entradas!$H$3:$H$5000,MATCH(A2374,IF(Entradas!$B$3:$B$5000=D2374,Entradas!$A$3:$A$5000),1))),\"Preço não registrado\")","v":""},"",null,null,"",""]
[null,null,"",null,"","",null,{"$f":"IFERROR(IF(D2375=\"\",\"\",INDEX(Entradas!$H$3:$H$5000,MATCH(A2375,IF(Entradas!$B$3:$B$5000=D2375,Entradas!$A$3:$A$5000),1))),\"Preço não registrado\")","v":""},"",null,null,"",""]
[null,null,"",null,"","",null,{"$f":"IFERROR(IF(D2376=\"\",\"\",INDEX(Entradas!$H$3:$H$5000,MATCH(A2376,IF(Entradas!$B$3:$B$5000=D2376,Entradas!$A$3:$A$5000),1))),\"Preço não registrado\")","v":""},"",null,null,"",""]
[null,null,"",null,"","",null,{"$f":"IFERROR(IF(D2377=\"\",\"\",INDEX(Entradas!$H$3:$H$5000,MATCH(A2377,IF(Entradas!$B$3:$B$5000=D2377,Entradas!$A$3:$A$5000),1))),\"Preço não registrado\")","v":""},"",null,null,"",""]
[null,null,"",null,"","",null,{"$f":"IFERROR(IF(D2378=\"\",\"\",INDEX(Entradas!$H$3:$H$5000,MATCH(A2378,IF(Entradas!$B$3:$B$5000=D2378,Entradas!$A$3:$A$5000),1))),\"Preço não registrado\")","v":""},"",null,null,"",""]
[null,null,"",null,"","",null,{"$f":"IFERROR(IF(D2379=\"\",\"\",INDEX(Entradas!$H$3:$H$5000,MATCH(A2379,IF(Entradas!$B$3:$B$5000=D2379,Entradas!$A$3:$A$5000),1))),\"Preço não registrado\")","v":""},"",null,null,"",""]
[null,null,"",null,"","",null,{"$f":"IFERROR(IF(D2380=\"\",\"\",INDEX(Entradas!$H$3:$H$5000,MATCH(A2380,IF(Entradas!$B$3:$B$5000=D2380,Entradas!$A$3:$A$5000),1))),\"Preço não registrado\")","v":""},"",null,null,"",""]
[null,null,"",null,"","",null,{"$f":"IFERROR(IF(D2381=\"\",\"\",INDEX(Entradas!$H$3:$H$5000,MATCH(A2381,IF(Entradas!$B$3:$B$5000=D2381,Entradas!$A$3:$A$5000),1))),\"Preço não registrado\")","v":""},"",null,null,"",""]
[null,null,"",null,"","",null,{"$f":"IFERROR(IF(D2382=\"\",\"\",INDEX(Entradas!$H$3:$H$5000,MATCH(A2382,IF(Entradas!$B$3:$B$5000=D2382,Entradas!$A$3:$A$5000),1))),\"Preço não registrado\")","v":""},"",null,null,"",""]
[null,null,"",null,"","",null,{"$f":"IFERROR(IF(D2383=\"\",\"\",INDEX(Entradas!$H$3:$H$5000,MATCH(A2383,IF(Entradas!$B$3:$B$5000=D2383,Entradas!$A$3:$A$5000),1))),\"Preço não registrado\")","v":""},"",null,null,"",""]
[null,null,"",null,"","",null,{"$f":"IFERROR(IF(D2384=\"\",\"\",INDEX(Entradas!$H$3:$H$5000,MATCH(A2384,IF(Entradas!$B$3:$B$5000=D2384,Entradas!$A$3:$A$5000),1))),\"Preço não registrado\")","v":""},"",null,null,"",""]
[null,null,"",null,"","",null,{"$f":"IFERROR(IF(D2385=\"\",\"\",INDEX(Entradas!$H$3:$H$5000,MATCH(A2385,IF(Entradas!$B$3:$B$5000=D2385,Entradas!$A$3:$A$5000),1))),\"Preço não registrado\")","v":""},"",null,null,"",""]
[null,null,"",null,"","",null,{"$f":"IFERROR(IF(D2386=\"\",\"\",INDEX(Entradas!$H$3:$H$5000,MATCH(A2386,IF(Entradas!$B$3:$B$5000=D2386,Entradas!$A$3:$A$5000),1))),\"Preço não registrado\")","v":""},"",null,null,"",""]
[null,null,"",null,"","",null,{"$f":"IFERROR(IF(D2387=\"\",\"\",INDEX(Entradas!$H$3:$H$5000,MATCH(A2387,IF(Entradas!$B$3:$B$5000=D2387,Entradas!$A$3:$A$5000),1))),\"Preço não registrado\")","v":""},"",null,null,"",""]
[null,null,"",null,"","",null,{"$f":"IFERROR(IF(D2388=\"\",\"\",INDEX(Entradas!$H$3:$H$5000,MATCH(A2388,IF(Entradas!$B$3:$B$5000=D2388,Entradas!$A$3:$A$5000),1))),\"Preço não registrado\")","v":""},"",null,null,"",""]
[null,null,"",null,"","",null,{"$f":"IFERROR(IF(D2389=\"\",\"\",INDEX(Entradas!$H$3:$H$5000,MATCH(A2389,IF(Entradas!$B$3:$B$5000=D2389,Entradas!$A$3:$A$5000),1))),\"Preço não registrado\")","v":""},"",null,null,"",""]
[null,null,"",null,"","",null,{"$f":"IFERROR(IF(D2390=\"\",\"\",INDEX(Entradas!$H$3:$H$5000,MATCH(A2390,IF(Entradas!$B$3:$B$5000=D2390,Entradas!$A$3:$A$5000),1))),\"Preço não registrado\")","v":""},"",null,null,"",""]
[null,null,"",null,"","",null,{"$f":"IFERROR(IF(D2391=\"\",\"\",INDEX(Entradas!$H$3:$H$5000,MATCH(A2391,IF(Entradas!$B$3:$B$5000=D2391,Entradas!$A$3:$A$5000),1))),\"Preço não registrado\")","v":""},"",null,null,"",""]
[null,null,"",null,"","",null,{"$f":"IFERROR(IF(D2392=\"\",\"\",INDEX(Entradas!$H$3:$H$5000,MATCH(A2392,IF(Entradas!$B$3:$B$5000=D2392,Entradas!$A$3:$A$5000),1))),\"Preço não registrado\")","v":""},"",null,null,"",""]
[null,null,"",null,"","",null,{"$f":"IFERROR(IF(D2393=\"\",\"\",INDEX(Entradas!$H$3:$H$5000,MATCH(A2393,IF(Entradas!$B$3:$B$5000=D2393,Entradas!$A$3:$A$5000),1))),\"Preço não registrado\")","v":""},"",null,null,"",""]
[null,null,"",null,"","",null,{"$f":"IFERROR(IF(D2394=\"\",\"\",INDEX(Entradas!$H$3:$H$5000,MATCH(A2394,IF(Entradas!$B$3:$B$5000=D2394,Entradas!$A$3:$A$5000),1))),\"Preço não registrado\")","v":""},"",null,null,"",""]
[null,null,"",null,"","",null,{"$f":"IFERROR(IF(D2395=\"\",\"\",INDEX(Entradas!$H$3:$H$5000,MATCH(A2395,IF(Entradas!$B$3:$B$5000=D2395,Entradas!$A$3:$A$5000),1))),\"Preço não registrado\")","v":""},"",null,null,"",""]
[null,null,"",null,"","",null,{"$f":"IFERROR(IF(D2396=\"\",\"\",INDEX(Entradas!$H$3:$H$5000,MATCH(A2396,IF(Entradas!$B$3:$B$5000=D2396,Entradas!$A$3:$A$5000),1))),\"Preço não registrado\")","v":""},"",null,null,"",""]
[null,null,"",null,"","",null,{"$f":"IFERROR(IF(D2397=\"\",\"\",INDEX(Entradas!$H$3:$H$5000,MATCH(A2397,IF(Entradas!$B$3:$B$5000=D2397,Entradas!$A$3:$A$5000),1))),\"Preço não registrado\")","v":""},"",null,null,"",""]
[null,null,"",null,"","",null,{"$f":"IFERROR(IF(D2398=\"\",\"\",INDEX(Entradas!$H$3:$H$5000,MATCH(A2398,IF(Entradas!$B$3:$B$5000=D2398,Entradas!$A$3:$A$5000),1))),\"Preço não registrado\")","v":""},"",null,null,"",""]
[null,null,"",null,"","",null,{"$f":"IFERROR(IF(D2399=\"\",\"\",INDEX(Entradas!$H$3:$H$5000,MATCH(A2399,IF(Entradas!$B$3:$B$5000=D2399,Entradas!$A$3:$A$5000),1))),\"Preço não registrado\")","v":""},"",null,null,"",""]
[null,null,"",null,"","",null,{"$f":"IFERROR(IF(D2400=\"\",\"\",INDEX(Entradas!$H$3:$H$5000,MATCH(A2400,IF(Entradas!$B$3:$B$5000=D2400,Entradas!$A$3:$A$5000),1))),\"Preço não registrado\")","v":""},"",null,null,"",""]
[null,null,"",null,"","",null,{"$f":"IFERROR(IF(D2401=\"\",\"\",INDEX(Entradas!$H$3:$H$5000,MATCH(A2401,IF(Entradas!$B$3:$B$5000=D2401,Entradas!$A$3:$A$5000),1))),\"Preço não registrado\")","v":""},"",null,null,"",""]
[null,null,"",null,"","",null,{"$f":"IFERROR(IF(D2402=\"\",\"\",INDEX(Entradas!$H$3:$H$5000,MATCH(A2402,IF(Entradas!$B$3:$B$5000=D2402,Entradas!$A$3:$A$5000),1))),\"Preço não registrado\")","v":""},"",null,null,"",""]
[null,null,"",null,"","",null,{"$f":"IFERROR(IF(D2403=\"\",\"\",INDEX(Entradas!$H$3:$H$5000,MATCH(A2403,IF(Entradas!$B$3:$B$5000=D2403,Entradas!$A$3:$A$5000),1))),\"Preço não registrado\")","v":""},"",null,null,"",""]
[null,null,"",null,"","",null,{"$f":"IFERROR(IF(D2404=\"\",\"\",INDEX(Entradas!$H$3:$H$5000,MATCH(A2404,IF(Entradas!$B$3:$B$5000=D2404,Entradas!$A$3:$A$5000),1))),\"Preço não registrado\")","v":""},"",null,null,"",""]
[null,null,"",null,"","",null,{"$f":"IFERROR(IF(D2405=\"\",\"\",INDEX(Entradas!$H$3:$H$5000,MATCH(A2405,IF(Entradas!$B$3:$B$5000=D2405,Entradas!$A$3:$A$5000),1))),\"Preço não registrado\")","v":""},"",null,null,"",""]
[null,null,"",null,"","",null,{"$f":"IFERROR(IF(D2406=\"\",\"\",INDEX(Entradas!$H$3:$H$5000,MATCH(A2406,IF(Entradas!$B$3:$B$5000=D2406,Entradas!$A$3:$A$5000),1))),\"Preço não registrado\")","v":""},"",null,null,"",""]
[null,null,"",null,"","",null,{"$f":"IFERROR(IF(D2407=\"\",\"\",INDEX(Entradas!$H$3:$H$5000,MATCH(A2407,IF(Entradas!$B$3:$B$5000=D2407,Entradas!$A$3:$A$5000),1))),\"Preço não registrado\")","v":""},"",null,null,"",""]
[null,null,"",null,"","",null,{"$f":"IFERROR(IF(D2408=\"\",\"\",INDEX(Entradas!$H$3:$H$5000,MATCH(A2408,IF(Entradas!$B$3:$B$5000=D2408,Entradas!$A$3:$A$5000),1))),\"Preço não registrado\")","v":""},"",null,null,"",""]
[null,null,"",null,"","",null,{"$f":"IFERROR(IF(D2409=\"\",\"\",INDEX(Entradas!$H$3:$H$5000,MATCH(A2409,IF(Entradas!$B$3:$B$5000=D2409,Entradas!$A$3:$A$5000),1))),\"Preço não registrado\")","v":""},"",null,null,"",""]
[null,null,"",null,"","",null,{"$f":"IFERROR(IF(D2410=\"\",\"\",INDEX(Entradas!$H$3:$H$5000,MATCH(A2410,IF(Entradas!$B$3:$B$5000=D2410,Entradas!$A$3:$A$5000),1))),\"Preço não registrado\")","v":""},"",null,null,"",""]
[null,null,"",null,"","",null,{"$f":"IFERROR(IF(D2411=\"\",\"\",INDEX(Entradas!$H$3:$H$5000,MATCH(A2411,IF(Entradas!$B$3:$B$5000=D2411,Entradas!$A$3:$A$5000),1))),\"Preço não registrado\")","v":""},"",null,null,"",""]
[null,null,"",null,"","",null,{"$f":"IFERROR(IF(D2412=\"\",\"\",INDEX(Entradas!$H$3:$H$5000,MATCH(A2412,IF(Entradas!$B$3:$B$5000=D2412,Entradas!$A$3:$A$5000),1))),\"Preço não registrado\")","v":""},"",null,null,"",""]
[null,null,"",null,"","",null,{"$f":"IFERROR(IF(D2413=\"\",\"\",INDEX(Entradas!$H$3:$H$5000,MATCH(A2413,IF(Entradas!$B$3:$B$5000=D2413,Entradas!$A$3:$A$5000),1))),\"Preço não registrado\")","v":""},"",null,null,"",""]
[null,null,"",null,"","",null,{"$f":"IFERROR(IF(D2414=\"\",\"\",INDEX(Entradas!$H$3:$H$5000,MATCH(A2414,IF(Entradas!$B$3:$B$5000=D2414,Entradas!$A$3:$A$5000),1))),\"Preço não registrado\")","v":""},"",null,null,"",""]
[null,null,"",null,"","",null,{"$f":"IFERROR(IF(D2415=\"\",\"\",INDEX(Entradas!$H$3:$H$5000,MATCH(A2415,IF(Entradas!$B$3:$B$5000=D2415,Entradas!$A$3:$A$5000),1))),\"Preço não registrado\")","v":""},"",null,null,"",""]
[null,null,"",null,"","",null,{"$f":"IFERROR(IF(D2416=\"\",\"\",INDEX(Entradas!$H$3:$H$5000,MATCH(A2416,IF(Entradas!$B$3:$B$5000=D2416,Entradas!$A$3:$A$5000),1))),\"Preço não registrado\")","v":""},"",null,null,"",""]
[null,null,"",null,"","",null,{"$f":"IFERROR(IF(D2417=\"\",\"\",INDEX(Entradas!$H$3:$H$5000,MATCH(A2417,IF(Entradas!$B$3:$B$5000=D2417,Entradas!$A$3:$A$5000),1))),\"Preço não registrado\")","v":""},"",null,null,"",""]
[null,null,"",null,"","",null,{"$f":"IFERROR(IF(D2418=\"\",\"\",INDEX(Entradas!$H$3:$H$5000,MATCH(A2418,IF(Entradas!$B$3:$B$5000=D2418,Entradas!$A$3:$A$5000),1))),\"Preço não registrado\")","v":""},"",null,null,"",""]
[null,null,"",null,"","",null,{"$f":"IFERROR(IF(D2419=\"\",\"\",INDEX(Entradas!$H$3:$H$5000,MATCH(A2419,IF(Entradas!$B$3:$B$5000=D2419,Entradas!$A$3:$A$5000),1))),\"Preço não registrado\")","v":""},"",null,null,"",""]
[null,null,"",null,"","",null,{"$f":"IFERROR(IF(D2420=\"\",\"\",INDEX(Entradas!$H$3:$H$5000,MATCH(A2420,IF(Entradas!$B$3:$B$5000=D2420,Entradas!$A$3:$A$5000),1))),\"Preço não registrado\")","v":""},"",null,null,"",""]
[null,null,"",null,"","",null,{"$f":"IFERROR(IF(D2421=\"\",\"\",INDEX(Entradas!$H$3:$H$5000,MATCH(A2421,IF(Entradas!$B$3:$B$5000=D2421,Entradas!$A$3:$A$5000),1))),\"Preço não registrado\")","v":""},"",null,null,"",""]
[null,null,"",null,"","",null,{"$f":"IFERROR(IF(D2422=\"\",\"\",INDEX(Entradas!$H$3:$H$5000,MATCH(A2422,IF(Entradas!$B$3:$B$5000=D2422,Entradas!$A$3:$A$5000),1))),\"Preço não registrado\")","v":""},"",null,null,"",""]
[null,null,"",null,"","",null,{"$f":"IFERROR(IF(D2423=\"\",\"\",INDEX(Entradas!$H$3:$H$5000,MATCH(A2423,IF(Entradas!$B$3:$B$5000=D2423,Entradas!$A$3:$A$5000),1))),\"Preço não registrado\")","v":""},"",null,null,"",""]
[null,null,"",null,"","",null,{"$f":"IFERROR(IF(D2424=\"\",\"\",INDEX(Entradas!$H$3:$H$5000,MATCH(A2424,IF(Entradas!$B$3:$B$5000=D2424,Entradas!$A$3:$A$5000),1))),\"Preço não registrado\")","v":""},"",null,null,"",""]
[null,null,"",null,"","",null,{"$f":"IFERROR(IF(D2425=\"\",\"\",INDEX(Entradas!$H$3:$H$5000,MATCH(A2425,IF(Entradas!$B$3:$B$5000=D2425,Entradas!$A$3:$A$5000),1))),\"Preço não registrado\")","v":""},"",null,null,"",""]
[null,null,"",null,"","",null,{"$f":"IFERROR(IF(D2426=\"\",\"\",INDEX(Entradas!$H$3:$H$5000,MATCH(A2426,IF(Entradas!$B$3:$B$5000=D2426,Entradas!$A$3:$A$5000),1))),\"Preço não registrado\")","v":""},"",null,null,"",""]
[null,null,"",null,"","",null,{"$f":"IFERROR(IF(D2427=\"\",\"\",INDEX(Entradas!$H$3:$H$5000,MATCH(A2427,IF(Entradas!$B$3:$B$5000=D2427,Entradas!$A$3:$A$5000),1))),\"Preço não registrado\")","v":""},"",null,null,"",""]
[null,null,"",null,"","",null,{"$f":"IFERROR(IF(D2428=\"\",\"\",INDEX(Entradas!$H$3:$H$5000,MATCH(A2428,IF(Entradas!$B$3:$B$5000=D2428,Entradas!$A$3:$A$5000),1))),\"Preço não registrado\")","v":""},"",null,null,"",""]
[null,null,"",null,"","",null,{"$f":"IFERROR(IF(D2429=\"\",\"\",INDEX(Entradas!$H$3:$H$5000,MATCH(A2429,IF(Entradas!$B$3:$B$5000=D2429,Entradas!$A$3:$A$5000),1))),\"Preço não registrado\")","v":""},"",null,null,"",""]
[null,null,"",null,"","",null,{"$f":"IFERROR(IF(D2430=\"\",\"\",INDEX(Entradas!$H$3:$H$5000,MATCH(A2430,IF(Entradas!$B$3:$B$5000=D2430,Entradas!$A$3:$A$5000),1))),\"Preço não registrado\")","v":""},"",null,null,"",""]
[null,null,"",null,"","",null,{"$f":"IFERROR(IF(D2431=\"\",\"\",INDEX(Entradas!$H$3:$H$5000,MATCH(A2431,IF(Entradas!$B$3:$B$5000=D2431,Entradas!$A$3:$A$5000),1))),\"Preço não registrado\")","v":""},"",null,null,"",""]
[null,null,"",null,"","",null,{"$f":"IFERROR(IF(D2432=\"\",\"\",INDEX(Entradas!$H$3:$H$5000,MATCH(A2432,IF(Entradas!$B$3:$B$5000=D2432,Entradas!$A$3:$A$5000),1))),\"Preço não registrado\")","v":""},"",null,null,"",""]
[null,null,"",null,"","",null,{"$f":"IFERROR(IF(D2433=\"\",\"\",INDEX(Entradas!$H$3:$H$5000,MATCH(A2433,IF(Entradas!$B$3:$B$5000=D2433,Entradas!$A$3:$A$5000),1))),\"Preço não registrado\")","v":""},"",null,null,"",""]
[null,null,"",null,"","",null,{"$f":"IFERROR(IF(D2434=\"\",\"\",INDEX(Entradas!$H$3:$H$5000,MATCH(A2434,IF(Entradas!$B$3:$B$5000=D2434,Entradas!$A$3:$A$5000),1))),\"Preço não registrado\")","v":""},"",null,null,"",""]
[null,null,{"$f":"IFERROR(IF(B2435=\"\",\"\",VLOOKUP(B2435,Clientes,2,FALSE)),\"\")","v":""},null,{"$f":"IF(D2435=\"\",\"\",VLOOKUP(D2435,Itens,2,FALSE))","v":""},{"$f":"IF(D2435=\"\",\"\",VLOOKUP(D2435,Itens,3,FALSE))","v":""},null,{"$f":"IFERROR(IF(D2435=\"\",\"\",INDEX(Entradas!$H$3:$H$5000,MATCH(A2435,IF(Entradas!$B$3:$B$5000=D2435,Entradas!$A$3:$A$5000),1))),\"Preço não registrado\")","v":""},"",null,null,"",""]
[null,null,"",null,"","",null,{"$f":"IFERROR(IF(D2436=\"\",\"\",INDEX(Entradas!$H$3:$H$5000,MATCH(A2436,IF(Entradas!$B$3:$B$5000=D2436,Entradas!$A$3:$A$5000),1))),\"Preço não registrado\")","v":""},{"$f":"IFERROR(G2436*H2436,\"\")","v":""},null,null,{"$f":"IF(K2436=\"\",\"\",HYPERLINK($P$13&K2436,\"Rastreie aqui\"))","v":""},{"$f":"IF(A2436=\"\",\"\",TEXT(A2436,\"mmmm\"))","v":""}]
[null,null,"",null,"","",null,{"$f":"IFERROR(IF(D2437=\"\",\"\",INDEX(Entradas!$H$3:$H$5000,MATCH(A2437,IF(Entradas!$B$3:$B$5000=D2437,Entradas!$A$3:$A$5000),1))),\"Preço não registrado\")","v":""},"",null,null,"",""]
[null,null,"",null,"","",null,{"$f":"IFERROR(IF(D2438=\"\",\"\",INDEX(Entradas!$H$3:$H$5000,MATCH(A2438,IF(Entradas!$B$3:$B$5000=D2438,Entradas!$A$3:$A$5000),1))),\"Preço não registrado\")","v":""},"",null,null,"",""]
[null,null,"",null,"","",null,{"$f":"IFERROR(IF(D2439=\"\",\"\",INDEX(Entradas!$H$3:$H$5000,MATCH(A2439,IF(Entradas!$B$3:$B$5000=D2439,Entradas!$A$3:$A$5000),1))),\"Preço não registrado\")","v":""},"",null,null,"",""]
[null,null,"",null,"","",null,{"$f":"IFERROR(IF(D2440=\"\",\"\",INDEX(Entradas!$H$3:$H$5000,MATCH(A2440,IF(Entradas!$B$3:$B$5000=D2440,Entradas!$A$3:$A$5000),1))),\"Preço não registrado\")","v":""},"",null,null,"",""]
[null,null,"",null,"","",null,{"$f":"IFERROR(IF(D2441=\"\",\"\",INDEX(Entradas!$H$3:$H$5000,MATCH(A2441,IF(Entradas!$B$3:$B$5000=D2441,Entradas!$A$3:$A$5000),1))),\"Preço não registrado\")","v":""},"",null,null,"",""]
[null,null,"",null,"","",null,{"$f":"IFERROR(IF(D2442=\"\",\"\",INDEX(Entradas!$H$3:$H$5000,MATCH(A2442,IF(Entradas!$B$3:$B$5000=D2442,Entradas!$A$3:$A$5000),1))),\"Preço não registrado\")","v":""},"",null,null,"",""]
[null,null,"",null,"","",null,{"$f":"IFERROR(IF(D2443=\"\",\"\",INDEX(Entradas!$H$3:$H$5000,MATCH(A2443,IF(Entradas!$B$3:$B$5000=D2443,Entradas!$A$3:$A$5000),1))),\"Preço não registrado\")","v":""},"",null,null,"",""]
[null,null,"",null,"","",null,{"$f":"IFERROR(IF(D2444=\"\",\"\",INDEX(Entradas!$H$3:$H$5000,MATCH(A2444,IF(Entradas!$B$3:$B$5000=D2444,Entradas!$A$3:$A$5000),1))),\"Preço não registrado\")","v":""},"",null,null,"",""]
[null,null,"",null,"","",null,{"$f":"IFERROR(IF(D2445=\"\",\"\",INDEX(Entradas!$H$3:$H$5000,MATCH(A2445,IF(Entradas!$B$3:$B$5000=D2445,Entradas!$A$3:$A$5000),1))),\"Preço não registrado\")","v":""},"",null,null,"",""]
[null,null,"",null,"","",null,{"$f":"IFERROR(IF(D2446=\"\",\"\",INDEX(Entradas!$H$3:$H$5000,MATCH(A2446,IF(Entradas!$B$3:$B$5000=D2446,Entradas!$A$3:$A$5000),1))),\"Preço não registrado\")","v":""},"",null,null,"",""]
[null,null,"",null,"","",null,{"$f":"IFERROR(IF(D2447=\"\",\"\",INDEX(Entradas!$H$3:$H$5000,MATCH(A2447,IF(Entradas!$B$3:$B$5000=D2447,Entradas!$A$3:$A$5000),1))),\"Preço não registrado\")","v":""},"",null,null,"",""]
[null,null,"",null,"","",null,{"$f":"IFERROR(IF(D2448=\"\",\"\",INDEX(Entradas!$H$3:$H$5000,MATCH(A2448,IF(Entradas!$B$3:$B$5000=D2448,Entradas!$A$3:$A$5000),1))),\"Preço não registrado\")","v":""},"",null,null,"",""]
[null,null,"",null,"","",null,{"$f":"IFERROR(IF(D2449=\"\",\"\",INDEX(Entradas!$H$3:$H$5000,MATCH(A2449,IF(Entradas!$B$3:$B$5000=D2449,Entradas!$A$3:$A$5000),1))),\"Preço não registrado\")","v":""},"",null,null,"",""]
[null,null,"",null,"","",null,{"$f":"IFERROR(IF(D2450=\"\",\"\",INDEX(Entradas!$H$3:$H$5000,MATCH(A2450,IF(Entradas!$B$3:$B$5000=D2450,Entradas!$A$3:$A$5000),1))),\"Preço não registrado\")","v":""},"",null,null,"",""]
[null,null,"",null,"","",null,{"$f":"IFERROR(IF(D2451=\"\",\"\",INDEX(Entradas!$H$3:$H$5000,MATCH(A2451,IF(Entradas!$B$3:$B$5000=D2451,Entradas!$A$3:$A$5000),1))),\"Preço não registrado\")","v":""},"",null,null,"",""]
[null,null,"",null,"","",null,{"$f":"IFERROR(IF(D2452=\"\",\"\",INDEX(Entradas!$H$3:$H$5000,MATCH(A2452,IF(Entradas!$B$3:$B$5000=D2452,Entradas!$A$3:$A$5000),1))),\"Preço não registrado\")","v":""},"",null,null,"",""]
[null,null,"",null,"","",null,{"$f":"IFERROR(IF(D2453=\"\",\"\",INDEX(Entradas!$H$3:$H$5000,MATCH(A2453,IF(Entradas!$B$3:$B$5000=D2453,Entradas!$A$3:$A$5000),1))),\"Preço não registrado\")","v":""},"",null,null,"",""]
[null,null,"",null,"","",null,{"$f":"IFERROR(IF(D2454=\"\",\"\",INDEX(Entradas!$H$3:$H$5000,MATCH(A2454,IF(Entradas!$B$3:$B$5000=D2454,Entradas!$A$3:$A$5000),1))),\"Preço não registrado\")","v":""},"",null,null,"",""]
[null,null,"",null,"","",null,{"$f":"IFERROR(IF(D2455=\"\",\"\",INDEX(Entradas!$H$3:$H$5000,MATCH(A2455,IF(Entradas!$B$3:$B$5000=D2455,Entradas!$A$3:$A$5000),1))),\"Preço não registrado\")","v":""},"",null,null,"",""]
[null,null,"",null,"","",null,{"$f":"IFERROR(IF(D2456=\"\",\"\",INDEX(Entradas!$H$3:$H$5000,MATCH(A2456,IF(Entradas!$B$3:$B$5000=D2456,Entradas!$A$3:$A$5000),1))),\"Preço não registrado\")","v":""},"",null,null,"",""]
[null,null,"",null,"","",null,{"$f":"IFERROR(IF(D2457=\"\",\"\",INDEX(Entradas!$H$3:$H$5000,MATCH(A2457,IF(Entradas!$B$3:$B$5000=D2457,Entradas!$A$3:$A$5000),1))),\"Preço não registrado\")","v":""},"",null,null,"",""]
[null,null,"",null,"","",null,{"$f":"IFERROR(IF(D2458=\"\",\"\",INDEX(Entradas!$H$3:$H$5000,MATCH(A2458,IF(Entradas!$B$3:$B$5000=D2458,Entradas!$A$3:$A$5000),1))),\"Preço não registrado\")","v":""},"",null,null,"",""]
[null,null,"",null,"","",null,{"$f":"IFERROR(IF(D2459=\"\",\"\",INDEX(Entradas!$H$3:$H$5000,MATCH(A2459,IF(Entradas!$B$3:$B$5000=D2459,Entradas!$A$3:$A$5000),1))),\"Preço não registrado\")","v":""},"",null,null,"",""]
[null,null,"",null,"","",null,{"$f":"IFERROR(IF(D2460=\"\",\"\",INDEX(Entradas!$H$3:$H$5000,MATCH(A2460,IF(Entradas!$B$3:$B$5000=D2460,Entradas!$A$3:$A$5000),1))),\"Preço não registrado\")","v":""},"",null,null,"",""]
[null,null,"",null,"","",null,{"$f":"IFERROR(IF(D2461=\"\",\"\",INDEX(Entradas!$H$3:$H$5000,MATCH(A2461,IF(Entradas!$B$3:$B$5000=D2461,Entradas!$A$3:$A$5000),1))),\"Preço não registrado\")","v":""},"",null,null,"",""]
[null,null,"",null,"","",null,{"$f":"IFERROR(IF(D2462=\"\",\"\",INDEX(Entradas!$H$3:$H$5000,MATCH(A2462,IF(Entradas!$B$3:$B$5000=D2462,Entradas!$A$3:$A$5000),1))),\"Preço não registrado\")","v":""},"",null,null,"",""]
[null,null,"",null,"","",null,{"$f":"IFERROR(IF(D2463=\"\",\"\",INDEX(Entradas!$H$3:$H$5000,MATCH(A2463,IF(Entradas!$B$3:$B$5000=D2463,Entradas!$A$3:$A$5000),1))),\"Preço não registrado\")","v":""},"",null,null,"",""]
[null,null,"",null,"","",null,{"$f":"IFERROR(IF(D2464=\"\",\"\",INDEX(Entradas!$H$3:$H$5000,MATCH(A2464,IF(Entradas!$B$3:$B$5000=D2464,Entradas!$A$3:$A$5000),1))),\"Preço não registrado\")","v":""},"",null,null,"",""]
[null,null,"",null,"","",null,{"$f":"IFERROR(IF(D2465=\"\",\"\",INDEX(Entradas!$H$3:$H$5000,MATCH(A2465,IF(Entradas!$B$3:$B$5000=D2465,Entradas!$A$3:$A$5000),1))),\"Preço não registrado\")","v":""},"",null,null,"",""]
[null,null,"",null,"","",null,{"$f":"IFERROR(IF(D2466=\"\",\"\",INDEX(Entradas!$H$3:$H$5000,MATCH(A2466,IF(Entradas!$B$3:$B$5000=D2466,Entradas!$A$3:$A$5000),1))),\"Preço não registrado\")","v":""},"",null,null,"",""]
[null,null,"",null,"","",null,{"$f":"IFERROR(IF(D2467=\"\",\"\",INDEX(Entradas!$H$3:$H$5000,MATCH(A2467,IF(Entradas!$B$3:$B$5000=D2467,Entradas!$A$3:$A$5000),1))),\"Preço não registrado\")","v":""},"",null,null,"",""]
[null,null,"",null,"","",null,{"$f":"IFERROR(IF(D2468=\"\",\"\",INDEX(Entradas!$H$3:$H$5000,MATCH(A2468,IF(Entradas!$B$3:$B$5000=D2468,Entradas!$A$3:$A$5000),1))),\"Preço não registrado\")","v":""},"",null,null,"",""]
[null,null,"",null,"","",null,{"$f":"IFERROR(IF(D2469=\"\",\"\",INDEX(Entradas!$H$3:$H$5000,MATCH(A2469,IF(Entradas!$B$3:$B$5000=D2469,Entradas!$A$3:$A$5000),1))),\"Preço não registrado\")","v":""},"",null,null,"",""]
[null,null,"",null,"","",null,{"$f":"IFERROR(IF(D2470=\"\",\"\",INDEX(Entradas!$H$3:$H$5000,MATCH(A2470,IF(Entradas!$B$3:$B$5000=D2470,Entradas!$A$3:$A$5000),1))),\"Preço não registrado\")","v":""},"",null,null,"",""]
[null,null,"",null,"","",null,{"$f":"IFERROR(IF(D2471=\"\",\"\",INDEX(Entradas!$H$3:$H$5000,MATCH(A2471,IF(Entradas!$B$3:$B$5000=D2471,Entradas!$A$3:$A$5000),1))),\"Preço não registrado\")","v":""},"",null,null,"",""]
[null,null,"",null,"","",null,{"$f":"IFERROR(IF(D2472=\"\",\"\",INDEX(Entradas!$H$3:$H$5000,MATCH(A2472,IF(Entradas!$B$3:$B$5000=D2472,Entradas!$A$3:$A$5000),1))),\"Preço não registrado\")","v":""},"",null,null,"",""]
[null,null,"",null,"","",null,{"$f":"IFERROR(IF(D2473=\"\",\"\",INDEX(Entradas!$H$3:$H$5000,MATCH(A2473,IF(Entradas!$B$3:$B$5000=D2473,Entradas!$A$3:$A$5000),1))),\"Preço não registrado\")","v":""},"",null,null,"",""]
[null,null,"",null,"","",null,{"$f":"IFERROR(IF(D2474=\"\",\"\",INDEX(Entradas!$H$3:$H$5000,MATCH(A2474,IF(Entradas!$B$3:$B$5000=D2474,Entradas!$A$3:$A$5000),1))),\"Preço não registrado\")","v":""},"",null,null,"",""]
[null,null,"",null,"","",null,{"$f":"IFERROR(IF(D2475=\"\",\"\",INDEX(Entradas!$H$3:$H$5000,MATCH(A2475,IF(Entradas!$B$3:$B$5000=D2475,Entradas!$A$3:$A$5000),1))),\"Preço não registrado\")","v":""},"",null,null,"",""]
[null,null,"",null,"","",null,{"$f":"IFERROR(IF(D2476=\"\",\"\",INDEX(Entradas!$H$3:$H$5000,MATCH(A2476,IF(Entradas!$B$3:$B$5000=D2476,Entradas!$A$3:$A$5000),1))),\"Preço não registrado\")","v":""},"",null,null,"",""]
[null,null,"",null,"","",null,{"$f":"IFERROR(IF(D2477=\"\",\"\",INDEX(Entradas!$H$3:$H$5000,MATCH(A2477,IF(Entradas!$B$3:$B$5000=D2477,Entradas!$A$3:$A$5000),1))),\"Preço não registrado\")","v":""},"",null,null,"",""]
[null,null,"",null,"","",null,{"$f":"IFERROR(IF(D2478=\"\",\"\",INDEX(Entradas!$H$3:$H$5000,MATCH(A2478,IF(Entradas!$B$3:$B$5000=D2478,Entradas!$A$3:$A$5000),1))),\"Preço não registrado\")","v":""},"",null,null,"",""]
[null,null,"",null,"","",null,{"$f":"IFERROR(IF(D2479=\"\",\"\",INDEX(Entradas!$H$3:$H$5000,MATCH(A2479,IF(Entradas!$B$3:$B$5000=D2479,Entradas!$A$3:$A$5000),1))),\"Preço não registrado\")","v":""},"",null,null,"",""]
[null,null,"",null,"","",null,{"$f":"IFERROR(IF(D2480=\"\",\"\",INDEX(Entradas!$H$3:$H$5000,MATCH(A2480,IF(Entradas!$B$3:$B$5000=D2480,Entradas!$A$3:$A$5000),1))),\"Preço não registrado\")","v":""},"",null,null,"",""]
[null,null,"",null,"","",null,{"$f":"IFERROR(IF(D2481=\"\",\"\",INDEX(Entradas!$H$3:$H$5000,MATCH(A2481,IF(Entradas!$B$3:$B$5000=D2481,Entradas!$A$3:$A$5000),1))),\"Preço não registrado\")","v":""},"",null,null,"",""]
[null,null,"",null,"","",null,{"$f":"IFERROR(IF(D2482=\"\",\"\",INDEX(Entradas!$H$3:$H$5000,MATCH(A2482,IF(Entradas!$B$3:$B$5000=D2482,Entradas!$A$3:$A$5000),1))),\"Preço não registrado\")","v":""},"",null,null,"",""]
[null,null,"",null,"","",null,{"$f":"IFERROR(IF(D2483=\"\",\"\",INDEX(Entradas!$H$3:$H$5000,MATCH(A2483,IF(Entradas!$B$3:$B$5000=D2483,Entradas!$A$3:$A$5000),1))),\"Preço não registrado\")","v":""},"",null,null,"",""]
[null,null,"",null,"","",null,{"$f":"IFERROR(IF(D2484=\"\",\"\",INDEX(Entradas!$H$3:$H$5000,MATCH(A2484,IF(Entradas!$B$3:$B$5000=D2484,Entradas!$A$3:$A$5000),1))),\"Preço não registrado\")","v":""},"",null,null,"",""]
[null,null,"",null,"","",null,{"$f":"IFERROR(IF(D2485=\"\",\"\",INDEX(Entradas!$H$3:$H$5000,MATCH(A2485,IF(Entradas!$B$3:$B$5000=D2485,Entradas!$A$3:$A$5000),1))),\"Preço não registrado\")","v":""},"",null,null,"",""]
[null,null,"",null,"","",null,{"$f":"IFERROR(IF(D2486=\"\",\"\",INDEX(Entradas!$H$3:$H$5000,MATCH(A2486,IF(Entradas!$B$3:$B$5000=D2486,Entradas!$A$3:$A$5000),1))),\"Preço não registrado\")","v":""},"",null,null,"",""]
[null,null,"",null,"","",null,{"$f":"IFERROR(IF(D2487=\"\",\"\",INDEX(Entradas!$H$3:$H$5000,MATCH(A2487,IF(Entradas!$B$3:$B$5000=D2487,Entradas!$A$3:$A$5000),1))),\"Preço não registrado\")","v":""},"",null,null,"",""]
[null,null,"",null,"","",null,{"$f":"IFERROR(IF(D2488=\"\",\"\",INDEX(Entradas!$H$3:$H$5000,MATCH(A2488,IF(Entradas!$B$3:$B$5000=D2488,Entradas!$A$3:$A$5000),1))),\"Preço não registrado\")","v":""},"",null,null,"",""]
[null,null,"",null,"","",null,{"$f":"IFERROR(IF(D2489=\"\",\"\",INDEX(Entradas!$H$3:$H$5000,MATCH(A2489,IF(Entradas!$B$3:$B$5000=D2489,Entradas!$A$3:$A$5000),1))),\"Preço não registrado\")","v":""},"",null,null,"",""]
[null,null,"",null,"","",null,{"$f":"IFERROR(IF(D2490=\"\",\"\",INDEX(Entradas!$H$3:$H$5000,MATCH(A2490,IF(Entradas!$B$3:$B$5000=D2490,Entradas!$A$3:$A$5000),1))),\"Preço não registrado\")","v":""},"",null,null,"",""]
[null,null,"",null,"","",null,{"$f":"IFERROR(IF(D2491=\"\",\"\",INDEX(Entradas!$H$3:$H$5000,MATCH(A2491,IF(Entradas!$B$3:$B$5000=D2491,Entradas!$A$3:$A$5000),1))),\"Preço não registrado\")","v":""},"",null,null,"",""]
[null,null,"",null,"","",null,{"$f":"IFERROR(IF(D2492=\"\",\"\",INDEX(Entradas!$H$3:$H$5000,MATCH(A2492,IF(Entradas!$B$3:$B$5000=D2492,Entradas!$A$3:$A$5000),1))),\"Preço não registrado\")","v":""},"",null,null,"",""]
[null,null,"",null,"","",null,{"$f":"IFERROR(IF(D2493=\"\",\"\",INDEX(Entradas!$H$3:$H$5000,MATCH(A2493,IF(Entradas!$B$3:$B$5000=D2493,Entradas!$A$3:$A$5000),1))),\"Preço não registrado\")","v":""},"",null,null,"",""]
[null,null,"",null,"","",null,{"$f":"IFERROR(IF(D2494=\"\",\"\",INDEX(Entradas!$H$3:$H$5000,MATCH(A2494,IF(Entradas!$B$3:$B$5000=D2494,Entradas!$A$3:$A$5000),1))),\"Preço não registrado\")","v":""},"",null,null,"",""]
[null,null,"",null,"","",null,{"$f":"IFERROR(IF(D2495=\"\",\"\",INDEX(Entradas!$H$3:$H$5000,MATCH(A2495,IF(Entradas!$B$3:$B$5000=D2495,Entradas!$A$3:$A$5000),1))),\"Preço não registrado\")","v":""},"",null,null,"",""]
[null,null,"",null,"","",null,{"$f":"IFERROR(IF(D2496=\"\",\"\",INDEX(Entradas!$H$3:$H$5000,MATCH(A2496,IF(Entradas!$B$3:$B$5000=D2496,Entradas!$A$3:$A$5000),1))),\"Preço não registrado\")","v":""},"",null,null,"",""]
[null,null,"",null,"","",null,{"$f":"IFERROR(IF(D2497=\"\",\"\",INDEX(Entradas!$H$3:$H$5000,MATCH(A2497,IF(Entradas!$B$3:$B$5000=D2497,Entradas!$A$3:$A$5000),1))),\"Preço não registrado\")","v":""},"",null,null,"",""]
[null,null,"",null,"","",null,{"$f":"IFERROR(IF(D2498=\"\",\"\",INDEX(Entradas!$H$3:$H$5000,MATCH(A2498,IF(Entradas!$B$3:$B$5000=D2498,Entradas!$A$3:$A$5000),1))),\"Preço não registrado\")","v":""},"",null,null,"",""]
[null,null,{"$f":"IFERROR(IF(B2499=\"\",\"\",VLOOKUP(B2499,Clientes,2,FALSE)),\"\")","v":""},null,{"$f":"IF(D2499=\"\",\"\",VLOOKUP(D2499,Itens,2,FALSE))","v":""},{"$f":"IF(D2499=\"\",\"\",VLOOKUP(D2499,Itens,3,FALSE))","v":""},null,{"$f":"IFERROR(IF(D2499=\"\",\"\",INDEX(Entradas!$H$3:$H$5000,MATCH(A2499,IF(Entradas!$B$3:$B$5000=D2499,Entradas!$A$3:$A$5000),1))),\"Preço não registrado\")","v":""},"",null,null,"",""]
[null,null,"",null,"","",null,{"$f":"IFERROR(IF(D2500=\"\",\"\",INDEX(Entradas!$H$3:$H$5000,MATCH(A2500,IF(Entradas!$B$3:$B$5000=D2500,Entradas!$A$3:$A$5000),1))),\"Preço não registrado\")","v":""},{"$f":"IFERROR(G2500*H2500,\"\")","v":""},null,null,{"$f":"IF(K2500=\"\",\"\",HYPERLINK($P$13&K2500,\"Rastreie aqui\"))","v":""},{"$f":"IF(A2500=\"\",\"\",TEXT(A2500,\"mmmm\"))","v":""}]
[null,null,"",null,"","",null,{"$f":"IFERROR(IF(D2501=\"\",\"\",INDEX(Entradas!$H$3:$H$5000,MATCH(A2501,IF(Entradas!$B$3:$B$5000=D2501,Entradas!$A$3:$A$5000),1))),\"Preço não registrado\")","v":""},"",null,null,"",""]
[null,null,"",null,"","",null,{"$f":"IFERROR(IF(D2502=\"\",\"\",INDEX(Entradas!$H$3:$H$5000,MATCH(A2502,IF(Entradas!$B$3:$B$5000=D2502,Entradas!$A$3:$A$5000),1))),\"Preço não registrado\")","v":""},"",null,null,"",""]
[null,null,"",null,"","",null,{"$f":"IFERROR(IF(D2503=\"\",\"\",INDEX(Entradas!$H$3:$H$5000,MATCH(A2503,IF(Entradas!$B$3:$B$5000=D2503,Entradas!$A$3:$A$5000),1))),\"Preço não registrado\")","v":""},"",null,null,"",""]
[null,null,"",null,"","",null,{"$f":"IFERROR(IF(D2504=\"\",\"\",INDEX(Entradas!$H$3:$H$5000,MATCH(A2504,IF(Entradas!$B$3:$B$5000=D2504,Entradas!$A$3:$A$5000),1))),\"Preço não registrado\")","v":""},"",null,null,"",""]
[null,null,"",null,"","",null,{"$f":"IFERROR(IF(D2505=\"\",\"\",INDEX(Entradas!$H$3:$H$5000,MATCH(A2505,IF(Entradas!$B$3:$B$5000=D2505,Entradas!$A$3:$A$5000),1))),\"Preço não registrado\")","v":""},"",null,null,"",""]
[null,null,"",null,"","",null,{"$f":"IFERROR(IF(D2506=\"\",\"\",INDEX(Entradas!$H$3:$H$5000,MATCH(A2506,IF(Entradas!$B$3:$B$5000=D2506,Entradas!$A$3:$A$5000),1))),\"Preço não registrado\")","v":""},"",null,null,"",""]
[null,null,"",null,"","",null,{"$f":"IFERROR(IF(D2507=\"\",\"\",INDEX(Entradas!$H$3:$H$5000,MATCH(A2507,IF(Entradas!$B$3:$B$5000=D2507,Entradas!$A$3:$A$5000),1))),\"Preço não registrado\")","v":""},"",null,null,"",""]
[null,null,"",null,"","",null,{"$f":"IFERROR(IF(D2508=\"\",\"\",INDEX(Entradas!$H$3:$H$5000,MATCH(A2508,IF(Entradas!$B$3:$B$5000=D2508,Entradas!$A$3:$A$5000),1))),\"Preço não registrado\")","v":""},"",null,null,"",""]
[null,null,"",null,"","",null,{"$f":"IFERROR(IF(D2509=\"\",\"\",INDEX(Entradas!$H$3:$H$5000,MATCH(A2509,IF(Entradas!$B$3:$B$5000=D2509,Entradas!$A$3:$A$5000),1))),\"Preço não registrado\")","v":""},"",null,null,"",""]
[null,null,"",null,"","",null,{"$f":"IFERROR(IF(D2510=\"\",\"\",INDEX(Entradas!$H$3:$H$5000,MATCH(A2510,IF(Entradas!$B$3:$B$5000=D2510,Entradas!$A$3:$A$5000),1))),\"Preço não registrado\")","v":""},"",null,null,"",""]
[null,null,"",null,"","",null,{"$f":"IFERROR(IF(D2511=\"\",\"\",INDEX(Entradas!$H$3:$H$5000,MATCH(A2511,IF(Entradas!$B$3:$B$5000=D2511,Entradas!$A$3:$A$5000),1))),\"Preço não registrado\")","v":""},"",null,null,"",""]
[null,null,"",null,"","",null,{"$f":"IFERROR(IF(D2512=\"\",\"\",INDEX(Entradas!$H$3:$H$5000,MATCH(A2512,IF(Entradas!$B$3:$B$5000=D2512,Entradas!$A$3:$A$5000),1))),\"Preço não registrado\")","v":""},"",null,null,"",""]
[null,null,"",null,"","",null,{"$f":"IFERROR(IF(D2513=\"\",\"\",INDEX(Entradas!$H$3:$H$5000,MATCH(A2513,IF(Entradas!$B$3:$B$5000=D2513,Entradas!$A$3:$A$5000),1))),\"Preço não registrado\")","v":""},"",null,null,"",""]
[null,null,"",null,"","",null,{"$f":"IFERROR(IF(D2514=\"\",\"\",INDEX(Entradas!$H$3:$H$5000,MATCH(A2514,IF(Entradas!$B$3:$B$5000=D2514,Entradas!$A$3:$A$5000),1))),\"Preço não registrado\")","v":""},"",null,null,"",""]
[null,null,"",null,"","",null,{"$f":"IFERROR(IF(D2515=\"\",\"\",INDEX(Entradas!$H$3:$H$5000,MATCH(A2515,IF(Entradas!$B$3:$B$5000=D2515,Entradas!$A$3:$A$5000),1))),\"Preço não registrado\")","v":""},"",null,null,"",""]
[null,null,"",null,"","",null,{"$f":"IFERROR(IF(D2516=\"\",\"\",INDEX(Entradas!$H$3:$H$5000,MATCH(A2516,IF(Entradas!$B$3:$B$5000=D2516,Entradas!$A$3:$A$5000),1))),\"Preço não registrado\")","v":""},"",null,null,"",""]
[null,null,"",null,"","",null,{"$f":"IFERROR(IF(D2517=\"\",\"\",INDEX(Entradas!$H$3:$H$5000,MATCH(A2517,IF(Entradas!$B$3:$B$5000=D2517,Entradas!$A$3:$A$5000),1))),\"Preço não registrado\")","v":""},"",null,null,"",""]
[null,null,"",null,"","",null,{"$f":"IFERROR(IF(D2518=\"\",\"\",INDEX(Entradas!$H$3:$H$5000,MATCH(A2518,IF(Entradas!$B$3:$B$5000=D2518,Entradas!$A$3:$A$5000),1))),\"Preço não registrado\")","v":""},"",null,null,"",""]
[null,null,"",null,"","",null,{"$f":"IFERROR(IF(D2519=\"\",\"\",INDEX(Entradas!$H$3:$H$5000,MATCH(A2519,IF(Entradas!$B$3:$B$5000=D2519,Entradas!$A$3:$A$5000),1))),\"Preço não registrado\")","v":""},"",null,null,"",""]
[null,null,"",null,"","",null,{"$f":"IFERROR(IF(D2520=\"\",\"\",INDEX(Entradas!$H$3:$H$5000,MATCH(A2520,IF(Entradas!$B$3:$B$5000=D2520,Entradas!$A$3:$A$5000),1))),\"Preço não registrado\")","v":""},"",null,null,"",""]
[null,null,"",null,"","",null,{"$f":"IFERROR(IF(D2521=\"\",\"\",INDEX(Entradas!$H$3:$H$5000,MATCH(A2521,IF(Entradas!$B$3:$B$5000=D2521,Entradas!$A$3:$A$5000),1))),\"Preço não registrado\")","v":""},"",null,null,"",""]
[null,null,"",null,"","",null,{"$f":"IFERROR(IF(D2522=\"\",\"\",INDEX(Entradas!$H$3:$H$5000,MATCH(A2522,IF(Entradas!$B$3:$B$5000=D2522,Entradas!$A$3:$A$5000),1))),\"Preço não registrado\")","v":""},"",null,null,"",""]
[null,null,"",null,"","",null,{"$f":"IFERROR(IF(D2523=\"\",\"\",INDEX(Entradas!$H$3:$H$5000,MATCH(A2523,IF(Entradas!$B$3:$B$5000=D2523,Entradas!$A$3:$A$5000),1))),\"Preço não registrado\")","v":""},"",null,null,"",""]
[null,null,"",null,"","",null,{"$f":"IFERROR(IF(D2524=\"\",\"\",INDEX(Entradas!$H$3:$H$5000,MATCH(A2524,IF(Entradas!$B$3:$B$5000=D2524,Entradas!$A$3:$A$5000),1))),\"Preço não registrado\")","v":""},"",null,null,"",""]
[null,null,"",null,"","",null,{"$f":"IFERROR(IF(D2525=\"\",\"\",INDEX(Entradas!$H$3:$H$5000,MATCH(A2525,IF(Entradas!$B$3:$B$5000=D2525,Entradas!$A$3:$A$5000),1))),\"Preço não registrado\")","v":""},"",null,null,"",""]
[null,null,"",null,"","",null,{"$f":"IFERROR(IF(D2526=\"\",\"\",INDEX(Entradas!$H$3:$H$5000,MATCH(A2526,IF(Entradas!$B$3:$B$5000=D2526,Entradas!$A$3:$A$5000),1))),\"Preço não registrado\")","v":""},"",null,null,"",""]
[null,null,"",null,"","",null,{"$f":"IFERROR(IF(D2527=\"\",\"\",INDEX(Entradas!$H$3:$H$5000,MATCH(A2527,IF(Entradas!$B$3:$B$5000=D2527,Entradas!$A$3:$A$5000),1))),\"Preço não registrado\")","v":""},"",null,null,"",""]
[null,null,"",null,"","",null,{"$f":"IFERROR(IF(D2528=\"\",\"\",INDEX(Entradas!$H$3:$H$5000,MATCH(A2528,IF(Entradas!$B$3:$B$5000=D2528,Entradas!$A$3:$A$5000),1))),\"Preço não registrado\")","v":""},"",null,null,"",""]
[null,null,"",null,"","",null,{"$f":"IFERROR(IF(D2529=\"\",\"\",INDEX(Entradas!$H$3:$H$5000,MATCH(A2529,IF(Entradas!$B$3:$B$5000=D2529,Entradas!$A$3:$A$5000),1))),\"Preço não registrado\")","v":""},"",null,null,"",""]
[null,null,"",null,"","",null,{"$f":"IFERROR(IF(D2530=\"\",\"\",INDEX(Entradas!$H$3:$H$5000,MATCH(A2530,IF(Entradas!$B$3:$B$5000=D2530,Entradas!$A$3:$A$5000),1))),\"Preço não registrado\")","v":""},"",null,null,"",""]
[null,null,"",null,"","",null,{"$f":"IFERROR(IF(D2531=\"\",\"\",INDEX(Entradas!$H$3:$H$5000,MATCH(A2531,IF(Entradas!$B$3:$B$5000=D2531,Entradas!$A$3:$A$5000),1))),\"Preço não registrado\")","v":""},"",null,null,"",""]
[null,null,"",null,"","",null,{"$f":"IFERROR(IF(D2532=\"\",\"\",INDEX(Entradas!$H$3:$H$5000,MATCH(A2532,IF(Entradas!$B$3:$B$5000=D2532,Entradas!$A$3:$A$5000),1))),\"Preço não registrado\")","v":""},"",null,null,"",""]
[null,null,"",null,"","",null,{"$f":"IFERROR(IF(D2533=\"\",\"\",INDEX(Entradas!$H$3:$H$5000,MATCH(A2533,IF(Entradas!$B$3:$B$5000=D2533,Entradas!$A$3:$A$5000),1))),\"Preço não registrado\")","v":""},"",null,null,"",""]
[null,null,"",null,"","",null,{"$f":"IFERROR(IF(D2534=\"\",\"\",INDEX(Entradas!$H$3:$H$5000,MATCH(A2534,IF(Entradas!$B$3:$B$5000=D2534,Entradas!$A$3:$A$5000),1))),\"Preço não registrado\")","v":""},"",null,null,"",""]
[null,null,"",null,"","",null,{"$f":"IFERROR(IF(D2535=\"\",\"\",INDEX(Entradas!$H$3:$H$5000,MATCH(A2535,IF(Entradas!$B$3:$B$5000=D2535,Entradas!$A$3:$A$5000),1))),\"Preço não registrado\")","v":""},"",null,null,"",""]
[null,null,"",null,"","",null,{"$f":"IFERROR(IF(D2536=\"\",\"\",INDEX(Entradas!$H$3:$H$5000,MATCH(A2536,IF(Entradas!$B$3:$B$5000=D2536,Entradas!$A$3:$A$5000),1))),\"Preço não registrado\")","v":""},"",null,null,"",""]
[null,null,"",null,"","",null,{"$f":"IFERROR(IF(D2537=\"\",\"\",INDEX(Entradas!$H$3:$H$5000,MATCH(A2537,IF(Entradas!$B$3:$B$5000=D2537,Entradas!$A$3:$A$5000),1))),\"Preço não registrado\")","v":""},"",null,null,"",""]
[null,null,"",null,"","",null,{"$f":"IFERROR(IF(D2538=\"\",\"\",INDEX(Entradas!$H$3:$H$5000,MATCH(A2538,IF(Entradas!$B$3:$B$5000=D2538,Entradas!$A$3:$A$5000),1))),\"Preço não registrado\")","v":""},"",null,null,"",""]
[null,null,"",null,"","",null,{"$f":"IFERROR(IF(D2539=\"\",\"\",INDEX(Entradas!$H$3:$H$5000,MATCH(A2539,IF(Entradas!$B$3:$B$5000=D2539,Entradas!$A$3:$A$5000),1))),\"Preço não registrado\")","v":""},"",null,null,"",""]
[null,null,"",null,"","",null,{"$f":"IFERROR(IF(D2540=\"\",\"\",INDEX(Entradas!$H$3:$H$5000,MATCH(A2540,IF(Entradas!$B$3:$B$5000=D2540,Entradas!$A$3:$A$5000),1))),\"Preço não registrado\")","v":""},"",null,null,"",""]
[null,null,"",null,"","",null,{"$f":"IFERROR(IF(D2541=\"\",\"\",INDEX(Entradas!$H$3:$H$5000,MATCH(A2541,IF(Entradas!$B$3:$B$5000=D2541,Entradas!$A$3:$A$5000),1))),\"Preço não registrado\")","v":""},"",null,null,"",""]
[null,null,"",null,"","",null,{"$f":"IFERROR(IF(D2542=\"\",\"\",INDEX(Entradas!$H$3:$H$5000,MATCH(A2542,IF(Entradas!$B$3:$B$5000=D2542,Entradas!$A$3:$A$5000),1))),\"Preço não registrado\")","v":""},"",null,null,"",""]
[null,null,"",null,"","",null,{"$f":"IFERROR(IF(D2543=\"\",\"\",INDEX(Entradas!$H$3:$H$5000,MATCH(A2543,IF(Entradas!$B$3:$B$5000=D2543,Entradas!$A$3:$A$5000),1))),\"Preço não registrado\")","v":""},"",null,null,"",""]
[null,null,"",null,"","",null,{"$f":"IFERROR(IF(D2544=\"\",\"\",INDEX(Entradas!$H$3:$H$5000,MATCH(A2544,IF(Entradas!$B$3:$B$5000=D2544,Entradas!$A$3:$A$5000),1))),\"Preço não registrado\")","v":""},"",null,null,"",""]
[null,null,"",null,"","",null,{"$f":"IFERROR(IF(D2545=\"\",\"\",INDEX(Entradas!$H$3:$H$5000,MATCH(A2545,IF(Entradas!$B$3:$B$5000=D2545,Entradas!$A$3:$A$5000),1))),\"Preço não registrado\")","v":""},"",null,null,"",""]
[null,null,"",null,"","",null,{"$f":"IFERROR(IF(D2546=\"\",\"\",INDEX(Entradas!$H$3:$H$5000,MATCH(A2546,IF(Entradas!$B$3:$B$5000=D2546,Entradas!$A$3:$A$5000),1))),\"Preço não registrado\")","v":""},"",null,null,"",""]
[null,null,"",null,"","",null,{"$f":"IFERROR(IF(D2547=\"\",\"\",INDEX(Entradas!$H$3:$H$5000,MATCH(A2547,IF(Entradas!$B$3:$B$5000=D2547,Entradas!$A$3:$A$5000),1))),\"Preço não registrado\")","v":""},"",null,null,"",""]
[null,null,"",null,"","",null,{"$f":"IFERROR(IF(D2548=\"\",\"\",INDEX(Entradas!$H$3:$H$5000,MATCH(A2548,IF(Entradas!$B$3:$B$5000=D2548,Entradas!$A$3:$A$5000),1))),\"Preço não registrado\")","v":""},"",null,null,"",""]
[null,null,"",null,"","",null,{"$f":"IFERROR(IF(D2549=\"\",\"\",INDEX(Entradas!$H$3:$H$5000,MATCH(A2549,IF(Entradas!$B$3:$B$5000=D2549,Entradas!$A$3:$A$5000),1))),\"Preço não registrado\")","v":""},"",null,null,"",""]
[null,null,"",null,"","",null,{"$f":"IFERROR(IF(D2550=\"\",\"\",INDEX(Entradas!$H$3:$H$5000,MATCH(A2550,IF(Entradas!$B$3:$B$5000=D2550,Entradas!$A$3:$A$5000),1))),\"Preço não registrado\")","v":""},"",null,null,"",""]
[null,null,"",null,"","",null,{"$f":"IFERROR(IF(D2551=\"\",\"\",INDEX(Entradas!$H$3:$H$5000,MATCH(A2551,IF(Entradas!$B$3:$B$5000=D2551,Entradas!$A$3:$A$5000),1))),\"Preço não registrado\")","v":""},"",null,null,"",""]
[null,null,"",null,"","",null,{"$f":"IFERROR(IF(D2552=\"\",\"\",INDEX(Entradas!$H$3:$H$5000,MATCH(A2552,IF(Entradas!$B$3:$B$5000=D2552,Entradas!$A$3:$A$5000),1))),\"Preço não registrado\")","v":""},"",null,null,"",""]
[null,null,"",null,"","",null,{"$f":"IFERROR(IF(D2553=\"\",\"\",INDEX(Entradas!$H$3:$H$5000,MATCH(A2553,IF(Entradas!$B$3:$B$5000=D2553,Entradas!$A$3:$A$5000),1))),\"Preço não registrado\")","v":""},"",null,null,"",""]
[null,null,"",null,"","",null,{"$f":"IFERROR(IF(D2554=\"\",\"\",INDEX(Entradas!$H$3:$H$5000,MATCH(A2554,IF(Entradas!$B$3:$B$5000=D2554,Entradas!$A$3:$A$5000),1))),\"Preço não registrado\")","v":""},"",null,null,"",""]
[null,null,"",null,"","",null,{"$f":"IFERROR(IF(D2555=\"\",\"\",INDEX(Entradas!$H$3:$H$5000,MATCH(A2555,IF(Entradas!$B$3:$B$5000=D2555,Entradas!$A$3:$A$5000),1))),\"Preço não registrado\")","v":""},"",null,null,"",""]
[null,null,"",null,"","",null,{"$f":"IFERROR(IF(D2556=\"\",\"\",INDEX(Entradas!$H$3:$H$5000,MATCH(A2556,IF(Entradas!$B$3:$B$5000=D2556,Entradas!$A$3:$A$5000),1))),\"Preço não registrado\")","v":""},"",null,null,"",""]
[null,null,"",null,"","",null,{"$f":"IFERROR(IF(D2557=\"\",\"\",INDEX(Entradas!$H$3:$H$5000,MATCH(A2557,IF(Entradas!$B$3:$B$5000=D2557,Entradas!$A$3:$A$5000),1))),\"Preço não registrado\")","v":""},"",null,null,"",""]
[null,null,"",null,"","",null,{"$f":"IFERROR(IF(D2558=\"\",\"\",INDEX(Entradas!$H$3:$H$5000,MATCH(A2558,IF(Entradas!$B$3:$B$5000=D2558,Entradas!$A$3:$A$5000),1))),\"Preço não registrado\")","v":""},"",null,null,"",""]
[null,null,"",null,"","",null,{"$f":"IFERROR(IF(D2559=\"\",\"\",INDEX(Entradas!$H$3:$H$5000,MATCH(A2559,IF(Entradas!$B$3:$B$5000=D2559,Entradas!$A$3:$A$5000),1))),\"Preço não registrado\")","v":""},"",null,null,"",""]
[null,null,"",null,"","",null,{"$f":"IFERROR(IF(D2560=\"\",\"\",INDEX(Entradas!$H$3:$H$5000,MATCH(A2560,IF(Entradas!$B$3:$B$5000=D2560,Entradas!$A$3:$A$5000),1))),\"Preço não registrado\")","v":""},"",null,null,"",""]
[null,null,"",null,"","",null,{"$f":"IFERROR(IF(D2561=\"\",\"\",INDEX(Entradas!$H$3:$H$5000,MATCH(A2561,IF(Entradas!$B$3:$B$5000=D2561,Entradas!$A$3:$A$5000),1))),\"Preço não registrado\")","v":""},"",null,null,"",""]
[null,null,"",null,"","",null,{"$f":"IFERROR(IF(D2562=\"\",\"\",INDEX(Entradas!$H$3:$H$5000,MATCH(A2562,IF(Entradas!$B$3:$B$5000=D2562,Entradas!$A$3:$A$5000),1))),\"Preço não registrado\")","v":""},"",null,null,"",""]
[null,null,{"$f":"IFERROR(IF(B2563=\"\",\"\",VLOOKUP(B2563,Clientes,2,FALSE)),\"\")","v":""},null,{"$f":"IF(D2563=\"\",\"\",VLOOKUP(D2563,Itens,2,FALSE))","v":""},{"$f":"IF(D2563=\"\",\"\",VLOOKUP(D2563,Itens,3,FALSE))","v":""},null,{"$f":"IFERROR(IF(D2563=\"\",\"\",INDEX(Entradas!$H$3:$H$5000,MATCH(A2563,IF(Entradas!$B$3:$B$5000=D2563,Entradas!$A$3:$A$5000),1))),\"Preço não registrado\")","v":""},"",null,null,"",""]
[null,null,"",null,"","",null,{"$f":"IFERROR(IF(D2564=\"\",\"\",INDEX(Entradas!$H$3:$H$5000,MATCH(A2564,IF(Entradas!$B$3:$B$5000=D2564,Entradas!$A$3:$A$5000),1))),\"Preço não registrado\")","v":""},{"$f":"IFERROR(G2564*H2564,\"\")","v":""},null,null,{"$f":"IF(K2564=\"\",\"\",HYPERLINK($P$13&K2564,\"Rastreie aqui\"))","v":""},{"$f":"IF(A2564=\"\",\"\",TEXT(A2564,\"mmmm\"))","v":""}]
[null,null,"",null,"","",null,{"$f":"IFERROR(IF(D2565=\"\",\"\",INDEX(Entradas!$H$3:$H$5000,MATCH(A2565,IF(Entradas!$B$3:$B$5000=D2565,Entradas!$A$3:$A$5000),1))),\"Preço não registrado\")","v":""},"",null,null,"",""]
[null,null,"",null,"","",null,{"$f":"IFERROR(IF(D2566=\"\",\"\",INDEX(Entradas!$H$3:$H$5000,MATCH(A2566,IF(Entradas!$B$3:$B$5000=D2566,Entradas!$A$3:$A$5000),1))),\"Preço não registrado\")","v":""},"",null,null,"",""]
[null,null,"",null,"","",null,{"$f":"IFERROR(IF(D2567=\"\",\"\",INDEX(Entradas!$H$3:$H$5000,MATCH(A2567,IF(Entradas!$B$3:$B$5000=D2567,Entradas!$A$3:$A$5000),1))),\"Preço não registrado\")","v":""},"",null,null,"",""]
[null,null,"",null,"","",null,{"$f":"IFERROR(IF(D2568=\"\",\"\",INDEX(Entradas!$H$3:$H$5000,MATCH(A2568,IF(Entradas!$B$3:$B$5000=D2568,Entradas!$A$3:$A$5000),1))),\"Preço não registrado\")","v":""},"",null,null,"",""]
[null,null,"",null,"","",null,{"$f":"IFERROR(IF(D2569=\"\",\"\",INDEX(Entradas!$H$3:$H$5000,MATCH(A2569,IF(Entradas!$B$3:$B$5000=D2569,Entradas!$A$3:$A$5000),1))),\"Preço não registrado\")","v":""},"",null,null,"",""]
[null,null,"",null,"","",null,{"$f":"IFERROR(IF(D2570=\"\",\"\",INDEX(Entradas!$H$3:$H$5000,MATCH(A2570,IF(Entradas!$B$3:$B$5000=D2570,Entradas!$A$3:$A$5000),1))),\"Preço não registrado\")","v":""},"",null,null,"",""]
[null,null,"",null,"","",null,{"$f":"IFERROR(IF(D2571=\"\",\"\",INDEX(Entradas!$H$3:$H$5000,MATCH(A2571,IF(Entradas!$B$3:$B$5000=D2571,Entradas!$A$3:$A$5000),1))),\"Preço não registrado\")","v":""},"",null,null,"",""]
[null,null,"",null,"","",null,{"$f":"IFERROR(IF(D2572=\"\",\"\",INDEX(Entradas!$H$3:$H$5000,MATCH(A2572,IF(Entradas!$B$3:$B$5000=D2572,Entradas!$A$3:$A$5000),1))),\"Preço não registrado\")","v":""},"",null,null,"",""]
[null,null,"",null,"","",null,{"$f":"IFERROR(IF(D2573=\"\",\"\",INDEX(Entradas!$H$3:$H$5000,MATCH(A2573,IF(Entradas!$B$3:$B$5000=D2573,Entradas!$A$3:$A$5000),1))),\"Preço não registrado\")","v":""},"",null,null,"",""]
[null,null,"",null,"","",null,{"$f":"IFERROR(IF(D2574=\"\",\"\",INDEX(Entradas!$H$3:$H$5000,MATCH(A2574,IF(Entradas!$B$3:$B$5000=D2574,Entradas!$A$3:$A$5000),1))),\"Preço não registrado\")","v":""},"",null,null,"",""]
[null,null,"",null,"","",null,{"$f":"IFERROR(IF(D2575=\"\",\"\",INDEX(Entradas!$H$3:$H$5000,MATCH(A2575,IF(Entradas!$B$3:$B$5000=D2575,Entradas!$A$3:$A$5000),1))),\"Preço não registrado\")","v":""},"",null,null,"",""]
[null,null,"",null,"","",null,{"$f":"IFERROR(IF(D2576=\"\",\"\",INDEX(Entradas!$H$3:$H$5000,MATCH(A2576,IF(Entradas!$B$3:$B$5000=D2576,Entradas!$A$3:$A$5000),1))),\"Preço não registrado\")","v":""},"",null,null,"",""]
[null,null,"",null,"","",null,{"$f":"IFERROR(IF(D2577=\"\",\"\",INDEX(Entradas!$H$3:$H$5000,MATCH(A2577,IF(Entradas!$B$3:$B$5000=D2577,Entradas!$A$3:$A$5000),1))),\"Preço não registrado\")","v":""},"",null,null,"",""]
[null,null,"",null,"","",null,{"$f":"IFERROR(IF(D2578=\"\",\"\",INDEX(Entradas!$H$3:$H$5000,MATCH(A2578,IF(Entradas!$B$3:$B$5000=D2578,Entradas!$A$3:$A$5000),1))),\"Preço não registrado\")","v":""},"",null,null,"",""]
[null,null,"",null,"","",null,{"$f":"IFERROR(IF(D2579=\"\",\"\",INDEX(Entradas!$H$3:$H$5000,MATCH(A2579,IF(Entradas!$B$3:$B$5000=D2579,Entradas!$A$3:$A$5000),1))),\"Preço não registrado\")","v":""},"",null,null,"",""]
[null,null,"",null,"","",null,{"$f":"IFERROR(IF(D2580=\"\",\"\",INDEX(Entradas!$H$3:$H$5000,MATCH(A2580,IF(Entradas!$B$3:$B$5000=D2580,Entradas!$A$3:$A$5000),1))),\"Preço não registrado\")","v":""},"",null,null,"",""]
[null,null,"",null,"","",null,{"$f":"IFERROR(IF(D2581=\"\",\"\",INDEX(Entradas!$H$3:$H$5000,MATCH(A2581,IF(Entradas!$B$3:$B$5000=D2581,Entradas!$A$3:$A$5000),1))),\"Preço não registrado\")","v":""},"",null,null,"",""]
[null,null,"",null,"","",null,{"$f":"IFERROR(IF(D2582=\"\",\"\",INDEX(Entradas!$H$3:$H$5000,MATCH(A2582,IF(Entradas!$B$3:$B$5000=D2582,Entradas!$A$3:$A$5000),1))),\"Preço não registrado\")","v":""},"",null,null,"",""]
[null,null,"",null,"","",null,{"$f":"IFERROR(IF(D2583=\"\",\"\",INDEX(Entradas!$H$3:$H$5000,MATCH(A2583,IF(Entradas!$B$3:$B$5000=D2583,Entradas!$A$3:$A$5000),1))),\"Preço não registrado\")","v":""},"",null,null,"",""]
[null,null,"",null,"","",null,{"$f":"IFERROR(IF(D2584=\"\",\"\",INDEX(Entradas!$H$3:$H$5000,MATCH(A2584,IF(Entradas!$B$3:$B$5000=D2584,Entradas!$A$3:$A$5000),1))),\"Preço não registrado\")","v":""},"",null,null,"",""]
[null,null,"",null,"","",null,{"$f":"IFERROR(IF(D2585=\"\",\"\",INDEX(Entradas!$H$3:$H$5000,MATCH(A2585,IF(Entradas!$B$3:$B$5000=D2585,Entradas!$A$3:$A$5000),1))),\"Preço não registrado\")","v":""},"",null,null,"",""]
[null,null,"",null,"","",null,{"$f":"IFERROR(IF(D2586=\"\",\"\",INDEX(Entradas!$H$3:$H$5000,MATCH(A2586,IF(Entradas!$B$3:$B$5000=D2586,Entradas!$A$3:$A$5000),1))),\"Preço não registrado\")","v":""},"",null,null,"",""]
[null,null,"",null,"","",null,{"$f":"IFERROR(IF(D2587=\"\",\"\",INDEX(Entradas!$H$3:$H$5000,MATCH(A2587,IF(Entradas!$B$3:$B$5000=D2587,Entradas!$A$3:$A$5000),1))),\"Preço não registrado\")","v":""},"",null,null,"",""]
[null,null,"",null,"","",null,{"$f":"IFERROR(IF(D2588=\"\",\"\",INDEX(Entradas!$H$3:$H$5000,MATCH(A2588,IF(Entradas!$B$3:$B$5000=D2588,Entradas!$A$3:$A$5000),1))),\"Preço não registrado\")","v":""},"",null,null,"",""]
[null,null,"",null,"","",null,{"$f":"IFERROR(IF(D2589=\"\",\"\",INDEX(Entradas!$H$3:$H$5000,MATCH(A2589,IF(Entradas!$B$3:$B$5000=D2589,Entradas!$A$3:$A$5000),1))),\"Preço não registrado\")","v":""},"",null,null,"",""]
[null,null,"",null,"","",null,{"$f":"IFERROR(IF(D2590=\"\",\"\",INDEX(Entradas!$H$3:$H$5000,MATCH(A2590,IF(Entradas!$B$3:$B$5000=D2590,Entradas!$A$3:$A$5000),1))),\"Preço não registrado\")","v":""},"",null,null,"",""]
[null,null,"",null,"","",null,{"$f":"IFERROR(IF(D2591=\"\",\"\",INDEX(Entradas!$H$3:$H$5000,MATCH(A2591,IF(Entradas!$B$3:$B$5000=D2591,Entradas!$A$3:$A$5000),1))),\"Preço não registrado\")","v":""},"",null,null,"",""]
[null,null,"",null,"","",null,{"$f":"IFERROR(IF(D2592=\"\",\"\",INDEX(Entradas!$H$3:$H$5000,MATCH(A2592,IF(Entradas!$B$3:$B$5000=D2592,Entradas!$A$3:$A$5000),1))),\"Preço não registrado\")","v":""},"",null,null,"",""]
[null,null,"",null,"","",null,{"$f":"IFERROR(IF(D2593=\"\",\"\",INDEX(Entradas!$H$3:$H$5000,MATCH(A2593,IF(Entradas!$B$3:$B$5000=D2593,Entradas!$A$3:$A$5000),1))),\"Preço não registrado\")","v":""},"",null,null,"",""]
[null,null,"",null,"","",null,{"$f":"IFERROR(IF(D2594=\"\",\"\",INDEX(Entradas!$H$3:$H$5000,MATCH(A2594,IF(Entradas!$B$3:$B$5000=D2594,Entradas!$A$3:$A$5000),1))),\"Preço não registrado\")","v":""},"",null,null,"",""]
[null,null,"",null,"","",null,{"$f":"IFERROR(IF(D2595=\"\",\"\",INDEX(Entradas!$H$3:$H$5000,MATCH(A2595,IF(Entradas!$B$3:$B$5000=D2595,Entradas!$A$3:$A$5000),1))),\"Preço não registrado\")","v":""},"",null,null,"",""]
[null,null,"",null,"","",null,{"$f":"IFERROR(IF(D2596=\"\",\"\",INDEX(Entradas!$H$3:$H$5000,MATCH(A2596,IF(Entradas!$B$3:$B$5000=D2596,Entradas!$A$3:$A$5000),1))),\"Preço não registrado\")","v":""},"",null,null,"",""]
[null,null,"",null,"","",null,{"$f":"IFERROR(IF(D2597=\"\",\"\",INDEX(Entradas!$H$3:$H$5000,MATCH(A2597,IF(Entradas!$B$3:$B$5000=D2597,Entradas!$A$3:$A$5000),1))),\"Preço não registrado\")","v":""},"",null,null,"",""]
[null,null,"",null,"","",null,{"$f":"IFERROR(IF(D2598=\"\",\"\",INDEX(Entradas!$H$3:$H$5000,MATCH(A2598,IF(Entradas!$B$3:$B$5000=D2598,Entradas!$A$3:$A$5000),1))),\"Preço não registrado\")","v":""},"",null,null,"",""]
[null,null,"",null,"","",null,{"$f":"IFERROR(IF(D2599=\"\",\"\",INDEX(Entradas!$H$3:$H$5000,MATCH(A2599,IF(Entradas!$B$3:$B$5000=D2599,Entradas!$A$3:$A$5000),1))),\"Preço não registrado\")","v":""},"",null,null,"",""]
[null,null,"",null,"","",null,{"$f":"IFERROR(IF(D2600=\"\",\"\",INDEX(Entradas!$H$3:$H$5000,MATCH(A2600,IF(Entradas!$B$3:$B$5000=D2600,Entradas!$A$3:$A$5000),1))),\"Preço não registrado\")","v":""},"",null,null,"",""]
[null,null,"",null,"","",null,{"$f":"IFERROR(IF(D2601=\"\",\"\",INDEX(Entradas!$H$3:$H$5000,MATCH(A2601,IF(Entradas!$B$3:$B$5000=D2601,Entradas!$A$3:$A$5000),1))),\"Preço não registrado\")","v":""},"",null,null,"",""]
[null,null,"",null,"","",null,{"$f":"IFERROR(IF(D2602=\"\",\"\",INDEX(Entradas!$H$3:$H$5000,MATCH(A2602,IF(Entradas!$B$3:$B$5000=D2602,Entradas!$A$3:$A$5000),1))),\"Preço não registrado\")","v":""},"",null,null,"",""]
[null,null,"",null,"","",null,{"$f":"IFERROR(IF(D2603=\"\",\"\",INDEX(Entradas!$H$3:$H$5000,MATCH(A2603,IF(Entradas!$B$3:$B$5000=D2603,Entradas!$A$3:$A$5000),1))),\"Preço não registrado\")","v":""},"",null,null,"",""]
[null,null,"",null,"","",null,{"$f":"IFERROR(IF(D2604=\"\",\"\",INDEX(Entradas!$H$3:$H$5000,MATCH(A2604,IF(Entradas!$B$3:$B$5000=D2604,Entradas!$A$3:$A$5000),1))),\"Preço não registrado\")","v":""},"",null,null,"",""]
[null,null,"",null,"","",null,{"$f":"IFERROR(IF(D2605=\"\",\"\",INDEX(Entradas!$H$3:$H$5000,MATCH(A2605,IF(Entradas!$B$3:$B$5000=D2605,Entradas!$A$3:$A$5000),1))),\"Preço não registrado\")","v":""},"",null,null,"",""]
[null,null,"",null,"","",null,{"$f":"IFERROR(IF(D2606=\"\",\"\",INDEX(Entradas!$H$3:$H$5000,MATCH(A2606,IF(Entradas!$B$3:$B$5000=D2606,Entradas!$A$3:$A$5000),1))),\"Preço não registrado\")","v":""},"",null,null,"",""]
[null,null,"",null,"","",null,{"$f":"IFERROR(IF(D2607=\"\",\"\",INDEX(Entradas!$H$3:$H$5000,MATCH(A2607,IF(Entradas!$B$3:$B$5000=D2607,Entradas!$A$3:$A$5000),1))),\"Preço não registrado\")","v":""},"",null,null,"",""]
[null,null,"",null,"","",null,{"$f":"IFERROR(IF(D2608=\"\",\"\",INDEX(Entradas!$H$3:$H$5000,MATCH(A2608,IF(Entradas!$B$3:$B$5000=D2608,Entradas!$A$3:$A$5000),1))),\"Preço não registrado\")","v":""},"",null,null,"",""]
[null,null,"",null,"","",null,{"$f":"IFERROR(IF(D2609=\"\",\"\",INDEX(Entradas!$H$3:$H$5000,MATCH(A2609,IF(Entradas!$B$3:$B$5000=D2609,Entradas!$A$3:$A$5000),1))),\"Preço não registrado\")","v":""},"",null,null,"",""]
[null,null,"",null,"","",null,{"$f":"IFERROR(IF(D2610=\"\",\"\",INDEX(Entradas!$H$3:$H$5000,MATCH(A2610,IF(Entradas!$B$3:$B$5000=D2610,Entradas!$A$3:$A$5000),1))),\"Preço não registrado\")","v":""},"",null,null,"",""]
[null,null,"",null,"","",null,{"$f":"IFERROR(IF(D2611=\"\",\"\",INDEX(Entradas!$H$3:$H$5000,MATCH(A2611,IF(Entradas!$B$3:$B$5000=D2611,Entradas!$A$3:$A$5000),1))),\"Preço não registrado\")","v":""},"",null,null,"",""]
[null,null,"",null,"","",null,{"$f":"IFERROR(IF(D2612=\"\",\"\",INDEX(Entradas!$H$3:$H$5000,MATCH(A2612,IF(Entradas!$B$3:$B$5000=D2612,Entradas!$A$3:$A$5000),1))),\"Preço não registrado\")","v":""},"",null,null,"",""]
[null,null,"",null,"","",null,{"$f":"IFERROR(IF(D2613=\"\",\"\",INDEX(Entradas!$H$3:$H$5000,MATCH(A2613,IF(Entradas!$B$3:$B$5000=D2613,Entradas!$A$3:$A$5000),1))),\"Preço não registrado\")","v":""},"",null,null,"",""]
[null,null,"",null,"","",null,{"$f":"IFERROR(IF(D2614=\"\",\"\",INDEX(Entradas!$H$3:$H$5000,MATCH(A2614,IF(Entradas!$B$3:$B$5000=D2614,Entradas!$A$3:$A$5000),1))),\"Preço não registrado\")","v":""},"",null,null,"",""]
[null,null,"",null,"","",null,{"$f":"IFERROR(IF(D2615=\"\",\"\",INDEX(Entradas!$H$3:$H$5000,MATCH(A2615,IF(Entradas!$B$3:$B$5000=D2615,Entradas!$A$3:$A$5000),1))),\"Preço não registrado\")","v":""},"",null,null,"",""]
[null,null,"",null,"","",null,{"$f":"IFERROR(IF(D2616=\"\",\"\",INDEX(Entradas!$H$3:$H$5000,MATCH(A2616,IF(Entradas!$B$3:$B$5000=D2616,Entradas!$A$3:$A$5000),1))),\"Preço não registrado\")","v":""},"",null,null,"",""]
[null,null,"",null,"","",null,{"$f":"IFERROR(IF(D2617=\"\",\"\",INDEX(Entradas!$H$3:$H$5000,MATCH(A2617,IF(Entradas!$B$3:$B$5000=D2617,Entradas!$A$3:$A$5000),1))),\"Preço não registrado\")","v":""},"",null,null,"",""]
[null,null,"",null,"","",null,{"$f":"IFERROR(IF(D2618=\"\",\"\",INDEX(Entradas!$H$3:$H$5000,MATCH(A2618,IF(Entradas!$B$3:$B$5000=D2618,Entradas!$A$3:$A$5000),1))),\"Preço não registrado\")","v":""},"",null,null,"",""]
[null,null,"",null,"","",null,{"$f":"IFERROR(IF(D2619=\"\",\"\",INDEX(Entradas!$H$3:$H$5000,MATCH(A2619,IF(Entradas!$B$3:$B$5000=D2619,Entradas!$A$3:$A$5000),1))),\"Preço não registrado\")","v":""},"",null,null,"",""]
[null,null,"",null,"","",null,{"$f":"IFERROR(IF(D2620=\"\",\"\",INDEX(Entradas!$H$3:$H$5000,MATCH(A2620,IF(Entradas!$B$3:$B$5000=D2620,Entradas!$A$3:$A$5000),1))),\"Preço não registrado\")","v":""},"",null,null,"",""]
[null,null,"",null,"","",null,{"$f":"IFERROR(IF(D2621=\"\",\"\",INDEX(Entradas!$H$3:$H$5000,MATCH(A2621,IF(Entradas!$B$3:$B$5000=D2621,Entradas!$A$3:$A$5000),1))),\"Preço não registrado\")","v":""},"",null,null,"",""]
[null,null,"",null,"","",null,{"$f":"IFERROR(IF(D2622=\"\",\"\",INDEX(Entradas!$H$3:$H$5000,MATCH(A2622,IF(Entradas!$B$3:$B$5000=D2622,Entradas!$A$3:$A$5000),1))),\"Preço não registrado\")","v":""},"",null,null,"",""]
[null,null,"",null,"","",null,{"$f":"IFERROR(IF(D2623=\"\",\"\",INDEX(Entradas!$H$3:$H$5000,MATCH(A2623,IF(Entradas!$B$3:$B$5000=D2623,Entradas!$A$3:$A$5000),1))),\"Preço não registrado\")","v":""},"",null,null,"",""]
[null,null,"",null,"","",null,{"$f":"IFERROR(IF(D2624=\"\",\"\",INDEX(Entradas!$H$3:$H$5000,MATCH(A2624,IF(Entradas!$B$3:$B$5000=D2624,Entradas!$A$3:$A$5000),1))),\"Preço não registrado\")","v":""},"",null,null,"",""]
[null,null,"",null,"","",null,{"$f":"IFERROR(IF(D2625=\"\",\"\",INDEX(Entradas!$H$3:$H$5000,MATCH(A2625,IF(Entradas!$B$3:$B$5000=D2625,Entradas!$A$3:$A$5000),1))),\"Preço não registrado\")","v":""},"",null,null,"",""]
[null,null,"",null,"","",null,{"$f":"IFERROR(IF(D2626=\"\",\"\",INDEX(Entradas!$H$3:$H$5000,MATCH(A2626,IF(Entradas!$B$3:$B$5000=D2626,Entradas!$A$3:$A$5000),1))),\"Preço não registrado\")","v":""},"",null,null,"",""]
[null,null,{"$f":"IFERROR(IF(B2627=\"\",\"\",VLOOKUP(B2627,Clientes,2,FALSE)),\"\")","v":""},null,{"$f":"IF(D2627=\"\",\"\",VLOOKUP(D2627,Itens,2,FALSE))","v":""},{"$f":"IF(D2627=\"\",\"\",VLOOKUP(D2627,Itens,3,FALSE))","v":""},null,{"$f":"IFERROR(IF(D2627=\"\",\"\",INDEX(Entradas!$H$3:$H$5000,MATCH(A2627,IF(Entradas!$B$3:$B$5000=D2627,Entradas!$A$3:$A$5000),1))),\"Preço não registrado\")","v":""},"",null,null,"",""]
[null,null,"",null,"","",null,{"$f":"IFERROR(IF(D2628=\"\",\"\",INDEX(Entradas!$H$3:$H$5000,MATCH(A2628,IF(Entradas!$B$3:$B$5000=D2628,Entradas!$A$3:$A$5000),1))),\"Preço não registrado\")","v":""},{"$f":"IFERROR(G2628*H2628,\"\")","v":""},null,null,{"$f":"IF(K2628=\"\",\"\",HYPERLINK($P$13&K2628,\"Rastreie aqui\"))","v":""},{"$f":"IF(A2628=\"\",\"\",TEXT(A2628,\"mmmm\"))","v":""}]
[null,null,"",null,"","",null,{"$f":"IFERROR(IF(D2629=\"\",\"\",INDEX(Entradas!$H$3:$H$5000,MATCH(A2629,IF(Entradas!$B$3:$B$5000=D2629,Entradas!$A$3:$A$5000),1))),\"Preço não registrado\")","v":""},"",null,null,"",""]
[null,null,"",null,"","",null,{"$f":"IFERROR(IF(D2630=\"\",\"\",INDEX(Entradas!$H$3:$H$5000,MATCH(A2630,IF(Entradas!$B$3:$B$5000=D2630,Entradas!$A$3:$A$5000),1))),\"Preço não registrado\")","v":""},"",null,null,"",""]
[null,null,"",null,"","",null,{"$f":"IFERROR(IF(D2631=\"\",\"\",INDEX(Entradas!$H$3:$H$5000,MATCH(A2631,IF(Entradas!$B$3:$B$5000=D2631,Entradas!$A$3:$A$5000),1))),\"Preço não registrado\")","v":""},"",null,null,"",""]
[null,null,"",null,"","",null,{"$f":"IFERROR(IF(D2632=\"\",\"\",INDEX(Entradas!$H$3:$H$5000,MATCH(A2632,IF(Entradas!$B$3:$B$5000=D2632,Entradas!$A$3:$A$5000),1))),\"Preço não registrado\")","v":""},"",null,null,"",""]
[null,null,"",null,"","",null,{"$f":"IFERROR(IF(D2633=\"\",\"\",INDEX(Entradas!$H$3:$H$5000,MATCH(A2633,IF(Entradas!$B$3:$B$5000=D2633,Entradas!$A$3:$A$5000),1))),\"Preço não registrado\")","v":""},"",null,null,"",""]
[null,null,"",null,"","",null,{"$f":"IFERROR(IF(D2634=\"\",\"\",INDEX(Entradas!$H$3:$H$5000,MATCH(A2634,IF(Entradas!$B$3:$B$5000=D2634,Entradas!$A$3:$A$5000),1))),\"Preço não registrado\")","v":""},"",null,null,"",""]
[null,null,"",null,"","",null,{"$f":"IFERROR(IF(D2635=\"\",\"\",INDEX(Entradas!$H$3:$H$5000,MATCH(A2635,IF(Entradas!$B$3:$B$5000=D2635,Entradas!$A$3:$A$5000),1))),\"Preço não registrado\")","v":""},"",null,null,"",""]
[null,null,"",null,"","",null,{"$f":"IFERROR(IF(D2636=\"\",\"\",INDEX(Entradas!$H$3:$H$5000,MATCH(A2636,IF(Entradas!$B$3:$B$5000=D2636,Entradas!$A$3:$A$5000),1))),\"Preço não registrado\")","v":""},"",null,null,"",""]
[null,null,"",null,"","",null,{"$f":"IFERROR(IF(D2637=\"\",\"\",INDEX(Entradas!$H$3:$H$5000,MATCH(A2637,IF(Entradas!$B$3:$B$5000=D2637,Entradas!$A$3:$A$5000),1))),\"Preço não registrado\")","v":""},"",null,null,"",""]
[null,null,"",null,"","",null,{"$f":"IFERROR(IF(D2638=\"\",\"\",INDEX(Entradas!$H$3:$H$5000,MATCH(A2638,IF(Entradas!$B$3:$B$5000=D2638,Entradas!$A$3:$A$5000),1))),\"Preço não registrado\")","v":""},"",null,null,"",""]
[null,null,"",null,"","",null,{"$f":"IFERROR(IF(D2639=\"\",\"\",INDEX(Entradas!$H$3:$H$5000,MATCH(A2639,IF(Entradas!$B$3:$B$5000=D2639,Entradas!$A$3:$A$5000),1))),\"Preço não registrado\")","v":""},"",null,null,"",""]
[null,null,"",null,"","",null,{"$f":"IFERROR(IF(D2640=\"\",\"\",INDEX(Entradas!$H$3:$H$5000,MATCH(A2640,IF(Entradas!$B$3:$B$5000=D2640,Entradas!$A$3:$A$5000),1))),\"Preço não registrado\")","v":""},"",null,null,"",""]
[null,null,"",null,"","",null,{"$f":"IFERROR(IF(D2641=\"\",\"\",INDEX(Entradas!$H$3:$H$5000,MATCH(A2641,IF(Entradas!$B$3:$B$5000=D2641,Entradas!$A$3:$A$5000),1))),\"Preço não registrado\")","v":""},"",null,null,"",""]
[null,null,"",null,"","",null,{"$f":"IFERROR(IF(D2642=\"\",\"\",INDEX(Entradas!$H$3:$H$5000,MATCH(A2642,IF(Entradas!$B$3:$B$5000=D2642,Entradas!$A$3:$A$5000),1))),\"Preço não registrado\")","v":""},"",null,null,"",""]
[null,null,"",null,"","",null,{"$f":"IFERROR(IF(D2643=\"\",\"\",INDEX(Entradas!$H$3:$H$5000,MATCH(A2643,IF(Entradas!$B$3:$B$5000=D2643,Entradas!$A$3:$A$5000),1))),\"Preço não registrado\")","v":""},"",null,null,"",""]
[null,null,"",null,"","",null,{"$f":"IFERROR(IF(D2644=\"\",\"\",INDEX(Entradas!$H$3:$H$5000,MATCH(A2644,IF(Entradas!$B$3:$B$5000=D2644,Entradas!$A$3:$A$5000),1))),\"Preço não registrado\")","v":""},"",null,null,"",""]
[null,null,"",null,"","",null,{"$f":"IFERROR(IF(D2645=\"\",\"\",INDEX(Entradas!$H$3:$H$5000,MATCH(A2645,IF(Entradas!$B$3:$B$5000=D2645,Entradas!$A$3:$A$5000),1))),\"Preço não registrado\")","v":""},"",null,null,"",""]
[null,null,"",null,"","",null,{"$f":"IFERROR(IF(D2646=\"\",\"\",INDEX(Entradas!$H$3:$H$5000,MATCH(A2646,IF(Entradas!$B$3:$B$5000=D2646,Entradas!$A$3:$A$5000),1))),\"Preço não registrado\")","v":""},"",null,null,"",""]
[null,null,"",null,"","",null,{"$f":"IFERROR(IF(D2647=\"\",\"\",INDEX(Entradas!$H$3:$H$5000,MATCH(A2647,IF(Entradas!$B$3:$B$5000=D2647,Entradas!$A$3:$A$5000),1))),\"Preço não registrado\")","v":""},"",null,null,"",""]
[null,null,"",null,"","",null,{"$f":"IFERROR(IF(D2648=\"\",\"\",INDEX(Entradas!$H$3:$H$5000,MATCH(A2648,IF(Entradas!$B$3:$B$5000=D2648,Entradas!$A$3:$A$5000),1))),\"Preço não registrado\")","v":""},"",null,null,"",""]
[null,null,"",null,"","",null,{"$f":"IFERROR(IF(D2649=\"\",\"\",INDEX(Entradas!$H$3:$H$5000,MATCH(A2649,IF(Entradas!$B$3:$B$5000=D2649,Entradas!$A$3:$A$5000),1))),\"Preço não registrado\")","v":""},"",null,null,"",""]
[null,null,"",null,"","",null,{"$f":"IFERROR(IF(D2650=\"\",\"\",INDEX(Entradas!$H$3:$H$5000,MATCH(A2650,IF(Entradas!$B$3:$B$5000=D2650,Entradas!$A$3:$A$5000),1))),\"Preço não registrado\")","v":""},"",null,null,"",""]
[null,null,"",null,"","",null,{"$f":"IFERROR(IF(D2651=\"\",\"\",INDEX(Entradas!$H$3:$H$5000,MATCH(A2651,IF(Entradas!$B$3:$B$5000=D2651,Entradas!$A$3:$A$5000),1))),\"Preço não registrado\")","v":""},"",null,null,"",""]
[null,null,"",null,"","",null,{"$f":"IFERROR(IF(D2652=\"\",\"\",INDEX(Entradas!$H$3:$H$5000,MATCH(A2652,IF(Entradas!$B$3:$B$5000=D2652,Entradas!$A$3:$A$5000),1))),\"Preço não registrado\")","v":""},"",null,null,"",""]
[null,null,"",null,"","",null,{"$f":"IFERROR(IF(D2653=\"\",\"\",INDEX(Entradas!$H$3:$H$5000,MATCH(A2653,IF(Entradas!$B$3:$B$5000=D2653,Entradas!$A$3:$A$5000),1))),\"Preço não registrado\")","v":""},"",null,null,"",""]
[null,null,"",null,"","",null,{"$f":"IFERROR(IF(D2654=\"\",\"\",INDEX(Entradas!$H$3:$H$5000,MATCH(A2654,IF(Entradas!$B$3:$B$5000=D2654,Entradas!$A$3:$A$5000),1))),\"Preço não registrado\")","v":""},"",null,null,"",""]
[null,null,"",null,"","",null,{"$f":"IFERROR(IF(D2655=\"\",\"\",INDEX(Entradas!$H$3:$H$5000,MATCH(A2655,IF(Entradas!$B$3:$B$5000=D2655,Entradas!$A$3:$A$5000),1))),\"Preço não registrado\")","v":""},"",null,null,"",""]
[null,null,"",null,"","",null,{"$f":"IFERROR(IF(D2656=\"\",\"\",INDEX(Entradas!$H$3:$H$5000,MATCH(A2656,IF(Entradas!$B$3:$B$5000=D2656,Entradas!$A$3:$A$5000),1))),\"Preço não registrado\")","v":""},"",null,null,"",""]
[null,null,"",null,"","",null,{"$f":"IFERROR(IF(D2657=\"\",\"\",INDEX(Entradas!$H$3:$H$5000,MATCH(A2657,IF(Entradas!$B$3:$B$5000=D2657,Entradas!$A$3:$A$5000),1))),\"Preço não registrado\")","v":""},"",null,null,"",""]
[null,null,"",null,"","",null,{"$f":"IFERROR(IF(D2658=\"\",\"\",INDEX(Entradas!$H$3:$H$5000,MATCH(A2658,IF(Entradas!$B$3:$B$5000=D2658,Entradas!$A$3:$A$5000),1))),\"Preço não registrado\")","v":""},"",null,null,"",""]
[null,null,"",null,"","",null,{"$f":"IFERROR(IF(D2659=\"\",\"\",INDEX(Entradas!$H$3:$H$5000,MATCH(A2659,IF(Entradas!$B$3:$B$5000=D2659,Entradas!$A$3:$A$5000),1))),\"Preço não registrado\")","v":""},"",null,null,"",""]
[null,null,"",null,"","",null,{"$f":"IFERROR(IF(D2660=\"\",\"\",INDEX(Entradas!$H$3:$H$5000,MATCH(A2660,IF(Entradas!$B$3:$B$5000=D2660,Entradas!$A$3:$A$5000),1))),\"Preço não registrado\")","v":""},"",null,null,"",""]
[null,null,"",null,"","",null,{"$f":"IFERROR(IF(D2661=\"\",\"\",INDEX(Entradas!$H$3:$H$5000,MATCH(A2661,IF(Entradas!$B$3:$B$5000=D2661,Entradas!$A$3:$A$5000),1))),\"Preço não registrado\")","v":""},"",null,null,"",""]
[null,null,"",null,"","",null,{"$f":"IFERROR(IF(D2662=\"\",\"\",INDEX(Entradas!$H$3:$H$5000,MATCH(A2662,IF(Entradas!$B$3:$B$5000=D2662,Entradas!$A$3:$A$5000),1))),\"Preço não registrado\")","v":""},"",null,null,"",""]
[null,null,"",null,"","",null,{"$f":"IFERROR(IF(D2663=\"\",\"\",INDEX(Entradas!$H$3:$H$5000,MATCH(A2663,IF(Entradas!$B$3:$B$5000=D2663,Entradas!$A$3:$A$5000),1))),\"Preço não registrado\")","v":""},"",null,null,"",""]
[null,null,"",null,"","",null,{"$f":"IFERROR(IF(D2664=\"\",\"\",INDEX(Entradas!$H$3:$H$5000,MATCH(A2664,IF(Entradas!$B$3:$B$5000=D2664,Entradas!$A$3:$A$5000),1))),\"Preço não registrado\")","v":""},"",null,null,"",""]
[null,null,"",null,"","",null,{"$f":"IFERROR(IF(D2665=\"\",\"\",INDEX(Entradas!$H$3:$H$5000,MATCH(A2665,IF(Entradas!$B$3:$B$5000=D2665,Entradas!$A$3:$A$5000),1))),\"Preço não registrado\")","v":""},"",null,null,"",""]
[null,null,"",null,"","",null,{"$f":"IFERROR(IF(D2666=\"\",\"\",INDEX(Entradas!$H$3:$H$5000,MATCH(A2666,IF(Entradas!$B$3:$B$5000=D2666,Entradas!$A$3:$A$5000),1))),\"Preço não registrado\")","v":""},"",null,null,"",""]
[null,null,"",null,"","",null,{"$f":"IFERROR(IF(D2667=\"\",\"\",INDEX(Entradas!$H$3:$H$5000,MATCH(A2667,IF(Entradas!$B$3:$B$5000=D2667,Entradas!$A$3:$A$5000),1))),\"Preço não registrado\")","v":""},"",null,null,"",""]
[null,null,"",null,"","",null,{"$f":"IFERROR(IF(D2668=\"\",\"\",INDEX(Entradas!$H$3:$H$5000,MATCH(A2668,IF(Entradas!$B$3:$B$5000=D2668,Entradas!$A$3:$A$5000),1))),\"Preço não registrado\")","v":""},"",null,null,"",""]
[null,null,"",null,"","",null,{"$f":"IFERROR(IF(D2669=\"\",\"\",INDEX(Entradas!$H$3:$H$5000,MATCH(A2669,IF(Entradas!$B$3:$B$5000=D2669,Entradas!$A$3:$A$5000),1))),\"Preço não registrado\")","v":""},"",null,null,"",""]
[null,null,"",null,"","",null,{"$f":"IFERROR(IF(D2670=\"\",\"\",INDEX(Entradas!$H$3:$H$5000,MATCH(A2670,IF(Entradas!$B$3:$B$5000=D2670,Entradas!$A$3:$A$5000),1))),\"Preço não registrado\")","v":""},"",null,null,"",""]
[null,null,"",null,"","",null,{"$f":"IFERROR(IF(D2671=\"\",\"\",INDEX(Entradas!$H$3:$H$5000,MATCH(A2671,IF(Entradas!$B$3:$B$5000=D2671,Entradas!$A$3:$A$5000),1))),\"Preço não registrado\")","v":""},"",null,null,"",""]
[null,null,"",null,"","",null,{"$f":"IFERROR(IF(D2672=\"\",\"\",INDEX(Entradas!$H$3:$H$5000,MATCH(A2672,IF(Entradas!$B$3:$B$5000=D2672,Entradas!$A$3:$A$5000),1))),\"Preço não registrado\")","v":""},"",null,null,"",""]
[null,null,"",null,"","",null,{"$f":"IFERROR(IF(D2673=\"\",\"\",INDEX(Entradas!$H$3:$H$5000,MATCH(A2673,IF(Entradas!$B$3:$B$5000=D2673,Entradas!$A$3:$A$5000),1))),\"Preço não registrado\")","v":""},"",null,null,"",""]
[null,null,"",null,"","",null,{"$f":"IFERROR(IF(D2674=\"\",\"\",INDEX(Entradas!$H$3:$H$5000,MATCH(A2674,IF(Entradas!$B$3:$B$5000=D2674,Entradas!$A$3:$A$5000),1))),\"Preço não registrado\")","v":""},"",null,null,"",""]
[null,null,"",null,"","",null,{"$f":"IFERROR(IF(D2675=\"\",\"\",INDEX(Entradas!$H$3:$H$5000,MATCH(A2675,IF(Entradas!$B$3:$B$5000=D2675,Entradas!$A$3:$A$5000),1))),\"Preço não registrado\")","v":""},"",null,null,"",""]
[null,null,"",null,"","",null,{"$f":"IFERROR(IF(D2676=\"\",\"\",INDEX(Entradas!$H$3:$H$5000,MATCH(A2676,IF(Entradas!$B$3:$B$5000=D2676,Entradas!$A$3:$A$5000),1))),\"Preço não registrado\")","v":""},"",null,null,"",""]
[null,null,"",null,"","",null,{"$f":"IFERROR(IF(D2677=\"\",\"\",INDEX(Entradas!$H$3:$H$5000,MATCH(A2677,IF(Entradas!$B$3:$B$5000=D2677,Entradas!$A$3:$A$5000),1))),\"Preço não registrado\")","v":""},"",null,null,"",""]
[null,null,"",null,"","",null,{"$f":"IFERROR(IF(D2678=\"\",\"\",INDEX(Entradas!$H$3:$H$5000,MATCH(A2678,IF(Entradas!$B$3:$B$5000=D2678,Entradas!$A$3:$A$5000),1))),\"Preço não registrado\")","v":""},"",null,null,"",""]
[null,null,"",null,"","",null,{"$f":"IFERROR(IF(D2679=\"\",\"\",INDEX(Entradas!$H$3:$H$5000,MATCH(A2679,IF(Entradas!$B$3:$B$5000=D2679,Entradas!$A$3:$A$5000),1))),\"Preço não registrado\")","v":""},"",null,null,"",""]
[null,null,"",null,"","",null,{"$f":"IFERROR(IF(D2680=\"\",\"\",INDEX(Entradas!$H$3:$H$5000,MATCH(A2680,IF(Entradas!$B$3:$B$5000=D2680,Entradas!$A$3:$A$5000),1))),\"Preço não registrado\")","v":""},"",null,null,"",""]
[null,null,"",null,"","",null,{"$f":"IFERROR(IF(D2681=\"\",\"\",INDEX(Entradas!$H$3:$H$5000,MATCH(A2681,IF(Entradas!$B$3:$B$5000=D2681,Entradas!$A$3:$A$5000),1))),\"Preço não registrado\")","v":""},"",null,null,"",""]
[null,null,"",null,"","",null,{"$f":"IFERROR(IF(D2682=\"\",\"\",INDEX(Entradas!$H$3:$H$5000,MATCH(A2682,IF(Entradas!$B$3:$B$5000=D2682,Entradas!$A$3:$A$5000),1))),\"Preço não registrado\")","v":""},"",null,null,"",""]
[null,null,"",null,"","",null,{"$f":"IFERROR(IF(D2683=\"\",\"\",INDEX(Entradas!$H$3:$H$5000,MATCH(A2683,IF(Entradas!$B$3:$B$5000=D2683,Entradas!$A$3:$A$5000),1))),\"Preço não registrado\")","v":""},"",null,null,"",""]
[null,null,"",null,"","",null,{"$f":"IFERROR(IF(D2684=\"\",\"\",INDEX(Entradas!$H$3:$H$5000,MATCH(A2684,IF(Entradas!$B$3:$B$5000=D2684,Entradas!$A$3:$A$5000),1))),\"Preço não registrado\")","v":""},"",null,null,"",""]
[null,null,"",null,"","",null,{"$f":"IFERROR(IF(D2685=\"\",\"\",INDEX(Entradas!$H$3:$H$5000,MATCH(A2685,IF(Entradas!$B$3:$B$5000=D2685,Entradas!$A$3:$A$5000),1))),\"Preço não registrado\")","v":""},"",null,null,"",""]
[null,null,"",null,"","",null,{"$f":"IFERROR(IF(D2686=\"\",\"\",INDEX(Entradas!$H$3:$H$5000,MATCH(A2686,IF(Entradas!$B$3:$B$5000=D2686,Entradas!$A$3:$A$5000),1))),\"Preço não registrado\")","v":""},"",null,null,"",""]
[null,null,"",null,"","",null,{"$f":"IFERROR(IF(D2687=\"\",\"\",INDEX(Entradas!$H$3:$H$5000,MATCH(A2687,IF(Entradas!$B$3:$B$5000=D2687,Entradas!$A$3:$A$5000),1))),\"Preço não registrado\")","v":""},"",null,null,"",""]
[null,null,"",null,"","",null,{"$f":"IFERROR(IF(D2688=\"\",\"\",INDEX(Entradas!$H$3:$H$5000,MATCH(A2688,IF(Entradas!$B$3:$B$5000=D2688,Entradas!$A$3:$A$5000),1))),\"Preço não registrado\")","v":""},"",null,null,"",""]
[null,null,"",null,"","",null,{"$f":"IFERROR(IF(D2689=\"\",\"\",INDEX(Entradas!$H$3:$H$5000,MATCH(A2689,IF(Entradas!$B$3:$B$5000=D2689,Entradas!$A$3:$A$5000),1))),\"Preço não registrado\")","v":""},"",null,null,"",""]
[null,null,"",null,"","",null,{"$f":"IFERROR(IF(D2690=\"\",\"\",INDEX(Entradas!$H$3:$H$5000,MATCH(A2690,IF(Entradas!$B$3:$B$5000=D2690,Entradas!$A$3:$A$5000),1))),\"Preço não registrado\")","v":""},"",null,null,"",""]
[null,null,{"$f":"IFERROR(IF(B2691=\"\",\"\",VLOOKUP(B2691,Clientes,2,FALSE)),\"\")","v":""},null,{"$f":"IF(D2691=\"\",\"\",VLOOKUP(D2691,Itens,2,FALSE))","v":""},{"$f":"IF(D2691=\"\",\"\",VLOOKUP(D2691,Itens,3,FALSE))","v":""},null,{"$f":"IFERROR(IF(D2691=\"\",\"\",INDEX(Entradas!$H$3:$H$5000,MATCH(A2691,IF(Entradas!$B$3:$B$5000=D2691,Entradas!$A$3:$A$5000),1))),\"Preço não registrado\")","v":""},"",null,null,"",""]
[null,null,"",null,"","",null,{"$f":"IFERROR(IF(D2692=\"\",\"\",INDEX(Entradas!$H$3:$H$5000,MATCH(A2692,IF(Entradas!$B$3:$B$5000=D2692,Entradas!$A$3:$A$5000),1))),\"Preço não registrado\")","v":""},{"$f":"IFERROR(G2692*H2692,\"\")","v":""},null,null,{"$f":"IF(K2692=\"\",\"\",HYPERLINK($P$13&K2692,\"Rastreie aqui\"))","v":""},{"$f":"IF(A2692=\"\",\"\",TEXT(A2692,\"mmmm\"))","v":""}]
[null,null,"",null,"","",null,{"$f":"IFERROR(IF(D2693=\"\",\"\",INDEX(Entradas!$H$3:$H$5000,MATCH(A2693,IF(Entradas!$B$3:$B$5000=D2693,Entradas!$A$3:$A$5000),1))),\"Preço não registrado\")","v":""},"",null,null,"",""]
[null,null,"",null,"","",null,{"$f":"IFERROR(IF(D2694=\"\",\"\",INDEX(Entradas!$H$3:$H$5000,MATCH(A2694,IF(Entradas!$B$3:$B$5000=D2694,Entradas!$A$3:$A$5000),1))),\"Preço não registrado\")","v":""},"",null,null,"",""]
[null,null,"",null,"","",null,{"$f":"IFERROR(IF(D2695=\"\",\"\",INDEX(Entradas!$H$3:$H$5000,MATCH(A2695,IF(Entradas!$B$3:$B$5000=D2695,Entradas!$A$3:$A$5000),1))),\"Preço não registrado\")","v":""},"",null,null,"",""]
[null,null,"",null,"","",null,{"$f":"IFERROR(IF(D2696=\"\",\"\",INDEX(Entradas!$H$3:$H$5000,MATCH(A2696,IF(Entradas!$B$3:$B$5000=D2696,Entradas!$A$3:$A$5000),1))),\"Preço não registrado\")","v":""},"",null,null,"",""]
[null,null,"",null,"","",null,{"$f":"IFERROR(IF(D2697=\"\",\"\",INDEX(Entradas!$H$3:$H$5000,MATCH(A2697,IF(Entradas!$B$3:$B$5000=D2697,Entradas!$A$3:$A$5000),1))),\"Preço não registrado\")","v":""},"",null,null,"",""]
[null,null,"",null,"","",null,{"$f":"IFERROR(IF(D2698=\"\",\"\",INDEX(Entradas!$H$3:$H$5000,MATCH(A2698,IF(Entradas!$B$3:$B$5000=D2698,Entradas!$A$3:$A$5000),1))),\"Preço não registrado\")","v":""},"",null,null,"",""]
[null,null,"",null,"","",null,{"$f":"IFERROR(IF(D2699=\"\",\"\",INDEX(Entradas!$H$3:$H$5000,MATCH(A2699,IF(Entradas!$B$3:$B$5000=D2699,Entradas!$A$3:$A$5000),1))),\"Preço não registrado\")","v":""},"",null,null,"",""]
[null,null,"",null,"","",null,{"$f":"IFERROR(IF(D2700=\"\",\"\",INDEX(Entradas!$H$3:$H$5000,MATCH(A2700,IF(Entradas!$B$3:$B$5000=D2700,Entradas!$A$3:$A$5000),1))),\"Preço não registrado\")","v":""},"",null,null,"",""]
[null,null,"",null,"","",null,{"$f":"IFERROR(IF(D2701=\"\",\"\",INDEX(Entradas!$H$3:$H$5000,MATCH(A2701,IF(Entradas!$B$3:$B$5000=D2701,Entradas!$A$3:$A$5000),1))),\"Preço não registrado\")","v":""},"",null,null,"",""]
[null,null,"",null,"","",null,{"$f":"IFERROR(IF(D2702=\"\",\"\",INDEX(Entradas!$H$3:$H$5000,MATCH(A2702,IF(Entradas!$B$3:$B$5000=D2702,Entradas!$A$3:$A$5000),1))),\"Preço não registrado\")","v":""},"",null,null,"",""]
[null,null,"",null,"","",null,{"$f":"IFERROR(IF(D2703=\"\",\"\",INDEX(Entradas!$H$3:$H$5000,MATCH(A2703,IF(Entradas!$B$3:$B$5000=D2703,Entradas!$A$3:$A$5000),1))),\"Preço não registrado\")","v":""},"",null,null,"",""]
[null,null,"",null,"","",null,{"$f":"IFERROR(IF(D2704=\"\",\"\",INDEX(Entradas!$H$3:$H$5000,MATCH(A2704,IF(Entradas!$B$3:$B$5000=D2704,Entradas!$A$3:$A$5000),1))),\"Preço não registrado\")","v":""},"",null,null,"",""]
[null,null,"",null,"","",null,{"$f":"IFERROR(IF(D2705=\"\",\"\",INDEX(Entradas!$H$3:$H$5000,MATCH(A2705,IF(Entradas!$B$3:$B$5000=D2705,Entradas!$A$3:$A$5000),1))),\"Preço não registrado\")","v":""},"",null,null,"",""]
[null,null,"",null,"","",null,{"$f":"IFERROR(IF(D2706=\"\",\"\",INDEX(Entradas!$H$3:$H$5000,MATCH(A2706,IF(Entradas!$B$3:$B$5000=D2706,Entradas!$A$3:$A$5000),1))),\"Preço não registrado\")","v":""},"",null,null,"",""]
[null,null,"",null,"","",null,{"$f":"IFERROR(IF(D2707=\"\",\"\",INDEX(Entradas!$H$3:$H$5000,MATCH(A2707,IF(Entradas!$B$3:$B$5000=D2707,Entradas!$A$3:$A$5000),1))),\"Preço não registrado\")","v":""},"",null,null,"",""]
[null,null,"",null,"","",null,{"$f":"IFERROR(IF(D2708=\"\",\"\",INDEX(Entradas!$H$3:$H$5000,MATCH(A2708,IF(Entradas!$B$3:$B$5000=D2708,Entradas!$A$3:$A$5000),1))),\"Preço não registrado\")","v":""},"",null,null,"",""]
[null,null,"",null,"","",null,{"$f":"IFERROR(IF(D2709=\"\",\"\",INDEX(Entradas!$H$3:$H$5000,MATCH(A2709,IF(Entradas!$B$3:$B$5000=D2709,Entradas!$A$3:$A$5000),1))),\"Preço não registrado\")","v":""},"",null,null,"",""]
[null,null,"",null,"","",null,{"$f":"IFERROR(IF(D2710=\"\",\"\",INDEX(Entradas!$H$3:$H$5000,MATCH(A2710,IF(Entradas!$B$3:$B$5000=D2710,Entradas!$A$3:$A$5000),1))),\"Preço não registrado\")","v":""},"",null,null,"",""]
[null,null,"",null,"","",null,{"$f":"IFERROR(IF(D2711=\"\",\"\",INDEX(Entradas!$H$3:$H$5000,MATCH(A2711,IF(Entradas!$B$3:$B$5000=D2711,Entradas!$A$3:$A$5000),1))),\"Preço não registrado\")","v":""},"",null,null,"",""]
[null,null,"",null,"","",null,{"$f":"IFERROR(IF(D2712=\"\",\"\",INDEX(Entradas!$H$3:$H$5000,MATCH(A2712,IF(Entradas!$B$3:$B$5000=D2712,Entradas!$A$3:$A$5000),1))),\"Preço não registrado\")","v":""},"",null,null,"",""]
[null,null,"",null,"","",null,{"$f":"IFERROR(IF(D2713=\"\",\"\",INDEX(Entradas!$H$3:$H$5000,MATCH(A2713,IF(Entradas!$B$3:$B$5000=D2713,Entradas!$A$3:$A$5000),1))),\"Preço não registrado\")","v":""},"",null,null,"",""]
[null,null,"",null,"","",null,{"$f":"IFERROR(IF(D2714=\"\",\"\",INDEX(Entradas!$H$3:$H$5000,MATCH(A2714,IF(Entradas!$B$3:$B$5000=D2714,Entradas!$A$3:$A$5000),1))),\"Preço não registrado\")","v":""},"",null,null,"",""]
[null,null,"",null,"","",null,{"$f":"IFERROR(IF(D2715=\"\",\"\",INDEX(Entradas!$H$3:$H$5000,MATCH(A2715,IF(Entradas!$B$3:$B$5000=D2715,Entradas!$A$3:$A$5000),1))),\"Preço não registrado\")","v":""},"",null,null,"",""]
[null,null,"",null,"","",null,{"$f":"IFERROR(IF(D2716=\"\",\"\",INDEX(Entradas!$H$3:$H$5000,MATCH(A2716,IF(Entradas!$B$3:$B$5000=D2716,Entradas!$A$3:$A$5000),1))),\"Preço não registrado\")","v":""},"",null,null,"",""]
[null,null,"",null,"","",null,{"$f":"IFERROR(IF(D2717=\"\",\"\",INDEX(Entradas!$H$3:$H$5000,MATCH(A2717,IF(Entradas!$B$3:$B$5000=D2717,Entradas!$A$3:$A$5000),1))),\"Preço não registrado\")","v":""},"",null,null,"",""]
[null,null,"",null,"","",null,{"$f":"IFERROR(IF(D2718=\"\",\"\",INDEX(Entradas!$H$3:$H$5000,MATCH(A2718,IF(Entradas!$B$3:$B$5000=D2718,Entradas!$A$3:$A$5000),1))),\"Preço não registrado\")","v":""},"",null,null,"",""]
[null,null,"",null,"","",null,{"$f":"IFERROR(IF(D2719=\"\",\"\",INDEX(Entradas!$H$3:$H$5000,MATCH(A2719,IF(Entradas!$B$3:$B$5000=D2719,Entradas!$A$3:$A$5000),1))),\"Preço não registrado\")","v":""},"",null,null,"",""]
[null,null,"",null,"","",null,{"$f":"IFERROR(IF(D2720=\"\",\"\",INDEX(Entradas!$H$3:$H$5000,MATCH(A2720,IF(Entradas!$B$3:$B$5000=D2720,Entradas!$A$3:$A$5000),1))),\"Preço não registrado\")","v":""},"",null,null,"",""]
[null,null,"",null,"","",null,{"$f":"IFERROR(IF(D2721=\"\",\"\",INDEX(Entradas!$H$3:$H$5000,MATCH(A2721,IF(Entradas!$B$3:$B$5000=D2721,Entradas!$A$3:$A$5000),1))),\"Preço não registrado\")","v":""},"",null,null,"",""]
[null,null,"",null,"","",null,{"$f":"IFERROR(IF(D2722=\"\",\"\",INDEX(Entradas!$H$3:$H$5000,MATCH(A2722,IF(Entradas!$B$3:$B$5000=D2722,Entradas!$A$3:$A$5000),1))),\"Preço não registrado\")","v":""},"",null,null,"",""]
[null,null,"",null,"","",null,{"$f":"IFERROR(IF(D2723=\"\",\"\",INDEX(Entradas!$H$3:$H$5000,MATCH(A2723,IF(Entradas!$B$3:$B$5000=D2723,Entradas!$A$3:$A$5000),1))),\"Preço não registrado\")","v":""},"",null,null,"",""]
[null,null,"",null,"","",null,{"$f":"IFERROR(IF(D2724=\"\",\"\",INDEX(Entradas!$H$3:$H$5000,MATCH(A2724,IF(Entradas!$B$3:$B$5000=D2724,Entradas!$A$3:$A$5000),1))),\"Preço não registrado\")","v":""},"",null,null,"",""]
[null,null,"",null,"","",null,{"$f":"IFERROR(IF(D2725=\"\",\"\",INDEX(Entradas!$H$3:$H$5000,MATCH(A2725,IF(Entradas!$B$3:$B$5000=D2725,Entradas!$A$3:$A$5000),1))),\"Preço não registrado\")","v":""},"",null,null,"",""]
[null,null,"",null,"","",null,{"$f":"IFERROR(IF(D2726=\"\",\"\",INDEX(Entradas!$H$3:$H$5000,MATCH(A2726,IF(Entradas!$B$3:$B$5000=D2726,Entradas!$A$3:$A$5000),1))),\"Preço não registrado\")","v":""},"",null,null,"",""]
[null,null,"",null,"","",null,{"$f":"IFERROR(IF(D2727=\"\",\"\",INDEX(Entradas!$H$3:$H$5000,MATCH(A2727,IF(Entradas!$B$3:$B$5000=D2727,Entradas!$A$3:$A$5000),1))),\"Preço não registrado\")","v":""},"",null,null,"",""]
[null,null,"",null,"","",null,{"$f":"IFERROR(IF(D2728=\"\",\"\",INDEX(Entradas!$H$3:$H$5000,MATCH(A2728,IF(Entradas!$B$3:$B$5000=D2728,Entradas!$A$3:$A$5000),1))),\"Preço não registrado\")","v":""},"",null,null,"",""]
[null,null,"",null,"","",null,{"$f":"IFERROR(IF(D2729=\"\",\"\",INDEX(Entradas!$H$3:$H$5000,MATCH(A2729,IF(Entradas!$B$3:$B$5000=D2729,Entradas!$A$3:$A$5000),1))),\"Preço não registrado\")","v":""},"",null,null,"",""]
[null,null,"",null,"","",null,{"$f":"IFERROR(IF(D2730=\"\",\"\",INDEX(Entradas!$H$3:$H$5000,MATCH(A2730,IF(Entradas!$B$3:$B$5000=D2730,Entradas!$A$3:$A$5000),1))),\"Preço não registrado\")","v":""},"",null,null,"",""]
[null,null,"",null,"","",null,{"$f":"IFERROR(IF(D2731=\"\",\"\",INDEX(Entradas!$H$3:$H$5000,MATCH(A2731,IF(Entradas!$B$3:$B$5000=D2731,Entradas!$A$3:$A$5000),1))),\"Preço não registrado\")","v":""},"",null,null,"",""]
[null,null,"",null,"","",null,{"$f":"IFERROR(IF(D2732=\"\",\"\",INDEX(Entradas!$H$3:$H$5000,MATCH(A2732,IF(Entradas!$B$3:$B$5000=D2732,Entradas!$A$3:$A$5000),1))),\"Preço não registrado\")","v":""},"",null,null,"",""]
[null,null,"",null,"","",null,{"$f":"IFERROR(IF(D2733=\"\",\"\",INDEX(Entradas!$H$3:$H$5000,MATCH(A2733,IF(Entradas!$B$3:$B$5000=D2733,Entradas!$A$3:$A$5000),1))),\"Preço não registrado\")","v":""},"",null,null,"",""]
[null,null,"",null,"","",null,{"$f":"IFERROR(IF(D2734=\"\",\"\",INDEX(Entradas!$H$3:$H$5000,MATCH(A2734,IF(Entradas!$B$3:$B$5000=D2734,Entradas!$A$3:$A$5000),1))),\"Preço não registrado\")","v":""},"",null,null,"",""]
[null,null,"",null,"","",null,{"$f":"IFERROR(IF(D2735=\"\",\"\",INDEX(Entradas!$H$3:$H$5000,MATCH(A2735,IF(Entradas!$B$3:$B$5000=D2735,Entradas!$A$3:$A$5000),1))),\"Preço não registrado\")","v":""},"",null,null,"",""]
[null,null,"",null,"","",null,{"$f":"IFERROR(IF(D2736=\"\",\"\",INDEX(Entradas!$H$3:$H$5000,MATCH(A2736,IF(Entradas!$B$3:$B$5000=D2736,Entradas!$A$3:$A$5000),1))),\"Preço não registrado\")","v":""},"",null,null,"",""]
[null,null,"",null,"","",null,{"$f":"IFERROR(IF(D2737=\"\",\"\",INDEX(Entradas!$H$3:$H$5000,MATCH(A2737,IF(Entradas!$B$3:$B$5000=D2737,Entradas!$A$3:$A$5000),1))),\"Preço não registrado\")","v":""},"",null,null,"",""]
[null,null,"",null,"","",null,{"$f":"IFERROR(IF(D2738=\"\",\"\",INDEX(Entradas!$H$3:$H$5000,MATCH(A2738,IF(Entradas!$B$3:$B$5000=D2738,Entradas!$A$3:$A$5000),1))),\"Preço não registrado\")","v":""},"",null,null,"",""]
[null,null,"",null,"","",null,{"$f":"IFERROR(IF(D2739=\"\",\"\",INDEX(Entradas!$H$3:$H$5000,MATCH(A2739,IF(Entradas!$B$3:$B$5000=D2739,Entradas!$A$3:$A$5000),1))),\"Preço não registrado\")","v":""},"",null,null,"",""]
[null,null,"",null,"","",null,{"$f":"IFERROR(IF(D2740=\"\",\"\",INDEX(Entradas!$H$3:$H$5000,MATCH(A2740,IF(Entradas!$B$3:$B$5000=D2740,Entradas!$A$3:$A$5000),1))),\"Preço não registrado\")","v":""},"",null,null,"",""]
[null,null,"",null,"","",null,{"$f":"IFERROR(IF(D2741=\"\",\"\",INDEX(Entradas!$H$3:$H$5000,MATCH(A2741,IF(Entradas!$B$3:$B$5000=D2741,Entradas!$A$3:$A$5000),1))),\"Preço não registrado\")","v":""},"",null,null,"",""]
[null,null,"",null,"","",null,{"$f":"IFERROR(IF(D2742=\"\",\"\",INDEX(Entradas!$H$3:$H$5000,MATCH(A2742,IF(Entradas!$B$3:$B$5000=D2742,Entradas!$A$3:$A$5000),1))),\"Preço não registrado\")","v":""},"",null,null,"",""]
[null,null,"",null,"","",null,{"$f":"IFERROR(IF(D2743=\"\",\"\",INDEX(Entradas!$H$3:$H$5000,MATCH(A2743,IF(Entradas!$B$3:$B$5000=D2743,Entradas!$A$3:$A$5000),1))),\"Preço não registrado\")","v":""},"",null,null,"",""]
[null,null,"",null,"","",null,{"$f":"IFERROR(IF(D2744=\"\",\"\",INDEX(Entradas!$H$3:$H$5000,MATCH(A2744,IF(Entradas!$B$3:$B$5000=D2744,Entradas!$A$3:$A$5000),1))),\"Preço não registrado\")","v":""},"",null,null,"",""]
[null,null,"",null,"","",null,{"$f":"IFERROR(IF(D2745=\"\",\"\",INDEX(Entradas!$H$3:$H$5000,MATCH(A2745,IF(Entradas!$B$3:$B$5000=D2745,Entradas!$A$3:$A$5000),1))),\"Preço não registrado\")","v":""},"",null,null,"",""]
[null,null,"",null,"","",null,{"$f":"IFERROR(IF(D2746=\"\",\"\",INDEX(Entradas!$H$3:$H$5000,MATCH(A2746,IF(Entradas!$B$3:$B$5000=D2746,Entradas!$A$3:$A$5000),1))),\"Preço não registrado\")","v":""},"",null,null,"",""]
[null,null,"",null,"","",null,{"$f":"IFERROR(IF(D2747=\"\",\"\",INDEX(Entradas!$H$3:$H$5000,MATCH(A2747,IF(Entradas!$B$3:$B$5000=D2747,Entradas!$A$3:$A$5000),1))),\"Preço não registrado\")","v":""},"",null,null,"",""]
[null,null,"",null,"","",null,{"$f":"IFERROR(IF(D2748=\"\",\"\",INDEX(Entradas!$H$3:$H$5000,MATCH(A2748,IF(Entradas!$B$3:$B$5000=D2748,Entradas!$A$3:$A$5000),1))),\"Preço não registrado\")","v":""},"",null,null,"",""]
[null,null,"",null,"","",null,{"$f":"IFERROR(IF(D2749=\"\",\"\",INDEX(Entradas!$H$3:$H$5000,MATCH(A2749,IF(Entradas!$B$3:$B$5000=D2749,Entradas!$A$3:$A$5000),1))),\"Preço não registrado\")","v":""},"",null,null,"",""]
[null,null,"",null,"","",null,{"$f":"IFERROR(IF(D2750=\"\",\"\",INDEX(Entradas!$H$3:$H$5000,MATCH(A2750,IF(Entradas!$B$3:$B$5000=D2750,Entradas!$A$3:$A$5000),1))),\"Preço não registrado\")","v":""},"",null,null,"",""]
[null,null,"",null,"","",null,{"$f":"IFERROR(IF(D2751=\"\",\"\",INDEX(Entradas!$H$3:$H$5000,MATCH(A2751,IF(Entradas!$B$3:$B$5000=D2751,Entradas!$A$3:$A$5000),1))),\"Preço não registrado\")","v":""},"",null,null,"",""]
[null,null,"",null,"","",null,{"$f":"IFERROR(IF(D2752=\"\",\"\",INDEX(Entradas!$H$3:$H$5000,MATCH(A2752,IF(Entradas!$B$3:$B$5000=D2752,Entradas!$A$3:$A$5000),1))),\"Preço não registrado\")","v":""},"",null,null,"",""]
[null,null,"",null,"","",null,{"$f":"IFERROR(IF(D2753=\"\",\"\",INDEX(Entradas!$H$3:$H$5000,MATCH(A2753,IF(Entradas!$B$3:$B$5000=D2753,Entradas!$A$3:$A$5000),1))),\"Preço não registrado\")","v":""},"",null,null,"",""]
[null,null,"",null,"","",null,{"$f":"IFERROR(IF(D2754=\"\",\"\",INDEX(Entradas!$H$3:$H$5000,MATCH(A2754,IF(Entradas!$B$3:$B$5000=D2754,Entradas!$A$3:$A$5000),1))),\"Preço não registrado\")","v":""},"",null,null,"",""]
[null,null,{"$f":"IFERROR(IF(B2755=\"\",\"\",VLOOKUP(B2755,Clientes,2,FALSE)),\"\")","v":""},null,{"$f":"IF(D2755=\"\",\"\",VLOOKUP(D2755,Itens,2,FALSE))","v":""},{"$f":"IF(D2755=\"\",\"\",VLOOKUP(D2755,Itens,3,FALSE))","v":""},null,{"$f":"IFERROR(IF(D2755=\"\",\"\",INDEX(Entradas!$H$3:$H$5000,MATCH(A2755,IF(Entradas!$B$3:$B$5000=D2755,Entradas!$A$3:$A$5000),1))),\"Preço não registrado\")","v":""},"",null,null,"",""]
[null,null,"",null,"","",null,{"$f":"IFERROR(IF(D2756=\"\",\"\",INDEX(Entradas!$H$3:$H$5000,MATCH(A2756,IF(Entradas!$B$3:$B$5000=D2756,Entradas!$A$3:$A$5000),1))),\"Preço não registrado\")","v":""},{"$f":"IFERROR(G2756*H2756,\"\")","v":""},null,null,{"$f":"IF(K2756=\"\",\"\",HYPERLINK($P$13&K2756,\"Rastreie aqui\"))","v":""},{"$f":"IF(A2756=\"\",\"\",TEXT(A2756,\"mmmm\"))","v":""}]
[null,null,"",null,"","",null,{"$f":"IFERROR(IF(D2757=\"\",\"\",INDEX(Entradas!$H$3:$H$5000,MATCH(A2757,IF(Entradas!$B$3:$B$5000=D2757,Entradas!$A$3:$A$5000),1))),\"Preço não registrado\")","v":""},"",null,null,"",""]
[null,null,"",null,"","",null,{"$f":"IFERROR(IF(D2758=\"\",\"\",INDEX(Entradas!$H$3:$H$5000,MATCH(A2758,IF(Entradas!$B$3:$B$5000=D2758,Entradas!$A$3:$A$5000),1))),\"Preço não registrado\")","v":""},"",null,null,"",""]
[null,null,"",null,"","",null,{"$f":"IFERROR(IF(D2759=\"\",\"\",INDEX(Entradas!$H$3:$H$5000,MATCH(A2759,IF(Entradas!$B$3:$B$5000=D2759,Entradas!$A$3:$A$5000),1))),\"Preço não registrado\")","v":""},"",null,null,"",""]
[null,null,"",null,"","",null,{"$f":"IFERROR(IF(D2760=\"\",\"\",INDEX(Entradas!$H$3:$H$5000,MATCH(A2760,IF(Entradas!$B$3:$B$5000=D2760,Entradas!$A$3:$A$5000),1))),\"Preço não registrado\")","v":""},"",null,null,"",""]
[null,null,"",null,"","",null,{"$f":"IFERROR(IF(D2761=\"\",\"\",INDEX(Entradas!$H$3:$H$5000,MATCH(A2761,IF(Entradas!$B$3:$B$5000=D2761,Entradas!$A$3:$A$5000),1))),\"Preço não registrado\")","v":""},"",null,null,"",""]
[null,null,"",null,"","",null,{"$f":"IFERROR(IF(D2762=\"\",\"\",INDEX(Entradas!$H$3:$H$5000,MATCH(A2762,IF(Entradas!$B$3:$B$5000=D2762,Entradas!$A$3:$A$5000),1))),\"Preço não registrado\")","v":""},"",null,null,"",""]
[null,null,"",null,"","",null,{"$f":"IFERROR(IF(D2763=\"\",\"\",INDEX(Entradas!$H$3:$H$5000,MATCH(A2763,IF(Entradas!$B$3:$B$5000=D2763,Entradas!$A$3:$A$5000),1))),\"Preço não registrado\")","v":""},"",null,null,"",""]
[null,null,"",null,"","",null,{"$f":"IFERROR(IF(D2764=\"\",\"\",INDEX(Entradas!$H$3:$H$5000,MATCH(A2764,IF(Entradas!$B$3:$B$5000=D2764,Entradas!$A$3:$A$5000),1))),\"Preço não registrado\")","v":""},"",null,null,"",""]
[null,null,"",null,"","",null,{"$f":"IFERROR(IF(D2765=\"\",\"\",INDEX(Entradas!$H$3:$H$5000,MATCH(A2765,IF(Entradas!$B$3:$B$5000=D2765,Entradas!$A$3:$A$5000),1))),\"Preço não registrado\")","v":""},"",null,null,"",""]
[null,null,"",null,"","",null,{"$f":"IFERROR(IF(D2766=\"\",\"\",INDEX(Entradas!$H$3:$H$5000,MATCH(A2766,IF(Entradas!$B$3:$B$5000=D2766,Entradas!$A$3:$A$5000),1))),\"Preço não registrado\")","v":""},"",null,null,"",""]
[null,null,"",null,"","",null,{"$f":"IFERROR(IF(D2767=\"\",\"\",INDEX(Entradas!$H$3:$H$5000,MATCH(A2767,IF(Entradas!$B$3:$B$5000=D2767,Entradas!$A$3:$A$5000),1))),\"Preço não registrado\")","v":""},"",null,null,"",""]
[null,null,"",null,"","",null,{"$f":"IFERROR(IF(D2768=\"\",\"\",INDEX(Entradas!$H$3:$H$5000,MATCH(A2768,IF(Entradas!$B$3:$B$5000=D2768,Entradas!$A$3:$A$5000),1))),\"Preço não registrado\")","v":""},"",null,null,"",""]
[null,null,"",null,"","",null,{"$f":"IFERROR(IF(D2769=\"\",\"\",INDEX(Entradas!$H$3:$H$5000,MATCH(A2769,IF(Entradas!$B$3:$B$5000=D2769,Entradas!$A$3:$A$5000),1))),\"Preço não registrado\")","v":""},"",null,null,"",""]
[null,null,"",null,"","",null,{"$f":"IFERROR(IF(D2770=\"\",\"\",INDEX(Entradas!$H$3:$H$5000,MATCH(A2770,IF(Entradas!$B$3:$B$5000=D2770,Entradas!$A$3:$A$5000),1))),\"Preço não registrado\")","v":""},"",null,null,"",""]
[null,null,"",null,"","",null,{"$f":"IFERROR(IF(D2771=\"\",\"\",INDEX(Entradas!$H$3:$H$5000,MATCH(A2771,IF(Entradas!$B$3:$B$5000=D2771,Entradas!$A$3:$A$5000),1))),\"Preço não registrado\")","v":""},"",null,null,"",""]
[null,null,"",null,"","",null,{"$f":"IFERROR(IF(D2772=\"\",\"\",INDEX(Entradas!$H$3:$H$5000,MATCH(A2772,IF(Entradas!$B$3:$B$5000=D2772,Entradas!$A$3:$A$5000),1))),\"Preço não registrado\")","v":""},"",null,null,"",""]
[null,null,"",null,"","",null,{"$f":"IFERROR(IF(D2773=\"\",\"\",INDEX(Entradas!$H$3:$H$5000,MATCH(A2773,IF(Entradas!$B$3:$B$5000=D2773,Entradas!$A$3:$A$5000),1))),\"Preço não registrado\")","v":""},"",null,null,"",""]
[null,null,"",null,"","",null,{"$f":"IFERROR(IF(D2774=\"\",\"\",INDEX(Entradas!$H$3:$H$5000,MATCH(A2774,IF(Entradas!$B$3:$B$5000=D2774,Entradas!$A$3:$A$5000),1))),\"Preço não registrado\")","v":""},"",null,null,"",""]
[null,null,"",null,"","",null,{"$f":"IFERROR(IF(D2775=\"\",\"\",INDEX(Entradas!$H$3:$H$5000,MATCH(A2775,IF(Entradas!$B$3:$B$5000=D2775,Entradas!$A$3:$A$5000),1))),\"Preço não registrado\")","v":""},"",null,null,"",""]
[null,null,"",null,"","",null,{"$f":"IFERROR(IF(D2776=\"\",\"\",INDEX(Entradas!$H$3:$H$5000,MATCH(A2776,IF(Entradas!$B$3:$B$5000=D2776,Entradas!$A$3:$A$5000),1))),\"Preço não registrado\")","v":""},"",null,null,"",""]
[null,null,"",null,"","",null,{"$f":"IFERROR(IF(D2777=\"\",\"\",INDEX(Entradas!$H$3:$H$5000,MATCH(A2777,IF(Entradas!$B$3:$B$5000=D2777,Entradas!$A$3:$A$5000),1))),\"Preço não registrado\")","v":""},"",null,null,"",""]
[null,null,"",null,"","",null,{"$f":"IFERROR(IF(D2778=\"\",\"\",INDEX(Entradas!$H$3:$H$5000,MATCH(A2778,IF(Entradas!$B$3:$B$5000=D2778,Entradas!$A$3:$A$5000),1))),\"Preço não registrado\")","v":""},"",null,null,"",""]
[null,null,"",null,"","",null,{"$f":"IFERROR(IF(D2779=\"\",\"\",INDEX(Entradas!$H$3:$H$5000,MATCH(A2779,IF(Entradas!$B$3:$B$5000=D2779,Entradas!$A$3:$A$5000),1))),\"Preço não registrado\")","v":""},"",null,null,"",""]
[null,null,"",null,"","",null,{"$f":"IFERROR(IF(D2780=\"\",\"\",INDEX(Entradas!$H$3:$H$5000,MATCH(A2780,IF(Entradas!$B$3:$B$5000=D2780,Entradas!$A$3:$A$5000),1))),\"Preço não registrado\")","v":""},"",null,null,"",""]
[null,null,"",null,"","",null,{"$f":"IFERROR(IF(D2781=\"\",\"\",INDEX(Entradas!$H$3:$H$5000,MATCH(A2781,IF(Entradas!$B$3:$B$5000=D2781,Entradas!$A$3:$A$5000),1))),\"Preço não registrado\")","v":""},"",null,null,"",""]
[null,null,"",null,"","",null,{"$f":"IFERROR(IF(D2782=\"\",\"\",INDEX(Entradas!$H$3:$H$5000,MATCH(A2782,IF(Entradas!$B$3:$B$5000=D2782,Entradas!$A$3:$A$5000),1))),\"Preço não registrado\")","v":""},"",null,null,"",""]
[null,null,"",null,"","",null,{"$f":"IFERROR(IF(D2783=\"\",\"\",INDEX(Entradas!$H$3:$H$5000,MATCH(A2783,IF(Entradas!$B$3:$B$5000=D2783,Entradas!$A$3:$A$5000),1))),\"Preço não registrado\")","v":""},"",null,null,"",""]
[null,null,"",null,"","",null,{"$f":"IFERROR(IF(D2784=\"\",\"\",INDEX(Entradas!$H$3:$H$5000,MATCH(A2784,IF(Entradas!$B$3:$B$5000=D2784,Entradas!$A$3:$A$5000),1))),\"Preço não registrado\")","v":""},"",null,null,"",""]
[null,null,"",null,"","",null,{"$f":"IFERROR(IF(D2785=\"\",\"\",INDEX(Entradas!$H$3:$H$5000,MATCH(A2785,IF(Entradas!$B$3:$B$5000=D2785,Entradas!$A$3:$A$5000),1))),\"Preço não registrado\")","v":""},"",null,null,"",""]
[null,null,"",null,"","",null,{"$f":"IFERROR(IF(D2786=\"\",\"\",INDEX(Entradas!$H$3:$H$5000,MATCH(A2786,IF(Entradas!$B$3:$B$5000=D2786,Entradas!$A$3:$A$5000),1))),\"Preço não registrado\")","v":""},"",null,null,"",""]
[null,null,"",null,"","",null,{"$f":"IFERROR(IF(D2787=\"\",\"\",INDEX(Entradas!$H$3:$H$5000,MATCH(A2787,IF(Entradas!$B$3:$B$5000=D2787,Entradas!$A$3:$A$5000),1))),\"Preço não registrado\")","v":""},"",null,null,"",""]
[null,null,"",null,"","",null,{"$f":"IFERROR(IF(D2788=\"\",\"\",INDEX(Entradas!$H$3:$H$5000,MATCH(A2788,IF(Entradas!$B$3:$B$5000=D2788,Entradas!$A$3:$A$5000),1))),\"Preço não registrado\")","v":""},"",null,null,"",""]
[null,null,"",null,"","",null,{"$f":"IFERROR(IF(D2789=\"\",\"\",INDEX(Entradas!$H$3:$H$5000,MATCH(A2789,IF(Entradas!$B$3:$B$5000=D2789,Entradas!$A$3:$A$5000),1))),\"Preço não registrado\")","v":""},"",null,null,"",""]
[null,null,"",null,"","",null,{"$f":"IFERROR(IF(D2790=\"\",\"\",INDEX(Entradas!$H$3:$H$5000,MATCH(A2790,IF(Entradas!$B$3:$B$5000=D2790,Entradas!$A$3:$A$5000),1))),\"Preço não registrado\")","v":""},"",null,null,"",""]
[null,null,"",null,"","",null,{"$f":"IFERROR(IF(D2791=\"\",\"\",INDEX(Entradas!$H$3:$H$5000,MATCH(A2791,IF(Entradas!$B$3:$B$5000=D2791,Entradas!$A$3:$A$5000),1))),\"Preço não registrado\")","v":""},"",null,null,"",""]
[null,null,"",null,"","",null,{"$f":"IFERROR(IF(D2792=\"\",\"\",INDEX(Entradas!$H$3:$H$5000,MATCH(A2792,IF(Entradas!$B$3:$B$5000=D2792,Entradas!$A$3:$A$5000),1))),\"Preço não registrado\")","v":""},"",null,null,"",""]
[null,null,"",null,"","",null,{"$f":"IFERROR(IF(D2793=\"\",\"\",INDEX(Entradas!$H$3:$H$5000,MATCH(A2793,IF(Entradas!$B$3:$B$5000=D2793,Entradas!$A$3:$A$5000),1))),\"Preço não registrado\")","v":""},"",null,null,"",""]
[null,null,"",null,"","",null,{"$f":"IFERROR(IF(D2794=\"\",\"\",INDEX(Entradas!$H$3:$H$5000,MATCH(A2794,IF(Entradas!$B$3:$B$5000=D2794,Entradas!$A$3:$A$5000),1))),\"Preço não registrado\")","v":""},"",null,null,"",""]
[null,null,"",null,"","",null,{"$f":"IFERROR(IF(D2795=\"\",\"\",INDEX(Entradas!$H$3:$H$5000,MATCH(A2795,IF(Entradas!$B$3:$B$5000=D2795,Entradas!$A$3:$A$5000),1))),\"Preço não registrado\")","v":""},"",null,null,"",""]
[null,null,"",null,"","",null,{"$f":"IFERROR(IF(D2796=\"\",\"\",INDEX(Entradas!$H$3:$H$5000,MATCH(A2796,IF(Entradas!$B$3:$B$5000=D2796,Entradas!$A$3:$A$5000),1))),\"Preço não registrado\")","v":""},"",null,null,"",""]
[null,null,"",null,"","",null,{"$f":"IFERROR(IF(D2797=\"\",\"\",INDEX(Entradas!$H$3:$H$5000,MATCH(A2797,IF(Entradas!$B$3:$B$5000=D2797,Entradas!$A$3:$A$5000),1))),\"Preço não registrado\")","v":""},"",null,null,"",""]
[null,null,"",null,"","",null,{"$f":"IFERROR(IF(D2798=\"\",\"\",INDEX(Entradas!$H$3:$H$5000,MATCH(A2798,IF(Entradas!$B$3:$B$5000=D2798,Entradas!$A$3:$A$5000),1))),\"Preço não registrado\")","v":""},"",null,null,"",""]
[null,null,"",null,"","",null,{"$f":"IFERROR(IF(D2799=\"\",\"\",INDEX(Entradas!$H$3:$H$5000,MATCH(A2799,IF(Entradas!$B$3:$B$5000=D2799,Entradas!$A$3:$A$5000),1))),\"Preço não registrado\")","v":""},"",null,null,"",""]
[null,null,"",null,"","",null,{"$f":"IFERROR(IF(D2800=\"\",\"\",INDEX(Entradas!$H$3:$H$5000,MATCH(A2800,IF(Entradas!$B$3:$B$5000=D2800,Entradas!$A$3:$A$5000),1))),\"Preço não registrado\")","v":""},"",null,null,"",""]
[null,null,"",null,"","",null,{"$f":"IFERROR(IF(D2801=\"\",\"\",INDEX(Entradas!$H$3:$H$5000,MATCH(A2801,IF(Entradas!$B$3:$B$5000=D2801,Entradas!$A$3:$A$5000),1))),\"Preço não registrado\")","v":""},"",null,null,"",""]
[null,null,"",null,"","",null,{"$f":"IFERROR(IF(D2802=\"\",\"\",INDEX(Entradas!$H$3:$H$5000,MATCH(A2802,IF(Entradas!$B$3:$B$5000=D2802,Entradas!$A$3:$A$5000),1))),\"Preço não registrado\")","v":""},"",null,null,"",""]
[null,null,"",null,"","",null,{"$f":"IFERROR(IF(D2803=\"\",\"\",INDEX(Entradas!$H$3:$H$5000,MATCH(A2803,IF(Entradas!$B$3:$B$5000=D2803,Entradas!$A$3:$A$5000),1))),\"Preço não registrado\")","v":""},"",null,null,"",""]
[null,null,"",null,"","",null,{"$f":"IFERROR(IF(D2804=\"\",\"\",INDEX(Entradas!$H$3:$H$5000,MATCH(A2804,IF(Entradas!$B$3:$B$5000=D2804,Entradas!$A$3:$A$5000),1))),\"Preço não registrado\")","v":""},"",null,null,"",""]
[null,null,"",null,"","",null,{"$f":"IFERROR(IF(D2805=\"\",\"\",INDEX(Entradas!$H$3:$H$5000,MATCH(A2805,IF(Entradas!$B$3:$B$5000=D2805,Entradas!$A$3:$A$5000),1))),\"Preço não registrado\")","v":""},"",null,null,"",""]
[null,null,"",null,"","",null,{"$f":"IFERROR(IF(D2806=\"\",\"\",INDEX(Entradas!$H$3:$H$5000,MATCH(A2806,IF(Entradas!$B$3:$B$5000=D2806,Entradas!$A$3:$A$5000),1))),\"Preço não registrado\")","v":""},"",null,null,"",""]
[null,null,"",null,"","",null,{"$f":"IFERROR(IF(D2807=\"\",\"\",INDEX(Entradas!$H$3:$H$5000,MATCH(A2807,IF(Entradas!$B$3:$B$5000=D2807,Entradas!$A$3:$A$5000),1))),\"Preço não registrado\")","v":""},"",null,null,"",""]
[null,null,"",null,"","",null,{"$f":"IFERROR(IF(D2808=\"\",\"\",INDEX(Entradas!$H$3:$H$5000,MATCH(A2808,IF(Entradas!$B$3:$B$5000=D2808,Entradas!$A$3:$A$5000),1))),\"Preço não registrado\")","v":""},"",null,null,"",""]
[null,null,"",null,"","",null,{"$f":"IFERROR(IF(D2809=\"\",\"\",INDEX(Entradas!$H$3:$H$5000,MATCH(A2809,IF(Entradas!$B$3:$B$5000=D2809,Entradas!$A$3:$A$5000),1))),\"Preço não registrado\")","v":""},"",null,null,"",""]
[null,null,"",null,"","",null,{"$f":"IFERROR(IF(D2810=\"\",\"\",INDEX(Entradas!$H$3:$H$5000,MATCH(A2810,IF(Entradas!$B$3:$B$5000=D2810,Entradas!$A$3:$A$5000),1))),\"Preço não registrado\")","v":""},"",null,null,"",""]
[null,null,"",null,"","",null,{"$f":"IFERROR(IF(D2811=\"\",\"\",INDEX(Entradas!$H$3:$H$5000,MATCH(A2811,IF(Entradas!$B$3:$B$5000=D2811,Entradas!$A$3:$A$5000),1))),\"Preço não registrado\")","v":""},"",null,null,"",""]
[null,null,"",null,"","",null,{"$f":"IFERROR(IF(D2812=\"\",\"\",INDEX(Entradas!$H$3:$H$5000,MATCH(A2812,IF(Entradas!$B$3:$B$5000=D2812,Entradas!$A$3:$A$5000),1))),\"Preço não registrado\")","v":""},"",null,null,"",""]
[null,null,"",null,"","",null,{"$f":"IFERROR(IF(D2813=\"\",\"\",INDEX(Entradas!$H$3:$H$5000,MATCH(A2813,IF(Entradas!$B$3:$B$5000=D2813,Entradas!$A$3:$A$5000),1))),\"Preço não registrado\")","v":""},"",null,null,"",""]
[null,null,"",null,"","",null,{"$f":"IFERROR(IF(D2814=\"\",\"\",INDEX(Entradas!$H$3:$H$5000,MATCH(A2814,IF(Entradas!$B$3:$B$5000=D2814,Entradas!$A$3:$A$5000),1))),\"Preço não registrado\")","v":""},"",null,null,"",""]
[null,null,"",null,"","",null,{"$f":"IFERROR(IF(D2815=\"\",\"\",INDEX(Entradas!$H$3:$H$5000,MATCH(A2815,IF(Entradas!$B$3:$B$5000=D2815,Entradas!$A$3:$A$5000),1))),\"Preço não registrado\")","v":""},"",null,null,"",""]
[null,null,"",null,"","",null,{"$f":"IFERROR(IF(D2816=\"\",\"\",INDEX(Entradas!$H$3:$H$5000,MATCH(A2816,IF(Entradas!$B$3:$B$5000=D2816,Entradas!$A$3:$A$5000),1))),\"Preço não registrado\")","v":""},"",null,null,"",""]
[null,null,"",null,"","",null,{"$f":"IFERROR(IF(D2817=\"\",\"\",INDEX(Entradas!$H$3:$H$5000,MATCH(A2817,IF(Entradas!$B$3:$B$5000=D2817,Entradas!$A$3:$A$5000),1))),\"Preço não registrado\")","v":""},"",null,null,"",""]
[null,null,"",null,"","",null,{"$f":"IFERROR(IF(D2818=\"\",\"\",INDEX(Entradas!$H$3:$H$5000,MATCH(A2818,IF(Entradas!$B$3:$B$5000=D2818,Entradas!$A$3:$A$5000),1))),\"Preço não registrado\")","v":""},"",null,null,"",""]
[null,null,{"$f":"IFERROR(IF(B2819=\"\",\"\",VLOOKUP(B2819,Clientes,2,FALSE)),\"\")","v":""},null,{"$f":"IF(D2819=\"\",\"\",VLOOKUP(D2819,Itens,2,FALSE))","v":""},{"$f":"IF(D2819=\"\",\"\",VLOOKUP(D2819,Itens,3,FALSE))","v":""},null,{"$f":"IFERROR(IF(D2819=\"\",\"\",INDEX(Entradas!$H$3:$H$5000,MATCH(A2819,IF(Entradas!$B$3:$B$5000=D2819,Entradas!$A$3:$A$5000),1))),\"Preço não registrado\")","v":""},"",null,null,"",""]
[null,null,"",null,"","",null,{"$f":"IFERROR(IF(D2820=\"\",\"\",INDEX(Entradas!$H$3:$H$5000,MATCH(A2820,IF(Entradas!$B$3:$B$5000=D2820,Entradas!$A$3:$A$5000),1))),\"Preço não registrado\")","v":""},{"$f":"IFERROR(G2820*H2820,\"\")","v":""},null,null,{"$f":"IF(K2820=\"\",\"\",HYPERLINK($P$13&K2820,\"Rastreie aqui\"))","v":""},{"$f":"IF(A2820=\"\",\"\",TEXT(A2820,\"mmmm\"))","v":""}]
[null,null,"",null,"","",null,{"$f":"IFERROR(IF(D2821=\"\",\"\",INDEX(Entradas!$H$3:$H$5000,MATCH(A2821,IF(Entradas!$B$3:$B$5000=D2821,Entradas!$A$3:$A$5000),1))),\"Preço não registrado\")","v":""},"",null,null,"",""]
[null,null,"",null,"","",null,{"$f":"IFERROR(IF(D2822=\"\",\"\",INDEX(Entradas!$H$3:$H$5000,MATCH(A2822,IF(Entradas!$B$3:$B$5000=D2822,Entradas!$A$3:$A$5000),1))),\"Preço não registrado\")","v":""},"",null,null,"",""]
[null,null,"",null,"","",null,{"$f":"IFERROR(IF(D2823=\"\",\"\",INDEX(Entradas!$H$3:$H$5000,MATCH(A2823,IF(Entradas!$B$3:$B$5000=D2823,Entradas!$A$3:$A$5000),1))),\"Preço não registrado\")","v":""},"",null,null,"",""]
[null,null,"",null,"","",null,{"$f":"IFERROR(IF(D2824=\"\",\"\",INDEX(Entradas!$H$3:$H$5000,MATCH(A2824,IF(Entradas!$B$3:$B$5000=D2824,Entradas!$A$3:$A$5000),1))),\"Preço não registrado\")","v":""},"",null,null,"",""]
[null,null,"",null,"","",null,{"$f":"IFERROR(IF(D2825=\"\",\"\",INDEX(Entradas!$H$3:$H$5000,MATCH(A2825,IF(Entradas!$B$3:$B$5000=D2825,Entradas!$A$3:$A$5000),1))),\"Preço não registrado\")","v":""},"",null,null,"",""]
[null,null,"",null,"","",null,{"$f":"IFERROR(IF(D2826=\"\",\"\",INDEX(Entradas!$H$3:$H$5000,MATCH(A2826,IF(Entradas!$B$3:$B$5000=D2826,Entradas!$A$3:$A$5000),1))),\"Preço não registrado\")","v":""},"",null,null,"",""]
[null,null,"",null,"","",null,{"$f":"IFERROR(IF(D2827=\"\",\"\",INDEX(Entradas!$H$3:$H$5000,MATCH(A2827,IF(Entradas!$B$3:$B$5000=D2827,Entradas!$A$3:$A$5000),1))),\"Preço não registrado\")","v":""},"",null,null,"",""]
[null,null,"",null,"","",null,{"$f":"IFERROR(IF(D2828=\"\",\"\",INDEX(Entradas!$H$3:$H$5000,MATCH(A2828,IF(Entradas!$B$3:$B$5000=D2828,Entradas!$A$3:$A$5000),1))),\"Preço não registrado\")","v":""},"",null,null,"",""]
[null,null,"",null,"","",null,{"$f":"IFERROR(IF(D2829=\"\",\"\",INDEX(Entradas!$H$3:$H$5000,MATCH(A2829,IF(Entradas!$B$3:$B$5000=D2829,Entradas!$A$3:$A$5000),1))),\"Preço não registrado\")","v":""},"",null,null,"",""]
[null,null,"",null,"","",null,{"$f":"IFERROR(IF(D2830=\"\",\"\",INDEX(Entradas!$H$3:$H$5000,MATCH(A2830,IF(Entradas!$B$3:$B$5000=D2830,Entradas!$A$3:$A$5000),1))),\"Preço não registrado\")","v":""},"",null,null,"",""]
[null,null,"",null,"","",null,{"$f":"IFERROR(IF(D2831=\"\",\"\",INDEX(Entradas!$H$3:$H$5000,MATCH(A2831,IF(Entradas!$B$3:$B$5000=D2831,Entradas!$A$3:$A$5000),1))),\"Preço não registrado\")","v":""},"",null,null,"",""]
[null,null,"",null,"","",null,{"$f":"IFERROR(IF(D2832=\"\",\"\",INDEX(Entradas!$H$3:$H$5000,MATCH(A2832,IF(Entradas!$B$3:$B$5000=D2832,Entradas!$A$3:$A$5000),1))),\"Preço não registrado\")","v":""},"",null,null,"",""]
[null,null,"",null,"","",null,{"$f":"IFERROR(IF(D2833=\"\",\"\",INDEX(Entradas!$H$3:$H$5000,MATCH(A2833,IF(Entradas!$B$3:$B$5000=D2833,Entradas!$A$3:$A$5000),1))),\"Preço não registrado\")","v":""},"",null,null,"",""]
[null,null,"",null,"","",null,{"$f":"IFERROR(IF(D2834=\"\",\"\",INDEX(Entradas!$H$3:$H$5000,MATCH(A2834,IF(Entradas!$B$3:$B$5000=D2834,Entradas!$A$3:$A$5000),1))),\"Preço não registrado\")","v":""},"",null,null,"",""]
[null,null,"",null,"","",null,{"$f":"IFERROR(IF(D2835=\"\",\"\",INDEX(Entradas!$H$3:$H$5000,MATCH(A2835,IF(Entradas!$B$3:$B$5000=D2835,Entradas!$A$3:$A$5000),1))),\"Preço não registrado\")","v":""},"",null,null,"",""]
[null,null,"",null,"","",null,{"$f":"IFERROR(IF(D2836=\"\",\"\",INDEX(Entradas!$H$3:$H$5000,MATCH(A2836,IF(Entradas!$B$3:$B$5000=D2836,Entradas!$A$3:$A$5000),1))),\"Preço não registrado\")","v":""},"",null,null,"",""]
[null,null,"",null,"","",null,{"$f":"IFERROR(IF(D2837=\"\",\"\",INDEX(Entradas!$H$3:$H$5000,MATCH(A2837,IF(Entradas!$B$3:$B$5000=D2837,Entradas!$A$3:$A$5000),1))),\"Preço não registrado\")","v":""},"",null,null,"",""]
[null,null,"",null,"","",null,{"$f":"IFERROR(IF(D2838=\"\",\"\",INDEX(Entradas!$H$3:$H$5000,MATCH(A2838,IF(Entradas!$B$3:$B$5000=D2838,Entradas!$A$3:$A$5000),1))),\"Preço não registrado\")","v":""},"",null,null,"",""]
[null,null,"",null,"","",null,{"$f":"IFERROR(IF(D2839=\"\",\"\",INDEX(Entradas!$H$3:$H$5000,MATCH(A2839,IF(Entradas!$B$3:$B$5000=D2839,Entradas!$A$3:$A$5000),1))),\"Preço não registrado\")","v":""},"",null,null,"",""]
[null,null,"",null,"","",null,{"$f":"IFERROR(IF(D2840=\"\",\"\",INDEX(Entradas!$H$3:$H$5000,MATCH(A2840,IF(Entradas!$B$3:$B$5000=D2840,Entradas!$A$3:$A$5000),1))),\"Preço não registrado\")","v":""},"",null,null,"",""]
[null,null,"",null,"","",null,{"$f":"IFERROR(IF(D2841=\"\",\"\",INDEX(Entradas!$H$3:$H$5000,MATCH(A2841,IF(Entradas!$B$3:$B$5000=D2841,Entradas!$A$3:$A$5000),1))),\"Preço não registrado\")","v":""},"",null,null,"",""]
[null,null,"",null,"","",null,{"$f":"IFERROR(IF(D2842=\"\",\"\",INDEX(Entradas!$H$3:$H$5000,MATCH(A2842,IF(Entradas!$B$3:$B$5000=D2842,Entradas!$A$3:$A$5000),1))),\"Preço não registrado\")","v":""},"",null,null,"",""]
[null,null,"",null,"","",null,{"$f":"IFERROR(IF(D2843=\"\",\"\",INDEX(Entradas!$H$3:$H$5000,MATCH(A2843,IF(Entradas!$B$3:$B$5000=D2843,Entradas!$A$3:$A$5000),1))),\"Preço não registrado\")","v":""},"",null,null,"",""]
[null,null,"",null,"","",null,{"$f":"IFERROR(IF(D2844=\"\",\"\",INDEX(Entradas!$H$3:$H$5000,MATCH(A2844,IF(Entradas!$B$3:$B$5000=D2844,Entradas!$A$3:$A$5000),1))),\"Preço não registrado\")","v":""},"",null,null,"",""]
[null,null,"",null,"","",null,{"$f":"IFERROR(IF(D2845=\"\",\"\",INDEX(Entradas!$H$3:$H$5000,MATCH(A2845,IF(Entradas!$B$3:$B$5000=D2845,Entradas!$A$3:$A$5000),1))),\"Preço não registrado\")","v":""},"",null,null,"",""]
[null,null,"",null,"","",null,{"$f":"IFERROR(IF(D2846=\"\",\"\",INDEX(Entradas!$H$3:$H$5000,MATCH(A2846,IF(Entradas!$B$3:$B$5000=D2846,Entradas!$A$3:$A$5000),1))),\"Preço não registrado\")","v":""},"",null,null,"",""]
[null,null,"",null,"","",null,{"$f":"IFERROR(IF(D2847=\"\",\"\",INDEX(Entradas!$H$3:$H$5000,MATCH(A2847,IF(Entradas!$B$3:$B$5000=D2847,Entradas!$A$3:$A$5000),1))),\"Preço não registrado\")","v":""},"",null,null,"",""]
[null,null,"",null,"","",null,{"$f":"IFERROR(IF(D2848=\"\",\"\",INDEX(Entradas!$H$3:$H$5000,MATCH(A2848,IF(Entradas!$B$3:$B$5000=D2848,Entradas!$A$3:$A$5000),1))),\"Preço não registrado\")","v":""},"",null,null,"",""]
[null,null,"",null,"","",null,{"$f":"IFERROR(IF(D2849=\"\",\"\",INDEX(Entradas!$H$3:$H$5000,MATCH(A2849,IF(Entradas!$B$3:$B$5000=D2849,Entradas!$A$3:$A$5000),1))),\"Preço não registrado\")","v":""},"",null,null,"",""]
[null,null,"",null,"","",null,{"$f":"IFERROR(IF(D2850=\"\",\"\",INDEX(Entradas!$H$3:$H$5000,MATCH(A2850,IF(Entradas!$B$3:$B$5000=D2850,Entradas!$A$3:$A$5000),1))),\"Preço não registrado\")","v":""},"",null,null,"",""]
[null,null,"",null,"","",null,{"$f":"IFERROR(IF(D2851=\"\",\"\",INDEX(Entradas!$H$3:$H$5000,MATCH(A2851,IF(Entradas!$B$3:$B$5000=D2851,Entradas!$A$3:$A$5000),1))),\"Preço não registrado\")","v":""},"",null,null,"",""]
[null,null,"",null,"","",null,{"$f":"IFERROR(IF(D2852=\"\",\"\",INDEX(Entradas!$H$3:$H$5000,MATCH(A2852,IF(Entradas!$B$3:$B$5000=D2852,Entradas!$A$3:$A$5000),1))),\"Preço não registrado\")","v":""},"",null,null,"",""]
[null,null,"",null,"","",null,{"$f":"IFERROR(IF(D2853=\"\",\"\",INDEX(Entradas!$H$3:$H$5000,MATCH(A2853,IF(Entradas!$B$3:$B$5000=D2853,Entradas!$A$3:$A$5000),1))),\"Preço não registrado\")","v":""},"",null,null,"",""]
[null,null,"",null,"","",null,{"$f":"IFERROR(IF(D2854=\"\",\"\",INDEX(Entradas!$H$3:$H$5000,MATCH(A2854,IF(Entradas!$B$3:$B$5000=D2854,Entradas!$A$3:$A$5000),1))),\"Preço não registrado\")","v":""},"",null,null,"",""]
[null,null,"",null,"","",null,{"$f":"IFERROR(IF(D2855=\"\",\"\",INDEX(Entradas!$H$3:$H$5000,MATCH(A2855,IF(Entradas!$B$3:$B$5000=D2855,Entradas!$A$3:$A$5000),1))),\"Preço não registrado\")","v":""},"",null,null,"",""]
[null,null,"",null,"","",null,{"$f":"IFERROR(IF(D2856=\"\",\"\",INDEX(Entradas!$H$3:$H$5000,MATCH(A2856,IF(Entradas!$B$3:$B$5000=D2856,Entradas!$A$3:$A$5000),1))),\"Preço não registrado\")","v":""},"",null,null,"",""]
[null,null,"",null,"","",null,{"$f":"IFERROR(IF(D2857=\"\",\"\",INDEX(Entradas!$H$3:$H$5000,MATCH(A2857,IF(Entradas!$B$3:$B$5000=D2857,Entradas!$A$3:$A$5000),1))),\"Preço não registrado\")","v":""},"",null,null,"",""]
[null,null,"",null,"","",null,{"$f":"IFERROR(IF(D2858=\"\",\"\",INDEX(Entradas!$H$3:$H$5000,MATCH(A2858,IF(Entradas!$B$3:$B$5000=D2858,Entradas!$A$3:$A$5000),1))),\"Preço não registrado\")","v":""},"",null,null,"",""]
[null,null,"",null,"","",null,{"$f":"IFERROR(IF(D2859=\"\",\"\",INDEX(Entradas!$H$3:$H$5000,MATCH(A2859,IF(Entradas!$B$3:$B$5000=D2859,Entradas!$A$3:$A$5000),1))),\"Preço não registrado\")","v":""},"",null,null,"",""]
[null,null,"",null,"","",null,{"$f":"IFERROR(IF(D2860=\"\",\"\",INDEX(Entradas!$H$3:$H$5000,MATCH(A2860,IF(Entradas!$B$3:$B$5000=D2860,Entradas!$A$3:$A$5000),1))),\"Preço não registrado\")","v":""},"",null,null,"",""]
[null,null,"",null,"","",null,{"$f":"IFERROR(IF(D2861=\"\",\"\",INDEX(Entradas!$H$3:$H$5000,MATCH(A2861,IF(Entradas!$B$3:$B$5000=D2861,Entradas!$A$3:$A$5000),1))),\"Preço não registrado\")","v":""},"",null,null,"",""]
[null,null,"",null,"","",null,{"$f":"IFERROR(IF(D2862=\"\",\"\",INDEX(Entradas!$H$3:$H$5000,MATCH(A2862,IF(Entradas!$B$3:$B$5000=D2862,Entradas!$A$3:$A$5000),1))),\"Preço não registrado\")","v":""},"",null,null,"",""]
[null,null,"",null,"","",null,{"$f":"IFERROR(IF(D2863=\"\",\"\",INDEX(Entradas!$H$3:$H$5000,MATCH(A2863,IF(Entradas!$B$3:$B$5000=D2863,Entradas!$A$3:$A$5000),1))),\"Preço não registrado\")","v":""},"",null,null,"",""]
[null,null,"",null,"","",null,{"$f":"IFERROR(IF(D2864=\"\",\"\",INDEX(Entradas!$H$3:$H$5000,MATCH(A2864,IF(Entradas!$B$3:$B$5000=D2864,Entradas!$A$3:$A$5000),1))),\"Preço não registrado\")","v":""},"",null,null,"",""]
[null,null,"",null,"","",null,{"$f":"IFERROR(IF(D2865=\"\",\"\",INDEX(Entradas!$H$3:$H$5000,MATCH(A2865,IF(Entradas!$B$3:$B$5000=D2865,Entradas!$A$3:$A$5000),1))),\"Preço não registrado\")","v":""},"",null,null,"",""]
[null,null,"",null,"","",null,{"$f":"IFERROR(IF(D2866=\"\",\"\",INDEX(Entradas!$H$3:$H$5000,MATCH(A2866,IF(Entradas!$B$3:$B$5000=D2866,Entradas!$A$3:$A$5000),1))),\"Preço não registrado\")","v":""},"",null,null,"",""]
[null,null,"",null,"","",null,{"$f":"IFERROR(IF(D2867=\"\",\"\",INDEX(Entradas!$H$3:$H$5000,MATCH(A2867,IF(Entradas!$B$3:$B$5000=D2867,Entradas!$A$3:$A$5000),1))),\"Preço não registrado\")","v":""},"",null,null,"",""]
[null,null,"",null,"","",null,{"$f":"IFERROR(IF(D2868=\"\",\"\",INDEX(Entradas!$H$3:$H$5000,MATCH(A2868,IF(Entradas!$B$3:$B$5000=D2868,Entradas!$A$3:$A$5000),1))),\"Preço não registrado\")","v":""},"",null,null,"",""]
[null,null,"",null,"","",null,{"$f":"IFERROR(IF(D2869=\"\",\"\",INDEX(Entradas!$H$3:$H$5000,MATCH(A2869,IF(Entradas!$B$3:$B$5000=D2869,Entradas!$A$3:$A$5000),1))),\"Preço não registrado\")","v":""},"",null,null,"",""]
[null,null,"",null,"","",null,{"$f":"IFERROR(IF(D2870=\"\",\"\",INDEX(Entradas!$H$3:$H$5000,MATCH(A2870,IF(Entradas!$B$3:$B$5000=D2870,Entradas!$A$3:$A$5000),1))),\"Preço não registrado\")","v":""},"",null,null,"",""]
[null,null,"",null,"","",null,{"$f":"IFERROR(IF(D2871=\"\",\"\",INDEX(Entradas!$H$3:$H$5000,MATCH(A2871,IF(Entradas!$B$3:$B$5000=D2871,Entradas!$A$3:$A$5000),1))),\"Preço não registrado\")","v":""},"",null,null,"",""]
[null,null,"",null,"","",null,{"$f":"IFERROR(IF(D2872=\"\",\"\",INDEX(Entradas!$H$3:$H$5000,MATCH(A2872,IF(Entradas!$B$3:$B$5000=D2872,Entradas!$A$3:$A$5000),1))),\"Preço não registrado\")","v":""},"",null,null,"",""]
[null,null,"",null,"","",null,{"$f":"IFERROR(IF(D2873=\"\",\"\",INDEX(Entradas!$H$3:$H$5000,MATCH(A2873,IF(Entradas!$B$3:$B$5000=D2873,Entradas!$A$3:$A$5000),1))),\"Preço não registrado\")","v":""},"",null,null,"",""]
[null,null,"",null,"","",null,{"$f":"IFERROR(IF(D2874=\"\",\"\",INDEX(Entradas!$H$3:$H$5000,MATCH(A2874,IF(Entradas!$B$3:$B$5000=D2874,Entradas!$A$3:$A$5000),1))),\"Preço não registrado\")","v":""},"",null,null,"",""]
[null,null,"",null,"","",null,{"$f":"IFERROR(IF(D2875=\"\",\"\",INDEX(Entradas!$H$3:$H$5000,MATCH(A2875,IF(Entradas!$B$3:$B$5000=D2875,Entradas!$A$3:$A$5000),1))),\"Preço não registrado\")","v":""},"",null,null,"",""]
[null,null,"",null,"","",null,{"$f":"IFERROR(IF(D2876=\"\",\"\",INDEX(Entradas!$H$3:$H$5000,MATCH(A2876,IF(Entradas!$B$3:$B$5000=D2876,Entradas!$A$3:$A$5000),1))),\"Preço não registrado\")","v":""},"",null,null,"",""]
[null,null,"",null,"","",null,{"$f":"IFERROR(IF(D2877=\"\",\"\",INDEX(Entradas!$H$3:$H$5000,MATCH(A2877,IF(Entradas!$B$3:$B$5000=D2877,Entradas!$A$3:$A$5000),1))),\"Preço não registrado\")","v":""},"",null,null,"",""]
[null,null,"",null,"","",null,{"$f":"IFERROR(IF(D2878=\"\",\"\",INDEX(Entradas!$H$3:$H$5000,MATCH(A2878,IF(Entradas!$B$3:$B$5000=D2878,Entradas!$A$3:$A$5000),1))),\"Preço não registrado\")","v":""},"",null,null,"",""]
[null,null,"",null,"","",null,{"$f":"IFERROR(IF(D2879=\"\",\"\",INDEX(Entradas!$H$3:$H$5000,MATCH(A2879,IF(Entradas!$B$3:$B$5000=D2879,Entradas!$A$3:$A$5000),1))),\"Preço não registrado\")","v":""},"",null,null,"",""]
[null,null,"",null,"","",null,{"$f":"IFERROR(IF(D2880=\"\",\"\",INDEX(Entradas!$H$3:$H$5000,MATCH(A2880,IF(Entradas!$B$3:$B$5000=D2880,Entradas!$A$3:$A$5000),1))),\"Preço não registrado\")","v":""},"",null,null,"",""]
[null,null,"",null,"","",null,{"$f":"IFERROR(IF(D2881=\"\",\"\",INDEX(Entradas!$H$3:$H$5000,MATCH(A2881,IF(Entradas!$B$3:$B$5000=D2881,Entradas!$A$3:$A$5000),1))),\"Preço não registrado\")","v":""},"",null,null,"",""]
[null,null,"",null,"","",null,{"$f":"IFERROR(IF(D2882=\"\",\"\",INDEX(Entradas!$H$3:$H$5000,MATCH(A2882,IF(Entradas!$B$3:$B$5000=D2882,Entradas!$A$3:$A$5000),1))),\"Preço não registrado\")","v":""},"",null,null,"",""]
[null,null,{"$f":"IFERROR(IF(B2883=\"\",\"\",VLOOKUP(B2883,Clientes,2,FALSE)),\"\")","v":""},null,{"$f":"IF(D2883=\"\",\"\",VLOOKUP(D2883,Itens,2,FALSE))","v":""},{"$f":"IF(D2883=\"\",\"\",VLOOKUP(D2883,Itens,3,FALSE))","v":""},null,{"$f":"IFERROR(IF(D2883=\"\",\"\",INDEX(Entradas!$H$3:$H$5000,MATCH(A2883,IF(Entradas!$B$3:$B$5000=D2883,Entradas!$A$3:$A$5000),1))),\"Preço não registrado\")","v":""},"",null,null,"",""]
[null,null,"",null,"","",null,{"$f":"IFERROR(IF(D2884=\"\",\"\",INDEX(Entradas!$H$3:$H$5000,MATCH(A2884,IF(Entradas!$B$3:$B$5000=D2884,Entradas!$A$3:$A$5000),1))),\"Preço não registrado\")","v":""},{"$f":"IFERROR(G2884*H2884,\"\")","v":""},null,null,{"$f":"IF(K2884=\"\",\"\",HYPERLINK($P$13&K2884,\"Rastreie aqui\"))","v":""},{"$f":"IF(A2884=\"\",\"\",TEXT(A2884,\"mmmm\"))","v":""}]
[null,null,"",null,"","",null,{"$f":"IFERROR(IF(D2885=\"\",\"\",INDEX(Entradas!$H$3:$H$5000,MATCH(A2885,IF(Entradas!$B$3:$B$5000=D2885,Entradas!$A$3:$A$5000),1))),\"Preço não registrado\")","v":""},"",null,null,"",""]
[null,null,"",null,"","",null,{"$f":"IFERROR(IF(D2886=\"\",\"\",INDEX(Entradas!$H$3:$H$5000,MATCH(A2886,IF(Entradas!$B$3:$B$5000=D2886,Entradas!$A$3:$A$5000),1))),\"Preço não registrado\")","v":""},"",null,null,"",""]
[null,null,"",null,"","",null,{"$f":"IFERROR(IF(D2887=\"\",\"\",INDEX(Entradas!$H$3:$H$5000,MATCH(A2887,IF(Entradas!$B$3:$B$5000=D2887,Entradas!$A$3:$A$5000),1))),\"Preço não registrado\")","v":""},"",null,null,"",""]
[null,null,"",null,"","",null,{"$f":"IFERROR(IF(D2888=\"\",\"\",INDEX(Entradas!$H$3:$H$5000,MATCH(A2888,IF(Entradas!$B$3:$B$5000=D2888,Entradas!$A$3:$A$5000),1))),\"Preço não registrado\")","v":""},"",null,null,"",""]
[null,null,"",null,"","",null,{"$f":"IFERROR(IF(D2889=\"\",\"\",INDEX(Entradas!$H$3:$H$5000,MATCH(A2889,IF(Entradas!$B$3:$B$5000=D2889,Entradas!$A$3:$A$5000),1))),\"Preço não registrado\")","v":""},"",null,null,"",""]
[null,null,"",null,"","",null,{"$f":"IFERROR(IF(D2890=\"\",\"\",INDEX(Entradas!$H$3:$H$5000,MATCH(A2890,IF(Entradas!$B$3:$B$5000=D2890,Entradas!$A$3:$A$5000),1))),\"Preço não registrado\")","v":""},"",null,null,"",""]
[null,null,"",null,"","",null,{"$f":"IFERROR(IF(D2891=\"\",\"\",INDEX(Entradas!$H$3:$H$5000,MATCH(A2891,IF(Entradas!$B$3:$B$5000=D2891,Entradas!$A$3:$A$5000),1))),\"Preço não registrado\")","v":""},"",null,null,"",""]
[null,null,"",null,"","",null,{"$f":"IFERROR(IF(D2892=\"\",\"\",INDEX(Entradas!$H$3:$H$5000,MATCH(A2892,IF(Entradas!$B$3:$B$5000=D2892,Entradas!$A$3:$A$5000),1))),\"Preço não registrado\")","v":""},"",null,null,"",""]
[null,null,"",null,"","",null,{"$f":"IFERROR(IF(D2893=\"\",\"\",INDEX(Entradas!$H$3:$H$5000,MATCH(A2893,IF(Entradas!$B$3:$B$5000=D2893,Entradas!$A$3:$A$5000),1))),\"Preço não registrado\")","v":""},"",null,null,"",""]
[null,null,"",null,"","",null,{"$f":"IFERROR(IF(D2894=\"\",\"\",INDEX(Entradas!$H$3:$H$5000,MATCH(A2894,IF(Entradas!$B$3:$B$5000=D2894,Entradas!$A$3:$A$5000),1))),\"Preço não registrado\")","v":""},"",null,null,"",""]
[null,null,"",null,"","",null,{"$f":"IFERROR(IF(D2895=\"\",\"\",INDEX(Entradas!$H$3:$H$5000,MATCH(A2895,IF(Entradas!$B$3:$B$5000=D2895,Entradas!$A$3:$A$5000),1))),\"Preço não registrado\")","v":""},"",null,null,"",""]
[null,null,"",null,"","",null,{"$f":"IFERROR(IF(D2896=\"\",\"\",INDEX(Entradas!$H$3:$H$5000,MATCH(A2896,IF(Entradas!$B$3:$B$5000=D2896,Entradas!$A$3:$A$5000),1))),\"Preço não registrado\")","v":""},"",null,null,"",""]
[null,null,"",null,"","",null,{"$f":"IFERROR(IF(D2897=\"\",\"\",INDEX(Entradas!$H$3:$H$5000,MATCH(A2897,IF(Entradas!$B$3:$B$5000=D2897,Entradas!$A$3:$A$5000),1))),\"Preço não registrado\")","v":""},"",null,null,"",""]
[null,null,"",null,"","",null,{"$f":"IFERROR(IF(D2898=\"\",\"\",INDEX(Entradas!$H$3:$H$5000,MATCH(A2898,IF(Entradas!$B$3:$B$5000=D2898,Entradas!$A$3:$A$5000),1))),\"Preço não registrado\")","v":""},"",null,null,"",""]
[null,null,"",null,"","",null,{"$f":"IFERROR(IF(D2899=\"\",\"\",INDEX(Entradas!$H$3:$H$5000,MATCH(A2899,IF(Entradas!$B$3:$B$5000=D2899,Entradas!$A$3:$A$5000),1))),\"Preço não registrado\")","v":""},"",null,null,"",""]
[null,null,"",null,"","",null,{"$f":"IFERROR(IF(D2900=\"\",\"\",INDEX(Entradas!$H$3:$H$5000,MATCH(A2900,IF(Entradas!$B$3:$B$5000=D2900,Entradas!$A$3:$A$5000),1))),\"Preço não registrado\")","v":""},"",null,null,"",""]
[null,null,"",null,"","",null,{"$f":"IFERROR(IF(D2901=\"\",\"\",INDEX(Entradas!$H$3:$H$5000,MATCH(A2901,IF(Entradas!$B$3:$B$5000=D2901,Entradas!$A$3:$A$5000),1))),\"Preço não registrado\")","v":""},"",null,null,"",""]
[null,null,"",null,"","",null,{"$f":"IFERROR(IF(D2902=\"\",\"\",INDEX(Entradas!$H$3:$H$5000,MATCH(A2902,IF(Entradas!$B$3:$B$5000=D2902,Entradas!$A$3:$A$5000),1))),\"Preço não registrado\")","v":""},"",null,null,"",""]
[null,null,"",null,"","",null,{"$f":"IFERROR(IF(D2903=\"\",\"\",INDEX(Entradas!$H$3:$H$5000,MATCH(A2903,IF(Entradas!$B$3:$B$5000=D2903,Entradas!$A$3:$A$5000),1))),\"Preço não registrado\")","v":""},"",null,null,"",""]
[null,null,"",null,"","",null,{"$f":"IFERROR(IF(D2904=\"\",\"\",INDEX(Entradas!$H$3:$H$5000,MATCH(A2904,IF(Entradas!$B$3:$B$5000=D2904,Entradas!$A$3:$A$5000),1))),\"Preço não registrado\")","v":""},"",null,null,"",""]
[null,null,"",null,"","",null,{"$f":"IFERROR(IF(D2905=\"\",\"\",INDEX(Entradas!$H$3:$H$5000,MATCH(A2905,IF(Entradas!$B$3:$B$5000=D2905,Entradas!$A$3:$A$5000),1))),\"Preço não registrado\")","v":""},"",null,null,"",""]
[null,null,"",null,"","",null,{"$f":"IFERROR(IF(D2906=\"\",\"\",INDEX(Entradas!$H$3:$H$5000,MATCH(A2906,IF(Entradas!$B$3:$B$5000=D2906,Entradas!$A$3:$A$5000),1))),\"Preço não registrado\")","v":""},"",null,null,"",""]
[null,null,"",null,"","",null,{"$f":"IFERROR(IF(D2907=\"\",\"\",INDEX(Entradas!$H$3:$H$5000,MATCH(A2907,IF(Entradas!$B$3:$B$5000=D2907,Entradas!$A$3:$A$5000),1))),\"Preço não registrado\")","v":""},"",null,null,"",""]
[null,null,"",null,"","",null,{"$f":"IFERROR(IF(D2908=\"\",\"\",INDEX(Entradas!$H$3:$H$5000,MATCH(A2908,IF(Entradas!$B$3:$B$5000=D2908,Entradas!$A$3:$A$5000),1))),\"Preço não registrado\")","v":""},"",null,null,"",""]
[null,null,"",null,"","",null,{"$f":"IFERROR(IF(D2909=\"\",\"\",INDEX(Entradas!$H$3:$H$5000,MATCH(A2909,IF(Entradas!$B$3:$B$5000=D2909,Entradas!$A$3:$A$5000),1))),\"Preço não registrado\")","v":""},"",null,null,"",""]
[null,null,"",null,"","",null,{"$f":"IFERROR(IF(D2910=\"\",\"\",INDEX(Entradas!$H$3:$H$5000,MATCH(A2910,IF(Entradas!$B$3:$B$5000=D2910,Entradas!$A$3:$A$5000),1))),\"Preço não registrado\")","v":""},"",null,null,"",""]
[null,null,"",null,"","",null,{"$f":"IFERROR(IF(D2911=\"\",\"\",INDEX(Entradas!$H$3:$H$5000,MATCH(A2911,IF(Entradas!$B$3:$B$5000=D2911,Entradas!$A$3:$A$5000),1))),\"Preço não registrado\")","v":""},"",null,null,"",""]
[null,null,"",null,"","",null,{"$f":"IFERROR(IF(D2912=\"\",\"\",INDEX(Entradas!$H$3:$H$5000,MATCH(A2912,IF(Entradas!$B$3:$B$5000=D2912,Entradas!$A$3:$A$5000),1))),\"Preço não registrado\")","v":""},"",null,null,"",""]
[null,null,"",null,"","",null,{"$f":"IFERROR(IF(D2913=\"\",\"\",INDEX(Entradas!$H$3:$H$5000,MATCH(A2913,IF(Entradas!$B$3:$B$5000=D2913,Entradas!$A$3:$A$5000),1))),\"Preço não registrado\")","v":""},"",null,null,"",""]
[null,null,"",null,"","",null,{"$f":"IFERROR(IF(D2914=\"\",\"\",INDEX(Entradas!$H$3:$H$5000,MATCH(A2914,IF(Entradas!$B$3:$B$5000=D2914,Entradas!$A$3:$A$5000),1))),\"Preço não registrado\")","v":""},"",null,null,"",""]
[null,null,"",null,"","",null,{"$f":"IFERROR(IF(D2915=\"\",\"\",INDEX(Entradas!$H$3:$H$5000,MATCH(A2915,IF(Entradas!$B$3:$B$5000=D2915,Entradas!$A$3:$A$5000),1))),\"Preço não registrado\")","v":""},"",null,null,"",""]
[null,null,"",null,"","",null,{"$f":"IFERROR(IF(D2916=\"\",\"\",INDEX(Entradas!$H$3:$H$5000,MATCH(A2916,IF(Entradas!$B$3:$B$5000=D2916,Entradas!$A$3:$A$5000),1))),\"Preço não registrado\")","v":""},"",null,null,"",""]
[null,null,"",null,"","",null,{"$f":"IFERROR(IF(D2917=\"\",\"\",INDEX(Entradas!$H$3:$H$5000,MATCH(A2917,IF(Entradas!$B$3:$B$5000=D2917,Entradas!$A$3:$A$5000),1))),\"Preço não registrado\")","v":""},"",null,null,"",""]
[null,null,"",null,"","",null,{"$f":"IFERROR(IF(D2918=\"\",\"\",INDEX(Entradas!$H$3:$H$5000,MATCH(A2918,IF(Entradas!$B$3:$B$5000=D2918,Entradas!$A$3:$A$5000),1))),\"Preço não registrado\")","v":""},"",null,null,"",""]
[null,null,"",null,"","",null,{"$f":"IFERROR(IF(D2919=\"\",\"\",INDEX(Entradas!$H$3:$H$5000,MATCH(A2919,IF(Entradas!$B$3:$B$5000=D2919,Entradas!$A$3:$A$5000),1))),\"Preço não registrado\")","v":""},"",null,null,"",""]
[null,null,"",null,"","",null,{"$f":"IFERROR(IF(D2920=\"\",\"\",INDEX(Entradas!$H$3:$H$5000,MATCH(A2920,IF(Entradas!$B$3:$B$5000=D2920,Entradas!$A$3:$A$5000),1))),\"Preço não registrado\")","v":""},"",null,null,"",""]
[null,null,"",null,"","",null,{"$f":"IFERROR(IF(D2921=\"\",\"\",INDEX(Entradas!$H$3:$H$5000,MATCH(A2921,IF(Entradas!$B$3:$B$5000=D2921,Entradas!$A$3:$A$5000),1))),\"Preço não registrado\")","v":""},"",null,null,"",""]
[null,null,"",null,"","",null,{"$f":"IFERROR(IF(D2922=\"\",\"\",INDEX(Entradas!$H$3:$H$5000,MATCH(A2922,IF(Entradas!$B$3:$B$5000=D2922,Entradas!$A$3:$A$5000),1))),\"Preço não registrado\")","v":""},"",null,null,"",""]
[null,null,"",null,"","",null,{"$f":"IFERROR(IF(D2923=\"\",\"\",INDEX(Entradas!$H$3:$H$5000,MATCH(A2923,IF(Entradas!$B$3:$B$5000=D2923,Entradas!$A$3:$A$5000),1))),\"Preço não registrado\")","v":""},"",null,null,"",""]
[null,null,"",null,"","",null,{"$f":"IFERROR(IF(D2924=\"\",\"\",INDEX(Entradas!$H$3:$H$5000,MATCH(A2924,IF(Entradas!$B$3:$B$5000=D2924,Entradas!$A$3:$A$5000),1))),\"Preço não registrado\")","v":""},"",null,null,"",""]
[null,null,"",null,"","",null,{"$f":"IFERROR(IF(D2925=\"\",\"\",INDEX(Entradas!$H$3:$H$5000,MATCH(A2925,IF(Entradas!$B$3:$B$5000=D2925,Entradas!$A$3:$A$5000),1))),\"Preço não registrado\")","v":""},"",null,null,"",""]
[null,null,"",null,"","",null,{"$f":"IFERROR(IF(D2926=\"\",\"\",INDEX(Entradas!$H$3:$H$5000,MATCH(A2926,IF(Entradas!$B$3:$B$5000=D2926,Entradas!$A$3:$A$5000),1))),\"Preço não registrado\")","v":""},"",null,null,"",""]
[null,null,"",null,"","",null,{"$f":"IFERROR(IF(D2927=\"\",\"\",INDEX(Entradas!$H$3:$H$5000,MATCH(A2927,IF(Entradas!$B$3:$B$5000=D2927,Entradas!$A$3:$A$5000),1))),\"Preço não registrado\")","v":""},"",null,null,"",""]
[null,null,"",null,"","",null,{"$f":"IFERROR(IF(D2928=\"\",\"\",INDEX(Entradas!$H$3:$H$5000,MATCH(A2928,IF(Entradas!$B$3:$B$5000=D2928,Entradas!$A$3:$A$5000),1))),\"Preço não registrado\")","v":""},"",null,null,"",""]
[null,null,"",null,"","",null,{"$f":"IFERROR(IF(D2929=\"\",\"\",INDEX(Entradas!$H$3:$H$5000,MATCH(A2929,IF(Entradas!$B$3:$B$5000=D2929,Entradas!$A$3:$A$5000),1))),\"Preço não registrado\")","v":""},"",null,null,"",""]
[null,null,"",null,"","",null,{"$f":"IFERROR(IF(D2930=\"\",\"\",INDEX(Entradas!$H$3:$H$5000,MATCH(A2930,IF(Entradas!$B$3:$B$5000=D2930,Entradas!$A$3:$A$5000),1))),\"Preço não registrado\")","v":""},"",null,null,"",""]
[null,null,"",null,"","",null,{"$f":"IFERROR(IF(D2931=\"\",\"\",INDEX(Entradas!$H$3:$H$5000,MATCH(A2931,IF(Entradas!$B$3:$B$5000=D2931,Entradas!$A$3:$A$5000),1))),\"Preço não registrado\")","v":""},"",null,null,"",""]
[null,null,"",null,"","",null,{"$f":"IFERROR(IF(D2932=\"\",\"\",INDEX(Entradas!$H$3:$H$5000,MATCH(A2932,IF(Entradas!$B$3:$B$5000=D2932,Entradas!$A$3:$A$5000),1))),\"Preço não registrado\")","v":""},"",null,null,"",""]
[null,null,"",null,"","",null,{"$f":"IFERROR(IF(D2933=\"\",\"\",INDEX(Entradas!$H$3:$H$5000,MATCH(A2933,IF(Entradas!$B$3:$B$5000=D2933,Entradas!$A$3:$A$5000),1))),\"Preço não registrado\")","v":""},"",null,null,"",""]
[null,null,"",null,"","",null,{"$f":"IFERROR(IF(D2934=\"\",\"\",INDEX(Entradas!$H$3:$H$5000,MATCH(A2934,IF(Entradas!$B$3:$B$5000=D2934,Entradas!$A$3:$A$5000),1))),\"Preço não registrado\")","v":""},"",null,null,"",""]
[null,null,"",null,"","",null,{"$f":"IFERROR(IF(D2935=\"\",\"\",INDEX(Entradas!$H$3:$H$5000,MATCH(A2935,IF(Entradas!$B$3:$B$5000=D2935,Entradas!$A$3:$A$5000),1))),\"Preço não registrado\")","v":""},"",null,null,"",""]
[null,null,"",null,"","",null,{"$f":"IFERROR(IF(D2936=\"\",\"\",INDEX(Entradas!$H$3:$H$5000,MATCH(A2936,IF(Entradas!$B$3:$B$5000=D2936,Entradas!$A$3:$A$5000),1))),\"Preço não registrado\")","v":""},"",null,null,"",""]
[null,null,"",null,"","",null,{"$f":"IFERROR(IF(D2937=\"\",\"\",INDEX(Entradas!$H$3:$H$5000,MATCH(A2937,IF(Entradas!$B$3:$B$5000=D2937,Entradas!$A$3:$A$5000),1))),\"Preço não registrado\")","v":""},"",null,null,"",""]
[null,null,"",null,"","",null,{"$f":"IFERROR(IF(D2938=\"\",\"\",INDEX(Entradas!$H$3:$H$5000,MATCH(A2938,IF(Entradas!$B$3:$B$5000=D2938,Entradas!$A$3:$A$5000),1))),\"Preço não registrado\")","v":""},"",null,null,"",""]
[null,null,"",null,"","",null,{"$f":"IFERROR(IF(D2939=\"\",\"\",INDEX(Entradas!$H$3:$H$5000,MATCH(A2939,IF(Entradas!$B$3:$B$5000=D2939,Entradas!$A$3:$A$5000),1))),\"Preço não registrado\")","v":""},"",null,null,"",""]
[null,null,"",null,"","",null,{"$f":"IFERROR(IF(D2940=\"\",\"\",INDEX(Entradas!$H$3:$H$5000,MATCH(A2940,IF(Entradas!$B$3:$B$5000=D2940,Entradas!$A$3:$A$5000),1))),\"Preço não registrado\")","v":""},"",null,null,"",""]
[null,null,"",null,"","",null,{"$f":"IFERROR(IF(D2941=\"\",\"\",INDEX(Entradas!$H$3:$H$5000,MATCH(A2941,IF(Entradas!$B$3:$B$5000=D2941,Entradas!$A$3:$A$5000),1))),\"Preço não registrado\")","v":""},"",null,null,"",""]
[null,null,"",null,"","",null,{"$f":"IFERROR(IF(D2942=\"\",\"\",INDEX(Entradas!$H$3:$H$5000,MATCH(A2942,IF(Entradas!$B$3:$B$5000=D2942,Entradas!$A$3:$A$5000),1))),\"Preço não registrado\")","v":""},"",null,null,"",""]
[null,null,"",null,"","",null,{"$f":"IFERROR(IF(D2943=\"\",\"\",INDEX(Entradas!$H$3:$H$5000,MATCH(A2943,IF(Entradas!$B$3:$B$5000=D2943,Entradas!$A$3:$A$5000),1))),\"Preço não registrado\")","v":""},"",null,null,"",""]
[null,null,"",null,"","",null,{"$f":"IFERROR(IF(D2944=\"\",\"\",INDEX(Entradas!$H$3:$H$5000,MATCH(A2944,IF(Entradas!$B$3:$B$5000=D2944,Entradas!$A$3:$A$5000),1))),\"Preço não registrado\")","v":""},"",null,null,"",""]
[null,null,"",null,"","",null,{"$f":"IFERROR(IF(D2945=\"\",\"\",INDEX(Entradas!$H$3:$H$5000,MATCH(A2945,IF(Entradas!$B$3:$B$5000=D2945,Entradas!$A$3:$A$5000),1))),\"Preço não registrado\")","v":""},"",null,null,"",""]
[null,null,"",null,"","",null,{"$f":"IFERROR(IF(D2946=\"\",\"\",INDEX(Entradas!$H$3:$H$5000,MATCH(A2946,IF(Entradas!$B$3:$B$5000=D2946,Entradas!$A$3:$A$5000),1))),\"Preço não registrado\")","v":""},"",null,null,"",""]
[null,null,{"$f":"IFERROR(IF(B2947=\"\",\"\",VLOOKUP(B2947,Clientes,2,FALSE)),\"\")","v":""},null,{"$f":"IF(D2947=\"\",\"\",VLOOKUP(D2947,Itens,2,FALSE))","v":""},{"$f":"IF(D2947=\"\",\"\",VLOOKUP(D2947,Itens,3,FALSE))","v":""},null,{"$f":"IFERROR(IF(D2947=\"\",\"\",INDEX(Entradas!$H$3:$H$5000,MATCH(A2947,IF(Entradas!$B$3:$B$5000=D2947,Entradas!$A$3:$A$5000),1))),\"Preço não registrado\")","v":""},"",null,null,"",""]
[null,null,"",null,"","",null,{"$f":"IFERROR(IF(D2948=\"\",\"\",INDEX(Entradas!$H$3:$H$5000,MATCH(A2948,IF(Entradas!$B$3:$B$5000=D2948,Entradas!$A$3:$A$5000),1))),\"Preço não registrado\")","v":""},{"$f":"IFERROR(G2948*H2948,\"\")","v":""},null,null,{"$f":"IF(K2948=\"\",\"\",HYPERLINK($P$13&K2948,\"Rastreie aqui\"))","v":""},{"$f":"IF(A2948=\"\",\"\",TEXT(A2948,\"mmmm\"))","v":""}]
[null,null,"",null,"","",null,{"$f":"IFERROR(IF(D2949=\"\",\"\",INDEX(Entradas!$H$3:$H$5000,MATCH(A2949,IF(Entradas!$B$3:$B$5000=D2949,Entradas!$A$3:$A$5000),1))),\"Preço não registrado\")","v":""},"",null,null,"",""]
[null,null,"",null,"","",null,{"$f":"IFERROR(IF(D2950=\"\",\"\",INDEX(Entradas!$H$3:$H$5000,MATCH(A2950,IF(Entradas!$B$3:$B$5000=D2950,Entradas!$A$3:$A$5000),1))),\"Preço não registrado\")","v":""},"",null,null,"",""]
[null,null,"",null,"","",null,{"$f":"IFERROR(IF(D2951=\"\",\"\",INDEX(Entradas!$H$3:$H$5000,MATCH(A2951,IF(Entradas!$B$3:$B$5000=D2951,Entradas!$A$3:$A$5000),1))),\"Preço não registrado\")","v":""},"",null,null,"",""]
[null,null,"",null,"","",null,{"$f":"IFERROR(IF(D2952=\"\",\"\",INDEX(Entradas!$H$3:$H$5000,MATCH(A2952,IF(Entradas!$B$3:$B$5000=D2952,Entradas!$A$3:$A$5000),1))),\"Preço não registrado\")","v":""},"",null,null,"",""]
[null,null,"",null,"","",null,{"$f":"IFERROR(IF(D2953=\"\",\"\",INDEX(Entradas!$H$3:$H$5000,MATCH(A2953,IF(Entradas!$B$3:$B$5000=D2953,Entradas!$A$3:$A$5000),1))),\"Preço não registrado\")","v":""},"",null,null,"",""]
[null,null,"",null,"","",null,{"$f":"IFERROR(IF(D2954=\"\",\"\",INDEX(Entradas!$H$3:$H$5000,MATCH(A2954,IF(Entradas!$B$3:$B$5000=D2954,Entradas!$A$3:$A$5000),1))),\"Preço não registrado\")","v":""},"",null,null,"",""]
[null,null,"",null,"","",null,{"$f":"IFERROR(IF(D2955=\"\",\"\",INDEX(Entradas!$H$3:$H$5000,MATCH(A2955,IF(Entradas!$B$3:$B$5000=D2955,Entradas!$A$3:$A$5000),1))),\"Preço não registrado\")","v":""},"",null,null,"",""]
[null,null,"",null,"","",null,{"$f":"IFERROR(IF(D2956=\"\",\"\",INDEX(Entradas!$H$3:$H$5000,MATCH(A2956,IF(Entradas!$B$3:$B$5000=D2956,Entradas!$A$3:$A$5000),1))),\"Preço não registrado\")","v":""},"",null,null,"",""]
[null,null,"",null,"","",null,{"$f":"IFERROR(IF(D2957=\"\",\"\",INDEX(Entradas!$H$3:$H$5000,MATCH(A2957,IF(Entradas!$B$3:$B$5000=D2957,Entradas!$A$3:$A$5000),1))),\"Preço não registrado\")","v":""},"",null,null,"",""]
[null,null,"",null,"","",null,{"$f":"IFERROR(IF(D2958=\"\",\"\",INDEX(Entradas!$H$3:$H$5000,MATCH(A2958,IF(Entradas!$B$3:$B$5000=D2958,Entradas!$A$3:$A$5000),1))),\"Preço não registrado\")","v":""},"",null,null,"",""]
[null,null,"",null,"","",null,{"$f":"IFERROR(IF(D2959=\"\",\"\",INDEX(Entradas!$H$3:$H$5000,MATCH(A2959,IF(Entradas!$B$3:$B$5000=D2959,Entradas!$A$3:$A$5000),1))),\"Preço não registrado\")","v":""},"",null,null,"",""]
[null,null,"",null,"","",null,{"$f":"IFERROR(IF(D2960=\"\",\"\",INDEX(Entradas!$H$3:$H$5000,MATCH(A2960,IF(Entradas!$B$3:$B$5000=D2960,Entradas!$A$3:$A$5000),1))),\"Preço não registrado\")","v":""},"",null,null,"",""]
[null,null,"",null,"","",null,{"$f":"IFERROR(IF(D2961=\"\",\"\",INDEX(Entradas!$H$3:$H$5000,MATCH(A2961,IF(Entradas!$B$3:$B$5000=D2961,Entradas!$A$3:$A$5000),1))),\"Preço não registrado\")","v":""},"",null,null,"",""]
[null,null,"",null,"","",null,{"$f":"IFERROR(IF(D2962=\"\",\"\",INDEX(Entradas!$H$3:$H$5000,MATCH(A2962,IF(Entradas!$B$3:$B$5000=D2962,Entradas!$A$3:$A$5000),1))),\"Preço não registrado\")","v":""},"",null,null,"",""]
[null,null,"",null,"","",null,{"$f":"IFERROR(IF(D2963=\"\",\"\",INDEX(Entradas!$H$3:$H$5000,MATCH(A2963,IF(Entradas!$B$3:$B$5000=D2963,Entradas!$A$3:$A$5000),1))),\"Preço não registrado\")","v":""},"",null,null,"",""]
[null,null,"",null,"","",null,{"$f":"IFERROR(IF(D2964=\"\",\"\",INDEX(Entradas!$H$3:$H$5000,MATCH(A2964,IF(Entradas!$B$3:$B$5000=D2964,Entradas!$A$3:$A$5000),1))),\"Preço não registrado\")","v":""},"",null,null,"",""]
[null,null,"",null,"","",null,{"$f":"IFERROR(IF(D2965=\"\",\"\",INDEX(Entradas!$H$3:$H$5000,MATCH(A2965,IF(Entradas!$B$3:$B$5000=D2965,Entradas!$A$3:$A$5000),1))),\"Preço não registrado\")","v":""},"",null,null,"",""]
[null,null,"",null,"","",null,{"$f":"IFERROR(IF(D2966=\"\",\"\",INDEX(Entradas!$H$3:$H$5000,MATCH(A2966,IF(Entradas!$B$3:$B$5000=D2966,Entradas!$A$3:$A$5000),1))),\"Preço não registrado\")","v":""},"",null,null,"",""]
[null,null,"",null,"","",null,{"$f":"IFERROR(IF(D2967=\"\",\"\",INDEX(Entradas!$H$3:$H$5000,MATCH(A2967,IF(Entradas!$B$3:$B$5000=D2967,Entradas!$A$3:$A$5000),1))),\"Preço não registrado\")","v":""},"",null,null,"",""]
[null,null,"",null,"","",null,{"$f":"IFERROR(IF(D2968=\"\",\"\",INDEX(Entradas!$H$3:$H$5000,MATCH(A2968,IF(Entradas!$B$3:$B$5000=D2968,Entradas!$A$3:$A$5000),1))),\"Preço não registrado\")","v":""},"",null,null,"",""]
[null,null,"",null,"","",null,{"$f":"IFERROR(IF(D2969=\"\",\"\",INDEX(Entradas!$H$3:$H$5000,MATCH(A2969,IF(Entradas!$B$3:$B$5000=D2969,Entradas!$A$3:$A$5000),1))),\"Preço não registrado\")","v":""},"",null,null,"",""]
[null,null,"",null,"","",null,{"$f":"IFERROR(IF(D2970=\"\",\"\",INDEX(Entradas!$H$3:$H$5000,MATCH(A2970,IF(Entradas!$B$3:$B$5000=D2970,Entradas!$A$3:$A$5000),1))),\"Preço não registrado\")","v":""},"",null,null,"",""]
[null,null,"",null,"","",null,{"$f":"IFERROR(IF(D2971=\"\",\"\",INDEX(Entradas!$H$3:$H$5000,MATCH(A2971,IF(Entradas!$B$3:$B$5000=D2971,Entradas!$A$3:$A$5000),1))),\"Preço não registrado\")","v":""},"",null,null,"",""]
[null,null,"",null,"","",null,{"$f":"IFERROR(IF(D2972=\"\",\"\",INDEX(Entradas!$H$3:$H$5000,MATCH(A2972,IF(Entradas!$B$3:$B$5000=D2972,Entradas!$A$3:$A$5000),1))),\"Preço não registrado\")","v":""},"",null,null,"",""]
[null,null,"",null,"","",null,{"$f":"IFERROR(IF(D2973=\"\",\"\",INDEX(Entradas!$H$3:$H$5000,MATCH(A2973,IF(Entradas!$B$3:$B$5000=D2973,Entradas!$A$3:$A$5000),1))),\"Preço não registrado\")","v":""},"",null,null,"",""]
[null,null,"",null,"","",null,{"$f":"IFERROR(IF(D2974=\"\",\"\",INDEX(Entradas!$H$3:$H$5000,MATCH(A2974,IF(Entradas!$B$3:$B$5000=D2974,Entradas!$A$3:$A$5000),1))),\"Preço não registrado\")","v":""},"",null,null,"",""]
[null,null,"",null,"","",null,{"$f":"IFERROR(IF(D2975=\"\",\"\",INDEX(Entradas!$H$3:$H$5000,MATCH(A2975,IF(Entradas!$B$3:$B$5000=D2975,Entradas!$A$3:$A$5000),1))),\"Preço não registrado\")","v":""},"",null,null,"",""]
[null,null,"",null,"","",null,{"$f":"IFERROR(IF(D2976=\"\",\"\",INDEX(Entradas!$H$3:$H$5000,MATCH(A2976,IF(Entradas!$B$3:$B$5000=D2976,Entradas!$A$3:$A$5000),1))),\"Preço não registrado\")","v":""},"",null,null,"",""]
[null,null,"",null,"","",null,{"$f":"IFERROR(IF(D2977=\"\",\"\",INDEX(Entradas!$H$3:$H$5000,MATCH(A2977,IF(Entradas!$B$3:$B$5000=D2977,Entradas!$A$3:$A$5000),1))),\"Preço não registrado\")","v":""},"",null,null,"",""]
[null,null,"",null,"","",null,{"$f":"IFERROR(IF(D2978=\"\",\"\",INDEX(Entradas!$H$3:$H$5000,MATCH(A2978,IF(Entradas!$B$3:$B$5000=D2978,Entradas!$A$3:$A$5000),1))),\"Preço não registrado\")","v":""},"",null,null,"",""]
[null,null,"",null,"","",null,{"$f":"IFERROR(IF(D2979=\"\",\"\",INDEX(Entradas!$H$3:$H$5000,MATCH(A2979,IF(Entradas!$B$3:$B$5000=D2979,Entradas!$A$3:$A$5000),1))),\"Preço não registrado\")","v":""},"",null,null,"",""]
[null,null,"",null,"","",null,{"$f":"IFERROR(IF(D2980=\"\",\"\",INDEX(Entradas!$H$3:$H$5000,MATCH(A2980,IF(Entradas!$B$3:$B$5000=D2980,Entradas!$A$3:$A$5000),1))),\"Preço não registrado\")","v":""},"",null,null,"",""]
[null,null,"",null,"","",null,{"$f":"IFERROR(IF(D2981=\"\",\"\",INDEX(Entradas!$H$3:$H$5000,MATCH(A2981,IF(Entradas!$B$3:$B$5000=D2981,Entradas!$A$3:$A$5000),1))),\"Preço não registrado\")","v":""},"",null,null,"",""]
[null,null,"",null,"","",null,{"$f":"IFERROR(IF(D2982=\"\",\"\",INDEX(Entradas!$H$3:$H$5000,MATCH(A2982,IF(Entradas!$B$3:$B$5000=D2982,Entradas!$A$3:$A$5000),1))),\"Preço não registrado\")","v":""},"",null,null,"",""]
[null,null,"",null,"","",null,{"$f":"IFERROR(IF(D2983=\"\",\"\",INDEX(Entradas!$H$3:$H$5000,MATCH(A2983,IF(Entradas!$B$3:$B$5000=D2983,Entradas!$A$3:$A$5000),1))),\"Preço não registrado\")","v":""},"",null,null,"",""]
[null,null,"",null,"","",null,{"$f":"IFERROR(IF(D2984=\"\",\"\",INDEX(Entradas!$H$3:$H$5000,MATCH(A2984,IF(Entradas!$B$3:$B$5000=D2984,Entradas!$A$3:$A$5000),1))),\"Preço não registrado\")","v":""},"",null,null,"",""]
[null,null,"",null,"","",null,{"$f":"IFERROR(IF(D2985=\"\",\"\",INDEX(Entradas!$H$3:$H$5000,MATCH(A2985,IF(Entradas!$B$3:$B$5000=D2985,Entradas!$A$3:$A$5000),1))),\"Preço não registrado\")","v":""},"",null,null,"",""]
[null,null,"",null,"","",null,{"$f":"IFERROR(IF(D2986=\"\",\"\",INDEX(Entradas!$H$3:$H$5000,MATCH(A2986,IF(Entradas!$B$3:$B$5000=D2986,Entradas!$A$3:$A$5000),1))),\"Preço não registrado\")","v":""},"",null,null,"",""]
[null,null,"",null,"","",null,{"$f":"IFERROR(IF(D2987=\"\",\"\",INDEX(Entradas!$H$3:$H$5000,MATCH(A2987,IF(Entradas!$B$3:$B$5000=D2987,Entradas!$A$3:$A$5000),1))),\"Preço não registrado\")","v":""},"",null,null,"",""]
[null,null,"",null,"","",null,{"$f":"IFERROR(IF(D2988=\"\",\"\",INDEX(Entradas!$H$3:$H$5000,MATCH(A2988,IF(Entradas!$B$3:$B$5000=D2988,Entradas!$A$3:$A$5000),1))),\"Preço não registrado\")","v":""},"",null,null,"",""]
[null,null,"",null,"","",null,{"$f":"IFERROR(IF(D2989=\"\",\"\",INDEX(Entradas!$H$3:$H$5000,MATCH(A2989,IF(Entradas!$B$3:$B$5000=D2989,Entradas!$A$3:$A$5000),1))),\"Preço não registrado\")","v":""},"",null,null,"",""]
[null,null,"",null,"","",null,{"$f":"IFERROR(IF(D2990=\"\",\"\",INDEX(Entradas!$H$3:$H$5000,MATCH(A2990,IF(Entradas!$B$3:$B$5000=D2990,Entradas!$A$3:$A$5000),1))),\"Preço não registrado\")","v":""},"",null,null,"",""]
[null,null,"",null,"","",null,{"$f":"IFERROR(IF(D2991=\"\",\"\",INDEX(Entradas!$H$3:$H$5000,MATCH(A2991,IF(Entradas!$B$3:$B$5000=D2991,Entradas!$A$3:$A$5000),1))),\"Preço não registrado\")","v":""},"",null,null,"",""]
[null,null,"",null,"","",null,{"$f":"IFERROR(IF(D2992=\"\",\"\",INDEX(Entradas!$H$3:$H$5000,MATCH(A2992,IF(Entradas!$B$3:$B$5000=D2992,Entradas!$A$3:$A$5000),1))),\"Preço não registrado\")","v":""},"",null,null,"",""]
[null,null,"",null,"","",null,{"$f":"IFERROR(IF(D2993=\"\",\"\",INDEX(Entradas!$H$3:$H$5000,MATCH(A2993,IF(Entradas!$B$3:$B$5000=D2993,Entradas!$A$3:$A$5000),1))),\"Preço não registrado\")","v":""},"",null,null,"",""]
[null,null,"",null,"","",null,{"$f":"IFERROR(IF(D2994=\"\",\"\",INDEX(Entradas!$H$3:$H$5000,MATCH(A2994,IF(Entradas!$B$3:$B$5000=D2994,Entradas!$A$3:$A$5000),1))),\"Preço não registrado\")","v":""},"",null,null,"",""]
[null,null,"",null,"","",null,{"$f":"IFERROR(IF(D2995=\"\",\"\",INDEX(Entradas!$H$3:$H$5000,MATCH(A2995,IF(Entradas!$B$3:$B$5000=D2995,Entradas!$A$3:$A$5000),1))),\"Preço não registrado\")","v":""},"",null,null,"",""]
[null,null,"",null,"","",null,{"$f":"IFERROR(IF(D2996=\"\",\"\",INDEX(Entradas!$H$3:$H$5000,MATCH(A2996,IF(Entradas!$B$3:$B$5000=D2996,Entradas!$A$3:$A$5000),1))),\"Preço não registrado\")","v":""},"",null,null,"",""]
[null,null,"",null,"","",null,{"$f":"IFERROR(IF(D2997=\"\",\"\",INDEX(Entradas!$H$3:$H$5000,MATCH(A2997,IF(Entradas!$B$3:$B$5000=D2997,Entradas!$A$3:$A$5000),1))),\"Preço não registrado\")","v":""},"",null,null,"",""]
[null,null,"",null,"","",null,{"$f":"IFERROR(IF(D2998=\"\",\"\",INDEX(Entradas!$H$3:$H$5000,MATCH(A2998,IF(Entradas!$B$3:$B$5000=D2998,Entradas!$A$3:$A$5000),1))),\"Preço não registrado\")","v":""},"",null,null,"",""]
[null,null,"",null,"","",null,{"$f":"IFERROR(IF(D2999=\"\",\"\",INDEX(Entradas!$H$3:$H$5000,MATCH(A2999,IF(Entradas!$B$3:$B$5000=D2999,Entradas!$A$3:$A$5000),1))),\"Preço não registrado\")","v":""},"",null,null,"",""]
[null,null,"",null,"","",null,{"$f":"IFERROR(IF(D3000=\"\",\"\",INDEX(Entradas!$H$3:$H$5000,MATCH(A3000,IF(Entradas!$B$3:$B$5000=D3000,Entradas!$A$3:$A$5000),1))),\"Preço não registrado\")","v":""},"",null,null,"",""]
[null,null,"",null,"","",null,{"$f":"IFERROR(IF(D3001=\"\",\"\",INDEX(Entradas!$H$3:$H$5000,MATCH(A3001,IF(Entradas!$B$3:$B$5000=D3001,Entradas!$A$3:$A$5000),1))),\"Preço não registrado\")","v":""},"",null,null,"",""]
[null,null,"",null,"","",null,{"$f":"IFERROR(IF(D3002=\"\",\"\",INDEX(Entradas!$H$3:$H$5000,MATCH(A3002,IF(Entradas!$B$3:$B$5000=D3002,Entradas!$A$3:$A$5000),1))),\"Preço não registrado\")","v":""},"",null,null,"",""]
[null,null,"",null,"","",null,{"$f":"IFERROR(IF(D3003=\"\",\"\",INDEX(Entradas!$H$3:$H$5000,MATCH(A3003,IF(Entradas!$B$3:$B$5000=D3003,Entradas!$A$3:$A$5000),1))),\"Preço não registrado\")","v":""},"",null,null,"",""]
[null,null,"",null,"","",null,{"$f":"IFERROR(IF(D3004=\"\",\"\",INDEX(Entradas!$H$3:$H$5000,MATCH(A3004,IF(Entradas!$B$3:$B$5000=D3004,Entradas!$A$3:$A$5000),1))),\"Preço não registrado\")","v":""},"",null,null,"",""]
[null,null,"",null,"","",null,{"$f":"IFERROR(IF(D3005=\"\",\"\",INDEX(Entradas!$H$3:$H$5000,MATCH(A3005,IF(Entradas!$B$3:$B$5000=D3005,Entradas!$A$3:$A$5000),1))),\"Preço não registrado\")","v":""},"",null,null,"",""]
[null,null,"",null,"","",null,{"$f":"IFERROR(IF(D3006=\"\",\"\",INDEX(Entradas!$H$3:$H$5000,MATCH(A3006,IF(Entradas!$B$3:$B$5000=D3006,Entradas!$A$3:$A$5000),1))),\"Preço não registrado\")","v":""},"",null,null,"",""]
[null,null,"",null,"","",null,{"$f":"IFERROR(IF(D3007=\"\",\"\",INDEX(Entradas!$H$3:$H$5000,MATCH(A3007,IF(Entradas!$B$3:$B$5000=D3007,Entradas!$A$3:$A$5000),1))),\"Preço não registrado\")","v":""},"",null,null,"",""]
[null,null,"",null,"","",null,{"$f":"IFERROR(IF(D3008=\"\",\"\",INDEX(Entradas!$H$3:$H$5000,MATCH(A3008,IF(Entradas!$B$3:$B$5000=D3008,Entradas!$A$3:$A$5000),1))),\"Preço não registrado\")","v":""},"",null,null,"",""]
[null,null,"",null,"","",null,{"$f":"IFERROR(IF(D3009=\"\",\"\",INDEX(Entradas!$H$3:$H$5000,MATCH(A3009,IF(Entradas!$B$3:$B$5000=D3009,Entradas!$A$3:$A$5000),1))),\"Preço não registrado\")","v":""},"",null,null,"",""]
[null,null,"",null,"","",null,{"$f":"IFERROR(IF(D3010=\"\",\"\",INDEX(Entradas!$H$3:$H$5000,MATCH(A3010,IF(Entradas!$B$3:$B$5000=D3010,Entradas!$A$3:$A$5000),1))),\"Preço não registrado\")","v":""},"",null,null,"",""]
[null,null,{"$f":"IFERROR(IF(B3011=\"\",\"\",VLOOKUP(B3011,Clientes,2,FALSE)),\"\")","v":""},null,{"$f":"IF(D3011=\"\",\"\",VLOOKUP(D3011,Itens,2,FALSE))","v":""},{"$f":"IF(D3011=\"\",\"\",VLOOKUP(D3011,Itens,3,FALSE))","v":""},null,{"$f":"IFERROR(IF(D3011=\"\",\"\",INDEX(Entradas!$H$3:$H$5000,MATCH(A3011,IF(Entradas!$B$3:$B$5000=D3011,Entradas!$A$3:$A$5000),1))),\"Preço não registrado\")","v":""},"",null,null,"",""]
[null,null,"",null,"","",null,{"$f":"IFERROR(IF(D3012=\"\",\"\",INDEX(Entradas!$H$3:$H$5000,MATCH(A3012,IF(Entradas!$B$3:$B$5000=D3012,Entradas!$A$3:$A$5000),1))),\"Preço não registrado\")","v":""},{"$f":"IFERROR(G3012*H3012,\"\")","v":""},null,null,{"$f":"IF(K3012=\"\",\"\",HYPERLINK($P$13&K3012,\"Rastreie aqui\"))","v":""},{"$f":"IF(A3012=\"\",\"\",TEXT(A3012,\"mmmm\"))","v":""}]
[null,null,"",null,"","",null,{"$f":"IFERROR(IF(D3013=\"\",\"\",INDEX(Entradas!$H$3:$H$5000,MATCH(A3013,IF(Entradas!$B$3:$B$5000=D3013,Entradas!$A$3:$A$5000),1))),\"Preço não registrado\")","v":""},"",null,null,"",""]
[null,null,"",null,"","",null,{"$f":"IFERROR(IF(D3014=\"\",\"\",INDEX(Entradas!$H$3:$H$5000,MATCH(A3014,IF(Entradas!$B$3:$B$5000=D3014,Entradas!$A$3:$A$5000),1))),\"Preço não registrado\")","v":""},"",null,null,"",""]
[null,null,"",null,"","",null,{"$f":"IFERROR(IF(D3015=\"\",\"\",INDEX(Entradas!$H$3:$H$5000,MATCH(A3015,IF(Entradas!$B$3:$B$5000=D3015,Entradas!$A$3:$A$5000),1))),\"Preço não registrado\")","v":""},"",null,null,"",""]
[null,null,"",null,"","",null,{"$f":"IFERROR(IF(D3016=\"\",\"\",INDEX(Entradas!$H$3:$H$5000,MATCH(A3016,IF(Entradas!$B$3:$B$5000=D3016,Entradas!$A$3:$A$5000),1))),\"Preço não registrado\")","v":""},"",null,null,"",""]
[null,null,"",null,"","",null,{"$f":"IFERROR(IF(D3017=\"\",\"\",INDEX(Entradas!$H$3:$H$5000,MATCH(A3017,IF(Entradas!$B$3:$B$5000=D3017,Entradas!$A$3:$A$5000),1))),\"Preço não registrado\")","v":""},"",null,null,"",""]
[null,null,"",null,"","",null,{"$f":"IFERROR(IF(D3018=\"\",\"\",INDEX(Entradas!$H$3:$H$5000,MATCH(A3018,IF(Entradas!$B$3:$B$5000=D3018,Entradas!$A$3:$A$5000),1))),\"Preço não registrado\")","v":""},"",null,null,"",""]
[null,null,"",null,"","",null,{"$f":"IFERROR(IF(D3019=\"\",\"\",INDEX(Entradas!$H$3:$H$5000,MATCH(A3019,IF(Entradas!$B$3:$B$5000=D3019,Entradas!$A$3:$A$5000),1))),\"Preço não registrado\")","v":""},"",null,null,"",""]
[null,null,"",null,"","",null,{"$f":"IFERROR(IF(D3020=\"\",\"\",INDEX(Entradas!$H$3:$H$5000,MATCH(A3020,IF(Entradas!$B$3:$B$5000=D3020,Entradas!$A$3:$A$5000),1))),\"Preço não registrado\")","v":""},"",null,null,"",""]
[null,null,"",null,"","",null,{"$f":"IFERROR(IF(D3021=\"\",\"\",INDEX(Entradas!$H$3:$H$5000,MATCH(A3021,IF(Entradas!$B$3:$B$5000=D3021,Entradas!$A$3:$A$5000),1))),\"Preço não registrado\")","v":""},"",null,null,"",""]
[null,null,"",null,"","",null,{"$f":"IFERROR(IF(D3022=\"\",\"\",INDEX(Entradas!$H$3:$H$5000,MATCH(A3022,IF(Entradas!$B$3:$B$5000=D3022,Entradas!$A$3:$A$5000),1))),\"Preço não registrado\")","v":""},"",null,null,"",""]
[null,null,"",null,"","",null,{"$f":"IFERROR(IF(D3023=\"\",\"\",INDEX(Entradas!$H$3:$H$5000,MATCH(A3023,IF(Entradas!$B$3:$B$5000=D3023,Entradas!$A$3:$A$5000),1))),\"Preço não registrado\")","v":""},"",null,null,"",""]
[null,null,"",null,"","",null,{"$f":"IFERROR(IF(D3024=\"\",\"\",INDEX(Entradas!$H$3:$H$5000,MATCH(A3024,IF(Entradas!$B$3:$B$5000=D3024,Entradas!$A$3:$A$5000),1))),\"Preço não registrado\")","v":""},"",null,null,"",""]
[null,null,"",null,"","",null,{"$f":"IFERROR(IF(D3025=\"\",\"\",INDEX(Entradas!$H$3:$H$5000,MATCH(A3025,IF(Entradas!$B$3:$B$5000=D3025,Entradas!$A$3:$A$5000),1))),\"Preço não registrado\")","v":""},"",null,null,"",""]
[null,null,"",null,"","",null,{"$f":"IFERROR(IF(D3026=\"\",\"\",INDEX(Entradas!$H$3:$H$5000,MATCH(A3026,IF(Entradas!$B$3:$B$5000=D3026,Entradas!$A$3:$A$5000),1))),\"Preço não registrado\")","v":""},"",null,null,"",""]
[null,null,"",null,"","",null,{"$f":"IFERROR(IF(D3027=\"\",\"\",INDEX(Entradas!$H$3:$H$5000,MATCH(A3027,IF(Entradas!$B$3:$B$5000=D3027,Entradas!$A$3:$A$5000),1))),\"Preço não registrado\")","v":""},"",null,null,"",""]
[null,null,"",null,"","",null,{"$f":"IFERROR(IF(D3028=\"\",\"\",INDEX(Entradas!$H$3:$H$5000,MATCH(A3028,IF(Entradas!$B$3:$B$5000=D3028,Entradas!$A$3:$A$5000),1))),\"Preço não registrado\")","v":""},"",null,null,"",""]
[null,null,"",null,"","",null,{"$f":"IFERROR(IF(D3029=\"\",\"\",INDEX(Entradas!$H$3:$H$5000,MATCH(A3029,IF(Entradas!$B$3:$B$5000=D3029,Entradas!$A$3:$A$5000),1))),\"Preço não registrado\")","v":""},"",null,null,"",""]
[null,null,"",null,"","",null,{"$f":"IFERROR(IF(D3030=\"\",\"\",INDEX(Entradas!$H$3:$H$5000,MATCH(A3030,IF(Entradas!$B$3:$B$5000=D3030,Entradas!$A$3:$A$5000),1))),\"Preço não registrado\")","v":""},"",null,null,"",""]
[null,null,"",null,"","",null,{"$f":"IFERROR(IF(D3031=\"\",\"\",INDEX(Entradas!$H$3:$H$5000,MATCH(A3031,IF(Entradas!$B$3:$B$5000=D3031,Entradas!$A$3:$A$5000),1))),\"Preço não registrado\")","v":""},"",null,null,"",""]
[null,null,"",null,"","",null,{"$f":"IFERROR(IF(D3032=\"\",\"\",INDEX(Entradas!$H$3:$H$5000,MATCH(A3032,IF(Entradas!$B$3:$B$5000=D3032,Entradas!$A$3:$A$5000),1))),\"Preço não registrado\")","v":""},"",null,null,"",""]
[null,null,"",null,"","",null,{"$f":"IFERROR(IF(D3033=\"\",\"\",INDEX(Entradas!$H$3:$H$5000,MATCH(A3033,IF(Entradas!$B$3:$B$5000=D3033,Entradas!$A$3:$A$5000),1))),\"Preço não registrado\")","v":""},"",null,null,"",""]
[null,null,"",null,"","",null,{"$f":"IFERROR(IF(D3034=\"\",\"\",INDEX(Entradas!$H$3:$H$5000,MATCH(A3034,IF(Entradas!$B$3:$B$5000=D3034,Entradas!$A$3:$A$5000),1))),\"Preço não registrado\")","v":""},"",null,null,"",""]
[null,null,"",null,"","",null,{"$f":"IFERROR(IF(D3035=\"\",\"\",INDEX(Entradas!$H$3:$H$5000,MATCH(A3035,IF(Entradas!$B$3:$B$5000=D3035,Entradas!$A$3:$A$5000),1))),\"Preço não registrado\")","v":""},"",null,null,"",""]
[null,null,"",null,"","",null,{"$f":"IFERROR(IF(D3036=\"\",\"\",INDEX(Entradas!$H$3:$H$5000,MATCH(A3036,IF(Entradas!$B$3:$B$5000=D3036,Entradas!$A$3:$A$5000),1))),\"Preço não registrado\")","v":""},"",null,null,"",""]
[null,null,"",null,"","",null,{"$f":"IFERROR(IF(D3037=\"\",\"\",INDEX(Entradas!$H$3:$H$5000,MATCH(A3037,IF(Entradas!$B$3:$B$5000=D3037,Entradas!$A$3:$A$5000),1))),\"Preço não registrado\")","v":""},"",null,null,"",""]
[null,null,"",null,"","",null,{"$f":"IFERROR(IF(D3038=\"\",\"\",INDEX(Entradas!$H$3:$H$5000,MATCH(A3038,IF(Entradas!$B$3:$B$5000=D3038,Entradas!$A$3:$A$5000),1))),\"Preço não registrado\")","v":""},"",null,null,"",""]
[null,null,"",null,"","",null,{"$f":"IFERROR(IF(D3039=\"\",\"\",INDEX(Entradas!$H$3:$H$5000,MATCH(A3039,IF(Entradas!$B$3:$B$5000=D3039,Entradas!$A$3:$A$5000),1))),\"Preço não registrado\")","v":""},"",null,null,"",""]
[null,null,"",null,"","",null,{"$f":"IFERROR(IF(D3040=\"\",\"\",INDEX(Entradas!$H$3:$H$5000,MATCH(A3040,IF(Entradas!$B$3:$B$5000=D3040,Entradas!$A$3:$A$5000),1))),\"Preço não registrado\")","v":""},"",null,null,"",""]
[null,null,"",null,"","",null,{"$f":"IFERROR(IF(D3041=\"\",\"\",INDEX(Entradas!$H$3:$H$5000,MATCH(A3041,IF(Entradas!$B$3:$B$5000=D3041,Entradas!$A$3:$A$5000),1))),\"Preço não registrado\")","v":""},"",null,null,"",""]
[null,null,"",null,"","",null,{"$f":"IFERROR(IF(D3042=\"\",\"\",INDEX(Entradas!$H$3:$H$5000,MATCH(A3042,IF(Entradas!$B$3:$B$5000=D3042,Entradas!$A$3:$A$5000),1))),\"Preço não registrado\")","v":""},"",null,null,"",""]
[null,null,"",null,"","",null,{"$f":"IFERROR(IF(D3043=\"\",\"\",INDEX(Entradas!$H$3:$H$5000,MATCH(A3043,IF(Entradas!$B$3:$B$5000=D3043,Entradas!$A$3:$A$5000),1))),\"Preço não registrado\")","v":""},"",null,null,"",""]
[null,null,"",null,"","",null,{"$f":"IFERROR(IF(D3044=\"\",\"\",INDEX(Entradas!$H$3:$H$5000,MATCH(A3044,IF(Entradas!$B$3:$B$5000=D3044,Entradas!$A$3:$A$5000),1))),\"Preço não registrado\")","v":""},"",null,null,"",""]
[null,null,"",null,"","",null,{"$f":"IFERROR(IF(D3045=\"\",\"\",INDEX(Entradas!$H$3:$H$5000,MATCH(A3045,IF(Entradas!$B$3:$B$5000=D3045,Entradas!$A$3:$A$5000),1))),\"Preço não registrado\")","v":""},"",null,null,"",""]
[null,null,"",null,"","",null,{"$f":"IFERROR(IF(D3046=\"\",\"\",INDEX(Entradas!$H$3:$H$5000,MATCH(A3046,IF(Entradas!$B$3:$B$5000=D3046,Entradas!$A$3:$A$5000),1))),\"Preço não registrado\")","v":""},"",null,null,"",""]
[null,null,"",null,"","",null,{"$f":"IFERROR(IF(D3047=\"\",\"\",INDEX(Entradas!$H$3:$H$5000,MATCH(A3047,IF(Entradas!$B$3:$B$5000=D3047,Entradas!$A$3:$A$5000),1))),\"Preço não registrado\")","v":""},"",null,null,"",""]
[null,null,"",null,"","",null,{"$f":"IFERROR(IF(D3048=\"\",\"\",INDEX(Entradas!$H$3:$H$5000,MATCH(A3048,IF(Entradas!$B$3:$B$5000=D3048,Entradas!$A$3:$A$5000),1))),\"Preço não registrado\")","v":""},"",null,null,"",""]
[null,null,"",null,"","",null,{"$f":"IFERROR(IF(D3049=\"\",\"\",INDEX(Entradas!$H$3:$H$5000,MATCH(A3049,IF(Entradas!$B$3:$B$5000=D3049,Entradas!$A$3:$A$5000),1))),\"Preço não registrado\")","v":""},"",null,null,"",""]
[null,null,"",null,"","",null,{"$f":"IFERROR(IF(D3050=\"\",\"\",INDEX(Entradas!$H$3:$H$5000,MATCH(A3050,IF(Entradas!$B$3:$B$5000=D3050,Entradas!$A$3:$A$5000),1))),\"Preço não registrado\")","v":""},"",null,null,"",""]
[null,null,"",null,"","",null,{"$f":"IFERROR(IF(D3051=\"\",\"\",INDEX(Entradas!$H$3:$H$5000,MATCH(A3051,IF(Entradas!$B$3:$B$5000=D3051,Entradas!$A$3:$A$5000),1))),\"Preço não registrado\")","v":""},"",null,null,"",""]
[null,null,"",null,"","",null,{"$f":"IFERROR(IF(D3052=\"\",\"\",INDEX(Entradas!$H$3:$H$5000,MATCH(A3052,IF(Entradas!$B$3:$B$5000=D3052,Entradas!$A$3:$A$5000),1))),\"Preço não registrado\")","v":""},"",null,null,"",""]
[null,null,"",null,"","",null,{"$f":"IFERROR(IF(D3053=\"\",\"\",INDEX(Entradas!$H$3:$H$5000,MATCH(A3053,IF(Entradas!$B$3:$B$5000=D3053,Entradas!$A$3:$A$5000),1))),\"Preço não registrado\")","v":""},"",null,null,"",""]
[null,null,"",null,"","",null,{"$f":"IFERROR(IF(D3054=\"\",\"\",INDEX(Entradas!$H$3:$H$5000,MATCH(A3054,IF(Entradas!$B$3:$B$5000=D3054,Entradas!$A$3:$A$5000),1))),\"Preço não registrado\")","v":""},"",null,null,"",""]
[null,null,"",null,"","",null,{"$f":"IFERROR(IF(D3055=\"\",\"\",INDEX(Entradas!$H$3:$H$5000,MATCH(A3055,IF(Entradas!$B$3:$B$5000=D3055,Entradas!$A$3:$A$5000),1))),\"Preço não registrado\")","v":""},"",null,null,"",""]
[null,null,"",null,"","",null,{"$f":"IFERROR(IF(D3056=\"\",\"\",INDEX(Entradas!$H$3:$H$5000,MATCH(A3056,IF(Entradas!$B$3:$B$5000=D3056,Entradas!$A$3:$A$5000),1))),\"Preço não registrado\")","v":""},"",null,null,"",""]
[null,null,"",null,"","",null,{"$f":"IFERROR(IF(D3057=\"\",\"\",INDEX(Entradas!$H$3:$H$5000,MATCH(A3057,IF(Entradas!$B$3:$B$5000=D3057,Entradas!$A$3:$A$5000),1))),\"Preço não registrado\")","v":""},"",null,null,"",""]
[null,null,"",null,"","",null,{"$f":"IFERROR(IF(D3058=\"\",\"\",INDEX(Entradas!$H$3:$H$5000,MATCH(A3058,IF(Entradas!$B$3:$B$5000=D3058,Entradas!$A$3:$A$5000),1))),\"Preço não registrado\")","v":""},"",null,null,"",""]
[null,null,"",null,"","",null,{"$f":"IFERROR(IF(D3059=\"\",\"\",INDEX(Entradas!$H$3:$H$5000,MATCH(A3059,IF(Entradas!$B$3:$B$5000=D3059,Entradas!$A$3:$A$5000),1))),\"Preço não registrado\")","v":""},"",null,null,"",""]
[null,null,"",null,"","",null,{"$f":"IFERROR(IF(D3060=\"\",\"\",INDEX(Entradas!$H$3:$H$5000,MATCH(A3060,IF(Entradas!$B$3:$B$5000=D3060,Entradas!$A$3:$A$5000),1))),\"Preço não registrado\")","v":""},"",null,null,"",""]
[null,null,"",null,"","",null,{"$f":"IFERROR(IF(D3061=\"\",\"\",INDEX(Entradas!$H$3:$H$5000,MATCH(A3061,IF(Entradas!$B$3:$B$5000=D3061,Entradas!$A$3:$A$5000),1))),\"Preço não registrado\")","v":""},"",null,null,"",""]
[null,null,"",null,"","",null,{"$f":"IFERROR(IF(D3062=\"\",\"\",INDEX(Entradas!$H$3:$H$5000,MATCH(A3062,IF(Entradas!$B$3:$B$5000=D3062,Entradas!$A$3:$A$5000),1))),\"Preço não registrado\")","v":""},"",null,null,"",""]
[null,null,"",null,"","",null,{"$f":"IFERROR(IF(D3063=\"\",\"\",INDEX(Entradas!$H$3:$H$5000,MATCH(A3063,IF(Entradas!$B$3:$B$5000=D3063,Entradas!$A$3:$A$5000),1))),\"Preço não registrado\")","v":""},"",null,null,"",""]
[null,null,"",null,"","",null,{"$f":"IFERROR(IF(D3064=\"\",\"\",INDEX(Entradas!$H$3:$H$5000,MATCH(A3064,IF(Entradas!$B$3:$B$5000=D3064,Entradas!$A$3:$A$5000),1))),\"Preço não registrado\")","v":""},"",null,null,"",""]
[null,null,"",null,"","",null,{"$f":"IFERROR(IF(D3065=\"\",\"\",INDEX(Entradas!$H$3:$H$5000,MATCH(A3065,IF(Entradas!$B$3:$B$5000=D3065,Entradas!$A$3:$A$5000),1))),\"Preço não registrado\")","v":""},"",null,null,"",""]
[null,null,"",null,"","",null,{"$f":"IFERROR(IF(D3066=\"\",\"\",INDEX(Entradas!$H$3:$H$5000,MATCH(A3066,IF(Entradas!$B$3:$B$5000=D3066,Entradas!$A$3:$A$5000),1))),\"Preço não registrado\")","v":""},"",null,null,"",""]
[null,null,"",null,"","",null,{"$f":"IFERROR(IF(D3067=\"\",\"\",INDEX(Entradas!$H$3:$H$5000,MATCH(A3067,IF(Entradas!$B$3:$B$5000=D3067,Entradas!$A$3:$A$5000),1))),\"Preço não registrado\")","v":""},"",null,null,"",""]
[null,null,"",null,"","",null,{"$f":"IFERROR(IF(D3068=\"\",\"\",INDEX(Entradas!$H$3:$H$5000,MATCH(A3068,IF(Entradas!$B$3:$B$5000=D3068,Entradas!$A$3:$A$5000),1))),\"Preço não registrado\")","v":""},"",null,null,"",""]
[null,null,"",null,"","",null,{"$f":"IFERROR(IF(D3069=\"\",\"\",INDEX(Entradas!$H$3:$H$5000,MATCH(A3069,IF(Entradas!$B$3:$B$5000=D3069,Entradas!$A$3:$A$5000),1))),\"Preço não registrado\")","v":""},"",null,null,"",""]
[null,null,"",null,"","",null,{"$f":"IFERROR(IF(D3070=\"\",\"\",INDEX(Entradas!$H$3:$H$5000,MATCH(A3070,IF(Entradas!$B$3:$B$5000=D3070,Entradas!$A$3:$A$5000),1))),\"Preço não registrado\")","v":""},"",null,null,"",""]
[null,null,"",null,"","",null,{"$f":"IFERROR(IF(D3071=\"\",\"\",INDEX(Entradas!$H$3:$H$5000,MATCH(A3071,IF(Entradas!$B$3:$B$5000=D3071,Entradas!$A$3:$A$5000),1))),\"Preço não registrado\")","v":""},"",null,null,"",""]
[null,null,"",null,"","",null,{"$f":"IFERROR(IF(D3072=\"\",\"\",INDEX(Entradas!$H$3:$H$5000,MATCH(A3072,IF(Entradas!$B$3:$B$5000=D3072,Entradas!$A$3:$A$5000),1))),\"Preço não registrado\")","v":""},"",null,null,"",""]
[null,null,"",null,"","",null,{"$f":"IFERROR(IF(D3073=\"\",\"\",INDEX(Entradas!$H$3:$H$5000,MATCH(A3073,IF(Entradas!$B$3:$B$5000=D3073,Entradas!$A$3:$A$5000),1))),\"Preço não registrado\")","v":""},"",null,null,"",""]
[null,null,"",null,"","",null,{"$f":"IFERROR(IF(D3074=\"\",\"\",INDEX(Entradas!$H$3:$H$5000,MATCH(A3074,IF(Entradas!$B$3:$B$5000=D3074,Entradas!$A$3:$A$5000),1))),\"Preço não registrado\")","v":""},"",null,null,"",""]
[null,null,{"$f":"IFERROR(IF(B3075=\"\",\"\",VLOOKUP(B3075,Clientes,2,FALSE)),\"\")","v":""},null,{"$f":"IF(D3075=\"\",\"\",VLOOKUP(D3075,Itens,2,FALSE))","v":""},{"$f":"IF(D3075=\"\",\"\",VLOOKUP(D3075,Itens,3,FALSE))","v":""},null,{"$f":"IFERROR(IF(D3075=\"\",\"\",INDEX(Entradas!$H$3:$H$5000,MATCH(A3075,IF(Entradas!$B$3:$B$5000=D3075,Entradas!$A$3:$A$5000),1))),\"Preço não registrado\")","v":""},"",null,null,"",""]
[null,null,"",null,"","",null,{"$f":"IFERROR(IF(D3076=\"\",\"\",INDEX(Entradas!$H$3:$H$5000,MATCH(A3076,IF(Entradas!$B$3:$B$5000=D3076,Entradas!$A$3:$A$5000),1))),\"Preço não registrado\")","v":""},{"$f":"IFERROR(G3076*H3076,\"\")","v":""},null,null,{"$f":"IF(K3076=\"\",\"\",HYPERLINK($P$13&K3076,\"Rastreie aqui\"))","v":""},{"$f":"IF(A3076=\"\",\"\",TEXT(A3076,\"mmmm\"))","v":""}]
[null,null,"",null,"","",null,{"$f":"IFERROR(IF(D3077=\"\",\"\",INDEX(Entradas!$H$3:$H$5000,MATCH(A3077,IF(Entradas!$B$3:$B$5000=D3077,Entradas!$A$3:$A$5000),1))),\"Preço não registrado\")","v":""},"",null,null,"",""]
[null,null,"",null,"","",null,{"$f":"IFERROR(IF(D3078=\"\",\"\",INDEX(Entradas!$H$3:$H$5000,MATCH(A3078,IF(Entradas!$B$3:$B$5000=D3078,Entradas!$A$3:$A$5000),1))),\"Preço não registrado\")","v":""},"",null,null,"",""]
[null,null,"",null,"","",null,{"$f":"IFERROR(IF(D3079=\"\",\"\",INDEX(Entradas!$H$3:$H$5000,MATCH(A3079,IF(Entradas!$B$3:$B$5000=D3079,Entradas!$A$3:$A$5000),1))),\"Preço não registrado\")","v":""},"",null,null,"",""]
[null,null,"",null,"","",null,{"$f":"IFERROR(IF(D3080=\"\",\"\",INDEX(Entradas!$H$3:$H$5000,MATCH(A3080,IF(Entradas!$B$3:$B$5000=D3080,Entradas!$A$3:$A$5000),1))),\"Preço não registrado\")","v":""},"",null,null,"",""]
[null,null,"",null,"","",null,{"$f":"IFERROR(IF(D3081=\"\",\"\",INDEX(Entradas!$H$3:$H$5000,MATCH(A3081,IF(Entradas!$B$3:$B$5000=D3081,Entradas!$A$3:$A$5000),1))),\"Preço não registrado\")","v":""},"",null,null,"",""]
[null,null,"",null,"","",null,{"$f":"IFERROR(IF(D3082=\"\",\"\",INDEX(Entradas!$H$3:$H$5000,MATCH(A3082,IF(Entradas!$B$3:$B$5000=D3082,Entradas!$A$3:$A$5000),1))),\"Preço não registrado\")","v":""},"",null,null,"",""]
[null,null,"",null,"","",null,{"$f":"IFERROR(IF(D3083=\"\",\"\",INDEX(Entradas!$H$3:$H$5000,MATCH(A3083,IF(Entradas!$B$3:$B$5000=D3083,Entradas!$A$3:$A$5000),1))),\"Preço não registrado\")","v":""},"",null,null,"",""]
[null,null,"",null,"","",null,{"$f":"IFERROR(IF(D3084=\"\",\"\",INDEX(Entradas!$H$3:$H$5000,MATCH(A3084,IF(Entradas!$B$3:$B$5000=D3084,Entradas!$A$3:$A$5000),1))),\"Preço não registrado\")","v":""},"",null,null,"",""]
[null,null,"",null,"","",null,{"$f":"IFERROR(IF(D3085=\"\",\"\",INDEX(Entradas!$H$3:$H$5000,MATCH(A3085,IF(Entradas!$B$3:$B$5000=D3085,Entradas!$A$3:$A$5000),1))),\"Preço não registrado\")","v":""},"",null,null,"",""]
[null,null,"",null,"","",null,{"$f":"IFERROR(IF(D3086=\"\",\"\",INDEX(Entradas!$H$3:$H$5000,MATCH(A3086,IF(Entradas!$B$3:$B$5000=D3086,Entradas!$A$3:$A$5000),1))),\"Preço não registrado\")","v":""},"",null,null,"",""]
[null,null,"",null,"","",null,{"$f":"IFERROR(IF(D3087=\"\",\"\",INDEX(Entradas!$H$3:$H$5000,MATCH(A3087,IF(Entradas!$B$3:$B$5000=D3087,Entradas!$A$3:$A$5000),1))),\"Preço não registrado\")","v":""},"",null,null,"",""]
[null,null,"",null,"","",null,{"$f":"IFERROR(IF(D3088=\"\",\"\",INDEX(Entradas!$H$3:$H$5000,MATCH(A3088,IF(Entradas!$B$3:$B$5000=D3088,Entradas!$A$3:$A$5000),1))),\"Preço não registrado\")","v":""},"",null,null,"",""]
[null,null,"",null,"","",null,{"$f":"IFERROR(IF(D3089=\"\",\"\",INDEX(Entradas!$H$3:$H$5000,MATCH(A3089,IF(Entradas!$B$3:$B$5000=D3089,Entradas!$A$3:$A$5000),1))),\"Preço não registrado\")","v":""},"",null,null,"",""]
[null,null,"",null,"","",null,{"$f":"IFERROR(IF(D3090=\"\",\"\",INDEX(Entradas!$H$3:$H$5000,MATCH(A3090,IF(Entradas!$B$3:$B$5000=D3090,Entradas!$A$3:$A$5000),1))),\"Preço não registrado\")","v":""},"",null,null,"",""]
[null,null,"",null,"","",null,{"$f":"IFERROR(IF(D3091=\"\",\"\",INDEX(Entradas!$H$3:$H$5000,MATCH(A3091,IF(Entradas!$B$3:$B$5000=D3091,Entradas!$A$3:$A$5000),1))),\"Preço não registrado\")","v":""},"",null,null,"",""]
[null,null,"",null,"","",null,{"$f":"IFERROR(IF(D3092=\"\",\"\",INDEX(Entradas!$H$3:$H$5000,MATCH(A3092,IF(Entradas!$B$3:$B$5000=D3092,Entradas!$A$3:$A$5000),1))),\"Preço não registrado\")","v":""},"",null,null,"",""]
[null,null,"",null,"","",null,{"$f":"IFERROR(IF(D3093=\"\",\"\",INDEX(Entradas!$H$3:$H$5000,MATCH(A3093,IF(Entradas!$B$3:$B$5000=D3093,Entradas!$A$3:$A$5000),1))),\"Preço não registrado\")","v":""},"",null,null,"",""]
[null,null,"",null,"","",null,{"$f":"IFERROR(IF(D3094=\"\",\"\",INDEX(Entradas!$H$3:$H$5000,MATCH(A3094,IF(Entradas!$B$3:$B$5000=D3094,Entradas!$A$3:$A$5000),1))),\"Preço não registrado\")","v":""},"",null,null,"",""]
[null,null,"",null,"","",null,{"$f":"IFERROR(IF(D3095=\"\",\"\",INDEX(Entradas!$H$3:$H$5000,MATCH(A3095,IF(Entradas!$B$3:$B$5000=D3095,Entradas!$A$3:$A$5000),1))),\"Preço não registrado\")","v":""},"",null,null,"",""]
[null,null,"",null,"","",null,{"$f":"IFERROR(IF(D3096=\"\",\"\",INDEX(Entradas!$H$3:$H$5000,MATCH(A3096,IF(Entradas!$B$3:$B$5000=D3096,Entradas!$A$3:$A$5000),1))),\"Preço não registrado\")","v":""},"",null,null,"",""]
[null,null,"",null,"","",null,{"$f":"IFERROR(IF(D3097=\"\",\"\",INDEX(Entradas!$H$3:$H$5000,MATCH(A3097,IF(Entradas!$B$3:$B$5000=D3097,Entradas!$A$3:$A$5000),1))),\"Preço não registrado\")","v":""},"",null,null,"",""]
[null,null,"",null,"","",null,{"$f":"IFERROR(IF(D3098=\"\",\"\",INDEX(Entradas!$H$3:$H$5000,MATCH(A3098,IF(Entradas!$B$3:$B$5000=D3098,Entradas!$A$3:$A$5000),1))),\"Preço não registrado\")","v":""},"",null,null,"",""]
[null,null,"",null,"","",null,{"$f":"IFERROR(IF(D3099=\"\",\"\",INDEX(Entradas!$H$3:$H$5000,MATCH(A3099,IF(Entradas!$B$3:$B$5000=D3099,Entradas!$A$3:$A$5000),1))),\"Preço não registrado\")","v":""},"",null,null,"",""]
[null,null,"",null,"","",null,{"$f":"IFERROR(IF(D3100=\"\",\"\",INDEX(Entradas!$H$3:$H$5000,MATCH(A3100,IF(Entradas!$B$3:$B$5000=D3100,Entradas!$A$3:$A$5000),1))),\"Preço não registrado\")","v":""},"",null,null,"",""]
[null,null,"",null,"","",null,{"$f":"IFERROR(IF(D3101=\"\",\"\",INDEX(Entradas!$H$3:$H$5000,MATCH(A3101,IF(Entradas!$B$3:$B$5000=D3101,Entradas!$A$3:$A$5000),1))),\"Preço não registrado\")","v":""},"",null,null,"",""]
[null,null,"",null,"","",null,{"$f":"IFERROR(IF(D3102=\"\",\"\",INDEX(Entradas!$H$3:$H$5000,MATCH(A3102,IF(Entradas!$B$3:$B$5000=D3102,Entradas!$A$3:$A$5000),1))),\"Preço não registrado\")","v":""},"",null,null,"",""]
[null,null,"",null,"","",null,{"$f":"IFERROR(IF(D3103=\"\",\"\",INDEX(Entradas!$H$3:$H$5000,MATCH(A3103,IF(Entradas!$B$3:$B$5000=D3103,Entradas!$A$3:$A$5000),1))),\"Preço não registrado\")","v":""},"",null,null,"",""]
[null,null,"",null,"","",null,{"$f":"IFERROR(IF(D3104=\"\",\"\",INDEX(Entradas!$H$3:$H$5000,MATCH(A3104,IF(Entradas!$B$3:$B$5000=D3104,Entradas!$A$3:$A$5000),1))),\"Preço não registrado\")","v":""},"",null,null,"",""]
[null,null,"",null,"","",null,{"$f":"IFERROR(IF(D3105=\"\",\"\",INDEX(Entradas!$H$3:$H$5000,MATCH(A3105,IF(Entradas!$B$3:$B$5000=D3105,Entradas!$A$3:$A$5000),1))),\"Preço não registrado\")","v":""},"",null,null,"",""]
[null,null,"",null,"","",null,{"$f":"IFERROR(IF(D3106=\"\",\"\",INDEX(Entradas!$H$3:$H$5000,MATCH(A3106,IF(Entradas!$B$3:$B$5000=D3106,Entradas!$A$3:$A$5000),1))),\"Preço não registrado\")","v":""},"",null,null,"",""]
[null,null,"",null,"","",null,{"$f":"IFERROR(IF(D3107=\"\",\"\",INDEX(Entradas!$H$3:$H$5000,MATCH(A3107,IF(Entradas!$B$3:$B$5000=D3107,Entradas!$A$3:$A$5000),1))),\"Preço não registrado\")","v":""},"",null,null,"",""]
[null,null,"",null,"","",null,{"$f":"IFERROR(IF(D3108=\"\",\"\",INDEX(Entradas!$H$3:$H$5000,MATCH(A3108,IF(Entradas!$B$3:$B$5000=D3108,Entradas!$A$3:$A$5000),1))),\"Preço não registrado\")","v":""},"",null,null,"",""]
[null,null,"",null,"","",null,{"$f":"IFERROR(IF(D3109=\"\",\"\",INDEX(Entradas!$H$3:$H$5000,MATCH(A3109,IF(Entradas!$B$3:$B$5000=D3109,Entradas!$A$3:$A$5000),1))),\"Preço não registrado\")","v":""},"",null,null,"",""]
[null,null,"",null,"","",null,{"$f":"IFERROR(IF(D3110=\"\",\"\",INDEX(Entradas!$H$3:$H$5000,MATCH(A3110,IF(Entradas!$B$3:$B$5000=D3110,Entradas!$A$3:$A$5000),1))),\"Preço não registrado\")","v":""},"",null,null,"",""]
[null,null,"",null,"","",null,{"$f":"IFERROR(IF(D3111=\"\",\"\",INDEX(Entradas!$H$3:$H$5000,MATCH(A3111,IF(Entradas!$B$3:$B$5000=D3111,Entradas!$A$3:$A$5000),1))),\"Preço não registrado\")","v":""},"",null,null,"",""]
[null,null,"",null,"","",null,{"$f":"IFERROR(IF(D3112=\"\",\"\",INDEX(Entradas!$H$3:$H$5000,MATCH(A3112,IF(Entradas!$B$3:$B$5000=D3112,Entradas!$A$3:$A$5000),1))),\"Preço não registrado\")","v":""},"",null,null,"",""]
[null,null,"",null,"","",null,{"$f":"IFERROR(IF(D3113=\"\",\"\",INDEX(Entradas!$H$3:$H$5000,MATCH(A3113,IF(Entradas!$B$3:$B$5000=D3113,Entradas!$A$3:$A$5000),1))),\"Preço não registrado\")","v":""},"",null,null,"",""]
[null,null,"",null,"","",null,{"$f":"IFERROR(IF(D3114=\"\",\"\",INDEX(Entradas!$H$3:$H$5000,MATCH(A3114,IF(Entradas!$B$3:$B$5000=D3114,Entradas!$A$3:$A$5000),1))),\"Preço não registrado\")","v":""},"",null,null,"",""]
[null,null,"",null,"","",null,{"$f":"IFERROR(IF(D3115=\"\",\"\",INDEX(Entradas!$H$3:$H$5000,MATCH(A3115,IF(Entradas!$B$3:$B$5000=D3115,Entradas!$A$3:$A$5000),1))),\"Preço não registrado\")","v":""},"",null,null,"",""]
[null,null,"",null,"","",null,{"$f":"IFERROR(IF(D3116=\"\",\"\",INDEX(Entradas!$H$3:$H$5000,MATCH(A3116,IF(Entradas!$B$3:$B$5000=D3116,Entradas!$A$3:$A$5000),1))),\"Preço não registrado\")","v":""},"",null,null,"",""]
[null,null,"",null,"","",null,{"$f":"IFERROR(IF(D3117=\"\",\"\",INDEX(Entradas!$H$3:$H$5000,MATCH(A3117,IF(Entradas!$B$3:$B$5000=D3117,Entradas!$A$3:$A$5000),1))),\"Preço não registrado\")","v":""},"",null,null,"",""]
[null,null,"",null,"","",null,{"$f":"IFERROR(IF(D3118=\"\",\"\",INDEX(Entradas!$H$3:$H$5000,MATCH(A3118,IF(Entradas!$B$3:$B$5000=D3118,Entradas!$A$3:$A$5000),1))),\"Preço não registrado\")","v":""},"",null,null,"",""]
[null,null,"",null,"","",null,{"$f":"IFERROR(IF(D3119=\"\",\"\",INDEX(Entradas!$H$3:$H$5000,MATCH(A3119,IF(Entradas!$B$3:$B$5000=D3119,Entradas!$A$3:$A$5000),1))),\"Preço não registrado\")","v":""},"",null,null,"",""]
[null,null,"",null,"","",null,{"$f":"IFERROR(IF(D3120=\"\",\"\",INDEX(Entradas!$H$3:$H$5000,MATCH(A3120,IF(Entradas!$B$3:$B$5000=D3120,Entradas!$A$3:$A$5000),1))),\"Preço não registrado\")","v":""},"",null,null,"",""]
[null,null,"",null,"","",null,{"$f":"IFERROR(IF(D3121=\"\",\"\",INDEX(Entradas!$H$3:$H$5000,MATCH(A3121,IF(Entradas!$B$3:$B$5000=D3121,Entradas!$A$3:$A$5000),1))),\"Preço não registrado\")","v":""},"",null,null,"",""]
[null,null,"",null,"","",null,{"$f":"IFERROR(IF(D3122=\"\",\"\",INDEX(Entradas!$H$3:$H$5000,MATCH(A3122,IF(Entradas!$B$3:$B$5000=D3122,Entradas!$A$3:$A$5000),1))),\"Preço não registrado\")","v":""},"",null,null,"",""]
[null,null,"",null,"","",null,{"$f":"IFERROR(IF(D3123=\"\",\"\",INDEX(Entradas!$H$3:$H$5000,MATCH(A3123,IF(Entradas!$B$3:$B$5000=D3123,Entradas!$A$3:$A$5000),1))),\"Preço não registrado\")","v":""},"",null,null,"",""]
[null,null,"",null,"","",null,{"$f":"IFERROR(IF(D3124=\"\",\"\",INDEX(Entradas!$H$3:$H$5000,MATCH(A3124,IF(Entradas!$B$3:$B$5000=D3124,Entradas!$A$3:$A$5000),1))),\"Preço não registrado\")","v":""},"",null,null,"",""]
[null,null,"",null,"","",null,{"$f":"IFERROR(IF(D3125=\"\",\"\",INDEX(Entradas!$H$3:$H$5000,MATCH(A3125,IF(Entradas!$B$3:$B$5000=D3125,Entradas!$A$3:$A$5000),1))),\"Preço não registrado\")","v":""},"",null,null,"",""]
[null,null,"",null,"","",null,{"$f":"IFERROR(IF(D3126=\"\",\"\",INDEX(Entradas!$H$3:$H$5000,MATCH(A3126,IF(Entradas!$B$3:$B$5000=D3126,Entradas!$A$3:$A$5000),1))),\"Preço não registrado\")","v":""},"",null,null,"",""]
[null,null,"",null,"","",null,{"$f":"IFERROR(IF(D3127=\"\",\"\",INDEX(Entradas!$H$3:$H$5000,MATCH(A3127,IF(Entradas!$B$3:$B$5000=D3127,Entradas!$A$3:$A$5000),1))),\"Preço não registrado\")","v":""},"",null,null,"",""]
[null,null,"",null,"","",null,{"$f":"IFERROR(IF(D3128=\"\",\"\",INDEX(Entradas!$H$3:$H$5000,MATCH(A3128,IF(Entradas!$B$3:$B$5000=D3128,Entradas!$A$3:$A$5000),1))),\"Preço não registrado\")","v":""},"",null,null,"",""]
[null,null,"",null,"","",null,{"$f":"IFERROR(IF(D3129=\"\",\"\",INDEX(Entradas!$H$3:$H$5000,MATCH(A3129,IF(Entradas!$B$3:$B$5000=D3129,Entradas!$A$3:$A$5000),1))),\"Preço não registrado\")","v":""},"",null,null,"",""]
[null,null,"",null,"","",null,{"$f":"IFERROR(IF(D3130=\"\",\"\",INDEX(Entradas!$H$3:$H$5000,MATCH(A3130,IF(Entradas!$B$3:$B$5000=D3130,Entradas!$A$3:$A$5000),1))),\"Preço não registrado\")","v":""},"",null,null,"",""]
[null,null,"",null,"","",null,{"$f":"IFERROR(IF(D3131=\"\",\"\",INDEX(Entradas!$H$3:$H$5000,MATCH(A3131,IF(Entradas!$B$3:$B$5000=D3131,Entradas!$A$3:$A$5000),1))),\"Preço não registrado\")","v":""},"",null,null,"",""]
[null,null,"",null,"","",null,{"$f":"IFERROR(IF(D3132=\"\",\"\",INDEX(Entradas!$H$3:$H$5000,MATCH(A3132,IF(Entradas!$B$3:$B$5000=D3132,Entradas!$A$3:$A$5000),1))),\"Preço não registrado\")","v":""},"",null,null,"",""]
[null,null,"",null,"","",null,{"$f":"IFERROR(IF(D3133=\"\",\"\",INDEX(Entradas!$H$3:$H$5000,MATCH(A3133,IF(Entradas!$B$3:$B$5000=D3133,Entradas!$A$3:$A$5000),1))),\"Preço não registrado\")","v":""},"",null,null,"",""]
[null,null,"",null,"","",null,{"$f":"IFERROR(IF(D3134=\"\",\"\",INDEX(Entradas!$H$3:$H$5000,MATCH(A3134,IF(Entradas!$B$3:$B$5000=D3134,Entradas!$A$3:$A$5000),1))),\"Preço não registrado\")","v":""},"",null,null,"",""]
[null,null,"",null,"","",null,{"$f":"IFERROR(IF(D3135=\"\",\"\",INDEX(Entradas!$H$3:$H$5000,MATCH(A3135,IF(Entradas!$B$3:$B$5000=D3135,Entradas!$A$3:$A$5000),1))),\"Preço não registrado\")","v":""},"",null,null,"",""]
[null,null,"",null,"","",null,{"$f":"IFERROR(IF(D3136=\"\",\"\",INDEX(Entradas!$H$3:$H$5000,MATCH(A3136,IF(Entradas!$B$3:$B$5000=D3136,Entradas!$A$3:$A$5000),1))),\"Preço não registrado\")","v":""},"",null,null,"",""]
[null,null,"",null,"","",null,{"$f":"IFERROR(IF(D3137=\"\",\"\",INDEX(Entradas!$H$3:$H$5000,MATCH(A3137,IF(Entradas!$B$3:$B$5000=D3137,Entradas!$A$3:$A$5000),1))),\"Preço não registrado\")","v":""},"",null,null,"",""]
[null,null,"",null,"","",null,{"$f":"IFERROR(IF(D3138=\"\",\"\",INDEX(Entradas!$H$3:$H$5000,MATCH(A3138,IF(Entradas!$B$3:$B$5000=D3138,Entradas!$A$3:$A$5000),1))),\"Preço não registrado\")","v":""},"",null,null,"",""]
[null,null,{"$f":"IFERROR(IF(B3139=\"\",\"\",VLOOKUP(B3139,Clientes,2,FALSE)),\"\")","v":""},null,{"$f":"IF(D3139=\"\",\"\",VLOOKUP(D3139,Itens,2,FALSE))","v":""},{"$f":"IF(D3139=\"\",\"\",VLOOKUP(D3139,Itens,3,FALSE))","v":""},null,{"$f":"IFERROR(IF(D3139=\"\",\"\",INDEX(Entradas!$H$3:$H$5000,MATCH(A3139,IF(Entradas!$B$3:$B$5000=D3139,Entradas!$A$3:$A$5000),1))),\"Preço não registrado\")","v":""},"",null,null,"",""]
[null,null,"",null,"","",null,{"$f":"IFERROR(IF(D3140=\"\",\"\",INDEX(Entradas!$H$3:$H$5000,MATCH(A3140,IF(Entradas!$B$3:$B$5000=D3140,Entradas!$A$3:$A$5000),1))),\"Preço não registrado\")","v":""},{"$f":"IFERROR(G3140*H3140,\"\")","v":""},null,null,{"$f":"IF(K3140=\"\",\"\",HYPERLINK($P$13&K3140,\"Rastreie aqui\"))","v":""},{"$f":"IF(A3140=\"\",\"\",TEXT(A3140,\"mmmm\"))","v":""}]
[null,null,"",null,"","",null,{"$f":"IFERROR(IF(D3141=\"\",\"\",INDEX(Entradas!$H$3:$H$5000,MATCH(A3141,IF(Entradas!$B$3:$B$5000=D3141,Entradas!$A$3:$A$5000),1))),\"Preço não registrado\")","v":""},"",null,null,"",""]
[null,null,"",null,"","",null,{"$f":"IFERROR(IF(D3142=\"\",\"\",INDEX(Entradas!$H$3:$H$5000,MATCH(A3142,IF(Entradas!$B$3:$B$5000=D3142,Entradas!$A$3:$A$5000),1))),\"Preço não registrado\")","v":""},"",null,null,"",""]
[null,null,"",null,"","",null,{"$f":"IFERROR(IF(D3143=\"\",\"\",INDEX(Entradas!$H$3:$H$5000,MATCH(A3143,IF(Entradas!$B$3:$B$5000=D3143,Entradas!$A$3:$A$5000),1))),\"Preço não registrado\")","v":""},"",null,null,"",""]
[null,null,"",null,"","",null,{"$f":"IFERROR(IF(D3144=\"\",\"\",INDEX(Entradas!$H$3:$H$5000,MATCH(A3144,IF(Entradas!$B$3:$B$5000=D3144,Entradas!$A$3:$A$5000),1))),\"Preço não registrado\")","v":""},"",null,null,"",""]
[null,null,"",null,"","",null,{"$f":"IFERROR(IF(D3145=\"\",\"\",INDEX(Entradas!$H$3:$H$5000,MATCH(A3145,IF(Entradas!$B$3:$B$5000=D3145,Entradas!$A$3:$A$5000),1))),\"Preço não registrado\")","v":""},"",null,null,"",""]
[null,null,"",null,"","",null,{"$f":"IFERROR(IF(D3146=\"\",\"\",INDEX(Entradas!$H$3:$H$5000,MATCH(A3146,IF(Entradas!$B$3:$B$5000=D3146,Entradas!$A$3:$A$5000),1))),\"Preço não registrado\")","v":""},"",null,null,"",""]
[null,null,"",null,"","",null,{"$f":"IFERROR(IF(D3147=\"\",\"\",INDEX(Entradas!$H$3:$H$5000,MATCH(A3147,IF(Entradas!$B$3:$B$5000=D3147,Entradas!$A$3:$A$5000),1))),\"Preço não registrado\")","v":""},"",null,null,"",""]
[null,null,"",null,"","",null,{"$f":"IFERROR(IF(D3148=\"\",\"\",INDEX(Entradas!$H$3:$H$5000,MATCH(A3148,IF(Entradas!$B$3:$B$5000=D3148,Entradas!$A$3:$A$5000),1))),\"Preço não registrado\")","v":""},"",null,null,"",""]
[null,null,"",null,"","",null,{"$f":"IFERROR(IF(D3149=\"\",\"\",INDEX(Entradas!$H$3:$H$5000,MATCH(A3149,IF(Entradas!$B$3:$B$5000=D3149,Entradas!$A$3:$A$5000),1))),\"Preço não registrado\")","v":""},"",null,null,"",""]
[null,null,"",null,"","",null,{"$f":"IFERROR(IF(D3150=\"\",\"\",INDEX(Entradas!$H$3:$H$5000,MATCH(A3150,IF(Entradas!$B$3:$B$5000=D3150,Entradas!$A$3:$A$5000),1))),\"Preço não registrado\")","v":""},"",null,null,"",""]
[null,null,"",null,"","",null,{"$f":"IFERROR(IF(D3151=\"\",\"\",INDEX(Entradas!$H$3:$H$5000,MATCH(A3151,IF(Entradas!$B$3:$B$5000=D3151,Entradas!$A$3:$A$5000),1))),\"Preço não registrado\")","v":""},"",null,null,"",""]
[null,null,"",null,"","",null,{"$f":"IFERROR(IF(D3152=\"\",\"\",INDEX(Entradas!$H$3:$H$5000,MATCH(A3152,IF(Entradas!$B$3:$B$5000=D3152,Entradas!$A$3:$A$5000),1))),\"Preço não registrado\")","v":""},"",null,null,"",""]
[null,null,"",null,"","",null,{"$f":"IFERROR(IF(D3153=\"\",\"\",INDEX(Entradas!$H$3:$H$5000,MATCH(A3153,IF(Entradas!$B$3:$B$5000=D3153,Entradas!$A$3:$A$5000),1))),\"Preço não registrado\")","v":""},"",null,null,"",""]
[null,null,"",null,"","",null,{"$f":"IFERROR(IF(D3154=\"\",\"\",INDEX(Entradas!$H$3:$H$5000,MATCH(A3154,IF(Entradas!$B$3:$B$5000=D3154,Entradas!$A$3:$A$5000),1))),\"Preço não registrado\")","v":""},"",null,null,"",""]
[null,null,"",null,"","",null,{"$f":"IFERROR(IF(D3155=\"\",\"\",INDEX(Entradas!$H$3:$H$5000,MATCH(A3155,IF(Entradas!$B$3:$B$5000=D3155,Entradas!$A$3:$A$5000),1))),\"Preço não registrado\")","v":""},"",null,null,"",""]
[null,null,"",null,"","",null,{"$f":"IFERROR(IF(D3156=\"\",\"\",INDEX(Entradas!$H$3:$H$5000,MATCH(A3156,IF(Entradas!$B$3:$B$5000=D3156,Entradas!$A$3:$A$5000),1))),\"Preço não registrado\")","v":""},"",null,null,"",""]
[null,null,"",null,"","",null,{"$f":"IFERROR(IF(D3157=\"\",\"\",INDEX(Entradas!$H$3:$H$5000,MATCH(A3157,IF(Entradas!$B$3:$B$5000=D3157,Entradas!$A$3:$A$5000),1))),\"Preço não registrado\")","v":""},"",null,null,"",""]
[null,null,"",null,"","",null,{"$f":"IFERROR(IF(D3158=\"\",\"\",INDEX(Entradas!$H$3:$H$5000,MATCH(A3158,IF(Entradas!$B$3:$B$5000=D3158,Entradas!$A$3:$A$5000),1))),\"Preço não registrado\")","v":""},"",null,null,"",""]
[null,null,"",null,"","",null,{"$f":"IFERROR(IF(D3159=\"\",\"\",INDEX(Entradas!$H$3:$H$5000,MATCH(A3159,IF(Entradas!$B$3:$B$5000=D3159,Entradas!$A$3:$A$5000),1))),\"Preço não registrado\")","v":""},"",null,null,"",""]
[null,null,"",null,"","",null,{"$f":"IFERROR(IF(D3160=\"\",\"\",INDEX(Entradas!$H$3:$H$5000,MATCH(A3160,IF(Entradas!$B$3:$B$5000=D3160,Entradas!$A$3:$A$5000),1))),\"Preço não registrado\")","v":""},"",null,null,"",""]
[null,null,"",null,"","",null,{"$f":"IFERROR(IF(D3161=\"\",\"\",INDEX(Entradas!$H$3:$H$5000,MATCH(A3161,IF(Entradas!$B$3:$B$5000=D3161,Entradas!$A$3:$A$5000),1))),\"Preço não registrado\")","v":""},"",null,null,"",""]
[null,null,"",null,"","",null,{"$f":"IFERROR(IF(D3162=\"\",\"\",INDEX(Entradas!$H$3:$H$5000,MATCH(A3162,IF(Entradas!$B$3:$B$5000=D3162,Entradas!$A$3:$A$5000),1))),\"Preço não registrado\")","v":""},"",null,null,"",""]
[null,null,"",null,"","",null,{"$f":"IFERROR(IF(D3163=\"\",\"\",INDEX(Entradas!$H$3:$H$5000,MATCH(A3163,IF(Entradas!$B$3:$B$5000=D3163,Entradas!$A$3:$A$5000),1))),\"Preço não registrado\")","v":""},"",null,null,"",""]
[null,null,"",null,"","",null,{"$f":"IFERROR(IF(D3164=\"\",\"\",INDEX(Entradas!$H$3:$H$5000,MATCH(A3164,IF(Entradas!$B$3:$B$5000=D3164,Entradas!$A$3:$A$5000),1))),\"Preço não registrado\")","v":""},"",null,null,"",""]
[null,null,"",null,"","",null,{"$f":"IFERROR(IF(D3165=\"\",\"\",INDEX(Entradas!$H$3:$H$5000,MATCH(A3165,IF(Entradas!$B$3:$B$5000=D3165,Entradas!$A$3:$A$5000),1))),\"Preço não registrado\")","v":""},"",null,null,"",""]
[null,null,"",null,"","",null,{"$f":"IFERROR(IF(D3166=\"\",\"\",INDEX(Entradas!$H$3:$H$5000,MATCH(A3166,IF(Entradas!$B$3:$B$5000=D3166,Entradas!$A$3:$A$5000),1))),\"Preço não registrado\")","v":""},"",null,null,"",""]
[null,null,"",null,"","",null,{"$f":"IFERROR(IF(D3167=\"\",\"\",INDEX(Entradas!$H$3:$H$5000,MATCH(A3167,IF(Entradas!$B$3:$B$5000=D3167,Entradas!$A$3:$A$5000),1))),\"Preço não registrado\")","v":""},"",null,null,"",""]
[null,null,"",null,"","",null,{"$f":"IFERROR(IF(D3168=\"\",\"\",INDEX(Entradas!$H$3:$H$5000,MATCH(A3168,IF(Entradas!$B$3:$B$5000=D3168,Entradas!$A$3:$A$5000),1))),\"Preço não registrado\")","v":""},"",null,null,"",""]
[null,null,"",null,"","",null,{"$f":"IFERROR(IF(D3169=\"\",\"\",INDEX(Entradas!$H$3:$H$5000,MATCH(A3169,IF(Entradas!$B$3:$B$5000=D3169,Entradas!$A$3:$A$5000),1))),\"Preço não registrado\")","v":""},"",null,null,"",""]
[null,null,"",null,"","",null,{"$f":"IFERROR(IF(D3170=\"\",\"\",INDEX(Entradas!$H$3:$H$5000,MATCH(A3170,IF(Entradas!$B$3:$B$5000=D3170,Entradas!$A$3:$A$5000),1))),\"Preço não registrado\")","v":""},"",null,null,"",""]
[null,null,"",null,"","",null,{"$f":"IFERROR(IF(D3171=\"\",\"\",INDEX(Entradas!$H$3:$H$5000,MATCH(A3171,IF(Entradas!$B$3:$B$5000=D3171,Entradas!$A$3:$A$5000),1))),\"Preço não registrado\")","v":""},"",null,null,"",""]
[null,null,"",null,"","",null,{"$f":"IFERROR(IF(D3172=\"\",\"\",INDEX(Entradas!$H$3:$H$5000,MATCH(A3172,IF(Entradas!$B$3:$B$5000=D3172,Entradas!$A$3:$A$5000),1))),\"Preço não registrado\")","v":""},"",null,null,"",""]
[null,null,"",null,"","",null,{"$f":"IFERROR(IF(D3173=\"\",\"\",INDEX(Entradas!$H$3:$H$5000,MATCH(A3173,IF(Entradas!$B$3:$B$5000=D3173,Entradas!$A$3:$A$5000),1))),\"Preço não registrado\")","v":""},"",null,null,"",""]
[null,null,"",null,"","",null,{"$f":"IFERROR(IF(D3174=\"\",\"\",INDEX(Entradas!$H$3:$H$5000,MATCH(A3174,IF(Entradas!$B$3:$B$5000=D3174,Entradas!$A$3:$A$5000),1))),\"Preço não registrado\")","v":""},"",null,null,"",""]
[null,null,"",null,"","",null,{"$f":"IFERROR(IF(D3175=\"\",\"\",INDEX(Entradas!$H$3:$H$5000,MATCH(A3175,IF(Entradas!$B$3:$B$5000=D3175,Entradas!$A$3:$A$5000),1))),\"Preço não registrado\")","v":""},"",null,null,"",""]
[null,null,"",null,"","",null,{"$f":"IFERROR(IF(D3176=\"\",\"\",INDEX(Entradas!$H$3:$H$5000,MATCH(A3176,IF(Entradas!$B$3:$B$5000=D3176,Entradas!$A$3:$A$5000),1))),\"Preço não registrado\")","v":""},"",null,null,"",""]
[null,null,"",null,"","",null,{"$f":"IFERROR(IF(D3177=\"\",\"\",INDEX(Entradas!$H$3:$H$5000,MATCH(A3177,IF(Entradas!$B$3:$B$5000=D3177,Entradas!$A$3:$A$5000),1))),\"Preço não registrado\")","v":""},"",null,null,"",""]
[null,null,"",null,"","",null,{"$f":"IFERROR(IF(D3178=\"\",\"\",INDEX(Entradas!$H$3:$H$5000,MATCH(A3178,IF(Entradas!$B$3:$B$5000=D3178,Entradas!$A$3:$A$5000),1))),\"Preço não registrado\")","v":""},"",null,null,"",""]
[null,null,"",null,"","",null,{"$f":"IFERROR(IF(D3179=\"\",\"\",INDEX(Entradas!$H$3:$H$5000,MATCH(A3179,IF(Entradas!$B$3:$B$5000=D3179,Entradas!$A$3:$A$5000),1))),\"Preço não registrado\")","v":""},"",null,null,"",""]
[null,null,"",null,"","",null,{"$f":"IFERROR(IF(D3180=\"\",\"\",INDEX(Entradas!$H$3:$H$5000,MATCH(A3180,IF(Entradas!$B$3:$B$5000=D3180,Entradas!$A$3:$A$5000),1))),\"Preço não registrado\")","v":""},"",null,null,"",""]
[null,null,"",null,"","",null,{"$f":"IFERROR(IF(D3181=\"\",\"\",INDEX(Entradas!$H$3:$H$5000,MATCH(A3181,IF(Entradas!$B$3:$B$5000=D3181,Entradas!$A$3:$A$5000),1))),\"Preço não registrado\")","v":""},"",null,null,"",""]
[null,null,"",null,"","",null,{"$f":"IFERROR(IF(D3182=\"\",\"\",INDEX(Entradas!$H$3:$H$5000,MATCH(A3182,IF(Entradas!$B$3:$B$5000=D3182,Entradas!$A$3:$A$5000),1))),\"Preço não registrado\")","v":""},"",null,null,"",""]
[null,null,"",null,"","",null,{"$f":"IFERROR(IF(D3183=\"\",\"\",INDEX(Entradas!$H$3:$H$5000,MATCH(A3183,IF(Entradas!$B$3:$B$5000=D3183,Entradas!$A$3:$A$5000),1))),\"Preço não registrado\")","v":""},"",null,null,"",""]
[null,null,"",null,"","",null,{"$f":"IFERROR(IF(D3184=\"\",\"\",INDEX(Entradas!$H$3:$H$5000,MATCH(A3184,IF(Entradas!$B$3:$B$5000=D3184,Entradas!$A$3:$A$5000),1))),\"Preço não registrado\")","v":""},"",null,null,"",""]
[null,null,"",null,"","",null,{"$f":"IFERROR(IF(D3185=\"\",\"\",INDEX(Entradas!$H$3:$H$5000,MATCH(A3185,IF(Entradas!$B$3:$B$5000=D3185,Entradas!$A$3:$A$5000),1))),\"Preço não registrado\")","v":""},"",null,null,"",""]
[null,null,"",null,"","",null,{"$f":"IFERROR(IF(D3186=\"\",\"\",INDEX(Entradas!$H$3:$H$5000,MATCH(A3186,IF(Entradas!$B$3:$B$5000=D3186,Entradas!$A$3:$A$5000),1))),\"Preço não registrado\")","v":""},"",null,null,"",""]
[null,null,"",null,"","",null,{"$f":"IFERROR(IF(D3187=\"\",\"\",INDEX(Entradas!$H$3:$H$5000,MATCH(A3187,IF(Entradas!$B$3:$B$5000=D3187,Entradas!$A$3:$A$5000),1))),\"Preço não registrado\")","v":""},"",null,null,"",""]
[null,null,"",null,"","",null,{"$f":"IFERROR(IF(D3188=\"\",\"\",INDEX(Entradas!$H$3:$H$5000,MATCH(A3188,IF(Entradas!$B$3:$B$5000=D3188,Entradas!$A$3:$A$5000),1))),\"Preço não registrado\")","v":""},"",null,null,"",""]
[null,null,"",null,"","",null,{"$f":"IFERROR(IF(D3189=\"\",\"\",INDEX(Entradas!$H$3:$H$5000,MATCH(A3189,IF(Entradas!$B$3:$B$5000=D3189,Entradas!$A$3:$A$5000),1))),\"Preço não registrado\")","v":""},"",null,null,"",""]
[null,null,"",null,"","",null,{"$f":"IFERROR(IF(D3190=\"\",\"\",INDEX(Entradas!$H$3:$H$5000,MATCH(A3190,IF(Entradas!$B$3:$B$5000=D3190,Entradas!$A$3:$A$5000),1))),\"Preço não registrado\")","v":""},"",null,null,"",""]
[null,null,"",null,"","",null,{"$f":"IFERROR(IF(D3191=\"\",\"\",INDEX(Entradas!$H$3:$H$5000,MATCH(A3191,IF(Entradas!$B$3:$B$5000=D3191,Entradas!$A$3:$A$5000),1))),\"Preço não registrado\")","v":""},"",null,null,"",""]
[null,null,"",null,"","",null,{"$f":"IFERROR(IF(D3192=\"\",\"\",INDEX(Entradas!$H$3:$H$5000,MATCH(A3192,IF(Entradas!$B$3:$B$5000=D3192,Entradas!$A$3:$A$5000),1))),\"Preço não registrado\")","v":""},"",null,null,"",""]
[null,null,"",null,"","",null,{"$f":"IFERROR(IF(D3193=\"\",\"\",INDEX(Entradas!$H$3:$H$5000,MATCH(A3193,IF(Entradas!$B$3:$B$5000=D3193,Entradas!$A$3:$A$5000),1))),\"Preço não registrado\")","v":""},"",null,null,"",""]
[null,null,"",null,"","",null,{"$f":"IFERROR(IF(D3194=\"\",\"\",INDEX(Entradas!$H$3:$H$5000,MATCH(A3194,IF(Entradas!$B$3:$B$5000=D3194,Entradas!$A$3:$A$5000),1))),\"Preço não registrado\")","v":""},"",null,null,"",""]
[null,null,"",null,"","",null,{"$f":"IFERROR(IF(D3195=\"\",\"\",INDEX(Entradas!$H$3:$H$5000,MATCH(A3195,IF(Entradas!$B$3:$B$5000=D3195,Entradas!$A$3:$A$5000),1))),\"Preço não registrado\")","v":""},"",null,null,"",""]
[null,null,"",null,"","",null,{"$f":"IFERROR(IF(D3196=\"\",\"\",INDEX(Entradas!$H$3:$H$5000,MATCH(A3196,IF(Entradas!$B$3:$B$5000=D3196,Entradas!$A$3:$A$5000),1))),\"Preço não registrado\")","v":""},"",null,null,"",""]
[null,null,"",null,"","",null,{"$f":"IFERROR(IF(D3197=\"\",\"\",INDEX(Entradas!$H$3:$H$5000,MATCH(A3197,IF(Entradas!$B$3:$B$5000=D3197,Entradas!$A$3:$A$5000),1))),\"Preço não registrado\")","v":""},"",null,null,"",""]
[null,null,"",null,"","",null,{"$f":"IFERROR(IF(D3198=\"\",\"\",INDEX(Entradas!$H$3:$H$5000,MATCH(A3198,IF(Entradas!$B$3:$B$5000=D3198,Entradas!$A$3:$A$5000),1))),\"Preço não registrado\")","v":""},"",null,null,"",""]
[null,null,"",null,"","",null,{"$f":"IFERROR(IF(D3199=\"\",\"\",INDEX(Entradas!$H$3:$H$5000,MATCH(A3199,IF(Entradas!$B$3:$B$5000=D3199,Entradas!$A$3:$A$5000),1))),\"Preço não registrado\")","v":""},"",null,null,"",""]
[null,null,"",null,"","",null,{"$f":"IFERROR(IF(D3200=\"\",\"\",INDEX(Entradas!$H$3:$H$5000,MATCH(A3200,IF(Entradas!$B$3:$B$5000=D3200,Entradas!$A$3:$A$5000),1))),\"Preço não registrado\")","v":""},"",null,null,"",""]
[null,null,"",null,"","",null,{"$f":"IFERROR(IF(D3201=\"\",\"\",INDEX(Entradas!$H$3:$H$5000,MATCH(A3201,IF(Entradas!$B$3:$B$5000=D3201,Entradas!$A$3:$A$5000),1))),\"Preço não registrado\")","v":""},"",null,null,"",""]
[null,null,"",null,"","",null,{"$f":"IFERROR(IF(D3202=\"\",\"\",INDEX(Entradas!$H$3:$H$5000,MATCH(A3202,IF(Entradas!$B$3:$B$5000=D3202,Entradas!$A$3:$A$5000),1))),\"Preço não registrado\")","v":""},"",null,null,"",""]
[null,null,{"$f":"IFERROR(IF(B3203=\"\",\"\",VLOOKUP(B3203,Clientes,2,FALSE)),\"\")","v":""},null,{"$f":"IF(D3203=\"\",\"\",VLOOKUP(D3203,Itens,2,FALSE))","v":""},{"$f":"IF(D3203=\"\",\"\",VLOOKUP(D3203,Itens,3,FALSE))","v":""},null,{"$f":"IFERROR(IF(D3203=\"\",\"\",INDEX(Entradas!$H$3:$H$5000,MATCH(A3203,IF(Entradas!$B$3:$B$5000=D3203,Entradas!$A$3:$A$5000),1))),\"Preço não registrado\")","v":""},"",null,null,"",""]
[null,null,"",null,"","",null,{"$f":"IFERROR(IF(D3204=\"\",\"\",INDEX(Entradas!$H$3:$H$5000,MATCH(A3204,IF(Entradas!$B$3:$B$5000=D3204,Entradas!$A$3:$A$5000),1))),\"Preço não registrado\")","v":""},{"$f":"IFERROR(G3204*H3204,\"\")","v":""},null,null,{"$f":"IF(K3204=\"\",\"\",HYPERLINK($P$13&K3204,\"Rastreie aqui\"))","v":""},{"$f":"IF(A3204=\"\",\"\",TEXT(A3204,\"mmmm\"))","v":""}]
[null,null,"",null,"","",null,{"$f":"IFERROR(IF(D3205=\"\",\"\",INDEX(Entradas!$H$3:$H$5000,MATCH(A3205,IF(Entradas!$B$3:$B$5000=D3205,Entradas!$A$3:$A$5000),1))),\"Preço não registrado\")","v":""},"",null,null,"",""]
[null,null,"",null,"","",null,{"$f":"IFERROR(IF(D3206=\"\",\"\",INDEX(Entradas!$H$3:$H$5000,MATCH(A3206,IF(Entradas!$B$3:$B$5000=D3206,Entradas!$A$3:$A$5000),1))),\"Preço não registrado\")","v":""},"",null,null,"",""]
[null,null,"",null,"","",null,{"$f":"IFERROR(IF(D3207=\"\",\"\",INDEX(Entradas!$H$3:$H$5000,MATCH(A3207,IF(Entradas!$B$3:$B$5000=D3207,Entradas!$A$3:$A$5000),1))),\"Preço não registrado\")","v":""},"",null,null,"",""]
[null,null,"",null,"","",null,{"$f":"IFERROR(IF(D3208=\"\",\"\",INDEX(Entradas!$H$3:$H$5000,MATCH(A3208,IF(Entradas!$B$3:$B$5000=D3208,Entradas!$A$3:$A$5000),1))),\"Preço não registrado\")","v":""},"",null,null,"",""]
[null,null,"",null,"","",null,{"$f":"IFERROR(IF(D3209=\"\",\"\",INDEX(Entradas!$H$3:$H$5000,MATCH(A3209,IF(Entradas!$B$3:$B$5000=D3209,Entradas!$A$3:$A$5000),1))),\"Preço não registrado\")","v":""},"",null,null,"",""]
[null,null,"",null,"","",null,{"$f":"IFERROR(IF(D3210=\"\",\"\",INDEX(Entradas!$H$3:$H$5000,MATCH(A3210,IF(Entradas!$B$3:$B$5000=D3210,Entradas!$A$3:$A$5000),1))),\"Preço não registrado\")","v":""},"",null,null,"",""]
[null,null,"",null,"","",null,{"$f":"IFERROR(IF(D3211=\"\",\"\",INDEX(Entradas!$H$3:$H$5000,MATCH(A3211,IF(Entradas!$B$3:$B$5000=D3211,Entradas!$A$3:$A$5000),1))),\"Preço não registrado\")","v":""},"",null,null,"",""]
[null,null,"",null,"","",null,{"$f":"IFERROR(IF(D3212=\"\",\"\",INDEX(Entradas!$H$3:$H$5000,MATCH(A3212,IF(Entradas!$B$3:$B$5000=D3212,Entradas!$A$3:$A$5000),1))),\"Preço não registrado\")","v":""},"",null,null,"",""]
[null,null,"",null,"","",null,{"$f":"IFERROR(IF(D3213=\"\",\"\",INDEX(Entradas!$H$3:$H$5000,MATCH(A3213,IF(Entradas!$B$3:$B$5000=D3213,Entradas!$A$3:$A$5000),1))),\"Preço não registrado\")","v":""},"",null,null,"",""]
[null,null,"",null,"","",null,{"$f":"IFERROR(IF(D3214=\"\",\"\",INDEX(Entradas!$H$3:$H$5000,MATCH(A3214,IF(Entradas!$B$3:$B$5000=D3214,Entradas!$A$3:$A$5000),1))),\"Preço não registrado\")","v":""},"",null,null,"",""]
[null,null,"",null,"","",null,{"$f":"IFERROR(IF(D3215=\"\",\"\",INDEX(Entradas!$H$3:$H$5000,MATCH(A3215,IF(Entradas!$B$3:$B$5000=D3215,Entradas!$A$3:$A$5000),1))),\"Preço não registrado\")","v":""},"",null,null,"",""]
[null,null,"",null,"","",null,{"$f":"IFERROR(IF(D3216=\"\",\"\",INDEX(Entradas!$H$3:$H$5000,MATCH(A3216,IF(Entradas!$B$3:$B$5000=D3216,Entradas!$A$3:$A$5000),1))),\"Preço não registrado\")","v":""},"",null,null,"",""]
[null,null,"",null,"","",null,{"$f":"IFERROR(IF(D3217=\"\",\"\",INDEX(Entradas!$H$3:$H$5000,MATCH(A3217,IF(Entradas!$B$3:$B$5000=D3217,Entradas!$A$3:$A$5000),1))),\"Preço não registrado\")","v":""},"",null,null,"",""]
[null,null,"",null,"","",null,{"$f":"IFERROR(IF(D3218=\"\",\"\",INDEX(Entradas!$H$3:$H$5000,MATCH(A3218,IF(Entradas!$B$3:$B$5000=D3218,Entradas!$A$3:$A$5000),1))),\"Preço não registrado\")","v":""},"",null,null,"",""]
[null,null,"",null,"","",null,{"$f":"IFERROR(IF(D3219=\"\",\"\",INDEX(Entradas!$H$3:$H$5000,MATCH(A3219,IF(Entradas!$B$3:$B$5000=D3219,Entradas!$A$3:$A$5000),1))),\"Preço não registrado\")","v":""},"",null,null,"",""]
[null,null,"",null,"","",null,{"$f":"IFERROR(IF(D3220=\"\",\"\",INDEX(Entradas!$H$3:$H$5000,MATCH(A3220,IF(Entradas!$B$3:$B$5000=D3220,Entradas!$A$3:$A$5000),1))),\"Preço não registrado\")","v":""},"",null,null,"",""]
[null,null,"",null,"","",null,{"$f":"IFERROR(IF(D3221=\"\",\"\",INDEX(Entradas!$H$3:$H$5000,MATCH(A3221,IF(Entradas!$B$3:$B$5000=D3221,Entradas!$A$3:$A$5000),1))),\"Preço não registrado\")","v":""},"",null,null,"",""]
[null,null,"",null,"","",null,{"$f":"IFERROR(IF(D3222=\"\",\"\",INDEX(Entradas!$H$3:$H$5000,MATCH(A3222,IF(Entradas!$B$3:$B$5000=D3222,Entradas!$A$3:$A$5000),1))),\"Preço não registrado\")","v":""},"",null,null,"",""]
[null,null,"",null,"","",null,{"$f":"IFERROR(IF(D3223=\"\",\"\",INDEX(Entradas!$H$3:$H$5000,MATCH(A3223,IF(Entradas!$B$3:$B$5000=D3223,Entradas!$A$3:$A$5000),1))),\"Preço não registrado\")","v":""},"",null,null,"",""]
[null,null,"",null,"","",null,{"$f":"IFERROR(IF(D3224=\"\",\"\",INDEX(Entradas!$H$3:$H$5000,MATCH(A3224,IF(Entradas!$B$3:$B$5000=D3224,Entradas!$A$3:$A$5000),1))),\"Preço não registrado\")","v":""},"",null,null,"",""]
[null,null,"",null,"","",null,{"$f":"IFERROR(IF(D3225=\"\",\"\",INDEX(Entradas!$H$3:$H$5000,MATCH(A3225,IF(Entradas!$B$3:$B$5000=D3225,Entradas!$A$3:$A$5000),1))),\"Preço não registrado\")","v":""},"",null,null,"",""]
[null,null,"",null,"","",null,{"$f":"IFERROR(IF(D3226=\"\",\"\",INDEX(Entradas!$H$3:$H$5000,MATCH(A3226,IF(Entradas!$B$3:$B$5000=D3226,Entradas!$A$3:$A$5000),1))),\"Preço não registrado\")","v":""},"",null,null,"",""]
[null,null,"",null,"","",null,{"$f":"IFERROR(IF(D3227=\"\",\"\",INDEX(Entradas!$H$3:$H$5000,MATCH(A3227,IF(Entradas!$B$3:$B$5000=D3227,Entradas!$A$3:$A$5000),1))),\"Preço não registrado\")","v":""},"",null,null,"",""]
[null,null,"",null,"","",null,{"$f":"IFERROR(IF(D3228=\"\",\"\",INDEX(Entradas!$H$3:$H$5000,MATCH(A3228,IF(Entradas!$B$3:$B$5000=D3228,Entradas!$A$3:$A$5000),1))),\"Preço não registrado\")","v":""},"",null,null,"",""]
[null,null,"",null,"","",null,{"$f":"IFERROR(IF(D3229=\"\",\"\",INDEX(Entradas!$H$3:$H$5000,MATCH(A3229,IF(Entradas!$B$3:$B$5000=D3229,Entradas!$A$3:$A$5000),1))),\"Preço não registrado\")","v":""},"",null,null,"",""]
[null,null,"",null,"","",null,{"$f":"IFERROR(IF(D3230=\"\",\"\",INDEX(Entradas!$H$3:$H$5000,MATCH(A3230,IF(Entradas!$B$3:$B$5000=D3230,Entradas!$A$3:$A$5000),1))),\"Preço não registrado\")","v":""},"",null,null,"",""]
[null,null,"",null,"","",null,{"$f":"IFERROR(IF(D3231=\"\",\"\",INDEX(Entradas!$H$3:$H$5000,MATCH(A3231,IF(Entradas!$B$3:$B$5000=D3231,Entradas!$A$3:$A$5000),1))),\"Preço não registrado\")","v":""},"",null,null,"",""]
[null,null,"",null,"","",null,{"$f":"IFERROR(IF(D3232=\"\",\"\",INDEX(Entradas!$H$3:$H$5000,MATCH(A3232,IF(Entradas!$B$3:$B$5000=D3232,Entradas!$A$3:$A$5000),1))),\"Preço não registrado\")","v":""},"",null,null,"",""]
[null,null,"",null,"","",null,{"$f":"IFERROR(IF(D3233=\"\",\"\",INDEX(Entradas!$H$3:$H$5000,MATCH(A3233,IF(Entradas!$B$3:$B$5000=D3233,Entradas!$A$3:$A$5000),1))),\"Preço não registrado\")","v":""},"",null,null,"",""]
[null,null,"",null,"","",null,{"$f":"IFERROR(IF(D3234=\"\",\"\",INDEX(Entradas!$H$3:$H$5000,MATCH(A3234,IF(Entradas!$B$3:$B$5000=D3234,Entradas!$A$3:$A$5000),1))),\"Preço não registrado\")","v":""},"",null,null,"",""]
[null,null,"",null,"","",null,{"$f":"IFERROR(IF(D3235=\"\",\"\",INDEX(Entradas!$H$3:$H$5000,MATCH(A3235,IF(Entradas!$B$3:$B$5000=D3235,Entradas!$A$3:$A$5000),1))),\"Preço não registrado\")","v":""},"",null,null,"",""]
[null,null,"",null,"","",null,{"$f":"IFERROR(IF(D3236=\"\",\"\",INDEX(Entradas!$H$3:$H$5000,MATCH(A3236,IF(Entradas!$B$3:$B$5000=D3236,Entradas!$A$3:$A$5000),1))),\"Preço não registrado\")","v":""},"",null,null,"",""]
[null,null,"",null,"","",null,{"$f":"IFERROR(IF(D3237=\"\",\"\",INDEX(Entradas!$H$3:$H$5000,MATCH(A3237,IF(Entradas!$B$3:$B$5000=D3237,Entradas!$A$3:$A$5000),1))),\"Preço não registrado\")","v":""},"",null,null,"",""]
[null,null,"",null,"","",null,{"$f":"IFERROR(IF(D3238=\"\",\"\",INDEX(Entradas!$H$3:$H$5000,MATCH(A3238,IF(Entradas!$B$3:$B$5000=D3238,Entradas!$A$3:$A$5000),1))),\"Preço não registrado\")","v":""},"",null,null,"",""]
[null,null,"",null,"","",null,{"$f":"IFERROR(IF(D3239=\"\",\"\",INDEX(Entradas!$H$3:$H$5000,MATCH(A3239,IF(Entradas!$B$3:$B$5000=D3239,Entradas!$A$3:$A$5000),1))),\"Preço não registrado\")","v":""},"",null,null,"",""]
[null,null,"",null,"","",null,{"$f":"IFERROR(IF(D3240=\"\",\"\",INDEX(Entradas!$H$3:$H$5000,MATCH(A3240,IF(Entradas!$B$3:$B$5000=D3240,Entradas!$A$3:$A$5000),1))),\"Preço não registrado\")","v":""},"",null,null,"",""]
[null,null,"",null,"","",null,{"$f":"IFERROR(IF(D3241=\"\",\"\",INDEX(Entradas!$H$3:$H$5000,MATCH(A3241,IF(Entradas!$B$3:$B$5000=D3241,Entradas!$A$3:$A$5000),1))),\"Preço não registrado\")","v":""},"",null,null,"",""]
[null,null,"",null,"","",null,{"$f":"IFERROR(IF(D3242=\"\",\"\",INDEX(Entradas!$H$3:$H$5000,MATCH(A3242,IF(Entradas!$B$3:$B$5000=D3242,Entradas!$A$3:$A$5000),1))),\"Preço não registrado\")","v":""},"",null,null,"",""]
[null,null,"",null,"","",null,{"$f":"IFERROR(IF(D3243=\"\",\"\",INDEX(Entradas!$H$3:$H$5000,MATCH(A3243,IF(Entradas!$B$3:$B$5000=D3243,Entradas!$A$3:$A$5000),1))),\"Preço não registrado\")","v":""},"",null,null,"",""]
[null,null,"",null,"","",null,{"$f":"IFERROR(IF(D3244=\"\",\"\",INDEX(Entradas!$H$3:$H$5000,MATCH(A3244,IF(Entradas!$B$3:$B$5000=D3244,Entradas!$A$3:$A$5000),1))),\"Preço não registrado\")","v":""},"",null,null,"",""]
[null,null,"",null,"","",null,{"$f":"IFERROR(IF(D3245=\"\",\"\",INDEX(Entradas!$H$3:$H$5000,MATCH(A3245,IF(Entradas!$B$3:$B$5000=D3245,Entradas!$A$3:$A$5000),1))),\"Preço não registrado\")","v":""},"",null,null,"",""]
[null,null,"",null,"","",null,{"$f":"IFERROR(IF(D3246=\"\",\"\",INDEX(Entradas!$H$3:$H$5000,MATCH(A3246,IF(Entradas!$B$3:$B$5000=D3246,Entradas!$A$3:$A$5000),1))),\"Preço não registrado\")","v":""},"",null,null,"",""]
[null,null,"",null,"","",null,{"$f":"IFERROR(IF(D3247=\"\",\"\",INDEX(Entradas!$H$3:$H$5000,MATCH(A3247,IF(Entradas!$B$3:$B$5000=D3247,Entradas!$A$3:$A$5000),1))),\"Preço não registrado\")","v":""},"",null,null,"",""]
[null,null,"",null,"","",null,{"$f":"IFERROR(IF(D3248=\"\",\"\",INDEX(Entradas!$H$3:$H$5000,MATCH(A3248,IF(Entradas!$B$3:$B$5000=D3248,Entradas!$A$3:$A$5000),1))),\"Preço não registrado\")","v":""},"",null,null,"",""]
[null,null,"",null,"","",null,{"$f":"IFERROR(IF(D3249=\"\",\"\",INDEX(Entradas!$H$3:$H$5000,MATCH(A3249,IF(Entradas!$B$3:$B$5000=D3249,Entradas!$A$3:$A$5000),1))),\"Preço não registrado\")","v":""},"",null,null,"",""]
[null,null,"",null,"","",null,{"$f":"IFERROR(IF(D3250=\"\",\"\",INDEX(Entradas!$H$3:$H$5000,MATCH(A3250,IF(Entradas!$B$3:$B$5000=D3250,Entradas!$A$3:$A$5000),1))),\"Preço não registrado\")","v":""},"",null,null,"",""]
[null,null,"",null,"","",null,{"$f":"IFERROR(IF(D3251=\"\",\"\",INDEX(Entradas!$H$3:$H$5000,MATCH(A3251,IF(Entradas!$B$3:$B$5000=D3251,Entradas!$A$3:$A$5000),1))),\"Preço não registrado\")","v":""},"",null,null,"",""]
[null,null,"",null,"","",null,{"$f":"IFERROR(IF(D3252=\"\",\"\",INDEX(Entradas!$H$3:$H$5000,MATCH(A3252,IF(Entradas!$B$3:$B$5000=D3252,Entradas!$A$3:$A$5000),1))),\"Preço não registrado\")","v":""},"",null,null,"",""]
[null,null,"",null,"","",null,{"$f":"IFERROR(IF(D3253=\"\",\"\",INDEX(Entradas!$H$3:$H$5000,MATCH(A3253,IF(Entradas!$B$3:$B$5000=D3253,Entradas!$A$3:$A$5000),1))),\"Preço não registrado\")","v":""},"",null,null,"",""]
[null,null,"",null,"","",null,{"$f":"IFERROR(IF(D3254=\"\",\"\",INDEX(Entradas!$H$3:$H$5000,MATCH(A3254,IF(Entradas!$B$3:$B$5000=D3254,Entradas!$A$3:$A$5000),1))),\"Preço não registrado\")","v":""},"",null,null,"",""]
[null,null,"",null,"","",null,{"$f":"IFERROR(IF(D3255=\"\",\"\",INDEX(Entradas!$H$3:$H$5000,MATCH(A3255,IF(Entradas!$B$3:$B$5000=D3255,Entradas!$A$3:$A$5000),1))),\"Preço não registrado\")","v":""},"",null,null,"",""]
[null,null,"",null,"","",null,{"$f":"IFERROR(IF(D3256=\"\",\"\",INDEX(Entradas!$H$3:$H$5000,MATCH(A3256,IF(Entradas!$B$3:$B$5000=D3256,Entradas!$A$3:$A$5000),1))),\"Preço não registrado\")","v":""},"",null,null,"",""]
[null,null,"",null,"","",null,{"$f":"IFERROR(IF(D3257=\"\",\"\",INDEX(Entradas!$H$3:$H$5000,MATCH(A3257,IF(Entradas!$B$3:$B$5000=D3257,Entradas!$A$3:$A$5000),1))),\"Preço não registrado\")","v":""},"",null,null,"",""]
[null,null,"",null,"","",null,{"$f":"IFERROR(IF(D3258=\"\",\"\",INDEX(Entradas!$H$3:$H$5000,MATCH(A3258,IF(Entradas!$B$3:$B$5000=D3258,Entradas!$A$3:$A$5000),1))),\"Preço não registrado\")","v":""},"",null,null,"",""]
[null,null,"",null,"","",null,{"$f":"IFERROR(IF(D3259=\"\",\"\",INDEX(Entradas!$H$3:$H$5000,MATCH(A3259,IF(Entradas!$B$3:$B$5000=D3259,Entradas!$A$3:$A$5000),1))),\"Preço não registrado\")","v":""},"",null,null,"",""]
[null,null,"",null,"","",null,{"$f":"IFERROR(IF(D3260=\"\",\"\",INDEX(Entradas!$H$3:$H$5000,MATCH(A3260,IF(Entradas!$B$3:$B$5000=D3260,Entradas!$A$3:$A$5000),1))),\"Preço não registrado\")","v":""},"",null,null,"",""]
[null,null,"",null,"","",null,{"$f":"IFERROR(IF(D3261=\"\",\"\",INDEX(Entradas!$H$3:$H$5000,MATCH(A3261,IF(Entradas!$B$3:$B$5000=D3261,Entradas!$A$3:$A$5000),1))),\"Preço não registrado\")","v":""},"",null,null,"",""]
[null,null,"",null,"","",null,{"$f":"IFERROR(IF(D3262=\"\",\"\",INDEX(Entradas!$H$3:$H$5000,MATCH(A3262,IF(Entradas!$B$3:$B$5000=D3262,Entradas!$A$3:$A$5000),1))),\"Preço não registrado\")","v":""},"",null,null,"",""]
[null,null,"",null,"","",null,{"$f":"IFERROR(IF(D3263=\"\",\"\",INDEX(Entradas!$H$3:$H$5000,MATCH(A3263,IF(Entradas!$B$3:$B$5000=D3263,Entradas!$A$3:$A$5000),1))),\"Preço não registrado\")","v":""},"",null,null,"",""]
[null,null,"",null,"","",null,{"$f":"IFERROR(IF(D3264=\"\",\"\",INDEX(Entradas!$H$3:$H$5000,MATCH(A3264,IF(Entradas!$B$3:$B$5000=D3264,Entradas!$A$3:$A$5000),1))),\"Preço não registrado\")","v":""},"",null,null,"",""]
[null,null,"",null,"","",null,{"$f":"IFERROR(IF(D3265=\"\",\"\",INDEX(Entradas!$H$3:$H$5000,MATCH(A3265,IF(Entradas!$B$3:$B$5000=D3265,Entradas!$A$3:$A$5000),1))),\"Preço não registrado\")","v":""},"",null,null,"",""]
[null,null,"",null,"","",null,{"$f":"IFERROR(IF(D3266=\"\",\"\",INDEX(Entradas!$H$3:$H$5000,MATCH(A3266,IF(Entradas!$B$3:$B$5000=D3266,Entradas!$A$3:$A$5000),1))),\"Preço não registrado\")","v":""},"",null,null,"",""]
[null,null,{"$f":"IFERROR(IF(B3267=\"\",\"\",VLOOKUP(B3267,Clientes,2,FALSE)),\"\")","v":""},null,{"$f":"IF(D3267=\"\",\"\",VLOOKUP(D3267,Itens,2,FALSE))","v":""},{"$f":"IF(D3267=\"\",\"\",VLOOKUP(D3267,Itens,3,FALSE))","v":""},null,{"$f":"IFERROR(IF(D3267=\"\",\"\",INDEX(Entradas!$H$3:$H$5000,MATCH(A3267,IF(Entradas!$B$3:$B$5000=D3267,Entradas!$A$3:$A$5000),1))),\"Preço não registrado\")","v":""},"",null,null,"",""]
[null,null,"",null,"","",null,{"$f":"IFERROR(IF(D3268=\"\",\"\",INDEX(Entradas!$H$3:$H$5000,MATCH(A3268,IF(Entradas!$B$3:$B$5000=D3268,Entradas!$A$3:$A$5000),1))),\"Preço não registrado\")","v":""},{"$f":"IFERROR(G3268*H3268,\"\")","v":""},null,null,{"$f":"IF(K3268=\"\",\"\",HYPERLINK($P$13&K3268,\"Rastreie aqui\"))","v":""},{"$f":"IF(A3268=\"\",\"\",TEXT(A3268,\"mmmm\"))","v":""}]
[null,null,"",null,"","",null,{"$f":"IFERROR(IF(D3269=\"\",\"\",INDEX(Entradas!$H$3:$H$5000,MATCH(A3269,IF(Entradas!$B$3:$B$5000=D3269,Entradas!$A$3:$A$5000),1))),\"Preço não registrado\")","v":""},"",null,null,"",""]
[null,null,"",null,"","",null,{"$f":"IFERROR(IF(D3270=\"\",\"\",INDEX(Entradas!$H$3:$H$5000,MATCH(A3270,IF(Entradas!$B$3:$B$5000=D3270,Entradas!$A$3:$A$5000),1))),\"Preço não registrado\")","v":""},"",null,null,"",""]
[null,null,"",null,"","",null,{"$f":"IFERROR(IF(D3271=\"\",\"\",INDEX(Entradas!$H$3:$H$5000,MATCH(A3271,IF(Entradas!$B$3:$B$5000=D3271,Entradas!$A$3:$A$5000),1))),\"Preço não registrado\")","v":""},"",null,null,"",""]
[null,null,"",null,"","",null,{"$f":"IFERROR(IF(D3272=\"\",\"\",INDEX(Entradas!$H$3:$H$5000,MATCH(A3272,IF(Entradas!$B$3:$B$5000=D3272,Entradas!$A$3:$A$5000),1))),\"Preço não registrado\")","v":""},"",null,null,"",""]
[null,null,"",null,"","",null,{"$f":"IFERROR(IF(D3273=\"\",\"\",INDEX(Entradas!$H$3:$H$5000,MATCH(A3273,IF(Entradas!$B$3:$B$5000=D3273,Entradas!$A$3:$A$5000),1))),\"Preço não registrado\")","v":""},"",null,null,"",""]
[null,null,"",null,"","",null,{"$f":"IFERROR(IF(D3274=\"\",\"\",INDEX(Entradas!$H$3:$H$5000,MATCH(A3274,IF(Entradas!$B$3:$B$5000=D3274,Entradas!$A$3:$A$5000),1))),\"Preço não registrado\")","v":""},"",null,null,"",""]
[null,null,"",null,"","",null,{"$f":"IFERROR(IF(D3275=\"\",\"\",INDEX(Entradas!$H$3:$H$5000,MATCH(A3275,IF(Entradas!$B$3:$B$5000=D3275,Entradas!$A$3:$A$5000),1))),\"Preço não registrado\")","v":""},"",null,null,"",""]
[null,null,"",null,"","",null,{"$f":"IFERROR(IF(D3276=\"\",\"\",INDEX(Entradas!$H$3:$H$5000,MATCH(A3276,IF(Entradas!$B$3:$B$5000=D3276,Entradas!$A$3:$A$5000),1))),\"Preço não registrado\")","v":""},"",null,null,"",""]
[null,null,"",null,"","",null,{"$f":"IFERROR(IF(D3277=\"\",\"\",INDEX(Entradas!$H$3:$H$5000,MATCH(A3277,IF(Entradas!$B$3:$B$5000=D3277,Entradas!$A$3:$A$5000),1))),\"Preço não registrado\")","v":""},"",null,null,"",""]
[null,null,"",null,"","",null,{"$f":"IFERROR(IF(D3278=\"\",\"\",INDEX(Entradas!$H$3:$H$5000,MATCH(A3278,IF(Entradas!$B$3:$B$5000=D3278,Entradas!$A$3:$A$5000),1))),\"Preço não registrado\")","v":""},"",null,null,"",""]
[null,null,"",null,"","",null,{"$f":"IFERROR(IF(D3279=\"\",\"\",INDEX(Entradas!$H$3:$H$5000,MATCH(A3279,IF(Entradas!$B$3:$B$5000=D3279,Entradas!$A$3:$A$5000),1))),\"Preço não registrado\")","v":""},"",null,null,"",""]
[null,null,"",null,"","",null,{"$f":"IFERROR(IF(D3280=\"\",\"\",INDEX(Entradas!$H$3:$H$5000,MATCH(A3280,IF(Entradas!$B$3:$B$5000=D3280,Entradas!$A$3:$A$5000),1))),\"Preço não registrado\")","v":""},"",null,null,"",""]
[null,null,"",null,"","",null,{"$f":"IFERROR(IF(D3281=\"\",\"\",INDEX(Entradas!$H$3:$H$5000,MATCH(A3281,IF(Entradas!$B$3:$B$5000=D3281,Entradas!$A$3:$A$5000),1))),\"Preço não registrado\")","v":""},"",null,null,"",""]
[null,null,"",null,"","",null,{"$f":"IFERROR(IF(D3282=\"\",\"\",INDEX(Entradas!$H$3:$H$5000,MATCH(A3282,IF(Entradas!$B$3:$B$5000=D3282,Entradas!$A$3:$A$5000),1))),\"Preço não registrado\")","v":""},"",null,null,"",""]
[null,null,"",null,"","",null,{"$f":"IFERROR(IF(D3283=\"\",\"\",INDEX(Entradas!$H$3:$H$5000,MATCH(A3283,IF(Entradas!$B$3:$B$5000=D3283,Entradas!$A$3:$A$5000),1))),\"Preço não registrado\")","v":""},"",null,null,"",""]
[null,null,"",null,"","",null,{"$f":"IFERROR(IF(D3284=\"\",\"\",INDEX(Entradas!$H$3:$H$5000,MATCH(A3284,IF(Entradas!$B$3:$B$5000=D3284,Entradas!$A$3:$A$5000),1))),\"Preço não registrado\")","v":""},"",null,null,"",""]
[null,null,"",null,"","",null,{"$f":"IFERROR(IF(D3285=\"\",\"\",INDEX(Entradas!$H$3:$H$5000,MATCH(A3285,IF(Entradas!$B$3:$B$5000=D3285,Entradas!$A$3:$A$5000),1))),\"Preço não registrado\")","v":""},"",null,null,"",""]
[null,null,"",null,"","",null,{"$f":"IFERROR(IF(D3286=\"\",\"\",INDEX(Entradas!$H$3:$H$5000,MATCH(A3286,IF(Entradas!$B$3:$B$5000=D3286,Entradas!$A$3:$A$5000),1))),\"Preço não registrado\")","v":""},"",null,null,"",""]
[null,null,"",null,"","",null,{"$f":"IFERROR(IF(D3287=\"\",\"\",INDEX(Entradas!$H$3:$H$5000,MATCH(A3287,IF(Entradas!$B$3:$B$5000=D3287,Entradas!$A$3:$A$5000),1))),\"Preço não registrado\")","v":""},"",null,null,"",""]
[null,null,"",null,"","",null,{"$f":"IFERROR(IF(D3288=\"\",\"\",INDEX(Entradas!$H$3:$H$5000,MATCH(A3288,IF(Entradas!$B$3:$B$5000=D3288,Entradas!$A$3:$A$5000),1))),\"Preço não registrado\")","v":""},"",null,null,"",""]
[null,null,"",null,"","",null,{"$f":"IFERROR(IF(D3289=\"\",\"\",INDEX(Entradas!$H$3:$H$5000,MATCH(A3289,IF(Entradas!$B$3:$B$5000=D3289,Entradas!$A$3:$A$5000),1))),\"Preço não registrado\")","v":""},"",null,null,"",""]
[null,null,"",null,"","",null,{"$f":"IFERROR(IF(D3290=\"\",\"\",INDEX(Entradas!$H$3:$H$5000,MATCH(A3290,IF(Entradas!$B$3:$B$5000=D3290,Entradas!$A$3:$A$5000),1))),\"Preço não registrado\")","v":""},"",null,null,"",""]
[null,null,"",null,"","",null,{"$f":"IFERROR(IF(D3291=\"\",\"\",INDEX(Entradas!$H$3:$H$5000,MATCH(A3291,IF(Entradas!$B$3:$B$5000=D3291,Entradas!$A$3:$A$5000),1))),\"Preço não registrado\")","v":""},"",null,null,"",""]
[null,null,"",null,"","",null,{"$f":"IFERROR(IF(D3292=\"\",\"\",INDEX(Entradas!$H$3:$H$5000,MATCH(A3292,IF(Entradas!$B$3:$B$5000=D3292,Entradas!$A$3:$A$5000),1))),\"Preço não registrado\")","v":""},"",null,null,"",""]
[null,null,"",null,"","",null,{"$f":"IFERROR(IF(D3293=\"\",\"\",INDEX(Entradas!$H$3:$H$5000,MATCH(A3293,IF(Entradas!$B$3:$B$5000=D3293,Entradas!$A$3:$A$5000),1))),\"Preço não registrado\")","v":""},"",null,null,"",""]
[null,null,"",null,"","",null,{"$f":"IFERROR(IF(D3294=\"\",\"\",INDEX(Entradas!$H$3:$H$5000,MATCH(A3294,IF(Entradas!$B$3:$B$5000=D3294,Entradas!$A$3:$A$5000),1))),\"Preço não registrado\")","v":""},"",null,null,"",""]
[null,null,"",null,"","",null,{"$f":"IFERROR(IF(D3295=\"\",\"\",INDEX(Entradas!$H$3:$H$5000,MATCH(A3295,IF(Entradas!$B$3:$B$5000=D3295,Entradas!$A$3:$A$5000),1))),\"Preço não registrado\")","v":""},"",null,null,"",""]
[null,null,"",null,"","",null,{"$f":"IFERROR(IF(D3296=\"\",\"\",INDEX(Entradas!$H$3:$H$5000,MATCH(A3296,IF(Entradas!$B$3:$B$5000=D3296,Entradas!$A$3:$A$5000),1))),\"Preço não registrado\")","v":""},"",null,null,"",""]
[null,null,"",null,"","",null,{"$f":"IFERROR(IF(D3297=\"\",\"\",INDEX(Entradas!$H$3:$H$5000,MATCH(A3297,IF(Entradas!$B$3:$B$5000=D3297,Entradas!$A$3:$A$5000),1))),\"Preço não registrado\")","v":""},"",null,null,"",""]
[null,null,"",null,"","",null,{"$f":"IFERROR(IF(D3298=\"\",\"\",INDEX(Entradas!$H$3:$H$5000,MATCH(A3298,IF(Entradas!$B$3:$B$5000=D3298,Entradas!$A$3:$A$5000),1))),\"Preço não registrado\")","v":""},"",null,null,"",""]
[null,null,"",null,"","",null,{"$f":"IFERROR(IF(D3299=\"\",\"\",INDEX(Entradas!$H$3:$H$5000,MATCH(A3299,IF(Entradas!$B$3:$B$5000=D3299,Entradas!$A$3:$A$5000),1))),\"Preço não registrado\")","v":""},"",null,null,"",""]
[null,null,"",null,"","",null,{"$f":"IFERROR(IF(D3300=\"\",\"\",INDEX(Entradas!$H$3:$H$5000,MATCH(A3300,IF(Entradas!$B$3:$B$5000=D3300,Entradas!$A$3:$A$5000),1))),\"Preço não registrado\")","v":""},"",null,null,"",""]
[null,null,"",null,"","",null,{"$f":"IFERROR(IF(D3301=\"\",\"\",INDEX(Entradas!$H$3:$H$5000,MATCH(A3301,IF(Entradas!$B$3:$B$5000=D3301,Entradas!$A$3:$A$5000),1))),\"Preço não registrado\")","v":""},"",null,null,"",""]
[null,null,"",null,"","",null,{"$f":"IFERROR(IF(D3302=\"\",\"\",INDEX(Entradas!$H$3:$H$5000,MATCH(A3302,IF(Entradas!$B$3:$B$5000=D3302,Entradas!$A$3:$A$5000),1))),\"Preço não registrado\")","v":""},"",null,null,"",""]
[null,null,"",null,"","",null,{"$f":"IFERROR(IF(D3303=\"\",\"\",INDEX(Entradas!$H$3:$H$5000,MATCH(A3303,IF(Entradas!$B$3:$B$5000=D3303,Entradas!$A$3:$A$5000),1))),\"Preço não registrado\")","v":""},"",null,null,"",""]
[null,null,"",null,"","",null,{"$f":"IFERROR(IF(D3304=\"\",\"\",INDEX(Entradas!$H$3:$H$5000,MATCH(A3304,IF(Entradas!$B$3:$B$5000=D3304,Entradas!$A$3:$A$5000),1))),\"Preço não registrado\")","v":""},"",null,null,"",""]
[null,null,"",null,"","",null,{"$f":"IFERROR(IF(D3305=\"\",\"\",INDEX(Entradas!$H$3:$H$5000,MATCH(A3305,IF(Entradas!$B$3:$B$5000=D3305,Entradas!$A$3:$A$5000),1))),\"Preço não registrado\")","v":""},"",null,null,"",""]
[null,null,"",null,"","",null,{"$f":"IFERROR(IF(D3306=\"\",\"\",INDEX(Entradas!$H$3:$H$5000,MATCH(A3306,IF(Entradas!$B$3:$B$5000=D3306,Entradas!$A$3:$A$5000),1))),\"Preço não registrado\")","v":""},"",null,null,"",""]
[null,null,"",null,"","",null,{"$f":"IFERROR(IF(D3307=\"\",\"\",INDEX(Entradas!$H$3:$H$5000,MATCH(A3307,IF(Entradas!$B$3:$B$5000=D3307,Entradas!$A$3:$A$5000),1))),\"Preço não registrado\")","v":""},"",null,null,"",""]
[null,null,"",null,"","",null,{"$f":"IFERROR(IF(D3308=\"\",\"\",INDEX(Entradas!$H$3:$H$5000,MATCH(A3308,IF(Entradas!$B$3:$B$5000=D3308,Entradas!$A$3:$A$5000),1))),\"Preço não registrado\")","v":""},"",null,null,"",""]
[null,null,"",null,"","",null,{"$f":"IFERROR(IF(D3309=\"\",\"\",INDEX(Entradas!$H$3:$H$5000,MATCH(A3309,IF(Entradas!$B$3:$B$5000=D3309,Entradas!$A$3:$A$5000),1))),\"Preço não registrado\")","v":""},"",null,null,"",""]
[null,null,"",null,"","",null,{"$f":"IFERROR(IF(D3310=\"\",\"\",INDEX(Entradas!$H$3:$H$5000,MATCH(A3310,IF(Entradas!$B$3:$B$5000=D3310,Entradas!$A$3:$A$5000),1))),\"Preço não registrado\")","v":""},"",null,null,"",""]
[null,null,"",null,"","",null,{"$f":"IFERROR(IF(D3311=\"\",\"\",INDEX(Entradas!$H$3:$H$5000,MATCH(A3311,IF(Entradas!$B$3:$B$5000=D3311,Entradas!$A$3:$A$5000),1))),\"Preço não registrado\")","v":""},"",null,null,"",""]
[null,null,"",null,"","",null,{"$f":"IFERROR(IF(D3312=\"\",\"\",INDEX(Entradas!$H$3:$H$5000,MATCH(A3312,IF(Entradas!$B$3:$B$5000=D3312,Entradas!$A$3:$A$5000),1))),\"Preço não registrado\")","v":""},"",null,null,"",""]
[null,null,"",null,"","",null,{"$f":"IFERROR(IF(D3313=\"\",\"\",INDEX(Entradas!$H$3:$H$5000,MATCH(A3313,IF(Entradas!$B$3:$B$5000=D3313,Entradas!$A$3:$A$5000),1))),\"Preço não registrado\")","v":""},"",null,null,"",""]
[null,null,"",null,"","",null,{"$f":"IFERROR(IF(D3314=\"\",\"\",INDEX(Entradas!$H$3:$H$5000,MATCH(A3314,IF(Entradas!$B$3:$B$5000=D3314,Entradas!$A$3:$A$5000),1))),\"Preço não registrado\")","v":""},"",null,null,"",""]
[null,null,"",null,"","",null,{"$f":"IFERROR(IF(D3315=\"\",\"\",INDEX(Entradas!$H$3:$H$5000,MATCH(A3315,IF(Entradas!$B$3:$B$5000=D3315,Entradas!$A$3:$A$5000),1))),\"Preço não registrado\")","v":""},"",null,null,"",""]
[null,null,"",null,"","",null,{"$f":"IFERROR(IF(D3316=\"\",\"\",INDEX(Entradas!$H$3:$H$5000,MATCH(A3316,IF(Entradas!$B$3:$B$5000=D3316,Entradas!$A$3:$A$5000),1))),\"Preço não registrado\")","v":""},"",null,null,"",""]
[null,null,"",null,"","",null,{"$f":"IFERROR(IF(D3317=\"\",\"\",INDEX(Entradas!$H$3:$H$5000,MATCH(A3317,IF(Entradas!$B$3:$B$5000=D3317,Entradas!$A$3:$A$5000),1))),\"Preço não registrado\")","v":""},"",null,null,"",""]
[null,null,"",null,"","",null,{"$f":"IFERROR(IF(D3318=\"\",\"\",INDEX(Entradas!$H$3:$H$5000,MATCH(A3318,IF(Entradas!$B$3:$B$5000=D3318,Entradas!$A$3:$A$5000),1))),\"Preço não registrado\")","v":""},"",null,null,"",""]
[null,null,"",null,"","",null,{"$f":"IFERROR(IF(D3319=\"\",\"\",INDEX(Entradas!$H$3:$H$5000,MATCH(A3319,IF(Entradas!$B$3:$B$5000=D3319,Entradas!$A$3:$A$5000),1))),\"Preço não registrado\")","v":""},"",null,null,"",""]
[null,null,"",null,"","",null,{"$f":"IFERROR(IF(D3320=\"\",\"\",INDEX(Entradas!$H$3:$H$5000,MATCH(A3320,IF(Entradas!$B$3:$B$5000=D3320,Entradas!$A$3:$A$5000),1))),\"Preço não registrado\")","v":""},"",null,null,"",""]
[null,null,"",null,"","",null,{"$f":"IFERROR(IF(D3321=\"\",\"\",INDEX(Entradas!$H$3:$H$5000,MATCH(A3321,IF(Entradas!$B$3:$B$5000=D3321,Entradas!$A$3:$A$5000),1))),\"Preço não registrado\")","v":""},"",null,null,"",""]
[null,null,"",null,"","",null,{"$f":"IFERROR(IF(D3322=\"\",\"\",INDEX(Entradas!$H$3:$H$5000,MATCH(A3322,IF(Entradas!$B$3:$B$5000=D3322,Entradas!$A$3:$A$5000),1))),\"Preço não registrado\")","v":""},"",null,null,"",""]
[null,null,"",null,"","",null,{"$f":"IFERROR(IF(D3323=\"\",\"\",INDEX(Entradas!$H$3:$H$5000,MATCH(A3323,IF(Entradas!$B$3:$B$5000=D3323,Entradas!$A$3:$A$5000),1))),\"Preço não registrado\")","v":""},"",null,null,"",""]
[null,null,"",null,"","",null,{"$f":"IFERROR(IF(D3324=\"\",\"\",INDEX(Entradas!$H$3:$H$5000,MATCH(A3324,IF(Entradas!$B$3:$B$5000=D3324,Entradas!$A$3:$A$5000),1))),\"Preço não registrado\")","v":""},"",null,null,"",""]
[null,null,"",null,"","",null,{"$f":"IFERROR(IF(D3325=\"\",\"\",INDEX(Entradas!$H$3:$H$5000,MATCH(A3325,IF(Entradas!$B$3:$B$5000=D3325,Entradas!$A$3:$A$5000),1))),\"Preço não registrado\")","v":""},"",null,null,"",""]
[null,null,"",null,"","",null,{"$f":"IFERROR(IF(D3326=\"\",\"\",INDEX(Entradas!$H$3:$H$5000,MATCH(A3326,IF(Entradas!$B$3:$B$5000=D3326,Entradas!$A$3:$A$5000),1))),\"Preço não registrado\")","v":""},"",null,null,"",""]
[null,null,"",null,"","",null,{"$f":"IFERROR(IF(D3327=\"\",\"\",INDEX(Entradas!$H$3:$H$5000,MATCH(A3327,IF(Entradas!$B$3:$B$5000=D3327,Entradas!$A$3:$A$5000),1))),\"Preço não registrado\")","v":""},"",null,null,"",""]
[null,null,"",null,"","",null,{"$f":"IFERROR(IF(D3328=\"\",\"\",INDEX(Entradas!$H$3:$H$5000,MATCH(A3328,IF(Entradas!$B$3:$B$5000=D3328,Entradas!$A$3:$A$5000),1))),\"Preço não registrado\")","v":""},"",null,null,"",""]
[null,null,"",null,"","",null,{"$f":"IFERROR(IF(D3329=\"\",\"\",INDEX(Entradas!$H$3:$H$5000,MATCH(A3329,IF(Entradas!$B$3:$B$5000=D3329,Entradas!$A$3:$A$5000),1))),\"Preço não registrado\")","v":""},"",null,null,"",""]
[null,null,"",null,"","",null,{"$f":"IFERROR(IF(D3330=\"\",\"\",INDEX(Entradas!$H$3:$H$5000,MATCH(A3330,IF(Entradas!$B$3:$B$5000=D3330,Entradas!$A$3:$A$5000),1))),\"Preço não registrado\")","v":""},"",null,null,"",""]
[null,null,{"$f":"IFERROR(IF(B3331=\"\",\"\",VLOOKUP(B3331,Clientes,2,FALSE)),\"\")","v":""},null,{"$f":"IF(D3331=\"\",\"\",VLOOKUP(D3331,Itens,2,FALSE))","v":""},{"$f":"IF(D3331=\"\",\"\",VLOOKUP(D3331,Itens,3,FALSE))","v":""},null,{"$f":"IFERROR(IF(D3331=\"\",\"\",INDEX(Entradas!$H$3:$H$5000,MATCH(A3331,IF(Entradas!$B$3:$B$5000=D3331,Entradas!$A$3:$A$5000),1))),\"Preço não registrado\")","v":""},"",null,null,"",""]
[null,null,"",null,"","",null,{"$f":"IFERROR(IF(D3332=\"\",\"\",INDEX(Entradas!$H$3:$H$5000,MATCH(A3332,IF(Entradas!$B$3:$B$5000=D3332,Entradas!$A$3:$A$5000),1))),\"Preço não registrado\")","v":""},{"$f":"IFERROR(G3332*H3332,\"\")","v":""},null,null,{"$f":"IF(K3332=\"\",\"\",HYPERLINK($P$13&K3332,\"Rastreie aqui\"))","v":""},{"$f":"IF(A3332=\"\",\"\",TEXT(A3332,\"mmmm\"))","v":""}]
[null,null,"",null,"","",null,{"$f":"IFERROR(IF(D3333=\"\",\"\",INDEX(Entradas!$H$3:$H$5000,MATCH(A3333,IF(Entradas!$B$3:$B$5000=D3333,Entradas!$A$3:$A$5000),1))),\"Preço não registrado\")","v":""},"",null,null,"",""]
[null,null,"",null,"","",null,{"$f":"IFERROR(IF(D3334=\"\",\"\",INDEX(Entradas!$H$3:$H$5000,MATCH(A3334,IF(Entradas!$B$3:$B$5000=D3334,Entradas!$A$3:$A$5000),1))),\"Preço não registrado\")","v":""},"",null,null,"",""]
[null,null,"",null,"","",null,{"$f":"IFERROR(IF(D3335=\"\",\"\",INDEX(Entradas!$H$3:$H$5000,MATCH(A3335,IF(Entradas!$B$3:$B$5000=D3335,Entradas!$A$3:$A$5000),1))),\"Preço não registrado\")","v":""},"",null,null,"",""]
[null,null,"",null,"","",null,{"$f":"IFERROR(IF(D3336=\"\",\"\",INDEX(Entradas!$H$3:$H$5000,MATCH(A3336,IF(Entradas!$B$3:$B$5000=D3336,Entradas!$A$3:$A$5000),1))),\"Preço não registrado\")","v":""},"",null,null,"",""]
[null,null,"",null,"","",null,{"$f":"IFERROR(IF(D3337=\"\",\"\",INDEX(Entradas!$H$3:$H$5000,MATCH(A3337,IF(Entradas!$B$3:$B$5000=D3337,Entradas!$A$3:$A$5000),1))),\"Preço não registrado\")","v":""},"",null,null,"",""]
[null,null,"",null,"","",null,{"$f":"IFERROR(IF(D3338=\"\",\"\",INDEX(Entradas!$H$3:$H$5000,MATCH(A3338,IF(Entradas!$B$3:$B$5000=D3338,Entradas!$A$3:$A$5000),1))),\"Preço não registrado\")","v":""},"",null,null,"",""]
[null,null,"",null,"","",null,{"$f":"IFERROR(IF(D3339=\"\",\"\",INDEX(Entradas!$H$3:$H$5000,MATCH(A3339,IF(Entradas!$B$3:$B$5000=D3339,Entradas!$A$3:$A$5000),1))),\"Preço não registrado\")","v":""},"",null,null,"",""]
[null,null,"",null,"","",null,{"$f":"IFERROR(IF(D3340=\"\",\"\",INDEX(Entradas!$H$3:$H$5000,MATCH(A3340,IF(Entradas!$B$3:$B$5000=D3340,Entradas!$A$3:$A$5000),1))),\"Preço não registrado\")","v":""},"",null,null,"",""]
[null,null,"",null,"","",null,{"$f":"IFERROR(IF(D3341=\"\",\"\",INDEX(Entradas!$H$3:$H$5000,MATCH(A3341,IF(Entradas!$B$3:$B$5000=D3341,Entradas!$A$3:$A$5000),1))),\"Preço não registrado\")","v":""},"",null,null,"",""]
[null,null,"",null,"","",null,{"$f":"IFERROR(IF(D3342=\"\",\"\",INDEX(Entradas!$H$3:$H$5000,MATCH(A3342,IF(Entradas!$B$3:$B$5000=D3342,Entradas!$A$3:$A$5000),1))),\"Preço não registrado\")","v":""},"",null,null,"",""]
[null,null,"",null,"","",null,{"$f":"IFERROR(IF(D3343=\"\",\"\",INDEX(Entradas!$H$3:$H$5000,MATCH(A3343,IF(Entradas!$B$3:$B$5000=D3343,Entradas!$A$3:$A$5000),1))),\"Preço não registrado\")","v":""},"",null,null,"",""]
[null,null,"",null,"","",null,{"$f":"IFERROR(IF(D3344=\"\",\"\",INDEX(Entradas!$H$3:$H$5000,MATCH(A3344,IF(Entradas!$B$3:$B$5000=D3344,Entradas!$A$3:$A$5000),1))),\"Preço não registrado\")","v":""},"",null,null,"",""]
[null,null,"",null,"","",null,{"$f":"IFERROR(IF(D3345=\"\",\"\",INDEX(Entradas!$H$3:$H$5000,MATCH(A3345,IF(Entradas!$B$3:$B$5000=D3345,Entradas!$A$3:$A$5000),1))),\"Preço não registrado\")","v":""},"",null,null,"",""]
[null,null,"",null,"","",null,{"$f":"IFERROR(IF(D3346=\"\",\"\",INDEX(Entradas!$H$3:$H$5000,MATCH(A3346,IF(Entradas!$B$3:$B$5000=D3346,Entradas!$A$3:$A$5000),1))),\"Preço não registrado\")","v":""},"",null,null,"",""]
[null,null,"",null,"","",null,{"$f":"IFERROR(IF(D3347=\"\",\"\",INDEX(Entradas!$H$3:$H$5000,MATCH(A3347,IF(Entradas!$B$3:$B$5000=D3347,Entradas!$A$3:$A$5000),1))),\"Preço não registrado\")","v":""},"",null,null,"",""]
[null,null,"",null,"","",null,{"$f":"IFERROR(IF(D3348=\"\",\"\",INDEX(Entradas!$H$3:$H$5000,MATCH(A3348,IF(Entradas!$B$3:$B$5000=D3348,Entradas!$A$3:$A$5000),1))),\"Preço não registrado\")","v":""},"",null,null,"",""]
[null,null,"",null,"","",null,{"$f":"IFERROR(IF(D3349=\"\",\"\",INDEX(Entradas!$H$3:$H$5000,MATCH(A3349,IF(Entradas!$B$3:$B$5000=D3349,Entradas!$A$3:$A$5000),1))),\"Preço não registrado\")","v":""},"",null,null,"",""]
[null,null,"",null,"","",null,{"$f":"IFERROR(IF(D3350=\"\",\"\",INDEX(Entradas!$H$3:$H$5000,MATCH(A3350,IF(Entradas!$B$3:$B$5000=D3350,Entradas!$A$3:$A$5000),1))),\"Preço não registrado\")","v":""},"",null,null,"",""]
[null,null,"",null,"","",null,{"$f":"IFERROR(IF(D3351=\"\",\"\",INDEX(Entradas!$H$3:$H$5000,MATCH(A3351,IF(Entradas!$B$3:$B$5000=D3351,Entradas!$A$3:$A$5000),1))),\"Preço não registrado\")","v":""},"",null,null,"",""]
[null,null,"",null,"","",null,{"$f":"IFERROR(IF(D3352=\"\",\"\",INDEX(Entradas!$H$3:$H$5000,MATCH(A3352,IF(Entradas!$B$3:$B$5000=D3352,Entradas!$A$3:$A$5000),1))),\"Preço não registrado\")","v":""},"",null,null,"",""]
[null,null,"",null,"","",null,{"$f":"IFERROR(IF(D3353=\"\",\"\",INDEX(Entradas!$H$3:$H$5000,MATCH(A3353,IF(Entradas!$B$3:$B$5000=D3353,Entradas!$A$3:$A$5000),1))),\"Preço não registrado\")","v":""},"",null,null,"",""]
[null,null,"",null,"","",null,{"$f":"IFERROR(IF(D3354=\"\",\"\",INDEX(Entradas!$H$3:$H$5000,MATCH(A3354,IF(Entradas!$B$3:$B$5000=D3354,Entradas!$A$3:$A$5000),1))),\"Preço não registrado\")","v":""},"",null,null,"",""]
[null,null,"",null,"","",null,{"$f":"IFERROR(IF(D3355=\"\",\"\",INDEX(Entradas!$H$3:$H$5000,MATCH(A3355,IF(Entradas!$B$3:$B$5000=D3355,Entradas!$A$3:$A$5000),1))),\"Preço não registrado\")","v":""},"",null,null,"",""]
[null,null,"",null,"","",null,{"$f":"IFERROR(IF(D3356=\"\",\"\",INDEX(Entradas!$H$3:$H$5000,MATCH(A3356,IF(Entradas!$B$3:$B$5000=D3356,Entradas!$A$3:$A$5000),1))),\"Preço não registrado\")","v":""},"",null,null,"",""]
[null,null,"",null,"","",null,{"$f":"IFERROR(IF(D3357=\"\",\"\",INDEX(Entradas!$H$3:$H$5000,MATCH(A3357,IF(Entradas!$B$3:$B$5000=D3357,Entradas!$A$3:$A$5000),1))),\"Preço não registrado\")","v":""},"",null,null,"",""]
[null,null,"",null,"","",null,{"$f":"IFERROR(IF(D3358=\"\",\"\",INDEX(Entradas!$H$3:$H$5000,MATCH(A3358,IF(Entradas!$B$3:$B$5000=D3358,Entradas!$A$3:$A$5000),1))),\"Preço não registrado\")","v":""},"",null,null,"",""]
[null,null,"",null,"","",null,{"$f":"IFERROR(IF(D3359=\"\",\"\",INDEX(Entradas!$H$3:$H$5000,MATCH(A3359,IF(Entradas!$B$3:$B$5000=D3359,Entradas!$A$3:$A$5000),1))),\"Preço não registrado\")","v":""},"",null,null,"",""]
[null,null,"",null,"","",null,{"$f":"IFERROR(IF(D3360=\"\",\"\",INDEX(Entradas!$H$3:$H$5000,MATCH(A3360,IF(Entradas!$B$3:$B$5000=D3360,Entradas!$A$3:$A$5000),1))),\"Preço não registrado\")","v":""},"",null,null,"",""]
[null,null,"",null,"","",null,{"$f":"IFERROR(IF(D3361=\"\",\"\",INDEX(Entradas!$H$3:$H$5000,MATCH(A3361,IF(Entradas!$B$3:$B$5000=D3361,Entradas!$A$3:$A$5000),1))),\"Preço não registrado\")","v":""},"",null,null,"",""]
[null,null,"",null,"","",null,{"$f":"IFERROR(IF(D3362=\"\",\"\",INDEX(Entradas!$H$3:$H$5000,MATCH(A3362,IF(Entradas!$B$3:$B$5000=D3362,Entradas!$A$3:$A$5000),1))),\"Preço não registrado\")","v":""},"",null,null,"",""]
[null,null,"",null,"","",null,{"$f":"IFERROR(IF(D3363=\"\",\"\",INDEX(Entradas!$H$3:$H$5000,MATCH(A3363,IF(Entradas!$B$3:$B$5000=D3363,Entradas!$A$3:$A$5000),1))),\"Preço não registrado\")","v":""},"",null,null,"",""]
[null,null,"",null,"","",null,{"$f":"IFERROR(IF(D3364=\"\",\"\",INDEX(Entradas!$H$3:$H$5000,MATCH(A3364,IF(Entradas!$B$3:$B$5000=D3364,Entradas!$A$3:$A$5000),1))),\"Preço não registrado\")","v":""},"",null,null,"",""]
[null,null,"",null,"","",null,{"$f":"IFERROR(IF(D3365=\"\",\"\",INDEX(Entradas!$H$3:$H$5000,MATCH(A3365,IF(Entradas!$B$3:$B$5000=D3365,Entradas!$A$3:$A$5000),1))),\"Preço não registrado\")","v":""},"",null,null,"",""]
[null,null,"",null,"","",null,{"$f":"IFERROR(IF(D3366=\"\",\"\",INDEX(Entradas!$H$3:$H$5000,MATCH(A3366,IF(Entradas!$B$3:$B$5000=D3366,Entradas!$A$3:$A$5000),1))),\"Preço não registrado\")","v":""},"",null,null,"",""]
[null,null,"",null,"","",null,{"$f":"IFERROR(IF(D3367=\"\",\"\",INDEX(Entradas!$H$3:$H$5000,MATCH(A3367,IF(Entradas!$B$3:$B$5000=D3367,Entradas!$A$3:$A$5000),1))),\"Preço não registrado\")","v":""},"",null,null,"",""]
[null,null,"",null,"","",null,{"$f":"IFERROR(IF(D3368=\"\",\"\",INDEX(Entradas!$H$3:$H$5000,MATCH(A3368,IF(Entradas!$B$3:$B$5000=D3368,Entradas!$A$3:$A$5000),1))),\"Preço não registrado\")","v":""},"",null,null,"",""]
[null,null,"",null,"","",null,{"$f":"IFERROR(IF(D3369=\"\",\"\",INDEX(Entradas!$H$3:$H$5000,MATCH(A3369,IF(Entradas!$B$3:$B$5000=D3369,Entradas!$A$3:$A$5000),1))),\"Preço não registrado\")","v":""},"",null,null,"",""]
[null,null,"",null,"","",null,{"$f":"IFERROR(IF(D3370=\"\",\"\",INDEX(Entradas!$H$3:$H$5000,MATCH(A3370,IF(Entradas!$B$3:$B$5000=D3370,Entradas!$A$3:$A$5000),1))),\"Preço não registrado\")","v":""},"",null,null,"",""]
[null,null,"",null,"","",null,{"$f":"IFERROR(IF(D3371=\"\",\"\",INDEX(Entradas!$H$3:$H$5000,MATCH(A3371,IF(Entradas!$B$3:$B$5000=D3371,Entradas!$A$3:$A$5000),1))),\"Preço não registrado\")","v":""},"",null,null,"",""]
[null,null,"",null,"","",null,{"$f":"IFERROR(IF(D3372=\"\",\"\",INDEX(Entradas!$H$3:$H$5000,MATCH(A3372,IF(Entradas!$B$3:$B$5000=D3372,Entradas!$A$3:$A$5000),1))),\"Preço não registrado\")","v":""},"",null,null,"",""]
[null,null,"",null,"","",null,{"$f":"IFERROR(IF(D3373=\"\",\"\",INDEX(Entradas!$H$3:$H$5000,MATCH(A3373,IF(Entradas!$B$3:$B$5000=D3373,Entradas!$A$3:$A$5000),1))),\"Preço não registrado\")","v":""},"",null,null,"",""]
[null,null,"",null,"","",null,{"$f":"IFERROR(IF(D3374=\"\",\"\",INDEX(Entradas!$H$3:$H$5000,MATCH(A3374,IF(Entradas!$B$3:$B$5000=D3374,Entradas!$A$3:$A$5000),1))),\"Preço não registrado\")","v":""},"",null,null,"",""]
[null,null,"",null,"","",null,{"$f":"IFERROR(IF(D3375=\"\",\"\",INDEX(Entradas!$H$3:$H$5000,MATCH(A3375,IF(Entradas!$B$3:$B$5000=D3375,Entradas!$A$3:$A$5000),1))),\"Preço não registrado\")","v":""},"",null,null,"",""]
[null,null,"",null,"","",null,{"$f":"IFERROR(IF(D3376=\"\",\"\",INDEX(Entradas!$H$3:$H$5000,MATCH(A3376,IF(Entradas!$B$3:$B$5000=D3376,Entradas!$A$3:$A$5000),1))),\"Preço não registrado\")","v":""},"",null,null,"",""]
[null,null,"",null,"","",null,{"$f":"IFERROR(IF(D3377=\"\",\"\",INDEX(Entradas!$H$3:$H$5000,MATCH(A3377,IF(Entradas!$B$3:$B$5000=D3377,Entradas!$A$3:$A$5000),1))),\"Preço não registrado\")","v":""},"",null,null,"",""]
[null,null,"",null,"","",null,{"$f":"IFERROR(IF(D3378=\"\",\"\",INDEX(Entradas!$H$3:$H$5000,MATCH(A3378,IF(Entradas!$B$3:$B$5000=D3378,Entradas!$A$3:$A$5000),1))),\"Preço não registrado\")","v":""},"",null,null,"",""]
[null,null,"",null,"","",null,{"$f":"IFERROR(IF(D3379=\"\",\"\",INDEX(Entradas!$H$3:$H$5000,MATCH(A3379,IF(Entradas!$B$3:$B$5000=D3379,Entradas!$A$3:$A$5000),1))),\"Preço não registrado\")","v":""},"",null,null,"",""]
[null,null,"",null,"","",null,{"$f":"IFERROR(IF(D3380=\"\",\"\",INDEX(Entradas!$H$3:$H$5000,MATCH(A3380,IF(Entradas!$B$3:$B$5000=D3380,Entradas!$A$3:$A$5000),1))),\"Preço não registrado\")","v":""},"",null,null,"",""]
[null,null,"",null,"","",null,{"$f":"IFERROR(IF(D3381=\"\",\"\",INDEX(Entradas!$H$3:$H$5000,MATCH(A3381,IF(Entradas!$B$3:$B$5000=D3381,Entradas!$A$3:$A$5000),1))),\"Preço não registrado\")","v":""},"",null,null,"",""]
[null,null,"",null,"","",null,{"$f":"IFERROR(IF(D3382=\"\",\"\",INDEX(Entradas!$H$3:$H$5000,MATCH(A3382,IF(Entradas!$B$3:$B$5000=D3382,Entradas!$A$3:$A$5000),1))),\"Preço não registrado\")","v":""},"",null,null,"",""]
[null,null,"",null,"","",null,{"$f":"IFERROR(IF(D3383=\"\",\"\",INDEX(Entradas!$H$3:$H$5000,MATCH(A3383,IF(Entradas!$B$3:$B$5000=D3383,Entradas!$A$3:$A$5000),1))),\"Preço não registrado\")","v":""},"",null,null,"",""]
[null,null,"",null,"","",null,{"$f":"IFERROR(IF(D3384=\"\",\"\",INDEX(Entradas!$H$3:$H$5000,MATCH(A3384,IF(Entradas!$B$3:$B$5000=D3384,Entradas!$A$3:$A$5000),1))),\"Preço não registrado\")","v":""},"",null,null,"",""]
[null,null,"",null,"","",null,{"$f":"IFERROR(IF(D3385=\"\",\"\",INDEX(Entradas!$H$3:$H$5000,MATCH(A3385,IF(Entradas!$B$3:$B$5000=D3385,Entradas!$A$3:$A$5000),1))),\"Preço não registrado\")","v":""},"",null,null,"",""]
[null,null,"",null,"","",null,{"$f":"IFERROR(IF(D3386=\"\",\"\",INDEX(Entradas!$H$3:$H$5000,MATCH(A3386,IF(Entradas!$B$3:$B$5000=D3386,Entradas!$A$3:$A$5000),1))),\"Preço não registrado\")","v":""},"",null,null,"",""]
[null,null,"",null,"","",null,{"$f":"IFERROR(IF(D3387=\"\",\"\",INDEX(Entradas!$H$3:$H$5000,MATCH(A3387,IF(Entradas!$B$3:$B$5000=D3387,Entradas!$A$3:$A$5000),1))),\"Preço não registrado\")","v":""},"",null,null,"",""]
[null,null,"",null,"","",null,{"$f":"IFERROR(IF(D3388=\"\",\"\",INDEX(Entradas!$H$3:$H$5000,MATCH(A3388,IF(Entradas!$B$3:$B$5000=D3388,Entradas!$A$3:$A$5000),1))),\"Preço não registrado\")","v":""},"",null,null,"",""]
[null,null,"",null,"","",null,{"$f":"IFERROR(IF(D3389=\"\",\"\",INDEX(Entradas!$H$3:$H$5000,MATCH(A3389,IF(Entradas!$B$3:$B$5000=D3389,Entradas!$A$3:$A$5000),1))),\"Preço não registrado\")","v":""},"",null,null,"",""]
[null,null,"",null,"","",null,{"$f":"IFERROR(IF(D3390=\"\",\"\",INDEX(Entradas!$H$3:$H$5000,MATCH(A3390,IF(Entradas!$B$3:$B$5000=D3390,Entradas!$A$3:$A$5000),1))),\"Preço não registrado\")","v":""},"",null,null,"",""]
[null,null,"",null,"","",null,{"$f":"IFERROR(IF(D3391=\"\",\"\",INDEX(Entradas!$H$3:$H$5000,MATCH(A3391,IF(Entradas!$B$3:$B$5000=D3391,Entradas!$A$3:$A$5000),1))),\"Preço não registrado\")","v":""},"",null,null,"",""]
[null,null,"",null,"","",null,{"$f":"IFERROR(IF(D3392=\"\",\"\",INDEX(Entradas!$H$3:$H$5000,MATCH(A3392,IF(Entradas!$B$3:$B$5000=D3392,Entradas!$A$3:$A$5000),1))),\"Preço não registrado\")","v":""},"",null,null,"",""]
[null,null,"",null,"","",null,{"$f":"IFERROR(IF(D3393=\"\",\"\",INDEX(Entradas!$H$3:$H$5000,MATCH(A3393,IF(Entradas!$B$3:$B$5000=D3393,Entradas!$A$3:$A$5000),1))),\"Preço não registrado\")","v":""},"",null,null,"",""]
[null,null,"",null,"","",null,{"$f":"IFERROR(IF(D3394=\"\",\"\",INDEX(Entradas!$H$3:$H$5000,MATCH(A3394,IF(Entradas!$B$3:$B$5000=D3394,Entradas!$A$3:$A$5000),1))),\"Preço não registrado\")","v":""},"",null,null,"",""]
[null,null,{"$f":"IFERROR(IF(B3395=\"\",\"\",VLOOKUP(B3395,Clientes,2,FALSE)),\"\")","v":""},null,{"$f":"IF(D3395=\"\",\"\",VLOOKUP(D3395,Itens,2,FALSE))","v":""},{"$f":"IF(D3395=\"\",\"\",VLOOKUP(D3395,Itens,3,FALSE))","v":""},null,{"$f":"IFERROR(IF(D3395=\"\",\"\",INDEX(Entradas!$H$3:$H$5000,MATCH(A3395,IF(Entradas!$B$3:$B$5000=D3395,Entradas!$A$3:$A$5000),1))),\"Preço não registrado\")","v":""},"",null,null,"",""]
[null,null,"",null,"","",null,{"$f":"IFERROR(IF(D3396=\"\",\"\",INDEX(Entradas!$H$3:$H$5000,MATCH(A3396,IF(Entradas!$B$3:$B$5000=D3396,Entradas!$A$3:$A$5000),1))),\"Preço não registrado\")","v":""},{"$f":"IFERROR(G3396*H3396,\"\")","v":""},null,null,{"$f":"IF(K3396=\"\",\"\",HYPERLINK($P$13&K3396,\"Rastreie aqui\"))","v":""},{"$f":"IF(A3396=\"\",\"\",TEXT(A3396,\"mmmm\"))","v":""}]
[null,null,"",null,"","",null,{"$f":"IFERROR(IF(D3397=\"\",\"\",INDEX(Entradas!$H$3:$H$5000,MATCH(A3397,IF(Entradas!$B$3:$B$5000=D3397,Entradas!$A$3:$A$5000),1))),\"Preço não registrado\")","v":""},"",null,null,"",""]
[null,null,"",null,"","",null,{"$f":"IFERROR(IF(D3398=\"\",\"\",INDEX(Entradas!$H$3:$H$5000,MATCH(A3398,IF(Entradas!$B$3:$B$5000=D3398,Entradas!$A$3:$A$5000),1))),\"Preço não registrado\")","v":""},"",null,null,"",""]
[null,null,"",null,"","",null,{"$f":"IFERROR(IF(D3399=\"\",\"\",INDEX(Entradas!$H$3:$H$5000,MATCH(A3399,IF(Entradas!$B$3:$B$5000=D3399,Entradas!$A$3:$A$5000),1))),\"Preço não registrado\")","v":""},"",null,null,"",""]
[null,null,"",null,"","",null,{"$f":"IFERROR(IF(D3400=\"\",\"\",INDEX(Entradas!$H$3:$H$5000,MATCH(A3400,IF(Entradas!$B$3:$B$5000=D3400,Entradas!$A$3:$A$5000),1))),\"Preço não registrado\")","v":""},"",null,null,"",""]
[null,null,"",null,"","",null,{"$f":"IFERROR(IF(D3401=\"\",\"\",INDEX(Entradas!$H$3:$H$5000,MATCH(A3401,IF(Entradas!$B$3:$B$5000=D3401,Entradas!$A$3:$A$5000),1))),\"Preço não registrado\")","v":""},"",null,null,"",""]
[null,null,"",null,"","",null,{"$f":"IFERROR(IF(D3402=\"\",\"\",INDEX(Entradas!$H$3:$H$5000,MATCH(A3402,IF(Entradas!$B$3:$B$5000=D3402,Entradas!$A$3:$A$5000),1))),\"Preço não registrado\")","v":""},"",null,null,"",""]
[null,null,"",null,"","",null,{"$f":"IFERROR(IF(D3403=\"\",\"\",INDEX(Entradas!$H$3:$H$5000,MATCH(A3403,IF(Entradas!$B$3:$B$5000=D3403,Entradas!$A$3:$A$5000),1))),\"Preço não registrado\")","v":""},"",null,null,"",""]
[null,null,"",null,"","",null,{"$f":"IFERROR(IF(D3404=\"\",\"\",INDEX(Entradas!$H$3:$H$5000,MATCH(A3404,IF(Entradas!$B$3:$B$5000=D3404,Entradas!$A$3:$A$5000),1))),\"Preço não registrado\")","v":""},"",null,null,"",""]
[null,null,"",null,"","",null,{"$f":"IFERROR(IF(D3405=\"\",\"\",INDEX(Entradas!$H$3:$H$5000,MATCH(A3405,IF(Entradas!$B$3:$B$5000=D3405,Entradas!$A$3:$A$5000),1))),\"Preço não registrado\")","v":""},"",null,null,"",""]
[null,null,"",null,"","",null,{"$f":"IFERROR(IF(D3406=\"\",\"\",INDEX(Entradas!$H$3:$H$5000,MATCH(A3406,IF(Entradas!$B$3:$B$5000=D3406,Entradas!$A$3:$A$5000),1))),\"Preço não registrado\")","v":""},"",null,null,"",""]
[null,null,"",null,"","",null,{"$f":"IFERROR(IF(D3407=\"\",\"\",INDEX(Entradas!$H$3:$H$5000,MATCH(A3407,IF(Entradas!$B$3:$B$5000=D3407,Entradas!$A$3:$A$5000),1))),\"Preço não registrado\")","v":""},"",null,null,"",""]
[null,null,"",null,"","",null,{"$f":"IFERROR(IF(D3408=\"\",\"\",INDEX(Entradas!$H$3:$H$5000,MATCH(A3408,IF(Entradas!$B$3:$B$5000=D3408,Entradas!$A$3:$A$5000),1))),\"Preço não registrado\")","v":""},"",null,null,"",""]
[null,null,"",null,"","",null,{"$f":"IFERROR(IF(D3409=\"\",\"\",INDEX(Entradas!$H$3:$H$5000,MATCH(A3409,IF(Entradas!$B$3:$B$5000=D3409,Entradas!$A$3:$A$5000),1))),\"Preço não registrado\")","v":""},"",null,null,"",""]
[null,null,"",null,"","",null,{"$f":"IFERROR(IF(D3410=\"\",\"\",INDEX(Entradas!$H$3:$H$5000,MATCH(A3410,IF(Entradas!$B$3:$B$5000=D3410,Entradas!$A$3:$A$5000),1))),\"Preço não registrado\")","v":""},"",null,null,"",""]
[null,null,"",null,"","",null,{"$f":"IFERROR(IF(D3411=\"\",\"\",INDEX(Entradas!$H$3:$H$5000,MATCH(A3411,IF(Entradas!$B$3:$B$5000=D3411,Entradas!$A$3:$A$5000),1))),\"Preço não registrado\")","v":""},"",null,null,"",""]
[null,null,"",null,"","",null,{"$f":"IFERROR(IF(D3412=\"\",\"\",INDEX(Entradas!$H$3:$H$5000,MATCH(A3412,IF(Entradas!$B$3:$B$5000=D3412,Entradas!$A$3:$A$5000),1))),\"Preço não registrado\")","v":""},"",null,null,"",""]
[null,null,"",null,"","",null,{"$f":"IFERROR(IF(D3413=\"\",\"\",INDEX(Entradas!$H$3:$H$5000,MATCH(A3413,IF(Entradas!$B$3:$B$5000=D3413,Entradas!$A$3:$A$5000),1))),\"Preço não registrado\")","v":""},"",null,null,"",""]
[null,null,"",null,"","",null,{"$f":"IFERROR(IF(D3414=\"\",\"\",INDEX(Entradas!$H$3:$H$5000,MATCH(A3414,IF(Entradas!$B$3:$B$5000=D3414,Entradas!$A$3:$A$5000),1))),\"Preço não registrado\")","v":""},"",null,null,"",""]
[null,null,"",null,"","",null,{"$f":"IFERROR(IF(D3415=\"\",\"\",INDEX(Entradas!$H$3:$H$5000,MATCH(A3415,IF(Entradas!$B$3:$B$5000=D3415,Entradas!$A$3:$A$5000),1))),\"Preço não registrado\")","v":""},"",null,null,"",""]
[null,null,"",null,"","",null,{"$f":"IFERROR(IF(D3416=\"\",\"\",INDEX(Entradas!$H$3:$H$5000,MATCH(A3416,IF(Entradas!$B$3:$B$5000=D3416,Entradas!$A$3:$A$5000),1))),\"Preço não registrado\")","v":""},"",null,null,"",""]
[null,null,"",null,"","",null,{"$f":"IFERROR(IF(D3417=\"\",\"\",INDEX(Entradas!$H$3:$H$5000,MATCH(A3417,IF(Entradas!$B$3:$B$5000=D3417,Entradas!$A$3:$A$5000),1))),\"Preço não registrado\")","v":""},"",null,null,"",""]
[null,null,"",null,"","",null,{"$f":"IFERROR(IF(D3418=\"\",\"\",INDEX(Entradas!$H$3:$H$5000,MATCH(A3418,IF(Entradas!$B$3:$B$5000=D3418,Entradas!$A$3:$A$5000),1))),\"Preço não registrado\")","v":""},"",null,null,"",""]
[null,null,"",null,"","",null,{"$f":"IFERROR(IF(D3419=\"\",\"\",INDEX(Entradas!$H$3:$H$5000,MATCH(A3419,IF(Entradas!$B$3:$B$5000=D3419,Entradas!$A$3:$A$5000),1))),\"Preço não registrado\")","v":""},"",null,null,"",""]
[null,null,"",null,"","",null,{"$f":"IFERROR(IF(D3420=\"\",\"\",INDEX(Entradas!$H$3:$H$5000,MATCH(A3420,IF(Entradas!$B$3:$B$5000=D3420,Entradas!$A$3:$A$5000),1))),\"Preço não registrado\")","v":""},"",null,null,"",""]
[null,null,"",null,"","",null,{"$f":"IFERROR(IF(D3421=\"\",\"\",INDEX(Entradas!$H$3:$H$5000,MATCH(A3421,IF(Entradas!$B$3:$B$5000=D3421,Entradas!$A$3:$A$5000),1))),\"Preço não registrado\")","v":""},"",null,null,"",""]
[null,null,"",null,"","",null,{"$f":"IFERROR(IF(D3422=\"\",\"\",INDEX(Entradas!$H$3:$H$5000,MATCH(A3422,IF(Entradas!$B$3:$B$5000=D3422,Entradas!$A$3:$A$5000),1))),\"Preço não registrado\")","v":""},"",null,null,"",""]
[null,null,"",null,"","",null,{"$f":"IFERROR(IF(D3423=\"\",\"\",INDEX(Entradas!$H$3:$H$5000,MATCH(A3423,IF(Entradas!$B$3:$B$5000=D3423,Entradas!$A$3:$A$5000),1))),\"Preço não registrado\")","v":""},"",null,null,"",""]
[null,null,"",null,"","",null,{"$f":"IFERROR(IF(D3424=\"\",\"\",INDEX(Entradas!$H$3:$H$5000,MATCH(A3424,IF(Entradas!$B$3:$B$5000=D3424,Entradas!$A$3:$A$5000),1))),\"Preço não registrado\")","v":""},"",null,null,"",""]
[null,null,"",null,"","",null,{"$f":"IFERROR(IF(D3425=\"\",\"\",INDEX(Entradas!$H$3:$H$5000,MATCH(A3425,IF(Entradas!$B$3:$B$5000=D3425,Entradas!$A$3:$A$5000),1))),\"Preço não registrado\")","v":""},"",null,null,"",""]
[null,null,"",null,"","",null,{"$f":"IFERROR(IF(D3426=\"\",\"\",INDEX(Entradas!$H$3:$H$5000,MATCH(A3426,IF(Entradas!$B$3:$B$5000=D3426,Entradas!$A$3:$A$5000),1))),\"Preço não registrado\")","v":""},"",null,null,"",""]
[null,null,"",null,"","",null,{"$f":"IFERROR(IF(D3427=\"\",\"\",INDEX(Entradas!$H$3:$H$5000,MATCH(A3427,IF(Entradas!$B$3:$B$5000=D3427,Entradas!$A$3:$A$5000),1))),\"Preço não registrado\")","v":""},"",null,null,"",""]
[null,null,"",null,"","",null,{"$f":"IFERROR(IF(D3428=\"\",\"\",INDEX(Entradas!$H$3:$H$5000,MATCH(A3428,IF(Entradas!$B$3:$B$5000=D3428,Entradas!$A$3:$A$5000),1))),\"Preço não registrado\")","v":""},"",null,null,"",""]
[null,null,"",null,"","",null,{"$f":"IFERROR(IF(D3429=\"\",\"\",INDEX(Entradas!$H$3:$H$5000,MATCH(A3429,IF(Entradas!$B$3:$B$5000=D3429,Entradas!$A$3:$A$5000),1))),\"Preço não registrado\")","v":""},"",null,null,"",""]
[null,null,"",null,"","",null,{"$f":"IFERROR(IF(D3430=\"\",\"\",INDEX(Entradas!$H$3:$H$5000,MATCH(A3430,IF(Entradas!$B$3:$B$5000=D3430,Entradas!$A$3:$A$5000),1))),\"Preço não registrado\")","v":""},"",null,null,"",""]
[null,null,"",null,"","",null,{"$f":"IFERROR(IF(D3431=\"\",\"\",INDEX(Entradas!$H$3:$H$5000,MATCH(A3431,IF(Entradas!$B$3:$B$5000=D3431,Entradas!$A$3:$A$5000),1))),\"Preço não registrado\")","v":""},"",null,null,"",""]
[null,null,"",null,"","",null,{"$f":"IFERROR(IF(D3432=\"\",\"\",INDEX(Entradas!$H$3:$H$5000,MATCH(A3432,IF(Entradas!$B$3:$B$5000=D3432,Entradas!$A$3:$A$5000),1))),\"Preço não registrado\")","v":""},"",null,null,"",""]
[null,null,"",null,"","",null,{"$f":"IFERROR(IF(D3433=\"\",\"\",INDEX(Entradas!$H$3:$H$5000,MATCH(A3433,IF(Entradas!$B$3:$B$5000=D3433,Entradas!$A$3:$A$5000),1))),\"Preço não registrado\")","v":""},"",null,null,"",""]
[null,null,"",null,"","",null,{"$f":"IFERROR(IF(D3434=\"\",\"\",INDEX(Entradas!$H$3:$H$5000,MATCH(A3434,IF(Entradas!$B$3:$B$5000=D3434,Entradas!$A$3:$A$5000),1))),\"Preço não registrado\")","v":""},"",null,null,"",""]
[null,null,"",null,"","",null,{"$f":"IFERROR(IF(D3435=\"\",\"\",INDEX(Entradas!$H$3:$H$5000,MATCH(A3435,IF(Entradas!$B$3:$B$5000=D3435,Entradas!$A$3:$A$5000),1))),\"Preço não registrado\")","v":""},"",null,null,"",""]
[null,null,"",null,"","",null,{"$f":"IFERROR(IF(D3436=\"\",\"\",INDEX(Entradas!$H$3:$H$5000,MATCH(A3436,IF(Entradas!$B$3:$B$5000=D3436,Entradas!$A$3:$A$5000),1))),\"Preço não registrado\")","v":""},"",null,null,"",""]
[null,null,"",null,"","",null,{"$f":"IFERROR(IF(D3437=\"\",\"\",INDEX(Entradas!$H$3:$H$5000,MATCH(A3437,IF(Entradas!$B$3:$B$5000=D3437,Entradas!$A$3:$A$5000),1))),\"Preço não registrado\")","v":""},"",null,null,"",""]
[null,null,"",null,"","",null,{"$f":"IFERROR(IF(D3438=\"\",\"\",INDEX(Entradas!$H$3:$H$5000,MATCH(A3438,IF(Entradas!$B$3:$B$5000=D3438,Entradas!$A$3:$A$5000),1))),\"Preço não registrado\")","v":""},"",null,null,"",""]
[null,null,"",null,"","",null,{"$f":"IFERROR(IF(D3439=\"\",\"\",INDEX(Entradas!$H$3:$H$5000,MATCH(A3439,IF(Entradas!$B$3:$B$5000=D3439,Entradas!$A$3:$A$5000),1))),\"Preço não registrado\")","v":""},"",null,null,"",""]
[null,null,"",null,"","",null,{"$f":"IFERROR(IF(D3440=\"\",\"\",INDEX(Entradas!$H$3:$H$5000,MATCH(A3440,IF(Entradas!$B$3:$B$5000=D3440,Entradas!$A$3:$A$5000),1))),\"Preço não registrado\")","v":""},"",null,null,"",""]
[null,null,"",null,"","",null,{"$f":"IFERROR(IF(D3441=\"\",\"\",INDEX(Entradas!$H$3:$H$5000,MATCH(A3441,IF(Entradas!$B$3:$B$5000=D3441,Entradas!$A$3:$A$5000),1))),\"Preço não registrado\")","v":""},"",null,null,"",""]
[null,null,"",null,"","",null,{"$f":"IFERROR(IF(D3442=\"\",\"\",INDEX(Entradas!$H$3:$H$5000,MATCH(A3442,IF(Entradas!$B$3:$B$5000=D3442,Entradas!$A$3:$A$5000),1))),\"Preço não registrado\")","v":""},"",null,null,"",""]
[null,null,"",null,"","",null,{"$f":"IFERROR(IF(D3443=\"\",\"\",INDEX(Entradas!$H$3:$H$5000,MATCH(A3443,IF(Entradas!$B$3:$B$5000=D3443,Entradas!$A$3:$A$5000),1))),\"Preço não registrado\")","v":""},"",null,null,"",""]
[null,null,"",null,"","",null,{"$f":"IFERROR(IF(D3444=\"\",\"\",INDEX(Entradas!$H$3:$H$5000,MATCH(A3444,IF(Entradas!$B$3:$B$5000=D3444,Entradas!$A$3:$A$5000),1))),\"Preço não registrado\")","v":""},"",null,null,"",""]
[null,null,"",null,"","",null,{"$f":"IFERROR(IF(D3445=\"\",\"\",INDEX(Entradas!$H$3:$H$5000,MATCH(A3445,IF(Entradas!$B$3:$B$5000=D3445,Entradas!$A$3:$A$5000),1))),\"Preço não registrado\")","v":""},"",null,null,"",""]
[null,null,"",null,"","",null,{"$f":"IFERROR(IF(D3446=\"\",\"\",INDEX(Entradas!$H$3:$H$5000,MATCH(A3446,IF(Entradas!$B$3:$B$5000=D3446,Entradas!$A$3:$A$5000),1))),\"Preço não registrado\")","v":""},"",null,null,"",""]
[null,null,"",null,"","",null,{"$f":"IFERROR(IF(D3447=\"\",\"\",INDEX(Entradas!$H$3:$H$5000,MATCH(A3447,IF(Entradas!$B$3:$B$5000=D3447,Entradas!$A$3:$A$5000),1))),\"Preço não registrado\")","v":""},"",null,null,"",""]
[null,null,"",null,"","",null,{"$f":"IFERROR(IF(D3448=\"\",\"\",INDEX(Entradas!$H$3:$H$5000,MATCH(A3448,IF(Entradas!$B$3:$B$5000=D3448,Entradas!$A$3:$A$5000),1))),\"Preço não registrado\")","v":""},"",null,null,"",""]
[null,null,"",null,"","",null,{"$f":"IFERROR(IF(D3449=\"\",\"\",INDEX(Entradas!$H$3:$H$5000,MATCH(A3449,IF(Entradas!$B$3:$B$5000=D3449,Entradas!$A$3:$A$5000),1))),\"Preço não registrado\")","v":""},"",null,null,"",""]
[null,null,"",null,"","",null,{"$f":"IFERROR(IF(D3450=\"\",\"\",INDEX(Entradas!$H$3:$H$5000,MATCH(A3450,IF(Entradas!$B$3:$B$5000=D3450,Entradas!$A$3:$A$5000),1))),\"Preço não registrado\")","v":""},"",null,null,"",""]
[null,null,"",null,"","",null,{"$f":"IFERROR(IF(D3451=\"\",\"\",INDEX(Entradas!$H$3:$H$5000,MATCH(A3451,IF(Entradas!$B$3:$B$5000=D3451,Entradas!$A$3:$A$5000),1))),\"Preço não registrado\")","v":""},"",null,null,"",""]
[null,null,"",null,"","",null,{"$f":"IFERROR(IF(D3452=\"\",\"\",INDEX(Entradas!$H$3:$H$5000,MATCH(A3452,IF(Entradas!$B$3:$B$5000=D3452,Entradas!$A$3:$A$5000),1))),\"Preço não registrado\")","v":""},"",null,null,"",""]
[null,null,"",null,"","",null,{"$f":"IFERROR(IF(D3453=\"\",\"\",INDEX(Entradas!$H$3:$H$5000,MATCH(A3453,IF(Entradas!$B$3:$B$5000=D3453,Entradas!$A$3:$A$5000),1))),\"Preço não registrado\")","v":""},"",null,null,"",""]
[null,null,"",null,"","",null,{"$f":"IFERROR(IF(D3454=\"\",\"\",INDEX(Entradas!$H$3:$H$5000,MATCH(A3454,IF(Entradas!$B$3:$B$5000=D3454,Entradas!$A$3:$A$5000),1))),\"Preço não registrado\")","v":""},"",null,null,"",""]
[null,null,"",null,"","",null,{"$f":"IFERROR(IF(D3455=\"\",\"\",INDEX(Entradas!$H$3:$H$5000,MATCH(A3455,IF(Entradas!$B$3:$B$5000=D3455,Entradas!$A$3:$A$5000),1))),\"Preço não registrado\")","v":""},"",null,null,"",""]
[null,null,"",null,"","",null,{"$f":"IFERROR(IF(D3456=\"\",\"\",INDEX(Entradas!$H$3:$H$5000,MATCH(A3456,IF(Entradas!$B$3:$B$5000=D3456,Entradas!$A$3:$A$5000),1))),\"Preço não registrado\")","v":""},"",null,null,"",""]
[null,null,"",null,"","",null,{"$f":"IFERROR(IF(D3457=\"\",\"\",INDEX(Entradas!$H$3:$H$5000,MATCH(A3457,IF(Entradas!$B$3:$B$5000=D3457,Entradas!$A$3:$A$5000),1))),\"Preço não registrado\")","v":""},"",null,null,"",""]
[null,null,"",null,"","",null,{"$f":"IFERROR(IF(D3458=\"\",\"\",INDEX(Entradas!$H$3:$H$5000,MATCH(A3458,IF(Entradas!$B$3:$B$5000=D3458,Entradas!$A$3:$A$5000),1))),\"Preço não registrado\")","v":""},"",null,null,"",""]
[null,null,{"$f":"IFERROR(IF(B3459=\"\",\"\",VLOOKUP(B3459,Clientes,2,FALSE)),\"\")","v":""},null,{"$f":"IF(D3459=\"\",\"\",VLOOKUP(D3459,Itens,2,FALSE))","v":""},{"$f":"IF(D3459=\"\",\"\",VLOOKUP(D3459,Itens,3,FALSE))","v":""},null,{"$f":"IFERROR(IF(D3459=\"\",\"\",INDEX(Entradas!$H$3:$H$5000,MATCH(A3459,IF(Entradas!$B$3:$B$5000=D3459,Entradas!$A$3:$A$5000),1))),\"Preço não registrado\")","v":""},"",null,null,"",""]
[null,null,"",null,"","",null,{"$f":"IFERROR(IF(D3460=\"\",\"\",INDEX(Entradas!$H$3:$H$5000,MATCH(A3460,IF(Entradas!$B$3:$B$5000=D3460,Entradas!$A$3:$A$5000),1))),\"Preço não registrado\")","v":""},{"$f":"IFERROR(G3460*H3460,\"\")","v":""},null,null,{"$f":"IF(K3460=\"\",\"\",HYPERLINK($P$13&K3460,\"Rastreie aqui\"))","v":""},{"$f":"IF(A3460=\"\",\"\",TEXT(A3460,\"mmmm\"))","v":""}]
[null,null,"",null,"","",null,{"$f":"IFERROR(IF(D3461=\"\",\"\",INDEX(Entradas!$H$3:$H$5000,MATCH(A3461,IF(Entradas!$B$3:$B$5000=D3461,Entradas!$A$3:$A$5000),1))),\"Preço não registrado\")","v":""},"",null,null,"",""]
[null,null,"",null,"","",null,{"$f":"IFERROR(IF(D3462=\"\",\"\",INDEX(Entradas!$H$3:$H$5000,MATCH(A3462,IF(Entradas!$B$3:$B$5000=D3462,Entradas!$A$3:$A$5000),1))),\"Preço não registrado\")","v":""},"",null,null,"",""]
[null,null,"",null,"","",null,{"$f":"IFERROR(IF(D3463=\"\",\"\",INDEX(Entradas!$H$3:$H$5000,MATCH(A3463,IF(Entradas!$B$3:$B$5000=D3463,Entradas!$A$3:$A$5000),1))),\"Preço não registrado\")","v":""},"",null,null,"",""]
[null,null,"",null,"","",null,{"$f":"IFERROR(IF(D3464=\"\",\"\",INDEX(Entradas!$H$3:$H$5000,MATCH(A3464,IF(Entradas!$B$3:$B$5000=D3464,Entradas!$A$3:$A$5000),1))),\"Preço não registrado\")","v":""},"",null,null,"",""]
[null,null,"",null,"","",null,{"$f":"IFERROR(IF(D3465=\"\",\"\",INDEX(Entradas!$H$3:$H$5000,MATCH(A3465,IF(Entradas!$B$3:$B$5000=D3465,Entradas!$A$3:$A$5000),1))),\"Preço não registrado\")","v":""},"",null,null,"",""]
[null,null,"",null,"","",null,{"$f":"IFERROR(IF(D3466=\"\",\"\",INDEX(Entradas!$H$3:$H$5000,MATCH(A3466,IF(Entradas!$B$3:$B$5000=D3466,Entradas!$A$3:$A$5000),1))),\"Preço não registrado\")","v":""},"",null,null,"",""]
[null,null,"",null,"","",null,{"$f":"IFERROR(IF(D3467=\"\",\"\",INDEX(Entradas!$H$3:$H$5000,MATCH(A3467,IF(Entradas!$B$3:$B$5000=D3467,Entradas!$A$3:$A$5000),1))),\"Preço não registrado\")","v":""},"",null,null,"",""]
[null,null,"",null,"","",null,{"$f":"IFERROR(IF(D3468=\"\",\"\",INDEX(Entradas!$H$3:$H$5000,MATCH(A3468,IF(Entradas!$B$3:$B$5000=D3468,Entradas!$A$3:$A$5000),1))),\"Preço não registrado\")","v":""},"",null,null,"",""]
[null,null,"",null,"","",null,{"$f":"IFERROR(IF(D3469=\"\",\"\",INDEX(Entradas!$H$3:$H$5000,MATCH(A3469,IF(Entradas!$B$3:$B$5000=D3469,Entradas!$A$3:$A$5000),1))),\"Preço não registrado\")","v":""},"",null,null,"",""]
[null,null,"",null,"","",null,{"$f":"IFERROR(IF(D3470=\"\",\"\",INDEX(Entradas!$H$3:$H$5000,MATCH(A3470,IF(Entradas!$B$3:$B$5000=D3470,Entradas!$A$3:$A$5000),1))),\"Preço não registrado\")","v":""},"",null,null,"",""]
[null,null,"",null,"","",null,{"$f":"IFERROR(IF(D3471=\"\",\"\",INDEX(Entradas!$H$3:$H$5000,MATCH(A3471,IF(Entradas!$B$3:$B$5000=D3471,Entradas!$A$3:$A$5000),1))),\"Preço não registrado\")","v":""},"",null,null,"",""]
[null,null,"",null,"","",null,{"$f":"IFERROR(IF(D3472=\"\",\"\",INDEX(Entradas!$H$3:$H$5000,MATCH(A3472,IF(Entradas!$B$3:$B$5000=D3472,Entradas!$A$3:$A$5000),1))),\"Preço não registrado\")","v":""},"",null,null,"",""]
[null,null,"",null,"","",null,{"$f":"IFERROR(IF(D3473=\"\",\"\",INDEX(Entradas!$H$3:$H$5000,MATCH(A3473,IF(Entradas!$B$3:$B$5000=D3473,Entradas!$A$3:$A$5000),1))),\"Preço não registrado\")","v":""},"",null,null,"",""]
[null,null,"",null,"","",null,{"$f":"IFERROR(IF(D3474=\"\",\"\",INDEX(Entradas!$H$3:$H$5000,MATCH(A3474,IF(Entradas!$B$3:$B$5000=D3474,Entradas!$A$3:$A$5000),1))),\"Preço não registrado\")","v":""},"",null,null,"",""]
[null,null,"",null,"","",null,{"$f":"IFERROR(IF(D3475=\"\",\"\",INDEX(Entradas!$H$3:$H$5000,MATCH(A3475,IF(Entradas!$B$3:$B$5000=D3475,Entradas!$A$3:$A$5000),1))),\"Preço não registrado\")","v":""},"",null,null,"",""]
[null,null,"",null,"","",null,{"$f":"IFERROR(IF(D3476=\"\",\"\",INDEX(Entradas!$H$3:$H$5000,MATCH(A3476,IF(Entradas!$B$3:$B$5000=D3476,Entradas!$A$3:$A$5000),1))),\"Preço não registrado\")","v":""},"",null,null,"",""]
[null,null,"",null,"","",null,{"$f":"IFERROR(IF(D3477=\"\",\"\",INDEX(Entradas!$H$3:$H$5000,MATCH(A3477,IF(Entradas!$B$3:$B$5000=D3477,Entradas!$A$3:$A$5000),1))),\"Preço não registrado\")","v":""},"",null,null,"",""]
[null,null,"",null,"","",null,{"$f":"IFERROR(IF(D3478=\"\",\"\",INDEX(Entradas!$H$3:$H$5000,MATCH(A3478,IF(Entradas!$B$3:$B$5000=D3478,Entradas!$A$3:$A$5000),1))),\"Preço não registrado\")","v":""},"",null,null,"",""]
[null,null,"",null,"","",null,{"$f":"IFERROR(IF(D3479=\"\",\"\",INDEX(Entradas!$H$3:$H$5000,MATCH(A3479,IF(Entradas!$B$3:$B$5000=D3479,Entradas!$A$3:$A$5000),1))),\"Preço não registrado\")","v":""},"",null,null,"",""]
[null,null,"",null,"","",null,{"$f":"IFERROR(IF(D3480=\"\",\"\",INDEX(Entradas!$H$3:$H$5000,MATCH(A3480,IF(Entradas!$B$3:$B$5000=D3480,Entradas!$A$3:$A$5000),1))),\"Preço não registrado\")","v":""},"",null,null,"",""]
[null,null,"",null,"","",null,{"$f":"IFERROR(IF(D3481=\"\",\"\",INDEX(Entradas!$H$3:$H$5000,MATCH(A3481,IF(Entradas!$B$3:$B$5000=D3481,Entradas!$A$3:$A$5000),1))),\"Preço não registrado\")","v":""},"",null,null,"",""]
[null,null,"",null,"","",null,{"$f":"IFERROR(IF(D3482=\"\",\"\",INDEX(Entradas!$H$3:$H$5000,MATCH(A3482,IF(Entradas!$B$3:$B$5000=D3482,Entradas!$A$3:$A$5000),1))),\"Preço não registrado\")","v":""},"",null,null,"",""]
[null,null,"",null,"","",null,{"$f":"IFERROR(IF(D3483=\"\",\"\",INDEX(Entradas!$H$3:$H$5000,MATCH(A3483,IF(Entradas!$B$3:$B$5000=D3483,Entradas!$A$3:$A$5000),1))),\"Preço não registrado\")","v":""},"",null,null,"",""]
[null,null,"",null,"","",null,{"$f":"IFERROR(IF(D3484=\"\",\"\",INDEX(Entradas!$H$3:$H$5000,MATCH(A3484,IF(Entradas!$B$3:$B$5000=D3484,Entradas!$A$3:$A$5000),1))),\"Preço não registrado\")","v":""},"",null,null,"",""]
[null,null,"",null,"","",null,{"$f":"IFERROR(IF(D3485=\"\",\"\",INDEX(Entradas!$H$3:$H$5000,MATCH(A3485,IF(Entradas!$B$3:$B$5000=D3485,Entradas!$A$3:$A$5000),1))),\"Preço não registrado\")","v":""},"",null,null,"",""]
[null,null,"",null,"","",null,{"$f":"IFERROR(IF(D3486=\"\",\"\",INDEX(Entradas!$H$3:$H$5000,MATCH(A3486,IF(Entradas!$B$3:$B$5000=D3486,Entradas!$A$3:$A$5000),1))),\"Preço não registrado\")","v":""},"",null,null,"",""]
[null,null,"",null,"","",null,{"$f":"IFERROR(IF(D3487=\"\",\"\",INDEX(Entradas!$H$3:$H$5000,MATCH(A3487,IF(Entradas!$B$3:$B$5000=D3487,Entradas!$A$3:$A$5000),1))),\"Preço não registrado\")","v":""},"",null,null,"",""]
[null,null,"",null,"","",null,{"$f":"IFERROR(IF(D3488=\"\",\"\",INDEX(Entradas!$H$3:$H$5000,MATCH(A3488,IF(Entradas!$B$3:$B$5000=D3488,Entradas!$A$3:$A$5000),1))),\"Preço não registrado\")","v":""},"",null,null,"",""]
[null,null,"",null,"","",null,{"$f":"IFERROR(IF(D3489=\"\",\"\",INDEX(Entradas!$H$3:$H$5000,MATCH(A3489,IF(Entradas!$B$3:$B$5000=D3489,Entradas!$A$3:$A$5000),1))),\"Preço não registrado\")","v":""},"",null,null,"",""]
[null,null,"",null,"","",null,{"$f":"IFERROR(IF(D3490=\"\",\"\",INDEX(Entradas!$H$3:$H$5000,MATCH(A3490,IF(Entradas!$B$3:$B$5000=D3490,Entradas!$A$3:$A$5000),1))),\"Preço não registrado\")","v":""},"",null,null,"",""]
[null,null,"",null,"","",null,{"$f":"IFERROR(IF(D3491=\"\",\"\",INDEX(Entradas!$H$3:$H$5000,MATCH(A3491,IF(Entradas!$B$3:$B$5000=D3491,Entradas!$A$3:$A$5000),1))),\"Preço não registrado\")","v":""},"",null,null,"",""]
[null,null,"",null,"","",null,{"$f":"IFERROR(IF(D3492=\"\",\"\",INDEX(Entradas!$H$3:$H$5000,MATCH(A3492,IF(Entradas!$B$3:$B$5000=D3492,Entradas!$A$3:$A$5000),1))),\"Preço não registrado\")","v":""},"",null,null,"",""]
[null,null,"",null,"","",null,{"$f":"IFERROR(IF(D3493=\"\",\"\",INDEX(Entradas!$H$3:$H$5000,MATCH(A3493,IF(Entradas!$B$3:$B$5000=D3493,Entradas!$A$3:$A$5000),1))),\"Preço não registrado\")","v":""},"",null,null,"",""]
[null,null,"",null,"","",null,{"$f":"IFERROR(IF(D3494=\"\",\"\",INDEX(Entradas!$H$3:$H$5000,MATCH(A3494,IF(Entradas!$B$3:$B$5000=D3494,Entradas!$A$3:$A$5000),1))),\"Preço não registrado\")","v":""},"",null,null,"",""]
[null,null,"",null,"","",null,{"$f":"IFERROR(IF(D3495=\"\",\"\",INDEX(Entradas!$H$3:$H$5000,MATCH(A3495,IF(Entradas!$B$3:$B$5000=D3495,Entradas!$A$3:$A$5000),1))),\"Preço não registrado\")","v":""},"",null,null,"",""]
[null,null,"",null,"","",null,{"$f":"IFERROR(IF(D3496=\"\",\"\",INDEX(Entradas!$H$3:$H$5000,MATCH(A3496,IF(Entradas!$B$3:$B$5000=D3496,Entradas!$A$3:$A$5000),1))),\"Preço não registrado\")","v":""},"",null,null,"",""]
[null,null,"",null,"","",null,{"$f":"IFERROR(IF(D3497=\"\",\"\",INDEX(Entradas!$H$3:$H$5000,MATCH(A3497,IF(Entradas!$B$3:$B$5000=D3497,Entradas!$A$3:$A$5000),1))),\"Preço não registrado\")","v":""},"",null,null,"",""]
[null,null,"",null,"","",null,{"$f":"IFERROR(IF(D3498=\"\",\"\",INDEX(Entradas!$H$3:$H$5000,MATCH(A3498,IF(Entradas!$B$3:$B$5000=D3498,Entradas!$A$3:$A$5000),1))),\"Preço não registrado\")","v":""},"",null,null,"",""]
[null,null,"",null,"","",null,{"$f":"IFERROR(IF(D3499=\"\",\"\",INDEX(Entradas!$H$3:$H$5000,MATCH(A3499,IF(Entradas!$B$3:$B$5000=D3499,Entradas!$A$3:$A$5000),1))),\"Preço não registrado\")","v":""},"",null,null,"",""]
[null,null,"",null,"","",null,{"$f":"IFERROR(IF(D3500=\"\",\"\",INDEX(Entradas!$H$3:$H$5000,MATCH(A3500,IF(Entradas!$B$3:$B$5000=D3500,Entradas!$A$3:$A$5000),1))),\"Preço não registrado\")","v":""},"",null,null,"",""]
[null,null,"",null,"","",null,{"$f":"IFERROR(IF(D3501=\"\",\"\",INDEX(Entradas!$H$3:$H$5000,MATCH(A3501,IF(Entradas!$B$3:$B$5000=D3501,Entradas!$A$3:$A$5000),1))),\"Preço não registrado\")","v":""},"",null,null,"",""]
[null,null,"",null,"","",null,{"$f":"IFERROR(IF(D3502=\"\",\"\",INDEX(Entradas!$H$3:$H$5000,MATCH(A3502,IF(Entradas!$B$3:$B$5000=D3502,Entradas!$A$3:$A$5000),1))),\"Preço não registrado\")","v":""},"",null,null,"",""]
[null,null,"",null,"","",null,{"$f":"IFERROR(IF(D3503=\"\",\"\",INDEX(Entradas!$H$3:$H$5000,MATCH(A3503,IF(Entradas!$B$3:$B$5000=D3503,Entradas!$A$3:$A$5000),1))),\"Preço não registrado\")","v":""},"",null,null,"",""]
[null,null,"",null,"","",null,{"$f":"IFERROR(IF(D3504=\"\",\"\",INDEX(Entradas!$H$3:$H$5000,MATCH(A3504,IF(Entradas!$B$3:$B$5000=D3504,Entradas!$A$3:$A$5000),1))),\"Preço não registrado\")","v":""},"",null,null,"",""]
[null,null,"",null,"","",null,{"$f":"IFERROR(IF(D3505=\"\",\"\",INDEX(Entradas!$H$3:$H$5000,MATCH(A3505,IF(Entradas!$B$3:$B$5000=D3505,Entradas!$A$3:$A$5000),1))),\"Preço não registrado\")","v":""},"",null,null,"",""]
[null,null,"",null,"","",null,{"$f":"IFERROR(IF(D3506=\"\",\"\",INDEX(Entradas!$H$3:$H$5000,MATCH(A3506,IF(Entradas!$B$3:$B$5000=D3506,Entradas!$A$3:$A$5000),1))),\"Preço não registrado\")","v":""},"",null,null,"",""]
[null,null,"",null,"","",null,{"$f":"IFERROR(IF(D3507=\"\",\"\",INDEX(Entradas!$H$3:$H$5000,MATCH(A3507,IF(Entradas!$B$3:$B$5000=D3507,Entradas!$A$3:$A$5000),1))),\"Preço não registrado\")","v":""},"",null,null,"",""]
[null,null,"",null,"","",null,{"$f":"IFERROR(IF(D3508=\"\",\"\",INDEX(Entradas!$H$3:$H$5000,MATCH(A3508,IF(Entradas!$B$3:$B$5000=D3508,Entradas!$A$3:$A$5000),1))),\"Preço não registrado\")","v":""},"",null,null,"",""]
[null,null,"",null,"","",null,{"$f":"IFERROR(IF(D3509=\"\",\"\",INDEX(Entradas!$H$3:$H$5000,MATCH(A3509,IF(Entradas!$B$3:$B$5000=D3509,Entradas!$A$3:$A$5000),1))),\"Preço não registrado\")","v":""},"",null,null,"",""]
[null,null,"",null,"","",null,{"$f":"IFERROR(IF(D3510=\"\",\"\",INDEX(Entradas!$H$3:$H$5000,MATCH(A3510,IF(Entradas!$B$3:$B$5000=D3510,Entradas!$A$3:$A$5000),1))),\"Preço não registrado\")","v":""},"",null,null,"",""]
[null,null,"",null,"","",null,{"$f":"IFERROR(IF(D3511=\"\",\"\",INDEX(Entradas!$H$3:$H$5000,MATCH(A3511,IF(Entradas!$B$3:$B$5000=D3511,Entradas!$A$3:$A$5000),1))),\"Preço não registrado\")","v":""},"",null,null,"",""]
[null,null,"",null,"","",null,{"$f":"IFERROR(IF(D3512=\"\",\"\",INDEX(Entradas!$H$3:$H$5000,MATCH(A3512,IF(Entradas!$B$3:$B$5000=D3512,Entradas!$A$3:$A$5000),1))),\"Preço não registrado\")","v":""},"",null,null,"",""]
[null,null,"",null,"","",null,{"$f":"IFERROR(IF(D3513=\"\",\"\",INDEX(Entradas!$H$3:$H$5000,MATCH(A3513,IF(Entradas!$B$3:$B$5000=D3513,Entradas!$A$3:$A$5000),1))),\"Preço não registrado\")","v":""},"",null,null,"",""]
[null,null,"",null,"","",null,{"$f":"IFERROR(IF(D3514=\"\",\"\",INDEX(Entradas!$H$3:$H$5000,MATCH(A3514,IF(Entradas!$B$3:$B$5000=D3514,Entradas!$A$3:$A$5000),1))),\"Preço não registrado\")","v":""},"",null,null,"",""]
[null,null,"",null,"","",null,{"$f":"IFERROR(IF(D3515=\"\",\"\",INDEX(Entradas!$H$3:$H$5000,MATCH(A3515,IF(Entradas!$B$3:$B$5000=D3515,Entradas!$A$3:$A$5000),1))),\"Preço não registrado\")","v":""},"",null,null,"",""]
[null,null,"",null,"","",null,{"$f":"IFERROR(IF(D3516=\"\",\"\",INDEX(Entradas!$H$3:$H$5000,MATCH(A3516,IF(Entradas!$B$3:$B$5000=D3516,Entradas!$A$3:$A$5000),1))),\"Preço não registrado\")","v":""},"",null,null,"",""]
[null,null,"",null,"","",null,{"$f":"IFERROR(IF(D3517=\"\",\"\",INDEX(Entradas!$H$3:$H$5000,MATCH(A3517,IF(Entradas!$B$3:$B$5000=D3517,Entradas!$A$3:$A$5000),1))),\"Preço não registrado\")","v":""},"",null,null,"",""]
[null,null,"",null,"","",null,{"$f":"IFERROR(IF(D3518=\"\",\"\",INDEX(Entradas!$H$3:$H$5000,MATCH(A3518,IF(Entradas!$B$3:$B$5000=D3518,Entradas!$A$3:$A$5000),1))),\"Preço não registrado\")","v":""},"",null,null,"",""]
[null,null,"",null,"","",null,{"$f":"IFERROR(IF(D3519=\"\",\"\",INDEX(Entradas!$H$3:$H$5000,MATCH(A3519,IF(Entradas!$B$3:$B$5000=D3519,Entradas!$A$3:$A$5000),1))),\"Preço não registrado\")","v":""},"",null,null,"",""]
[null,null,"",null,"","",null,{"$f":"IFERROR(IF(D3520=\"\",\"\",INDEX(Entradas!$H$3:$H$5000,MATCH(A3520,IF(Entradas!$B$3:$B$5000=D3520,Entradas!$A$3:$A$5000),1))),\"Preço não registrado\")","v":""},"",null,null,"",""]
[null,null,"",null,"","",null,{"$f":"IFERROR(IF(D3521=\"\",\"\",INDEX(Entradas!$H$3:$H$5000,MATCH(A3521,IF(Entradas!$B$3:$B$5000=D3521,Entradas!$A$3:$A$5000),1))),\"Preço não registrado\")","v":""},"",null,null,"",""]
[null,null,"",null,"","",null,{"$f":"IFERROR(IF(D3522=\"\",\"\",INDEX(Entradas!$H$3:$H$5000,MATCH(A3522,IF(Entradas!$B$3:$B$5000=D3522,Entradas!$A$3:$A$5000),1))),\"Preço não registrado\")","v":""},"",null,null,"",""]
[null,null,{"$f":"IFERROR(IF(B3523=\"\",\"\",VLOOKUP(B3523,Clientes,2,FALSE)),\"\")","v":""},null,{"$f":"IF(D3523=\"\",\"\",VLOOKUP(D3523,Itens,2,FALSE))","v":""},{"$f":"IF(D3523=\"\",\"\",VLOOKUP(D3523,Itens,3,FALSE))","v":""},null,{"$f":"IFERROR(IF(D3523=\"\",\"\",INDEX(Entradas!$H$3:$H$5000,MATCH(A3523,IF(Entradas!$B$3:$B$5000=D3523,Entradas!$A$3:$A$5000),1))),\"Preço não registrado\")","v":""},"",null,null,"",""]
[null,null,"",null,"","",null,{"$f":"IFERROR(IF(D3524=\"\",\"\",INDEX(Entradas!$H$3:$H$5000,MATCH(A3524,IF(Entradas!$B$3:$B$5000=D3524,Entradas!$A$3:$A$5000),1))),\"Preço não registrado\")","v":""},{"$f":"IFERROR(G3524*H3524,\"\")","v":""},null,null,{"$f":"IF(K3524=\"\",\"\",HYPERLINK($P$13&K3524,\"Rastreie aqui\"))","v":""},{"$f":"IF(A3524=\"\",\"\",TEXT(A3524,\"mmmm\"))","v":""}]
[null,null,"",null,"","",null,{"$f":"IFERROR(IF(D3525=\"\",\"\",INDEX(Entradas!$H$3:$H$5000,MATCH(A3525,IF(Entradas!$B$3:$B$5000=D3525,Entradas!$A$3:$A$5000),1))),\"Preço não registrado\")","v":""},"",null,null,"",""]
[null,null,"",null,"","",null,{"$f":"IFERROR(IF(D3526=\"\",\"\",INDEX(Entradas!$H$3:$H$5000,MATCH(A3526,IF(Entradas!$B$3:$B$5000=D3526,Entradas!$A$3:$A$5000),1))),\"Preço não registrado\")","v":""},"",null,null,"",""]
[null,null,"",null,"","",null,{"$f":"IFERROR(IF(D3527=\"\",\"\",INDEX(Entradas!$H$3:$H$5000,MATCH(A3527,IF(Entradas!$B$3:$B$5000=D3527,Entradas!$A$3:$A$5000),1))),\"Preço não registrado\")","v":""},"",null,null,"",""]
[null,null,"",null,"","",null,{"$f":"IFERROR(IF(D3528=\"\",\"\",INDEX(Entradas!$H$3:$H$5000,MATCH(A3528,IF(Entradas!$B$3:$B$5000=D3528,Entradas!$A$3:$A$5000),1))),\"Preço não registrado\")","v":""},"",null,null,"",""]
[null,null,"",null,"","",null,{"$f":"IFERROR(IF(D3529=\"\",\"\",INDEX(Entradas!$H$3:$H$5000,MATCH(A3529,IF(Entradas!$B$3:$B$5000=D3529,Entradas!$A$3:$A$5000),1))),\"Preço não registrado\")","v":""},"",null,null,"",""]
[null,null,"",null,"","",null,{"$f":"IFERROR(IF(D3530=\"\",\"\",INDEX(Entradas!$H$3:$H$5000,MATCH(A3530,IF(Entradas!$B$3:$B$5000=D3530,Entradas!$A$3:$A$5000),1))),\"Preço não registrado\")","v":""},"",null,null,"",""]
[null,null,"",null,"","",null,{"$f":"IFERROR(IF(D3531=\"\",\"\",INDEX(Entradas!$H$3:$H$5000,MATCH(A3531,IF(Entradas!$B$3:$B$5000=D3531,Entradas!$A$3:$A$5000),1))),\"Preço não registrado\")","v":""},"",null,null,"",""]
[null,null,"",null,"","",null,{"$f":"IFERROR(IF(D3532=\"\",\"\",INDEX(Entradas!$H$3:$H$5000,MATCH(A3532,IF(Entradas!$B$3:$B$5000=D3532,Entradas!$A$3:$A$5000),1))),\"Preço não registrado\")","v":""},"",null,null,"",""]
[null,null,"",null,"","",null,{"$f":"IFERROR(IF(D3533=\"\",\"\",INDEX(Entradas!$H$3:$H$5000,MATCH(A3533,IF(Entradas!$B$3:$B$5000=D3533,Entradas!$A$3:$A$5000),1))),\"Preço não registrado\")","v":""},"",null,null,"",""]
[null,null,"",null,"","",null,{"$f":"IFERROR(IF(D3534=\"\",\"\",INDEX(Entradas!$H$3:$H$5000,MATCH(A3534,IF(Entradas!$B$3:$B$5000=D3534,Entradas!$A$3:$A$5000),1))),\"Preço não registrado\")","v":""},"",null,null,"",""]
[null,null,"",null,"","",null,{"$f":"IFERROR(IF(D3535=\"\",\"\",INDEX(Entradas!$H$3:$H$5000,MATCH(A3535,IF(Entradas!$B$3:$B$5000=D3535,Entradas!$A$3:$A$5000),1))),\"Preço não registrado\")","v":""},"",null,null,"",""]
[null,null,"",null,"","",null,{"$f":"IFERROR(IF(D3536=\"\",\"\",INDEX(Entradas!$H$3:$H$5000,MATCH(A3536,IF(Entradas!$B$3:$B$5000=D3536,Entradas!$A$3:$A$5000),1))),\"Preço não registrado\")","v":""},"",null,null,"",""]
[null,null,"",null,"","",null,{"$f":"IFERROR(IF(D3537=\"\",\"\",INDEX(Entradas!$H$3:$H$5000,MATCH(A3537,IF(Entradas!$B$3:$B$5000=D3537,Entradas!$A$3:$A$5000),1))),\"Preço não registrado\")","v":""},"",null,null,"",""]
[null,null,"",null,"","",null,{"$f":"IFERROR(IF(D3538=\"\",\"\",INDEX(Entradas!$H$3:$H$5000,MATCH(A3538,IF(Entradas!$B$3:$B$5000=D3538,Entradas!$A$3:$A$5000),1))),\"Preço não registrado\")","v":""},"",null,null,"",""]
[null,null,"",null,"","",null,{"$f":"IFERROR(IF(D3539=\"\",\"\",INDEX(Entradas!$H$3:$H$5000,MATCH(A3539,IF(Entradas!$B$3:$B$5000=D3539,Entradas!$A$3:$A$5000),1))),\"Preço não registrado\")","v":""},"",null,null,"",""]
[null,null,"",null,"","",null,{"$f":"IFERROR(IF(D3540=\"\",\"\",INDEX(Entradas!$H$3:$H$5000,MATCH(A3540,IF(Entradas!$B$3:$B$5000=D3540,Entradas!$A$3:$A$5000),1))),\"Preço não registrado\")","v":""},"",null,null,"",""]
[null,null,"",null,"","",null,{"$f":"IFERROR(IF(D3541=\"\",\"\",INDEX(Entradas!$H$3:$H$5000,MATCH(A3541,IF(Entradas!$B$3:$B$5000=D3541,Entradas!$A$3:$A$5000),1))),\"Preço não registrado\")","v":""},"",null,null,"",""]
[null,null,"",null,"","",null,{"$f":"IFERROR(IF(D3542=\"\",\"\",INDEX(Entradas!$H$3:$H$5000,MATCH(A3542,IF(Entradas!$B$3:$B$5000=D3542,Entradas!$A$3:$A$5000),1))),\"Preço não registrado\")","v":""},"",null,null,"",""]
[null,null,"",null,"","",null,{"$f":"IFERROR(IF(D3543=\"\",\"\",INDEX(Entradas!$H$3:$H$5000,MATCH(A3543,IF(Entradas!$B$3:$B$5000=D3543,Entradas!$A$3:$A$5000),1))),\"Preço não registrado\")","v":""},"",null,null,"",""]
[null,null,"",null,"","",null,{"$f":"IFERROR(IF(D3544=\"\",\"\",INDEX(Entradas!$H$3:$H$5000,MATCH(A3544,IF(Entradas!$B$3:$B$5000=D3544,Entradas!$A$3:$A$5000),1))),\"Preço não registrado\")","v":""},"",null,null,"",""]
[null,null,"",null,"","",null,{"$f":"IFERROR(IF(D3545=\"\",\"\",INDEX(Entradas!$H$3:$H$5000,MATCH(A3545,IF(Entradas!$B$3:$B$5000=D3545,Entradas!$A$3:$A$5000),1))),\"Preço não registrado\")","v":""},"",null,null,"",""]
[null,null,"",null,"","",null,{"$f":"IFERROR(IF(D3546=\"\",\"\",INDEX(Entradas!$H$3:$H$5000,MATCH(A3546,IF(Entradas!$B$3:$B$5000=D3546,Entradas!$A$3:$A$5000),1))),\"Preço não registrado\")","v":""},"",null,null,"",""]
[null,null,"",null,"","",null,{"$f":"IFERROR(IF(D3547=\"\",\"\",INDEX(Entradas!$H$3:$H$5000,MATCH(A3547,IF(Entradas!$B$3:$B$5000=D3547,Entradas!$A$3:$A$5000),1))),\"Preço não registrado\")","v":""},"",null,null,"",""]
[null,null,"",null,"","",null,{"$f":"IFERROR(IF(D3548=\"\",\"\",INDEX(Entradas!$H$3:$H$5000,MATCH(A3548,IF(Entradas!$B$3:$B$5000=D3548,Entradas!$A$3:$A$5000),1))),\"Preço não registrado\")","v":""},"",null,null,"",""]
[null,null,"",null,"","",null,{"$f":"IFERROR(IF(D3549=\"\",\"\",INDEX(Entradas!$H$3:$H$5000,MATCH(A3549,IF(Entradas!$B$3:$B$5000=D3549,Entradas!$A$3:$A$5000),1))),\"Preço não registrado\")","v":""},"",null,null,"",""]
[null,null,"",null,"","",null,{"$f":"IFERROR(IF(D3550=\"\",\"\",INDEX(Entradas!$H$3:$H$5000,MATCH(A3550,IF(Entradas!$B$3:$B$5000=D3550,Entradas!$A$3:$A$5000),1))),\"Preço não registrado\")","v":""},"",null,null,"",""]
[null,null,"",null,"","",null,{"$f":"IFERROR(IF(D3551=\"\",\"\",INDEX(Entradas!$H$3:$H$5000,MATCH(A3551,IF(Entradas!$B$3:$B$5000=D3551,Entradas!$A$3:$A$5000),1))),\"Preço não registrado\")","v":""},"",null,null,"",""]
[null,null,"",null,"","",null,{"$f":"IFERROR(IF(D3552=\"\",\"\",INDEX(Entradas!$H$3:$H$5000,MATCH(A3552,IF(Entradas!$B$3:$B$5000=D3552,Entradas!$A$3:$A$5000),1))),\"Preço não registrado\")","v":""},"",null,null,"",""]
[null,null,"",null,"","",null,{"$f":"IFERROR(IF(D3553=\"\",\"\",INDEX(Entradas!$H$3:$H$5000,MATCH(A3553,IF(Entradas!$B$3:$B$5000=D3553,Entradas!$A$3:$A$5000),1))),\"Preço não registrado\")","v":""},"",null,null,"",""]
[null,null,"",null,"","",null,{"$f":"IFERROR(IF(D3554=\"\",\"\",INDEX(Entradas!$H$3:$H$5000,MATCH(A3554,IF(Entradas!$B$3:$B$5000=D3554,Entradas!$A$3:$A$5000),1))),\"Preço não registrado\")","v":""},"",null,null,"",""]
[null,null,"",null,"","",null,{"$f":"IFERROR(IF(D3555=\"\",\"\",INDEX(Entradas!$H$3:$H$5000,MATCH(A3555,IF(Entradas!$B$3:$B$5000=D3555,Entradas!$A$3:$A$5000),1))),\"Preço não registrado\")","v":""},"",null,null,"",""]
[null,null,"",null,"","",null,{"$f":"IFERROR(IF(D3556=\"\",\"\",INDEX(Entradas!$H$3:$H$5000,MATCH(A3556,IF(Entradas!$B$3:$B$5000=D3556,Entradas!$A$3:$A$5000),1))),\"Preço não registrado\")","v":""},"",null,null,"",""]
[null,null,"",null,"","",null,{"$f":"IFERROR(IF(D3557=\"\",\"\",INDEX(Entradas!$H$3:$H$5000,MATCH(A3557,IF(Entradas!$B$3:$B$5000=D3557,Entradas!$A$3:$A$5000),1))),\"Preço não registrado\")","v":""},"",null,null,"",""]
[null,null,"",null,"","",null,{"$f":"IFERROR(IF(D3558=\"\",\"\",INDEX(Entradas!$H$3:$H$5000,MATCH(A3558,IF(Entradas!$B$3:$B$5000=D3558,Entradas!$A$3:$A$5000),1))),\"Preço não registrado\")","v":""},"",null,null,"",""]
[null,null,"",null,"","",null,{"$f":"IFERROR(IF(D3559=\"\",\"\",INDEX(Entradas!$H$3:$H$5000,MATCH(A3559,IF(Entradas!$B$3:$B$5000=D3559,Entradas!$A$3:$A$5000),1))),\"Preço não registrado\")","v":""},"",null,null,"",""]
[null,null,"",null,"","",null,{"$f":"IFERROR(IF(D3560=\"\",\"\",INDEX(Entradas!$H$3:$H$5000,MATCH(A3560,IF(Entradas!$B$3:$B$5000=D3560,Entradas!$A$3:$A$5000),1))),\"Preço não registrado\")","v":""},"",null,null,"",""]
[null,null,"",null,"","",null,{"$f":"IFERROR(IF(D3561=\"\",\"\",INDEX(Entradas!$H$3:$H$5000,MATCH(A3561,IF(Entradas!$B$3:$B$5000=D3561,Entradas!$A$3:$A$5000),1))),\"Preço não registrado\")","v":""},"",null,null,"",""]
[null,null,"",null,"","",null,{"$f":"IFERROR(IF(D3562=\"\",\"\",INDEX(Entradas!$H$3:$H$5000,MATCH(A3562,IF(Entradas!$B$3:$B$5000=D3562,Entradas!$A$3:$A$5000),1))),\"Preço não registrado\")","v":""},"",null,null,"",""]
[null,null,"",null,"","",null,{"$f":"IFERROR(IF(D3563=\"\",\"\",INDEX(Entradas!$H$3:$H$5000,MATCH(A3563,IF(Entradas!$B$3:$B$5000=D3563,Entradas!$A$3:$A$5000),1))),\"Preço não registrado\")","v":""},"",null,null,"",""]
[null,null,"",null,"","",null,{"$f":"IFERROR(IF(D3564=\"\",\"\",INDEX(Entradas!$H$3:$H$5000,MATCH(A3564,IF(Entradas!$B$3:$B$5000=D3564,Entradas!$A$3:$A$5000),1))),\"Preço não registrado\")","v":""},"",null,null,"",""]
[null,null,"",null,"","",null,{"$f":"IFERROR(IF(D3565=\"\",\"\",INDEX(Entradas!$H$3:$H$5000,MATCH(A3565,IF(Entradas!$B$3:$B$5000=D3565,Entradas!$A$3:$A$5000),1))),\"Preço não registrado\")","v":""},"",null,null,"",""]
[null,null,"",null,"","",null,{"$f":"IFERROR(IF(D3566=\"\",\"\",INDEX(Entradas!$H$3:$H$5000,MATCH(A3566,IF(Entradas!$B$3:$B$5000=D3566,Entradas!$A$3:$A$5000),1))),\"Preço não registrado\")","v":""},"",null,null,"",""]
[null,null,"",null,"","",null,{"$f":"IFERROR(IF(D3567=\"\",\"\",INDEX(Entradas!$H$3:$H$5000,MATCH(A3567,IF(Entradas!$B$3:$B$5000=D3567,Entradas!$A$3:$A$5000),1))),\"Preço não registrado\")","v":""},"",null,null,"",""]
[null,null,"",null,"","",null,{"$f":"IFERROR(IF(D3568=\"\",\"\",INDEX(Entradas!$H$3:$H$5000,MATCH(A3568,IF(Entradas!$B$3:$B$5000=D3568,Entradas!$A$3:$A$5000),1))),\"Preço não registrado\")","v":""},"",null,null,"",""]
[null,null,"",null,"","",null,{"$f":"IFERROR(IF(D3569=\"\",\"\",INDEX(Entradas!$H$3:$H$5000,MATCH(A3569,IF(Entradas!$B$3:$B$5000=D3569,Entradas!$A$3:$A$5000),1))),\"Preço não registrado\")","v":""},"",null,null,"",""]
[null,null,"",null,"","",null,{"$f":"IFERROR(IF(D3570=\"\",\"\",INDEX(Entradas!$H$3:$H$5000,MATCH(A3570,IF(Entradas!$B$3:$B$5000=D3570,Entradas!$A$3:$A$5000),1))),\"Preço não registrado\")","v":""},"",null,null,"",""]
[null,null,"",null,"","",null,{"$f":"IFERROR(IF(D3571=\"\",\"\",INDEX(Entradas!$H$3:$H$5000,MATCH(A3571,IF(Entradas!$B$3:$B$5000=D3571,Entradas!$A$3:$A$5000),1))),\"Preço não registrado\")","v":""},"",null,null,"",""]
[null,null,"",null,"","",null,{"$f":"IFERROR(IF(D3572=\"\",\"\",INDEX(Entradas!$H$3:$H$5000,MATCH(A3572,IF(Entradas!$B$3:$B$5000=D3572,Entradas!$A$3:$A$5000),1))),\"Preço não registrado\")","v":""},"",null,null,"",""]
[null,null,"",null,"","",null,{"$f":"IFERROR(IF(D3573=\"\",\"\",INDEX(Entradas!$H$3:$H$5000,MATCH(A3573,IF(Entradas!$B$3:$B$5000=D3573,Entradas!$A$3:$A$5000),1))),\"Preço não registrado\")","v":""},"",null,null,"",""]
[null,null,"",null,"","",null,{"$f":"IFERROR(IF(D3574=\"\",\"\",INDEX(Entradas!$H$3:$H$5000,MATCH(A3574,IF(Entradas!$B$3:$B$5000=D3574,Entradas!$A$3:$A$5000),1))),\"Preço não registrado\")","v":""},"",null,null,"",""]
[null,null,"",null,"","",null,{"$f":"IFERROR(IF(D3575=\"\",\"\",INDEX(Entradas!$H$3:$H$5000,MATCH(A3575,IF(Entradas!$B$3:$B$5000=D3575,Entradas!$A$3:$A$5000),1))),\"Preço não registrado\")","v":""},"",null,null,"",""]
[null,null,"",null,"","",null,{"$f":"IFERROR(IF(D3576=\"\",\"\",INDEX(Entradas!$H$3:$H$5000,MATCH(A3576,IF(Entradas!$B$3:$B$5000=D3576,Entradas!$A$3:$A$5000),1))),\"Preço não registrado\")","v":""},"",null,null,"",""]
[null,null,"",null,"","",null,{"$f":"IFERROR(IF(D3577=\"\",\"\",INDEX(Entradas!$H$3:$H$5000,MATCH(A3577,IF(Entradas!$B$3:$B$5000=D3577,Entradas!$A$3:$A$5000),1))),\"Preço não registrado\")","v":""},"",null,null,"",""]
[null,null,"",null,"","",null,{"$f":"IFERROR(IF(D3578=\"\",\"\",INDEX(Entradas!$H$3:$H$5000,MATCH(A3578,IF(Entradas!$B$3:$B$5000=D3578,Entradas!$A$3:$A$5000),1))),\"Preço não registrado\")","v":""},"",null,null,"",""]
[null,null,"",null,"","",null,{"$f":"IFERROR(IF(D3579=\"\",\"\",INDEX(Entradas!$H$3:$H$5000,MATCH(A3579,IF(Entradas!$B$3:$B$5000=D3579,Entradas!$A$3:$A$5000),1))),\"Preço não registrado\")","v":""},"",null,null,"",""]
[null,null,"",null,"","",null,{"$f":"IFERROR(IF(D3580=\"\",\"\",INDEX(Entradas!$H$3:$H$5000,MATCH(A3580,IF(Entradas!$B$3:$B$5000=D3580,Entradas!$A$3:$A$5000),1))),\"Preço não registrado\")","v":""},"",null,null,"",""]
[null,null,"",null,"","",null,{"$f":"IFERROR(IF(D3581=\"\",\"\",INDEX(Entradas!$H$3:$H$5000,MATCH(A3581,IF(Entradas!$B$3:$B$5000=D3581,Entradas!$A$3:$A$5000),1))),\"Preço não registrado\")","v":""},"",null,null,"",""]
[null,null,"",null,"","",null,{"$f":"IFERROR(IF(D3582=\"\",\"\",INDEX(Entradas!$H$3:$H$5000,MATCH(A3582,IF(Entradas!$B$3:$B$5000=D3582,Entradas!$A$3:$A$5000),1))),\"Preço não registrado\")","v":""},"",null,null,"",""]
[null,null,"",null,"","",null,{"$f":"IFERROR(IF(D3583=\"\",\"\",INDEX(Entradas!$H$3:$H$5000,MATCH(A3583,IF(Entradas!$B$3:$B$5000=D3583,Entradas!$A$3:$A$5000),1))),\"Preço não registrado\")","v":""},"",null,null,"",""]
[null,null,"",null,"","",null,{"$f":"IFERROR(IF(D3584=\"\",\"\",INDEX(Entradas!$H$3:$H$5000,MATCH(A3584,IF(Entradas!$B$3:$B$5000=D3584,Entradas!$A$3:$A$5000),1))),\"Preço não registrado\")","v":""},"",null,null,"",""]
[null,null,"",null,"","",null,{"$f":"IFERROR(IF(D3585=\"\",\"\",INDEX(Entradas!$H$3:$H$5000,MATCH(A3585,IF(Entradas!$B$3:$B$5000=D3585,Entradas!$A$3:$A$5000),1))),\"Preço não registrado\")","v":""},"",null,null,"",""]
[null,null,"",null,"","",null,{"$f":"IFERROR(IF(D3586=\"\",\"\",INDEX(Entradas!$H$3:$H$5000,MATCH(A3586,IF(Entradas!$B$3:$B$5000=D3586,Entradas!$A$3:$A$5000),1))),\"Preço não registrado\")","v":""},"",null,null,"",""]
[null,null,{"$f":"IFERROR(IF(B3587=\"\",\"\",VLOOKUP(B3587,Clientes,2,FALSE)),\"\")","v":""},null,{"$f":"IF(D3587=\"\",\"\",VLOOKUP(D3587,Itens,2,FALSE))","v":""},{"$f":"IF(D3587=\"\",\"\",VLOOKUP(D3587,Itens,3,FALSE))","v":""},null,{"$f":"IFERROR(IF(D3587=\"\",\"\",INDEX(Entradas!$H$3:$H$5000,MATCH(A3587,IF(Entradas!$B$3:$B$5000=D3587,Entradas!$A$3:$A$5000),1))),\"Preço não registrado\")","v":""},"",null,null,"",""]
[null,null,"",null,"","",null,{"$f":"IFERROR(IF(D3588=\"\",\"\",INDEX(Entradas!$H$3:$H$5000,MATCH(A3588,IF(Entradas!$B$3:$B$5000=D3588,Entradas!$A$3:$A$5000),1))),\"Preço não registrado\")","v":""},{"$f":"IFERROR(G3588*H3588,\"\")","v":""},null,null,{"$f":"IF(K3588=\"\",\"\",HYPERLINK($P$13&K3588,\"Rastreie aqui\"))","v":""},{"$f":"IF(A3588=\"\",\"\",TEXT(A3588,\"mmmm\"))","v":""}]
[null,null,"",null,"","",null,{"$f":"IFERROR(IF(D3589=\"\",\"\",INDEX(Entradas!$H$3:$H$5000,MATCH(A3589,IF(Entradas!$B$3:$B$5000=D3589,Entradas!$A$3:$A$5000),1))),\"Preço não registrado\")","v":""},"",null,null,"",""]
[null,null,"",null,"","",null,{"$f":"IFERROR(IF(D3590=\"\",\"\",INDEX(Entradas!$H$3:$H$5000,MATCH(A3590,IF(Entradas!$B$3:$B$5000=D3590,Entradas!$A$3:$A$5000),1))),\"Preço não registrado\")","v":""},"",null,null,"",""]
[null,null,"",null,"","",null,{"$f":"IFERROR(IF(D3591=\"\",\"\",INDEX(Entradas!$H$3:$H$5000,MATCH(A3591,IF(Entradas!$B$3:$B$5000=D3591,Entradas!$A$3:$A$5000),1))),\"Preço não registrado\")","v":""},"",null,null,"",""]
[null,null,"",null,"","",null,{"$f":"IFERROR(IF(D3592=\"\",\"\",INDEX(Entradas!$H$3:$H$5000,MATCH(A3592,IF(Entradas!$B$3:$B$5000=D3592,Entradas!$A$3:$A$5000),1))),\"Preço não registrado\")","v":""},"",null,null,"",""]
[null,null,"",null,"","",null,{"$f":"IFERROR(IF(D3593=\"\",\"\",INDEX(Entradas!$H$3:$H$5000,MATCH(A3593,IF(Entradas!$B$3:$B$5000=D3593,Entradas!$A$3:$A$5000),1))),\"Preço não registrado\")","v":""},"",null,null,"",""]
[null,null,"",null,"","",null,{"$f":"IFERROR(IF(D3594=\"\",\"\",INDEX(Entradas!$H$3:$H$5000,MATCH(A3594,IF(Entradas!$B$3:$B$5000=D3594,Entradas!$A$3:$A$5000),1))),\"Preço não registrado\")","v":""},"",null,null,"",""]
[null,null,"",null,"","",null,{"$f":"IFERROR(IF(D3595=\"\",\"\",INDEX(Entradas!$H$3:$H$5000,MATCH(A3595,IF(Entradas!$B$3:$B$5000=D3595,Entradas!$A$3:$A$5000),1))),\"Preço não registrado\")","v":""},"",null,null,"",""]
[null,null,"",null,"","",null,{"$f":"IFERROR(IF(D3596=\"\",\"\",INDEX(Entradas!$H$3:$H$5000,MATCH(A3596,IF(Entradas!$B$3:$B$5000=D3596,Entradas!$A$3:$A$5000),1))),\"Preço não registrado\")","v":""},"",null,null,"",""]
[null,null,"",null,"","",null,{"$f":"IFERROR(IF(D3597=\"\",\"\",INDEX(Entradas!$H$3:$H$5000,MATCH(A3597,IF(Entradas!$B$3:$B$5000=D3597,Entradas!$A$3:$A$5000),1))),\"Preço não registrado\")","v":""},"",null,null,"",""]
[null,null,"",null,"","",null,{"$f":"IFERROR(IF(D3598=\"\",\"\",INDEX(Entradas!$H$3:$H$5000,MATCH(A3598,IF(Entradas!$B$3:$B$5000=D3598,Entradas!$A$3:$A$5000),1))),\"Preço não registrado\")","v":""},"",null,null,"",""]
[null,null,"",null,"","",null,{"$f":"IFERROR(IF(D3599=\"\",\"\",INDEX(Entradas!$H$3:$H$5000,MATCH(A3599,IF(Entradas!$B$3:$B$5000=D3599,Entradas!$A$3:$A$5000),1))),\"Preço não registrado\")","v":""},"",null,null,"",""]
[null,null,"",null,"","",null,{"$f":"IFERROR(IF(D3600=\"\",\"\",INDEX(Entradas!$H$3:$H$5000,MATCH(A3600,IF(Entradas!$B$3:$B$5000=D3600,Entradas!$A$3:$A$5000),1))),\"Preço não registrado\")","v":""},"",null,null,"",""]
[null,null,"",null,"","",null,{"$f":"IFERROR(IF(D3601=\"\",\"\",INDEX(Entradas!$H$3:$H$5000,MATCH(A3601,IF(Entradas!$B$3:$B$5000=D3601,Entradas!$A$3:$A$5000),1))),\"Preço não registrado\")","v":""},"",null,null,"",""]
[null,null,"",null,"","",null,{"$f":"IFERROR(IF(D3602=\"\",\"\",INDEX(Entradas!$H$3:$H$5000,MATCH(A3602,IF(Entradas!$B$3:$B$5000=D3602,Entradas!$A$3:$A$5000),1))),\"Preço não registrado\")","v":""},"",null,null,"",""]
[null,null,"",null,"","",null,{"$f":"IFERROR(IF(D3603=\"\",\"\",INDEX(Entradas!$H$3:$H$5000,MATCH(A3603,IF(Entradas!$B$3:$B$5000=D3603,Entradas!$A$3:$A$5000),1))),\"Preço não registrado\")","v":""},"",null,null,"",""]
[null,null,"",null,"","",null,{"$f":"IFERROR(IF(D3604=\"\",\"\",INDEX(Entradas!$H$3:$H$5000,MATCH(A3604,IF(Entradas!$B$3:$B$5000=D3604,Entradas!$A$3:$A$5000),1))),\"Preço não registrado\")","v":""},"",null,null,"",""]
[null,null,"",null,"","",null,{"$f":"IFERROR(IF(D3605=\"\",\"\",INDEX(Entradas!$H$3:$H$5000,MATCH(A3605,IF(Entradas!$B$3:$B$5000=D3605,Entradas!$A$3:$A$5000),1))),\"Preço não registrado\")","v":""},"",null,null,"",""]
[null,null,"",null,"","",null,{"$f":"IFERROR(IF(D3606=\"\",\"\",INDEX(Entradas!$H$3:$H$5000,MATCH(A3606,IF(Entradas!$B$3:$B$5000=D3606,Entradas!$A$3:$A$5000),1))),\"Preço não registrado\")","v":""},"",null,null,"",""]
[null,null,"",null,"","",null,{"$f":"IFERROR(IF(D3607=\"\",\"\",INDEX(Entradas!$H$3:$H$5000,MATCH(A3607,IF(Entradas!$B$3:$B$5000=D3607,Entradas!$A$3:$A$5000),1))),\"Preço não registrado\")","v":""},"",null,null,"",""]
[null,null,"",null,"","",null,{"$f":"IFERROR(IF(D3608=\"\",\"\",INDEX(Entradas!$H$3:$H$5000,MATCH(A3608,IF(Entradas!$B$3:$B$5000=D3608,Entradas!$A$3:$A$5000),1))),\"Preço não registrado\")","v":""},"",null,null,"",""]
[null,null,"",null,"","",null,{"$f":"IFERROR(IF(D3609=\"\",\"\",INDEX(Entradas!$H$3:$H$5000,MATCH(A3609,IF(Entradas!$B$3:$B$5000=D3609,Entradas!$A$3:$A$5000),1))),\"Preço não registrado\")","v":""},"",null,null,"",""]
[null,null,"",null,"","",null,{"$f":"IFERROR(IF(D3610=\"\",\"\",INDEX(Entradas!$H$3:$H$5000,MATCH(A3610,IF(Entradas!$B$3:$B$5000=D3610,Entradas!$A$3:$A$5000),1))),\"Preço não registrado\")","v":""},"",null,null,"",""]
[null,null,"",null,"","",null,{"$f":"IFERROR(IF(D3611=\"\",\"\",INDEX(Entradas!$H$3:$H$5000,MATCH(A3611,IF(Entradas!$B$3:$B$5000=D3611,Entradas!$A$3:$A$5000),1))),\"Preço não registrado\")","v":""},"",null,null,"",""]
[null,null,"",null,"","",null,{"$f":"IFERROR(IF(D3612=\"\",\"\",INDEX(Entradas!$H$3:$H$5000,MATCH(A3612,IF(Entradas!$B$3:$B$5000=D3612,Entradas!$A$3:$A$5000),1))),\"Preço não registrado\")","v":""},"",null,null,"",""]
[null,null,"",null,"","",null,{"$f":"IFERROR(IF(D3613=\"\",\"\",INDEX(Entradas!$H$3:$H$5000,MATCH(A3613,IF(Entradas!$B$3:$B$5000=D3613,Entradas!$A$3:$A$5000),1))),\"Preço não registrado\")","v":""},"",null,null,"",""]
[null,null,"",null,"","",null,{"$f":"IFERROR(IF(D3614=\"\",\"\",INDEX(Entradas!$H$3:$H$5000,MATCH(A3614,IF(Entradas!$B$3:$B$5000=D3614,Entradas!$A$3:$A$5000),1))),\"Preço não registrado\")","v":""},"",null,null,"",""]
[null,null,"",null,"","",null,{"$f":"IFERROR(IF(D3615=\"\",\"\",INDEX(Entradas!$H$3:$H$5000,MATCH(A3615,IF(Entradas!$B$3:$B$5000=D3615,Entradas!$A$3:$A$5000),1))),\"Preço não registrado\")","v":""},"",null,null,"",""]
[null,null,"",null,"","",null,{"$f":"IFERROR(IF(D3616=\"\",\"\",INDEX(Entradas!$H$3:$H$5000,MATCH(A3616,IF(Entradas!$B$3:$B$5000=D3616,Entradas!$A$3:$A$5000),1))),\"Preço não registrado\")","v":""},"",null,null,"",""]
[null,null,"",null,"","",null,{"$f":"IFERROR(IF(D3617=\"\",\"\",INDEX(Entradas!$H$3:$H$5000,MATCH(A3617,IF(Entradas!$B$3:$B$5000=D3617,Entradas!$A$3:$A$5000),1))),\"Preço não registrado\")","v":""},"",null,null,"",""]
[null,null,"",null,"","",null,{"$f":"IFERROR(IF(D3618=\"\",\"\",INDEX(Entradas!$H$3:$H$5000,MATCH(A3618,IF(Entradas!$B$3:$B$5000=D3618,Entradas!$A$3:$A$5000),1))),\"Preço não registrado\")","v":""},"",null,null,"",""]
[null,null,"",null,"","",null,{"$f":"IFERROR(IF(D3619=\"\",\"\",INDEX(Entradas!$H$3:$H$5000,MATCH(A3619,IF(Entradas!$B$3:$B$5000=D3619,Entradas!$A$3:$A$5000),1))),\"Preço não registrado\")","v":""},"",null,null,"",""]
[null,null,"",null,"","",null,{"$f":"IFERROR(IF(D3620=\"\",\"\",INDEX(Entradas!$H$3:$H$5000,MATCH(A3620,IF(Entradas!$B$3:$B$5000=D3620,Entradas!$A$3:$A$5000),1))),\"Preço não registrado\")","v":""},"",null,null,"",""]
[null,null,"",null,"","",null,{"$f":"IFERROR(IF(D3621=\"\",\"\",INDEX(Entradas!$H$3:$H$5000,MATCH(A3621,IF(Entradas!$B$3:$B$5000=D3621,Entradas!$A$3:$A$5000),1))),\"Preço não registrado\")","v":""},"",null,null,"",""]
[null,null,"",null,"","",null,{"$f":"IFERROR(IF(D3622=\"\",\"\",INDEX(Entradas!$H$3:$H$5000,MATCH(A3622,IF(Entradas!$B$3:$B$5000=D3622,Entradas!$A$3:$A$5000),1))),\"Preço não registrado\")","v":""},"",null,null,"",""]
[null,null,"",null,"","",null,{"$f":"IFERROR(IF(D3623=\"\",\"\",INDEX(Entradas!$H$3:$H$5000,MATCH(A3623,IF(Entradas!$B$3:$B$5000=D3623,Entradas!$A$3:$A$5000),1))),\"Preço não registrado\")","v":""},"",null,null,"",""]
[null,null,"",null,"","",null,{"$f":"IFERROR(IF(D3624=\"\",\"\",INDEX(Entradas!$H$3:$H$5000,MATCH(A3624,IF(Entradas!$B$3:$B$5000=D3624,Entradas!$A$3:$A$5000),1))),\"Preço não registrado\")","v":""},"",null,null,"",""]
[null,null,"",null,"","",null,{"$f":"IFERROR(IF(D3625=\"\",\"\",INDEX(Entradas!$H$3:$H$5000,MATCH(A3625,IF(Entradas!$B$3:$B$5000=D3625,Entradas!$A$3:$A$5000),1))),\"Preço não registrado\")","v":""},"",null,null,"",""]
[null,null,"",null,"","",null,{"$f":"IFERROR(IF(D3626=\"\",\"\",INDEX(Entradas!$H$3:$H$5000,MATCH(A3626,IF(Entradas!$B$3:$B$5000=D3626,Entradas!$A$3:$A$5000),1))),\"Preço não registrado\")","v":""},"",null,null,"",""]
[null,null,"",null,"","",null,{"$f":"IFERROR(IF(D3627=\"\",\"\",INDEX(Entradas!$H$3:$H$5000,MATCH(A3627,IF(Entradas!$B$3:$B$5000=D3627,Entradas!$A$3:$A$5000),1))),\"Preço não registrado\")","v":""},"",null,null,"",""]
[null,null,"",null,"","",null,{"$f":"IFERROR(IF(D3628=\"\",\"\",INDEX(Entradas!$H$3:$H$5000,MATCH(A3628,IF(Entradas!$B$3:$B$5000=D3628,Entradas!$A$3:$A$5000),1))),\"Preço não registrado\")","v":""},"",null,null,"",""]
[null,null,"",null,"","",null,{"$f":"IFERROR(IF(D3629=\"\",\"\",INDEX(Entradas!$H$3:$H$5000,MATCH(A3629,IF(Entradas!$B$3:$B$5000=D3629,Entradas!$A$3:$A$5000),1))),\"Preço não registrado\")","v":""},"",null,null,"",""]
[null,null,"",null,"","",null,{"$f":"IFERROR(IF(D3630=\"\",\"\",INDEX(Entradas!$H$3:$H$5000,MATCH(A3630,IF(Entradas!$B$3:$B$5000=D3630,Entradas!$A$3:$A$5000),1))),\"Preço não registrado\")","v":""},"",null,null,"",""]
[null,null,"",null,"","",null,{"$f":"IFERROR(IF(D3631=\"\",\"\",INDEX(Entradas!$H$3:$H$5000,MATCH(A3631,IF(Entradas!$B$3:$B$5000=D3631,Entradas!$A$3:$A$5000),1))),\"Preço não registrado\")","v":""},"",null,null,"",""]
[null,null,"",null,"","",null,{"$f":"IFERROR(IF(D3632=\"\",\"\",INDEX(Entradas!$H$3:$H$5000,MATCH(A3632,IF(Entradas!$B$3:$B$5000=D3632,Entradas!$A$3:$A$5000),1))),\"Preço não registrado\")","v":""},"",null,null,"",""]
[null,null,"",null,"","",null,{"$f":"IFERROR(IF(D3633=\"\",\"\",INDEX(Entradas!$H$3:$H$5000,MATCH(A3633,IF(Entradas!$B$3:$B$5000=D3633,Entradas!$A$3:$A$5000),1))),\"Preço não registrado\")","v":""},"",null,null,"",""]
[null,null,"",null,"","",null,{"$f":"IFERROR(IF(D3634=\"\",\"\",INDEX(Entradas!$H$3:$H$5000,MATCH(A3634,IF(Entradas!$B$3:$B$5000=D3634,Entradas!$A$3:$A$5000),1))),\"Preço não registrado\")","v":""},"",null,null,"",""]
[null,null,"",null,"","",null,{"$f":"IFERROR(IF(D3635=\"\",\"\",INDEX(Entradas!$H$3:$H$5000,MATCH(A3635,IF(Entradas!$B$3:$B$5000=D3635,Entradas!$A$3:$A$5000),1))),\"Preço não registrado\")","v":""},"",null,null,"",""]
[null,null,"",null,"","",null,{"$f":"IFERROR(IF(D3636=\"\",\"\",INDEX(Entradas!$H$3:$H$5000,MATCH(A3636,IF(Entradas!$B$3:$B$5000=D3636,Entradas!$A$3:$A$5000),1))),\"Preço não registrado\")","v":""},"",null,null,"",""]
[null,null,"",null,"","",null,{"$f":"IFERROR(IF(D3637=\"\",\"\",INDEX(Entradas!$H$3:$H$5000,MATCH(A3637,IF(Entradas!$B$3:$B$5000=D3637,Entradas!$A$3:$A$5000),1))),\"Preço não registrado\")","v":""},"",null,null,"",""]
[null,null,"",null,"","",null,{"$f":"IFERROR(IF(D3638=\"\",\"\",INDEX(Entradas!$H$3:$H$5000,MATCH(A3638,IF(Entradas!$B$3:$B$5000=D3638,Entradas!$A$3:$A$5000),1))),\"Preço não registrado\")","v":""},"",null,null,"",""]
[null,null,"",null,"","",null,{"$f":"IFERROR(IF(D3639=\"\",\"\",INDEX(Entradas!$H$3:$H$5000,MATCH(A3639,IF(Entradas!$B$3:$B$5000=D3639,Entradas!$A$3:$A$5000),1))),\"Preço não registrado\")","v":""},"",null,null,"",""]
[null,null,"",null,"","",null,{"$f":"IFERROR(IF(D3640=\"\",\"\",INDEX(Entradas!$H$3:$H$5000,MATCH(A3640,IF(Entradas!$B$3:$B$5000=D3640,Entradas!$A$3:$A$5000),1))),\"Preço não registrado\")","v":""},"",null,null,"",""]
[null,null,"",null,"","",null,{"$f":"IFERROR(IF(D3641=\"\",\"\",INDEX(Entradas!$H$3:$H$5000,MATCH(A3641,IF(Entradas!$B$3:$B$5000=D3641,Entradas!$A$3:$A$5000),1))),\"Preço não registrado\")","v":""},"",null,null,"",""]
[null,null,"",null,"","",null,{"$f":"IFERROR(IF(D3642=\"\",\"\",INDEX(Entradas!$H$3:$H$5000,MATCH(A3642,IF(Entradas!$B$3:$B$5000=D3642,Entradas!$A$3:$A$5000),1))),\"Preço não registrado\")","v":""},"",null,null,"",""]
[null,null,"",null,"","",null,{"$f":"IFERROR(IF(D3643=\"\",\"\",INDEX(Entradas!$H$3:$H$5000,MATCH(A3643,IF(Entradas!$B$3:$B$5000=D3643,Entradas!$A$3:$A$5000),1))),\"Preço não registrado\")","v":""},"",null,null,"",""]
[null,null,"",null,"","",null,{"$f":"IFERROR(IF(D3644=\"\",\"\",INDEX(Entradas!$H$3:$H$5000,MATCH(A3644,IF(Entradas!$B$3:$B$5000=D3644,Entradas!$A$3:$A$5000),1))),\"Preço não registrado\")","v":""},"",null,null,"",""]
[null,null,"",null,"","",null,{"$f":"IFERROR(IF(D3645=\"\",\"\",INDEX(Entradas!$H$3:$H$5000,MATCH(A3645,IF(Entradas!$B$3:$B$5000=D3645,Entradas!$A$3:$A$5000),1))),\"Preço não registrado\")","v":""},"",null,null,"",""]
[null,null,"",null,"","",null,{"$f":"IFERROR(IF(D3646=\"\",\"\",INDEX(Entradas!$H$3:$H$5000,MATCH(A3646,IF(Entradas!$B$3:$B$5000=D3646,Entradas!$A$3:$A$5000),1))),\"Preço não registrado\")","v":""},"",null,null,"",""]
[null,null,"",null,"","",null,{"$f":"IFERROR(IF(D3647=\"\",\"\",INDEX(Entradas!$H$3:$H$5000,MATCH(A3647,IF(Entradas!$B$3:$B$5000=D3647,Entradas!$A$3:$A$5000),1))),\"Preço não registrado\")","v":""},"",null,null,"",""]
[null,null,"",null,"","",null,{"$f":"IFERROR(IF(D3648=\"\",\"\",INDEX(Entradas!$H$3:$H$5000,MATCH(A3648,IF(Entradas!$B$3:$B$5000=D3648,Entradas!$A$3:$A$5000),1))),\"Preço não registrado\")","v":""},"",null,null,"",""]
[null,null,"",null,"","",null,{"$f":"IFERROR(IF(D3649=\"\",\"\",INDEX(Entradas!$H$3:$H$5000,MATCH(A3649,IF(Entradas!$B$3:$B$5000=D3649,Entradas!$A$3:$A$5000),1))),\"Preço não registrado\")","v":""},"",null,null,"",""]
[null,null,"",null,"","",null,{"$f":"IFERROR(IF(D3650=\"\",\"\",INDEX(Entradas!$H$3:$H$5000,MATCH(A3650,IF(Entradas!$B$3:$B$5000=D3650,Entradas!$A$3:$A$5000),1))),\"Preço não registrado\")","v":""},"",null,null,"",""]
[null,null,{"$f":"IFERROR(IF(B3651=\"\",\"\",VLOOKUP(B3651,Clientes,2,FALSE)),\"\")","v":""},null,{"$f":"IF(D3651=\"\",\"\",VLOOKUP(D3651,Itens,2,FALSE))","v":""},{"$f":"IF(D3651=\"\",\"\",VLOOKUP(D3651,Itens,3,FALSE))","v":""},null,{"$f":"IFERROR(IF(D3651=\"\",\"\",INDEX(Entradas!$H$3:$H$5000,MATCH(A3651,IF(Entradas!$B$3:$B$5000=D3651,Entradas!$A$3:$A$5000),1))),\"Preço não registrado\")","v":""},"",null,null,"",""]
[null,null,"",null,"","",null,{"$f":"IFERROR(IF(D3652=\"\",\"\",INDEX(Entradas!$H$3:$H$5000,MATCH(A3652,IF(Entradas!$B$3:$B$5000=D3652,Entradas!$A$3:$A$5000),1))),\"Preço não registrado\")","v":""},{"$f":"IFERROR(G3652*H3652,\"\")","v":""},null,null,{"$f":"IF(K3652=\"\",\"\",HYPERLINK($P$13&K3652,\"Rastreie aqui\"))","v":""},{"$f":"IF(A3652=\"\",\"\",TEXT(A3652,\"mmmm\"))","v":""}]
[null,null,"",null,"","",null,{"$f":"IFERROR(IF(D3653=\"\",\"\",INDEX(Entradas!$H$3:$H$5000,MATCH(A3653,IF(Entradas!$B$3:$B$5000=D3653,Entradas!$A$3:$A$5000),1))),\"Preço não registrado\")","v":""},"",null,null,"",""]
[null,null,"",null,"","",null,{"$f":"IFERROR(IF(D3654=\"\",\"\",INDEX(Entradas!$H$3:$H$5000,MATCH(A3654,IF(Entradas!$B$3:$B$5000=D3654,Entradas!$A$3:$A$5000),1))),\"Preço não registrado\")","v":""},"",null,null,"",""]
[null,null,"",null,"","",null,{"$f":"IFERROR(IF(D3655=\"\",\"\",INDEX(Entradas!$H$3:$H$5000,MATCH(A3655,IF(Entradas!$B$3:$B$5000=D3655,Entradas!$A$3:$A$5000),1))),\"Preço não registrado\")","v":""},"",null,null,"",""]
[null,null,"",null,"","",null,{"$f":"IFERROR(IF(D3656=\"\",\"\",INDEX(Entradas!$H$3:$H$5000,MATCH(A3656,IF(Entradas!$B$3:$B$5000=D3656,Entradas!$A$3:$A$5000),1))),\"Preço não registrado\")","v":""},"",null,null,"",""]
[null,null,"",null,"","",null,{"$f":"IFERROR(IF(D3657=\"\",\"\",INDEX(Entradas!$H$3:$H$5000,MATCH(A3657,IF(Entradas!$B$3:$B$5000=D3657,Entradas!$A$3:$A$5000),1))),\"Preço não registrado\")","v":""},"",null,null,"",""]
[null,null,"",null,"","",null,{"$f":"IFERROR(IF(D3658=\"\",\"\",INDEX(Entradas!$H$3:$H$5000,MATCH(A3658,IF(Entradas!$B$3:$B$5000=D3658,Entradas!$A$3:$A$5000),1))),\"Preço não registrado\")","v":""},"",null,null,"",""]
[null,null,"",null,"","",null,{"$f":"IFERROR(IF(D3659=\"\",\"\",INDEX(Entradas!$H$3:$H$5000,MATCH(A3659,IF(Entradas!$B$3:$B$5000=D3659,Entradas!$A$3:$A$5000),1))),\"Preço não registrado\")","v":""},"",null,null,"",""]
[null,null,"",null,"","",null,{"$f":"IFERROR(IF(D3660=\"\",\"\",INDEX(Entradas!$H$3:$H$5000,MATCH(A3660,IF(Entradas!$B$3:$B$5000=D3660,Entradas!$A$3:$A$5000),1))),\"Preço não registrado\")","v":""},"",null,null,"",""]
[null,null,"",null,"","",null,{"$f":"IFERROR(IF(D3661=\"\",\"\",INDEX(Entradas!$H$3:$H$5000,MATCH(A3661,IF(Entradas!$B$3:$B$5000=D3661,Entradas!$A$3:$A$5000),1))),\"Preço não registrado\")","v":""},"",null,null,"",""]
[null,null,"",null,"","",null,{"$f":"IFERROR(IF(D3662=\"\",\"\",INDEX(Entradas!$H$3:$H$5000,MATCH(A3662,IF(Entradas!$B$3:$B$5000=D3662,Entradas!$A$3:$A$5000),1))),\"Preço não registrado\")","v":""},"",null,null,"",""]
[null,null,"",null,"","",null,{"$f":"IFERROR(IF(D3663=\"\",\"\",INDEX(Entradas!$H$3:$H$5000,MATCH(A3663,IF(Entradas!$B$3:$B$5000=D3663,Entradas!$A$3:$A$5000),1))),\"Preço não registrado\")","v":""},"",null,null,"",""]
[null,null,"",null,"","",null,{"$f":"IFERROR(IF(D3664=\"\",\"\",INDEX(Entradas!$H$3:$H$5000,MATCH(A3664,IF(Entradas!$B$3:$B$5000=D3664,Entradas!$A$3:$A$5000),1))),\"Preço não registrado\")","v":""},"",null,null,"",""]
[null,null,"",null,"","",null,{"$f":"IFERROR(IF(D3665=\"\",\"\",INDEX(Entradas!$H$3:$H$5000,MATCH(A3665,IF(Entradas!$B$3:$B$5000=D3665,Entradas!$A$3:$A$5000),1))),\"Preço não registrado\")","v":""},"",null,null,"",""]
[null,null,"",null,"","",null,{"$f":"IFERROR(IF(D3666=\"\",\"\",INDEX(Entradas!$H$3:$H$5000,MATCH(A3666,IF(Entradas!$B$3:$B$5000=D3666,Entradas!$A$3:$A$5000),1))),\"Preço não registrado\")","v":""},"",null,null,"",""]
[null,null,"",null,"","",null,{"$f":"IFERROR(IF(D3667=\"\",\"\",INDEX(Entradas!$H$3:$H$5000,MATCH(A3667,IF(Entradas!$B$3:$B$5000=D3667,Entradas!$A$3:$A$5000),1))),\"Preço não registrado\")","v":""},"",null,null,"",""]
[null,null,"",null,"","",null,{"$f":"IFERROR(IF(D3668=\"\",\"\",INDEX(Entradas!$H$3:$H$5000,MATCH(A3668,IF(Entradas!$B$3:$B$5000=D3668,Entradas!$A$3:$A$5000),1))),\"Preço não registrado\")","v":""},"",null,null,"",""]
[null,null,"",null,"","",null,{"$f":"IFERROR(IF(D3669=\"\",\"\",INDEX(Entradas!$H$3:$H$5000,MATCH(A3669,IF(Entradas!$B$3:$B$5000=D3669,Entradas!$A$3:$A$5000),1))),\"Preço não registrado\")","v":""},"",null,null,"",""]
[null,null,"",null,"","",null,{"$f":"IFERROR(IF(D3670=\"\",\"\",INDEX(Entradas!$H$3:$H$5000,MATCH(A3670,IF(Entradas!$B$3:$B$5000=D3670,Entradas!$A$3:$A$5000),1))),\"Preço não registrado\")","v":""},"",null,null,"",""]
[null,null,"",null,"","",null,{"$f":"IFERROR(IF(D3671=\"\",\"\",INDEX(Entradas!$H$3:$H$5000,MATCH(A3671,IF(Entradas!$B$3:$B$5000=D3671,Entradas!$A$3:$A$5000),1))),\"Preço não registrado\")","v":""},"",null,null,"",""]
[null,null,"",null,"","",null,{"$f":"IFERROR(IF(D3672=\"\",\"\",INDEX(Entradas!$H$3:$H$5000,MATCH(A3672,IF(Entradas!$B$3:$B$5000=D3672,Entradas!$A$3:$A$5000),1))),\"Preço não registrado\")","v":""},"",null,null,"",""]
[null,null,"",null,"","",null,{"$f":"IFERROR(IF(D3673=\"\",\"\",INDEX(Entradas!$H$3:$H$5000,MATCH(A3673,IF(Entradas!$B$3:$B$5000=D3673,Entradas!$A$3:$A$5000),1))),\"Preço não registrado\")","v":""},"",null,null,"",""]
[null,null,"",null,"","",null,{"$f":"IFERROR(IF(D3674=\"\",\"\",INDEX(Entradas!$H$3:$H$5000,MATCH(A3674,IF(Entradas!$B$3:$B$5000=D3674,Entradas!$A$3:$A$5000),1))),\"Preço não registrado\")","v":""},"",null,null,"",""]
[null,null,"",null,"","",null,{"$f":"IFERROR(IF(D3675=\"\",\"\",INDEX(Entradas!$H$3:$H$5000,MATCH(A3675,IF(Entradas!$B$3:$B$5000=D3675,Entradas!$A$3:$A$5000),1))),\"Preço não registrado\")","v":""},"",null,null,"",""]
[null,null,"",null,"","",null,{"$f":"IFERROR(IF(D3676=\"\",\"\",INDEX(Entradas!$H$3:$H$5000,MATCH(A3676,IF(Entradas!$B$3:$B$5000=D3676,Entradas!$A$3:$A$5000),1))),\"Preço não registrado\")","v":""},"",null,null,"",""]
[null,null,"",null,"","",null,{"$f":"IFERROR(IF(D3677=\"\",\"\",INDEX(Entradas!$H$3:$H$5000,MATCH(A3677,IF(Entradas!$B$3:$B$5000=D3677,Entradas!$A$3:$A$5000),1))),\"Preço não registrado\")","v":""},"",null,null,"",""]
[null,null,"",null,"","",null,{"$f":"IFERROR(IF(D3678=\"\",\"\",INDEX(Entradas!$H$3:$H$5000,MATCH(A3678,IF(Entradas!$B$3:$B$5000=D3678,Entradas!$A$3:$A$5000),1))),\"Preço não registrado\")","v":""},"",null,null,"",""]
[null,null,"",null,"","",null,{"$f":"IFERROR(IF(D3679=\"\",\"\",INDEX(Entradas!$H$3:$H$5000,MATCH(A3679,IF(Entradas!$B$3:$B$5000=D3679,Entradas!$A$3:$A$5000),1))),\"Preço não registrado\")","v":""},"",null,null,"",""]
[null,null,"",null,"","",null,{"$f":"IFERROR(IF(D3680=\"\",\"\",INDEX(Entradas!$H$3:$H$5000,MATCH(A3680,IF(Entradas!$B$3:$B$5000=D3680,Entradas!$A$3:$A$5000),1))),\"Preço não registrado\")","v":""},"",null,null,"",""]
[null,null,"",null,"","",null,{"$f":"IFERROR(IF(D3681=\"\",\"\",INDEX(Entradas!$H$3:$H$5000,MATCH(A3681,IF(Entradas!$B$3:$B$5000=D3681,Entradas!$A$3:$A$5000),1))),\"Preço não registrado\")","v":""},"",null,null,"",""]
[null,null,"",null,"","",null,{"$f":"IFERROR(IF(D3682=\"\",\"\",INDEX(Entradas!$H$3:$H$5000,MATCH(A3682,IF(Entradas!$B$3:$B$5000=D3682,Entradas!$A$3:$A$5000),1))),\"Preço não registrado\")","v":""},"",null,null,"",""]
[null,null,"",null,"","",null,{"$f":"IFERROR(IF(D3683=\"\",\"\",INDEX(Entradas!$H$3:$H$5000,MATCH(A3683,IF(Entradas!$B$3:$B$5000=D3683,Entradas!$A$3:$A$5000),1))),\"Preço não registrado\")","v":""},"",null,null,"",""]
[null,null,"",null,"","",null,{"$f":"IFERROR(IF(D3684=\"\",\"\",INDEX(Entradas!$H$3:$H$5000,MATCH(A3684,IF(Entradas!$B$3:$B$5000=D3684,Entradas!$A$3:$A$5000),1))),\"Preço não registrado\")","v":""},"",null,null,"",""]
[null,null,"",null,"","",null,{"$f":"IFERROR(IF(D3685=\"\",\"\",INDEX(Entradas!$H$3:$H$5000,MATCH(A3685,IF(Entradas!$B$3:$B$5000=D3685,Entradas!$A$3:$A$5000),1))),\"Preço não registrado\")","v":""},"",null,null,"",""]
[null,null,"",null,"","",null,{"$f":"IFERROR(IF(D3686=\"\",\"\",INDEX(Entradas!$H$3:$H$5000,MATCH(A3686,IF(Entradas!$B$3:$B$5000=D3686,Entradas!$A$3:$A$5000),1))),\"Preço não registrado\")","v":""},"",null,null,"",""]
[null,null,"",null,"","",null,{"$f":"IFERROR(IF(D3687=\"\",\"\",INDEX(Entradas!$H$3:$H$5000,MATCH(A3687,IF(Entradas!$B$3:$B$5000=D3687,Entradas!$A$3:$A$5000),1))),\"Preço não registrado\")","v":""},"",null,null,"",""]
[null,null,"",null,"","",null,{"$f":"IFERROR(IF(D3688=\"\",\"\",INDEX(Entradas!$H$3:$H$5000,MATCH(A3688,IF(Entradas!$B$3:$B$5000=D3688,Entradas!$A$3:$A$5000),1))),\"Preço não registrado\")","v":""},"",null,null,"",""]
[null,null,"",null,"","",null,{"$f":"IFERROR(IF(D3689=\"\",\"\",INDEX(Entradas!$H$3:$H$5000,MATCH(A3689,IF(Entradas!$B$3:$B$5000=D3689,Entradas!$A$3:$A$5000),1))),\"Preço não registrado\")","v":""},"",null,null,"",""]
[null,null,"",null,"","",null,{"$f":"IFERROR(IF(D3690=\"\",\"\",INDEX(Entradas!$H$3:$H$5000,MATCH(A3690,IF(Entradas!$B$3:$B$5000=D3690,Entradas!$A$3:$A$5000),1))),\"Preço não registrado\")","v":""},"",null,null,"",""]
[null,null,"",null,"","",null,{"$f":"IFERROR(IF(D3691=\"\",\"\",INDEX(Entradas!$H$3:$H$5000,MATCH(A3691,IF(Entradas!$B$3:$B$5000=D3691,Entradas!$A$3:$A$5000),1))),\"Preço não registrado\")","v":""},"",null,null,"",""]
[null,null,"",null,"","",null,{"$f":"IFERROR(IF(D3692=\"\",\"\",INDEX(Entradas!$H$3:$H$5000,MATCH(A3692,IF(Entradas!$B$3:$B$5000=D3692,Entradas!$A$3:$A$5000),1))),\"Preço não registrado\")","v":""},"",null,null,"",""]
[null,null,"",null,"","",null,{"$f":"IFERROR(IF(D3693=\"\",\"\",INDEX(Entradas!$H$3:$H$5000,MATCH(A3693,IF(Entradas!$B$3:$B$5000=D3693,Entradas!$A$3:$A$5000),1))),\"Preço não registrado\")","v":""},"",null,null,"",""]
[null,null,"",null,"","",null,{"$f":"IFERROR(IF(D3694=\"\",\"\",INDEX(Entradas!$H$3:$H$5000,MATCH(A3694,IF(Entradas!$B$3:$B$5000=D3694,Entradas!$A$3:$A$5000),1))),\"Preço não registrado\")","v":""},"",null,null,"",""]
[null,null,"",null,"","",null,{"$f":"IFERROR(IF(D3695=\"\",\"\",INDEX(Entradas!$H$3:$H$5000,MATCH(A3695,IF(Entradas!$B$3:$B$5000=D3695,Entradas!$A$3:$A$5000),1))),\"Preço não registrado\")","v":""},"",null,null,"",""]
[null,null,"",null,"","",null,{"$f":"IFERROR(IF(D3696=\"\",\"\",INDEX(Entradas!$H$3:$H$5000,MATCH(A3696,IF(Entradas!$B$3:$B$5000=D3696,Entradas!$A$3:$A$5000),1))),\"Preço não registrado\")","v":""},"",null,null,"",""]
[null,null,"",null,"","",null,{"$f":"IFERROR(IF(D3697=\"\",\"\",INDEX(Entradas!$H$3:$H$5000,MATCH(A3697,IF(Entradas!$B$3:$B$5000=D3697,Entradas!$A$3:$A$5000),1))),\"Preço não registrado\")","v":""},"",null,null,"",""]
[null,null,"",null,"","",null,{"$f":"IFERROR(IF(D3698=\"\",\"\",INDEX(Entradas!$H$3:$H$5000,MATCH(A3698,IF(Entradas!$B$3:$B$5000=D3698,Entradas!$A$3:$A$5000),1))),\"Preço não registrado\")","v":""},"",null,null,"",""]
[null,null,"",null,"","",null,{"$f":"IFERROR(IF(D3699=\"\",\"\",INDEX(Entradas!$H$3:$H$5000,MATCH(A3699,IF(Entradas!$B$3:$B$5000=D3699,Entradas!$A$3:$A$5000),1))),\"Preço não registrado\")","v":""},"",null,null,"",""]
[null,null,"",null,"","",null,{"$f":"IFERROR(IF(D3700=\"\",\"\",INDEX(Entradas!$H$3:$H$5000,MATCH(A3700,IF(Entradas!$B$3:$B$5000=D3700,Entradas!$A$3:$A$5000),1))),\"Preço não registrado\")","v":""},"",null,null,"",""]
[null,null,"",null,"","",null,{"$f":"IFERROR(IF(D3701=\"\",\"\",INDEX(Entradas!$H$3:$H$5000,MATCH(A3701,IF(Entradas!$B$3:$B$5000=D3701,Entradas!$A$3:$A$5000),1))),\"Preço não registrado\")","v":""},"",null,null,"",""]
[null,null,"",null,"","",null,{"$f":"IFERROR(IF(D3702=\"\",\"\",INDEX(Entradas!$H$3:$H$5000,MATCH(A3702,IF(Entradas!$B$3:$B$5000=D3702,Entradas!$A$3:$A$5000),1))),\"Preço não registrado\")","v":""},"",null,null,"",""]
[null,null,"",null,"","",null,{"$f":"IFERROR(IF(D3703=\"\",\"\",INDEX(Entradas!$H$3:$H$5000,MATCH(A3703,IF(Entradas!$B$3:$B$5000=D3703,Entradas!$A$3:$A$5000),1))),\"Preço não registrado\")","v":""},"",null,null,"",""]
[null,null,"",null,"","",null,{"$f":"IFERROR(IF(D3704=\"\",\"\",INDEX(Entradas!$H$3:$H$5000,MATCH(A3704,IF(Entradas!$B$3:$B$5000=D3704,Entradas!$A$3:$A$5000),1))),\"Preço não registrado\")","v":""},"",null,null,"",""]
[null,null,"",null,"","",null,{"$f":"IFERROR(IF(D3705=\"\",\"\",INDEX(Entradas!$H$3:$H$5000,MATCH(A3705,IF(Entradas!$B$3:$B$5000=D3705,Entradas!$A$3:$A$5000),1))),\"Preço não registrado\")","v":""},"",null,null,"",""]
[null,null,"",null,"","",null,{"$f":"IFERROR(IF(D3706=\"\",\"\",INDEX(Entradas!$H$3:$H$5000,MATCH(A3706,IF(Entradas!$B$3:$B$5000=D3706,Entradas!$A$3:$A$5000),1))),\"Preço não registrado\")","v":""},"",null,null,"",""]
[null,null,"",null,"","",null,{"$f":"IFERROR(IF(D3707=\"\",\"\",INDEX(Entradas!$H$3:$H$5000,MATCH(A3707,IF(Entradas!$B$3:$B$5000=D3707,Entradas!$A$3:$A$5000),1))),\"Preço não registrado\")","v":""},"",null,null,"",""]
[null,null,"",null,"","",null,{"$f":"IFERROR(IF(D3708=\"\",\"\",INDEX(Entradas!$H$3:$H$5000,MATCH(A3708,IF(Entradas!$B$3:$B$5000=D3708,Entradas!$A$3:$A$5000),1))),\"Preço não registrado\")","v":""},"",null,null,"",""]
[null,null,"",null,"","",null,{"$f":"IFERROR(IF(D3709=\"\",\"\",INDEX(Entradas!$H$3:$H$5000,MATCH(A3709,IF(Entradas!$B$3:$B$5000=D3709,Entradas!$A$3:$A$5000),1))),\"Preço não registrado\")","v":""},"",null,null,"",""]
[null,null,"",null,"","",null,{"$f":"IFERROR(IF(D3710=\"\",\"\",INDEX(Entradas!$H$3:$H$5000,MATCH(A3710,IF(Entradas!$B$3:$B$5000=D3710,Entradas!$A$3:$A$5000),1))),\"Preço não registrado\")","v":""},"",null,null,"",""]
[null,null,"",null,"","",null,{"$f":"IFERROR(IF(D3711=\"\",\"\",INDEX(Entradas!$H$3:$H$5000,MATCH(A3711,IF(Entradas!$B$3:$B$5000=D3711,Entradas!$A$3:$A$5000),1))),\"Preço não registrado\")","v":""},"",null,null,"",""]
[null,null,"",null,"","",null,{"$f":"IFERROR(IF(D3712=\"\",\"\",INDEX(Entradas!$H$3:$H$5000,MATCH(A3712,IF(Entradas!$B$3:$B$5000=D3712,Entradas!$A$3:$A$5000),1))),\"Preço não registrado\")","v":""},"",null,null,"",""]
[null,null,"",null,"","",null,{"$f":"IFERROR(IF(D3713=\"\",\"\",INDEX(Entradas!$H$3:$H$5000,MATCH(A3713,IF(Entradas!$B$3:$B$5000=D3713,Entradas!$A$3:$A$5000),1))),\"Preço não registrado\")","v":""},"",null,null,"",""]
[null,null,"",null,"","",null,{"$f":"IFERROR(IF(D3714=\"\",\"\",INDEX(Entradas!$H$3:$H$5000,MATCH(A3714,IF(Entradas!$B$3:$B$5000=D3714,Entradas!$A$3:$A$5000),1))),\"Preço não registrado\")","v":""},"",null,null,"",""]
[null,null,{"$f":"IFERROR(IF(B3715=\"\",\"\",VLOOKUP(B3715,Clientes,2,FALSE)),\"\")","v":""},null,{"$f":"IF(D3715=\"\",\"\",VLOOKUP(D3715,Itens,2,FALSE))","v":""},{"$f":"IF(D3715=\"\",\"\",VLOOKUP(D3715,Itens,3,FALSE))","v":""},null,{"$f":"IFERROR(IF(D3715=\"\",\"\",INDEX(Entradas!$H$3:$H$5000,MATCH(A3715,IF(Entradas!$B$3:$B$5000=D3715,Entradas!$A$3:$A$5000),1))),\"Preço não registrado\")","v":""},"",null,null,"",""]
[null,null,"",null,"","",null,{"$f":"IFERROR(IF(D3716=\"\",\"\",INDEX(Entradas!$H$3:$H$5000,MATCH(A3716,IF(Entradas!$B$3:$B$5000=D3716,Entradas!$A$3:$A$5000),1))),\"Preço não registrado\")","v":""},{"$f":"IFERROR(G3716*H3716,\"\")","v":""},null,null,{"$f":"IF(K3716=\"\",\"\",HYPERLINK($P$13&K3716,\"Rastreie aqui\"))","v":""},{"$f":"IF(A3716=\"\",\"\",TEXT(A3716,\"mmmm\"))","v":""}]
[null,null,"",null,"","",null,{"$f":"IFERROR(IF(D3717=\"\",\"\",INDEX(Entradas!$H$3:$H$5000,MATCH(A3717,IF(Entradas!$B$3:$B$5000=D3717,Entradas!$A$3:$A$5000),1))),\"Preço não registrado\")","v":""},"",null,null,"",""]
[null,null,"",null,"","",null,{"$f":"IFERROR(IF(D3718=\"\",\"\",INDEX(Entradas!$H$3:$H$5000,MATCH(A3718,IF(Entradas!$B$3:$B$5000=D3718,Entradas!$A$3:$A$5000),1))),\"Preço não registrado\")","v":""},"",null,null,"",""]
[null,null,"",null,"","",null,{"$f":"IFERROR(IF(D3719=\"\",\"\",INDEX(Entradas!$H$3:$H$5000,MATCH(A3719,IF(Entradas!$B$3:$B$5000=D3719,Entradas!$A$3:$A$5000),1))),\"Preço não registrado\")","v":""},"",null,null,"",""]
[null,null,"",null,"","",null,{"$f":"IFERROR(IF(D3720=\"\",\"\",INDEX(Entradas!$H$3:$H$5000,MATCH(A3720,IF(Entradas!$B$3:$B$5000=D3720,Entradas!$A$3:$A$5000),1))),\"Preço não registrado\")","v":""},"",null,null,"",""]
[null,null,"",null,"","",null,{"$f":"IFERROR(IF(D3721=\"\",\"\",INDEX(Entradas!$H$3:$H$5000,MATCH(A3721,IF(Entradas!$B$3:$B$5000=D3721,Entradas!$A$3:$A$5000),1))),\"Preço não registrado\")","v":""},"",null,null,"",""]
[null,null,"",null,"","",null,{"$f":"IFERROR(IF(D3722=\"\",\"\",INDEX(Entradas!$H$3:$H$5000,MATCH(A3722,IF(Entradas!$B$3:$B$5000=D3722,Entradas!$A$3:$A$5000),1))),\"Preço não registrado\")","v":""},"",null,null,"",""]
[null,null,"",null,"","",null,{"$f":"IFERROR(IF(D3723=\"\",\"\",INDEX(Entradas!$H$3:$H$5000,MATCH(A3723,IF(Entradas!$B$3:$B$5000=D3723,Entradas!$A$3:$A$5000),1))),\"Preço não registrado\")","v":""},"",null,null,"",""]
[null,null,"",null,"","",null,{"$f":"IFERROR(IF(D3724=\"\",\"\",INDEX(Entradas!$H$3:$H$5000,MATCH(A3724,IF(Entradas!$B$3:$B$5000=D3724,Entradas!$A$3:$A$5000),1))),\"Preço não registrado\")","v":""},"",null,null,"",""]
[null,null,"",null,"","",null,{"$f":"IFERROR(IF(D3725=\"\",\"\",INDEX(Entradas!$H$3:$H$5000,MATCH(A3725,IF(Entradas!$B$3:$B$5000=D3725,Entradas!$A$3:$A$5000),1))),\"Preço não registrado\")","v":""},"",null,null,"",""]
[null,null,"",null,"","",null,{"$f":"IFERROR(IF(D3726=\"\",\"\",INDEX(Entradas!$H$3:$H$5000,MATCH(A3726,IF(Entradas!$B$3:$B$5000=D3726,Entradas!$A$3:$A$5000),1))),\"Preço não registrado\")","v":""},"",null,null,"",""]
[null,null,"",null,"","",null,{"$f":"IFERROR(IF(D3727=\"\",\"\",INDEX(Entradas!$H$3:$H$5000,MATCH(A3727,IF(Entradas!$B$3:$B$5000=D3727,Entradas!$A$3:$A$5000),1))),\"Preço não registrado\")","v":""},"",null,null,"",""]
[null,null,"",null,"","",null,{"$f":"IFERROR(IF(D3728=\"\",\"\",INDEX(Entradas!$H$3:$H$5000,MATCH(A3728,IF(Entradas!$B$3:$B$5000=D3728,Entradas!$A$3:$A$5000),1))),\"Preço não registrado\")","v":""},"",null,null,"",""]
[null,null,"",null,"","",null,{"$f":"IFERROR(IF(D3729=\"\",\"\",INDEX(Entradas!$H$3:$H$5000,MATCH(A3729,IF(Entradas!$B$3:$B$5000=D3729,Entradas!$A$3:$A$5000),1))),\"Preço não registrado\")","v":""},"",null,null,"",""]
[null,null,"",null,"","",null,{"$f":"IFERROR(IF(D3730=\"\",\"\",INDEX(Entradas!$H$3:$H$5000,MATCH(A3730,IF(Entradas!$B$3:$B$5000=D3730,Entradas!$A$3:$A$5000),1))),\"Preço não registrado\")","v":""},"",null,null,"",""]
[null,null,"",null,"","",null,{"$f":"IFERROR(IF(D3731=\"\",\"\",INDEX(Entradas!$H$3:$H$5000,MATCH(A3731,IF(Entradas!$B$3:$B$5000=D3731,Entradas!$A$3:$A$5000),1))),\"Preço não registrado\")","v":""},"",null,null,"",""]
[null,null,"",null,"","",null,{"$f":"IFERROR(IF(D3732=\"\",\"\",INDEX(Entradas!$H$3:$H$5000,MATCH(A3732,IF(Entradas!$B$3:$B$5000=D3732,Entradas!$A$3:$A$5000),1))),\"Preço não registrado\")","v":""},"",null,null,"",""]
[null,null,"",null,"","",null,{"$f":"IFERROR(IF(D3733=\"\",\"\",INDEX(Entradas!$H$3:$H$5000,MATCH(A3733,IF(Entradas!$B$3:$B$5000=D3733,Entradas!$A$3:$A$5000),1))),\"Preço não registrado\")","v":""},"",null,null,"",""]
[null,null,"",null,"","",null,{"$f":"IFERROR(IF(D3734=\"\",\"\",INDEX(Entradas!$H$3:$H$5000,MATCH(A3734,IF(Entradas!$B$3:$B$5000=D3734,Entradas!$A$3:$A$5000),1))),\"Preço não registrado\")","v":""},"",null,null,"",""]
[null,null,"",null,"","",null,{"$f":"IFERROR(IF(D3735=\"\",\"\",INDEX(Entradas!$H$3:$H$5000,MATCH(A3735,IF(Entradas!$B$3:$B$5000=D3735,Entradas!$A$3:$A$5000),1))),\"Preço não registrado\")","v":""},"",null,null,"",""]
[null,null,"",null,"","",null,{"$f":"IFERROR(IF(D3736=\"\",\"\",INDEX(Entradas!$H$3:$H$5000,MATCH(A3736,IF(Entradas!$B$3:$B$5000=D3736,Entradas!$A$3:$A$5000),1))),\"Preço não registrado\")","v":""},"",null,null,"",""]
[null,null,"",null,"","",null,{"$f":"IFERROR(IF(D3737=\"\",\"\",INDEX(Entradas!$H$3:$H$5000,MATCH(A3737,IF(Entradas!$B$3:$B$5000=D3737,Entradas!$A$3:$A$5000),1))),\"Preço não registrado\")","v":""},"",null,null,"",""]
[null,null,"",null,"","",null,{"$f":"IFERROR(IF(D3738=\"\",\"\",INDEX(Entradas!$H$3:$H$5000,MATCH(A3738,IF(Entradas!$B$3:$B$5000=D3738,Entradas!$A$3:$A$5000),1))),\"Preço não registrado\")","v":""},"",null,null,"",""]
[null,null,"",null,"","",null,{"$f":"IFERROR(IF(D3739=\"\",\"\",INDEX(Entradas!$H$3:$H$5000,MATCH(A3739,IF(Entradas!$B$3:$B$5000=D3739,Entradas!$A$3:$A$5000),1))),\"Preço não registrado\")","v":""},"",null,null,"",""]
[null,null,"",null,"","",null,{"$f":"IFERROR(IF(D3740=\"\",\"\",INDEX(Entradas!$H$3:$H$5000,MATCH(A3740,IF(Entradas!$B$3:$B$5000=D3740,Entradas!$A$3:$A$5000),1))),\"Preço não registrado\")","v":""},"",null,null,"",""]
[null,null,"",null,"","",null,{"$f":"IFERROR(IF(D3741=\"\",\"\",INDEX(Entradas!$H$3:$H$5000,MATCH(A3741,IF(Entradas!$B$3:$B$5000=D3741,Entradas!$A$3:$A$5000),1))),\"Preço não registrado\")","v":""},"",null,null,"",""]
[null,null,"",null,"","",null,{"$f":"IFERROR(IF(D3742=\"\",\"\",INDEX(Entradas!$H$3:$H$5000,MATCH(A3742,IF(Entradas!$B$3:$B$5000=D3742,Entradas!$A$3:$A$5000),1))),\"Preço não registrado\")","v":""},"",null,null,"",""]
[null,null,"",null,"","",null,{"$f":"IFERROR(IF(D3743=\"\",\"\",INDEX(Entradas!$H$3:$H$5000,MATCH(A3743,IF(Entradas!$B$3:$B$5000=D3743,Entradas!$A$3:$A$5000),1))),\"Preço não registrado\")","v":""},"",null,null,"",""]
[null,null,"",null,"","",null,{"$f":"IFERROR(IF(D3744=\"\",\"\",INDEX(Entradas!$H$3:$H$5000,MATCH(A3744,IF(Entradas!$B$3:$B$5000=D3744,Entradas!$A$3:$A$5000),1))),\"Preço não registrado\")","v":""},"",null,null,"",""]
[null,null,"",null,"","",null,{"$f":"IFERROR(IF(D3745=\"\",\"\",INDEX(Entradas!$H$3:$H$5000,MATCH(A3745,IF(Entradas!$B$3:$B$5000=D3745,Entradas!$A$3:$A$5000),1))),\"Preço não registrado\")","v":""},"",null,null,"",""]
[null,null,"",null,"","",null,{"$f":"IFERROR(IF(D3746=\"\",\"\",INDEX(Entradas!$H$3:$H$5000,MATCH(A3746,IF(Entradas!$B$3:$B$5000=D3746,Entradas!$A$3:$A$5000),1))),\"Preço não registrado\")","v":""},"",null,null,"",""]
[null,null,"",null,"","",null,{"$f":"IFERROR(IF(D3747=\"\",\"\",INDEX(Entradas!$H$3:$H$5000,MATCH(A3747,IF(Entradas!$B$3:$B$5000=D3747,Entradas!$A$3:$A$5000),1))),\"Preço não registrado\")","v":""},"",null,null,"",""]
[null,null,"",null,"","",null,{"$f":"IFERROR(IF(D3748=\"\",\"\",INDEX(Entradas!$H$3:$H$5000,MATCH(A3748,IF(Entradas!$B$3:$B$5000=D3748,Entradas!$A$3:$A$5000),1))),\"Preço não registrado\")","v":""},"",null,null,"",""]
[null,null,"",null,"","",null,{"$f":"IFERROR(IF(D3749=\"\",\"\",INDEX(Entradas!$H$3:$H$5000,MATCH(A3749,IF(Entradas!$B$3:$B$5000=D3749,Entradas!$A$3:$A$5000),1))),\"Preço não registrado\")","v":""},"",null,null,"",""]
[null,null,"",null,"","",null,{"$f":"IFERROR(IF(D3750=\"\",\"\",INDEX(Entradas!$H$3:$H$5000,MATCH(A3750,IF(Entradas!$B$3:$B$5000=D3750,Entradas!$A$3:$A$5000),1))),\"Preço não registrado\")","v":""},"",null,null,"",""]
[null,null,"",null,"","",null,{"$f":"IFERROR(IF(D3751=\"\",\"\",INDEX(Entradas!$H$3:$H$5000,MATCH(A3751,IF(Entradas!$B$3:$B$5000=D3751,Entradas!$A$3:$A$5000),1))),\"Preço não registrado\")","v":""},"",null,null,"",""]
[null,null,"",null,"","",null,{"$f":"IFERROR(IF(D3752=\"\",\"\",INDEX(Entradas!$H$3:$H$5000,MATCH(A3752,IF(Entradas!$B$3:$B$5000=D3752,Entradas!$A$3:$A$5000),1))),\"Preço não registrado\")","v":""},"",null,null,"",""]
[null,null,"",null,"","",null,{"$f":"IFERROR(IF(D3753=\"\",\"\",INDEX(Entradas!$H$3:$H$5000,MATCH(A3753,IF(Entradas!$B$3:$B$5000=D3753,Entradas!$A$3:$A$5000),1))),\"Preço não registrado\")","v":""},"",null,null,"",""]
[null,null,"",null,"","",null,{"$f":"IFERROR(IF(D3754=\"\",\"\",INDEX(Entradas!$H$3:$H$5000,MATCH(A3754,IF(Entradas!$B$3:$B$5000=D3754,Entradas!$A$3:$A$5000),1))),\"Preço não registrado\")","v":""},"",null,null,"",""]
[null,null,"",null,"","",null,{"$f":"IFERROR(IF(D3755=\"\",\"\",INDEX(Entradas!$H$3:$H$5000,MATCH(A3755,IF(Entradas!$B$3:$B$5000=D3755,Entradas!$A$3:$A$5000),1))),\"Preço não registrado\")","v":""},"",null,null,"",""]
[null,null,"",null,"","",null,{"$f":"IFERROR(IF(D3756=\"\",\"\",INDEX(Entradas!$H$3:$H$5000,MATCH(A3756,IF(Entradas!$B$3:$B$5000=D3756,Entradas!$A$3:$A$5000),1))),\"Preço não registrado\")","v":""},"",null,null,"",""]
[null,null,"",null,"","",null,{"$f":"IFERROR(IF(D3757=\"\",\"\",INDEX(Entradas!$H$3:$H$5000,MATCH(A3757,IF(Entradas!$B$3:$B$5000=D3757,Entradas!$A$3:$A$5000),1))),\"Preço não registrado\")","v":""},"",null,null,"",""]
[null,null,"",null,"","",null,{"$f":"IFERROR(IF(D3758=\"\",\"\",INDEX(Entradas!$H$3:$H$5000,MATCH(A3758,IF(Entradas!$B$3:$B$5000=D3758,Entradas!$A$3:$A$5000),1))),\"Preço não registrado\")","v":""},"",null,null,"",""]
[null,null,"",null,"","",null,{"$f":"IFERROR(IF(D3759=\"\",\"\",INDEX(Entradas!$H$3:$H$5000,MATCH(A3759,IF(Entradas!$B$3:$B$5000=D3759,Entradas!$A$3:$A$5000),1))),\"Preço não registrado\")","v":""},"",null,null,"",""]
[null,null,"",null,"","",null,{"$f":"IFERROR(IF(D3760=\"\",\"\",INDEX(Entradas!$H$3:$H$5000,MATCH(A3760,IF(Entradas!$B$3:$B$5000=D3760,Entradas!$A$3:$A$5000),1))),\"Preço não registrado\")","v":""},"",null,null,"",""]
[null,null,"",null,"","",null,{"$f":"IFERROR(IF(D3761=\"\",\"\",INDEX(Entradas!$H$3:$H$5000,MATCH(A3761,IF(Entradas!$B$3:$B$5000=D3761,Entradas!$A$3:$A$5000),1))),\"Preço não registrado\")","v":""},"",null,null,"",""]
[null,null,"",null,"","",null,{"$f":"IFERROR(IF(D3762=\"\",\"\",INDEX(Entradas!$H$3:$H$5000,MATCH(A3762,IF(Entradas!$B$3:$B$5000=D3762,Entradas!$A$3:$A$5000),1))),\"Preço não registrado\")","v":""},"",null,null,"",""]
[null,null,"",null,"","",null,{"$f":"IFERROR(IF(D3763=\"\",\"\",INDEX(Entradas!$H$3:$H$5000,MATCH(A3763,IF(Entradas!$B$3:$B$5000=D3763,Entradas!$A$3:$A$5000),1))),\"Preço não registrado\")","v":""},"",null,null,"",""]
[null,null,"",null,"","",null,{"$f":"IFERROR(IF(D3764=\"\",\"\",INDEX(Entradas!$H$3:$H$5000,MATCH(A3764,IF(Entradas!$B$3:$B$5000=D3764,Entradas!$A$3:$A$5000),1))),\"Preço não registrado\")","v":""},"",null,null,"",""]
[null,null,"",null,"","",null,{"$f":"IFERROR(IF(D3765=\"\",\"\",INDEX(Entradas!$H$3:$H$5000,MATCH(A3765,IF(Entradas!$B$3:$B$5000=D3765,Entradas!$A$3:$A$5000),1))),\"Preço não registrado\")","v":""},"",null,null,"",""]
[null,null,"",null,"","",null,{"$f":"IFERROR(IF(D3766=\"\",\"\",INDEX(Entradas!$H$3:$H$5000,MATCH(A3766,IF(Entradas!$B$3:$B$5000=D3766,Entradas!$A$3:$A$5000),1))),\"Preço não registrado\")","v":""},"",null,null,"",""]
[null,null,"",null,"","",null,{"$f":"IFERROR(IF(D3767=\"\",\"\",INDEX(Entradas!$H$3:$H$5000,MATCH(A3767,IF(Entradas!$B$3:$B$5000=D3767,Entradas!$A$3:$A$5000),1))),\"Preço não registrado\")","v":""},"",null,null,"",""]
[null,null,"",null,"","",null,{"$f":"IFERROR(IF(D3768=\"\",\"\",INDEX(Entradas!$H$3:$H$5000,MATCH(A3768,IF(Entradas!$B$3:$B$5000=D3768,Entradas!$A$3:$A$5000),1))),\"Preço não registrado\")","v":""},"",null,null,"",""]
[null,null,"",null,"","",null,{"$f":"IFERROR(IF(D3769=\"\",\"\",INDEX(Entradas!$H$3:$H$5000,MATCH(A3769,IF(Entradas!$B$3:$B$5000=D3769,Entradas!$A$3:$A$5000),1))),\"Preço não registrado\")","v":""},"",null,null,"",""]
[null,null,"",null,"","",null,{"$f":"IFERROR(IF(D3770=\"\",\"\",INDEX(Entradas!$H$3:$H$5000,MATCH(A3770,IF(Entradas!$B$3:$B$5000=D3770,Entradas!$A$3:$A$5000),1))),\"Preço não registrado\")","v":""},"",null,null,"",""]
[null,null,"",null,"","",null,{"$f":"IFERROR(IF(D3771=\"\",\"\",INDEX(Entradas!$H$3:$H$5000,MATCH(A3771,IF(Entradas!$B$3:$B$5000=D3771,Entradas!$A$3:$A$5000),1))),\"Preço não registrado\")","v":""},"",null,null,"",""]
[null,null,"",null,"","",null,{"$f":"IFERROR(IF(D3772=\"\",\"\",INDEX(Entradas!$H$3:$H$5000,MATCH(A3772,IF(Entradas!$B$3:$B$5000=D3772,Entradas!$A$3:$A$5000),1))),\"Preço não registrado\")","v":""},"",null,null,"",""]
[null,null,"",null,"","",null,{"$f":"IFERROR(IF(D3773=\"\",\"\",INDEX(Entradas!$H$3:$H$5000,MATCH(A3773,IF(Entradas!$B$3:$B$5000=D3773,Entradas!$A$3:$A$5000),1))),\"Preço não registrado\")","v":""},"",null,null,"",""]
[null,null,"",null,"","",null,{"$f":"IFERROR(IF(D3774=\"\",\"\",INDEX(Entradas!$H$3:$H$5000,MATCH(A3774,IF(Entradas!$B$3:$B$5000=D3774,Entradas!$A$3:$A$5000),1))),\"Preço não registrado\")","v":""},"",null,null,"",""]
[null,null,"",null,"","",null,{"$f":"IFERROR(IF(D3775=\"\",\"\",INDEX(Entradas!$H$3:$H$5000,MATCH(A3775,IF(Entradas!$B$3:$B$5000=D3775,Entradas!$A$3:$A$5000),1))),\"Preço não registrado\")","v":""},"",null,null,"",""]
[null,null,"",null,"","",null,{"$f":"IFERROR(IF(D3776=\"\",\"\",INDEX(Entradas!$H$3:$H$5000,MATCH(A3776,IF(Entradas!$B$3:$B$5000=D3776,Entradas!$A$3:$A$5000),1))),\"Preço não registrado\")","v":""},"",null,null,"",""]
[null,null,"",null,"","",null,{"$f":"IFERROR(IF(D3777=\"\",\"\",INDEX(Entradas!$H$3:$H$5000,MATCH(A3777,IF(Entradas!$B$3:$B$5000=D3777,Entradas!$A$3:$A$5000),1))),\"Preço não registrado\")","v":""},"",null,null,"",""]
[null,null,"",null,"","",null,{"$f":"IFERROR(IF(D3778=\"\",\"\",INDEX(Entradas!$H$3:$H$5000,MATCH(A3778,IF(Entradas!$B$3:$B$5000=D3778,Entradas!$A$3:$A$5000),1))),\"Preço não registrado\")","v":""},"",null,null,"",""]
[null,null,{"$f":"IFERROR(IF(B3779=\"\",\"\",VLOOKUP(B3779,Clientes,2,FALSE)),\"\")","v":""},null,{"$f":"IF(D3779=\"\",\"\",VLOOKUP(D3779,Itens,2,FALSE))","v":""},{"$f":"IF(D3779=\"\",\"\",VLOOKUP(D3779,Itens,3,FALSE))","v":""},null,{"$f":"IFERROR(IF(D3779=\"\",\"\",INDEX(Entradas!$H$3:$H$5000,MATCH(A3779,IF(Entradas!$B$3:$B$5000=D3779,Entradas!$A$3:$A$5000),1))),\"Preço não registrado\")","v":""},"",null,null,"",""]
[null,null,"",null,"","",null,{"$f":"IFERROR(IF(D3780=\"\",\"\",INDEX(Entradas!$H$3:$H$5000,MATCH(A3780,IF(Entradas!$B$3:$B$5000=D3780,Entradas!$A$3:$A$5000),1))),\"Preço não registrado\")","v":""},{"$f":"IFERROR(G3780*H3780,\"\")","v":""},null,null,{"$f":"IF(K3780=\"\",\"\",HYPERLINK($P$13&K3780,\"Rastreie aqui\"))","v":""},{"$f":"IF(A3780=\"\",\"\",TEXT(A3780,\"mmmm\"))","v":""}]
[null,null,"",null,"","",null,{"$f":"IFERROR(IF(D3781=\"\",\"\",INDEX(Entradas!$H$3:$H$5000,MATCH(A3781,IF(Entradas!$B$3:$B$5000=D3781,Entradas!$A$3:$A$5000),1))),\"Preço não registrado\")","v":""},"",null,null,"",""]
[null,null,"",null,"","",null,{"$f":"IFERROR(IF(D3782=\"\",\"\",INDEX(Entradas!$H$3:$H$5000,MATCH(A3782,IF(Entradas!$B$3:$B$5000=D3782,Entradas!$A$3:$A$5000),1))),\"Preço não registrado\")","v":""},"",null,null,"",""]
[null,null,"",null,"","",null,{"$f":"IFERROR(IF(D3783=\"\",\"\",INDEX(Entradas!$H$3:$H$5000,MATCH(A3783,IF(Entradas!$B$3:$B$5000=D3783,Entradas!$A$3:$A$5000),1))),\"Preço não registrado\")","v":""},"",null,null,"",""]
[null,null,"",null,"","",null,{"$f":"IFERROR(IF(D3784=\"\",\"\",INDEX(Entradas!$H$3:$H$5000,MATCH(A3784,IF(Entradas!$B$3:$B$5000=D3784,Entradas!$A$3:$A$5000),1))),\"Preço não registrado\")","v":""},"",null,null,"",""]
[null,null,"",null,"","",null,{"$f":"IFERROR(IF(D3785=\"\",\"\",INDEX(Entradas!$H$3:$H$5000,MATCH(A3785,IF(Entradas!$B$3:$B$5000=D3785,Entradas!$A$3:$A$5000),1))),\"Preço não registrado\")","v":""},"",null,null,"",""]
[null,null,"",null,"","",null,{"$f":"IFERROR(IF(D3786=\"\",\"\",INDEX(Entradas!$H$3:$H$5000,MATCH(A3786,IF(Entradas!$B$3:$B$5000=D3786,Entradas!$A$3:$A$5000),1))),\"Preço não registrado\")","v":""},"",null,null,"",""]
[null,null,"",null,"","",null,{"$f":"IFERROR(IF(D3787=\"\",\"\",INDEX(Entradas!$H$3:$H$5000,MATCH(A3787,IF(Entradas!$B$3:$B$5000=D3787,Entradas!$A$3:$A$5000),1))),\"Preço não registrado\")","v":""},"",null,null,"",""]
[null,null,"",null,"","",null,{"$f":"IFERROR(IF(D3788=\"\",\"\",INDEX(Entradas!$H$3:$H$5000,MATCH(A3788,IF(Entradas!$B$3:$B$5000=D3788,Entradas!$A$3:$A$5000),1))),\"Preço não registrado\")","v":""},"",null,null,"",""]
[null,null,"",null,"","",null,{"$f":"IFERROR(IF(D3789=\"\",\"\",INDEX(Entradas!$H$3:$H$5000,MATCH(A3789,IF(Entradas!$B$3:$B$5000=D3789,Entradas!$A$3:$A$5000),1))),\"Preço não registrado\")","v":""},"",null,null,"",""]
[null,null,"",null,"","",null,{"$f":"IFERROR(IF(D3790=\"\",\"\",INDEX(Entradas!$H$3:$H$5000,MATCH(A3790,IF(Entradas!$B$3:$B$5000=D3790,Entradas!$A$3:$A$5000),1))),\"Preço não registrado\")","v":""},"",null,null,"",""]
[null,null,"",null,"","",null,{"$f":"IFERROR(IF(D3791=\"\",\"\",INDEX(Entradas!$H$3:$H$5000,MATCH(A3791,IF(Entradas!$B$3:$B$5000=D3791,Entradas!$A$3:$A$5000),1))),\"Preço não registrado\")","v":""},"",null,null,"",""]
[null,null,"",null,"","",null,{"$f":"IFERROR(IF(D3792=\"\",\"\",INDEX(Entradas!$H$3:$H$5000,MATCH(A3792,IF(Entradas!$B$3:$B$5000=D3792,Entradas!$A$3:$A$5000),1))),\"Preço não registrado\")","v":""},"",null,null,"",""]
[null,null,"",null,"","",null,{"$f":"IFERROR(IF(D3793=\"\",\"\",INDEX(Entradas!$H$3:$H$5000,MATCH(A3793,IF(Entradas!$B$3:$B$5000=D3793,Entradas!$A$3:$A$5000),1))),\"Preço não registrado\")","v":""},"",null,null,"",""]
[null,null,"",null,"","",null,{"$f":"IFERROR(IF(D3794=\"\",\"\",INDEX(Entradas!$H$3:$H$5000,MATCH(A3794,IF(Entradas!$B$3:$B$5000=D3794,Entradas!$A$3:$A$5000),1))),\"Preço não registrado\")","v":""},"",null,null,"",""]
[null,null,"",null,"","",null,{"$f":"IFERROR(IF(D3795=\"\",\"\",INDEX(Entradas!$H$3:$H$5000,MATCH(A3795,IF(Entradas!$B$3:$B$5000=D3795,Entradas!$A$3:$A$5000),1))),\"Preço não registrado\")","v":""},"",null,null,"",""]
[null,null,"",null,"","",null,{"$f":"IFERROR(IF(D3796=\"\",\"\",INDEX(Entradas!$H$3:$H$5000,MATCH(A3796,IF(Entradas!$B$3:$B$5000=D3796,Entradas!$A$3:$A$5000),1))),\"Preço não registrado\")","v":""},"",null,null,"",""]
[null,null,"",null,"","",null,{"$f":"IFERROR(IF(D3797=\"\",\"\",INDEX(Entradas!$H$3:$H$5000,MATCH(A3797,IF(Entradas!$B$3:$B$5000=D3797,Entradas!$A$3:$A$5000),1))),\"Preço não registrado\")","v":""},"",null,null,"",""]
[null,null,"",null,"","",null,{"$f":"IFERROR(IF(D3798=\"\",\"\",INDEX(Entradas!$H$3:$H$5000,MATCH(A3798,IF(Entradas!$B$3:$B$5000=D3798,Entradas!$A$3:$A$5000),1))),\"Preço não registrado\")","v":""},"",null,null,"",""]
[null,null,"",null,"","",null,{"$f":"IFERROR(IF(D3799=\"\",\"\",INDEX(Entradas!$H$3:$H$5000,MATCH(A3799,IF(Entradas!$B$3:$B$5000=D3799,Entradas!$A$3:$A$5000),1))),\"Preço não registrado\")","v":""},"",null,null,"",""]
[null,null,"",null,"","",null,{"$f":"IFERROR(IF(D3800=\"\",\"\",INDEX(Entradas!$H$3:$H$5000,MATCH(A3800,IF(Entradas!$B$3:$B$5000=D3800,Entradas!$A$3:$A$5000),1))),\"Preço não registrado\")","v":""},"",null,null,"",""]
[null,null,"",null,"","",null,{"$f":"IFERROR(IF(D3801=\"\",\"\",INDEX(Entradas!$H$3:$H$5000,MATCH(A3801,IF(Entradas!$B$3:$B$5000=D3801,Entradas!$A$3:$A$5000),1))),\"Preço não registrado\")","v":""},"",null,null,"",""]
[null,null,"",null,"","",null,{"$f":"IFERROR(IF(D3802=\"\",\"\",INDEX(Entradas!$H$3:$H$5000,MATCH(A3802,IF(Entradas!$B$3:$B$5000=D3802,Entradas!$A$3:$A$5000),1))),\"Preço não registrado\")","v":""},"",null,null,"",""]
[null,null,"",null,"","",null,{"$f":"IFERROR(IF(D3803=\"\",\"\",INDEX(Entradas!$H$3:$H$5000,MATCH(A3803,IF(Entradas!$B$3:$B$5000=D3803,Entradas!$A$3:$A$5000),1))),\"Preço não registrado\")","v":""},"",null,null,"",""]
[null,null,"",null,"","",null,{"$f":"IFERROR(IF(D3804=\"\",\"\",INDEX(Entradas!$H$3:$H$5000,MATCH(A3804,IF(Entradas!$B$3:$B$5000=D3804,Entradas!$A$3:$A$5000),1))),\"Preço não registrado\")","v":""},"",null,null,"",""]
[null,null,"",null,"","",null,{"$f":"IFERROR(IF(D3805=\"\",\"\",INDEX(Entradas!$H$3:$H$5000,MATCH(A3805,IF(Entradas!$B$3:$B$5000=D3805,Entradas!$A$3:$A$5000),1))),\"Preço não registrado\")","v":""},"",null,null,"",""]
[null,null,"",null,"","",null,{"$f":"IFERROR(IF(D3806=\"\",\"\",INDEX(Entradas!$H$3:$H$5000,MATCH(A3806,IF(Entradas!$B$3:$B$5000=D3806,Entradas!$A$3:$A$5000),1))),\"Preço não registrado\")","v":""},"",null,null,"",""]
[null,null,"",null,"","",null,{"$f":"IFERROR(IF(D3807=\"\",\"\",INDEX(Entradas!$H$3:$H$5000,MATCH(A3807,IF(Entradas!$B$3:$B$5000=D3807,Entradas!$A$3:$A$5000),1))),\"Preço não registrado\")","v":""},"",null,null,"",""]
[null,null,"",null,"","",null,{"$f":"IFERROR(IF(D3808=\"\",\"\",INDEX(Entradas!$H$3:$H$5000,MATCH(A3808,IF(Entradas!$B$3:$B$5000=D3808,Entradas!$A$3:$A$5000),1))),\"Preço não registrado\")","v":""},"",null,null,"",""]
[null,null,"",null,"","",null,{"$f":"IFERROR(IF(D3809=\"\",\"\",INDEX(Entradas!$H$3:$H$5000,MATCH(A3809,IF(Entradas!$B$3:$B$5000=D3809,Entradas!$A$3:$A$5000),1))),\"Preço não registrado\")","v":""},"",null,null,"",""]
[null,null,"",null,"","",null,{"$f":"IFERROR(IF(D3810=\"\",\"\",INDEX(Entradas!$H$3:$H$5000,MATCH(A3810,IF(Entradas!$B$3:$B$5000=D3810,Entradas!$A$3:$A$5000),1))),\"Preço não registrado\")","v":""},"",null,null,"",""]
[null,null,"",null,"","",null,{"$f":"IFERROR(IF(D3811=\"\",\"\",INDEX(Entradas!$H$3:$H$5000,MATCH(A3811,IF(Entradas!$B$3:$B$5000=D3811,Entradas!$A$3:$A$5000),1))),\"Preço não registrado\")","v":""},"",null,null,"",""]
[null,null,"",null,"","",null,{"$f":"IFERROR(IF(D3812=\"\",\"\",INDEX(Entradas!$H$3:$H$5000,MATCH(A3812,IF(Entradas!$B$3:$B$5000=D3812,Entradas!$A$3:$A$5000),1))),\"Preço não registrado\")","v":""},"",null,null,"",""]
[null,null,"",null,"","",null,{"$f":"IFERROR(IF(D3813=\"\",\"\",INDEX(Entradas!$H$3:$H$5000,MATCH(A3813,IF(Entradas!$B$3:$B$5000=D3813,Entradas!$A$3:$A$5000),1))),\"Preço não registrado\")","v":""},"",null,null,"",""]
[null,null,"",null,"","",null,{"$f":"IFERROR(IF(D3814=\"\",\"\",INDEX(Entradas!$H$3:$H$5000,MATCH(A3814,IF(Entradas!$B$3:$B$5000=D3814,Entradas!$A$3:$A$5000),1))),\"Preço não registrado\")","v":""},"",null,null,"",""]
[null,null,"",null,"","",null,{"$f":"IFERROR(IF(D3815=\"\",\"\",INDEX(Entradas!$H$3:$H$5000,MATCH(A3815,IF(Entradas!$B$3:$B$5000=D3815,Entradas!$A$3:$A$5000),1))),\"Preço não registrado\")","v":""},"",null,null,"",""]
[null,null,"",null,"","",null,{"$f":"IFERROR(IF(D3816=\"\",\"\",INDEX(Entradas!$H$3:$H$5000,MATCH(A3816,IF(Entradas!$B$3:$B$5000=D3816,Entradas!$A$3:$A$5000),1))),\"Preço não registrado\")","v":""},"",null,null,"",""]
[null,null,"",null,"","",null,{"$f":"IFERROR(IF(D3817=\"\",\"\",INDEX(Entradas!$H$3:$H$5000,MATCH(A3817,IF(Entradas!$B$3:$B$5000=D3817,Entradas!$A$3:$A$5000),1))),\"Preço não registrado\")","v":""},"",null,null,"",""]
[null,null,"",null,"","",null,{"$f":"IFERROR(IF(D3818=\"\",\"\",INDEX(Entradas!$H$3:$H$5000,MATCH(A3818,IF(Entradas!$B$3:$B$5000=D3818,Entradas!$A$3:$A$5000),1))),\"Preço não registrado\")","v":""},"",null,null,"",""]
[null,null,"",null,"","",null,{"$f":"IFERROR(IF(D3819=\"\",\"\",INDEX(Entradas!$H$3:$H$5000,MATCH(A3819,IF(Entradas!$B$3:$B$5000=D3819,Entradas!$A$3:$A$5000),1))),\"Preço não registrado\")","v":""},"",null,null,"",""]
[null,null,"",null,"","",null,{"$f":"IFERROR(IF(D3820=\"\",\"\",INDEX(Entradas!$H$3:$H$5000,MATCH(A3820,IF(Entradas!$B$3:$B$5000=D3820,Entradas!$A$3:$A$5000),1))),\"Preço não registrado\")","v":""},"",null,null,"",""]
[null,null,"",null,"","",null,{"$f":"IFERROR(IF(D3821=\"\",\"\",INDEX(Entradas!$H$3:$H$5000,MATCH(A3821,IF(Entradas!$B$3:$B$5000=D3821,Entradas!$A$3:$A$5000),1))),\"Preço não registrado\")","v":""},"",null,null,"",""]
[null,null,"",null,"","",null,{"$f":"IFERROR(IF(D3822=\"\",\"\",INDEX(Entradas!$H$3:$H$5000,MATCH(A3822,IF(Entradas!$B$3:$B$5000=D3822,Entradas!$A$3:$A$5000),1))),\"Preço não registrado\")","v":""},"",null,null,"",""]
[null,null,"",null,"","",null,{"$f":"IFERROR(IF(D3823=\"\",\"\",INDEX(Entradas!$H$3:$H$5000,MATCH(A3823,IF(Entradas!$B$3:$B$5000=D3823,Entradas!$A$3:$A$5000),1))),\"Preço não registrado\")","v":""},"",null,null,"",""]
[null,null,"",null,"","",null,{"$f":"IFERROR(IF(D3824=\"\",\"\",INDEX(Entradas!$H$3:$H$5000,MATCH(A3824,IF(Entradas!$B$3:$B$5000=D3824,Entradas!$A$3:$A$5000),1))),\"Preço não registrado\")","v":""},"",null,null,"",""]
[null,null,"",null,"","",null,{"$f":"IFERROR(IF(D3825=\"\",\"\",INDEX(Entradas!$H$3:$H$5000,MATCH(A3825,IF(Entradas!$B$3:$B$5000=D3825,Entradas!$A$3:$A$5000),1))),\"Preço não registrado\")","v":""},"",null,null,"",""]
[null,null,"",null,"","",null,{"$f":"IFERROR(IF(D3826=\"\",\"\",INDEX(Entradas!$H$3:$H$5000,MATCH(A3826,IF(Entradas!$B$3:$B$5000=D3826,Entradas!$A$3:$A$5000),1))),\"Preço não registrado\")","v":""},"",null,null,"",""]
[null,null,"",null,"","",null,{"$f":"IFERROR(IF(D3827=\"\",\"\",INDEX(Entradas!$H$3:$H$5000,MATCH(A3827,IF(Entradas!$B$3:$B$5000=D3827,Entradas!$A$3:$A$5000),1))),\"Preço não registrado\")","v":""},"",null,null,"",""]
[null,null,"",null,"","",null,{"$f":"IFERROR(IF(D3828=\"\",\"\",INDEX(Entradas!$H$3:$H$5000,MATCH(A3828,IF(Entradas!$B$3:$B$5000=D3828,Entradas!$A$3:$A$5000),1))),\"Preço não registrado\")","v":""},"",null,null,"",""]
[null,null,"",null,"","",null,{"$f":"IFERROR(IF(D3829=\"\",\"\",INDEX(Entradas!$H$3:$H$5000,MATCH(A3829,IF(Entradas!$B$3:$B$5000=D3829,Entradas!$A$3:$A$5000),1))),\"Preço não registrado\")","v":""},"",null,null,"",""]
[null,null,"",null,"","",null,{"$f":"IFERROR(IF(D3830=\"\",\"\",INDEX(Entradas!$H$3:$H$5000,MATCH(A3830,IF(Entradas!$B$3:$B$5000=D3830,Entradas!$A$3:$A$5000),1))),\"Preço não registrado\")","v":""},"",null,null,"",""]
[null,null,"",null,"","",null,{"$f":"IFERROR(IF(D3831=\"\",\"\",INDEX(Entradas!$H$3:$H$5000,MATCH(A3831,IF(Entradas!$B$3:$B$5000=D3831,Entradas!$A$3:$A$5000),1))),\"Preço não registrado\")","v":""},"",null,null,"",""]
[null,null,"",null,"","",null,{"$f":"IFERROR(IF(D3832=\"\",\"\",INDEX(Entradas!$H$3:$H$5000,MATCH(A3832,IF(Entradas!$B$3:$B$5000=D3832,Entradas!$A$3:$A$5000),1))),\"Preço não registrado\")","v":""},"",null,null,"",""]
[null,null,"",null,"","",null,{"$f":"IFERROR(IF(D3833=\"\",\"\",INDEX(Entradas!$H$3:$H$5000,MATCH(A3833,IF(Entradas!$B$3:$B$5000=D3833,Entradas!$A$3:$A$5000),1))),\"Preço não registrado\")","v":""},"",null,null,"",""]
[null,null,"",null,"","",null,{"$f":"IFERROR(IF(D3834=\"\",\"\",INDEX(Entradas!$H$3:$H$5000,MATCH(A3834,IF(Entradas!$B$3:$B$5000=D3834,Entradas!$A$3:$A$5000),1))),\"Preço não registrado\")","v":""},"",null,null,"",""]
[null,null,"",null,"","",null,{"$f":"IFERROR(IF(D3835=\"\",\"\",INDEX(Entradas!$H$3:$H$5000,MATCH(A3835,IF(Entradas!$B$3:$B$5000=D3835,Entradas!$A$3:$A$5000),1))),\"Preço não registrado\")","v":""},"",null,null,"",""]
[null,null,"",null,"","",null,{"$f":"IFERROR(IF(D3836=\"\",\"\",INDEX(Entradas!$H$3:$H$5000,MATCH(A3836,IF(Entradas!$B$3:$B$5000=D3836,Entradas!$A$3:$A$5000),1))),\"Preço não registrado\")","v":""},"",null,null,"",""]
[null,null,"",null,"","",null,{"$f":"IFERROR(IF(D3837=\"\",\"\",INDEX(Entradas!$H$3:$H$5000,MATCH(A3837,IF(Entradas!$B$3:$B$5000=D3837,Entradas!$A$3:$A$5000),1))),\"Preço não registrado\")","v":""},"",null,null,"",""]
[null,null,"",null,"","",null,{"$f":"IFERROR(IF(D3838=\"\",\"\",INDEX(Entradas!$H$3:$H$5000,MATCH(A3838,IF(Entradas!$B$3:$B$5000=D3838,Entradas!$A$3:$A$5000),1))),\"Preço não registrado\")","v":""},"",null,null,"",""]
[null,null,"",null,"","",null,{"$f":"IFERROR(IF(D3839=\"\",\"\",INDEX(Entradas!$H$3:$H$5000,MATCH(A3839,IF(Entradas!$B$3:$B$5000=D3839,Entradas!$A$3:$A$5000),1))),\"Preço não registrado\")","v":""},"",null,null,"",""]
[null,null,"",null,"","",null,{"$f":"IFERROR(IF(D3840=\"\",\"\",INDEX(Entradas!$H$3:$H$5000,MATCH(A3840,IF(Entradas!$B$3:$B$5000=D3840,Entradas!$A$3:$A$5000),1))),\"Preço não registrado\")","v":""},"",null,null,"",""]
[null,null,"",null,"","",null,{"$f":"IFERROR(IF(D3841=\"\",\"\",INDEX(Entradas!$H$3:$H$5000,MATCH(A3841,IF(Entradas!$B$3:$B$5000=D3841,Entradas!$A$3:$A$5000),1))),\"Preço não registrado\")","v":""},"",null,null,"",""]
[null,null,"",null,"","",null,{"$f":"IFERROR(IF(D3842=\"\",\"\",INDEX(Entradas!$H$3:$H$5000,MATCH(A3842,IF(Entradas!$B$3:$B$5000=D3842,Entradas!$A$3:$A$5000),1))),\"Preço não registrado\")","v":""},"",null,null,"",""]
[null,null,{"$f":"IFERROR(IF(B3843=\"\",\"\",VLOOKUP(B3843,Clientes,2,FALSE)),\"\")","v":""},null,{"$f":"IF(D3843=\"\",\"\",VLOOKUP(D3843,Itens,2,FALSE))","v":""},{"$f":"IF(D3843=\"\",\"\",VLOOKUP(D3843,Itens,3,FALSE))","v":""},null,{"$f":"IFERROR(IF(D3843=\"\",\"\",INDEX(Entradas!$H$3:$H$5000,MATCH(A3843,IF(Entradas!$B$3:$B$5000=D3843,Entradas!$A$3:$A$5000),1))),\"Preço não registrado\")","v":""},"",null,null,"",""]
[null,null,"",null,"","",null,{"$f":"IFERROR(IF(D3844=\"\",\"\",INDEX(Entradas!$H$3:$H$5000,MATCH(A3844,IF(Entradas!$B$3:$B$5000=D3844,Entradas!$A$3:$A$5000),1))),\"Preço não registrado\")","v":""},{"$f":"IFERROR(G3844*H3844,\"\")","v":""},null,null,{"$f":"IF(K3844=\"\",\"\",HYPERLINK($P$13&K3844,\"Rastreie aqui\"))","v":""},{"$f":"IF(A3844=\"\",\"\",TEXT(A3844,\"mmmm\"))","v":""}]
[null,null,"",null,"","",null,{"$f":"IFERROR(IF(D3845=\"\",\"\",INDEX(Entradas!$H$3:$H$5000,MATCH(A3845,IF(Entradas!$B$3:$B$5000=D3845,Entradas!$A$3:$A$5000),1))),\"Preço não registrado\")","v":""},"",null,null,"",""]
[null,null,"",null,"","",null,{"$f":"IFERROR(IF(D3846=\"\",\"\",INDEX(Entradas!$H$3:$H$5000,MATCH(A3846,IF(Entradas!$B$3:$B$5000=D3846,Entradas!$A$3:$A$5000),1))),\"Preço não registrado\")","v":""},"",null,null,"",""]
[null,null,"",null,"","",null,{"$f":"IFERROR(IF(D3847=\"\",\"\",INDEX(Entradas!$H$3:$H$5000,MATCH(A3847,IF(Entradas!$B$3:$B$5000=D3847,Entradas!$A$3:$A$5000),1))),\"Preço não registrado\")","v":""},"",null,null,"",""]
[null,null,"",null,"","",null,{"$f":"IFERROR(IF(D3848=\"\",\"\",INDEX(Entradas!$H$3:$H$5000,MATCH(A3848,IF(Entradas!$B$3:$B$5000=D3848,Entradas!$A$3:$A$5000),1))),\"Preço não registrado\")","v":""},"",null,null,"",""]
[null,null,"",null,"","",null,{"$f":"IFERROR(IF(D3849=\"\",\"\",INDEX(Entradas!$H$3:$H$5000,MATCH(A3849,IF(Entradas!$B$3:$B$5000=D3849,Entradas!$A$3:$A$5000),1))),\"Preço não registrado\")","v":""},"",null,null,"",""]
[null,null,"",null,"","",null,{"$f":"IFERROR(IF(D3850=\"\",\"\",INDEX(Entradas!$H$3:$H$5000,MATCH(A3850,IF(Entradas!$B$3:$B$5000=D3850,Entradas!$A$3:$A$5000),1))),\"Preço não registrado\")","v":""},"",null,null,"",""]
[null,null,"",null,"","",null,{"$f":"IFERROR(IF(D3851=\"\",\"\",INDEX(Entradas!$H$3:$H$5000,MATCH(A3851,IF(Entradas!$B$3:$B$5000=D3851,Entradas!$A$3:$A$5000),1))),\"Preço não registrado\")","v":""},"",null,null,"",""]
[null,null,"",null,"","",null,{"$f":"IFERROR(IF(D3852=\"\",\"\",INDEX(Entradas!$H$3:$H$5000,MATCH(A3852,IF(Entradas!$B$3:$B$5000=D3852,Entradas!$A$3:$A$5000),1))),\"Preço não registrado\")","v":""},"",null,null,"",""]
[null,null,"",null,"","",null,{"$f":"IFERROR(IF(D3853=\"\",\"\",INDEX(Entradas!$H$3:$H$5000,MATCH(A3853,IF(Entradas!$B$3:$B$5000=D3853,Entradas!$A$3:$A$5000),1))),\"Preço não registrado\")","v":""},"",null,null,"",""]
[null,null,"",null,"","",null,{"$f":"IFERROR(IF(D3854=\"\",\"\",INDEX(Entradas!$H$3:$H$5000,MATCH(A3854,IF(Entradas!$B$3:$B$5000=D3854,Entradas!$A$3:$A$5000),1))),\"Preço não registrado\")","v":""},"",null,null,"",""]
[null,null,"",null,"","",null,{"$f":"IFERROR(IF(D3855=\"\",\"\",INDEX(Entradas!$H$3:$H$5000,MATCH(A3855,IF(Entradas!$B$3:$B$5000=D3855,Entradas!$A$3:$A$5000),1))),\"Preço não registrado\")","v":""},"",null,null,"",""]
[null,null,"",null,"","",null,{"$f":"IFERROR(IF(D3856=\"\",\"\",INDEX(Entradas!$H$3:$H$5000,MATCH(A3856,IF(Entradas!$B$3:$B$5000=D3856,Entradas!$A$3:$A$5000),1))),\"Preço não registrado\")","v":""},"",null,null,"",""]
[null,null,"",null,"","",null,{"$f":"IFERROR(IF(D3857=\"\",\"\",INDEX(Entradas!$H$3:$H$5000,MATCH(A3857,IF(Entradas!$B$3:$B$5000=D3857,Entradas!$A$3:$A$5000),1))),\"Preço não registrado\")","v":""},"",null,null,"",""]
[null,null,"",null,"","",null,{"$f":"IFERROR(IF(D3858=\"\",\"\",INDEX(Entradas!$H$3:$H$5000,MATCH(A3858,IF(Entradas!$B$3:$B$5000=D3858,Entradas!$A$3:$A$5000),1))),\"Preço não registrado\")","v":""},"",null,null,"",""]
[null,null,"",null,"","",null,{"$f":"IFERROR(IF(D3859=\"\",\"\",INDEX(Entradas!$H$3:$H$5000,MATCH(A3859,IF(Entradas!$B$3:$B$5000=D3859,Entradas!$A$3:$A$5000),1))),\"Preço não registrado\")","v":""},"",null,null,"",""]
[null,null,"",null,"","",null,{"$f":"IFERROR(IF(D3860=\"\",\"\",INDEX(Entradas!$H$3:$H$5000,MATCH(A3860,IF(Entradas!$B$3:$B$5000=D3860,Entradas!$A$3:$A$5000),1))),\"Preço não registrado\")","v":""},"",null,null,"",""]
[null,null,"",null,"","",null,{"$f":"IFERROR(IF(D3861=\"\",\"\",INDEX(Entradas!$H$3:$H$5000,MATCH(A3861,IF(Entradas!$B$3:$B$5000=D3861,Entradas!$A$3:$A$5000),1))),\"Preço não registrado\")","v":""},"",null,null,"",""]
[null,null,"",null,"","",null,{"$f":"IFERROR(IF(D3862=\"\",\"\",INDEX(Entradas!$H$3:$H$5000,MATCH(A3862,IF(Entradas!$B$3:$B$5000=D3862,Entradas!$A$3:$A$5000),1))),\"Preço não registrado\")","v":""},"",null,null,"",""]
[null,null,"",null,"","",null,{"$f":"IFERROR(IF(D3863=\"\",\"\",INDEX(Entradas!$H$3:$H$5000,MATCH(A3863,IF(Entradas!$B$3:$B$5000=D3863,Entradas!$A$3:$A$5000),1))),\"Preço não registrado\")","v":""},"",null,null,"",""]
[null,null,"",null,"","",null,{"$f":"IFERROR(IF(D3864=\"\",\"\",INDEX(Entradas!$H$3:$H$5000,MATCH(A3864,IF(Entradas!$B$3:$B$5000=D3864,Entradas!$A$3:$A$5000),1))),\"Preço não registrado\")","v":""},"",null,null,"",""]
[null,null,"",null,"","",null,{"$f":"IFERROR(IF(D3865=\"\",\"\",INDEX(Entradas!$H$3:$H$5000,MATCH(A3865,IF(Entradas!$B$3:$B$5000=D3865,Entradas!$A$3:$A$5000),1))),\"Preço não registrado\")","v":""},"",null,null,"",""]
[null,null,"",null,"","",null,{"$f":"IFERROR(IF(D3866=\"\",\"\",INDEX(Entradas!$H$3:$H$5000,MATCH(A3866,IF(Entradas!$B$3:$B$5000=D3866,Entradas!$A$3:$A$5000),1))),\"Preço não registrado\")","v":""},"",null,null,"",""]
[null,null,"",null,"","",null,{"$f":"IFERROR(IF(D3867=\"\",\"\",INDEX(Entradas!$H$3:$H$5000,MATCH(A3867,IF(Entradas!$B$3:$B$5000=D3867,Entradas!$A$3:$A$5000),1))),\"Preço não registrado\")","v":""},"",null,null,"",""]
[null,null,"",null,"","",null,{"$f":"IFERROR(IF(D3868=\"\",\"\",INDEX(Entradas!$H$3:$H$5000,MATCH(A3868,IF(Entradas!$B$3:$B$5000=D3868,Entradas!$A$3:$A$5000),1))),\"Preço não registrado\")","v":""},"",null,null,"",""]
[null,null,"",null,"","",null,{"$f":"IFERROR(IF(D3869=\"\",\"\",INDEX(Entradas!$H$3:$H$5000,MATCH(A3869,IF(Entradas!$B$3:$B$5000=D3869,Entradas!$A$3:$A$5000),1))),\"Preço não registrado\")","v":""},"",null,null,"",""]
[null,null,"",null,"","",null,{"$f":"IFERROR(IF(D3870=\"\",\"\",INDEX(Entradas!$H$3:$H$5000,MATCH(A3870,IF(Entradas!$B$3:$B$5000=D3870,Entradas!$A$3:$A$5000),1))),\"Preço não registrado\")","v":""},"",null,null,"",""]
[null,null,"",null,"","",null,{"$f":"IFERROR(IF(D3871=\"\",\"\",INDEX(Entradas!$H$3:$H$5000,MATCH(A3871,IF(Entradas!$B$3:$B$5000=D3871,Entradas!$A$3:$A$5000),1))),\"Preço não registrado\")","v":""},"",null,null,"",""]
[null,null,"",null,"","",null,{"$f":"IFERROR(IF(D3872=\"\",\"\",INDEX(Entradas!$H$3:$H$5000,MATCH(A3872,IF(Entradas!$B$3:$B$5000=D3872,Entradas!$A$3:$A$5000),1))),\"Preço não registrado\")","v":""},"",null,null,"",""]
[null,null,"",null,"","",null,{"$f":"IFERROR(IF(D3873=\"\",\"\",INDEX(Entradas!$H$3:$H$5000,MATCH(A3873,IF(Entradas!$B$3:$B$5000=D3873,Entradas!$A$3:$A$5000),1))),\"Preço não registrado\")","v":""},"",null,null,"",""]
[null,null,"",null,"","",null,{"$f":"IFERROR(IF(D3874=\"\",\"\",INDEX(Entradas!$H$3:$H$5000,MATCH(A3874,IF(Entradas!$B$3:$B$5000=D3874,Entradas!$A$3:$A$5000),1))),\"Preço não registrado\")","v":""},"",null,null,"",""]
[null,null,"",null,"","",null,{"$f":"IFERROR(IF(D3875=\"\",\"\",INDEX(Entradas!$H$3:$H$5000,MATCH(A3875,IF(Entradas!$B$3:$B$5000=D3875,Entradas!$A$3:$A$5000),1))),\"Preço não registrado\")","v":""},"",null,null,"",""]
[null,null,"",null,"","",null,{"$f":"IFERROR(IF(D3876=\"\",\"\",INDEX(Entradas!$H$3:$H$5000,MATCH(A3876,IF(Entradas!$B$3:$B$5000=D3876,Entradas!$A$3:$A$5000),1))),\"Preço não registrado\")","v":""},"",null,null,"",""]
[null,null,"",null,"","",null,{"$f":"IFERROR(IF(D3877=\"\",\"\",INDEX(Entradas!$H$3:$H$5000,MATCH(A3877,IF(Entradas!$B$3:$B$5000=D3877,Entradas!$A$3:$A$5000),1))),\"Preço não registrado\")","v":""},"",null,null,"",""]
[null,null,"",null,"","",null,{"$f":"IFERROR(IF(D3878=\"\",\"\",INDEX(Entradas!$H$3:$H$5000,MATCH(A3878,IF(Entradas!$B$3:$B$5000=D3878,Entradas!$A$3:$A$5000),1))),\"Preço não registrado\")","v":""},"",null,null,"",""]
[null,null,"",null,"","",null,{"$f":"IFERROR(IF(D3879=\"\",\"\",INDEX(Entradas!$H$3:$H$5000,MATCH(A3879,IF(Entradas!$B$3:$B$5000=D3879,Entradas!$A$3:$A$5000),1))),\"Preço não registrado\")","v":""},"",null,null,"",""]
[null,null,"",null,"","",null,{"$f":"IFERROR(IF(D3880=\"\",\"\",INDEX(Entradas!$H$3:$H$5000,MATCH(A3880,IF(Entradas!$B$3:$B$5000=D3880,Entradas!$A$3:$A$5000),1))),\"Preço não registrado\")","v":""},"",null,null,"",""]
[null,null,"",null,"","",null,{"$f":"IFERROR(IF(D3881=\"\",\"\",INDEX(Entradas!$H$3:$H$5000,MATCH(A3881,IF(Entradas!$B$3:$B$5000=D3881,Entradas!$A$3:$A$5000),1))),\"Preço não registrado\")","v":""},"",null,null,"",""]
[null,null,"",null,"","",null,{"$f":"IFERROR(IF(D3882=\"\",\"\",INDEX(Entradas!$H$3:$H$5000,MATCH(A3882,IF(Entradas!$B$3:$B$5000=D3882,Entradas!$A$3:$A$5000),1))),\"Preço não registrado\")","v":""},"",null,null,"",""]
[null,null,"",null,"","",null,{"$f":"IFERROR(IF(D3883=\"\",\"\",INDEX(Entradas!$H$3:$H$5000,MATCH(A3883,IF(Entradas!$B$3:$B$5000=D3883,Entradas!$A$3:$A$5000),1))),\"Preço não registrado\")","v":""},"",null,null,"",""]
[null,null,"",null,"","",null,{"$f":"IFERROR(IF(D3884=\"\",\"\",INDEX(Entradas!$H$3:$H$5000,MATCH(A3884,IF(Entradas!$B$3:$B$5000=D3884,Entradas!$A$3:$A$5000),1))),\"Preço não registrado\")","v":""},"",null,null,"",""]
[null,null,"",null,"","",null,{"$f":"IFERROR(IF(D3885=\"\",\"\",INDEX(Entradas!$H$3:$H$5000,MATCH(A3885,IF(Entradas!$B$3:$B$5000=D3885,Entradas!$A$3:$A$5000),1))),\"Preço não registrado\")","v":""},"",null,null,"",""]
[null,null,"",null,"","",null,{"$f":"IFERROR(IF(D3886=\"\",\"\",INDEX(Entradas!$H$3:$H$5000,MATCH(A3886,IF(Entradas!$B$3:$B$5000=D3886,Entradas!$A$3:$A$5000),1))),\"Preço não registrado\")","v":""},"",null,null,"",""]
[null,null,"",null,"","",null,{"$f":"IFERROR(IF(D3887=\"\",\"\",INDEX(Entradas!$H$3:$H$5000,MATCH(A3887,IF(Entradas!$B$3:$B$5000=D3887,Entradas!$A$3:$A$5000),1))),\"Preço não registrado\")","v":""},"",null,null,"",""]
[null,null,"",null,"","",null,{"$f":"IFERROR(IF(D3888=\"\",\"\",INDEX(Entradas!$H$3:$H$5000,MATCH(A3888,IF(Entradas!$B$3:$B$5000=D3888,Entradas!$A$3:$A$5000),1))),\"Preço não registrado\")","v":""},"",null,null,"",""]
[null,null,"",null,"","",null,{"$f":"IFERROR(IF(D3889=\"\",\"\",INDEX(Entradas!$H$3:$H$5000,MATCH(A3889,IF(Entradas!$B$3:$B$5000=D3889,Entradas!$A$3:$A$5000),1))),\"Preço não registrado\")","v":""},"",null,null,"",""]
[null,null,"",null,"","",null,{"$f":"IFERROR(IF(D3890=\"\",\"\",INDEX(Entradas!$H$3:$H$5000,MATCH(A3890,IF(Entradas!$B$3:$B$5000=D3890,Entradas!$A$3:$A$5000),1))),\"Preço não registrado\")","v":""},"",null,null,"",""]
[null,null,"",null,"","",null,{"$f":"IFERROR(IF(D3891=\"\",\"\",INDEX(Entradas!$H$3:$H$5000,MATCH(A3891,IF(Entradas!$B$3:$B$5000=D3891,Entradas!$A$3:$A$5000),1))),\"Preço não registrado\")","v":""},"",null,null,"",""]
[null,null,"",null,"","",null,{"$f":"IFERROR(IF(D3892=\"\",\"\",INDEX(Entradas!$H$3:$H$5000,MATCH(A3892,IF(Entradas!$B$3:$B$5000=D3892,Entradas!$A$3:$A$5000),1))),\"Preço não registrado\")","v":""},"",null,null,"",""]
[null,null,"",null,"","",null,{"$f":"IFERROR(IF(D3893=\"\",\"\",INDEX(Entradas!$H$3:$H$5000,MATCH(A3893,IF(Entradas!$B$3:$B$5000=D3893,Entradas!$A$3:$A$5000),1))),\"Preço não registrado\")","v":""},"",null,null,"",""]
[null,null,"",null,"","",null,{"$f":"IFERROR(IF(D3894=\"\",\"\",INDEX(Entradas!$H$3:$H$5000,MATCH(A3894,IF(Entradas!$B$3:$B$5000=D3894,Entradas!$A$3:$A$5000),1))),\"Preço não registrado\")","v":""},"",null,null,"",""]
[null,null,"",null,"","",null,{"$f":"IFERROR(IF(D3895=\"\",\"\",INDEX(Entradas!$H$3:$H$5000,MATCH(A3895,IF(Entradas!$B$3:$B$5000=D3895,Entradas!$A$3:$A$5000),1))),\"Preço não registrado\")","v":""},"",null,null,"",""]
[null,null,"",null,"","",null,{"$f":"IFERROR(IF(D3896=\"\",\"\",INDEX(Entradas!$H$3:$H$5000,MATCH(A3896,IF(Entradas!$B$3:$B$5000=D3896,Entradas!$A$3:$A$5000),1))),\"Preço não registrado\")","v":""},"",null,null,"",""]
[null,null,"",null,"","",null,{"$f":"IFERROR(IF(D3897=\"\",\"\",INDEX(Entradas!$H$3:$H$5000,MATCH(A3897,IF(Entradas!$B$3:$B$5000=D3897,Entradas!$A$3:$A$5000),1))),\"Preço não registrado\")","v":""},"",null,null,"",""]
[null,null,"",null,"","",null,{"$f":"IFERROR(IF(D3898=\"\",\"\",INDEX(Entradas!$H$3:$H$5000,MATCH(A3898,IF(Entradas!$B$3:$B$5000=D3898,Entradas!$A$3:$A$5000),1))),\"Preço não registrado\")","v":""},"",null,null,"",""]
[null,null,"",null,"","",null,{"$f":"IFERROR(IF(D3899=\"\",\"\",INDEX(Entradas!$H$3:$H$5000,MATCH(A3899,IF(Entradas!$B$3:$B$5000=D3899,Entradas!$A$3:$A$5000),1))),\"Preço não registrado\")","v":""},"",null,null,"",""]
[null,null,"",null,"","",null,{"$f":"IFERROR(IF(D3900=\"\",\"\",INDEX(Entradas!$H$3:$H$5000,MATCH(A3900,IF(Entradas!$B$3:$B$5000=D3900,Entradas!$A$3:$A$5000),1))),\"Preço não registrado\")","v":""},"",null,null,"",""]
[null,null,"",null,"","",null,{"$f":"IFERROR(IF(D3901=\"\",\"\",INDEX(Entradas!$H$3:$H$5000,MATCH(A3901,IF(Entradas!$B$3:$B$5000=D3901,Entradas!$A$3:$A$5000),1))),\"Preço não registrado\")","v":""},"",null,null,"",""]
[null,null,"",null,"","",null,{"$f":"IFERROR(IF(D3902=\"\",\"\",INDEX(Entradas!$H$3:$H$5000,MATCH(A3902,IF(Entradas!$B$3:$B$5000=D3902,Entradas!$A$3:$A$5000),1))),\"Preço não registrado\")","v":""},"",null,null,"",""]
[null,null,"",null,"","",null,{"$f":"IFERROR(IF(D3903=\"\",\"\",INDEX(Entradas!$H$3:$H$5000,MATCH(A3903,IF(Entradas!$B$3:$B$5000=D3903,Entradas!$A$3:$A$5000),1))),\"Preço não registrado\")","v":""},"",null,null,"",""]
[null,null,"",null,"","",null,{"$f":"IFERROR(IF(D3904=\"\",\"\",INDEX(Entradas!$H$3:$H$5000,MATCH(A3904,IF(Entradas!$B$3:$B$5000=D3904,Entradas!$A$3:$A$5000),1))),\"Preço não registrado\")","v":""},"",null,null,"",""]
[null,null,"",null,"","",null,{"$f":"IFERROR(IF(D3905=\"\",\"\",INDEX(Entradas!$H$3:$H$5000,MATCH(A3905,IF(Entradas!$B$3:$B$5000=D3905,Entradas!$A$3:$A$5000),1))),\"Preço não registrado\")","v":""},"",null,null,"",""]
[null,null,"",null,"","",null,{"$f":"IFERROR(IF(D3906=\"\",\"\",INDEX(Entradas!$H$3:$H$5000,MATCH(A3906,IF(Entradas!$B$3:$B$5000=D3906,Entradas!$A$3:$A$5000),1))),\"Preço não registrado\")","v":""},"",null,null,"",""]
[null,null,{"$f":"IFERROR(IF(B3907=\"\",\"\",VLOOKUP(B3907,Clientes,2,FALSE)),\"\")","v":""},null,{"$f":"IF(D3907=\"\",\"\",VLOOKUP(D3907,Itens,2,FALSE))","v":""},{"$f":"IF(D3907=\"\",\"\",VLOOKUP(D3907,Itens,3,FALSE))","v":""},null,{"$f":"IFERROR(IF(D3907=\"\",\"\",INDEX(Entradas!$H$3:$H$5000,MATCH(A3907,IF(Entradas!$B$3:$B$5000=D3907,Entradas!$A$3:$A$5000),1))),\"Preço não registrado\")","v":""},"",null,null,"",""]
[null,null,"",null,"","",null,{"$f":"IFERROR(IF(D3908=\"\",\"\",INDEX(Entradas!$H$3:$H$5000,MATCH(A3908,IF(Entradas!$B$3:$B$5000=D3908,Entradas!$A$3:$A$5000),1))),\"Preço não registrado\")","v":""},{"$f":"IFERROR(G3908*H3908,\"\")","v":""},null,null,{"$f":"IF(K3908=\"\",\"\",HYPERLINK($P$13&K3908,\"Rastreie aqui\"))","v":""},{"$f":"IF(A3908=\"\",\"\",TEXT(A3908,\"mmmm\"))","v":""}]
[null,null,"",null,"","",null,{"$f":"IFERROR(IF(D3909=\"\",\"\",INDEX(Entradas!$H$3:$H$5000,MATCH(A3909,IF(Entradas!$B$3:$B$5000=D3909,Entradas!$A$3:$A$5000),1))),\"Preço não registrado\")","v":""},"",null,null,"",""]
[null,null,"",null,"","",null,{"$f":"IFERROR(IF(D3910=\"\",\"\",INDEX(Entradas!$H$3:$H$5000,MATCH(A3910,IF(Entradas!$B$3:$B$5000=D3910,Entradas!$A$3:$A$5000),1))),\"Preço não registrado\")","v":""},"",null,null,"",""]
[null,null,"",null,"","",null,{"$f":"IFERROR(IF(D3911=\"\",\"\",INDEX(Entradas!$H$3:$H$5000,MATCH(A3911,IF(Entradas!$B$3:$B$5000=D3911,Entradas!$A$3:$A$5000),1))),\"Preço não registrado\")","v":""},"",null,null,"",""]
[null,null,"",null,"","",null,{"$f":"IFERROR(IF(D3912=\"\",\"\",INDEX(Entradas!$H$3:$H$5000,MATCH(A3912,IF(Entradas!$B$3:$B$5000=D3912,Entradas!$A$3:$A$5000),1))),\"Preço não registrado\")","v":""},"",null,null,"",""]
[null,null,"",null,"","",null,{"$f":"IFERROR(IF(D3913=\"\",\"\",INDEX(Entradas!$H$3:$H$5000,MATCH(A3913,IF(Entradas!$B$3:$B$5000=D3913,Entradas!$A$3:$A$5000),1))),\"Preço não registrado\")","v":""},"",null,null,"",""]
[null,null,"",null,"","",null,{"$f":"IFERROR(IF(D3914=\"\",\"\",INDEX(Entradas!$H$3:$H$5000,MATCH(A3914,IF(Entradas!$B$3:$B$5000=D3914,Entradas!$A$3:$A$5000),1))),\"Preço não registrado\")","v":""},"",null,null,"",""]
[null,null,"",null,"","",null,{"$f":"IFERROR(IF(D3915=\"\",\"\",INDEX(Entradas!$H$3:$H$5000,MATCH(A3915,IF(Entradas!$B$3:$B$5000=D3915,Entradas!$A$3:$A$5000),1))),\"Preço não registrado\")","v":""},"",null,null,"",""]
[null,null,"",null,"","",null,{"$f":"IFERROR(IF(D3916=\"\",\"\",INDEX(Entradas!$H$3:$H$5000,MATCH(A3916,IF(Entradas!$B$3:$B$5000=D3916,Entradas!$A$3:$A$5000),1))),\"Preço não registrado\")","v":""},"",null,null,"",""]
[null,null,"",null,"","",null,{"$f":"IFERROR(IF(D3917=\"\",\"\",INDEX(Entradas!$H$3:$H$5000,MATCH(A3917,IF(Entradas!$B$3:$B$5000=D3917,Entradas!$A$3:$A$5000),1))),\"Preço não registrado\")","v":""},"",null,null,"",""]
[null,null,"",null,"","",null,{"$f":"IFERROR(IF(D3918=\"\",\"\",INDEX(Entradas!$H$3:$H$5000,MATCH(A3918,IF(Entradas!$B$3:$B$5000=D3918,Entradas!$A$3:$A$5000),1))),\"Preço não registrado\")","v":""},"",null,null,"",""]
[null,null,"",null,"","",null,{"$f":"IFERROR(IF(D3919=\"\",\"\",INDEX(Entradas!$H$3:$H$5000,MATCH(A3919,IF(Entradas!$B$3:$B$5000=D3919,Entradas!$A$3:$A$5000),1))),\"Preço não registrado\")","v":""},"",null,null,"",""]
[null,null,"",null,"","",null,{"$f":"IFERROR(IF(D3920=\"\",\"\",INDEX(Entradas!$H$3:$H$5000,MATCH(A3920,IF(Entradas!$B$3:$B$5000=D3920,Entradas!$A$3:$A$5000),1))),\"Preço não registrado\")","v":""},"",null,null,"",""]
[null,null,"",null,"","",null,{"$f":"IFERROR(IF(D3921=\"\",\"\",INDEX(Entradas!$H$3:$H$5000,MATCH(A3921,IF(Entradas!$B$3:$B$5000=D3921,Entradas!$A$3:$A$5000),1))),\"Preço não registrado\")","v":""},"",null,null,"",""]
[null,null,"",null,"","",null,{"$f":"IFERROR(IF(D3922=\"\",\"\",INDEX(Entradas!$H$3:$H$5000,MATCH(A3922,IF(Entradas!$B$3:$B$5000=D3922,Entradas!$A$3:$A$5000),1))),\"Preço não registrado\")","v":""},"",null,null,"",""]
[null,null,"",null,"","",null,{"$f":"IFERROR(IF(D3923=\"\",\"\",INDEX(Entradas!$H$3:$H$5000,MATCH(A3923,IF(Entradas!$B$3:$B$5000=D3923,Entradas!$A$3:$A$5000),1))),\"Preço não registrado\")","v":""},"",null,null,"",""]
[null,null,"",null,"","",null,{"$f":"IFERROR(IF(D3924=\"\",\"\",INDEX(Entradas!$H$3:$H$5000,MATCH(A3924,IF(Entradas!$B$3:$B$5000=D3924,Entradas!$A$3:$A$5000),1))),\"Preço não registrado\")","v":""},"",null,null,"",""]
[null,null,"",null,"","",null,{"$f":"IFERROR(IF(D3925=\"\",\"\",INDEX(Entradas!$H$3:$H$5000,MATCH(A3925,IF(Entradas!$B$3:$B$5000=D3925,Entradas!$A$3:$A$5000),1))),\"Preço não registrado\")","v":""},"",null,null,"",""]
[null,null,"",null,"","",null,{"$f":"IFERROR(IF(D3926=\"\",\"\",INDEX(Entradas!$H$3:$H$5000,MATCH(A3926,IF(Entradas!$B$3:$B$5000=D3926,Entradas!$A$3:$A$5000),1))),\"Preço não registrado\")","v":""},"",null,null,"",""]
[null,null,"",null,"","",null,{"$f":"IFERROR(IF(D3927=\"\",\"\",INDEX(Entradas!$H$3:$H$5000,MATCH(A3927,IF(Entradas!$B$3:$B$5000=D3927,Entradas!$A$3:$A$5000),1))),\"Preço não registrado\")","v":""},"",null,null,"",""]
[null,null,"",null,"","",null,{"$f":"IFERROR(IF(D3928=\"\",\"\",INDEX(Entradas!$H$3:$H$5000,MATCH(A3928,IF(Entradas!$B$3:$B$5000=D3928,Entradas!$A$3:$A$5000),1))),\"Preço não registrado\")","v":""},"",null,null,"",""]
[null,null,"",null,"","",null,{"$f":"IFERROR(IF(D3929=\"\",\"\",INDEX(Entradas!$H$3:$H$5000,MATCH(A3929,IF(Entradas!$B$3:$B$5000=D3929,Entradas!$A$3:$A$5000),1))),\"Preço não registrado\")","v":""},"",null,null,"",""]
[null,null,"",null,"","",null,{"$f":"IFERROR(IF(D3930=\"\",\"\",INDEX(Entradas!$H$3:$H$5000,MATCH(A3930,IF(Entradas!$B$3:$B$5000=D3930,Entradas!$A$3:$A$5000),1))),\"Preço não registrado\")","v":""},"",null,null,"",""]
[null,null,"",null,"","",null,{"$f":"IFERROR(IF(D3931=\"\",\"\",INDEX(Entradas!$H$3:$H$5000,MATCH(A3931,IF(Entradas!$B$3:$B$5000=D3931,Entradas!$A$3:$A$5000),1))),\"Preço não registrado\")","v":""},"",null,null,"",""]
[null,null,"",null,"","",null,{"$f":"IFERROR(IF(D3932=\"\",\"\",INDEX(Entradas!$H$3:$H$5000,MATCH(A3932,IF(Entradas!$B$3:$B$5000=D3932,Entradas!$A$3:$A$5000),1))),\"Preço não registrado\")","v":""},"",null,null,"",""]
[null,null,"",null,"","",null,{"$f":"IFERROR(IF(D3933=\"\",\"\",INDEX(Entradas!$H$3:$H$5000,MATCH(A3933,IF(Entradas!$B$3:$B$5000=D3933,Entradas!$A$3:$A$5000),1))),\"Preço não registrado\")","v":""},"",null,null,"",""]
[null,null,"",null,"","",null,{"$f":"IFERROR(IF(D3934=\"\",\"\",INDEX(Entradas!$H$3:$H$5000,MATCH(A3934,IF(Entradas!$B$3:$B$5000=D3934,Entradas!$A$3:$A$5000),1))),\"Preço não registrado\")","v":""},"",null,null,"",""]
[null,null,"",null,"","",null,{"$f":"IFERROR(IF(D3935=\"\",\"\",INDEX(Entradas!$H$3:$H$5000,MATCH(A3935,IF(Entradas!$B$3:$B$5000=D3935,Entradas!$A$3:$A$5000),1))),\"Preço não registrado\")","v":""},"",null,null,"",""]
[null,null,"",null,"","",null,{"$f":"IFERROR(IF(D3936=\"\",\"\",INDEX(Entradas!$H$3:$H$5000,MATCH(A3936,IF(Entradas!$B$3:$B$5000=D3936,Entradas!$A$3:$A$5000),1))),\"Preço não registrado\")","v":""},"",null,null,"",""]
[null,null,"",null,"","",null,{"$f":"IFERROR(IF(D3937=\"\",\"\",INDEX(Entradas!$H$3:$H$5000,MATCH(A3937,IF(Entradas!$B$3:$B$5000=D3937,Entradas!$A$3:$A$5000),1))),\"Preço não registrado\")","v":""},"",null,null,"",""]
[null,null,"",null,"","",null,{"$f":"IFERROR(IF(D3938=\"\",\"\",INDEX(Entradas!$H$3:$H$5000,MATCH(A3938,IF(Entradas!$B$3:$B$5000=D3938,Entradas!$A$3:$A$5000),1))),\"Preço não registrado\")","v":""},"",null,null,"",""]
[null,null,"",null,"","",null,{"$f":"IFERROR(IF(D3939=\"\",\"\",INDEX(Entradas!$H$3:$H$5000,MATCH(A3939,IF(Entradas!$B$3:$B$5000=D3939,Entradas!$A$3:$A$5000),1))),\"Preço não registrado\")","v":""},"",null,null,"",""]
[null,null,"",null,"","",null,{"$f":"IFERROR(IF(D3940=\"\",\"\",INDEX(Entradas!$H$3:$H$5000,MATCH(A3940,IF(Entradas!$B$3:$B$5000=D3940,Entradas!$A$3:$A$5000),1))),\"Preço não registrado\")","v":""},"",null,null,"",""]
[null,null,"",null,"","",null,{"$f":"IFERROR(IF(D3941=\"\",\"\",INDEX(Entradas!$H$3:$H$5000,MATCH(A3941,IF(Entradas!$B$3:$B$5000=D3941,Entradas!$A$3:$A$5000),1))),\"Preço não registrado\")","v":""},"",null,null,"",""]
[null,null,"",null,"","",null,{"$f":"IFERROR(IF(D3942=\"\",\"\",INDEX(Entradas!$H$3:$H$5000,MATCH(A3942,IF(Entradas!$B$3:$B$5000=D3942,Entradas!$A$3:$A$5000),1))),\"Preço não registrado\")","v":""},"",null,null,"",""]
[null,null,"",null,"","",null,{"$f":"IFERROR(IF(D3943=\"\",\"\",INDEX(Entradas!$H$3:$H$5000,MATCH(A3943,IF(Entradas!$B$3:$B$5000=D3943,Entradas!$A$3:$A$5000),1))),\"Preço não registrado\")","v":""},"",null,null,"",""]
[null,null,"",null,"","",null,{"$f":"IFERROR(IF(D3944=\"\",\"\",INDEX(Entradas!$H$3:$H$5000,MATCH(A3944,IF(Entradas!$B$3:$B$5000=D3944,Entradas!$A$3:$A$5000),1))),\"Preço não registrado\")","v":""},"",null,null,"",""]
[null,null,"",null,"","",null,{"$f":"IFERROR(IF(D3945=\"\",\"\",INDEX(Entradas!$H$3:$H$5000,MATCH(A3945,IF(Entradas!$B$3:$B$5000=D3945,Entradas!$A$3:$A$5000),1))),\"Preço não registrado\")","v":""},"",null,null,"",""]
[null,null,"",null,"","",null,{"$f":"IFERROR(IF(D3946=\"\",\"\",INDEX(Entradas!$H$3:$H$5000,MATCH(A3946,IF(Entradas!$B$3:$B$5000=D3946,Entradas!$A$3:$A$5000),1))),\"Preço não registrado\")","v":""},"",null,null,"",""]
[null,null,"",null,"","",null,{"$f":"IFERROR(IF(D3947=\"\",\"\",INDEX(Entradas!$H$3:$H$5000,MATCH(A3947,IF(Entradas!$B$3:$B$5000=D3947,Entradas!$A$3:$A$5000),1))),\"Preço não registrado\")","v":""},"",null,null,"",""]
[null,null,"",null,"","",null,{"$f":"IFERROR(IF(D3948=\"\",\"\",INDEX(Entradas!$H$3:$H$5000,MATCH(A3948,IF(Entradas!$B$3:$B$5000=D3948,Entradas!$A$3:$A$5000),1))),\"Preço não registrado\")","v":""},"",null,null,"",""]
[null,null,"",null,"","",null,{"$f":"IFERROR(IF(D3949=\"\",\"\",INDEX(Entradas!$H$3:$H$5000,MATCH(A3949,IF(Entradas!$B$3:$B$5000=D3949,Entradas!$A$3:$A$5000),1))),\"Preço não registrado\")","v":""},"",null,null,"",""]
[null,null,"",null,"","",null,{"$f":"IFERROR(IF(D3950=\"\",\"\",INDEX(Entradas!$H$3:$H$5000,MATCH(A3950,IF(Entradas!$B$3:$B$5000=D3950,Entradas!$A$3:$A$5000),1))),\"Preço não registrado\")","v":""},"",null,null,"",""]
[null,null,"",null,"","",null,{"$f":"IFERROR(IF(D3951=\"\",\"\",INDEX(Entradas!$H$3:$H$5000,MATCH(A3951,IF(Entradas!$B$3:$B$5000=D3951,Entradas!$A$3:$A$5000),1))),\"Preço não registrado\")","v":""},"",null,null,"",""]
[null,null,"",null,"","",null,{"$f":"IFERROR(IF(D3952=\"\",\"\",INDEX(Entradas!$H$3:$H$5000,MATCH(A3952,IF(Entradas!$B$3:$B$5000=D3952,Entradas!$A$3:$A$5000),1))),\"Preço não registrado\")","v":""},"",null,null,"",""]
[null,null,"",null,"","",null,{"$f":"IFERROR(IF(D3953=\"\",\"\",INDEX(Entradas!$H$3:$H$5000,MATCH(A3953,IF(Entradas!$B$3:$B$5000=D3953,Entradas!$A$3:$A$5000),1))),\"Preço não registrado\")","v":""},"",null,null,"",""]
[null,null,"",null,"","",null,{"$f":"IFERROR(IF(D3954=\"\",\"\",INDEX(Entradas!$H$3:$H$5000,MATCH(A3954,IF(Entradas!$B$3:$B$5000=D3954,Entradas!$A$3:$A$5000),1))),\"Preço não registrado\")","v":""},"",null,null,"",""]
[null,null,"",null,"","",null,{"$f":"IFERROR(IF(D3955=\"\",\"\",INDEX(Entradas!$H$3:$H$5000,MATCH(A3955,IF(Entradas!$B$3:$B$5000=D3955,Entradas!$A$3:$A$5000),1))),\"Preço não registrado\")","v":""},"",null,null,"",""]
[null,null,"",null,"","",null,{"$f":"IFERROR(IF(D3956=\"\",\"\",INDEX(Entradas!$H$3:$H$5000,MATCH(A3956,IF(Entradas!$B$3:$B$5000=D3956,Entradas!$A$3:$A$5000),1))),\"Preço não registrado\")","v":""},"",null,null,"",""]
[null,null,"",null,"","",null,{"$f":"IFERROR(IF(D3957=\"\",\"\",INDEX(Entradas!$H$3:$H$5000,MATCH(A3957,IF(Entradas!$B$3:$B$5000=D3957,Entradas!$A$3:$A$5000),1))),\"Preço não registrado\")","v":""},"",null,null,"",""]
[null,null,"",null,"","",null,{"$f":"IFERROR(IF(D3958=\"\",\"\",INDEX(Entradas!$H$3:$H$5000,MATCH(A3958,IF(Entradas!$B$3:$B$5000=D3958,Entradas!$A$3:$A$5000),1))),\"Preço não registrado\")","v":""},"",null,null,"",""]
[null,null,"",null,"","",null,{"$f":"IFERROR(IF(D3959=\"\",\"\",INDEX(Entradas!$H$3:$H$5000,MATCH(A3959,IF(Entradas!$B$3:$B$5000=D3959,Entradas!$A$3:$A$5000),1))),\"Preço não registrado\")","v":""},"",null,null,"",""]
[null,null,"",null,"","",null,{"$f":"IFERROR(IF(D3960=\"\",\"\",INDEX(Entradas!$H$3:$H$5000,MATCH(A3960,IF(Entradas!$B$3:$B$5000=D3960,Entradas!$A$3:$A$5000),1))),\"Preço não registrado\")","v":""},"",null,null,"",""]
[null,null,"",null,"","",null,{"$f":"IFERROR(IF(D3961=\"\",\"\",INDEX(Entradas!$H$3:$H$5000,MATCH(A3961,IF(Entradas!$B$3:$B$5000=D3961,Entradas!$A$3:$A$5000),1))),\"Preço não registrado\")","v":""},"",null,null,"",""]
[null,null,"",null,"","",null,{"$f":"IFERROR(IF(D3962=\"\",\"\",INDEX(Entradas!$H$3:$H$5000,MATCH(A3962,IF(Entradas!$B$3:$B$5000=D3962,Entradas!$A$3:$A$5000),1))),\"Preço não registrado\")","v":""},"",null,null,"",""]
[null,null,"",null,"","",null,{"$f":"IFERROR(IF(D3963=\"\",\"\",INDEX(Entradas!$H$3:$H$5000,MATCH(A3963,IF(Entradas!$B$3:$B$5000=D3963,Entradas!$A$3:$A$5000),1))),\"Preço não registrado\")","v":""},"",null,null,"",""]
[null,null,"",null,"","",null,{"$f":"IFERROR(IF(D3964=\"\",\"\",INDEX(Entradas!$H$3:$H$5000,MATCH(A3964,IF(Entradas!$B$3:$B$5000=D3964,Entradas!$A$3:$A$5000),1))),\"Preço não registrado\")","v":""},"",null,null,"",""]
[null,null,"",null,"","",null,{"$f":"IFERROR(IF(D3965=\"\",\"\",INDEX(Entradas!$H$3:$H$5000,MATCH(A3965,IF(Entradas!$B$3:$B$5000=D3965,Entradas!$A$3:$A$5000),1))),\"Preço não registrado\")","v":""},"",null,null,"",""]
[null,null,"",null,"","",null,{"$f":"IFERROR(IF(D3966=\"\",\"\",INDEX(Entradas!$H$3:$H$5000,MATCH(A3966,IF(Entradas!$B$3:$B$5000=D3966,Entradas!$A$3:$A$5000),1))),\"Preço não registrado\")","v":""},"",null,null,"",""]
[null,null,"",null,"","",null,{"$f":"IFERROR(IF(D3967=\"\",\"\",INDEX(Entradas!$H$3:$H$5000,MATCH(A3967,IF(Entradas!$B$3:$B$5000=D3967,Entradas!$A$3:$A$5000),1))),\"Preço não registrado\")","v":""},"",null,null,"",""]
[null,null,"",null,"","",null,{"$f":"IFERROR(IF(D3968=\"\",\"\",INDEX(Entradas!$H$3:$H$5000,MATCH(A3968,IF(Entradas!$B$3:$B$5000=D3968,Entradas!$A$3:$A$5000),1))),\"Preço não registrado\")","v":""},"",null,null,"",""]
[null,null,"",null,"","",null,{"$f":"IFERROR(IF(D3969=\"\",\"\",INDEX(Entradas!$H$3:$H$5000,MATCH(A3969,IF(Entradas!$B$3:$B$5000=D3969,Entradas!$A$3:$A$5000),1))),\"Preço não registrado\")","v":""},"",null,null,"",""]
[null,null,"",null,"","",null,{"$f":"IFERROR(IF(D3970=\"\",\"\",INDEX(Entradas!$H$3:$H$5000,MATCH(A3970,IF(Entradas!$B$3:$B$5000=D3970,Entradas!$A$3:$A$5000),1))),\"Preço não registrado\")","v":""},"",null,null,"",""]
[null,null,{"$f":"IFERROR(IF(B3971=\"\",\"\",VLOOKUP(B3971,Clientes,2,FALSE)),\"\")","v":""},null,{"$f":"IF(D3971=\"\",\"\",VLOOKUP(D3971,Itens,2,FALSE))","v":""},{"$f":"IF(D3971=\"\",\"\",VLOOKUP(D3971,Itens,3,FALSE))","v":""},null,{"$f":"IFERROR(IF(D3971=\"\",\"\",INDEX(Entradas!$H$3:$H$5000,MATCH(A3971,IF(Entradas!$B$3:$B$5000=D3971,Entradas!$A$3:$A$5000),1))),\"Preço não registrado\")","v":""},"",null,null,"",""]
[null,null,"",null,"","",null,{"$f":"IFERROR(IF(D3972=\"\",\"\",INDEX(Entradas!$H$3:$H$5000,MATCH(A3972,IF(Entradas!$B$3:$B$5000=D3972,Entradas!$A$3:$A$5000),1))),\"Preço não registrado\")","v":""},{"$f":"IFERROR(G3972*H3972,\"\")","v":""},null,null,{"$f":"IF(K3972=\"\",\"\",HYPERLINK($P$13&K3972,\"Rastreie aqui\"))","v":""},{"$f":"IF(A3972=\"\",\"\",TEXT(A3972,\"mmmm\"))","v":""}]
[null,null,"",null,"","",null,{"$f":"IFERROR(IF(D3973=\"\",\"\",INDEX(Entradas!$H$3:$H$5000,MATCH(A3973,IF(Entradas!$B$3:$B$5000=D3973,Entradas!$A$3:$A$5000),1))),\"Preço não registrado\")","v":""},"",null,null,"",""]
[null,null,"",null,"","",null,{"$f":"IFERROR(IF(D3974=\"\",\"\",INDEX(Entradas!$H$3:$H$5000,MATCH(A3974,IF(Entradas!$B$3:$B$5000=D3974,Entradas!$A$3:$A$5000),1))),\"Preço não registrado\")","v":""},"",null,null,"",""]
[null,null,"",null,"","",null,{"$f":"IFERROR(IF(D3975=\"\",\"\",INDEX(Entradas!$H$3:$H$5000,MATCH(A3975,IF(Entradas!$B$3:$B$5000=D3975,Entradas!$A$3:$A$5000),1))),\"Preço não registrado\")","v":""},"",null,null,"",""]
[null,null,"",null,"","",null,{"$f":"IFERROR(IF(D3976=\"\",\"\",INDEX(Entradas!$H$3:$H$5000,MATCH(A3976,IF(Entradas!$B$3:$B$5000=D3976,Entradas!$A$3:$A$5000),1))),\"Preço não registrado\")","v":""},"",null,null,"",""]
[null,null,"",null,"","",null,{"$f":"IFERROR(IF(D3977=\"\",\"\",INDEX(Entradas!$H$3:$H$5000,MATCH(A3977,IF(Entradas!$B$3:$B$5000=D3977,Entradas!$A$3:$A$5000),1))),\"Preço não registrado\")","v":""},"",null,null,"",""]
[null,null,"",null,"","",null,{"$f":"IFERROR(IF(D3978=\"\",\"\",INDEX(Entradas!$H$3:$H$5000,MATCH(A3978,IF(Entradas!$B$3:$B$5000=D3978,Entradas!$A$3:$A$5000),1))),\"Preço não registrado\")","v":""},"",null,null,"",""]
[null,null,"",null,"","",null,{"$f":"IFERROR(IF(D3979=\"\",\"\",INDEX(Entradas!$H$3:$H$5000,MATCH(A3979,IF(Entradas!$B$3:$B$5000=D3979,Entradas!$A$3:$A$5000),1))),\"Preço não registrado\")","v":""},"",null,null,"",""]
[null,null,"",null,"","",null,{"$f":"IFERROR(IF(D3980=\"\",\"\",INDEX(Entradas!$H$3:$H$5000,MATCH(A3980,IF(Entradas!$B$3:$B$5000=D3980,Entradas!$A$3:$A$5000),1))),\"Preço não registrado\")","v":""},"",null,null,"",""]
[null,null,"",null,"","",null,{"$f":"IFERROR(IF(D3981=\"\",\"\",INDEX(Entradas!$H$3:$H$5000,MATCH(A3981,IF(Entradas!$B$3:$B$5000=D3981,Entradas!$A$3:$A$5000),1))),\"Preço não registrado\")","v":""},"",null,null,"",""]
[null,null,"",null,"","",null,{"$f":"IFERROR(IF(D3982=\"\",\"\",INDEX(Entradas!$H$3:$H$5000,MATCH(A3982,IF(Entradas!$B$3:$B$5000=D3982,Entradas!$A$3:$A$5000),1))),\"Preço não registrado\")","v":""},"",null,null,"",""]
[null,null,"",null,"","",null,{"$f":"IFERROR(IF(D3983=\"\",\"\",INDEX(Entradas!$H$3:$H$5000,MATCH(A3983,IF(Entradas!$B$3:$B$5000=D3983,Entradas!$A$3:$A$5000),1))),\"Preço não registrado\")","v":""},"",null,null,"",""]
[null,null,"",null,"","",null,{"$f":"IFERROR(IF(D3984=\"\",\"\",INDEX(Entradas!$H$3:$H$5000,MATCH(A3984,IF(Entradas!$B$3:$B$5000=D3984,Entradas!$A$3:$A$5000),1))),\"Preço não registrado\")","v":""},"",null,null,"",""]
[null,null,"",null,"","",null,{"$f":"IFERROR(IF(D3985=\"\",\"\",INDEX(Entradas!$H$3:$H$5000,MATCH(A3985,IF(Entradas!$B$3:$B$5000=D3985,Entradas!$A$3:$A$5000),1))),\"Preço não registrado\")","v":""},"",null,null,"",""]
[null,null,"",null,"","",null,{"$f":"IFERROR(IF(D3986=\"\",\"\",INDEX(Entradas!$H$3:$H$5000,MATCH(A3986,IF(Entradas!$B$3:$B$5000=D3986,Entradas!$A$3:$A$5000),1))),\"Preço não registrado\")","v":""},"",null,null,"",""]
[null,null,"",null,"","",null,{"$f":"IFERROR(IF(D3987=\"\",\"\",INDEX(Entradas!$H$3:$H$5000,MATCH(A3987,IF(Entradas!$B$3:$B$5000=D3987,Entradas!$A$3:$A$5000),1))),\"Preço não registrado\")","v":""},"",null,null,"",""]
[null,null,"",null,"","",null,{"$f":"IFERROR(IF(D3988=\"\",\"\",INDEX(Entradas!$H$3:$H$5000,MATCH(A3988,IF(Entradas!$B$3:$B$5000=D3988,Entradas!$A$3:$A$5000),1))),\"Preço não registrado\")","v":""},"",null,null,"",""]
[null,null,"",null,"","",null,{"$f":"IFERROR(IF(D3989=\"\",\"\",INDEX(Entradas!$H$3:$H$5000,MATCH(A3989,IF(Entradas!$B$3:$B$5000=D3989,Entradas!$A$3:$A$5000),1))),\"Preço não registrado\")","v":""},"",null,null,"",""]
[null,null,"",null,"","",null,{"$f":"IFERROR(IF(D3990=\"\",\"\",INDEX(Entradas!$H$3:$H$5000,MATCH(A3990,IF(Entradas!$B$3:$B$5000=D3990,Entradas!$A$3:$A$5000),1))),\"Preço não registrado\")","v":""},"",null,null,"",""]
[null,null,"",null,"","",null,{"$f":"IFERROR(IF(D3991=\"\",\"\",INDEX(Entradas!$H$3:$H$5000,MATCH(A3991,IF(Entradas!$B$3:$B$5000=D3991,Entradas!$A$3:$A$5000),1))),\"Preço não registrado\")","v":""},"",null,null,"",""]
[null,null,"",null,"","",null,{"$f":"IFERROR(IF(D3992=\"\",\"\",INDEX(Entradas!$H$3:$H$5000,MATCH(A3992,IF(Entradas!$B$3:$B$5000=D3992,Entradas!$A$3:$A$5000),1))),\"Preço não registrado\")","v":""},"",null,null,"",""]
[null,null,"",null,"","",null,{"$f":"IFERROR(IF(D3993=\"\",\"\",INDEX(Entradas!$H$3:$H$5000,MATCH(A3993,IF(Entradas!$B$3:$B$5000=D3993,Entradas!$A$3:$A$5000),1))),\"Preço não registrado\")","v":""},"",null,null,"",""]
[null,null,"",null,"","",null,{"$f":"IFERROR(IF(D3994=\"\",\"\",INDEX(Entradas!$H$3:$H$5000,MATCH(A3994,IF(Entradas!$B$3:$B$5000=D3994,Entradas!$A$3:$A$5000),1))),\"Preço não registrado\")","v":""},"",null,null,"",""]
[null,null,"",null,"","",null,{"$f":"IFERROR(IF(D3995=\"\",\"\",INDEX(Entradas!$H$3:$H$5000,MATCH(A3995,IF(Entradas!$B$3:$B$5000=D3995,Entradas!$A$3:$A$5000),1))),\"Preço não registrado\")","v":""},"",null,null,"",""]
[null,null,"",null,"","",null,{"$f":"IFERROR(IF(D3996=\"\",\"\",INDEX(Entradas!$H$3:$H$5000,MATCH(A3996,IF(Entradas!$B$3:$B$5000=D3996,Entradas!$A$3:$A$5000),1))),\"Preço não registrado\")","v":""},"",null,null,"",""]
[null,null,"",null,"","",null,{"$f":"IFERROR(IF(D3997=\"\",\"\",INDEX(Entradas!$H$3:$H$5000,MATCH(A3997,IF(Entradas!$B$3:$B$5000=D3997,Entradas!$A$3:$A$5000),1))),\"Preço não registrado\")","v":""},"",null,null,"",""]
[null,null,"",null,"","",null,{"$f":"IFERROR(IF(D3998=\"\",\"\",INDEX(Entradas!$H$3:$H$5000,MATCH(A3998,IF(Entradas!$B$3:$B$5000=D3998,Entradas!$A$3:$A$5000),1))),\"Preço não registrado\")","v":""},"",null,null,"",""]
[null,null,"",null,"","",null,{"$f":"IFERROR(IF(D3999=\"\",\"\",INDEX(Entradas!$H$3:$H$5000,MATCH(A3999,IF(Entradas!$B$3:$B$5000=D3999,Entradas!$A$3:$A$5000),1))),\"Preço não registrado\")","v":""},"",null,null,"",""]
[null,null,"",null,"","",null,{"$f":"IFERROR(IF(D4000=\"\",\"\",INDEX(Entradas!$H$3:$H$5000,MATCH(A4000,IF(Entradas!$B$3:$B$5000=D4000,Entradas!$A$3:$A$5000),1))),\"Preço não registrado\")","v":""},"",null,null,"",""]
[null,null,"",null,"","",null,{"$f":"IFERROR(IF(D4001=\"\",\"\",INDEX(Entradas!$H$3:$H$5000,MATCH(A4001,IF(Entradas!$B$3:$B$5000=D4001,Entradas!$A$3:$A$5000),1))),\"Preço não registrado\")","v":""},"",null,null,"",""]
[null,null,"",null,"","",null,{"$f":"IFERROR(IF(D4002=\"\",\"\",INDEX(Entradas!$H$3:$H$5000,MATCH(A4002,IF(Entradas!$B$3:$B$5000=D4002,Entradas!$A$3:$A$5000),1))),\"Preço não registrado\")","v":""},"",null,null,"",""]
[null,null,"",null,"","",null,{"$f":"IFERROR(IF(D4003=\"\",\"\",INDEX(Entradas!$H$3:$H$5000,MATCH(A4003,IF(Entradas!$B$3:$B$5000=D4003,Entradas!$A$3:$A$5000),1))),\"Preço não registrado\")","v":""},"",null,null,"",""]
[null,null,"",null,"","",null,{"$f":"IFERROR(IF(D4004=\"\",\"\",INDEX(Entradas!$H$3:$H$5000,MATCH(A4004,IF(Entradas!$B$3:$B$5000=D4004,Entradas!$A$3:$A$5000),1))),\"Preço não registrado\")","v":""},"",null,null,"",""]
[null,null,"",null,"","",null,{"$f":"IFERROR(IF(D4005=\"\",\"\",INDEX(Entradas!$H$3:$H$5000,MATCH(A4005,IF(Entradas!$B$3:$B$5000=D4005,Entradas!$A$3:$A$5000),1))),\"Preço não registrado\")","v":""},"",null,null,"",""]
[null,null,"",null,"","",null,{"$f":"IFERROR(IF(D4006=\"\",\"\",INDEX(Entradas!$H$3:$H$5000,MATCH(A4006,IF(Entradas!$B$3:$B$5000=D4006,Entradas!$A$3:$A$5000),1))),\"Preço não registrado\")","v":""},"",null,null,"",""]
[null,null,"",null,"","",null,{"$f":"IFERROR(IF(D4007=\"\",\"\",INDEX(Entradas!$H$3:$H$5000,MATCH(A4007,IF(Entradas!$B$3:$B$5000=D4007,Entradas!$A$3:$A$5000),1))),\"Preço não registrado\")","v":""},"",null,null,"",""]
[null,null,"",null,"","",null,{"$f":"IFERROR(IF(D4008=\"\",\"\",INDEX(Entradas!$H$3:$H$5000,MATCH(A4008,IF(Entradas!$B$3:$B$5000=D4008,Entradas!$A$3:$A$5000),1))),\"Preço não registrado\")","v":""},"",null,null,"",""]
[null,null,"",null,"","",null,{"$f":"IFERROR(IF(D4009=\"\",\"\",INDEX(Entradas!$H$3:$H$5000,MATCH(A4009,IF(Entradas!$B$3:$B$5000=D4009,Entradas!$A$3:$A$5000),1))),\"Preço não registrado\")","v":""},"",null,null,"",""]
[null,null,"",null,"","",null,{"$f":"IFERROR(IF(D4010=\"\",\"\",INDEX(Entradas!$H$3:$H$5000,MATCH(A4010,IF(Entradas!$B$3:$B$5000=D4010,Entradas!$A$3:$A$5000),1))),\"Preço não registrado\")","v":""},"",null,null,"",""]
[null,null,"",null,"","",null,{"$f":"IFERROR(IF(D4011=\"\",\"\",INDEX(Entradas!$H$3:$H$5000,MATCH(A4011,IF(Entradas!$B$3:$B$5000=D4011,Entradas!$A$3:$A$5000),1))),\"Preço não registrado\")","v":""},"",null,null,"",""]
[null,null,"",null,"","",null,{"$f":"IFERROR(IF(D4012=\"\",\"\",INDEX(Entradas!$H$3:$H$5000,MATCH(A4012,IF(Entradas!$B$3:$B$5000=D4012,Entradas!$A$3:$A$5000),1))),\"Preço não registrado\")","v":""},"",null,null,"",""]
[null,null,"",null,"","",null,{"$f":"IFERROR(IF(D4013=\"\",\"\",INDEX(Entradas!$H$3:$H$5000,MATCH(A4013,IF(Entradas!$B$3:$B$5000=D4013,Entradas!$A$3:$A$5000),1))),\"Preço não registrado\")","v":""},"",null,null,"",""]
[null,null,"",null,"","",null,{"$f":"IFERROR(IF(D4014=\"\",\"\",INDEX(Entradas!$H$3:$H$5000,MATCH(A4014,IF(Entradas!$B$3:$B$5000=D4014,Entradas!$A$3:$A$5000),1))),\"Preço não registrado\")","v":""},"",null,null,"",""]
[null,null,"",null,"","",null,{"$f":"IFERROR(IF(D4015=\"\",\"\",INDEX(Entradas!$H$3:$H$5000,MATCH(A4015,IF(Entradas!$B$3:$B$5000=D4015,Entradas!$A$3:$A$5000),1))),\"Preço não registrado\")","v":""},"",null,null,"",""]
[null,null,"",null,"","",null,{"$f":"IFERROR(IF(D4016=\"\",\"\",INDEX(Entradas!$H$3:$H$5000,MATCH(A4016,IF(Entradas!$B$3:$B$5000=D4016,Entradas!$A$3:$A$5000),1))),\"Preço não registrado\")","v":""},"",null,null,"",""]
[null,null,"",null,"","",null,{"$f":"IFERROR(IF(D4017=\"\",\"\",INDEX(Entradas!$H$3:$H$5000,MATCH(A4017,IF(Entradas!$B$3:$B$5000=D4017,Entradas!$A$3:$A$5000),1))),\"Preço não registrado\")","v":""},"",null,null,"",""]
[null,null,"",null,"","",null,{"$f":"IFERROR(IF(D4018=\"\",\"\",INDEX(Entradas!$H$3:$H$5000,MATCH(A4018,IF(Entradas!$B$3:$B$5000=D4018,Entradas!$A$3:$A$5000),1))),\"Preço não registrado\")","v":""},"",null,null,"",""]
[null,null,"",null,"","",null,{"$f":"IFERROR(IF(D4019=\"\",\"\",INDEX(Entradas!$H$3:$H$5000,MATCH(A4019,IF(Entradas!$B$3:$B$5000=D4019,Entradas!$A$3:$A$5000),1))),\"Preço não registrado\")","v":""},"",null,null,"",""]
[null,null,"",null,"","",null,{"$f":"IFERROR(IF(D4020=\"\",\"\",INDEX(Entradas!$H$3:$H$5000,MATCH(A4020,IF(Entradas!$B$3:$B$5000=D4020,Entradas!$A$3:$A$5000),1))),\"Preço não registrado\")","v":""},"",null,null,"",""]
[null,null,"",null,"","",null,{"$f":"IFERROR(IF(D4021=\"\",\"\",INDEX(Entradas!$H$3:$H$5000,MATCH(A4021,IF(Entradas!$B$3:$B$5000=D4021,Entradas!$A$3:$A$5000),1))),\"Preço não registrado\")","v":""},"",null,null,"",""]
[null,null,"",null,"","",null,{"$f":"IFERROR(IF(D4022=\"\",\"\",INDEX(Entradas!$H$3:$H$5000,MATCH(A4022,IF(Entradas!$B$3:$B$5000=D4022,Entradas!$A$3:$A$5000),1))),\"Preço não registrado\")","v":""},"",null,null,"",""]
[null,null,"",null,"","",null,{"$f":"IFERROR(IF(D4023=\"\",\"\",INDEX(Entradas!$H$3:$H$5000,MATCH(A4023,IF(Entradas!$B$3:$B$5000=D4023,Entradas!$A$3:$A$5000),1))),\"Preço não registrado\")","v":""},"",null,null,"",""]
[null,null,"",null,"","",null,{"$f":"IFERROR(IF(D4024=\"\",\"\",INDEX(Entradas!$H$3:$H$5000,MATCH(A4024,IF(Entradas!$B$3:$B$5000=D4024,Entradas!$A$3:$A$5000),1))),\"Preço não registrado\")","v":""},"",null,null,"",""]
[null,null,"",null,"","",null,{"$f":"IFERROR(IF(D4025=\"\",\"\",INDEX(Entradas!$H$3:$H$5000,MATCH(A4025,IF(Entradas!$B$3:$B$5000=D4025,Entradas!$A$3:$A$5000),1))),\"Preço não registrado\")","v":""},"",null,null,"",""]
[null,null,"",null,"","",null,{"$f":"IFERROR(IF(D4026=\"\",\"\",INDEX(Entradas!$H$3:$H$5000,MATCH(A4026,IF(Entradas!$B$3:$B$5000=D4026,Entradas!$A$3:$A$5000),1))),\"Preço não registrado\")","v":""},"",null,null,"",""]
[null,null,"",null,"","",null,{"$f":"IFERROR(IF(D4027=\"\",\"\",INDEX(Entradas!$H$3:$H$5000,MATCH(A4027,IF(Entradas!$B$3:$B$5000=D4027,Entradas!$A$3:$A$5000),1))),\"Preço não registrado\")","v":""},"",null,null,"",""]
[null,null,"",null,"","",null,{"$f":"IFERROR(IF(D4028=\"\",\"\",INDEX(Entradas!$H$3:$H$5000,MATCH(A4028,IF(Entradas!$B$3:$B$5000=D4028,Entradas!$A$3:$A$5000),1))),\"Preço não registrado\")","v":""},"",null,null,"",""]
[null,null,"",null,"","",null,{"$f":"IFERROR(IF(D4029=\"\",\"\",INDEX(Entradas!$H$3:$H$5000,MATCH(A4029,IF(Entradas!$B$3:$B$5000=D4029,Entradas!$A$3:$A$5000),1))),\"Preço não registrado\")","v":""},"",null,null,"",""]
[null,null,"",null,"","",null,{"$f":"IFERROR(IF(D4030=\"\",\"\",INDEX(Entradas!$H$3:$H$5000,MATCH(A4030,IF(Entradas!$B$3:$B$5000=D4030,Entradas!$A$3:$A$5000),1))),\"Preço não registrado\")","v":""},"",null,null,"",""]
[null,null,"",null,"","",null,{"$f":"IFERROR(IF(D4031=\"\",\"\",INDEX(Entradas!$H$3:$H$5000,MATCH(A4031,IF(Entradas!$B$3:$B$5000=D4031,Entradas!$A$3:$A$5000),1))),\"Preço não registrado\")","v":""},"",null,null,"",""]
[null,null,"",null,"","",null,{"$f":"IFERROR(IF(D4032=\"\",\"\",INDEX(Entradas!$H$3:$H$5000,MATCH(A4032,IF(Entradas!$B$3:$B$5000=D4032,Entradas!$A$3:$A$5000),1))),\"Preço não registrado\")","v":""},"",null,null,"",""]
[null,null,"",null,"","",null,{"$f":"IFERROR(IF(D4033=\"\",\"\",INDEX(Entradas!$H$3:$H$5000,MATCH(A4033,IF(Entradas!$B$3:$B$5000=D4033,Entradas!$A$3:$A$5000),1))),\"Preço não registrado\")","v":""},"",null,null,"",""]
[null,null,"",null,"","",null,{"$f":"IFERROR(IF(D4034=\"\",\"\",INDEX(Entradas!$H$3:$H$5000,MATCH(A4034,IF(Entradas!$B$3:$B$5000=D4034,Entradas!$A$3:$A$5000),1))),\"Preço não registrado\")","v":""},"",null,null,"",""]
[null,null,{"$f":"IFERROR(IF(B4035=\"\",\"\",VLOOKUP(B4035,Clientes,2,FALSE)),\"\")","v":""},null,{"$f":"IF(D4035=\"\",\"\",VLOOKUP(D4035,Itens,2,FALSE))","v":""},{"$f":"IF(D4035=\"\",\"\",VLOOKUP(D4035,Itens,3,FALSE))","v":""},null,{"$f":"IFERROR(IF(D4035=\"\",\"\",INDEX(Entradas!$H$3:$H$5000,MATCH(A4035,IF(Entradas!$B$3:$B$5000=D4035,Entradas!$A$3:$A$5000),1))),\"Preço não registrado\")","v":""},"",null,null,"",""]
[null,null,"",null,"","",null,{"$f":"IFERROR(IF(D4036=\"\",\"\",INDEX(Entradas!$H$3:$H$5000,MATCH(A4036,IF(Entradas!$B$3:$B$5000=D4036,Entradas!$A$3:$A$5000),1))),\"Preço não registrado\")","v":""},{"$f":"IFERROR(G4036*H4036,\"\")","v":""},null,null,{"$f":"IF(K4036=\"\",\"\",HYPERLINK($P$13&K4036,\"Rastreie aqui\"))","v":""},{"$f":"IF(A4036=\"\",\"\",TEXT(A4036,\"mmmm\"))","v":""}]
[null,null,"",null,"","",null,{"$f":"IFERROR(IF(D4037=\"\",\"\",INDEX(Entradas!$H$3:$H$5000,MATCH(A4037,IF(Entradas!$B$3:$B$5000=D4037,Entradas!$A$3:$A$5000),1))),\"Preço não registrado\")","v":""},"",null,null,"",""]
[null,null,"",null,"","",null,{"$f":"IFERROR(IF(D4038=\"\",\"\",INDEX(Entradas!$H$3:$H$5000,MATCH(A4038,IF(Entradas!$B$3:$B$5000=D4038,Entradas!$A$3:$A$5000),1))),\"Preço não registrado\")","v":""},"",null,null,"",""]
[null,null,"",null,"","",null,{"$f":"IFERROR(IF(D4039=\"\",\"\",INDEX(Entradas!$H$3:$H$5000,MATCH(A4039,IF(Entradas!$B$3:$B$5000=D4039,Entradas!$A$3:$A$5000),1))),\"Preço não registrado\")","v":""},"",null,null,"",""]
[null,null,"",null,"","",null,{"$f":"IFERROR(IF(D4040=\"\",\"\",INDEX(Entradas!$H$3:$H$5000,MATCH(A4040,IF(Entradas!$B$3:$B$5000=D4040,Entradas!$A$3:$A$5000),1))),\"Preço não registrado\")","v":""},"",null,null,"",""]
[null,null,"",null,"","",null,{"$f":"IFERROR(IF(D4041=\"\",\"\",INDEX(Entradas!$H$3:$H$5000,MATCH(A4041,IF(Entradas!$B$3:$B$5000=D4041,Entradas!$A$3:$A$5000),1))),\"Preço não registrado\")","v":""},"",null,null,"",""]
[null,null,"",null,"","",null,{"$f":"IFERROR(IF(D4042=\"\",\"\",INDEX(Entradas!$H$3:$H$5000,MATCH(A4042,IF(Entradas!$B$3:$B$5000=D4042,Entradas!$A$3:$A$5000),1))),\"Preço não registrado\")","v":""},"",null,null,"",""]
[null,null,"",null,"","",null,{"$f":"IFERROR(IF(D4043=\"\",\"\",INDEX(Entradas!$H$3:$H$5000,MATCH(A4043,IF(Entradas!$B$3:$B$5000=D4043,Entradas!$A$3:$A$5000),1))),\"Preço não registrado\")","v":""},"",null,null,"",""]
[null,null,"",null,"","",null,{"$f":"IFERROR(IF(D4044=\"\",\"\",INDEX(Entradas!$H$3:$H$5000,MATCH(A4044,IF(Entradas!$B$3:$B$5000=D4044,Entradas!$A$3:$A$5000),1))),\"Preço não registrado\")","v":""},"",null,null,"",""]
[null,null,"",null,"","",null,{"$f":"IFERROR(IF(D4045=\"\",\"\",INDEX(Entradas!$H$3:$H$5000,MATCH(A4045,IF(Entradas!$B$3:$B$5000=D4045,Entradas!$A$3:$A$5000),1))),\"Preço não registrado\")","v":""},"",null,null,"",""]
[null,null,"",null,"","",null,{"$f":"IFERROR(IF(D4046=\"\",\"\",INDEX(Entradas!$H$3:$H$5000,MATCH(A4046,IF(Entradas!$B$3:$B$5000=D4046,Entradas!$A$3:$A$5000),1))),\"Preço não registrado\")","v":""},"",null,null,"",""]
[null,null,"",null,"","",null,{"$f":"IFERROR(IF(D4047=\"\",\"\",INDEX(Entradas!$H$3:$H$5000,MATCH(A4047,IF(Entradas!$B$3:$B$5000=D4047,Entradas!$A$3:$A$5000),1))),\"Preço não registrado\")","v":""},"",null,null,"",""]
[null,null,"",null,"","",null,{"$f":"IFERROR(IF(D4048=\"\",\"\",INDEX(Entradas!$H$3:$H$5000,MATCH(A4048,IF(Entradas!$B$3:$B$5000=D4048,Entradas!$A$3:$A$5000),1))),\"Preço não registrado\")","v":""},"",null,null,"",""]
[null,null,"",null,"","",null,{"$f":"IFERROR(IF(D4049=\"\",\"\",INDEX(Entradas!$H$3:$H$5000,MATCH(A4049,IF(Entradas!$B$3:$B$5000=D4049,Entradas!$A$3:$A$5000),1))),\"Preço não registrado\")","v":""},"",null,null,"",""]
[null,null,"",null,"","",null,{"$f":"IFERROR(IF(D4050=\"\",\"\",INDEX(Entradas!$H$3:$H$5000,MATCH(A4050,IF(Entradas!$B$3:$B$5000=D4050,Entradas!$A$3:$A$5000),1))),\"Preço não registrado\")","v":""},"",null,null,"",""]
[null,null,"",null,"","",null,{"$f":"IFERROR(IF(D4051=\"\",\"\",INDEX(Entradas!$H$3:$H$5000,MATCH(A4051,IF(Entradas!$B$3:$B$5000=D4051,Entradas!$A$3:$A$5000),1))),\"Preço não registrado\")","v":""},"",null,null,"",""]
[null,null,"",null,"","",null,{"$f":"IFERROR(IF(D4052=\"\",\"\",INDEX(Entradas!$H$3:$H$5000,MATCH(A4052,IF(Entradas!$B$3:$B$5000=D4052,Entradas!$A$3:$A$5000),1))),\"Preço não registrado\")","v":""},"",null,null,"",""]
[null,null,"",null,"","",null,{"$f":"IFERROR(IF(D4053=\"\",\"\",INDEX(Entradas!$H$3:$H$5000,MATCH(A4053,IF(Entradas!$B$3:$B$5000=D4053,Entradas!$A$3:$A$5000),1))),\"Preço não registrado\")","v":""},"",null,null,"",""]
[null,null,"",null,"","",null,{"$f":"IFERROR(IF(D4054=\"\",\"\",INDEX(Entradas!$H$3:$H$5000,MATCH(A4054,IF(Entradas!$B$3:$B$5000=D4054,Entradas!$A$3:$A$5000),1))),\"Preço não registrado\")","v":""},"",null,null,"",""]
[null,null,"",null,"","",null,{"$f":"IFERROR(IF(D4055=\"\",\"\",INDEX(Entradas!$H$3:$H$5000,MATCH(A4055,IF(Entradas!$B$3:$B$5000=D4055,Entradas!$A$3:$A$5000),1))),\"Preço não registrado\")","v":""},"",null,null,"",""]
[null,null,"",null,"","",null,{"$f":"IFERROR(IF(D4056=\"\",\"\",INDEX(Entradas!$H$3:$H$5000,MATCH(A4056,IF(Entradas!$B$3:$B$5000=D4056,Entradas!$A$3:$A$5000),1))),\"Preço não registrado\")","v":""},"",null,null,"",""]
[null,null,"",null,"","",null,{"$f":"IFERROR(IF(D4057=\"\",\"\",INDEX(Entradas!$H$3:$H$5000,MATCH(A4057,IF(Entradas!$B$3:$B$5000=D4057,Entradas!$A$3:$A$5000),1))),\"Preço não registrado\")","v":""},"",null,null,"",""]
[null,null,"",null,"","",null,{"$f":"IFERROR(IF(D4058=\"\",\"\",INDEX(Entradas!$H$3:$H$5000,MATCH(A4058,IF(Entradas!$B$3:$B$5000=D4058,Entradas!$A$3:$A$5000),1))),\"Preço não registrado\")","v":""},"",null,null,"",""]
[null,null,"",null,"","",null,{"$f":"IFERROR(IF(D4059=\"\",\"\",INDEX(Entradas!$H$3:$H$5000,MATCH(A4059,IF(Entradas!$B$3:$B$5000=D4059,Entradas!$A$3:$A$5000),1))),\"Preço não registrado\")","v":""},"",null,null,"",""]
[null,null,"",null,"","",null,{"$f":"IFERROR(IF(D4060=\"\",\"\",INDEX(Entradas!$H$3:$H$5000,MATCH(A4060,IF(Entradas!$B$3:$B$5000=D4060,Entradas!$A$3:$A$5000),1))),\"Preço não registrado\")","v":""},"",null,null,"",""]
[null,null,"",null,"","",null,{"$f":"IFERROR(IF(D4061=\"\",\"\",INDEX(Entradas!$H$3:$H$5000,MATCH(A4061,IF(Entradas!$B$3:$B$5000=D4061,Entradas!$A$3:$A$5000),1))),\"Preço não registrado\")","v":""},"",null,null,"",""]
[null,null,"",null,"","",null,{"$f":"IFERROR(IF(D4062=\"\",\"\",INDEX(Entradas!$H$3:$H$5000,MATCH(A4062,IF(Entradas!$B$3:$B$5000=D4062,Entradas!$A$3:$A$5000),1))),\"Preço não registrado\")","v":""},"",null,null,"",""]
[null,null,"",null,"","",null,{"$f":"IFERROR(IF(D4063=\"\",\"\",INDEX(Entradas!$H$3:$H$5000,MATCH(A4063,IF(Entradas!$B$3:$B$5000=D4063,Entradas!$A$3:$A$5000),1))),\"Preço não registrado\")","v":""},"",null,null,"",""]
[null,null,"",null,"","",null,{"$f":"IFERROR(IF(D4064=\"\",\"\",INDEX(Entradas!$H$3:$H$5000,MATCH(A4064,IF(Entradas!$B$3:$B$5000=D4064,Entradas!$A$3:$A$5000),1))),\"Preço não registrado\")","v":""},"",null,null,"",""]
[null,null,"",null,"","",null,{"$f":"IFERROR(IF(D4065=\"\",\"\",INDEX(Entradas!$H$3:$H$5000,MATCH(A4065,IF(Entradas!$B$3:$B$5000=D4065,Entradas!$A$3:$A$5000),1))),\"Preço não registrado\")","v":""},"",null,null,"",""]
[null,null,"",null,"","",null,{"$f":"IFERROR(IF(D4066=\"\",\"\",INDEX(Entradas!$H$3:$H$5000,MATCH(A4066,IF(Entradas!$B$3:$B$5000=D4066,Entradas!$A$3:$A$5000),1))),\"Preço não registrado\")","v":""},"",null,null,"",""]
[null,null,"",null,"","",null,{"$f":"IFERROR(IF(D4067=\"\",\"\",INDEX(Entradas!$H$3:$H$5000,MATCH(A4067,IF(Entradas!$B$3:$B$5000=D4067,Entradas!$A$3:$A$5000),1))),\"Preço não registrado\")","v":""},"",null,null,"",""]
[null,null,"",null,"","",null,{"$f":"IFERROR(IF(D4068=\"\",\"\",INDEX(Entradas!$H$3:$H$5000,MATCH(A4068,IF(Entradas!$B$3:$B$5000=D4068,Entradas!$A$3:$A$5000),1))),\"Preço não registrado\")","v":""},"",null,null,"",""]
[null,null,"",null,"","",null,{"$f":"IFERROR(IF(D4069=\"\",\"\",INDEX(Entradas!$H$3:$H$5000,MATCH(A4069,IF(Entradas!$B$3:$B$5000=D4069,Entradas!$A$3:$A$5000),1))),\"Preço não registrado\")","v":""},"",null,null,"",""]
[null,null,"",null,"","",null,{"$f":"IFERROR(IF(D4070=\"\",\"\",INDEX(Entradas!$H$3:$H$5000,MATCH(A4070,IF(Entradas!$B$3:$B$5000=D4070,Entradas!$A$3:$A$5000),1))),\"Preço não registrado\")","v":""},"",null,null,"",""]
[null,null,"",null,"","",null,{"$f":"IFERROR(IF(D4071=\"\",\"\",INDEX(Entradas!$H$3:$H$5000,MATCH(A4071,IF(Entradas!$B$3:$B$5000=D4071,Entradas!$A$3:$A$5000),1))),\"Preço não registrado\")","v":""},"",null,null,"",""]
[null,null,"",null,"","",null,{"$f":"IFERROR(IF(D4072=\"\",\"\",INDEX(Entradas!$H$3:$H$5000,MATCH(A4072,IF(Entradas!$B$3:$B$5000=D4072,Entradas!$A$3:$A$5000),1))),\"Preço não registrado\")","v":""},"",null,null,"",""]
[null,null,"",null,"","",null,{"$f":"IFERROR(IF(D4073=\"\",\"\",INDEX(Entradas!$H$3:$H$5000,MATCH(A4073,IF(Entradas!$B$3:$B$5000=D4073,Entradas!$A$3:$A$5000),1))),\"Preço não registrado\")","v":""},"",null,null,"",""]
[null,null,"",null,"","",null,{"$f":"IFERROR(IF(D4074=\"\",\"\",INDEX(Entradas!$H$3:$H$5000,MATCH(A4074,IF(Entradas!$B$3:$B$5000=D4074,Entradas!$A$3:$A$5000),1))),\"Preço não registrado\")","v":""},"",null,null,"",""]
[null,null,"",null,"","",null,{"$f":"IFERROR(IF(D4075=\"\",\"\",INDEX(Entradas!$H$3:$H$5000,MATCH(A4075,IF(Entradas!$B$3:$B$5000=D4075,Entradas!$A$3:$A$5000),1))),\"Preço não registrado\")","v":""},"",null,null,"",""]
[null,null,"",null,"","",null,{"$f":"IFERROR(IF(D4076=\"\",\"\",INDEX(Entradas!$H$3:$H$5000,MATCH(A4076,IF(Entradas!$B$3:$B$5000=D4076,Entradas!$A$3:$A$5000),1))),\"Preço não registrado\")","v":""},"",null,null,"",""]
[null,null,"",null,"","",null,{"$f":"IFERROR(IF(D4077=\"\",\"\",INDEX(Entradas!$H$3:$H$5000,MATCH(A4077,IF(Entradas!$B$3:$B$5000=D4077,Entradas!$A$3:$A$5000),1))),\"Preço não registrado\")","v":""},"",null,null,"",""]
[null,null,"",null,"","",null,{"$f":"IFERROR(IF(D4078=\"\",\"\",INDEX(Entradas!$H$3:$H$5000,MATCH(A4078,IF(Entradas!$B$3:$B$5000=D4078,Entradas!$A$3:$A$5000),1))),\"Preço não registrado\")","v":""},"",null,null,"",""]
[null,null,"",null,"","",null,{"$f":"IFERROR(IF(D4079=\"\",\"\",INDEX(Entradas!$H$3:$H$5000,MATCH(A4079,IF(Entradas!$B$3:$B$5000=D4079,Entradas!$A$3:$A$5000),1))),\"Preço não registrado\")","v":""},"",null,null,"",""]
[null,null,"",null,"","",null,{"$f":"IFERROR(IF(D4080=\"\",\"\",INDEX(Entradas!$H$3:$H$5000,MATCH(A4080,IF(Entradas!$B$3:$B$5000=D4080,Entradas!$A$3:$A$5000),1))),\"Preço não registrado\")","v":""},"",null,null,"",""]
[null,null,"",null,"","",null,{"$f":"IFERROR(IF(D4081=\"\",\"\",INDEX(Entradas!$H$3:$H$5000,MATCH(A4081,IF(Entradas!$B$3:$B$5000=D4081,Entradas!$A$3:$A$5000),1))),\"Preço não registrado\")","v":""},"",null,null,"",""]
[null,null,"",null,"","",null,{"$f":"IFERROR(IF(D4082=\"\",\"\",INDEX(Entradas!$H$3:$H$5000,MATCH(A4082,IF(Entradas!$B$3:$B$5000=D4082,Entradas!$A$3:$A$5000),1))),\"Preço não registrado\")","v":""},"",null,null,"",""]
[null,null,"",null,"","",null,{"$f":"IFERROR(IF(D4083=\"\",\"\",INDEX(Entradas!$H$3:$H$5000,MATCH(A4083,IF(Entradas!$B$3:$B$5000=D4083,Entradas!$A$3:$A$5000),1))),\"Preço não registrado\")","v":""},"",null,null,"",""]
[null,null,"",null,"","",null,{"$f":"IFERROR(IF(D4084=\"\",\"\",INDEX(Entradas!$H$3:$H$5000,MATCH(A4084,IF(Entradas!$B$3:$B$5000=D4084,Entradas!$A$3:$A$5000),1))),\"Preço não registrado\")","v":""},"",null,null,"",""]
[null,null,"",null,"","",null,{"$f":"IFERROR(IF(D4085=\"\",\"\",INDEX(Entradas!$H$3:$H$5000,MATCH(A4085,IF(Entradas!$B$3:$B$5000=D4085,Entradas!$A$3:$A$5000),1))),\"Preço não registrado\")","v":""},"",null,null,"",""]
[null,null,"",null,"","",null,{"$f":"IFERROR(IF(D4086=\"\",\"\",INDEX(Entradas!$H$3:$H$5000,MATCH(A4086,IF(Entradas!$B$3:$B$5000=D4086,Entradas!$A$3:$A$5000),1))),\"Preço não registrado\")","v":""},"",null,null,"",""]
[null,null,"",null,"","",null,{"$f":"IFERROR(IF(D4087=\"\",\"\",INDEX(Entradas!$H$3:$H$5000,MATCH(A4087,IF(Entradas!$B$3:$B$5000=D4087,Entradas!$A$3:$A$5000),1))),\"Preço não registrado\")","v":""},"",null,null,"",""]
[null,null,"",null,"","",null,{"$f":"IFERROR(IF(D4088=\"\",\"\",INDEX(Entradas!$H$3:$H$5000,MATCH(A4088,IF(Entradas!$B$3:$B$5000=D4088,Entradas!$A$3:$A$5000),1))),\"Preço não registrado\")","v":""},"",null,null,"",""]
[null,null,"",null,"","",null,{"$f":"IFERROR(IF(D4089=\"\",\"\",INDEX(Entradas!$H$3:$H$5000,MATCH(A4089,IF(Entradas!$B$3:$B$5000=D4089,Entradas!$A$3:$A$5000),1))),\"Preço não registrado\")","v":""},"",null,null,"",""]
[null,null,"",null,"","",null,{"$f":"IFERROR(IF(D4090=\"\",\"\",INDEX(Entradas!$H$3:$H$5000,MATCH(A4090,IF(Entradas!$B$3:$B$5000=D4090,Entradas!$A$3:$A$5000),1))),\"Preço não registrado\")","v":""},"",null,null,"",""]
[null,null,"",null,"","",null,{"$f":"IFERROR(IF(D4091=\"\",\"\",INDEX(Entradas!$H$3:$H$5000,MATCH(A4091,IF(Entradas!$B$3:$B$5000=D4091,Entradas!$A$3:$A$5000),1))),\"Preço não registrado\")","v":""},"",null,null,"",""]
[null,null,"",null,"","",null,{"$f":"IFERROR(IF(D4092=\"\",\"\",INDEX(Entradas!$H$3:$H$5000,MATCH(A4092,IF(Entradas!$B$3:$B$5000=D4092,Entradas!$A$3:$A$5000),1))),\"Preço não registrado\")","v":""},"",null,null,"",""]
[null,null,"",null,"","",null,{"$f":"IFERROR(IF(D4093=\"\",\"\",INDEX(Entradas!$H$3:$H$5000,MATCH(A4093,IF(Entradas!$B$3:$B$5000=D4093,Entradas!$A$3:$A$5000),1))),\"Preço não registrado\")","v":""},"",null,null,"",""]
[null,null,"",null,"","",null,{"$f":"IFERROR(IF(D4094=\"\",\"\",INDEX(Entradas!$H$3:$H$5000,MATCH(A4094,IF(Entradas!$B$3:$B$5000=D4094,Entradas!$A$3:$A$5000),1))),\"Preço não registrado\")","v":""},"",null,null,"",""]
[null,null,"",null,"","",null,{"$f":"IFERROR(IF(D4095=\"\",\"\",INDEX(Entradas!$H$3:$H$5000,MATCH(A4095,IF(Entradas!$B$3:$B$5000=D4095,Entradas!$A$3:$A$5000),1))),\"Preço não registrado\")","v":""},"",null,null,"",""]
[null,null,"",null,"","",null,{"$f":"IFERROR(IF(D4096=\"\",\"\",INDEX(Entradas!$H$3:$H$5000,MATCH(A4096,IF(Entradas!$B$3:$B$5000=D4096,Entradas!$A$3:$A$5000),1))),\"Preço não registrado\")","v":""},"",null,null,"",""]
[null,null,"",null,"","",null,{"$f":"IFERROR(IF(D4097=\"\",\"\",INDEX(Entradas!$H$3:$H$5000,MATCH(A4097,IF(Entradas!$B$3:$B$5000=D4097,Entradas!$A$3:$A$5000),1))),\"Preço não registrado\")","v":""},"",null,null,"",""]
[null,null,"",null,"","",null,{"$f":"IFERROR(IF(D4098=\"\",\"\",INDEX(Entradas!$H$3:$H$5000,MATCH(A4098,IF(Entradas!$B$3:$B$5000=D4098,Entradas!$A$3:$A$5000),1))),\"Preço não registrado\")","v":""},"",null,null,"",""]
[null,null,{"$f":"IFERROR(IF(B4099=\"\",\"\",VLOOKUP(B4099,Clientes,2,FALSE)),\"\")","v":""},null,{"$f":"IF(D4099=\"\",\"\",VLOOKUP(D4099,Itens,2,FALSE))","v":""},{"$f":"IF(D4099=\"\",\"\",VLOOKUP(D4099,Itens,3,FALSE))","v":""},null,{"$f":"IFERROR(IF(D4099=\"\",\"\",INDEX(Entradas!$H$3:$H$5000,MATCH(A4099,IF(Entradas!$B$3:$B$5000=D4099,Entradas!$A$3:$A$5000),1))),\"Preço não registrado\")","v":""},"",null,null,"",""]
[null,null,"",null,"","",null,{"$f":"IFERROR(IF(D4100=\"\",\"\",INDEX(Entradas!$H$3:$H$5000,MATCH(A4100,IF(Entradas!$B$3:$B$5000=D4100,Entradas!$A$3:$A$5000),1))),\"Preço não registrado\")","v":""},{"$f":"IFERROR(G4100*H4100,\"\")","v":""},null,null,{"$f":"IF(K4100=\"\",\"\",HYPERLINK($P$13&K4100,\"Rastreie aqui\"))","v":""},{"$f":"IF(A4100=\"\",\"\",TEXT(A4100,\"mmmm\"))","v":""}]
[null,null,"",null,"","",null,{"$f":"IFERROR(IF(D4101=\"\",\"\",INDEX(Entradas!$H$3:$H$5000,MATCH(A4101,IF(Entradas!$B$3:$B$5000=D4101,Entradas!$A$3:$A$5000),1))),\"Preço não registrado\")","v":""},"",null,null,"",""]
[null,null,"",null,"","",null,{"$f":"IFERROR(IF(D4102=\"\",\"\",INDEX(Entradas!$H$3:$H$5000,MATCH(A4102,IF(Entradas!$B$3:$B$5000=D4102,Entradas!$A$3:$A$5000),1))),\"Preço não registrado\")","v":""},"",null,null,"",""]
[null,null,"",null,"","",null,{"$f":"IFERROR(IF(D4103=\"\",\"\",INDEX(Entradas!$H$3:$H$5000,MATCH(A4103,IF(Entradas!$B$3:$B$5000=D4103,Entradas!$A$3:$A$5000),1))),\"Preço não registrado\")","v":""},"",null,null,"",""]
[null,null,"",null,"","",null,{"$f":"IFERROR(IF(D4104=\"\",\"\",INDEX(Entradas!$H$3:$H$5000,MATCH(A4104,IF(Entradas!$B$3:$B$5000=D4104,Entradas!$A$3:$A$5000),1))),\"Preço não registrado\")","v":""},"",null,null,"",""]
[null,null,"",null,"","",null,{"$f":"IFERROR(IF(D4105=\"\",\"\",INDEX(Entradas!$H$3:$H$5000,MATCH(A4105,IF(Entradas!$B$3:$B$5000=D4105,Entradas!$A$3:$A$5000),1))),\"Preço não registrado\")","v":""},"",null,null,"",""]
[null,null,"",null,"","",null,{"$f":"IFERROR(IF(D4106=\"\",\"\",INDEX(Entradas!$H$3:$H$5000,MATCH(A4106,IF(Entradas!$B$3:$B$5000=D4106,Entradas!$A$3:$A$5000),1))),\"Preço não registrado\")","v":""},"",null,null,"",""]
[null,null,"",null,"","",null,{"$f":"IFERROR(IF(D4107=\"\",\"\",INDEX(Entradas!$H$3:$H$5000,MATCH(A4107,IF(Entradas!$B$3:$B$5000=D4107,Entradas!$A$3:$A$5000),1))),\"Preço não registrado\")","v":""},"",null,null,"",""]
[null,null,"",null,"","",null,{"$f":"IFERROR(IF(D4108=\"\",\"\",INDEX(Entradas!$H$3:$H$5000,MATCH(A4108,IF(Entradas!$B$3:$B$5000=D4108,Entradas!$A$3:$A$5000),1))),\"Preço não registrado\")","v":""},"",null,null,"",""]
[null,null,"",null,"","",null,{"$f":"IFERROR(IF(D4109=\"\",\"\",INDEX(Entradas!$H$3:$H$5000,MATCH(A4109,IF(Entradas!$B$3:$B$5000=D4109,Entradas!$A$3:$A$5000),1))),\"Preço não registrado\")","v":""},"",null,null,"",""]
[null,null,"",null,"","",null,{"$f":"IFERROR(IF(D4110=\"\",\"\",INDEX(Entradas!$H$3:$H$5000,MATCH(A4110,IF(Entradas!$B$3:$B$5000=D4110,Entradas!$A$3:$A$5000),1))),\"Preço não registrado\")","v":""},"",null,null,"",""]
[null,null,"",null,"","",null,{"$f":"IFERROR(IF(D4111=\"\",\"\",INDEX(Entradas!$H$3:$H$5000,MATCH(A4111,IF(Entradas!$B$3:$B$5000=D4111,Entradas!$A$3:$A$5000),1))),\"Preço não registrado\")","v":""},"",null,null,"",""]
[null,null,"",null,"","",null,{"$f":"IFERROR(IF(D4112=\"\",\"\",INDEX(Entradas!$H$3:$H$5000,MATCH(A4112,IF(Entradas!$B$3:$B$5000=D4112,Entradas!$A$3:$A$5000),1))),\"Preço não registrado\")","v":""},"",null,null,"",""]
[null,null,"",null,"","",null,{"$f":"IFERROR(IF(D4113=\"\",\"\",INDEX(Entradas!$H$3:$H$5000,MATCH(A4113,IF(Entradas!$B$3:$B$5000=D4113,Entradas!$A$3:$A$5000),1))),\"Preço não registrado\")","v":""},"",null,null,"",""]
[null,null,"",null,"","",null,{"$f":"IFERROR(IF(D4114=\"\",\"\",INDEX(Entradas!$H$3:$H$5000,MATCH(A4114,IF(Entradas!$B$3:$B$5000=D4114,Entradas!$A$3:$A$5000),1))),\"Preço não registrado\")","v":""},"",null,null,"",""]
[null,null,"",null,"","",null,{"$f":"IFERROR(IF(D4115=\"\",\"\",INDEX(Entradas!$H$3:$H$5000,MATCH(A4115,IF(Entradas!$B$3:$B$5000=D4115,Entradas!$A$3:$A$5000),1))),\"Preço não registrado\")","v":""},"",null,null,"",""]
[null,null,"",null,"","",null,{"$f":"IFERROR(IF(D4116=\"\",\"\",INDEX(Entradas!$H$3:$H$5000,MATCH(A4116,IF(Entradas!$B$3:$B$5000=D4116,Entradas!$A$3:$A$5000),1))),\"Preço não registrado\")","v":""},"",null,null,"",""]
[null,null,"",null,"","",null,{"$f":"IFERROR(IF(D4117=\"\",\"\",INDEX(Entradas!$H$3:$H$5000,MATCH(A4117,IF(Entradas!$B$3:$B$5000=D4117,Entradas!$A$3:$A$5000),1))),\"Preço não registrado\")","v":""},"",null,null,"",""]
[null,null,"",null,"","",null,{"$f":"IFERROR(IF(D4118=\"\",\"\",INDEX(Entradas!$H$3:$H$5000,MATCH(A4118,IF(Entradas!$B$3:$B$5000=D4118,Entradas!$A$3:$A$5000),1))),\"Preço não registrado\")","v":""},"",null,null,"",""]
[null,null,"",null,"","",null,{"$f":"IFERROR(IF(D4119=\"\",\"\",INDEX(Entradas!$H$3:$H$5000,MATCH(A4119,IF(Entradas!$B$3:$B$5000=D4119,Entradas!$A$3:$A$5000),1))),\"Preço não registrado\")","v":""},"",null,null,"",""]
[null,null,"",null,"","",null,{"$f":"IFERROR(IF(D4120=\"\",\"\",INDEX(Entradas!$H$3:$H$5000,MATCH(A4120,IF(Entradas!$B$3:$B$5000=D4120,Entradas!$A$3:$A$5000),1))),\"Preço não registrado\")","v":""},"",null,null,"",""]
[null,null,"",null,"","",null,{"$f":"IFERROR(IF(D4121=\"\",\"\",INDEX(Entradas!$H$3:$H$5000,MATCH(A4121,IF(Entradas!$B$3:$B$5000=D4121,Entradas!$A$3:$A$5000),1))),\"Preço não registrado\")","v":""},"",null,null,"",""]
[null,null,"",null,"","",null,{"$f":"IFERROR(IF(D4122=\"\",\"\",INDEX(Entradas!$H$3:$H$5000,MATCH(A4122,IF(Entradas!$B$3:$B$5000=D4122,Entradas!$A$3:$A$5000),1))),\"Preço não registrado\")","v":""},"",null,null,"",""]
[null,null,"",null,"","",null,{"$f":"IFERROR(IF(D4123=\"\",\"\",INDEX(Entradas!$H$3:$H$5000,MATCH(A4123,IF(Entradas!$B$3:$B$5000=D4123,Entradas!$A$3:$A$5000),1))),\"Preço não registrado\")","v":""},"",null,null,"",""]
[null,null,"",null,"","",null,{"$f":"IFERROR(IF(D4124=\"\",\"\",INDEX(Entradas!$H$3:$H$5000,MATCH(A4124,IF(Entradas!$B$3:$B$5000=D4124,Entradas!$A$3:$A$5000),1))),\"Preço não registrado\")","v":""},"",null,null,"",""]
[null,null,"",null,"","",null,{"$f":"IFERROR(IF(D4125=\"\",\"\",INDEX(Entradas!$H$3:$H$5000,MATCH(A4125,IF(Entradas!$B$3:$B$5000=D4125,Entradas!$A$3:$A$5000),1))),\"Preço não registrado\")","v":""},"",null,null,"",""]
[null,null,"",null,"","",null,{"$f":"IFERROR(IF(D4126=\"\",\"\",INDEX(Entradas!$H$3:$H$5000,MATCH(A4126,IF(Entradas!$B$3:$B$5000=D4126,Entradas!$A$3:$A$5000),1))),\"Preço não registrado\")","v":""},"",null,null,"",""]
[null,null,"",null,"","",null,{"$f":"IFERROR(IF(D4127=\"\",\"\",INDEX(Entradas!$H$3:$H$5000,MATCH(A4127,IF(Entradas!$B$3:$B$5000=D4127,Entradas!$A$3:$A$5000),1))),\"Preço não registrado\")","v":""},"",null,null,"",""]
[null,null,"",null,"","",null,{"$f":"IFERROR(IF(D4128=\"\",\"\",INDEX(Entradas!$H$3:$H$5000,MATCH(A4128,IF(Entradas!$B$3:$B$5000=D4128,Entradas!$A$3:$A$5000),1))),\"Preço não registrado\")","v":""},"",null,null,"",""]
[null,null,"",null,"","",null,{"$f":"IFERROR(IF(D4129=\"\",\"\",INDEX(Entradas!$H$3:$H$5000,MATCH(A4129,IF(Entradas!$B$3:$B$5000=D4129,Entradas!$A$3:$A$5000),1))),\"Preço não registrado\")","v":""},"",null,null,"",""]
[null,null,"",null,"","",null,{"$f":"IFERROR(IF(D4130=\"\",\"\",INDEX(Entradas!$H$3:$H$5000,MATCH(A4130,IF(Entradas!$B$3:$B$5000=D4130,Entradas!$A$3:$A$5000),1))),\"Preço não registrado\")","v":""},"",null,null,"",""]
[null,null,"",null,"","",null,{"$f":"IFERROR(IF(D4131=\"\",\"\",INDEX(Entradas!$H$3:$H$5000,MATCH(A4131,IF(Entradas!$B$3:$B$5000=D4131,Entradas!$A$3:$A$5000),1))),\"Preço não registrado\")","v":""},"",null,null,"",""]
[null,null,"",null,"","",null,{"$f":"IFERROR(IF(D4132=\"\",\"\",INDEX(Entradas!$H$3:$H$5000,MATCH(A4132,IF(Entradas!$B$3:$B$5000=D4132,Entradas!$A$3:$A$5000),1))),\"Preço não registrado\")","v":""},"",null,null,"",""]
[null,null,"",null,"","",null,{"$f":"IFERROR(IF(D4133=\"\",\"\",INDEX(Entradas!$H$3:$H$5000,MATCH(A4133,IF(Entradas!$B$3:$B$5000=D4133,Entradas!$A$3:$A$5000),1))),\"Preço não registrado\")","v":""},"",null,null,"",""]
[null,null,"",null,"","",null,{"$f":"IFERROR(IF(D4134=\"\",\"\",INDEX(Entradas!$H$3:$H$5000,MATCH(A4134,IF(Entradas!$B$3:$B$5000=D4134,Entradas!$A$3:$A$5000),1))),\"Preço não registrado\")","v":""},"",null,null,"",""]
[null,null,"",null,"","",null,{"$f":"IFERROR(IF(D4135=\"\",\"\",INDEX(Entradas!$H$3:$H$5000,MATCH(A4135,IF(Entradas!$B$3:$B$5000=D4135,Entradas!$A$3:$A$5000),1))),\"Preço não registrado\")","v":""},"",null,null,"",""]
[null,null,"",null,"","",null,{"$f":"IFERROR(IF(D4136=\"\",\"\",INDEX(Entradas!$H$3:$H$5000,MATCH(A4136,IF(Entradas!$B$3:$B$5000=D4136,Entradas!$A$3:$A$5000),1))),\"Preço não registrado\")","v":""},"",null,null,"",""]
[null,null,"",null,"","",null,{"$f":"IFERROR(IF(D4137=\"\",\"\",INDEX(Entradas!$H$3:$H$5000,MATCH(A4137,IF(Entradas!$B$3:$B$5000=D4137,Entradas!$A$3:$A$5000),1))),\"Preço não registrado\")","v":""},"",null,null,"",""]
[null,null,"",null,"","",null,{"$f":"IFERROR(IF(D4138=\"\",\"\",INDEX(Entradas!$H$3:$H$5000,MATCH(A4138,IF(Entradas!$B$3:$B$5000=D4138,Entradas!$A$3:$A$5000),1))),\"Preço não registrado\")","v":""},"",null,null,"",""]
[null,null,"",null,"","",null,{"$f":"IFERROR(IF(D4139=\"\",\"\",INDEX(Entradas!$H$3:$H$5000,MATCH(A4139,IF(Entradas!$B$3:$B$5000=D4139,Entradas!$A$3:$A$5000),1))),\"Preço não registrado\")","v":""},"",null,null,"",""]
[null,null,"",null,"","",null,{"$f":"IFERROR(IF(D4140=\"\",\"\",INDEX(Entradas!$H$3:$H$5000,MATCH(A4140,IF(Entradas!$B$3:$B$5000=D4140,Entradas!$A$3:$A$5000),1))),\"Preço não registrado\")","v":""},"",null,null,"",""]
[null,null,"",null,"","",null,{"$f":"IFERROR(IF(D4141=\"\",\"\",INDEX(Entradas!$H$3:$H$5000,MATCH(A4141,IF(Entradas!$B$3:$B$5000=D4141,Entradas!$A$3:$A$5000),1))),\"Preço não registrado\")","v":""},"",null,null,"",""]
[null,null,"",null,"","",null,{"$f":"IFERROR(IF(D4142=\"\",\"\",INDEX(Entradas!$H$3:$H$5000,MATCH(A4142,IF(Entradas!$B$3:$B$5000=D4142,Entradas!$A$3:$A$5000),1))),\"Preço não registrado\")","v":""},"",null,null,"",""]
[null,null,"",null,"","",null,{"$f":"IFERROR(IF(D4143=\"\",\"\",INDEX(Entradas!$H$3:$H$5000,MATCH(A4143,IF(Entradas!$B$3:$B$5000=D4143,Entradas!$A$3:$A$5000),1))),\"Preço não registrado\")","v":""},"",null,null,"",""]
[null,null,"",null,"","",null,{"$f":"IFERROR(IF(D4144=\"\",\"\",INDEX(Entradas!$H$3:$H$5000,MATCH(A4144,IF(Entradas!$B$3:$B$5000=D4144,Entradas!$A$3:$A$5000),1))),\"Preço não registrado\")","v":""},"",null,null,"",""]
[null,null,"",null,"","",null,{"$f":"IFERROR(IF(D4145=\"\",\"\",INDEX(Entradas!$H$3:$H$5000,MATCH(A4145,IF(Entradas!$B$3:$B$5000=D4145,Entradas!$A$3:$A$5000),1))),\"Preço não registrado\")","v":""},"",null,null,"",""]
[null,null,"",null,"","",null,{"$f":"IFERROR(IF(D4146=\"\",\"\",INDEX(Entradas!$H$3:$H$5000,MATCH(A4146,IF(Entradas!$B$3:$B$5000=D4146,Entradas!$A$3:$A$5000),1))),\"Preço não registrado\")","v":""},"",null,null,"",""]
[null,null,"",null,"","",null,{"$f":"IFERROR(IF(D4147=\"\",\"\",INDEX(Entradas!$H$3:$H$5000,MATCH(A4147,IF(Entradas!$B$3:$B$5000=D4147,Entradas!$A$3:$A$5000),1))),\"Preço não registrado\")","v":""},"",null,null,"",""]
[null,null,"",null,"","",null,{"$f":"IFERROR(IF(D4148=\"\",\"\",INDEX(Entradas!$H$3:$H$5000,MATCH(A4148,IF(Entradas!$B$3:$B$5000=D4148,Entradas!$A$3:$A$5000),1))),\"Preço não registrado\")","v":""},"",null,null,"",""]
[null,null,"",null,"","",null,{"$f":"IFERROR(IF(D4149=\"\",\"\",INDEX(Entradas!$H$3:$H$5000,MATCH(A4149,IF(Entradas!$B$3:$B$5000=D4149,Entradas!$A$3:$A$5000),1))),\"Preço não registrado\")","v":""},"",null,null,"",""]
[null,null,"",null,"","",null,{"$f":"IFERROR(IF(D4150=\"\",\"\",INDEX(Entradas!$H$3:$H$5000,MATCH(A4150,IF(Entradas!$B$3:$B$5000=D4150,Entradas!$A$3:$A$5000),1))),\"Preço não registrado\")","v":""},"",null,null,"",""]
[null,null,"",null,"","",null,{"$f":"IFERROR(IF(D4151=\"\",\"\",INDEX(Entradas!$H$3:$H$5000,MATCH(A4151,IF(Entradas!$B$3:$B$5000=D4151,Entradas!$A$3:$A$5000),1))),\"Preço não registrado\")","v":""},"",null,null,"",""]
[null,null,"",null,"","",null,{"$f":"IFERROR(IF(D4152=\"\",\"\",INDEX(Entradas!$H$3:$H$5000,MATCH(A4152,IF(Entradas!$B$3:$B$5000=D4152,Entradas!$A$3:$A$5000),1))),\"Preço não registrado\")","v":""},"",null,null,"",""]
[null,null,"",null,"","",null,{"$f":"IFERROR(IF(D4153=\"\",\"\",INDEX(Entradas!$H$3:$H$5000,MATCH(A4153,IF(Entradas!$B$3:$B$5000=D4153,Entradas!$A$3:$A$5000),1))),\"Preço não registrado\")","v":""},"",null,null,"",""]
[null,null,"",null,"","",null,{"$f":"IFERROR(IF(D4154=\"\",\"\",INDEX(Entradas!$H$3:$H$5000,MATCH(A4154,IF(Entradas!$B$3:$B$5000=D4154,Entradas!$A$3:$A$5000),1))),\"Preço não registrado\")","v":""},"",null,null,"",""]
[null,null,"",null,"","",null,{"$f":"IFERROR(IF(D4155=\"\",\"\",INDEX(Entradas!$H$3:$H$5000,MATCH(A4155,IF(Entradas!$B$3:$B$5000=D4155,Entradas!$A$3:$A$5000),1))),\"Preço não registrado\")","v":""},"",null,null,"",""]
[null,null,"",null,"","",null,{"$f":"IFERROR(IF(D4156=\"\",\"\",INDEX(Entradas!$H$3:$H$5000,MATCH(A4156,IF(Entradas!$B$3:$B$5000=D4156,Entradas!$A$3:$A$5000),1))),\"Preço não registrado\")","v":""},"",null,null,"",""]
[null,null,"",null,"","",null,{"$f":"IFERROR(IF(D4157=\"\",\"\",INDEX(Entradas!$H$3:$H$5000,MATCH(A4157,IF(Entradas!$B$3:$B$5000=D4157,Entradas!$A$3:$A$5000),1))),\"Preço não registrado\")","v":""},"",null,null,"",""]
[null,null,"",null,"","",null,{"$f":"IFERROR(IF(D4158=\"\",\"\",INDEX(Entradas!$H$3:$H$5000,MATCH(A4158,IF(Entradas!$B$3:$B$5000=D4158,Entradas!$A$3:$A$5000),1))),\"Preço não registrado\")","v":""},"",null,null,"",""]
[null,null,"",null,"","",null,{"$f":"IFERROR(IF(D4159=\"\",\"\",INDEX(Entradas!$H$3:$H$5000,MATCH(A4159,IF(Entradas!$B$3:$B$5000=D4159,Entradas!$A$3:$A$5000),1))),\"Preço não registrado\")","v":""},"",null,null,"",""]
[null,null,"",null,"","",null,{"$f":"IFERROR(IF(D4160=\"\",\"\",INDEX(Entradas!$H$3:$H$5000,MATCH(A4160,IF(Entradas!$B$3:$B$5000=D4160,Entradas!$A$3:$A$5000),1))),\"Preço não registrado\")","v":""},"",null,null,"",""]
[null,null,"",null,"","",null,{"$f":"IFERROR(IF(D4161=\"\",\"\",INDEX(Entradas!$H$3:$H$5000,MATCH(A4161,IF(Entradas!$B$3:$B$5000=D4161,Entradas!$A$3:$A$5000),1))),\"Preço não registrado\")","v":""},"",null,null,"",""]
[null,null,"",null,"","",null,{"$f":"IFERROR(IF(D4162=\"\",\"\",INDEX(Entradas!$H$3:$H$5000,MATCH(A4162,IF(Entradas!$B$3:$B$5000=D4162,Entradas!$A$3:$A$5000),1))),\"Preço não registrado\")","v":""},"",null,null,"",""]
[null,null,{"$f":"IFERROR(IF(B4163=\"\",\"\",VLOOKUP(B4163,Clientes,2,FALSE)),\"\")","v":""},null,{"$f":"IF(D4163=\"\",\"\",VLOOKUP(D4163,Itens,2,FALSE))","v":""},{"$f":"IF(D4163=\"\",\"\",VLOOKUP(D4163,Itens,3,FALSE))","v":""},null,{"$f":"IFERROR(IF(D4163=\"\",\"\",INDEX(Entradas!$H$3:$H$5000,MATCH(A4163,IF(Entradas!$B$3:$B$5000=D4163,Entradas!$A$3:$A$5000),1))),\"Preço não registrado\")","v":""},"",null,null,"",""]
[null,null,"",null,"","",null,{"$f":"IFERROR(IF(D4164=\"\",\"\",INDEX(Entradas!$H$3:$H$5000,MATCH(A4164,IF(Entradas!$B$3:$B$5000=D4164,Entradas!$A$3:$A$5000),1))),\"Preço não registrado\")","v":""},{"$f":"IFERROR(G4164*H4164,\"\")","v":""},null,null,{"$f":"IF(K4164=\"\",\"\",HYPERLINK($P$13&K4164,\"Rastreie aqui\"))","v":""},{"$f":"IF(A4164=\"\",\"\",TEXT(A4164,\"mmmm\"))","v":""}]
[null,null,"",null,"","",null,{"$f":"IFERROR(IF(D4165=\"\",\"\",INDEX(Entradas!$H$3:$H$5000,MATCH(A4165,IF(Entradas!$B$3:$B$5000=D4165,Entradas!$A$3:$A$5000),1))),\"Preço não registrado\")","v":""},"",null,null,"",""]
[null,null,"",null,"","",null,{"$f":"IFERROR(IF(D4166=\"\",\"\",INDEX(Entradas!$H$3:$H$5000,MATCH(A4166,IF(Entradas!$B$3:$B$5000=D4166,Entradas!$A$3:$A$5000),1))),\"Preço não registrado\")","v":""},"",null,null,"",""]
[null,null,"",null,"","",null,{"$f":"IFERROR(IF(D4167=\"\",\"\",INDEX(Entradas!$H$3:$H$5000,MATCH(A4167,IF(Entradas!$B$3:$B$5000=D4167,Entradas!$A$3:$A$5000),1))),\"Preço não registrado\")","v":""},"",null,null,"",""]
[null,null,"",null,"","",null,{"$f":"IFERROR(IF(D4168=\"\",\"\",INDEX(Entradas!$H$3:$H$5000,MATCH(A4168,IF(Entradas!$B$3:$B$5000=D4168,Entradas!$A$3:$A$5000),1))),\"Preço não registrado\")","v":""},"",null,null,"",""]
[null,null,"",null,"","",null,{"$f":"IFERROR(IF(D4169=\"\",\"\",INDEX(Entradas!$H$3:$H$5000,MATCH(A4169,IF(Entradas!$B$3:$B$5000=D4169,Entradas!$A$3:$A$5000),1))),\"Preço não registrado\")","v":""},"",null,null,"",""]
[null,null,"",null,"","",null,{"$f":"IFERROR(IF(D4170=\"\",\"\",INDEX(Entradas!$H$3:$H$5000,MATCH(A4170,IF(Entradas!$B$3:$B$5000=D4170,Entradas!$A$3:$A$5000),1))),\"Preço não registrado\")","v":""},"",null,null,"",""]
[null,null,"",null,"","",null,{"$f":"IFERROR(IF(D4171=\"\",\"\",INDEX(Entradas!$H$3:$H$5000,MATCH(A4171,IF(Entradas!$B$3:$B$5000=D4171,Entradas!$A$3:$A$5000),1))),\"Preço não registrado\")","v":""},"",null,null,"",""]
[null,null,"",null,"","",null,{"$f":"IFERROR(IF(D4172=\"\",\"\",INDEX(Entradas!$H$3:$H$5000,MATCH(A4172,IF(Entradas!$B$3:$B$5000=D4172,Entradas!$A$3:$A$5000),1))),\"Preço não registrado\")","v":""},"",null,null,"",""]
[null,null,"",null,"","",null,{"$f":"IFERROR(IF(D4173=\"\",\"\",INDEX(Entradas!$H$3:$H$5000,MATCH(A4173,IF(Entradas!$B$3:$B$5000=D4173,Entradas!$A$3:$A$5000),1))),\"Preço não registrado\")","v":""},"",null,null,"",""]
[null,null,"",null,"","",null,{"$f":"IFERROR(IF(D4174=\"\",\"\",INDEX(Entradas!$H$3:$H$5000,MATCH(A4174,IF(Entradas!$B$3:$B$5000=D4174,Entradas!$A$3:$A$5000),1))),\"Preço não registrado\")","v":""},"",null,null,"",""]
[null,null,"",null,"","",null,{"$f":"IFERROR(IF(D4175=\"\",\"\",INDEX(Entradas!$H$3:$H$5000,MATCH(A4175,IF(Entradas!$B$3:$B$5000=D4175,Entradas!$A$3:$A$5000),1))),\"Preço não registrado\")","v":""},"",null,null,"",""]
[null,null,"",null,"","",null,{"$f":"IFERROR(IF(D4176=\"\",\"\",INDEX(Entradas!$H$3:$H$5000,MATCH(A4176,IF(Entradas!$B$3:$B$5000=D4176,Entradas!$A$3:$A$5000),1))),\"Preço não registrado\")","v":""},"",null,null,"",""]
[null,null,"",null,"","",null,{"$f":"IFERROR(IF(D4177=\"\",\"\",INDEX(Entradas!$H$3:$H$5000,MATCH(A4177,IF(Entradas!$B$3:$B$5000=D4177,Entradas!$A$3:$A$5000),1))),\"Preço não registrado\")","v":""},"",null,null,"",""]
[null,null,"",null,"","",null,{"$f":"IFERROR(IF(D4178=\"\",\"\",INDEX(Entradas!$H$3:$H$5000,MATCH(A4178,IF(Entradas!$B$3:$B$5000=D4178,Entradas!$A$3:$A$5000),1))),\"Preço não registrado\")","v":""},"",null,null,"",""]
[null,null,"",null,"","",null,{"$f":"IFERROR(IF(D4179=\"\",\"\",INDEX(Entradas!$H$3:$H$5000,MATCH(A4179,IF(Entradas!$B$3:$B$5000=D4179,Entradas!$A$3:$A$5000),1))),\"Preço não registrado\")","v":""},"",null,null,"",""]
[null,null,"",null,"","",null,{"$f":"IFERROR(IF(D4180=\"\",\"\",INDEX(Entradas!$H$3:$H$5000,MATCH(A4180,IF(Entradas!$B$3:$B$5000=D4180,Entradas!$A$3:$A$5000),1))),\"Preço não registrado\")","v":""},"",null,null,"",""]
[null,null,"",null,"","",null,{"$f":"IFERROR(IF(D4181=\"\",\"\",INDEX(Entradas!$H$3:$H$5000,MATCH(A4181,IF(Entradas!$B$3:$B$5000=D4181,Entradas!$A$3:$A$5000),1))),\"Preço não registrado\")","v":""},"",null,null,"",""]
[null,null,"",null,"","",null,{"$f":"IFERROR(IF(D4182=\"\",\"\",INDEX(Entradas!$H$3:$H$5000,MATCH(A4182,IF(Entradas!$B$3:$B$5000=D4182,Entradas!$A$3:$A$5000),1))),\"Preço não registrado\")","v":""},"",null,null,"",""]
[null,null,"",null,"","",null,{"$f":"IFERROR(IF(D4183=\"\",\"\",INDEX(Entradas!$H$3:$H$5000,MATCH(A4183,IF(Entradas!$B$3:$B$5000=D4183,Entradas!$A$3:$A$5000),1))),\"Preço não registrado\")","v":""},"",null,null,"",""]
[null,null,"",null,"","",null,{"$f":"IFERROR(IF(D4184=\"\",\"\",INDEX(Entradas!$H$3:$H$5000,MATCH(A4184,IF(Entradas!$B$3:$B$5000=D4184,Entradas!$A$3:$A$5000),1))),\"Preço não registrado\")","v":""},"",null,null,"",""]
[null,null,"",null,"","",null,{"$f":"IFERROR(IF(D4185=\"\",\"\",INDEX(Entradas!$H$3:$H$5000,MATCH(A4185,IF(Entradas!$B$3:$B$5000=D4185,Entradas!$A$3:$A$5000),1))),\"Preço não registrado\")","v":""},"",null,null,"",""]
[null,null,"",null,"","",null,{"$f":"IFERROR(IF(D4186=\"\",\"\",INDEX(Entradas!$H$3:$H$5000,MATCH(A4186,IF(Entradas!$B$3:$B$5000=D4186,Entradas!$A$3:$A$5000),1))),\"Preço não registrado\")","v":""},"",null,null,"",""]
[null,null,"",null,"","",null,{"$f":"IFERROR(IF(D4187=\"\",\"\",INDEX(Entradas!$H$3:$H$5000,MATCH(A4187,IF(Entradas!$B$3:$B$5000=D4187,Entradas!$A$3:$A$5000),1))),\"Preço não registrado\")","v":""},"",null,null,"",""]
[null,null,"",null,"","",null,{"$f":"IFERROR(IF(D4188=\"\",\"\",INDEX(Entradas!$H$3:$H$5000,MATCH(A4188,IF(Entradas!$B$3:$B$5000=D4188,Entradas!$A$3:$A$5000),1))),\"Preço não registrado\")","v":""},"",null,null,"",""]
[null,null,"",null,"","",null,{"$f":"IFERROR(IF(D4189=\"\",\"\",INDEX(Entradas!$H$3:$H$5000,MATCH(A4189,IF(Entradas!$B$3:$B$5000=D4189,Entradas!$A$3:$A$5000),1))),\"Preço não registrado\")","v":""},"",null,null,"",""]
[null,null,"",null,"","",null,{"$f":"IFERROR(IF(D4190=\"\",\"\",INDEX(Entradas!$H$3:$H$5000,MATCH(A4190,IF(Entradas!$B$3:$B$5000=D4190,Entradas!$A$3:$A$5000),1))),\"Preço não registrado\")","v":""},"",null,null,"",""]
[null,null,"",null,"","",null,{"$f":"IFERROR(IF(D4191=\"\",\"\",INDEX(Entradas!$H$3:$H$5000,MATCH(A4191,IF(Entradas!$B$3:$B$5000=D4191,Entradas!$A$3:$A$5000),1))),\"Preço não registrado\")","v":""},"",null,null,"",""]
[null,null,"",null,"","",null,{"$f":"IFERROR(IF(D4192=\"\",\"\",INDEX(Entradas!$H$3:$H$5000,MATCH(A4192,IF(Entradas!$B$3:$B$5000=D4192,Entradas!$A$3:$A$5000),1))),\"Preço não registrado\")","v":""},"",null,null,"",""]
[null,null,"",null,"","",null,{"$f":"IFERROR(IF(D4193=\"\",\"\",INDEX(Entradas!$H$3:$H$5000,MATCH(A4193,IF(Entradas!$B$3:$B$5000=D4193,Entradas!$A$3:$A$5000),1))),\"Preço não registrado\")","v":""},"",null,null,"",""]
[null,null,"",null,"","",null,{"$f":"IFERROR(IF(D4194=\"\",\"\",INDEX(Entradas!$H$3:$H$5000,MATCH(A4194,IF(Entradas!$B$3:$B$5000=D4194,Entradas!$A$3:$A$5000),1))),\"Preço não registrado\")","v":""},"",null,null,"",""]
[null,null,"",null,"","",null,{"$f":"IFERROR(IF(D4195=\"\",\"\",INDEX(Entradas!$H$3:$H$5000,MATCH(A4195,IF(Entradas!$B$3:$B$5000=D4195,Entradas!$A$3:$A$5000),1))),\"Preço não registrado\")","v":""},"",null,null,"",""]
[null,null,"",null,"","",null,{"$f":"IFERROR(IF(D4196=\"\",\"\",INDEX(Entradas!$H$3:$H$5000,MATCH(A4196,IF(Entradas!$B$3:$B$5000=D4196,Entradas!$A$3:$A$5000),1))),\"Preço não registrado\")","v":""},"",null,null,"",""]
[null,null,"",null,"","",null,{"$f":"IFERROR(IF(D4197=\"\",\"\",INDEX(Entradas!$H$3:$H$5000,MATCH(A4197,IF(Entradas!$B$3:$B$5000=D4197,Entradas!$A$3:$A$5000),1))),\"Preço não registrado\")","v":""},"",null,null,"",""]
[null,null,"",null,"","",null,{"$f":"IFERROR(IF(D4198=\"\",\"\",INDEX(Entradas!$H$3:$H$5000,MATCH(A4198,IF(Entradas!$B$3:$B$5000=D4198,Entradas!$A$3:$A$5000),1))),\"Preço não registrado\")","v":""},"",null,null,"",""]
[null,null,"",null,"","",null,{"$f":"IFERROR(IF(D4199=\"\",\"\",INDEX(Entradas!$H$3:$H$5000,MATCH(A4199,IF(Entradas!$B$3:$B$5000=D4199,Entradas!$A$3:$A$5000),1))),\"Preço não registrado\")","v":""},"",null,null,"",""]
[null,null,"",null,"","",null,{"$f":"IFERROR(IF(D4200=\"\",\"\",INDEX(Entradas!$H$3:$H$5000,MATCH(A4200,IF(Entradas!$B$3:$B$5000=D4200,Entradas!$A$3:$A$5000),1))),\"Preço não registrado\")","v":""},"",null,null,"",""]
[null,null,"",null,"","",null,{"$f":"IFERROR(IF(D4201=\"\",\"\",INDEX(Entradas!$H$3:$H$5000,MATCH(A4201,IF(Entradas!$B$3:$B$5000=D4201,Entradas!$A$3:$A$5000),1))),\"Preço não registrado\")","v":""},"",null,null,"",""]
[null,null,"",null,"","",null,{"$f":"IFERROR(IF(D4202=\"\",\"\",INDEX(Entradas!$H$3:$H$5000,MATCH(A4202,IF(Entradas!$B$3:$B$5000=D4202,Entradas!$A$3:$A$5000),1))),\"Preço não registrado\")","v":""},"",null,null,"",""]
[null,null,"",null,"","",null,{"$f":"IFERROR(IF(D4203=\"\",\"\",INDEX(Entradas!$H$3:$H$5000,MATCH(A4203,IF(Entradas!$B$3:$B$5000=D4203,Entradas!$A$3:$A$5000),1))),\"Preço não registrado\")","v":""},"",null,null,"",""]
[null,null,"",null,"","",null,{"$f":"IFERROR(IF(D4204=\"\",\"\",INDEX(Entradas!$H$3:$H$5000,MATCH(A4204,IF(Entradas!$B$3:$B$5000=D4204,Entradas!$A$3:$A$5000),1))),\"Preço não registrado\")","v":""},"",null,null,"",""]
[null,null,"",null,"","",null,{"$f":"IFERROR(IF(D4205=\"\",\"\",INDEX(Entradas!$H$3:$H$5000,MATCH(A4205,IF(Entradas!$B$3:$B$5000=D4205,Entradas!$A$3:$A$5000),1))),\"Preço não registrado\")","v":""},"",null,null,"",""]
[null,null,"",null,"","",null,{"$f":"IFERROR(IF(D4206=\"\",\"\",INDEX(Entradas!$H$3:$H$5000,MATCH(A4206,IF(Entradas!$B$3:$B$5000=D4206,Entradas!$A$3:$A$5000),1))),\"Preço não registrado\")","v":""},"",null,null,"",""]
[null,null,"",null,"","",null,{"$f":"IFERROR(IF(D4207=\"\",\"\",INDEX(Entradas!$H$3:$H$5000,MATCH(A4207,IF(Entradas!$B$3:$B$5000=D4207,Entradas!$A$3:$A$5000),1))),\"Preço não registrado\")","v":""},"",null,null,"",""]
[null,null,"",null,"","",null,{"$f":"IFERROR(IF(D4208=\"\",\"\",INDEX(Entradas!$H$3:$H$5000,MATCH(A4208,IF(Entradas!$B$3:$B$5000=D4208,Entradas!$A$3:$A$5000),1))),\"Preço não registrado\")","v":""},"",null,null,"",""]
[null,null,"",null,"","",null,{"$f":"IFERROR(IF(D4209=\"\",\"\",INDEX(Entradas!$H$3:$H$5000,MATCH(A4209,IF(Entradas!$B$3:$B$5000=D4209,Entradas!$A$3:$A$5000),1))),\"Preço não registrado\")","v":""},"",null,null,"",""]
[null,null,"",null,"","",null,{"$f":"IFERROR(IF(D4210=\"\",\"\",INDEX(Entradas!$H$3:$H$5000,MATCH(A4210,IF(Entradas!$B$3:$B$5000=D4210,Entradas!$A$3:$A$5000),1))),\"Preço não registrado\")","v":""},"",null,null,"",""]
[null,null,"",null,"","",null,{"$f":"IFERROR(IF(D4211=\"\",\"\",INDEX(Entradas!$H$3:$H$5000,MATCH(A4211,IF(Entradas!$B$3:$B$5000=D4211,Entradas!$A$3:$A$5000),1))),\"Preço não registrado\")","v":""},"",null,null,"",""]
[null,null,"",null,"","",null,{"$f":"IFERROR(IF(D4212=\"\",\"\",INDEX(Entradas!$H$3:$H$5000,MATCH(A4212,IF(Entradas!$B$3:$B$5000=D4212,Entradas!$A$3:$A$5000),1))),\"Preço não registrado\")","v":""},"",null,null,"",""]
[null,null,"",null,"","",null,{"$f":"IFERROR(IF(D4213=\"\",\"\",INDEX(Entradas!$H$3:$H$5000,MATCH(A4213,IF(Entradas!$B$3:$B$5000=D4213,Entradas!$A$3:$A$5000),1))),\"Preço não registrado\")","v":""},"",null,null,"",""]
[null,null,"",null,"","",null,{"$f":"IFERROR(IF(D4214=\"\",\"\",INDEX(Entradas!$H$3:$H$5000,MATCH(A4214,IF(Entradas!$B$3:$B$5000=D4214,Entradas!$A$3:$A$5000),1))),\"Preço não registrado\")","v":""},"",null,null,"",""]
[null,null,"",null,"","",null,{"$f":"IFERROR(IF(D4215=\"\",\"\",INDEX(Entradas!$H$3:$H$5000,MATCH(A4215,IF(Entradas!$B$3:$B$5000=D4215,Entradas!$A$3:$A$5000),1))),\"Preço não registrado\")","v":""},"",null,null,"",""]
[null,null,"",null,"","",null,{"$f":"IFERROR(IF(D4216=\"\",\"\",INDEX(Entradas!$H$3:$H$5000,MATCH(A4216,IF(Entradas!$B$3:$B$5000=D4216,Entradas!$A$3:$A$5000),1))),\"Preço não registrado\")","v":""},"",null,null,"",""]
[null,null,"",null,"","",null,{"$f":"IFERROR(IF(D4217=\"\",\"\",INDEX(Entradas!$H$3:$H$5000,MATCH(A4217,IF(Entradas!$B$3:$B$5000=D4217,Entradas!$A$3:$A$5000),1))),\"Preço não registrado\")","v":""},"",null,null,"",""]
[null,null,"",null,"","",null,{"$f":"IFERROR(IF(D4218=\"\",\"\",INDEX(Entradas!$H$3:$H$5000,MATCH(A4218,IF(Entradas!$B$3:$B$5000=D4218,Entradas!$A$3:$A$5000),1))),\"Preço não registrado\")","v":""},"",null,null,"",""]
[null,null,"",null,"","",null,{"$f":"IFERROR(IF(D4219=\"\",\"\",INDEX(Entradas!$H$3:$H$5000,MATCH(A4219,IF(Entradas!$B$3:$B$5000=D4219,Entradas!$A$3:$A$5000),1))),\"Preço não registrado\")","v":""},"",null,null,"",""]
[null,null,"",null,"","",null,{"$f":"IFERROR(IF(D4220=\"\",\"\",INDEX(Entradas!$H$3:$H$5000,MATCH(A4220,IF(Entradas!$B$3:$B$5000=D4220,Entradas!$A$3:$A$5000),1))),\"Preço não registrado\")","v":""},"",null,null,"",""]
[null,null,"",null,"","",null,{"$f":"IFERROR(IF(D4221=\"\",\"\",INDEX(Entradas!$H$3:$H$5000,MATCH(A4221,IF(Entradas!$B$3:$B$5000=D4221,Entradas!$A$3:$A$5000),1))),\"Preço não registrado\")","v":""},"",null,null,"",""]
[null,null,"",null,"","",null,{"$f":"IFERROR(IF(D4222=\"\",\"\",INDEX(Entradas!$H$3:$H$5000,MATCH(A4222,IF(Entradas!$B$3:$B$5000=D4222,Entradas!$A$3:$A$5000),1))),\"Preço não registrado\")","v":""},"",null,null,"",""]
[null,null,"",null,"","",null,{"$f":"IFERROR(IF(D4223=\"\",\"\",INDEX(Entradas!$H$3:$H$5000,MATCH(A4223,IF(Entradas!$B$3:$B$5000=D4223,Entradas!$A$3:$A$5000),1))),\"Preço não registrado\")","v":""},"",null,null,"",""]
[null,null,"",null,"","",null,{"$f":"IFERROR(IF(D4224=\"\",\"\",INDEX(Entradas!$H$3:$H$5000,MATCH(A4224,IF(Entradas!$B$3:$B$5000=D4224,Entradas!$A$3:$A$5000),1))),\"Preço não registrado\")","v":""},"",null,null,"",""]
[null,null,"",null,"","",null,{"$f":"IFERROR(IF(D4225=\"\",\"\",INDEX(Entradas!$H$3:$H$5000,MATCH(A4225,IF(Entradas!$B$3:$B$5000=D4225,Entradas!$A$3:$A$5000),1))),\"Preço não registrado\")","v":""},"",null,null,"",""]
[null,null,"",null,"","",null,{"$f":"IFERROR(IF(D4226=\"\",\"\",INDEX(Entradas!$H$3:$H$5000,MATCH(A4226,IF(Entradas!$B$3:$B$5000=D4226,Entradas!$A$3:$A$5000),1))),\"Preço não registrado\")","v":""},"",null,null,"",""]
[null,null,{"$f":"IFERROR(IF(B4227=\"\",\"\",VLOOKUP(B4227,Clientes,2,FALSE)),\"\")","v":""},null,{"$f":"IF(D4227=\"\",\"\",VLOOKUP(D4227,Itens,2,FALSE))","v":""},{"$f":"IF(D4227=\"\",\"\",VLOOKUP(D4227,Itens,3,FALSE))","v":""},null,{"$f":"IFERROR(IF(D4227=\"\",\"\",INDEX(Entradas!$H$3:$H$5000,MATCH(A4227,IF(Entradas!$B$3:$B$5000=D4227,Entradas!$A$3:$A$5000),1))),\"Preço não registrado\")","v":""},"",null,null,"",""]
[null,null,"",null,"","",null,{"$f":"IFERROR(IF(D4228=\"\",\"\",INDEX(Entradas!$H$3:$H$5000,MATCH(A4228,IF(Entradas!$B$3:$B$5000=D4228,Entradas!$A$3:$A$5000),1))),\"Preço não registrado\")","v":""},{"$f":"IFERROR(G4228*H4228,\"\")","v":""},null,null,{"$f":"IF(K4228=\"\",\"\",HYPERLINK($P$13&K4228,\"Rastreie aqui\"))","v":""},{"$f":"IF(A4228=\"\",\"\",TEXT(A4228,\"mmmm\"))","v":""}]
[null,null,"",null,"","",null,{"$f":"IFERROR(IF(D4229=\"\",\"\",INDEX(Entradas!$H$3:$H$5000,MATCH(A4229,IF(Entradas!$B$3:$B$5000=D4229,Entradas!$A$3:$A$5000),1))),\"Preço não registrado\")","v":""},"",null,null,"",""]
[null,null,"",null,"","",null,{"$f":"IFERROR(IF(D4230=\"\",\"\",INDEX(Entradas!$H$3:$H$5000,MATCH(A4230,IF(Entradas!$B$3:$B$5000=D4230,Entradas!$A$3:$A$5000),1))),\"Preço não registrado\")","v":""},"",null,null,"",""]
[null,null,"",null,"","",null,{"$f":"IFERROR(IF(D4231=\"\",\"\",INDEX(Entradas!$H$3:$H$5000,MATCH(A4231,IF(Entradas!$B$3:$B$5000=D4231,Entradas!$A$3:$A$5000),1))),\"Preço não registrado\")","v":""},"",null,null,"",""]
[null,null,"",null,"","",null,{"$f":"IFERROR(IF(D4232=\"\",\"\",INDEX(Entradas!$H$3:$H$5000,MATCH(A4232,IF(Entradas!$B$3:$B$5000=D4232,Entradas!$A$3:$A$5000),1))),\"Preço não registrado\")","v":""},"",null,null,"",""]
[null,null,"",null,"","",null,{"$f":"IFERROR(IF(D4233=\"\",\"\",INDEX(Entradas!$H$3:$H$5000,MATCH(A4233,IF(Entradas!$B$3:$B$5000=D4233,Entradas!$A$3:$A$5000),1))),\"Preço não registrado\")","v":""},"",null,null,"",""]
[null,null,"",null,"","",null,{"$f":"IFERROR(IF(D4234=\"\",\"\",INDEX(Entradas!$H$3:$H$5000,MATCH(A4234,IF(Entradas!$B$3:$B$5000=D4234,Entradas!$A$3:$A$5000),1))),\"Preço não registrado\")","v":""},"",null,null,"",""]
[null,null,"",null,"","",null,{"$f":"IFERROR(IF(D4235=\"\",\"\",INDEX(Entradas!$H$3:$H$5000,MATCH(A4235,IF(Entradas!$B$3:$B$5000=D4235,Entradas!$A$3:$A$5000),1))),\"Preço não registrado\")","v":""},"",null,null,"",""]
[null,null,"",null,"","",null,{"$f":"IFERROR(IF(D4236=\"\",\"\",INDEX(Entradas!$H$3:$H$5000,MATCH(A4236,IF(Entradas!$B$3:$B$5000=D4236,Entradas!$A$3:$A$5000),1))),\"Preço não registrado\")","v":""},"",null,null,"",""]
[null,null,"",null,"","",null,{"$f":"IFERROR(IF(D4237=\"\",\"\",INDEX(Entradas!$H$3:$H$5000,MATCH(A4237,IF(Entradas!$B$3:$B$5000=D4237,Entradas!$A$3:$A$5000),1))),\"Preço não registrado\")","v":""},"",null,null,"",""]
[null,null,"",null,"","",null,{"$f":"IFERROR(IF(D4238=\"\",\"\",INDEX(Entradas!$H$3:$H$5000,MATCH(A4238,IF(Entradas!$B$3:$B$5000=D4238,Entradas!$A$3:$A$5000),1))),\"Preço não registrado\")","v":""},"",null,null,"",""]
[null,null,"",null,"","",null,{"$f":"IFERROR(IF(D4239=\"\",\"\",INDEX(Entradas!$H$3:$H$5000,MATCH(A4239,IF(Entradas!$B$3:$B$5000=D4239,Entradas!$A$3:$A$5000),1))),\"Preço não registrado\")","v":""},"",null,null,"",""]
[null,null,"",null,"","",null,{"$f":"IFERROR(IF(D4240=\"\",\"\",INDEX(Entradas!$H$3:$H$5000,MATCH(A4240,IF(Entradas!$B$3:$B$5000=D4240,Entradas!$A$3:$A$5000),1))),\"Preço não registrado\")","v":""},"",null,null,"",""]
[null,null,"",null,"","",null,{"$f":"IFERROR(IF(D4241=\"\",\"\",INDEX(Entradas!$H$3:$H$5000,MATCH(A4241,IF(Entradas!$B$3:$B$5000=D4241,Entradas!$A$3:$A$5000),1))),\"Preço não registrado\")","v":""},"",null,null,"",""]
[null,null,"",null,"","",null,{"$f":"IFERROR(IF(D4242=\"\",\"\",INDEX(Entradas!$H$3:$H$5000,MATCH(A4242,IF(Entradas!$B$3:$B$5000=D4242,Entradas!$A$3:$A$5000),1))),\"Preço não registrado\")","v":""},"",null,null,"",""]
[null,null,"",null,"","",null,{"$f":"IFERROR(IF(D4243=\"\",\"\",INDEX(Entradas!$H$3:$H$5000,MATCH(A4243,IF(Entradas!$B$3:$B$5000=D4243,Entradas!$A$3:$A$5000),1))),\"Preço não registrado\")","v":""},"",null,null,"",""]
[null,null,"",null,"","",null,{"$f":"IFERROR(IF(D4244=\"\",\"\",INDEX(Entradas!$H$3:$H$5000,MATCH(A4244,IF(Entradas!$B$3:$B$5000=D4244,Entradas!$A$3:$A$5000),1))),\"Preço não registrado\")","v":""},"",null,null,"",""]
[null,null,"",null,"","",null,{"$f":"IFERROR(IF(D4245=\"\",\"\",INDEX(Entradas!$H$3:$H$5000,MATCH(A4245,IF(Entradas!$B$3:$B$5000=D4245,Entradas!$A$3:$A$5000),1))),\"Preço não registrado\")","v":""},"",null,null,"",""]
[null,null,"",null,"","",null,{"$f":"IFERROR(IF(D4246=\"\",\"\",INDEX(Entradas!$H$3:$H$5000,MATCH(A4246,IF(Entradas!$B$3:$B$5000=D4246,Entradas!$A$3:$A$5000),1))),\"Preço não registrado\")","v":""},"",null,null,"",""]
[null,null,"",null,"","",null,{"$f":"IFERROR(IF(D4247=\"\",\"\",INDEX(Entradas!$H$3:$H$5000,MATCH(A4247,IF(Entradas!$B$3:$B$5000=D4247,Entradas!$A$3:$A$5000),1))),\"Preço não registrado\")","v":""},"",null,null,"",""]
[null,null,"",null,"","",null,{"$f":"IFERROR(IF(D4248=\"\",\"\",INDEX(Entradas!$H$3:$H$5000,MATCH(A4248,IF(Entradas!$B$3:$B$5000=D4248,Entradas!$A$3:$A$5000),1))),\"Preço não registrado\")","v":""},"",null,null,"",""]
[null,null,"",null,"","",null,{"$f":"IFERROR(IF(D4249=\"\",\"\",INDEX(Entradas!$H$3:$H$5000,MATCH(A4249,IF(Entradas!$B$3:$B$5000=D4249,Entradas!$A$3:$A$5000),1))),\"Preço não registrado\")","v":""},"",null,null,"",""]
[null,null,"",null,"","",null,{"$f":"IFERROR(IF(D4250=\"\",\"\",INDEX(Entradas!$H$3:$H$5000,MATCH(A4250,IF(Entradas!$B$3:$B$5000=D4250,Entradas!$A$3:$A$5000),1))),\"Preço não registrado\")","v":""},"",null,null,"",""]
[null,null,"",null,"","",null,{"$f":"IFERROR(IF(D4251=\"\",\"\",INDEX(Entradas!$H$3:$H$5000,MATCH(A4251,IF(Entradas!$B$3:$B$5000=D4251,Entradas!$A$3:$A$5000),1))),\"Preço não registrado\")","v":""},"",null,null,"",""]
[null,null,"",null,"","",null,{"$f":"IFERROR(IF(D4252=\"\",\"\",INDEX(Entradas!$H$3:$H$5000,MATCH(A4252,IF(Entradas!$B$3:$B$5000=D4252,Entradas!$A$3:$A$5000),1))),\"Preço não registrado\")","v":""},"",null,null,"",""]
[null,null,"",null,"","",null,{"$f":"IFERROR(IF(D4253=\"\",\"\",INDEX(Entradas!$H$3:$H$5000,MATCH(A4253,IF(Entradas!$B$3:$B$5000=D4253,Entradas!$A$3:$A$5000),1))),\"Preço não registrado\")","v":""},"",null,null,"",""]
[null,null,"",null,"","",null,{"$f":"IFERROR(IF(D4254=\"\",\"\",INDEX(Entradas!$H$3:$H$5000,MATCH(A4254,IF(Entradas!$B$3:$B$5000=D4254,Entradas!$A$3:$A$5000),1))),\"Preço não registrado\")","v":""},"",null,null,"",""]
[null,null,"",null,"","",null,{"$f":"IFERROR(IF(D4255=\"\",\"\",INDEX(Entradas!$H$3:$H$5000,MATCH(A4255,IF(Entradas!$B$3:$B$5000=D4255,Entradas!$A$3:$A$5000),1))),\"Preço não registrado\")","v":""},"",null,null,"",""]
[null,null,"",null,"","",null,{"$f":"IFERROR(IF(D4256=\"\",\"\",INDEX(Entradas!$H$3:$H$5000,MATCH(A4256,IF(Entradas!$B$3:$B$5000=D4256,Entradas!$A$3:$A$5000),1))),\"Preço não registrado\")","v":""},"",null,null,"",""]
[null,null,"",null,"","",null,{"$f":"IFERROR(IF(D4257=\"\",\"\",INDEX(Entradas!$H$3:$H$5000,MATCH(A4257,IF(Entradas!$B$3:$B$5000=D4257,Entradas!$A$3:$A$5000),1))),\"Preço não registrado\")","v":""},"",null,null,"",""]
[null,null,"",null,"","",null,{"$f":"IFERROR(IF(D4258=\"\",\"\",INDEX(Entradas!$H$3:$H$5000,MATCH(A4258,IF(Entradas!$B$3:$B$5000=D4258,Entradas!$A$3:$A$5000),1))),\"Preço não registrado\")","v":""},"",null,null,"",""]
[null,null,"",null,"","",null,{"$f":"IFERROR(IF(D4259=\"\",\"\",INDEX(Entradas!$H$3:$H$5000,MATCH(A4259,IF(Entradas!$B$3:$B$5000=D4259,Entradas!$A$3:$A$5000),1))),\"Preço não registrado\")","v":""},"",null,null,"",""]
[null,null,"",null,"","",null,{"$f":"IFERROR(IF(D4260=\"\",\"\",INDEX(Entradas!$H$3:$H$5000,MATCH(A4260,IF(Entradas!$B$3:$B$5000=D4260,Entradas!$A$3:$A$5000),1))),\"Preço não registrado\")","v":""},"",null,null,"",""]
[null,null,"",null,"","",null,{"$f":"IFERROR(IF(D4261=\"\",\"\",INDEX(Entradas!$H$3:$H$5000,MATCH(A4261,IF(Entradas!$B$3:$B$5000=D4261,Entradas!$A$3:$A$5000),1))),\"Preço não registrado\")","v":""},"",null,null,"",""]
[null,null,"",null,"","",null,{"$f":"IFERROR(IF(D4262=\"\",\"\",INDEX(Entradas!$H$3:$H$5000,MATCH(A4262,IF(Entradas!$B$3:$B$5000=D4262,Entradas!$A$3:$A$5000),1))),\"Preço não registrado\")","v":""},"",null,null,"",""]
[null,null,"",null,"","",null,{"$f":"IFERROR(IF(D4263=\"\",\"\",INDEX(Entradas!$H$3:$H$5000,MATCH(A4263,IF(Entradas!$B$3:$B$5000=D4263,Entradas!$A$3:$A$5000),1))),\"Preço não registrado\")","v":""},"",null,null,"",""]
[null,null,"",null,"","",null,{"$f":"IFERROR(IF(D4264=\"\",\"\",INDEX(Entradas!$H$3:$H$5000,MATCH(A4264,IF(Entradas!$B$3:$B$5000=D4264,Entradas!$A$3:$A$5000),1))),\"Preço não registrado\")","v":""},"",null,null,"",""]
[null,null,"",null,"","",null,{"$f":"IFERROR(IF(D4265=\"\",\"\",INDEX(Entradas!$H$3:$H$5000,MATCH(A4265,IF(Entradas!$B$3:$B$5000=D4265,Entradas!$A$3:$A$5000),1))),\"Preço não registrado\")","v":""},"",null,null,"",""]
[null,null,"",null,"","",null,{"$f":"IFERROR(IF(D4266=\"\",\"\",INDEX(Entradas!$H$3:$H$5000,MATCH(A4266,IF(Entradas!$B$3:$B$5000=D4266,Entradas!$A$3:$A$5000),1))),\"Preço não registrado\")","v":""},"",null,null,"",""]
[null,null,"",null,"","",null,{"$f":"IFERROR(IF(D4267=\"\",\"\",INDEX(Entradas!$H$3:$H$5000,MATCH(A4267,IF(Entradas!$B$3:$B$5000=D4267,Entradas!$A$3:$A$5000),1))),\"Preço não registrado\")","v":""},"",null,null,"",""]
[null,null,"",null,"","",null,{"$f":"IFERROR(IF(D4268=\"\",\"\",INDEX(Entradas!$H$3:$H$5000,MATCH(A4268,IF(Entradas!$B$3:$B$5000=D4268,Entradas!$A$3:$A$5000),1))),\"Preço não registrado\")","v":""},"",null,null,"",""]
[null,null,"",null,"","",null,{"$f":"IFERROR(IF(D4269=\"\",\"\",INDEX(Entradas!$H$3:$H$5000,MATCH(A4269,IF(Entradas!$B$3:$B$5000=D4269,Entradas!$A$3:$A$5000),1))),\"Preço não registrado\")","v":""},"",null,null,"",""]
[null,null,"",null,"","",null,{"$f":"IFERROR(IF(D4270=\"\",\"\",INDEX(Entradas!$H$3:$H$5000,MATCH(A4270,IF(Entradas!$B$3:$B$5000=D4270,Entradas!$A$3:$A$5000),1))),\"Preço não registrado\")","v":""},"",null,null,"",""]
[null,null,"",null,"","",null,{"$f":"IFERROR(IF(D4271=\"\",\"\",INDEX(Entradas!$H$3:$H$5000,MATCH(A4271,IF(Entradas!$B$3:$B$5000=D4271,Entradas!$A$3:$A$5000),1))),\"Preço não registrado\")","v":""},"",null,null,"",""]
[null,null,"",null,"","",null,{"$f":"IFERROR(IF(D4272=\"\",\"\",INDEX(Entradas!$H$3:$H$5000,MATCH(A4272,IF(Entradas!$B$3:$B$5000=D4272,Entradas!$A$3:$A$5000),1))),\"Preço não registrado\")","v":""},"",null,null,"",""]
[null,null,"",null,"","",null,{"$f":"IFERROR(IF(D4273=\"\",\"\",INDEX(Entradas!$H$3:$H$5000,MATCH(A4273,IF(Entradas!$B$3:$B$5000=D4273,Entradas!$A$3:$A$5000),1))),\"Preço não registrado\")","v":""},"",null,null,"",""]
[null,null,"",null,"","",null,{"$f":"IFERROR(IF(D4274=\"\",\"\",INDEX(Entradas!$H$3:$H$5000,MATCH(A4274,IF(Entradas!$B$3:$B$5000=D4274,Entradas!$A$3:$A$5000),1))),\"Preço não registrado\")","v":""},"",null,null,"",""]
[null,null,"",null,"","",null,{"$f":"IFERROR(IF(D4275=\"\",\"\",INDEX(Entradas!$H$3:$H$5000,MATCH(A4275,IF(Entradas!$B$3:$B$5000=D4275,Entradas!$A$3:$A$5000),1))),\"Preço não registrado\")","v":""},"",null,null,"",""]
[null,null,"",null,"","",null,{"$f":"IFERROR(IF(D4276=\"\",\"\",INDEX(Entradas!$H$3:$H$5000,MATCH(A4276,IF(Entradas!$B$3:$B$5000=D4276,Entradas!$A$3:$A$5000),1))),\"Preço não registrado\")","v":""},"",null,null,"",""]
[null,null,"",null,"","",null,{"$f":"IFERROR(IF(D4277=\"\",\"\",INDEX(Entradas!$H$3:$H$5000,MATCH(A4277,IF(Entradas!$B$3:$B$5000=D4277,Entradas!$A$3:$A$5000),1))),\"Preço não registrado\")","v":""},"",null,null,"",""]
[null,null,"",null,"","",null,{"$f":"IFERROR(IF(D4278=\"\",\"\",INDEX(Entradas!$H$3:$H$5000,MATCH(A4278,IF(Entradas!$B$3:$B$5000=D4278,Entradas!$A$3:$A$5000),1))),\"Preço não registrado\")","v":""},"",null,null,"",""]
[null,null,"",null,"","",null,{"$f":"IFERROR(IF(D4279=\"\",\"\",INDEX(Entradas!$H$3:$H$5000,MATCH(A4279,IF(Entradas!$B$3:$B$5000=D4279,Entradas!$A$3:$A$5000),1))),\"Preço não registrado\")","v":""},"",null,null,"",""]
[null,null,"",null,"","",null,{"$f":"IFERROR(IF(D4280=\"\",\"\",INDEX(Entradas!$H$3:$H$5000,MATCH(A4280,IF(Entradas!$B$3:$B$5000=D4280,Entradas!$A$3:$A$5000),1))),\"Preço não registrado\")","v":""},"",null,null,"",""]
[null,null,"",null,"","",null,{"$f":"IFERROR(IF(D4281=\"\",\"\",INDEX(Entradas!$H$3:$H$5000,MATCH(A4281,IF(Entradas!$B$3:$B$5000=D4281,Entradas!$A$3:$A$5000),1))),\"Preço não registrado\")","v":""},"",null,null,"",""]
[null,null,"",null,"","",null,{"$f":"IFERROR(IF(D4282=\"\",\"\",INDEX(Entradas!$H$3:$H$5000,MATCH(A4282,IF(Entradas!$B$3:$B$5000=D4282,Entradas!$A$3:$A$5000),1))),\"Preço não registrado\")","v":""},"",null,null,"",""]
[null,null,"",null,"","",null,{"$f":"IFERROR(IF(D4283=\"\",\"\",INDEX(Entradas!$H$3:$H$5000,MATCH(A4283,IF(Entradas!$B$3:$B$5000=D4283,Entradas!$A$3:$A$5000),1))),\"Preço não registrado\")","v":""},"",null,null,"",""]
[null,null,"",null,"","",null,{"$f":"IFERROR(IF(D4284=\"\",\"\",INDEX(Entradas!$H$3:$H$5000,MATCH(A4284,IF(Entradas!$B$3:$B$5000=D4284,Entradas!$A$3:$A$5000),1))),\"Preço não registrado\")","v":""},"",null,null,"",""]
[null,null,"",null,"","",null,{"$f":"IFERROR(IF(D4285=\"\",\"\",INDEX(Entradas!$H$3:$H$5000,MATCH(A4285,IF(Entradas!$B$3:$B$5000=D4285,Entradas!$A$3:$A$5000),1))),\"Preço não registrado\")","v":""},"",null,null,"",""]
[null,null,"",null,"","",null,{"$f":"IFERROR(IF(D4286=\"\",\"\",INDEX(Entradas!$H$3:$H$5000,MATCH(A4286,IF(Entradas!$B$3:$B$5000=D4286,Entradas!$A$3:$A$5000),1))),\"Preço não registrado\")","v":""},"",null,null,"",""]
[null,null,"",null,"","",null,{"$f":"IFERROR(IF(D4287=\"\",\"\",INDEX(Entradas!$H$3:$H$5000,MATCH(A4287,IF(Entradas!$B$3:$B$5000=D4287,Entradas!$A$3:$A$5000),1))),\"Preço não registrado\")","v":""},"",null,null,"",""]
[null,null,"",null,"","",null,{"$f":"IFERROR(IF(D4288=\"\",\"\",INDEX(Entradas!$H$3:$H$5000,MATCH(A4288,IF(Entradas!$B$3:$B$5000=D4288,Entradas!$A$3:$A$5000),1))),\"Preço não registrado\")","v":""},"",null,null,"",""]
[null,null,"",null,"","",null,{"$f":"IFERROR(IF(D4289=\"\",\"\",INDEX(Entradas!$H$3:$H$5000,MATCH(A4289,IF(Entradas!$B$3:$B$5000=D4289,Entradas!$A$3:$A$5000),1))),\"Preço não registrado\")","v":""},"",null,null,"",""]
[null,null,"",null,"","",null,{"$f":"IFERROR(IF(D4290=\"\",\"\",INDEX(Entradas!$H$3:$H$5000,MATCH(A4290,IF(Entradas!$B$3:$B$5000=D4290,Entradas!$A$3:$A$5000),1))),\"Preço não registrado\")","v":""},"",null,null,"",""]
[null,null,{"$f":"IFERROR(IF(B4291=\"\",\"\",VLOOKUP(B4291,Clientes,2,FALSE)),\"\")","v":""},null,{"$f":"IF(D4291=\"\",\"\",VLOOKUP(D4291,Itens,2,FALSE))","v":""},{"$f":"IF(D4291=\"\",\"\",VLOOKUP(D4291,Itens,3,FALSE))","v":""},null,{"$f":"IFERROR(IF(D4291=\"\",\"\",INDEX(Entradas!$H$3:$H$5000,MATCH(A4291,IF(Entradas!$B$3:$B$5000=D4291,Entradas!$A$3:$A$5000),1))),\"Preço não registrado\")","v":""},"",null,null,"",""]
[null,null,"",null,"","",null,{"$f":"IFERROR(IF(D4292=\"\",\"\",INDEX(Entradas!$H$3:$H$5000,MATCH(A4292,IF(Entradas!$B$3:$B$5000=D4292,Entradas!$A$3:$A$5000),1))),\"Preço não registrado\")","v":""},{"$f":"IFERROR(G4292*H4292,\"\")","v":""},null,null,{"$f":"IF(K4292=\"\",\"\",HYPERLINK($P$13&K4292,\"Rastreie aqui\"))","v":""},{"$f":"IF(A4292=\"\",\"\",TEXT(A4292,\"mmmm\"))","v":""}]
[null,null,"",null,"","",null,{"$f":"IFERROR(IF(D4293=\"\",\"\",INDEX(Entradas!$H$3:$H$5000,MATCH(A4293,IF(Entradas!$B$3:$B$5000=D4293,Entradas!$A$3:$A$5000),1))),\"Preço não registrado\")","v":""},"",null,null,"",""]
[null,null,"",null,"","",null,{"$f":"IFERROR(IF(D4294=\"\",\"\",INDEX(Entradas!$H$3:$H$5000,MATCH(A4294,IF(Entradas!$B$3:$B$5000=D4294,Entradas!$A$3:$A$5000),1))),\"Preço não registrado\")","v":""},"",null,null,"",""]
[null,null,"",null,"","",null,{"$f":"IFERROR(IF(D4295=\"\",\"\",INDEX(Entradas!$H$3:$H$5000,MATCH(A4295,IF(Entradas!$B$3:$B$5000=D4295,Entradas!$A$3:$A$5000),1))),\"Preço não registrado\")","v":""},"",null,null,"",""]
[null,null,"",null,"","",null,{"$f":"IFERROR(IF(D4296=\"\",\"\",INDEX(Entradas!$H$3:$H$5000,MATCH(A4296,IF(Entradas!$B$3:$B$5000=D4296,Entradas!$A$3:$A$5000),1))),\"Preço não registrado\")","v":""},"",null,null,"",""]
[null,null,"",null,"","",null,{"$f":"IFERROR(IF(D4297=\"\",\"\",INDEX(Entradas!$H$3:$H$5000,MATCH(A4297,IF(Entradas!$B$3:$B$5000=D4297,Entradas!$A$3:$A$5000),1))),\"Preço não registrado\")","v":""},"",null,null,"",""]
[null,null,"",null,"","",null,{"$f":"IFERROR(IF(D4298=\"\",\"\",INDEX(Entradas!$H$3:$H$5000,MATCH(A4298,IF(Entradas!$B$3:$B$5000=D4298,Entradas!$A$3:$A$5000),1))),\"Preço não registrado\")","v":""},"",null,null,"",""]
[null,null,"",null,"","",null,{"$f":"IFERROR(IF(D4299=\"\",\"\",INDEX(Entradas!$H$3:$H$5000,MATCH(A4299,IF(Entradas!$B$3:$B$5000=D4299,Entradas!$A$3:$A$5000),1))),\"Preço não registrado\")","v":""},"",null,null,"",""]
[null,null,"",null,"","",null,{"$f":"IFERROR(IF(D4300=\"\",\"\",INDEX(Entradas!$H$3:$H$5000,MATCH(A4300,IF(Entradas!$B$3:$B$5000=D4300,Entradas!$A$3:$A$5000),1))),\"Preço não registrado\")","v":""},"",null,null,"",""]
[null,null,"",null,"","",null,{"$f":"IFERROR(IF(D4301=\"\",\"\",INDEX(Entradas!$H$3:$H$5000,MATCH(A4301,IF(Entradas!$B$3:$B$5000=D4301,Entradas!$A$3:$A$5000),1))),\"Preço não registrado\")","v":""},"",null,null,"",""]
[null,null,"",null,"","",null,{"$f":"IFERROR(IF(D4302=\"\",\"\",INDEX(Entradas!$H$3:$H$5000,MATCH(A4302,IF(Entradas!$B$3:$B$5000=D4302,Entradas!$A$3:$A$5000),1))),\"Preço não registrado\")","v":""},"",null,null,"",""]
[null,null,"",null,"","",null,{"$f":"IFERROR(IF(D4303=\"\",\"\",INDEX(Entradas!$H$3:$H$5000,MATCH(A4303,IF(Entradas!$B$3:$B$5000=D4303,Entradas!$A$3:$A$5000),1))),\"Preço não registrado\")","v":""},"",null,null,"",""]
[null,null,"",null,"","",null,{"$f":"IFERROR(IF(D4304=\"\",\"\",INDEX(Entradas!$H$3:$H$5000,MATCH(A4304,IF(Entradas!$B$3:$B$5000=D4304,Entradas!$A$3:$A$5000),1))),\"Preço não registrado\")","v":""},"",null,null,"",""]
[null,null,"",null,"","",null,{"$f":"IFERROR(IF(D4305=\"\",\"\",INDEX(Entradas!$H$3:$H$5000,MATCH(A4305,IF(Entradas!$B$3:$B$5000=D4305,Entradas!$A$3:$A$5000),1))),\"Preço não registrado\")","v":""},"",null,null,"",""]
[null,null,"",null,"","",null,{"$f":"IFERROR(IF(D4306=\"\",\"\",INDEX(Entradas!$H$3:$H$5000,MATCH(A4306,IF(Entradas!$B$3:$B$5000=D4306,Entradas!$A$3:$A$5000),1))),\"Preço não registrado\")","v":""},"",null,null,"",""]
[null,null,"",null,"","",null,{"$f":"IFERROR(IF(D4307=\"\",\"\",INDEX(Entradas!$H$3:$H$5000,MATCH(A4307,IF(Entradas!$B$3:$B$5000=D4307,Entradas!$A$3:$A$5000),1))),\"Preço não registrado\")","v":""},"",null,null,"",""]
[null,null,"",null,"","",null,{"$f":"IFERROR(IF(D4308=\"\",\"\",INDEX(Entradas!$H$3:$H$5000,MATCH(A4308,IF(Entradas!$B$3:$B$5000=D4308,Entradas!$A$3:$A$5000),1))),\"Preço não registrado\")","v":""},"",null,null,"",""]
[null,null,"",null,"","",null,{"$f":"IFERROR(IF(D4309=\"\",\"\",INDEX(Entradas!$H$3:$H$5000,MATCH(A4309,IF(Entradas!$B$3:$B$5000=D4309,Entradas!$A$3:$A$5000),1))),\"Preço não registrado\")","v":""},"",null,null,"",""]
[null,null,"",null,"","",null,{"$f":"IFERROR(IF(D4310=\"\",\"\",INDEX(Entradas!$H$3:$H$5000,MATCH(A4310,IF(Entradas!$B$3:$B$5000=D4310,Entradas!$A$3:$A$5000),1))),\"Preço não registrado\")","v":""},"",null,null,"",""]
[null,null,"",null,"","",null,{"$f":"IFERROR(IF(D4311=\"\",\"\",INDEX(Entradas!$H$3:$H$5000,MATCH(A4311,IF(Entradas!$B$3:$B$5000=D4311,Entradas!$A$3:$A$5000),1))),\"Preço não registrado\")","v":""},"",null,null,"",""]
[null,null,"",null,"","",null,{"$f":"IFERROR(IF(D4312=\"\",\"\",INDEX(Entradas!$H$3:$H$5000,MATCH(A4312,IF(Entradas!$B$3:$B$5000=D4312,Entradas!$A$3:$A$5000),1))),\"Preço não registrado\")","v":""},"",null,null,"",""]
[null,null,"",null,"","",null,{"$f":"IFERROR(IF(D4313=\"\",\"\",INDEX(Entradas!$H$3:$H$5000,MATCH(A4313,IF(Entradas!$B$3:$B$5000=D4313,Entradas!$A$3:$A$5000),1))),\"Preço não registrado\")","v":""},"",null,null,"",""]
[null,null,"",null,"","",null,{"$f":"IFERROR(IF(D4314=\"\",\"\",INDEX(Entradas!$H$3:$H$5000,MATCH(A4314,IF(Entradas!$B$3:$B$5000=D4314,Entradas!$A$3:$A$5000),1))),\"Preço não registrado\")","v":""},"",null,null,"",""]
[null,null,"",null,"","",null,{"$f":"IFERROR(IF(D4315=\"\",\"\",INDEX(Entradas!$H$3:$H$5000,MATCH(A4315,IF(Entradas!$B$3:$B$5000=D4315,Entradas!$A$3:$A$5000),1))),\"Preço não registrado\")","v":""},"",null,null,"",""]
[null,null,"",null,"","",null,{"$f":"IFERROR(IF(D4316=\"\",\"\",INDEX(Entradas!$H$3:$H$5000,MATCH(A4316,IF(Entradas!$B$3:$B$5000=D4316,Entradas!$A$3:$A$5000),1))),\"Preço não registrado\")","v":""},"",null,null,"",""]
[null,null,"",null,"","",null,{"$f":"IFERROR(IF(D4317=\"\",\"\",INDEX(Entradas!$H$3:$H$5000,MATCH(A4317,IF(Entradas!$B$3:$B$5000=D4317,Entradas!$A$3:$A$5000),1))),\"Preço não registrado\")","v":""},"",null,null,"",""]
[null,null,"",null,"","",null,{"$f":"IFERROR(IF(D4318=\"\",\"\",INDEX(Entradas!$H$3:$H$5000,MATCH(A4318,IF(Entradas!$B$3:$B$5000=D4318,Entradas!$A$3:$A$5000),1))),\"Preço não registrado\")","v":""},"",null,null,"",""]
[null,null,"",null,"","",null,{"$f":"IFERROR(IF(D4319=\"\",\"\",INDEX(Entradas!$H$3:$H$5000,MATCH(A4319,IF(Entradas!$B$3:$B$5000=D4319,Entradas!$A$3:$A$5000),1))),\"Preço não registrado\")","v":""},"",null,null,"",""]
[null,null,"",null,"","",null,{"$f":"IFERROR(IF(D4320=\"\",\"\",INDEX(Entradas!$H$3:$H$5000,MATCH(A4320,IF(Entradas!$B$3:$B$5000=D4320,Entradas!$A$3:$A$5000),1))),\"Preço não registrado\")","v":""},"",null,null,"",""]
[null,null,"",null,"","",null,{"$f":"IFERROR(IF(D4321=\"\",\"\",INDEX(Entradas!$H$3:$H$5000,MATCH(A4321,IF(Entradas!$B$3:$B$5000=D4321,Entradas!$A$3:$A$5000),1))),\"Preço não registrado\")","v":""},"",null,null,"",""]
[null,null,"",null,"","",null,{"$f":"IFERROR(IF(D4322=\"\",\"\",INDEX(Entradas!$H$3:$H$5000,MATCH(A4322,IF(Entradas!$B$3:$B$5000=D4322,Entradas!$A$3:$A$5000),1))),\"Preço não registrado\")","v":""},"",null,null,"",""]
[null,null,"",null,"","",null,{"$f":"IFERROR(IF(D4323=\"\",\"\",INDEX(Entradas!$H$3:$H$5000,MATCH(A4323,IF(Entradas!$B$3:$B$5000=D4323,Entradas!$A$3:$A$5000),1))),\"Preço não registrado\")","v":""},"",null,null,"",""]
[null,null,"",null,"","",null,{"$f":"IFERROR(IF(D4324=\"\",\"\",INDEX(Entradas!$H$3:$H$5000,MATCH(A4324,IF(Entradas!$B$3:$B$5000=D4324,Entradas!$A$3:$A$5000),1))),\"Preço não registrado\")","v":""},"",null,null,"",""]
[null,null,"",null,"","",null,{"$f":"IFERROR(IF(D4325=\"\",\"\",INDEX(Entradas!$H$3:$H$5000,MATCH(A4325,IF(Entradas!$B$3:$B$5000=D4325,Entradas!$A$3:$A$5000),1))),\"Preço não registrado\")","v":""},"",null,null,"",""]
[null,null,"",null,"","",null,{"$f":"IFERROR(IF(D4326=\"\",\"\",INDEX(Entradas!$H$3:$H$5000,MATCH(A4326,IF(Entradas!$B$3:$B$5000=D4326,Entradas!$A$3:$A$5000),1))),\"Preço não registrado\")","v":""},"",null,null,"",""]
[null,null,"",null,"","",null,{"$f":"IFERROR(IF(D4327=\"\",\"\",INDEX(Entradas!$H$3:$H$5000,MATCH(A4327,IF(Entradas!$B$3:$B$5000=D4327,Entradas!$A$3:$A$5000),1))),\"Preço não registrado\")","v":""},"",null,null,"",""]
[null,null,"",null,"","",null,{"$f":"IFERROR(IF(D4328=\"\",\"\",INDEX(Entradas!$H$3:$H$5000,MATCH(A4328,IF(Entradas!$B$3:$B$5000=D4328,Entradas!$A$3:$A$5000),1))),\"Preço não registrado\")","v":""},"",null,null,"",""]
[null,null,"",null,"","",null,{"$f":"IFERROR(IF(D4329=\"\",\"\",INDEX(Entradas!$H$3:$H$5000,MATCH(A4329,IF(Entradas!$B$3:$B$5000=D4329,Entradas!$A$3:$A$5000),1))),\"Preço não registrado\")","v":""},"",null,null,"",""]
[null,null,"",null,"","",null,{"$f":"IFERROR(IF(D4330=\"\",\"\",INDEX(Entradas!$H$3:$H$5000,MATCH(A4330,IF(Entradas!$B$3:$B$5000=D4330,Entradas!$A$3:$A$5000),1))),\"Preço não registrado\")","v":""},"",null,null,"",""]
[null,null,"",null,"","",null,{"$f":"IFERROR(IF(D4331=\"\",\"\",INDEX(Entradas!$H$3:$H$5000,MATCH(A4331,IF(Entradas!$B$3:$B$5000=D4331,Entradas!$A$3:$A$5000),1))),\"Preço não registrado\")","v":""},"",null,null,"",""]
[null,null,"",null,"","",null,{"$f":"IFERROR(IF(D4332=\"\",\"\",INDEX(Entradas!$H$3:$H$5000,MATCH(A4332,IF(Entradas!$B$3:$B$5000=D4332,Entradas!$A$3:$A$5000),1))),\"Preço não registrado\")","v":""},"",null,null,"",""]
[null,null,"",null,"","",null,{"$f":"IFERROR(IF(D4333=\"\",\"\",INDEX(Entradas!$H$3:$H$5000,MATCH(A4333,IF(Entradas!$B$3:$B$5000=D4333,Entradas!$A$3:$A$5000),1))),\"Preço não registrado\")","v":""},"",null,null,"",""]
[null,null,"",null,"","",null,{"$f":"IFERROR(IF(D4334=\"\",\"\",INDEX(Entradas!$H$3:$H$5000,MATCH(A4334,IF(Entradas!$B$3:$B$5000=D4334,Entradas!$A$3:$A$5000),1))),\"Preço não registrado\")","v":""},"",null,null,"",""]
[null,null,"",null,"","",null,{"$f":"IFERROR(IF(D4335=\"\",\"\",INDEX(Entradas!$H$3:$H$5000,MATCH(A4335,IF(Entradas!$B$3:$B$5000=D4335,Entradas!$A$3:$A$5000),1))),\"Preço não registrado\")","v":""},"",null,null,"",""]
[null,null,"",null,"","",null,{"$f":"IFERROR(IF(D4336=\"\",\"\",INDEX(Entradas!$H$3:$H$5000,MATCH(A4336,IF(Entradas!$B$3:$B$5000=D4336,Entradas!$A$3:$A$5000),1))),\"Preço não registrado\")","v":""},"",null,null,"",""]
[null,null,"",null,"","",null,{"$f":"IFERROR(IF(D4337=\"\",\"\",INDEX(Entradas!$H$3:$H$5000,MATCH(A4337,IF(Entradas!$B$3:$B$5000=D4337,Entradas!$A$3:$A$5000),1))),\"Preço não registrado\")","v":""},"",null,null,"",""]
[null,null,"",null,"","",null,{"$f":"IFERROR(IF(D4338=\"\",\"\",INDEX(Entradas!$H$3:$H$5000,MATCH(A4338,IF(Entradas!$B$3:$B$5000=D4338,Entradas!$A$3:$A$5000),1))),\"Preço não registrado\")","v":""},"",null,null,"",""]
[null,null,"",null,"","",null,{"$f":"IFERROR(IF(D4339=\"\",\"\",INDEX(Entradas!$H$3:$H$5000,MATCH(A4339,IF(Entradas!$B$3:$B$5000=D4339,Entradas!$A$3:$A$5000),1))),\"Preço não registrado\")","v":""},"",null,null,"",""]
[null,null,"",null,"","",null,{"$f":"IFERROR(IF(D4340=\"\",\"\",INDEX(Entradas!$H$3:$H$5000,MATCH(A4340,IF(Entradas!$B$3:$B$5000=D4340,Entradas!$A$3:$A$5000),1))),\"Preço não registrado\")","v":""},"",null,null,"",""]
[null,null,"",null,"","",null,{"$f":"IFERROR(IF(D4341=\"\",\"\",INDEX(Entradas!$H$3:$H$5000,MATCH(A4341,IF(Entradas!$B$3:$B$5000=D4341,Entradas!$A$3:$A$5000),1))),\"Preço não registrado\")","v":""},"",null,null,"",""]
[null,null,"",null,"","",null,{"$f":"IFERROR(IF(D4342=\"\",\"\",INDEX(Entradas!$H$3:$H$5000,MATCH(A4342,IF(Entradas!$B$3:$B$5000=D4342,Entradas!$A$3:$A$5000),1))),\"Preço não registrado\")","v":""},"",null,null,"",""]
[null,null,"",null,"","",null,{"$f":"IFERROR(IF(D4343=\"\",\"\",INDEX(Entradas!$H$3:$H$5000,MATCH(A4343,IF(Entradas!$B$3:$B$5000=D4343,Entradas!$A$3:$A$5000),1))),\"Preço não registrado\")","v":""},"",null,null,"",""]
[null,null,"",null,"","",null,{"$f":"IFERROR(IF(D4344=\"\",\"\",INDEX(Entradas!$H$3:$H$5000,MATCH(A4344,IF(Entradas!$B$3:$B$5000=D4344,Entradas!$A$3:$A$5000),1))),\"Preço não registrado\")","v":""},"",null,null,"",""]
[null,null,"",null,"","",null,{"$f":"IFERROR(IF(D4345=\"\",\"\",INDEX(Entradas!$H$3:$H$5000,MATCH(A4345,IF(Entradas!$B$3:$B$5000=D4345,Entradas!$A$3:$A$5000),1))),\"Preço não registrado\")","v":""},"",null,null,"",""]
[null,null,"",null,"","",null,{"$f":"IFERROR(IF(D4346=\"\",\"\",INDEX(Entradas!$H$3:$H$5000,MATCH(A4346,IF(Entradas!$B$3:$B$5000=D4346,Entradas!$A$3:$A$5000),1))),\"Preço não registrado\")","v":""},"",null,null,"",""]
[null,null,"",null,"","",null,{"$f":"IFERROR(IF(D4347=\"\",\"\",INDEX(Entradas!$H$3:$H$5000,MATCH(A4347,IF(Entradas!$B$3:$B$5000=D4347,Entradas!$A$3:$A$5000),1))),\"Preço não registrado\")","v":""},"",null,null,"",""]
[null,null,"",null,"","",null,{"$f":"IFERROR(IF(D4348=\"\",\"\",INDEX(Entradas!$H$3:$H$5000,MATCH(A4348,IF(Entradas!$B$3:$B$5000=D4348,Entradas!$A$3:$A$5000),1))),\"Preço não registrado\")","v":""},"",null,null,"",""]
[null,null,"",null,"","",null,{"$f":"IFERROR(IF(D4349=\"\",\"\",INDEX(Entradas!$H$3:$H$5000,MATCH(A4349,IF(Entradas!$B$3:$B$5000=D4349,Entradas!$A$3:$A$5000),1))),\"Preço não registrado\")","v":""},"",null,null,"",""]
[null,null,"",null,"","",null,{"$f":"IFERROR(IF(D4350=\"\",\"\",INDEX(Entradas!$H$3:$H$5000,MATCH(A4350,IF(Entradas!$B$3:$B$5000=D4350,Entradas!$A$3:$A$5000),1))),\"Preço não registrado\")","v":""},"",null,null,"",""]
[null,null,"",null,"","",null,{"$f":"IFERROR(IF(D4351=\"\",\"\",INDEX(Entradas!$H$3:$H$5000,MATCH(A4351,IF(Entradas!$B$3:$B$5000=D4351,Entradas!$A$3:$A$5000),1))),\"Preço não registrado\")","v":""},"",null,null,"",""]
[null,null,"",null,"","",null,{"$f":"IFERROR(IF(D4352=\"\",\"\",INDEX(Entradas!$H$3:$H$5000,MATCH(A4352,IF(Entradas!$B$3:$B$5000=D4352,Entradas!$A$3:$A$5000),1))),\"Preço não registrado\")","v":""},"",null,null,"",""]
[null,null,"",null,"","",null,{"$f":"IFERROR(IF(D4353=\"\",\"\",INDEX(Entradas!$H$3:$H$5000,MATCH(A4353,IF(Entradas!$B$3:$B$5000=D4353,Entradas!$A$3:$A$5000),1))),\"Preço não registrado\")","v":""},"",null,null,"",""]
[null,null,"",null,"","",null,{"$f":"IFERROR(IF(D4354=\"\",\"\",INDEX(Entradas!$H$3:$H$5000,MATCH(A4354,IF(Entradas!$B$3:$B$5000=D4354,Entradas!$A$3:$A$5000),1))),\"Preço não registrado\")","v":""},"",null,null,"",""]
[null,null,{"$f":"IFERROR(IF(B4355=\"\",\"\",VLOOKUP(B4355,Clientes,2,FALSE)),\"\")","v":""},null,{"$f":"IF(D4355=\"\",\"\",VLOOKUP(D4355,Itens,2,FALSE))","v":""},{"$f":"IF(D4355=\"\",\"\",VLOOKUP(D4355,Itens,3,FALSE))","v":""},null,{"$f":"IFERROR(IF(D4355=\"\",\"\",INDEX(Entradas!$H$3:$H$5000,MATCH(A4355,IF(Entradas!$B$3:$B$5000=D4355,Entradas!$A$3:$A$5000),1))),\"Preço não registrado\")","v":""},"",null,null,"",""]
[null,null,"",null,"","",null,{"$f":"IFERROR(IF(D4356=\"\",\"\",INDEX(Entradas!$H$3:$H$5000,MATCH(A4356,IF(Entradas!$B$3:$B$5000=D4356,Entradas!$A$3:$A$5000),1))),\"Preço não registrado\")","v":""},{"$f":"IFERROR(G4356*H4356,\"\")","v":""},null,null,{"$f":"IF(K4356=\"\",\"\",HYPERLINK($P$13&K4356,\"Rastreie aqui\"))","v":""},{"$f":"IF(A4356=\"\",\"\",TEXT(A4356,\"mmmm\"))","v":""}]
[null,null,"",null,"","",null,{"$f":"IFERROR(IF(D4357=\"\",\"\",INDEX(Entradas!$H$3:$H$5000,MATCH(A4357,IF(Entradas!$B$3:$B$5000=D4357,Entradas!$A$3:$A$5000),1))),\"Preço não registrado\")","v":""},"",null,null,"",""]
[null,null,"",null,"","",null,{"$f":"IFERROR(IF(D4358=\"\",\"\",INDEX(Entradas!$H$3:$H$5000,MATCH(A4358,IF(Entradas!$B$3:$B$5000=D4358,Entradas!$A$3:$A$5000),1))),\"Preço não registrado\")","v":""},"",null,null,"",""]
[null,null,"",null,"","",null,{"$f":"IFERROR(IF(D4359=\"\",\"\",INDEX(Entradas!$H$3:$H$5000,MATCH(A4359,IF(Entradas!$B$3:$B$5000=D4359,Entradas!$A$3:$A$5000),1))),\"Preço não registrado\")","v":""},"",null,null,"",""]
[null,null,"",null,"","",null,{"$f":"IFERROR(IF(D4360=\"\",\"\",INDEX(Entradas!$H$3:$H$5000,MATCH(A4360,IF(Entradas!$B$3:$B$5000=D4360,Entradas!$A$3:$A$5000),1))),\"Preço não registrado\")","v":""},"",null,null,"",""]
[null,null,"",null,"","",null,{"$f":"IFERROR(IF(D4361=\"\",\"\",INDEX(Entradas!$H$3:$H$5000,MATCH(A4361,IF(Entradas!$B$3:$B$5000=D4361,Entradas!$A$3:$A$5000),1))),\"Preço não registrado\")","v":""},"",null,null,"",""]
[null,null,"",null,"","",null,{"$f":"IFERROR(IF(D4362=\"\",\"\",INDEX(Entradas!$H$3:$H$5000,MATCH(A4362,IF(Entradas!$B$3:$B$5000=D4362,Entradas!$A$3:$A$5000),1))),\"Preço não registrado\")","v":""},"",null,null,"",""]
[null,null,"",null,"","",null,{"$f":"IFERROR(IF(D4363=\"\",\"\",INDEX(Entradas!$H$3:$H$5000,MATCH(A4363,IF(Entradas!$B$3:$B$5000=D4363,Entradas!$A$3:$A$5000),1))),\"Preço não registrado\")","v":""},"",null,null,"",""]
[null,null,"",null,"","",null,{"$f":"IFERROR(IF(D4364=\"\",\"\",INDEX(Entradas!$H$3:$H$5000,MATCH(A4364,IF(Entradas!$B$3:$B$5000=D4364,Entradas!$A$3:$A$5000),1))),\"Preço não registrado\")","v":""},"",null,null,"",""]
[null,null,"",null,"","",null,{"$f":"IFERROR(IF(D4365=\"\",\"\",INDEX(Entradas!$H$3:$H$5000,MATCH(A4365,IF(Entradas!$B$3:$B$5000=D4365,Entradas!$A$3:$A$5000),1))),\"Preço não registrado\")","v":""},"",null,null,"",""]
[null,null,"",null,"","",null,{"$f":"IFERROR(IF(D4366=\"\",\"\",INDEX(Entradas!$H$3:$H$5000,MATCH(A4366,IF(Entradas!$B$3:$B$5000=D4366,Entradas!$A$3:$A$5000),1))),\"Preço não registrado\")","v":""},"",null,null,"",""]
[null,null,"",null,"","",null,{"$f":"IFERROR(IF(D4367=\"\",\"\",INDEX(Entradas!$H$3:$H$5000,MATCH(A4367,IF(Entradas!$B$3:$B$5000=D4367,Entradas!$A$3:$A$5000),1))),\"Preço não registrado\")","v":""},"",null,null,"",""]
[null,null,"",null,"","",null,{"$f":"IFERROR(IF(D4368=\"\",\"\",INDEX(Entradas!$H$3:$H$5000,MATCH(A4368,IF(Entradas!$B$3:$B$5000=D4368,Entradas!$A$3:$A$5000),1))),\"Preço não registrado\")","v":""},"",null,null,"",""]
[null,null,"",null,"","",null,{"$f":"IFERROR(IF(D4369=\"\",\"\",INDEX(Entradas!$H$3:$H$5000,MATCH(A4369,IF(Entradas!$B$3:$B$5000=D4369,Entradas!$A$3:$A$5000),1))),\"Preço não registrado\")","v":""},"",null,null,"",""]
[null,null,"",null,"","",null,{"$f":"IFERROR(IF(D4370=\"\",\"\",INDEX(Entradas!$H$3:$H$5000,MATCH(A4370,IF(Entradas!$B$3:$B$5000=D4370,Entradas!$A$3:$A$5000),1))),\"Preço não registrado\")","v":""},"",null,null,"",""]
[null,null,"",null,"","",null,{"$f":"IFERROR(IF(D4371=\"\",\"\",INDEX(Entradas!$H$3:$H$5000,MATCH(A4371,IF(Entradas!$B$3:$B$5000=D4371,Entradas!$A$3:$A$5000),1))),\"Preço não registrado\")","v":""},"",null,null,"",""]
[null,null,"",null,"","",null,{"$f":"IFERROR(IF(D4372=\"\",\"\",INDEX(Entradas!$H$3:$H$5000,MATCH(A4372,IF(Entradas!$B$3:$B$5000=D4372,Entradas!$A$3:$A$5000),1))),\"Preço não registrado\")","v":""},"",null,null,"",""]
[null,null,"",null,"","",null,{"$f":"IFERROR(IF(D4373=\"\",\"\",INDEX(Entradas!$H$3:$H$5000,MATCH(A4373,IF(Entradas!$B$3:$B$5000=D4373,Entradas!$A$3:$A$5000),1))),\"Preço não registrado\")","v":""},"",null,null,"",""]
[null,null,"",null,"","",null,{"$f":"IFERROR(IF(D4374=\"\",\"\",INDEX(Entradas!$H$3:$H$5000,MATCH(A4374,IF(Entradas!$B$3:$B$5000=D4374,Entradas!$A$3:$A$5000),1))),\"Preço não registrado\")","v":""},"",null,null,"",""]
[null,null,"",null,"","",null,{"$f":"IFERROR(IF(D4375=\"\",\"\",INDEX(Entradas!$H$3:$H$5000,MATCH(A4375,IF(Entradas!$B$3:$B$5000=D4375,Entradas!$A$3:$A$5000),1))),\"Preço não registrado\")","v":""},"",null,null,"",""]
[null,null,"",null,"","",null,{"$f":"IFERROR(IF(D4376=\"\",\"\",INDEX(Entradas!$H$3:$H$5000,MATCH(A4376,IF(Entradas!$B$3:$B$5000=D4376,Entradas!$A$3:$A$5000),1))),\"Preço não registrado\")","v":""},"",null,null,"",""]
[null,null,"",null,"","",null,{"$f":"IFERROR(IF(D4377=\"\",\"\",INDEX(Entradas!$H$3:$H$5000,MATCH(A4377,IF(Entradas!$B$3:$B$5000=D4377,Entradas!$A$3:$A$5000),1))),\"Preço não registrado\")","v":""},"",null,null,"",""]
[null,null,"",null,"","",null,{"$f":"IFERROR(IF(D4378=\"\",\"\",INDEX(Entradas!$H$3:$H$5000,MATCH(A4378,IF(Entradas!$B$3:$B$5000=D4378,Entradas!$A$3:$A$5000),1))),\"Preço não registrado\")","v":""},"",null,null,"",""]
[null,null,"",null,"","",null,{"$f":"IFERROR(IF(D4379=\"\",\"\",INDEX(Entradas!$H$3:$H$5000,MATCH(A4379,IF(Entradas!$B$3:$B$5000=D4379,Entradas!$A$3:$A$5000),1))),\"Preço não registrado\")","v":""},"",null,null,"",""]
[null,null,"",null,"","",null,{"$f":"IFERROR(IF(D4380=\"\",\"\",INDEX(Entradas!$H$3:$H$5000,MATCH(A4380,IF(Entradas!$B$3:$B$5000=D4380,Entradas!$A$3:$A$5000),1))),\"Preço não registrado\")","v":""},"",null,null,"",""]
[null,null,"",null,"","",null,{"$f":"IFERROR(IF(D4381=\"\",\"\",INDEX(Entradas!$H$3:$H$5000,MATCH(A4381,IF(Entradas!$B$3:$B$5000=D4381,Entradas!$A$3:$A$5000),1))),\"Preço não registrado\")","v":""},"",null,null,"",""]
[null,null,"",null,"","",null,{"$f":"IFERROR(IF(D4382=\"\",\"\",INDEX(Entradas!$H$3:$H$5000,MATCH(A4382,IF(Entradas!$B$3:$B$5000=D4382,Entradas!$A$3:$A$5000),1))),\"Preço não registrado\")","v":""},"",null,null,"",""]
[null,null,"",null,"","",null,{"$f":"IFERROR(IF(D4383=\"\",\"\",INDEX(Entradas!$H$3:$H$5000,MATCH(A4383,IF(Entradas!$B$3:$B$5000=D4383,Entradas!$A$3:$A$5000),1))),\"Preço não registrado\")","v":""},"",null,null,"",""]
[null,null,"",null,"","",null,{"$f":"IFERROR(IF(D4384=\"\",\"\",INDEX(Entradas!$H$3:$H$5000,MATCH(A4384,IF(Entradas!$B$3:$B$5000=D4384,Entradas!$A$3:$A$5000),1))),\"Preço não registrado\")","v":""},"",null,null,"",""]
[null,null,"",null,"","",null,{"$f":"IFERROR(IF(D4385=\"\",\"\",INDEX(Entradas!$H$3:$H$5000,MATCH(A4385,IF(Entradas!$B$3:$B$5000=D4385,Entradas!$A$3:$A$5000),1))),\"Preço não registrado\")","v":""},"",null,null,"",""]
[null,null,"",null,"","",null,{"$f":"IFERROR(IF(D4386=\"\",\"\",INDEX(Entradas!$H$3:$H$5000,MATCH(A4386,IF(Entradas!$B$3:$B$5000=D4386,Entradas!$A$3:$A$5000),1))),\"Preço não registrado\")","v":""},"",null,null,"",""]
[null,null,"",null,"","",null,{"$f":"IFERROR(IF(D4387=\"\",\"\",INDEX(Entradas!$H$3:$H$5000,MATCH(A4387,IF(Entradas!$B$3:$B$5000=D4387,Entradas!$A$3:$A$5000),1))),\"Preço não registrado\")","v":""},"",null,null,"",""]
[null,null,"",null,"","",null,{"$f":"IFERROR(IF(D4388=\"\",\"\",INDEX(Entradas!$H$3:$H$5000,MATCH(A4388,IF(Entradas!$B$3:$B$5000=D4388,Entradas!$A$3:$A$5000),1))),\"Preço não registrado\")","v":""},"",null,null,"",""]
[null,null,"",null,"","",null,{"$f":"IFERROR(IF(D4389=\"\",\"\",INDEX(Entradas!$H$3:$H$5000,MATCH(A4389,IF(Entradas!$B$3:$B$5000=D4389,Entradas!$A$3:$A$5000),1))),\"Preço não registrado\")","v":""},"",null,null,"",""]
[null,null,"",null,"","",null,{"$f":"IFERROR(IF(D4390=\"\",\"\",INDEX(Entradas!$H$3:$H$5000,MATCH(A4390,IF(Entradas!$B$3:$B$5000=D4390,Entradas!$A$3:$A$5000),1))),\"Preço não registrado\")","v":""},"",null,null,"",""]
[null,null,"",null,"","",null,{"$f":"IFERROR(IF(D4391=\"\",\"\",INDEX(Entradas!$H$3:$H$5000,MATCH(A4391,IF(Entradas!$B$3:$B$5000=D4391,Entradas!$A$3:$A$5000),1))),\"Preço não registrado\")","v":""},"",null,null,"",""]
[null,null,"",null,"","",null,{"$f":"IFERROR(IF(D4392=\"\",\"\",INDEX(Entradas!$H$3:$H$5000,MATCH(A4392,IF(Entradas!$B$3:$B$5000=D4392,Entradas!$A$3:$A$5000),1))),\"Preço não registrado\")","v":""},"",null,null,"",""]
[null,null,"",null,"","",null,{"$f":"IFERROR(IF(D4393=\"\",\"\",INDEX(Entradas!$H$3:$H$5000,MATCH(A4393,IF(Entradas!$B$3:$B$5000=D4393,Entradas!$A$3:$A$5000),1))),\"Preço não registrado\")","v":""},"",null,null,"",""]
[null,null,"",null,"","",null,{"$f":"IFERROR(IF(D4394=\"\",\"\",INDEX(Entradas!$H$3:$H$5000,MATCH(A4394,IF(Entradas!$B$3:$B$5000=D4394,Entradas!$A$3:$A$5000),1))),\"Preço não registrado\")","v":""},"",null,null,"",""]
[null,null,"",null,"","",null,{"$f":"IFERROR(IF(D4395=\"\",\"\",INDEX(Entradas!$H$3:$H$5000,MATCH(A4395,IF(Entradas!$B$3:$B$5000=D4395,Entradas!$A$3:$A$5000),1))),\"Preço não registrado\")","v":""},"",null,null,"",""]
[null,null,"",null,"","",null,{"$f":"IFERROR(IF(D4396=\"\",\"\",INDEX(Entradas!$H$3:$H$5000,MATCH(A4396,IF(Entradas!$B$3:$B$5000=D4396,Entradas!$A$3:$A$5000),1))),\"Preço não registrado\")","v":""},"",null,null,"",""]
[null,null,"",null,"","",null,{"$f":"IFERROR(IF(D4397=\"\",\"\",INDEX(Entradas!$H$3:$H$5000,MATCH(A4397,IF(Entradas!$B$3:$B$5000=D4397,Entradas!$A$3:$A$5000),1))),\"Preço não registrado\")","v":""},"",null,null,"",""]
[null,null,"",null,"","",null,{"$f":"IFERROR(IF(D4398=\"\",\"\",INDEX(Entradas!$H$3:$H$5000,MATCH(A4398,IF(Entradas!$B$3:$B$5000=D4398,Entradas!$A$3:$A$5000),1))),\"Preço não registrado\")","v":""},"",null,null,"",""]
[null,null,"",null,"","",null,{"$f":"IFERROR(IF(D4399=\"\",\"\",INDEX(Entradas!$H$3:$H$5000,MATCH(A4399,IF(Entradas!$B$3:$B$5000=D4399,Entradas!$A$3:$A$5000),1))),\"Preço não registrado\")","v":""},"",null,null,"",""]
[null,null,"",null,"","",null,{"$f":"IFERROR(IF(D4400=\"\",\"\",INDEX(Entradas!$H$3:$H$5000,MATCH(A4400,IF(Entradas!$B$3:$B$5000=D4400,Entradas!$A$3:$A$5000),1))),\"Preço não registrado\")","v":""},"",null,null,"",""]
[null,null,"",null,"","",null,{"$f":"IFERROR(IF(D4401=\"\",\"\",INDEX(Entradas!$H$3:$H$5000,MATCH(A4401,IF(Entradas!$B$3:$B$5000=D4401,Entradas!$A$3:$A$5000),1))),\"Preço não registrado\")","v":""},"",null,null,"",""]
[null,null,"",null,"","",null,{"$f":"IFERROR(IF(D4402=\"\",\"\",INDEX(Entradas!$H$3:$H$5000,MATCH(A4402,IF(Entradas!$B$3:$B$5000=D4402,Entradas!$A$3:$A$5000),1))),\"Preço não registrado\")","v":""},"",null,null,"",""]
[null,null,"",null,"","",null,{"$f":"IFERROR(IF(D4403=\"\",\"\",INDEX(Entradas!$H$3:$H$5000,MATCH(A4403,IF(Entradas!$B$3:$B$5000=D4403,Entradas!$A$3:$A$5000),1))),\"Preço não registrado\")","v":""},"",null,null,"",""]
[null,null,"",null,"","",null,{"$f":"IFERROR(IF(D4404=\"\",\"\",INDEX(Entradas!$H$3:$H$5000,MATCH(A4404,IF(Entradas!$B$3:$B$5000=D4404,Entradas!$A$3:$A$5000),1))),\"Preço não registrado\")","v":""},"",null,null,"",""]
[null,null,"",null,"","",null,{"$f":"IFERROR(IF(D4405=\"\",\"\",INDEX(Entradas!$H$3:$H$5000,MATCH(A4405,IF(Entradas!$B$3:$B$5000=D4405,Entradas!$A$3:$A$5000),1))),\"Preço não registrado\")","v":""},"",null,null,"",""]
[null,null,"",null,"","",null,{"$f":"IFERROR(IF(D4406=\"\",\"\",INDEX(Entradas!$H$3:$H$5000,MATCH(A4406,IF(Entradas!$B$3:$B$5000=D4406,Entradas!$A$3:$A$5000),1))),\"Preço não registrado\")","v":""},"",null,null,"",""]
[null,null,"",null,"","",null,{"$f":"IFERROR(IF(D4407=\"\",\"\",INDEX(Entradas!$H$3:$H$5000,MATCH(A4407,IF(Entradas!$B$3:$B$5000=D4407,Entradas!$A$3:$A$5000),1))),\"Preço não registrado\")","v":""},"",null,null,"",""]
[null,null,"",null,"","",null,{"$f":"IFERROR(IF(D4408=\"\",\"\",INDEX(Entradas!$H$3:$H$5000,MATCH(A4408,IF(Entradas!$B$3:$B$5000=D4408,Entradas!$A$3:$A$5000),1))),\"Preço não registrado\")","v":""},"",null,null,"",""]
[null,null,"",null,"","",null,{"$f":"IFERROR(IF(D4409=\"\",\"\",INDEX(Entradas!$H$3:$H$5000,MATCH(A4409,IF(Entradas!$B$3:$B$5000=D4409,Entradas!$A$3:$A$5000),1))),\"Preço não registrado\")","v":""},"",null,null,"",""]
[null,null,"",null,"","",null,{"$f":"IFERROR(IF(D4410=\"\",\"\",INDEX(Entradas!$H$3:$H$5000,MATCH(A4410,IF(Entradas!$B$3:$B$5000=D4410,Entradas!$A$3:$A$5000),1))),\"Preço não registrado\")","v":""},"",null,null,"",""]
[null,null,"",null,"","",null,{"$f":"IFERROR(IF(D4411=\"\",\"\",INDEX(Entradas!$H$3:$H$5000,MATCH(A4411,IF(Entradas!$B$3:$B$5000=D4411,Entradas!$A$3:$A$5000),1))),\"Preço não registrado\")","v":""},"",null,null,"",""]
[null,null,"",null,"","",null,{"$f":"IFERROR(IF(D4412=\"\",\"\",INDEX(Entradas!$H$3:$H$5000,MATCH(A4412,IF(Entradas!$B$3:$B$5000=D4412,Entradas!$A$3:$A$5000),1))),\"Preço não registrado\")","v":""},"",null,null,"",""]
[null,null,"",null,"","",null,{"$f":"IFERROR(IF(D4413=\"\",\"\",INDEX(Entradas!$H$3:$H$5000,MATCH(A4413,IF(Entradas!$B$3:$B$5000=D4413,Entradas!$A$3:$A$5000),1))),\"Preço não registrado\")","v":""},"",null,null,"",""]
[null,null,"",null,"","",null,{"$f":"IFERROR(IF(D4414=\"\",\"\",INDEX(Entradas!$H$3:$H$5000,MATCH(A4414,IF(Entradas!$B$3:$B$5000=D4414,Entradas!$A$3:$A$5000),1))),\"Preço não registrado\")","v":""},"",null,null,"",""]
[null,null,"",null,"","",null,{"$f":"IFERROR(IF(D4415=\"\",\"\",INDEX(Entradas!$H$3:$H$5000,MATCH(A4415,IF(Entradas!$B$3:$B$5000=D4415,Entradas!$A$3:$A$5000),1))),\"Preço não registrado\")","v":""},"",null,null,"",""]
[null,null,"",null,"","",null,{"$f":"IFERROR(IF(D4416=\"\",\"\",INDEX(Entradas!$H$3:$H$5000,MATCH(A4416,IF(Entradas!$B$3:$B$5000=D4416,Entradas!$A$3:$A$5000),1))),\"Preço não registrado\")","v":""},"",null,null,"",""]
[null,null,"",null,"","",null,{"$f":"IFERROR(IF(D4417=\"\",\"\",INDEX(Entradas!$H$3:$H$5000,MATCH(A4417,IF(Entradas!$B$3:$B$5000=D4417,Entradas!$A$3:$A$5000),1))),\"Preço não registrado\")","v":""},"",null,null,"",""]
[null,null,"",null,"","",null,{"$f":"IFERROR(IF(D4418=\"\",\"\",INDEX(Entradas!$H$3:$H$5000,MATCH(A4418,IF(Entradas!$B$3:$B$5000=D4418,Entradas!$A$3:$A$5000),1))),\"Preço não registrado\")","v":""},"",null,null,"",""]
[null,null,{"$f":"IFERROR(IF(B4419=\"\",\"\",VLOOKUP(B4419,Clientes,2,FALSE)),\"\")","v":""},null,{"$f":"IF(D4419=\"\",\"\",VLOOKUP(D4419,Itens,2,FALSE))","v":""},{"$f":"IF(D4419=\"\",\"\",VLOOKUP(D4419,Itens,3,FALSE))","v":""},null,{"$f":"IFERROR(IF(D4419=\"\",\"\",INDEX(Entradas!$H$3:$H$5000,MATCH(A4419,IF(Entradas!$B$3:$B$5000=D4419,Entradas!$A$3:$A$5000),1))),\"Preço não registrado\")","v":""},"",null,null,"",""]
[null,null,"",null,"","",null,{"$f":"IFERROR(IF(D4420=\"\",\"\",INDEX(Entradas!$H$3:$H$5000,MATCH(A4420,IF(Entradas!$B$3:$B$5000=D4420,Entradas!$A$3:$A$5000),1))),\"Preço não registrado\")","v":""},{"$f":"IFERROR(G4420*H4420,\"\")","v":""},null,null,{"$f":"IF(K4420=\"\",\"\",HYPERLINK($P$13&K4420,\"Rastreie aqui\"))","v":""},{"$f":"IF(A4420=\"\",\"\",TEXT(A4420,\"mmmm\"))","v":""}]
[null,null,"",null,"","",null,{"$f":"IFERROR(IF(D4421=\"\",\"\",INDEX(Entradas!$H$3:$H$5000,MATCH(A4421,IF(Entradas!$B$3:$B$5000=D4421,Entradas!$A$3:$A$5000),1))),\"Preço não registrado\")","v":""},"",null,null,"",""]
[null,null,"",null,"","",null,{"$f":"IFERROR(IF(D4422=\"\",\"\",INDEX(Entradas!$H$3:$H$5000,MATCH(A4422,IF(Entradas!$B$3:$B$5000=D4422,Entradas!$A$3:$A$5000),1))),\"Preço não registrado\")","v":""},"",null,null,"",""]
[null,null,"",null,"","",null,{"$f":"IFERROR(IF(D4423=\"\",\"\",INDEX(Entradas!$H$3:$H$5000,MATCH(A4423,IF(Entradas!$B$3:$B$5000=D4423,Entradas!$A$3:$A$5000),1))),\"Preço não registrado\")","v":""},"",null,null,"",""]
[null,null,"",null,"","",null,{"$f":"IFERROR(IF(D4424=\"\",\"\",INDEX(Entradas!$H$3:$H$5000,MATCH(A4424,IF(Entradas!$B$3:$B$5000=D4424,Entradas!$A$3:$A$5000),1))),\"Preço não registrado\")","v":""},"",null,null,"",""]
[null,null,"",null,"","",null,{"$f":"IFERROR(IF(D4425=\"\",\"\",INDEX(Entradas!$H$3:$H$5000,MATCH(A4425,IF(Entradas!$B$3:$B$5000=D4425,Entradas!$A$3:$A$5000),1))),\"Preço não registrado\")","v":""},"",null,null,"",""]
[null,null,"",null,"","",null,{"$f":"IFERROR(IF(D4426=\"\",\"\",INDEX(Entradas!$H$3:$H$5000,MATCH(A4426,IF(Entradas!$B$3:$B$5000=D4426,Entradas!$A$3:$A$5000),1))),\"Preço não registrado\")","v":""},"",null,null,"",""]
[null,null,"",null,"","",null,{"$f":"IFERROR(IF(D4427=\"\",\"\",INDEX(Entradas!$H$3:$H$5000,MATCH(A4427,IF(Entradas!$B$3:$B$5000=D4427,Entradas!$A$3:$A$5000),1))),\"Preço não registrado\")","v":""},"",null,null,"",""]
[null,null,"",null,"","",null,{"$f":"IFERROR(IF(D4428=\"\",\"\",INDEX(Entradas!$H$3:$H$5000,MATCH(A4428,IF(Entradas!$B$3:$B$5000=D4428,Entradas!$A$3:$A$5000),1))),\"Preço não registrado\")","v":""},"",null,null,"",""]
[null,null,"",null,"","",null,{"$f":"IFERROR(IF(D4429=\"\",\"\",INDEX(Entradas!$H$3:$H$5000,MATCH(A4429,IF(Entradas!$B$3:$B$5000=D4429,Entradas!$A$3:$A$5000),1))),\"Preço não registrado\")","v":""},"",null,null,"",""]
[null,null,"",null,"","",null,{"$f":"IFERROR(IF(D4430=\"\",\"\",INDEX(Entradas!$H$3:$H$5000,MATCH(A4430,IF(Entradas!$B$3:$B$5000=D4430,Entradas!$A$3:$A$5000),1))),\"Preço não registrado\")","v":""},"",null,null,"",""]
[null,null,"",null,"","",null,{"$f":"IFERROR(IF(D4431=\"\",\"\",INDEX(Entradas!$H$3:$H$5000,MATCH(A4431,IF(Entradas!$B$3:$B$5000=D4431,Entradas!$A$3:$A$5000),1))),\"Preço não registrado\")","v":""},"",null,null,"",""]
[null,null,"",null,"","",null,{"$f":"IFERROR(IF(D4432=\"\",\"\",INDEX(Entradas!$H$3:$H$5000,MATCH(A4432,IF(Entradas!$B$3:$B$5000=D4432,Entradas!$A$3:$A$5000),1))),\"Preço não registrado\")","v":""},"",null,null,"",""]
[null,null,"",null,"","",null,{"$f":"IFERROR(IF(D4433=\"\",\"\",INDEX(Entradas!$H$3:$H$5000,MATCH(A4433,IF(Entradas!$B$3:$B$5000=D4433,Entradas!$A$3:$A$5000),1))),\"Preço não registrado\")","v":""},"",null,null,"",""]
[null,null,"",null,"","",null,{"$f":"IFERROR(IF(D4434=\"\",\"\",INDEX(Entradas!$H$3:$H$5000,MATCH(A4434,IF(Entradas!$B$3:$B$5000=D4434,Entradas!$A$3:$A$5000),1))),\"Preço não registrado\")","v":""},"",null,null,"",""]
[null,null,"",null,"","",null,{"$f":"IFERROR(IF(D4435=\"\",\"\",INDEX(Entradas!$H$3:$H$5000,MATCH(A4435,IF(Entradas!$B$3:$B$5000=D4435,Entradas!$A$3:$A$5000),1))),\"Preço não registrado\")","v":""},"",null,null,"",""]
[null,null,"",null,"","",null,{"$f":"IFERROR(IF(D4436=\"\",\"\",INDEX(Entradas!$H$3:$H$5000,MATCH(A4436,IF(Entradas!$B$3:$B$5000=D4436,Entradas!$A$3:$A$5000),1))),\"Preço não registrado\")","v":""},"",null,null,"",""]
[null,null,"",null,"","",null,{"$f":"IFERROR(IF(D4437=\"\",\"\",INDEX(Entradas!$H$3:$H$5000,MATCH(A4437,IF(Entradas!$B$3:$B$5000=D4437,Entradas!$A$3:$A$5000),1))),\"Preço não registrado\")","v":""},"",null,null,"",""]
[null,null,"",null,"","",null,{"$f":"IFERROR(IF(D4438=\"\",\"\",INDEX(Entradas!$H$3:$H$5000,MATCH(A4438,IF(Entradas!$B$3:$B$5000=D4438,Entradas!$A$3:$A$5000),1))),\"Preço não registrado\")","v":""},"",null,null,"",""]
[null,null,"",null,"","",null,{"$f":"IFERROR(IF(D4439=\"\",\"\",INDEX(Entradas!$H$3:$H$5000,MATCH(A4439,IF(Entradas!$B$3:$B$5000=D4439,Entradas!$A$3:$A$5000),1))),\"Preço não registrado\")","v":""},"",null,null,"",""]
[null,null,"",null,"","",null,{"$f":"IFERROR(IF(D4440=\"\",\"\",INDEX(Entradas!$H$3:$H$5000,MATCH(A4440,IF(Entradas!$B$3:$B$5000=D4440,Entradas!$A$3:$A$5000),1))),\"Preço não registrado\")","v":""},"",null,null,"",""]
[null,null,"",null,"","",null,{"$f":"IFERROR(IF(D4441=\"\",\"\",INDEX(Entradas!$H$3:$H$5000,MATCH(A4441,IF(Entradas!$B$3:$B$5000=D4441,Entradas!$A$3:$A$5000),1))),\"Preço não registrado\")","v":""},"",null,null,"",""]
[null,null,"",null,"","",null,{"$f":"IFERROR(IF(D4442=\"\",\"\",INDEX(Entradas!$H$3:$H$5000,MATCH(A4442,IF(Entradas!$B$3:$B$5000=D4442,Entradas!$A$3:$A$5000),1))),\"Preço não registrado\")","v":""},"",null,null,"",""]
[null,null,"",null,"","",null,{"$f":"IFERROR(IF(D4443=\"\",\"\",INDEX(Entradas!$H$3:$H$5000,MATCH(A4443,IF(Entradas!$B$3:$B$5000=D4443,Entradas!$A$3:$A$5000),1))),\"Preço não registrado\")","v":""},"",null,null,"",""]
[null,null,"",null,"","",null,{"$f":"IFERROR(IF(D4444=\"\",\"\",INDEX(Entradas!$H$3:$H$5000,MATCH(A4444,IF(Entradas!$B$3:$B$5000=D4444,Entradas!$A$3:$A$5000),1))),\"Preço não registrado\")","v":""},"",null,null,"",""]
[null,null,"",null,"","",null,{"$f":"IFERROR(IF(D4445=\"\",\"\",INDEX(Entradas!$H$3:$H$5000,MATCH(A4445,IF(Entradas!$B$3:$B$5000=D4445,Entradas!$A$3:$A$5000),1))),\"Preço não registrado\")","v":""},"",null,null,"",""]
[null,null,"",null,"","",null,{"$f":"IFERROR(IF(D4446=\"\",\"\",INDEX(Entradas!$H$3:$H$5000,MATCH(A4446,IF(Entradas!$B$3:$B$5000=D4446,Entradas!$A$3:$A$5000),1))),\"Preço não registrado\")","v":""},"",null,null,"",""]
[null,null,"",null,"","",null,{"$f":"IFERROR(IF(D4447=\"\",\"\",INDEX(Entradas!$H$3:$H$5000,MATCH(A4447,IF(Entradas!$B$3:$B$5000=D4447,Entradas!$A$3:$A$5000),1))),\"Preço não registrado\")","v":""},"",null,null,"",""]
[null,null,"",null,"","",null,{"$f":"IFERROR(IF(D4448=\"\",\"\",INDEX(Entradas!$H$3:$H$5000,MATCH(A4448,IF(Entradas!$B$3:$B$5000=D4448,Entradas!$A$3:$A$5000),1))),\"Preço não registrado\")","v":""},"",null,null,"",""]
[null,null,"",null,"","",null,{"$f":"IFERROR(IF(D4449=\"\",\"\",INDEX(Entradas!$H$3:$H$5000,MATCH(A4449,IF(Entradas!$B$3:$B$5000=D4449,Entradas!$A$3:$A$5000),1))),\"Preço não registrado\")","v":""},"",null,null,"",""]
[null,null,"",null,"","",null,{"$f":"IFERROR(IF(D4450=\"\",\"\",INDEX(Entradas!$H$3:$H$5000,MATCH(A4450,IF(Entradas!$B$3:$B$5000=D4450,Entradas!$A$3:$A$5000),1))),\"Preço não registrado\")","v":""},"",null,null,"",""]
[null,null,"",null,"","",null,{"$f":"IFERROR(IF(D4451=\"\",\"\",INDEX(Entradas!$H$3:$H$5000,MATCH(A4451,IF(Entradas!$B$3:$B$5000=D4451,Entradas!$A$3:$A$5000),1))),\"Preço não registrado\")","v":""},"",null,null,"",""]
[null,null,"",null,"","",null,{"$f":"IFERROR(IF(D4452=\"\",\"\",INDEX(Entradas!$H$3:$H$5000,MATCH(A4452,IF(Entradas!$B$3:$B$5000=D4452,Entradas!$A$3:$A$5000),1))),\"Preço não registrado\")","v":""},"",null,null,"",""]
[null,null,"",null,"","",null,{"$f":"IFERROR(IF(D4453=\"\",\"\",INDEX(Entradas!$H$3:$H$5000,MATCH(A4453,IF(Entradas!$B$3:$B$5000=D4453,Entradas!$A$3:$A$5000),1))),\"Preço não registrado\")","v":""},"",null,null,"",""]
[null,null,"",null,"","",null,{"$f":"IFERROR(IF(D4454=\"\",\"\",INDEX(Entradas!$H$3:$H$5000,MATCH(A4454,IF(Entradas!$B$3:$B$5000=D4454,Entradas!$A$3:$A$5000),1))),\"Preço não registrado\")","v":""},"",null,null,"",""]
[null,null,"",null,"","",null,{"$f":"IFERROR(IF(D4455=\"\",\"\",INDEX(Entradas!$H$3:$H$5000,MATCH(A4455,IF(Entradas!$B$3:$B$5000=D4455,Entradas!$A$3:$A$5000),1))),\"Preço não registrado\")","v":""},"",null,null,"",""]
[null,null,"",null,"","",null,{"$f":"IFERROR(IF(D4456=\"\",\"\",INDEX(Entradas!$H$3:$H$5000,MATCH(A4456,IF(Entradas!$B$3:$B$5000=D4456,Entradas!$A$3:$A$5000),1))),\"Preço não registrado\")","v":""},"",null,null,"",""]
[null,null,"",null,"","",null,{"$f":"IFERROR(IF(D4457=\"\",\"\",INDEX(Entradas!$H$3:$H$5000,MATCH(A4457,IF(Entradas!$B$3:$B$5000=D4457,Entradas!$A$3:$A$5000),1))),\"Preço não registrado\")","v":""},"",null,null,"",""]
[null,null,"",null,"","",null,{"$f":"IFERROR(IF(D4458=\"\",\"\",INDEX(Entradas!$H$3:$H$5000,MATCH(A4458,IF(Entradas!$B$3:$B$5000=D4458,Entradas!$A$3:$A$5000),1))),\"Preço não registrado\")","v":""},"",null,null,"",""]
[null,null,"",null,"","",null,{"$f":"IFERROR(IF(D4459=\"\",\"\",INDEX(Entradas!$H$3:$H$5000,MATCH(A4459,IF(Entradas!$B$3:$B$5000=D4459,Entradas!$A$3:$A$5000),1))),\"Preço não registrado\")","v":""},"",null,null,"",""]
[null,null,"",null,"","",null,{"$f":"IFERROR(IF(D4460=\"\",\"\",INDEX(Entradas!$H$3:$H$5000,MATCH(A4460,IF(Entradas!$B$3:$B$5000=D4460,Entradas!$A$3:$A$5000),1))),\"Preço não registrado\")","v":""},"",null,null,"",""]
[null,null,"",null,"","",null,{"$f":"IFERROR(IF(D4461=\"\",\"\",INDEX(Entradas!$H$3:$H$5000,MATCH(A4461,IF(Entradas!$B$3:$B$5000=D4461,Entradas!$A$3:$A$5000),1))),\"Preço não registrado\")","v":""},"",null,null,"",""]
[null,null,"",null,"","",null,{"$f":"IFERROR(IF(D4462=\"\",\"\",INDEX(Entradas!$H$3:$H$5000,MATCH(A4462,IF(Entradas!$B$3:$B$5000=D4462,Entradas!$A$3:$A$5000),1))),\"Preço não registrado\")","v":""},"",null,null,"",""]
[null,null,"",null,"","",null,{"$f":"IFERROR(IF(D4463=\"\",\"\",INDEX(Entradas!$H$3:$H$5000,MATCH(A4463,IF(Entradas!$B$3:$B$5000=D4463,Entradas!$A$3:$A$5000),1))),\"Preço não registrado\")","v":""},"",null,null,"",""]
[null,null,"",null,"","",null,{"$f":"IFERROR(IF(D4464=\"\",\"\",INDEX(Entradas!$H$3:$H$5000,MATCH(A4464,IF(Entradas!$B$3:$B$5000=D4464,Entradas!$A$3:$A$5000),1))),\"Preço não registrado\")","v":""},"",null,null,"",""]
[null,null,"",null,"","",null,{"$f":"IFERROR(IF(D4465=\"\",\"\",INDEX(Entradas!$H$3:$H$5000,MATCH(A4465,IF(Entradas!$B$3:$B$5000=D4465,Entradas!$A$3:$A$5000),1))),\"Preço não registrado\")","v":""},"",null,null,"",""]
[null,null,"",null,"","",null,{"$f":"IFERROR(IF(D4466=\"\",\"\",INDEX(Entradas!$H$3:$H$5000,MATCH(A4466,IF(Entradas!$B$3:$B$5000=D4466,Entradas!$A$3:$A$5000),1))),\"Preço não registrado\")","v":""},"",null,null,"",""]
[null,null,"",null,"","",null,{"$f":"IFERROR(IF(D4467=\"\",\"\",INDEX(Entradas!$H$3:$H$5000,MATCH(A4467,IF(Entradas!$B$3:$B$5000=D4467,Entradas!$A$3:$A$5000),1))),\"Preço não registrado\")","v":""},"",null,null,"",""]
[null,null,"",null,"","",null,{"$f":"IFERROR(IF(D4468=\"\",\"\",INDEX(Entradas!$H$3:$H$5000,MATCH(A4468,IF(Entradas!$B$3:$B$5000=D4468,Entradas!$A$3:$A$5000),1))),\"Preço não registrado\")","v":""},"",null,null,"",""]
[null,null,"",null,"","",null,{"$f":"IFERROR(IF(D4469=\"\",\"\",INDEX(Entradas!$H$3:$H$5000,MATCH(A4469,IF(Entradas!$B$3:$B$5000=D4469,Entradas!$A$3:$A$5000),1))),\"Preço não registrado\")","v":""},"",null,null,"",""]
[null,null,"",null,"","",null,{"$f":"IFERROR(IF(D4470=\"\",\"\",INDEX(Entradas!$H$3:$H$5000,MATCH(A4470,IF(Entradas!$B$3:$B$5000=D4470,Entradas!$A$3:$A$5000),1))),\"Preço não registrado\")","v":""},"",null,null,"",""]
[null,null,"",null,"","",null,{"$f":"IFERROR(IF(D4471=\"\",\"\",INDEX(Entradas!$H$3:$H$5000,MATCH(A4471,IF(Entradas!$B$3:$B$5000=D4471,Entradas!$A$3:$A$5000),1))),\"Preço não registrado\")","v":""},"",null,null,"",""]
[null,null,"",null,"","",null,{"$f":"IFERROR(IF(D4472=\"\",\"\",INDEX(Entradas!$H$3:$H$5000,MATCH(A4472,IF(Entradas!$B$3:$B$5000=D4472,Entradas!$A$3:$A$5000),1))),\"Preço não registrado\")","v":""},"",null,null,"",""]
[null,null,"",null,"","",null,{"$f":"IFERROR(IF(D4473=\"\",\"\",INDEX(Entradas!$H$3:$H$5000,MATCH(A4473,IF(Entradas!$B$3:$B$5000=D4473,Entradas!$A$3:$A$5000),1))),\"Preço não registrado\")","v":""},"",null,null,"",""]
[null,null,"",null,"","",null,{"$f":"IFERROR(IF(D4474=\"\",\"\",INDEX(Entradas!$H$3:$H$5000,MATCH(A4474,IF(Entradas!$B$3:$B$5000=D4474,Entradas!$A$3:$A$5000),1))),\"Preço não registrado\")","v":""},"",null,null,"",""]
[null,null,"",null,"","",null,{"$f":"IFERROR(IF(D4475=\"\",\"\",INDEX(Entradas!$H$3:$H$5000,MATCH(A4475,IF(Entradas!$B$3:$B$5000=D4475,Entradas!$A$3:$A$5000),1))),\"Preço não registrado\")","v":""},"",null,null,"",""]
[null,null,"",null,"","",null,{"$f":"IFERROR(IF(D4476=\"\",\"\",INDEX(Entradas!$H$3:$H$5000,MATCH(A4476,IF(Entradas!$B$3:$B$5000=D4476,Entradas!$A$3:$A$5000),1))),\"Preço não registrado\")","v":""},"",null,null,"",""]
[null,null,"",null,"","",null,{"$f":"IFERROR(IF(D4477=\"\",\"\",INDEX(Entradas!$H$3:$H$5000,MATCH(A4477,IF(Entradas!$B$3:$B$5000=D4477,Entradas!$A$3:$A$5000),1))),\"Preço não registrado\")","v":""},"",null,null,"",""]
[null,null,"",null,"","",null,{"$f":"IFERROR(IF(D4478=\"\",\"\",INDEX(Entradas!$H$3:$H$5000,MATCH(A4478,IF(Entradas!$B$3:$B$5000=D4478,Entradas!$A$3:$A$5000),1))),\"Preço não registrado\")","v":""},"",null,null,"",""]
[null,null,"",null,"","",null,{"$f":"IFERROR(IF(D4479=\"\",\"\",INDEX(Entradas!$H$3:$H$5000,MATCH(A4479,IF(Entradas!$B$3:$B$5000=D4479,Entradas!$A$3:$A$5000),1))),\"Preço não registrado\")","v":""},"",null,null,"",""]
[null,null,"",null,"","",null,{"$f":"IFERROR(IF(D4480=\"\",\"\",INDEX(Entradas!$H$3:$H$5000,MATCH(A4480,IF(Entradas!$B$3:$B$5000=D4480,Entradas!$A$3:$A$5000),1))),\"Preço não registrado\")","v":""},"",null,null,"",""]
[null,null,"",null,"","",null,{"$f":"IFERROR(IF(D4481=\"\",\"\",INDEX(Entradas!$H$3:$H$5000,MATCH(A4481,IF(Entradas!$B$3:$B$5000=D4481,Entradas!$A$3:$A$5000),1))),\"Preço não registrado\")","v":""},"",null,null,"",""]
[null,null,"",null,"","",null,{"$f":"IFERROR(IF(D4482=\"\",\"\",INDEX(Entradas!$H$3:$H$5000,MATCH(A4482,IF(Entradas!$B$3:$B$5000=D4482,Entradas!$A$3:$A$5000),1))),\"Preço não registrado\")","v":""},"",null,null,"",""]
[null,null,{"$f":"IFERROR(IF(B4483=\"\",\"\",VLOOKUP(B4483,Clientes,2,FALSE)),\"\")","v":""},null,{"$f":"IF(D4483=\"\",\"\",VLOOKUP(D4483,Itens,2,FALSE))","v":""},{"$f":"IF(D4483=\"\",\"\",VLOOKUP(D4483,Itens,3,FALSE))","v":""},null,{"$f":"IFERROR(IF(D4483=\"\",\"\",INDEX(Entradas!$H$3:$H$5000,MATCH(A4483,IF(Entradas!$B$3:$B$5000=D4483,Entradas!$A$3:$A$5000),1))),\"Preço não registrado\")","v":""},"",null,null,"",""]
[null,null,"",null,"","",null,{"$f":"IFERROR(IF(D4484=\"\",\"\",INDEX(Entradas!$H$3:$H$5000,MATCH(A4484,IF(Entradas!$B$3:$B$5000=D4484,Entradas!$A$3:$A$5000),1))),\"Preço não registrado\")","v":""},{"$f":"IFERROR(G4484*H4484,\"\")","v":""},null,null,{"$f":"IF(K4484=\"\",\"\",HYPERLINK($P$13&K4484,\"Rastreie aqui\"))","v":""},{"$f":"IF(A4484=\"\",\"\",TEXT(A4484,\"mmmm\"))","v":""}]
[null,null,"",null,"","",null,{"$f":"IFERROR(IF(D4485=\"\",\"\",INDEX(Entradas!$H$3:$H$5000,MATCH(A4485,IF(Entradas!$B$3:$B$5000=D4485,Entradas!$A$3:$A$5000),1))),\"Preço não registrado\")","v":""},"",null,null,"",""]
[null,null,"",null,"","",null,{"$f":"IFERROR(IF(D4486=\"\",\"\",INDEX(Entradas!$H$3:$H$5000,MATCH(A4486,IF(Entradas!$B$3:$B$5000=D4486,Entradas!$A$3:$A$5000),1))),\"Preço não registrado\")","v":""},"",null,null,"",""]
[null,null,"",null,"","",null,{"$f":"IFERROR(IF(D4487=\"\",\"\",INDEX(Entradas!$H$3:$H$5000,MATCH(A4487,IF(Entradas!$B$3:$B$5000=D4487,Entradas!$A$3:$A$5000),1))),\"Preço não registrado\")","v":""},"",null,null,"",""]
[null,null,"",null,"","",null,{"$f":"IFERROR(IF(D4488=\"\",\"\",INDEX(Entradas!$H$3:$H$5000,MATCH(A4488,IF(Entradas!$B$3:$B$5000=D4488,Entradas!$A$3:$A$5000),1))),\"Preço não registrado\")","v":""},"",null,null,"",""]
[null,null,"",null,"","",null,{"$f":"IFERROR(IF(D4489=\"\",\"\",INDEX(Entradas!$H$3:$H$5000,MATCH(A4489,IF(Entradas!$B$3:$B$5000=D4489,Entradas!$A$3:$A$5000),1))),\"Preço não registrado\")","v":""},"",null,null,"",""]
[null,null,"",null,"","",null,{"$f":"IFERROR(IF(D4490=\"\",\"\",INDEX(Entradas!$H$3:$H$5000,MATCH(A4490,IF(Entradas!$B$3:$B$5000=D4490,Entradas!$A$3:$A$5000),1))),\"Preço não registrado\")","v":""},"",null,null,"",""]
[null,null,"",null,"","",null,{"$f":"IFERROR(IF(D4491=\"\",\"\",INDEX(Entradas!$H$3:$H$5000,MATCH(A4491,IF(Entradas!$B$3:$B$5000=D4491,Entradas!$A$3:$A$5000),1))),\"Preço não registrado\")","v":""},"",null,null,"",""]
[null,null,"",null,"","",null,{"$f":"IFERROR(IF(D4492=\"\",\"\",INDEX(Entradas!$H$3:$H$5000,MATCH(A4492,IF(Entradas!$B$3:$B$5000=D4492,Entradas!$A$3:$A$5000),1))),\"Preço não registrado\")","v":""},"",null,null,"",""]
[null,null,"",null,"","",null,{"$f":"IFERROR(IF(D4493=\"\",\"\",INDEX(Entradas!$H$3:$H$5000,MATCH(A4493,IF(Entradas!$B$3:$B$5000=D4493,Entradas!$A$3:$A$5000),1))),\"Preço não registrado\")","v":""},"",null,null,"",""]
[null,null,"",null,"","",null,{"$f":"IFERROR(IF(D4494=\"\",\"\",INDEX(Entradas!$H$3:$H$5000,MATCH(A4494,IF(Entradas!$B$3:$B$5000=D4494,Entradas!$A$3:$A$5000),1))),\"Preço não registrado\")","v":""},"",null,null,"",""]
[null,null,"",null,"","",null,{"$f":"IFERROR(IF(D4495=\"\",\"\",INDEX(Entradas!$H$3:$H$5000,MATCH(A4495,IF(Entradas!$B$3:$B$5000=D4495,Entradas!$A$3:$A$5000),1))),\"Preço não registrado\")","v":""},"",null,null,"",""]
[null,null,"",null,"","",null,{"$f":"IFERROR(IF(D4496=\"\",\"\",INDEX(Entradas!$H$3:$H$5000,MATCH(A4496,IF(Entradas!$B$3:$B$5000=D4496,Entradas!$A$3:$A$5000),1))),\"Preço não registrado\")","v":""},"",null,null,"",""]
[null,null,"",null,"","",null,{"$f":"IFERROR(IF(D4497=\"\",\"\",INDEX(Entradas!$H$3:$H$5000,MATCH(A4497,IF(Entradas!$B$3:$B$5000=D4497,Entradas!$A$3:$A$5000),1))),\"Preço não registrado\")","v":""},"",null,null,"",""]
[null,null,"",null,"","",null,{"$f":"IFERROR(IF(D4498=\"\",\"\",INDEX(Entradas!$H$3:$H$5000,MATCH(A4498,IF(Entradas!$B$3:$B$5000=D4498,Entradas!$A$3:$A$5000),1))),\"Preço não registrado\")","v":""},"",null,null,"",""]
[null,null,"",null,"","",null,{"$f":"IFERROR(IF(D4499=\"\",\"\",INDEX(Entradas!$H$3:$H$5000,MATCH(A4499,IF(Entradas!$B$3:$B$5000=D4499,Entradas!$A$3:$A$5000),1))),\"Preço não registrado\")","v":""},"",null,null,"",""]
[null,null,"",null,"","",null,{"$f":"IFERROR(IF(D4500=\"\",\"\",INDEX(Entradas!$H$3:$H$5000,MATCH(A4500,IF(Entradas!$B$3:$B$5000=D4500,Entradas!$A$3:$A$5000),1))),\"Preço não registrado\")","v":""},"",null,null,"",""]
[null,null,"",null,"","",null,{"$f":"IFERROR(IF(D4501=\"\",\"\",INDEX(Entradas!$H$3:$H$5000,MATCH(A4501,IF(Entradas!$B$3:$B$5000=D4501,Entradas!$A$3:$A$5000),1))),\"Preço não registrado\")","v":""},"",null,null,"",""]
[null,null,"",null,"","",null,{"$f":"IFERROR(IF(D4502=\"\",\"\",INDEX(Entradas!$H$3:$H$5000,MATCH(A4502,IF(Entradas!$B$3:$B$5000=D4502,Entradas!$A$3:$A$5000),1))),\"Preço não registrado\")","v":""},"",null,null,"",""]
[null,null,"",null,"","",null,{"$f":"IFERROR(IF(D4503=\"\",\"\",INDEX(Entradas!$H$3:$H$5000,MATCH(A4503,IF(Entradas!$B$3:$B$5000=D4503,Entradas!$A$3:$A$5000),1))),\"Preço não registrado\")","v":""},"",null,null,"",""]
[null,null,"",null,"","",null,{"$f":"IFERROR(IF(D4504=\"\",\"\",INDEX(Entradas!$H$3:$H$5000,MATCH(A4504,IF(Entradas!$B$3:$B$5000=D4504,Entradas!$A$3:$A$5000),1))),\"Preço não registrado\")","v":""},"",null,null,"",""]
[null,null,"",null,"","",null,{"$f":"IFERROR(IF(D4505=\"\",\"\",INDEX(Entradas!$H$3:$H$5000,MATCH(A4505,IF(Entradas!$B$3:$B$5000=D4505,Entradas!$A$3:$A$5000),1))),\"Preço não registrado\")","v":""},"",null,null,"",""]
[null,null,"",null,"","",null,{"$f":"IFERROR(IF(D4506=\"\",\"\",INDEX(Entradas!$H$3:$H$5000,MATCH(A4506,IF(Entradas!$B$3:$B$5000=D4506,Entradas!$A$3:$A$5000),1))),\"Preço não registrado\")","v":""},"",null,null,"",""]
[null,null,"",null,"","",null,{"$f":"IFERROR(IF(D4507=\"\",\"\",INDEX(Entradas!$H$3:$H$5000,MATCH(A4507,IF(Entradas!$B$3:$B$5000=D4507,Entradas!$A$3:$A$5000),1))),\"Preço não registrado\")","v":""},"",null,null,"",""]
[null,null,"",null,"","",null,{"$f":"IFERROR(IF(D4508=\"\",\"\",INDEX(Entradas!$H$3:$H$5000,MATCH(A4508,IF(Entradas!$B$3:$B$5000=D4508,Entradas!$A$3:$A$5000),1))),\"Preço não registrado\")","v":""},"",null,null,"",""]
[null,null,"",null,"","",null,{"$f":"IFERROR(IF(D4509=\"\",\"\",INDEX(Entradas!$H$3:$H$5000,MATCH(A4509,IF(Entradas!$B$3:$B$5000=D4509,Entradas!$A$3:$A$5000),1))),\"Preço não registrado\")","v":""},"",null,null,"",""]
[null,null,"",null,"","",null,{"$f":"IFERROR(IF(D4510=\"\",\"\",INDEX(Entradas!$H$3:$H$5000,MATCH(A4510,IF(Entradas!$B$3:$B$5000=D4510,Entradas!$A$3:$A$5000),1))),\"Preço não registrado\")","v":""},"",null,null,"",""]
[null,null,"",null,"","",null,{"$f":"IFERROR(IF(D4511=\"\",\"\",INDEX(Entradas!$H$3:$H$5000,MATCH(A4511,IF(Entradas!$B$3:$B$5000=D4511,Entradas!$A$3:$A$5000),1))),\"Preço não registrado\")","v":""},"",null,null,"",""]
[null,null,"",null,"","",null,{"$f":"IFERROR(IF(D4512=\"\",\"\",INDEX(Entradas!$H$3:$H$5000,MATCH(A4512,IF(Entradas!$B$3:$B$5000=D4512,Entradas!$A$3:$A$5000),1))),\"Preço não registrado\")","v":""},"",null,null,"",""]
[null,null,"",null,"","",null,{"$f":"IFERROR(IF(D4513=\"\",\"\",INDEX(Entradas!$H$3:$H$5000,MATCH(A4513,IF(Entradas!$B$3:$B$5000=D4513,Entradas!$A$3:$A$5000),1))),\"Preço não registrado\")","v":""},"",null,null,"",""]
[null,null,"",null,"","",null,{"$f":"IFERROR(IF(D4514=\"\",\"\",INDEX(Entradas!$H$3:$H$5000,MATCH(A4514,IF(Entradas!$B$3:$B$5000=D4514,Entradas!$A$3:$A$5000),1))),\"Preço não registrado\")","v":""},"",null,null,"",""]
[null,null,"",null,"","",null,{"$f":"IFERROR(IF(D4515=\"\",\"\",INDEX(Entradas!$H$3:$H$5000,MATCH(A4515,IF(Entradas!$B$3:$B$5000=D4515,Entradas!$A$3:$A$5000),1))),\"Preço não registrado\")","v":""},"",null,null,"",""]
[null,null,"",null,"","",null,{"$f":"IFERROR(IF(D4516=\"\",\"\",INDEX(Entradas!$H$3:$H$5000,MATCH(A4516,IF(Entradas!$B$3:$B$5000=D4516,Entradas!$A$3:$A$5000),1))),\"Preço não registrado\")","v":""},"",null,null,"",""]
[null,null,"",null,"","",null,{"$f":"IFERROR(IF(D4517=\"\",\"\",INDEX(Entradas!$H$3:$H$5000,MATCH(A4517,IF(Entradas!$B$3:$B$5000=D4517,Entradas!$A$3:$A$5000),1))),\"Preço não registrado\")","v":""},"",null,null,"",""]
[null,null,"",null,"","",null,{"$f":"IFERROR(IF(D4518=\"\",\"\",INDEX(Entradas!$H$3:$H$5000,MATCH(A4518,IF(Entradas!$B$3:$B$5000=D4518,Entradas!$A$3:$A$5000),1))),\"Preço não registrado\")","v":""},"",null,null,"",""]
[null,null,"",null,"","",null,{"$f":"IFERROR(IF(D4519=\"\",\"\",INDEX(Entradas!$H$3:$H$5000,MATCH(A4519,IF(Entradas!$B$3:$B$5000=D4519,Entradas!$A$3:$A$5000),1))),\"Preço não registrado\")","v":""},"",null,null,"",""]
[null,null,"",null,"","",null,{"$f":"IFERROR(IF(D4520=\"\",\"\",INDEX(Entradas!$H$3:$H$5000,MATCH(A4520,IF(Entradas!$B$3:$B$5000=D4520,Entradas!$A$3:$A$5000),1))),\"Preço não registrado\")","v":""},"",null,null,"",""]
[null,null,"",null,"","",null,{"$f":"IFERROR(IF(D4521=\"\",\"\",INDEX(Entradas!$H$3:$H$5000,MATCH(A4521,IF(Entradas!$B$3:$B$5000=D4521,Entradas!$A$3:$A$5000),1))),\"Preço não registrado\")","v":""},"",null,null,"",""]
[null,null,"",null,"","",null,{"$f":"IFERROR(IF(D4522=\"\",\"\",INDEX(Entradas!$H$3:$H$5000,MATCH(A4522,IF(Entradas!$B$3:$B$5000=D4522,Entradas!$A$3:$A$5000),1))),\"Preço não registrado\")","v":""},"",null,null,"",""]
[null,null,"",null,"","",null,{"$f":"IFERROR(IF(D4523=\"\",\"\",INDEX(Entradas!$H$3:$H$5000,MATCH(A4523,IF(Entradas!$B$3:$B$5000=D4523,Entradas!$A$3:$A$5000),1))),\"Preço não registrado\")","v":""},"",null,null,"",""]
[null,null,"",null,"","",null,{"$f":"IFERROR(IF(D4524=\"\",\"\",INDEX(Entradas!$H$3:$H$5000,MATCH(A4524,IF(Entradas!$B$3:$B$5000=D4524,Entradas!$A$3:$A$5000),1))),\"Preço não registrado\")","v":""},"",null,null,"",""]
[null,null,"",null,"","",null,{"$f":"IFERROR(IF(D4525=\"\",\"\",INDEX(Entradas!$H$3:$H$5000,MATCH(A4525,IF(Entradas!$B$3:$B$5000=D4525,Entradas!$A$3:$A$5000),1))),\"Preço não registrado\")","v":""},"",null,null,"",""]
[null,null,"",null,"","",null,{"$f":"IFERROR(IF(D4526=\"\",\"\",INDEX(Entradas!$H$3:$H$5000,MATCH(A4526,IF(Entradas!$B$3:$B$5000=D4526,Entradas!$A$3:$A$5000),1))),\"Preço não registrado\")","v":""},"",null,null,"",""]
[null,null,"",null,"","",null,{"$f":"IFERROR(IF(D4527=\"\",\"\",INDEX(Entradas!$H$3:$H$5000,MATCH(A4527,IF(Entradas!$B$3:$B$5000=D4527,Entradas!$A$3:$A$5000),1))),\"Preço não registrado\")","v":""},"",null,null,"",""]
[null,null,"",null,"","",null,{"$f":"IFERROR(IF(D4528=\"\",\"\",INDEX(Entradas!$H$3:$H$5000,MATCH(A4528,IF(Entradas!$B$3:$B$5000=D4528,Entradas!$A$3:$A$5000),1))),\"Preço não registrado\")","v":""},"",null,null,"",""]
[null,null,"",null,"","",null,{"$f":"IFERROR(IF(D4529=\"\",\"\",INDEX(Entradas!$H$3:$H$5000,MATCH(A4529,IF(Entradas!$B$3:$B$5000=D4529,Entradas!$A$3:$A$5000),1))),\"Preço não registrado\")","v":""},"",null,null,"",""]
[null,null,"",null,"","",null,{"$f":"IFERROR(IF(D4530=\"\",\"\",INDEX(Entradas!$H$3:$H$5000,MATCH(A4530,IF(Entradas!$B$3:$B$5000=D4530,Entradas!$A$3:$A$5000),1))),\"Preço não registrado\")","v":""},"",null,null,"",""]
[null,null,"",null,"","",null,{"$f":"IFERROR(IF(D4531=\"\",\"\",INDEX(Entradas!$H$3:$H$5000,MATCH(A4531,IF(Entradas!$B$3:$B$5000=D4531,Entradas!$A$3:$A$5000),1))),\"Preço não registrado\")","v":""},"",null,null,"",""]
[null,null,"",null,"","",null,{"$f":"IFERROR(IF(D4532=\"\",\"\",INDEX(Entradas!$H$3:$H$5000,MATCH(A4532,IF(Entradas!$B$3:$B$5000=D4532,Entradas!$A$3:$A$5000),1))),\"Preço não registrado\")","v":""},"",null,null,"",""]
[null,null,"",null,"","",null,{"$f":"IFERROR(IF(D4533=\"\",\"\",INDEX(Entradas!$H$3:$H$5000,MATCH(A4533,IF(Entradas!$B$3:$B$5000=D4533,Entradas!$A$3:$A$5000),1))),\"Preço não registrado\")","v":""},"",null,null,"",""]
[null,null,"",null,"","",null,{"$f":"IFERROR(IF(D4534=\"\",\"\",INDEX(Entradas!$H$3:$H$5000,MATCH(A4534,IF(Entradas!$B$3:$B$5000=D4534,Entradas!$A$3:$A$5000),1))),\"Preço não registrado\")","v":""},"",null,null,"",""]
[null,null,"",null,"","",null,{"$f":"IFERROR(IF(D4535=\"\",\"\",INDEX(Entradas!$H$3:$H$5000,MATCH(A4535,IF(Entradas!$B$3:$B$5000=D4535,Entradas!$A$3:$A$5000),1))),\"Preço não registrado\")","v":""},"",null,null,"",""]
[null,null,"",null,"","",null,{"$f":"IFERROR(IF(D4536=\"\",\"\",INDEX(Entradas!$H$3:$H$5000,MATCH(A4536,IF(Entradas!$B$3:$B$5000=D4536,Entradas!$A$3:$A$5000),1))),\"Preço não registrado\")","v":""},"",null,null,"",""]
[null,null,"",null,"","",null,{"$f":"IFERROR(IF(D4537=\"\",\"\",INDEX(Entradas!$H$3:$H$5000,MATCH(A4537,IF(Entradas!$B$3:$B$5000=D4537,Entradas!$A$3:$A$5000),1))),\"Preço não registrado\")","v":""},"",null,null,"",""]
[null,null,"",null,"","",null,{"$f":"IFERROR(IF(D4538=\"\",\"\",INDEX(Entradas!$H$3:$H$5000,MATCH(A4538,IF(Entradas!$B$3:$B$5000=D4538,Entradas!$A$3:$A$5000),1))),\"Preço não registrado\")","v":""},"",null,null,"",""]
[null,null,"",null,"","",null,{"$f":"IFERROR(IF(D4539=\"\",\"\",INDEX(Entradas!$H$3:$H$5000,MATCH(A4539,IF(Entradas!$B$3:$B$5000=D4539,Entradas!$A$3:$A$5000),1))),\"Preço não registrado\")","v":""},"",null,null,"",""]
[null,null,"",null,"","",null,{"$f":"IFERROR(IF(D4540=\"\",\"\",INDEX(Entradas!$H$3:$H$5000,MATCH(A4540,IF(Entradas!$B$3:$B$5000=D4540,Entradas!$A$3:$A$5000),1))),\"Preço não registrado\")","v":""},"",null,null,"",""]
[null,null,"",null,"","",null,{"$f":"IFERROR(IF(D4541=\"\",\"\",INDEX(Entradas!$H$3:$H$5000,MATCH(A4541,IF(Entradas!$B$3:$B$5000=D4541,Entradas!$A$3:$A$5000),1))),\"Preço não registrado\")","v":""},"",null,null,"",""]
[null,null,"",null,"","",null,{"$f":"IFERROR(IF(D4542=\"\",\"\",INDEX(Entradas!$H$3:$H$5000,MATCH(A4542,IF(Entradas!$B$3:$B$5000=D4542,Entradas!$A$3:$A$5000),1))),\"Preço não registrado\")","v":""},"",null,null,"",""]
[null,null,"",null,"","",null,{"$f":"IFERROR(IF(D4543=\"\",\"\",INDEX(Entradas!$H$3:$H$5000,MATCH(A4543,IF(Entradas!$B$3:$B$5000=D4543,Entradas!$A$3:$A$5000),1))),\"Preço não registrado\")","v":""},"",null,null,"",""]
[null,null,"",null,"","",null,{"$f":"IFERROR(IF(D4544=\"\",\"\",INDEX(Entradas!$H$3:$H$5000,MATCH(A4544,IF(Entradas!$B$3:$B$5000=D4544,Entradas!$A$3:$A$5000),1))),\"Preço não registrado\")","v":""},"",null,null,"",""]
[null,null,"",null,"","",null,{"$f":"IFERROR(IF(D4545=\"\",\"\",INDEX(Entradas!$H$3:$H$5000,MATCH(A4545,IF(Entradas!$B$3:$B$5000=D4545,Entradas!$A$3:$A$5000),1))),\"Preço não registrado\")","v":""},"",null,null,"",""]
[null,null,"",null,"","",null,{"$f":"IFERROR(IF(D4546=\"\",\"\",INDEX(Entradas!$H$3:$H$5000,MATCH(A4546,IF(Entradas!$B$3:$B$5000=D4546,Entradas!$A$3:$A$5000),1))),\"Preço não registrado\")","v":""},"",null,null,"",""]
[null,null,{"$f":"IFERROR(IF(B4547=\"\",\"\",VLOOKUP(B4547,Clientes,2,FALSE)),\"\")","v":""},null,{"$f":"IF(D4547=\"\",\"\",VLOOKUP(D4547,Itens,2,FALSE))","v":""},{"$f":"IF(D4547=\"\",\"\",VLOOKUP(D4547,Itens,3,FALSE))","v":""},null,{"$f":"IFERROR(IF(D4547=\"\",\"\",INDEX(Entradas!$H$3:$H$5000,MATCH(A4547,IF(Entradas!$B$3:$B$5000=D4547,Entradas!$A$3:$A$5000),1))),\"Preço não registrado\")","v":""},"",null,null,"",""]
[null,null,"",null,"","",null,{"$f":"IFERROR(IF(D4548=\"\",\"\",INDEX(Entradas!$H$3:$H$5000,MATCH(A4548,IF(Entradas!$B$3:$B$5000=D4548,Entradas!$A$3:$A$5000),1))),\"Preço não registrado\")","v":""},{"$f":"IFERROR(G4548*H4548,\"\")","v":""},null,null,{"$f":"IF(K4548=\"\",\"\",HYPERLINK($P$13&K4548,\"Rastreie aqui\"))","v":""},{"$f":"IF(A4548=\"\",\"\",TEXT(A4548,\"mmmm\"))","v":""}]
[null,null,"",null,"","",null,{"$f":"IFERROR(IF(D4549=\"\",\"\",INDEX(Entradas!$H$3:$H$5000,MATCH(A4549,IF(Entradas!$B$3:$B$5000=D4549,Entradas!$A$3:$A$5000),1))),\"Preço não registrado\")","v":""},"",null,null,"",""]
[null,null,"",null,"","",null,{"$f":"IFERROR(IF(D4550=\"\",\"\",INDEX(Entradas!$H$3:$H$5000,MATCH(A4550,IF(Entradas!$B$3:$B$5000=D4550,Entradas!$A$3:$A$5000),1))),\"Preço não registrado\")","v":""},"",null,null,"",""]
[null,null,"",null,"","",null,{"$f":"IFERROR(IF(D4551=\"\",\"\",INDEX(Entradas!$H$3:$H$5000,MATCH(A4551,IF(Entradas!$B$3:$B$5000=D4551,Entradas!$A$3:$A$5000),1))),\"Preço não registrado\")","v":""},"",null,null,"",""]
[null,null,"",null,"","",null,{"$f":"IFERROR(IF(D4552=\"\",\"\",INDEX(Entradas!$H$3:$H$5000,MATCH(A4552,IF(Entradas!$B$3:$B$5000=D4552,Entradas!$A$3:$A$5000),1))),\"Preço não registrado\")","v":""},"",null,null,"",""]
[null,null,"",null,"","",null,{"$f":"IFERROR(IF(D4553=\"\",\"\",INDEX(Entradas!$H$3:$H$5000,MATCH(A4553,IF(Entradas!$B$3:$B$5000=D4553,Entradas!$A$3:$A$5000),1))),\"Preço não registrado\")","v":""},"",null,null,"",""]
[null,null,"",null,"","",null,{"$f":"IFERROR(IF(D4554=\"\",\"\",INDEX(Entradas!$H$3:$H$5000,MATCH(A4554,IF(Entradas!$B$3:$B$5000=D4554,Entradas!$A$3:$A$5000),1))),\"Preço não registrado\")","v":""},"",null,null,"",""]
[null,null,"",null,"","",null,{"$f":"IFERROR(IF(D4555=\"\",\"\",INDEX(Entradas!$H$3:$H$5000,MATCH(A4555,IF(Entradas!$B$3:$B$5000=D4555,Entradas!$A$3:$A$5000),1))),\"Preço não registrado\")","v":""},"",null,null,"",""]
[null,null,"",null,"","",null,{"$f":"IFERROR(IF(D4556=\"\",\"\",INDEX(Entradas!$H$3:$H$5000,MATCH(A4556,IF(Entradas!$B$3:$B$5000=D4556,Entradas!$A$3:$A$5000),1))),\"Preço não registrado\")","v":""},"",null,null,"",""]
[null,null,"",null,"","",null,{"$f":"IFERROR(IF(D4557=\"\",\"\",INDEX(Entradas!$H$3:$H$5000,MATCH(A4557,IF(Entradas!$B$3:$B$5000=D4557,Entradas!$A$3:$A$5000),1))),\"Preço não registrado\")","v":""},"",null,null,"",""]
[null,null,"",null,"","",null,{"$f":"IFERROR(IF(D4558=\"\",\"\",INDEX(Entradas!$H$3:$H$5000,MATCH(A4558,IF(Entradas!$B$3:$B$5000=D4558,Entradas!$A$3:$A$5000),1))),\"Preço não registrado\")","v":""},"",null,null,"",""]
[null,null,"",null,"","",null,{"$f":"IFERROR(IF(D4559=\"\",\"\",INDEX(Entradas!$H$3:$H$5000,MATCH(A4559,IF(Entradas!$B$3:$B$5000=D4559,Entradas!$A$3:$A$5000),1))),\"Preço não registrado\")","v":""},"",null,null,"",""]
[null,null,"",null,"","",null,{"$f":"IFERROR(IF(D4560=\"\",\"\",INDEX(Entradas!$H$3:$H$5000,MATCH(A4560,IF(Entradas!$B$3:$B$5000=D4560,Entradas!$A$3:$A$5000),1))),\"Preço não registrado\")","v":""},"",null,null,"",""]
[null,null,"",null,"","",null,{"$f":"IFERROR(IF(D4561=\"\",\"\",INDEX(Entradas!$H$3:$H$5000,MATCH(A4561,IF(Entradas!$B$3:$B$5000=D4561,Entradas!$A$3:$A$5000),1))),\"Preço não registrado\")","v":""},"",null,null,"",""]
[null,null,"",null,"","",null,{"$f":"IFERROR(IF(D4562=\"\",\"\",INDEX(Entradas!$H$3:$H$5000,MATCH(A4562,IF(Entradas!$B$3:$B$5000=D4562,Entradas!$A$3:$A$5000),1))),\"Preço não registrado\")","v":""},"",null,null,"",""]
[null,null,"",null,"","",null,{"$f":"IFERROR(IF(D4563=\"\",\"\",INDEX(Entradas!$H$3:$H$5000,MATCH(A4563,IF(Entradas!$B$3:$B$5000=D4563,Entradas!$A$3:$A$5000),1))),\"Preço não registrado\")","v":""},"",null,null,"",""]
[null,null,"",null,"","",null,{"$f":"IFERROR(IF(D4564=\"\",\"\",INDEX(Entradas!$H$3:$H$5000,MATCH(A4564,IF(Entradas!$B$3:$B$5000=D4564,Entradas!$A$3:$A$5000),1))),\"Preço não registrado\")","v":""},"",null,null,"",""]
[null,null,"",null,"","",null,{"$f":"IFERROR(IF(D4565=\"\",\"\",INDEX(Entradas!$H$3:$H$5000,MATCH(A4565,IF(Entradas!$B$3:$B$5000=D4565,Entradas!$A$3:$A$5000),1))),\"Preço não registrado\")","v":""},"",null,null,"",""]
[null,null,"",null,"","",null,{"$f":"IFERROR(IF(D4566=\"\",\"\",INDEX(Entradas!$H$3:$H$5000,MATCH(A4566,IF(Entradas!$B$3:$B$5000=D4566,Entradas!$A$3:$A$5000),1))),\"Preço não registrado\")","v":""},"",null,null,"",""]
[null,null,"",null,"","",null,{"$f":"IFERROR(IF(D4567=\"\",\"\",INDEX(Entradas!$H$3:$H$5000,MATCH(A4567,IF(Entradas!$B$3:$B$5000=D4567,Entradas!$A$3:$A$5000),1))),\"Preço não registrado\")","v":""},"",null,null,"",""]
[null,null,"",null,"","",null,{"$f":"IFERROR(IF(D4568=\"\",\"\",INDEX(Entradas!$H$3:$H$5000,MATCH(A4568,IF(Entradas!$B$3:$B$5000=D4568,Entradas!$A$3:$A$5000),1))),\"Preço não registrado\")","v":""},"",null,null,"",""]
[null,null,"",null,"","",null,{"$f":"IFERROR(IF(D4569=\"\",\"\",INDEX(Entradas!$H$3:$H$5000,MATCH(A4569,IF(Entradas!$B$3:$B$5000=D4569,Entradas!$A$3:$A$5000),1))),\"Preço não registrado\")","v":""},"",null,null,"",""]
[null,null,"",null,"","",null,{"$f":"IFERROR(IF(D4570=\"\",\"\",INDEX(Entradas!$H$3:$H$5000,MATCH(A4570,IF(Entradas!$B$3:$B$5000=D4570,Entradas!$A$3:$A$5000),1))),\"Preço não registrado\")","v":""},"",null,null,"",""]
[null,null,"",null,"","",null,{"$f":"IFERROR(IF(D4571=\"\",\"\",INDEX(Entradas!$H$3:$H$5000,MATCH(A4571,IF(Entradas!$B$3:$B$5000=D4571,Entradas!$A$3:$A$5000),1))),\"Preço não registrado\")","v":""},"",null,null,"",""]
[null,null,"",null,"","",null,{"$f":"IFERROR(IF(D4572=\"\",\"\",INDEX(Entradas!$H$3:$H$5000,MATCH(A4572,IF(Entradas!$B$3:$B$5000=D4572,Entradas!$A$3:$A$5000),1))),\"Preço não registrado\")","v":""},"",null,null,"",""]
[null,null,"",null,"","",null,{"$f":"IFERROR(IF(D4573=\"\",\"\",INDEX(Entradas!$H$3:$H$5000,MATCH(A4573,IF(Entradas!$B$3:$B$5000=D4573,Entradas!$A$3:$A$5000),1))),\"Preço não registrado\")","v":""},"",null,null,"",""]
[null,null,"",null,"","",null,{"$f":"IFERROR(IF(D4574=\"\",\"\",INDEX(Entradas!$H$3:$H$5000,MATCH(A4574,IF(Entradas!$B$3:$B$5000=D4574,Entradas!$A$3:$A$5000),1))),\"Preço não registrado\")","v":""},"",null,null,"",""]
[null,null,"",null,"","",null,{"$f":"IFERROR(IF(D4575=\"\",\"\",INDEX(Entradas!$H$3:$H$5000,MATCH(A4575,IF(Entradas!$B$3:$B$5000=D4575,Entradas!$A$3:$A$5000),1))),\"Preço não registrado\")","v":""},"",null,null,"",""]
[null,null,"",null,"","",null,{"$f":"IFERROR(IF(D4576=\"\",\"\",INDEX(Entradas!$H$3:$H$5000,MATCH(A4576,IF(Entradas!$B$3:$B$5000=D4576,Entradas!$A$3:$A$5000),1))),\"Preço não registrado\")","v":""},"",null,null,"",""]
[null,null,"",null,"","",null,{"$f":"IFERROR(IF(D4577=\"\",\"\",INDEX(Entradas!$H$3:$H$5000,MATCH(A4577,IF(Entradas!$B$3:$B$5000=D4577,Entradas!$A$3:$A$5000),1))),\"Preço não registrado\")","v":""},"",null,null,"",""]
[null,null,"",null,"","",null,{"$f":"IFERROR(IF(D4578=\"\",\"\",INDEX(Entradas!$H$3:$H$5000,MATCH(A4578,IF(Entradas!$B$3:$B$5000=D4578,Entradas!$A$3:$A$5000),1))),\"Preço não registrado\")","v":""},"",null,null,"",""]
[null,null,"",null,"","",null,{"$f":"IFERROR(IF(D4579=\"\",\"\",INDEX(Entradas!$H$3:$H$5000,MATCH(A4579,IF(Entradas!$B$3:$B$5000=D4579,Entradas!$A$3:$A$5000),1))),\"Preço não registrado\")","v":""},"",null,null,"",""]
[null,null,"",null,"","",null,{"$f":"IFERROR(IF(D4580=\"\",\"\",INDEX(Entradas!$H$3:$H$5000,MATCH(A4580,IF(Entradas!$B$3:$B$5000=D4580,Entradas!$A$3:$A$5000),1))),\"Preço não registrado\")","v":""},"",null,null,"",""]
[null,null,"",null,"","",null,{"$f":"IFERROR(IF(D4581=\"\",\"\",INDEX(Entradas!$H$3:$H$5000,MATCH(A4581,IF(Entradas!$B$3:$B$5000=D4581,Entradas!$A$3:$A$5000),1))),\"Preço não registrado\")","v":""},"",null,null,"",""]
[null,null,"",null,"","",null,{"$f":"IFERROR(IF(D4582=\"\",\"\",INDEX(Entradas!$H$3:$H$5000,MATCH(A4582,IF(Entradas!$B$3:$B$5000=D4582,Entradas!$A$3:$A$5000),1))),\"Preço não registrado\")","v":""},"",null,null,"",""]
[null,null,"",null,"","",null,{"$f":"IFERROR(IF(D4583=\"\",\"\",INDEX(Entradas!$H$3:$H$5000,MATCH(A4583,IF(Entradas!$B$3:$B$5000=D4583,Entradas!$A$3:$A$5000),1))),\"Preço não registrado\")","v":""},"",null,null,"",""]
[null,null,"",null,"","",null,{"$f":"IFERROR(IF(D4584=\"\",\"\",INDEX(Entradas!$H$3:$H$5000,MATCH(A4584,IF(Entradas!$B$3:$B$5000=D4584,Entradas!$A$3:$A$5000),1))),\"Preço não registrado\")","v":""},"",null,null,"",""]
[null,null,"",null,"","",null,{"$f":"IFERROR(IF(D4585=\"\",\"\",INDEX(Entradas!$H$3:$H$5000,MATCH(A4585,IF(Entradas!$B$3:$B$5000=D4585,Entradas!$A$3:$A$5000),1))),\"Preço não registrado\")","v":""},"",null,null,"",""]
[null,null,"",null,"","",null,{"$f":"IFERROR(IF(D4586=\"\",\"\",INDEX(Entradas!$H$3:$H$5000,MATCH(A4586,IF(Entradas!$B$3:$B$5000=D4586,Entradas!$A$3:$A$5000),1))),\"Preço não registrado\")","v":""},"",null,null,"",""]
[null,null,"",null,"","",null,{"$f":"IFERROR(IF(D4587=\"\",\"\",INDEX(Entradas!$H$3:$H$5000,MATCH(A4587,IF(Entradas!$B$3:$B$5000=D4587,Entradas!$A$3:$A$5000),1))),\"Preço não registrado\")","v":""},"",null,null,"",""]
[null,null,"",null,"","",null,{"$f":"IFERROR(IF(D4588=\"\",\"\",INDEX(Entradas!$H$3:$H$5000,MATCH(A4588,IF(Entradas!$B$3:$B$5000=D4588,Entradas!$A$3:$A$5000),1))),\"Preço não registrado\")","v":""},"",null,null,"",""]
[null,null,"",null,"","",null,{"$f":"IFERROR(IF(D4589=\"\",\"\",INDEX(Entradas!$H$3:$H$5000,MATCH(A4589,IF(Entradas!$B$3:$B$5000=D4589,Entradas!$A$3:$A$5000),1))),\"Preço não registrado\")","v":""},"",null,null,"",""]
[null,null,"",null,"","",null,{"$f":"IFERROR(IF(D4590=\"\",\"\",INDEX(Entradas!$H$3:$H$5000,MATCH(A4590,IF(Entradas!$B$3:$B$5000=D4590,Entradas!$A$3:$A$5000),1))),\"Preço não registrado\")","v":""},"",null,null,"",""]
[null,null,"",null,"","",null,{"$f":"IFERROR(IF(D4591=\"\",\"\",INDEX(Entradas!$H$3:$H$5000,MATCH(A4591,IF(Entradas!$B$3:$B$5000=D4591,Entradas!$A$3:$A$5000),1))),\"Preço não registrado\")","v":""},"",null,null,"",""]
[null,null,"",null,"","",null,{"$f":"IFERROR(IF(D4592=\"\",\"\",INDEX(Entradas!$H$3:$H$5000,MATCH(A4592,IF(Entradas!$B$3:$B$5000=D4592,Entradas!$A$3:$A$5000),1))),\"Preço não registrado\")","v":""},"",null,null,"",""]
[null,null,"",null,"","",null,{"$f":"IFERROR(IF(D4593=\"\",\"\",INDEX(Entradas!$H$3:$H$5000,MATCH(A4593,IF(Entradas!$B$3:$B$5000=D4593,Entradas!$A$3:$A$5000),1))),\"Preço não registrado\")","v":""},"",null,null,"",""]
[null,null,"",null,"","",null,{"$f":"IFERROR(IF(D4594=\"\",\"\",INDEX(Entradas!$H$3:$H$5000,MATCH(A4594,IF(Entradas!$B$3:$B$5000=D4594,Entradas!$A$3:$A$5000),1))),\"Preço não registrado\")","v":""},"",null,null,"",""]
[null,null,"",null,"","",null,{"$f":"IFERROR(IF(D4595=\"\",\"\",INDEX(Entradas!$H$3:$H$5000,MATCH(A4595,IF(Entradas!$B$3:$B$5000=D4595,Entradas!$A$3:$A$5000),1))),\"Preço não registrado\")","v":""},"",null,null,"",""]
[null,null,"",null,"","",null,{"$f":"IFERROR(IF(D4596=\"\",\"\",INDEX(Entradas!$H$3:$H$5000,MATCH(A4596,IF(Entradas!$B$3:$B$5000=D4596,Entradas!$A$3:$A$5000),1))),\"Preço não registrado\")","v":""},"",null,null,"",""]
[null,null,"",null,"","",null,{"$f":"IFERROR(IF(D4597=\"\",\"\",INDEX(Entradas!$H$3:$H$5000,MATCH(A4597,IF(Entradas!$B$3:$B$5000=D4597,Entradas!$A$3:$A$5000),1))),\"Preço não registrado\")","v":""},"",null,null,"",""]
[null,null,"",null,"","",null,{"$f":"IFERROR(IF(D4598=\"\",\"\",INDEX(Entradas!$H$3:$H$5000,MATCH(A4598,IF(Entradas!$B$3:$B$5000=D4598,Entradas!$A$3:$A$5000),1))),\"Preço não registrado\")","v":""},"",null,null,"",""]
[null,null,"",null,"","",null,{"$f":"IFERROR(IF(D4599=\"\",\"\",INDEX(Entradas!$H$3:$H$5000,MATCH(A4599,IF(Entradas!$B$3:$B$5000=D4599,Entradas!$A$3:$A$5000),1))),\"Preço não registrado\")","v":""},"",null,null,"",""]
[null,null,"",null,"","",null,{"$f":"IFERROR(IF(D4600=\"\",\"\",INDEX(Entradas!$H$3:$H$5000,MATCH(A4600,IF(Entradas!$B$3:$B$5000=D4600,Entradas!$A$3:$A$5000),1))),\"Preço não registrado\")","v":""},"",null,null,"",""]
[null,null,"",null,"","",null,{"$f":"IFERROR(IF(D4601=\"\",\"\",INDEX(Entradas!$H$3:$H$5000,MATCH(A4601,IF(Entradas!$B$3:$B$5000=D4601,Entradas!$A$3:$A$5000),1))),\"Preço não registrado\")","v":""},"",null,null,"",""]
[null,null,"",null,"","",null,{"$f":"IFERROR(IF(D4602=\"\",\"\",INDEX(Entradas!$H$3:$H$5000,MATCH(A4602,IF(Entradas!$B$3:$B$5000=D4602,Entradas!$A$3:$A$5000),1))),\"Preço não registrado\")","v":""},"",null,null,"",""]
[null,null,"",null,"","",null,{"$f":"IFERROR(IF(D4603=\"\",\"\",INDEX(Entradas!$H$3:$H$5000,MATCH(A4603,IF(Entradas!$B$3:$B$5000=D4603,Entradas!$A$3:$A$5000),1))),\"Preço não registrado\")","v":""},"",null,null,"",""]
[null,null,"",null,"","",null,{"$f":"IFERROR(IF(D4604=\"\",\"\",INDEX(Entradas!$H$3:$H$5000,MATCH(A4604,IF(Entradas!$B$3:$B$5000=D4604,Entradas!$A$3:$A$5000),1))),\"Preço não registrado\")","v":""},"",null,null,"",""]
[null,null,"",null,"","",null,{"$f":"IFERROR(IF(D4605=\"\",\"\",INDEX(Entradas!$H$3:$H$5000,MATCH(A4605,IF(Entradas!$B$3:$B$5000=D4605,Entradas!$A$3:$A$5000),1))),\"Preço não registrado\")","v":""},"",null,null,"",""]
[null,null,"",null,"","",null,{"$f":"IFERROR(IF(D4606=\"\",\"\",INDEX(Entradas!$H$3:$H$5000,MATCH(A4606,IF(Entradas!$B$3:$B$5000=D4606,Entradas!$A$3:$A$5000),1))),\"Preço não registrado\")","v":""},"",null,null,"",""]
[null,null,"",null,"","",null,{"$f":"IFERROR(IF(D4607=\"\",\"\",INDEX(Entradas!$H$3:$H$5000,MATCH(A4607,IF(Entradas!$B$3:$B$5000=D4607,Entradas!$A$3:$A$5000),1))),\"Preço não registrado\")","v":""},"",null,null,"",""]
[null,null,"",null,"","",null,{"$f":"IFERROR(IF(D4608=\"\",\"\",INDEX(Entradas!$H$3:$H$5000,MATCH(A4608,IF(Entradas!$B$3:$B$5000=D4608,Entradas!$A$3:$A$5000),1))),\"Preço não registrado\")","v":""},"",null,null,"",""]
[null,null,"",null,"","",null,{"$f":"IFERROR(IF(D4609=\"\",\"\",INDEX(Entradas!$H$3:$H$5000,MATCH(A4609,IF(Entradas!$B$3:$B$5000=D4609,Entradas!$A$3:$A$5000),1))),\"Preço não registrado\")","v":""},"",null,null,"",""]
[null,null,"",null,"","",null,{"$f":"IFERROR(IF(D4610=\"\",\"\",INDEX(Entradas!$H$3:$H$5000,MATCH(A4610,IF(Entradas!$B$3:$B$5000=D4610,Entradas!$A$3:$A$5000),1))),\"Preço não registrado\")","v":""},"",null,null,"",""]
[null,null,{"$f":"IFERROR(IF(B4611=\"\",\"\",VLOOKUP(B4611,Clientes,2,FALSE)),\"\")","v":""},null,{"$f":"IF(D4611=\"\",\"\",VLOOKUP(D4611,Itens,2,FALSE))","v":""},{"$f":"IF(D4611=\"\",\"\",VLOOKUP(D4611,Itens,3,FALSE))","v":""},null,{"$f":"IFERROR(IF(D4611=\"\",\"\",INDEX(Entradas!$H$3:$H$5000,MATCH(A4611,IF(Entradas!$B$3:$B$5000=D4611,Entradas!$A$3:$A$5000),1))),\"Preço não registrado\")","v":""},"",null,null,"",""]
[null,null,"",null,"","",null,{"$f":"IFERROR(IF(D4612=\"\",\"\",INDEX(Entradas!$H$3:$H$5000,MATCH(A4612,IF(Entradas!$B$3:$B$5000=D4612,Entradas!$A$3:$A$5000),1))),\"Preço não registrado\")","v":""},{"$f":"IFERROR(G4612*H4612,\"\")","v":""},null,null,{"$f":"IF(K4612=\"\",\"\",HYPERLINK($P$13&K4612,\"Rastreie aqui\"))","v":""},{"$f":"IF(A4612=\"\",\"\",TEXT(A4612,\"mmmm\"))","v":""}]
[null,null,"",null,"","",null,{"$f":"IFERROR(IF(D4613=\"\",\"\",INDEX(Entradas!$H$3:$H$5000,MATCH(A4613,IF(Entradas!$B$3:$B$5000=D4613,Entradas!$A$3:$A$5000),1))),\"Preço não registrado\")","v":""},"",null,null,"",""]
[null,null,"",null,"","",null,{"$f":"IFERROR(IF(D4614=\"\",\"\",INDEX(Entradas!$H$3:$H$5000,MATCH(A4614,IF(Entradas!$B$3:$B$5000=D4614,Entradas!$A$3:$A$5000),1))),\"Preço não registrado\")","v":""},"",null,null,"",""]
[null,null,"",null,"","",null,{"$f":"IFERROR(IF(D4615=\"\",\"\",INDEX(Entradas!$H$3:$H$5000,MATCH(A4615,IF(Entradas!$B$3:$B$5000=D4615,Entradas!$A$3:$A$5000),1))),\"Preço não registrado\")","v":""},"",null,null,"",""]
[null,null,"",null,"","",null,{"$f":"IFERROR(IF(D4616=\"\",\"\",INDEX(Entradas!$H$3:$H$5000,MATCH(A4616,IF(Entradas!$B$3:$B$5000=D4616,Entradas!$A$3:$A$5000),1))),\"Preço não registrado\")","v":""},"",null,null,"",""]
[null,null,"",null,"","",null,{"$f":"IFERROR(IF(D4617=\"\",\"\",INDEX(Entradas!$H$3:$H$5000,MATCH(A4617,IF(Entradas!$B$3:$B$5000=D4617,Entradas!$A$3:$A$5000),1))),\"Preço não registrado\")","v":""},"",null,null,"",""]
[null,null,"",null,"","",null,{"$f":"IFERROR(IF(D4618=\"\",\"\",INDEX(Entradas!$H$3:$H$5000,MATCH(A4618,IF(Entradas!$B$3:$B$5000=D4618,Entradas!$A$3:$A$5000),1))),\"Preço não registrado\")","v":""},"",null,null,"",""]
[null,null,"",null,"","",null,{"$f":"IFERROR(IF(D4619=\"\",\"\",INDEX(Entradas!$H$3:$H$5000,MATCH(A4619,IF(Entradas!$B$3:$B$5000=D4619,Entradas!$A$3:$A$5000),1))),\"Preço não registrado\")","v":""},"",null,null,"",""]
[null,null,"",null,"","",null,{"$f":"IFERROR(IF(D4620=\"\",\"\",INDEX(Entradas!$H$3:$H$5000,MATCH(A4620,IF(Entradas!$B$3:$B$5000=D4620,Entradas!$A$3:$A$5000),1))),\"Preço não registrado\")","v":""},"",null,null,"",""]
[null,null,"",null,"","",null,{"$f":"IFERROR(IF(D4621=\"\",\"\",INDEX(Entradas!$H$3:$H$5000,MATCH(A4621,IF(Entradas!$B$3:$B$5000=D4621,Entradas!$A$3:$A$5000),1))),\"Preço não registrado\")","v":""},"",null,null,"",""]
[null,null,"",null,"","",null,{"$f":"IFERROR(IF(D4622=\"\",\"\",INDEX(Entradas!$H$3:$H$5000,MATCH(A4622,IF(Entradas!$B$3:$B$5000=D4622,Entradas!$A$3:$A$5000),1))),\"Preço não registrado\")","v":""},"",null,null,"",""]
[null,null,"",null,"","",null,{"$f":"IFERROR(IF(D4623=\"\",\"\",INDEX(Entradas!$H$3:$H$5000,MATCH(A4623,IF(Entradas!$B$3:$B$5000=D4623,Entradas!$A$3:$A$5000),1))),\"Preço não registrado\")","v":""},"",null,null,"",""]
[null,null,"",null,"","",null,{"$f":"IFERROR(IF(D4624=\"\",\"\",INDEX(Entradas!$H$3:$H$5000,MATCH(A4624,IF(Entradas!$B$3:$B$5000=D4624,Entradas!$A$3:$A$5000),1))),\"Preço não registrado\")","v":""},"",null,null,"",""]
[null,null,"",null,"","",null,{"$f":"IFERROR(IF(D4625=\"\",\"\",INDEX(Entradas!$H$3:$H$5000,MATCH(A4625,IF(Entradas!$B$3:$B$5000=D4625,Entradas!$A$3:$A$5000),1))),\"Preço não registrado\")","v":""},"",null,null,"",""]
[null,null,"",null,"","",null,{"$f":"IFERROR(IF(D4626=\"\",\"\",INDEX(Entradas!$H$3:$H$5000,MATCH(A4626,IF(Entradas!$B$3:$B$5000=D4626,Entradas!$A$3:$A$5000),1))),\"Preço não registrado\")","v":""},"",null,null,"",""]
[null,null,"",null,"","",null,{"$f":"IFERROR(IF(D4627=\"\",\"\",INDEX(Entradas!$H$3:$H$5000,MATCH(A4627,IF(Entradas!$B$3:$B$5000=D4627,Entradas!$A$3:$A$5000),1))),\"Preço não registrado\")","v":""},"",null,null,"",""]
[null,null,"",null,"","",null,{"$f":"IFERROR(IF(D4628=\"\",\"\",INDEX(Entradas!$H$3:$H$5000,MATCH(A4628,IF(Entradas!$B$3:$B$5000=D4628,Entradas!$A$3:$A$5000),1))),\"Preço não registrado\")","v":""},"",null,null,"",""]
[null,null,"",null,"","",null,{"$f":"IFERROR(IF(D4629=\"\",\"\",INDEX(Entradas!$H$3:$H$5000,MATCH(A4629,IF(Entradas!$B$3:$B$5000=D4629,Entradas!$A$3:$A$5000),1))),\"Preço não registrado\")","v":""},"",null,null,"",""]
[null,null,"",null,"","",null,{"$f":"IFERROR(IF(D4630=\"\",\"\",INDEX(Entradas!$H$3:$H$5000,MATCH(A4630,IF(Entradas!$B$3:$B$5000=D4630,Entradas!$A$3:$A$5000),1))),\"Preço não registrado\")","v":""},"",null,null,"",""]
[null,null,"",null,"","",null,{"$f":"IFERROR(IF(D4631=\"\",\"\",INDEX(Entradas!$H$3:$H$5000,MATCH(A4631,IF(Entradas!$B$3:$B$5000=D4631,Entradas!$A$3:$A$5000),1))),\"Preço não registrado\")","v":""},"",null,null,"",""]
[null,null,"",null,"","",null,{"$f":"IFERROR(IF(D4632=\"\",\"\",INDEX(Entradas!$H$3:$H$5000,MATCH(A4632,IF(Entradas!$B$3:$B$5000=D4632,Entradas!$A$3:$A$5000),1))),\"Preço não registrado\")","v":""},"",null,null,"",""]
[null,null,"",null,"","",null,{"$f":"IFERROR(IF(D4633=\"\",\"\",INDEX(Entradas!$H$3:$H$5000,MATCH(A4633,IF(Entradas!$B$3:$B$5000=D4633,Entradas!$A$3:$A$5000),1))),\"Preço não registrado\")","v":""},"",null,null,"",""]
[null,null,"",null,"","",null,{"$f":"IFERROR(IF(D4634=\"\",\"\",INDEX(Entradas!$H$3:$H$5000,MATCH(A4634,IF(Entradas!$B$3:$B$5000=D4634,Entradas!$A$3:$A$5000),1))),\"Preço não registrado\")","v":""},"",null,null,"",""]
[null,null,"",null,"","",null,{"$f":"IFERROR(IF(D4635=\"\",\"\",INDEX(Entradas!$H$3:$H$5000,MATCH(A4635,IF(Entradas!$B$3:$B$5000=D4635,Entradas!$A$3:$A$5000),1))),\"Preço não registrado\")","v":""},"",null,null,"",""]
[null,null,"",null,"","",null,{"$f":"IFERROR(IF(D4636=\"\",\"\",INDEX(Entradas!$H$3:$H$5000,MATCH(A4636,IF(Entradas!$B$3:$B$5000=D4636,Entradas!$A$3:$A$5000),1))),\"Preço não registrado\")","v":""},"",null,null,"",""]
[null,null,"",null,"","",null,{"$f":"IFERROR(IF(D4637=\"\",\"\",INDEX(Entradas!$H$3:$H$5000,MATCH(A4637,IF(Entradas!$B$3:$B$5000=D4637,Entradas!$A$3:$A$5000),1))),\"Preço não registrado\")","v":""},"",null,null,"",""]
[null,null,"",null,"","",null,{"$f":"IFERROR(IF(D4638=\"\",\"\",INDEX(Entradas!$H$3:$H$5000,MATCH(A4638,IF(Entradas!$B$3:$B$5000=D4638,Entradas!$A$3:$A$5000),1))),\"Preço não registrado\")","v":""},"",null,null,"",""]
[null,null,"",null,"","",null,{"$f":"IFERROR(IF(D4639=\"\",\"\",INDEX(Entradas!$H$3:$H$5000,MATCH(A4639,IF(Entradas!$B$3:$B$5000=D4639,Entradas!$A$3:$A$5000),1))),\"Preço não registrado\")","v":""},"",null,null,"",""]
[null,null,"",null,"","",null,{"$f":"IFERROR(IF(D4640=\"\",\"\",INDEX(Entradas!$H$3:$H$5000,MATCH(A4640,IF(Entradas!$B$3:$B$5000=D4640,Entradas!$A$3:$A$5000),1))),\"Preço não registrado\")","v":""},"",null,null,"",""]
[null,null,"",null,"","",null,{"$f":"IFERROR(IF(D4641=\"\",\"\",INDEX(Entradas!$H$3:$H$5000,MATCH(A4641,IF(Entradas!$B$3:$B$5000=D4641,Entradas!$A$3:$A$5000),1))),\"Preço não registrado\")","v":""},"",null,null,"",""]
[null,null,"",null,"","",null,{"$f":"IFERROR(IF(D4642=\"\",\"\",INDEX(Entradas!$H$3:$H$5000,MATCH(A4642,IF(Entradas!$B$3:$B$5000=D4642,Entradas!$A$3:$A$5000),1))),\"Preço não registrado\")","v":""},"",null,null,"",""]
[null,null,"",null,"","",null,{"$f":"IFERROR(IF(D4643=\"\",\"\",INDEX(Entradas!$H$3:$H$5000,MATCH(A4643,IF(Entradas!$B$3:$B$5000=D4643,Entradas!$A$3:$A$5000),1))),\"Preço não registrado\")","v":""},"",null,null,"",""]
[null,null,"",null,"","",null,{"$f":"IFERROR(IF(D4644=\"\",\"\",INDEX(Entradas!$H$3:$H$5000,MATCH(A4644,IF(Entradas!$B$3:$B$5000=D4644,Entradas!$A$3:$A$5000),1))),\"Preço não registrado\")","v":""},"",null,null,"",""]
[null,null,"",null,"","",null,{"$f":"IFERROR(IF(D4645=\"\",\"\",INDEX(Entradas!$H$3:$H$5000,MATCH(A4645,IF(Entradas!$B$3:$B$5000=D4645,Entradas!$A$3:$A$5000),1))),\"Preço não registrado\")","v":""},"",null,null,"",""]
[null,null,"",null,"","",null,{"$f":"IFERROR(IF(D4646=\"\",\"\",INDEX(Entradas!$H$3:$H$5000,MATCH(A4646,IF(Entradas!$B$3:$B$5000=D4646,Entradas!$A$3:$A$5000),1))),\"Preço não registrado\")","v":""},"",null,null,"",""]
[null,null,"",null,"","",null,{"$f":"IFERROR(IF(D4647=\"\",\"\",INDEX(Entradas!$H$3:$H$5000,MATCH(A4647,IF(Entradas!$B$3:$B$5000=D4647,Entradas!$A$3:$A$5000),1))),\"Preço não registrado\")","v":""},"",null,null,"",""]
[null,null,"",null,"","",null,{"$f":"IFERROR(IF(D4648=\"\",\"\",INDEX(Entradas!$H$3:$H$5000,MATCH(A4648,IF(Entradas!$B$3:$B$5000=D4648,Entradas!$A$3:$A$5000),1))),\"Preço não registrado\")","v":""},"",null,null,"",""]
[null,null,"",null,"","",null,{"$f":"IFERROR(IF(D4649=\"\",\"\",INDEX(Entradas!$H$3:$H$5000,MATCH(A4649,IF(Entradas!$B$3:$B$5000=D4649,Entradas!$A$3:$A$5000),1))),\"Preço não registrado\")","v":""},"",null,null,"",""]
[null,null,"",null,"","",null,{"$f":"IFERROR(IF(D4650=\"\",\"\",INDEX(Entradas!$H$3:$H$5000,MATCH(A4650,IF(Entradas!$B$3:$B$5000=D4650,Entradas!$A$3:$A$5000),1))),\"Preço não registrado\")","v":""},"",null,null,"",""]
[null,null,"",null,"","",null,{"$f":"IFERROR(IF(D4651=\"\",\"\",INDEX(Entradas!$H$3:$H$5000,MATCH(A4651,IF(Entradas!$B$3:$B$5000=D4651,Entradas!$A$3:$A$5000),1))),\"Preço não registrado\")","v":""},"",null,null,"",""]
[null,null,"",null,"","",null,{"$f":"IFERROR(IF(D4652=\"\",\"\",INDEX(Entradas!$H$3:$H$5000,MATCH(A4652,IF(Entradas!$B$3:$B$5000=D4652,Entradas!$A$3:$A$5000),1))),\"Preço não registrado\")","v":""},"",null,null,"",""]
[null,null,"",null,"","",null,{"$f":"IFERROR(IF(D4653=\"\",\"\",INDEX(Entradas!$H$3:$H$5000,MATCH(A4653,IF(Entradas!$B$3:$B$5000=D4653,Entradas!$A$3:$A$5000),1))),\"Preço não registrado\")","v":""},"",null,null,"",""]
[null,null,"",null,"","",null,{"$f":"IFERROR(IF(D4654=\"\",\"\",INDEX(Entradas!$H$3:$H$5000,MATCH(A4654,IF(Entradas!$B$3:$B$5000=D4654,Entradas!$A$3:$A$5000),1))),\"Preço não registrado\")","v":""},"",null,null,"",""]
[null,null,"",null,"","",null,{"$f":"IFERROR(IF(D4655=\"\",\"\",INDEX(Entradas!$H$3:$H$5000,MATCH(A4655,IF(Entradas!$B$3:$B$5000=D4655,Entradas!$A$3:$A$5000),1))),\"Preço não registrado\")","v":""},"",null,null,"",""]
[null,null,"",null,"","",null,{"$f":"IFERROR(IF(D4656=\"\",\"\",INDEX(Entradas!$H$3:$H$5000,MATCH(A4656,IF(Entradas!$B$3:$B$5000=D4656,Entradas!$A$3:$A$5000),1))),\"Preço não registrado\")","v":""},"",null,null,"",""]
[null,null,"",null,"","",null,{"$f":"IFERROR(IF(D4657=\"\",\"\",INDEX(Entradas!$H$3:$H$5000,MATCH(A4657,IF(Entradas!$B$3:$B$5000=D4657,Entradas!$A$3:$A$5000),1))),\"Preço não registrado\")","v":""},"",null,null,"",""]
[null,null,"",null,"","",null,{"$f":"IFERROR(IF(D4658=\"\",\"\",INDEX(Entradas!$H$3:$H$5000,MATCH(A4658,IF(Entradas!$B$3:$B$5000=D4658,Entradas!$A$3:$A$5000),1))),\"Preço não registrado\")","v":""},"",null,null,"",""]
[null,null,"",null,"","",null,{"$f":"IFERROR(IF(D4659=\"\",\"\",INDEX(Entradas!$H$3:$H$5000,MATCH(A4659,IF(Entradas!$B$3:$B$5000=D4659,Entradas!$A$3:$A$5000),1))),\"Preço não registrado\")","v":""},"",null,null,"",""]
[null,null,"",null,"","",null,{"$f":"IFERROR(IF(D4660=\"\",\"\",INDEX(Entradas!$H$3:$H$5000,MATCH(A4660,IF(Entradas!$B$3:$B$5000=D4660,Entradas!$A$3:$A$5000),1))),\"Preço não registrado\")","v":""},"",null,null,"",""]
[null,null,"",null,"","",null,{"$f":"IFERROR(IF(D4661=\"\",\"\",INDEX(Entradas!$H$3:$H$5000,MATCH(A4661,IF(Entradas!$B$3:$B$5000=D4661,Entradas!$A$3:$A$5000),1))),\"Preço não registrado\")","v":""},"",null,null,"",""]
[null,null,"",null,"","",null,{"$f":"IFERROR(IF(D4662=\"\",\"\",INDEX(Entradas!$H$3:$H$5000,MATCH(A4662,IF(Entradas!$B$3:$B$5000=D4662,Entradas!$A$3:$A$5000),1))),\"Preço não registrado\")","v":""},"",null,null,"",""]
[null,null,"",null,"","",null,{"$f":"IFERROR(IF(D4663=\"\",\"\",INDEX(Entradas!$H$3:$H$5000,MATCH(A4663,IF(Entradas!$B$3:$B$5000=D4663,Entradas!$A$3:$A$5000),1))),\"Preço não registrado\")","v":""},"",null,null,"",""]
[null,null,"",null,"","",null,{"$f":"IFERROR(IF(D4664=\"\",\"\",INDEX(Entradas!$H$3:$H$5000,MATCH(A4664,IF(Entradas!$B$3:$B$5000=D4664,Entradas!$A$3:$A$5000),1))),\"Preço não registrado\")","v":""},"",null,null,"",""]
[null,null,"",null,"","",null,{"$f":"IFERROR(IF(D4665=\"\",\"\",INDEX(Entradas!$H$3:$H$5000,MATCH(A4665,IF(Entradas!$B$3:$B$5000=D4665,Entradas!$A$3:$A$5000),1))),\"Preço não registrado\")","v":""},"",null,null,"",""]
[null,null,"",null,"","",null,{"$f":"IFERROR(IF(D4666=\"\",\"\",INDEX(Entradas!$H$3:$H$5000,MATCH(A4666,IF(Entradas!$B$3:$B$5000=D4666,Entradas!$A$3:$A$5000),1))),\"Preço não registrado\")","v":""},"",null,null,"",""]
[null,null,"",null,"","",null,{"$f":"IFERROR(IF(D4667=\"\",\"\",INDEX(Entradas!$H$3:$H$5000,MATCH(A4667,IF(Entradas!$B$3:$B$5000=D4667,Entradas!$A$3:$A$5000),1))),\"Preço não registrado\")","v":""},"",null,null,"",""]
[null,null,"",null,"","",null,{"$f":"IFERROR(IF(D4668=\"\",\"\",INDEX(Entradas!$H$3:$H$5000,MATCH(A4668,IF(Entradas!$B$3:$B$5000=D4668,Entradas!$A$3:$A$5000),1))),\"Preço não registrado\")","v":""},"",null,null,"",""]
[null,null,"",null,"","",null,{"$f":"IFERROR(IF(D4669=\"\",\"\",INDEX(Entradas!$H$3:$H$5000,MATCH(A4669,IF(Entradas!$B$3:$B$5000=D4669,Entradas!$A$3:$A$5000),1))),\"Preço não registrado\")","v":""},"",null,null,"",""]
[null,null,"",null,"","",null,{"$f":"IFERROR(IF(D4670=\"\",\"\",INDEX(Entradas!$H$3:$H$5000,MATCH(A4670,IF(Entradas!$B$3:$B$5000=D4670,Entradas!$A$3:$A$5000),1))),\"Preço não registrado\")","v":""},"",null,null,"",""]
[null,null,"",null,"","",null,{"$f":"IFERROR(IF(D4671=\"\",\"\",INDEX(Entradas!$H$3:$H$5000,MATCH(A4671,IF(Entradas!$B$3:$B$5000=D4671,Entradas!$A$3:$A$5000),1))),\"Preço não registrado\")","v":""},"",null,null,"",""]
[null,null,"",null,"","",null,{"$f":"IFERROR(IF(D4672=\"\",\"\",INDEX(Entradas!$H$3:$H$5000,MATCH(A4672,IF(Entradas!$B$3:$B$5000=D4672,Entradas!$A$3:$A$5000),1))),\"Preço não registrado\")","v":""},"",null,null,"",""]
[null,null,"",null,"","",null,{"$f":"IFERROR(IF(D4673=\"\",\"\",INDEX(Entradas!$H$3:$H$5000,MATCH(A4673,IF(Entradas!$B$3:$B$5000=D4673,Entradas!$A$3:$A$5000),1))),\"Preço não registrado\")","v":""},"",null,null,"",""]
[null,null,"",null,"","",null,{"$f":"IFERROR(IF(D4674=\"\",\"\",INDEX(Entradas!$H$3:$H$5000,MATCH(A4674,IF(Entradas!$B$3:$B$5000=D4674,Entradas!$A$3:$A$5000),1))),\"Preço não registrado\")","v":""},"",null,null,"",""]
[null,null,{"$f":"IFERROR(IF(B4675=\"\",\"\",VLOOKUP(B4675,Clientes,2,FALSE)),\"\")","v":""},null,{"$f":"IF(D4675=\"\",\"\",VLOOKUP(D4675,Itens,2,FALSE))","v":""},{"$f":"IF(D4675=\"\",\"\",VLOOKUP(D4675,Itens,3,FALSE))","v":""},null,{"$f":"IFERROR(IF(D4675=\"\",\"\",INDEX(Entradas!$H$3:$H$5000,MATCH(A4675,IF(Entradas!$B$3:$B$5000=D4675,Entradas!$A$3:$A$5000),1))),\"Preço não registrado\")","v":""},"",null,null,"",""]
[null,null,"",null,"","",null,{"$f":"IFERROR(IF(D4676=\"\",\"\",INDEX(Entradas!$H$3:$H$5000,MATCH(A4676,IF(Entradas!$B$3:$B$5000=D4676,Entradas!$A$3:$A$5000),1))),\"Preço não registrado\")","v":""},{"$f":"IFERROR(G4676*H4676,\"\")","v":""},null,null,{"$f":"IF(K4676=\"\",\"\",HYPERLINK($P$13&K4676,\"Rastreie aqui\"))","v":""},{"$f":"IF(A4676=\"\",\"\",TEXT(A4676,\"mmmm\"))","v":""}]
[null,null,"",null,"","",null,{"$f":"IFERROR(IF(D4677=\"\",\"\",INDEX(Entradas!$H$3:$H$5000,MATCH(A4677,IF(Entradas!$B$3:$B$5000=D4677,Entradas!$A$3:$A$5000),1))),\"Preço não registrado\")","v":""},"",null,null,"",""]
[null,null,"",null,"","",null,{"$f":"IFERROR(IF(D4678=\"\",\"\",INDEX(Entradas!$H$3:$H$5000,MATCH(A4678,IF(Entradas!$B$3:$B$5000=D4678,Entradas!$A$3:$A$5000),1))),\"Preço não registrado\")","v":""},"",null,null,"",""]
[null,null,"",null,"","",null,{"$f":"IFERROR(IF(D4679=\"\",\"\",INDEX(Entradas!$H$3:$H$5000,MATCH(A4679,IF(Entradas!$B$3:$B$5000=D4679,Entradas!$A$3:$A$5000),1))),\"Preço não registrado\")","v":""},"",null,null,"",""]
[null,null,"",null,"","",null,{"$f":"IFERROR(IF(D4680=\"\",\"\",INDEX(Entradas!$H$3:$H$5000,MATCH(A4680,IF(Entradas!$B$3:$B$5000=D4680,Entradas!$A$3:$A$5000),1))),\"Preço não registrado\")","v":""},"",null,null,"",""]
[null,null,"",null,"","",null,{"$f":"IFERROR(IF(D4681=\"\",\"\",INDEX(Entradas!$H$3:$H$5000,MATCH(A4681,IF(Entradas!$B$3:$B$5000=D4681,Entradas!$A$3:$A$5000),1))),\"Preço não registrado\")","v":""},"",null,null,"",""]
[null,null,"",null,"","",null,{"$f":"IFERROR(IF(D4682=\"\",\"\",INDEX(Entradas!$H$3:$H$5000,MATCH(A4682,IF(Entradas!$B$3:$B$5000=D4682,Entradas!$A$3:$A$5000),1))),\"Preço não registrado\")","v":""},"",null,null,"",""]
[null,null,"",null,"","",null,{"$f":"IFERROR(IF(D4683=\"\",\"\",INDEX(Entradas!$H$3:$H$5000,MATCH(A4683,IF(Entradas!$B$3:$B$5000=D4683,Entradas!$A$3:$A$5000),1))),\"Preço não registrado\")","v":""},"",null,null,"",""]
[null,null,"",null,"","",null,{"$f":"IFERROR(IF(D4684=\"\",\"\",INDEX(Entradas!$H$3:$H$5000,MATCH(A4684,IF(Entradas!$B$3:$B$5000=D4684,Entradas!$A$3:$A$5000),1))),\"Preço não registrado\")","v":""},"",null,null,"",""]
[null,null,"",null,"","",null,{"$f":"IFERROR(IF(D4685=\"\",\"\",INDEX(Entradas!$H$3:$H$5000,MATCH(A4685,IF(Entradas!$B$3:$B$5000=D4685,Entradas!$A$3:$A$5000),1))),\"Preço não registrado\")","v":""},"",null,null,"",""]
[null,null,"",null,"","",null,{"$f":"IFERROR(IF(D4686=\"\",\"\",INDEX(Entradas!$H$3:$H$5000,MATCH(A4686,IF(Entradas!$B$3:$B$5000=D4686,Entradas!$A$3:$A$5000),1))),\"Preço não registrado\")","v":""},"",null,null,"",""]
[null,null,"",null,"","",null,{"$f":"IFERROR(IF(D4687=\"\",\"\",INDEX(Entradas!$H$3:$H$5000,MATCH(A4687,IF(Entradas!$B$3:$B$5000=D4687,Entradas!$A$3:$A$5000),1))),\"Preço não registrado\")","v":""},"",null,null,"",""]
[null,null,"",null,"","",null,{"$f":"IFERROR(IF(D4688=\"\",\"\",INDEX(Entradas!$H$3:$H$5000,MATCH(A4688,IF(Entradas!$B$3:$B$5000=D4688,Entradas!$A$3:$A$5000),1))),\"Preço não registrado\")","v":""},"",null,null,"",""]
[null,null,"",null,"","",null,{"$f":"IFERROR(IF(D4689=\"\",\"\",INDEX(Entradas!$H$3:$H$5000,MATCH(A4689,IF(Entradas!$B$3:$B$5000=D4689,Entradas!$A$3:$A$5000),1))),\"Preço não registrado\")","v":""},"",null,null,"",""]
[null,null,"",null,"","",null,{"$f":"IFERROR(IF(D4690=\"\",\"\",INDEX(Entradas!$H$3:$H$5000,MATCH(A4690,IF(Entradas!$B$3:$B$5000=D4690,Entradas!$A$3:$A$5000),1))),\"Preço não registrado\")","v":""},"",null,null,"",""]
[null,null,"",null,"","",null,{"$f":"IFERROR(IF(D4691=\"\",\"\",INDEX(Entradas!$H$3:$H$5000,MATCH(A4691,IF(Entradas!$B$3:$B$5000=D4691,Entradas!$A$3:$A$5000),1))),\"Preço não registrado\")","v":""},"",null,null,"",""]
[null,null,"",null,"","",null,{"$f":"IFERROR(IF(D4692=\"\",\"\",INDEX(Entradas!$H$3:$H$5000,MATCH(A4692,IF(Entradas!$B$3:$B$5000=D4692,Entradas!$A$3:$A$5000),1))),\"Preço não registrado\")","v":""},"",null,null,"",""]
[null,null,"",null,"","",null,{"$f":"IFERROR(IF(D4693=\"\",\"\",INDEX(Entradas!$H$3:$H$5000,MATCH(A4693,IF(Entradas!$B$3:$B$5000=D4693,Entradas!$A$3:$A$5000),1))),\"Preço não registrado\")","v":""},"",null,null,"",""]
[null,null,"",null,"","",null,{"$f":"IFERROR(IF(D4694=\"\",\"\",INDEX(Entradas!$H$3:$H$5000,MATCH(A4694,IF(Entradas!$B$3:$B$5000=D4694,Entradas!$A$3:$A$5000),1))),\"Preço não registrado\")","v":""},"",null,null,"",""]
[null,null,"",null,"","",null,{"$f":"IFERROR(IF(D4695=\"\",\"\",INDEX(Entradas!$H$3:$H$5000,MATCH(A4695,IF(Entradas!$B$3:$B$5000=D4695,Entradas!$A$3:$A$5000),1))),\"Preço não registrado\")","v":""},"",null,null,"",""]
[null,null,"",null,"","",null,{"$f":"IFERROR(IF(D4696=\"\",\"\",INDEX(Entradas!$H$3:$H$5000,MATCH(A4696,IF(Entradas!$B$3:$B$5000=D4696,Entradas!$A$3:$A$5000),1))),\"Preço não registrado\")","v":""},"",null,null,"",""]
[null,null,"",null,"","",null,{"$f":"IFERROR(IF(D4697=\"\",\"\",INDEX(Entradas!$H$3:$H$5000,MATCH(A4697,IF(Entradas!$B$3:$B$5000=D4697,Entradas!$A$3:$A$5000),1))),\"Preço não registrado\")","v":""},"",null,null,"",""]
[null,null,"",null,"","",null,{"$f":"IFERROR(IF(D4698=\"\",\"\",INDEX(Entradas!$H$3:$H$5000,MATCH(A4698,IF(Entradas!$B$3:$B$5000=D4698,Entradas!$A$3:$A$5000),1))),\"Preço não registrado\")","v":""},"",null,null,"",""]
[null,null,"",null,"","",null,{"$f":"IFERROR(IF(D4699=\"\",\"\",INDEX(Entradas!$H$3:$H$5000,MATCH(A4699,IF(Entradas!$B$3:$B$5000=D4699,Entradas!$A$3:$A$5000),1))),\"Preço não registrado\")","v":""},"",null,null,"",""]
[null,null,"",null,"","",null,{"$f":"IFERROR(IF(D4700=\"\",\"\",INDEX(Entradas!$H$3:$H$5000,MATCH(A4700,IF(Entradas!$B$3:$B$5000=D4700,Entradas!$A$3:$A$5000),1))),\"Preço não registrado\")","v":""},"",null,null,"",""]
[null,null,"",null,"","",null,{"$f":"IFERROR(IF(D4701=\"\",\"\",INDEX(Entradas!$H$3:$H$5000,MATCH(A4701,IF(Entradas!$B$3:$B$5000=D4701,Entradas!$A$3:$A$5000),1))),\"Preço não registrado\")","v":""},"",null,null,"",""]
[null,null,"",null,"","",null,{"$f":"IFERROR(IF(D4702=\"\",\"\",INDEX(Entradas!$H$3:$H$5000,MATCH(A4702,IF(Entradas!$B$3:$B$5000=D4702,Entradas!$A$3:$A$5000),1))),\"Preço não registrado\")","v":""},"",null,null,"",""]
[null,null,"",null,"","",null,{"$f":"IFERROR(IF(D4703=\"\",\"\",INDEX(Entradas!$H$3:$H$5000,MATCH(A4703,IF(Entradas!$B$3:$B$5000=D4703,Entradas!$A$3:$A$5000),1))),\"Preço não registrado\")","v":""},"",null,null,"",""]
[null,null,"",null,"","",null,{"$f":"IFERROR(IF(D4704=\"\",\"\",INDEX(Entradas!$H$3:$H$5000,MATCH(A4704,IF(Entradas!$B$3:$B$5000=D4704,Entradas!$A$3:$A$5000),1))),\"Preço não registrado\")","v":""},"",null,null,"",""]
[null,null,"",null,"","",null,{"$f":"IFERROR(IF(D4705=\"\",\"\",INDEX(Entradas!$H$3:$H$5000,MATCH(A4705,IF(Entradas!$B$3:$B$5000=D4705,Entradas!$A$3:$A$5000),1))),\"Preço não registrado\")","v":""},"",null,null,"",""]
[null,null,"",null,"","",null,{"$f":"IFERROR(IF(D4706=\"\",\"\",INDEX(Entradas!$H$3:$H$5000,MATCH(A4706,IF(Entradas!$B$3:$B$5000=D4706,Entradas!$A$3:$A$5000),1))),\"Preço não registrado\")","v":""},"",null,null,"",""]
[null,null,"",null,"","",null,{"$f":"IFERROR(IF(D4707=\"\",\"\",INDEX(Entradas!$H$3:$H$5000,MATCH(A4707,IF(Entradas!$B$3:$B$5000=D4707,Entradas!$A$3:$A$5000),1))),\"Preço não registrado\")","v":""},"",null,null,"",""]
[null,null,"",null,"","",null,{"$f":"IFERROR(IF(D4708=\"\",\"\",INDEX(Entradas!$H$3:$H$5000,MATCH(A4708,IF(Entradas!$B$3:$B$5000=D4708,Entradas!$A$3:$A$5000),1))),\"Preço não registrado\")","v":""},"",null,null,"",""]
[null,null,"",null,"","",null,{"$f":"IFERROR(IF(D4709=\"\",\"\",INDEX(Entradas!$H$3:$H$5000,MATCH(A4709,IF(Entradas!$B$3:$B$5000=D4709,Entradas!$A$3:$A$5000),1))),\"Preço não registrado\")","v":""},"",null,null,"",""]
[null,null,"",null,"","",null,{"$f":"IFERROR(IF(D4710=\"\",\"\",INDEX(Entradas!$H$3:$H$5000,MATCH(A4710,IF(Entradas!$B$3:$B$5000=D4710,Entradas!$A$3:$A$5000),1))),\"Preço não registrado\")","v":""},"",null,null,"",""]
[null,null,"",null,"","",null,{"$f":"IFERROR(IF(D4711=\"\",\"\",INDEX(Entradas!$H$3:$H$5000,MATCH(A4711,IF(Entradas!$B$3:$B$5000=D4711,Entradas!$A$3:$A$5000),1))),\"Preço não registrado\")","v":""},"",null,null,"",""]
[null,null,"",null,"","",null,{"$f":"IFERROR(IF(D4712=\"\",\"\",INDEX(Entradas!$H$3:$H$5000,MATCH(A4712,IF(Entradas!$B$3:$B$5000=D4712,Entradas!$A$3:$A$5000),1))),\"Preço não registrado\")","v":""},"",null,null,"",""]
[null,null,"",null,"","",null,{"$f":"IFERROR(IF(D4713=\"\",\"\",INDEX(Entradas!$H$3:$H$5000,MATCH(A4713,IF(Entradas!$B$3:$B$5000=D4713,Entradas!$A$3:$A$5000),1))),\"Preço não registrado\")","v":""},"",null,null,"",""]
[null,null,"",null,"","",null,{"$f":"IFERROR(IF(D4714=\"\",\"\",INDEX(Entradas!$H$3:$H$5000,MATCH(A4714,IF(Entradas!$B$3:$B$5000=D4714,Entradas!$A$3:$A$5000),1))),\"Preço não registrado\")","v":""},"",null,null,"",""]
[null,null,"",null,"","",null,{"$f":"IFERROR(IF(D4715=\"\",\"\",INDEX(Entradas!$H$3:$H$5000,MATCH(A4715,IF(Entradas!$B$3:$B$5000=D4715,Entradas!$A$3:$A$5000),1))),\"Preço não registrado\")","v":""},"",null,null,"",""]
[null,null,"",null,"","",null,{"$f":"IFERROR(IF(D4716=\"\",\"\",INDEX(Entradas!$H$3:$H$5000,MATCH(A4716,IF(Entradas!$B$3:$B$5000=D4716,Entradas!$A$3:$A$5000),1))),\"Preço não registrado\")","v":""},"",null,null,"",""]
[null,null,"",null,"","",null,{"$f":"IFERROR(IF(D4717=\"\",\"\",INDEX(Entradas!$H$3:$H$5000,MATCH(A4717,IF(Entradas!$B$3:$B$5000=D4717,Entradas!$A$3:$A$5000),1))),\"Preço não registrado\")","v":""},"",null,null,"",""]
[null,null,"",null,"","",null,{"$f":"IFERROR(IF(D4718=\"\",\"\",INDEX(Entradas!$H$3:$H$5000,MATCH(A4718,IF(Entradas!$B$3:$B$5000=D4718,Entradas!$A$3:$A$5000),1))),\"Preço não registrado\")","v":""},"",null,null,"",""]
[null,null,"",null,"","",null,{"$f":"IFERROR(IF(D4719=\"\",\"\",INDEX(Entradas!$H$3:$H$5000,MATCH(A4719,IF(Entradas!$B$3:$B$5000=D4719,Entradas!$A$3:$A$5000),1))),\"Preço não registrado\")","v":""},"",null,null,"",""]
[null,null,"",null,"","",null,{"$f":"IFERROR(IF(D4720=\"\",\"\",INDEX(Entradas!$H$3:$H$5000,MATCH(A4720,IF(Entradas!$B$3:$B$5000=D4720,Entradas!$A$3:$A$5000),1))),\"Preço não registrado\")","v":""},"",null,null,"",""]
[null,null,"",null,"","",null,{"$f":"IFERROR(IF(D4721=\"\",\"\",INDEX(Entradas!$H$3:$H$5000,MATCH(A4721,IF(Entradas!$B$3:$B$5000=D4721,Entradas!$A$3:$A$5000),1))),\"Preço não registrado\")","v":""},"",null,null,"",""]
[null,null,"",null,"","",null,{"$f":"IFERROR(IF(D4722=\"\",\"\",INDEX(Entradas!$H$3:$H$5000,MATCH(A4722,IF(Entradas!$B$3:$B$5000=D4722,Entradas!$A$3:$A$5000),1))),\"Preço não registrado\")","v":""},"",null,null,"",""]
[null,null,"",null,"","",null,{"$f":"IFERROR(IF(D4723=\"\",\"\",INDEX(Entradas!$H$3:$H$5000,MATCH(A4723,IF(Entradas!$B$3:$B$5000=D4723,Entradas!$A$3:$A$5000),1))),\"Preço não registrado\")","v":""},"",null,null,"",""]
[null,null,"",null,"","",null,{"$f":"IFERROR(IF(D4724=\"\",\"\",INDEX(Entradas!$H$3:$H$5000,MATCH(A4724,IF(Entradas!$B$3:$B$5000=D4724,Entradas!$A$3:$A$5000),1))),\"Preço não registrado\")","v":""},"",null,null,"",""]
[null,null,"",null,"","",null,{"$f":"IFERROR(IF(D4725=\"\",\"\",INDEX(Entradas!$H$3:$H$5000,MATCH(A4725,IF(Entradas!$B$3:$B$5000=D4725,Entradas!$A$3:$A$5000),1))),\"Preço não registrado\")","v":""},"",null,null,"",""]
[null,null,"",null,"","",null,{"$f":"IFERROR(IF(D4726=\"\",\"\",INDEX(Entradas!$H$3:$H$5000,MATCH(A4726,IF(Entradas!$B$3:$B$5000=D4726,Entradas!$A$3:$A$5000),1))),\"Preço não registrado\")","v":""},"",null,null,"",""]
[null,null,"",null,"","",null,{"$f":"IFERROR(IF(D4727=\"\",\"\",INDEX(Entradas!$H$3:$H$5000,MATCH(A4727,IF(Entradas!$B$3:$B$5000=D4727,Entradas!$A$3:$A$5000),1))),\"Preço não registrado\")","v":""},"",null,null,"",""]
[null,null,"",null,"","",null,{"$f":"IFERROR(IF(D4728=\"\",\"\",INDEX(Entradas!$H$3:$H$5000,MATCH(A4728,IF(Entradas!$B$3:$B$5000=D4728,Entradas!$A$3:$A$5000),1))),\"Preço não registrado\")","v":""},"",null,null,"",""]
[null,null,"",null,"","",null,{"$f":"IFERROR(IF(D4729=\"\",\"\",INDEX(Entradas!$H$3:$H$5000,MATCH(A4729,IF(Entradas!$B$3:$B$5000=D4729,Entradas!$A$3:$A$5000),1))),\"Preço não registrado\")","v":""},"",null,null,"",""]
[null,null,"",null,"","",null,{"$f":"IFERROR(IF(D4730=\"\",\"\",INDEX(Entradas!$H$3:$H$5000,MATCH(A4730,IF(Entradas!$B$3:$B$5000=D4730,Entradas!$A$3:$A$5000),1))),\"Preço não registrado\")","v":""},"",null,null,"",""]
[null,null,"",null,"","",null,{"$f":"IFERROR(IF(D4731=\"\",\"\",INDEX(Entradas!$H$3:$H$5000,MATCH(A4731,IF(Entradas!$B$3:$B$5000=D4731,Entradas!$A$3:$A$5000),1))),\"Preço não registrado\")","v":""},"",null,null,"",""]
[null,null,"",null,"","",null,{"$f":"IFERROR(IF(D4732=\"\",\"\",INDEX(Entradas!$H$3:$H$5000,MATCH(A4732,IF(Entradas!$B$3:$B$5000=D4732,Entradas!$A$3:$A$5000),1))),\"Preço não registrado\")","v":""},"",null,null,"",""]
[null,null,"",null,"","",null,{"$f":"IFERROR(IF(D4733=\"\",\"\",INDEX(Entradas!$H$3:$H$5000,MATCH(A4733,IF(Entradas!$B$3:$B$5000=D4733,Entradas!$A$3:$A$5000),1))),\"Preço não registrado\")","v":""},"",null,null,"",""]
[null,null,"",null,"","",null,{"$f":"IFERROR(IF(D4734=\"\",\"\",INDEX(Entradas!$H$3:$H$5000,MATCH(A4734,IF(Entradas!$B$3:$B$5000=D4734,Entradas!$A$3:$A$5000),1))),\"Preço não registrado\")","v":""},"",null,null,"",""]
[null,null,"",null,"","",null,{"$f":"IFERROR(IF(D4735=\"\",\"\",INDEX(Entradas!$H$3:$H$5000,MATCH(A4735,IF(Entradas!$B$3:$B$5000=D4735,Entradas!$A$3:$A$5000),1))),\"Preço não registrado\")","v":""},"",null,null,"",""]
[null,null,"",null,"","",null,{"$f":"IFERROR(IF(D4736=\"\",\"\",INDEX(Entradas!$H$3:$H$5000,MATCH(A4736,IF(Entradas!$B$3:$B$5000=D4736,Entradas!$A$3:$A$5000),1))),\"Preço não registrado\")","v":""},"",null,null,"",""]
[null,null,"",null,"","",null,{"$f":"IFERROR(IF(D4737=\"\",\"\",INDEX(Entradas!$H$3:$H$5000,MATCH(A4737,IF(Entradas!$B$3:$B$5000=D4737,Entradas!$A$3:$A$5000),1))),\"Preço não registrado\")","v":""},"",null,null,"",""]
[null,null,"",null,"","",null,{"$f":"IFERROR(IF(D4738=\"\",\"\",INDEX(Entradas!$H$3:$H$5000,MATCH(A4738,IF(Entradas!$B$3:$B$5000=D4738,Entradas!$A$3:$A$5000),1))),\"Preço não registrado\")","v":""},"",null,null,"",""]
[null,null,{"$f":"IFERROR(IF(B4739=\"\",\"\",VLOOKUP(B4739,Clientes,2,FALSE)),\"\")","v":""},null,{"$f":"IF(D4739=\"\",\"\",VLOOKUP(D4739,Itens,2,FALSE))","v":""},{"$f":"IF(D4739=\"\",\"\",VLOOKUP(D4739,Itens,3,FALSE))","v":""},null,{"$f":"IFERROR(IF(D4739=\"\",\"\",INDEX(Entradas!$H$3:$H$5000,MATCH(A4739,IF(Entradas!$B$3:$B$5000=D4739,Entradas!$A$3:$A$5000),1))),\"Preço não registrado\")","v":""},"",null,null,"",""]
[null,null,"",null,"","",null,{"$f":"IFERROR(IF(D4740=\"\",\"\",INDEX(Entradas!$H$3:$H$5000,MATCH(A4740,IF(Entradas!$B$3:$B$5000=D4740,Entradas!$A$3:$A$5000),1))),\"Preço não registrado\")","v":""},{"$f":"IFERROR(G4740*H4740,\"\")","v":""},null,null,{"$f":"IF(K4740=\"\",\"\",HYPERLINK($P$13&K4740,\"Rastreie aqui\"))","v":""},{"$f":"IF(A4740=\"\",\"\",TEXT(A4740,\"mmmm\"))","v":""}]
[null,null,"",null,"","",null,{"$f":"IFERROR(IF(D4741=\"\",\"\",INDEX(Entradas!$H$3:$H$5000,MATCH(A4741,IF(Entradas!$B$3:$B$5000=D4741,Entradas!$A$3:$A$5000),1))),\"Preço não registrado\")","v":""},"",null,null,"",""]
[null,null,"",null,"","",null,{"$f":"IFERROR(IF(D4742=\"\",\"\",INDEX(Entradas!$H$3:$H$5000,MATCH(A4742,IF(Entradas!$B$3:$B$5000=D4742,Entradas!$A$3:$A$5000),1))),\"Preço não registrado\")","v":""},"",null,null,"",""]
[null,null,"",null,"","",null,{"$f":"IFERROR(IF(D4743=\"\",\"\",INDEX(Entradas!$H$3:$H$5000,MATCH(A4743,IF(Entradas!$B$3:$B$5000=D4743,Entradas!$A$3:$A$5000),1))),\"Preço não registrado\")","v":""},"",null,null,"",""]
[null,null,"",null,"","",null,{"$f":"IFERROR(IF(D4744=\"\",\"\",INDEX(Entradas!$H$3:$H$5000,MATCH(A4744,IF(Entradas!$B$3:$B$5000=D4744,Entradas!$A$3:$A$5000),1))),\"Preço não registrado\")","v":""},"",null,null,"",""]
[null,null,"",null,"","",null,{"$f":"IFERROR(IF(D4745=\"\",\"\",INDEX(Entradas!$H$3:$H$5000,MATCH(A4745,IF(Entradas!$B$3:$B$5000=D4745,Entradas!$A$3:$A$5000),1))),\"Preço não registrado\")","v":""},"",null,null,"",""]
[null,null,"",null,"","",null,{"$f":"IFERROR(IF(D4746=\"\",\"\",INDEX(Entradas!$H$3:$H$5000,MATCH(A4746,IF(Entradas!$B$3:$B$5000=D4746,Entradas!$A$3:$A$5000),1))),\"Preço não registrado\")","v":""},"",null,null,"",""]
[null,null,"",null,"","",null,{"$f":"IFERROR(IF(D4747=\"\",\"\",INDEX(Entradas!$H$3:$H$5000,MATCH(A4747,IF(Entradas!$B$3:$B$5000=D4747,Entradas!$A$3:$A$5000),1))),\"Preço não registrado\")","v":""},"",null,null,"",""]
[null,null,"",null,"","",null,{"$f":"IFERROR(IF(D4748=\"\",\"\",INDEX(Entradas!$H$3:$H$5000,MATCH(A4748,IF(Entradas!$B$3:$B$5000=D4748,Entradas!$A$3:$A$5000),1))),\"Preço não registrado\")","v":""},"",null,null,"",""]
[null,null,"",null,"","",null,{"$f":"IFERROR(IF(D4749=\"\",\"\",INDEX(Entradas!$H$3:$H$5000,MATCH(A4749,IF(Entradas!$B$3:$B$5000=D4749,Entradas!$A$3:$A$5000),1))),\"Preço não registrado\")","v":""},"",null,null,"",""]
[null,null,"",null,"","",null,{"$f":"IFERROR(IF(D4750=\"\",\"\",INDEX(Entradas!$H$3:$H$5000,MATCH(A4750,IF(Entradas!$B$3:$B$5000=D4750,Entradas!$A$3:$A$5000),1))),\"Preço não registrado\")","v":""},"",null,null,"",""]
[null,null,"",null,"","",null,{"$f":"IFERROR(IF(D4751=\"\",\"\",INDEX(Entradas!$H$3:$H$5000,MATCH(A4751,IF(Entradas!$B$3:$B$5000=D4751,Entradas!$A$3:$A$5000),1))),\"Preço não registrado\")","v":""},"",null,null,"",""]
[null,null,"",null,"","",null,{"$f":"IFERROR(IF(D4752=\"\",\"\",INDEX(Entradas!$H$3:$H$5000,MATCH(A4752,IF(Entradas!$B$3:$B$5000=D4752,Entradas!$A$3:$A$5000),1))),\"Preço não registrado\")","v":""},"",null,null,"",""]
[null,null,"",null,"","",null,{"$f":"IFERROR(IF(D4753=\"\",\"\",INDEX(Entradas!$H$3:$H$5000,MATCH(A4753,IF(Entradas!$B$3:$B$5000=D4753,Entradas!$A$3:$A$5000),1))),\"Preço não registrado\")","v":""},"",null,null,"",""]
[null,null,"",null,"","",null,{"$f":"IFERROR(IF(D4754=\"\",\"\",INDEX(Entradas!$H$3:$H$5000,MATCH(A4754,IF(Entradas!$B$3:$B$5000=D4754,Entradas!$A$3:$A$5000),1))),\"Preço não registrado\")","v":""},"",null,null,"",""]
[null,null,"",null,"","",null,{"$f":"IFERROR(IF(D4755=\"\",\"\",INDEX(Entradas!$H$3:$H$5000,MATCH(A4755,IF(Entradas!$B$3:$B$5000=D4755,Entradas!$A$3:$A$5000),1))),\"Preço não registrado\")","v":""},"",null,null,"",""]
[null,null,"",null,"","",null,{"$f":"IFERROR(IF(D4756=\"\",\"\",INDEX(Entradas!$H$3:$H$5000,MATCH(A4756,IF(Entradas!$B$3:$B$5000=D4756,Entradas!$A$3:$A$5000),1))),\"Preço não registrado\")","v":""},"",null,null,"",""]
[null,null,"",null,"","",null,{"$f":"IFERROR(IF(D4757=\"\",\"\",INDEX(Entradas!$H$3:$H$5000,MATCH(A4757,IF(Entradas!$B$3:$B$5000=D4757,Entradas!$A$3:$A$5000),1))),\"Preço não registrado\")","v":""},"",null,null,"",""]
[null,null,"",null,"","",null,{"$f":"IFERROR(IF(D4758=\"\",\"\",INDEX(Entradas!$H$3:$H$5000,MATCH(A4758,IF(Entradas!$B$3:$B$5000=D4758,Entradas!$A$3:$A$5000),1))),\"Preço não registrado\")","v":""},"",null,null,"",""]
[null,null,"",null,"","",null,{"$f":"IFERROR(IF(D4759=\"\",\"\",INDEX(Entradas!$H$3:$H$5000,MATCH(A4759,IF(Entradas!$B$3:$B$5000=D4759,Entradas!$A$3:$A$5000),1))),\"Preço não registrado\")","v":""},"",null,null,"",""]
[null,null,"",null,"","",null,{"$f":"IFERROR(IF(D4760=\"\",\"\",INDEX(Entradas!$H$3:$H$5000,MATCH(A4760,IF(Entradas!$B$3:$B$5000=D4760,Entradas!$A$3:$A$5000),1))),\"Preço não registrado\")","v":""},"",null,null,"",""]
[null,null,"",null,"","",null,{"$f":"IFERROR(IF(D4761=\"\",\"\",INDEX(Entradas!$H$3:$H$5000,MATCH(A4761,IF(Entradas!$B$3:$B$5000=D4761,Entradas!$A$3:$A$5000),1))),\"Preço não registrado\")","v":""},"",null,null,"",""]
[null,null,"",null,"","",null,{"$f":"IFERROR(IF(D4762=\"\",\"\",INDEX(Entradas!$H$3:$H$5000,MATCH(A4762,IF(Entradas!$B$3:$B$5000=D4762,Entradas!$A$3:$A$5000),1))),\"Preço não registrado\")","v":""},"",null,null,"",""]
[null,null,"",null,"","",null,{"$f":"IFERROR(IF(D4763=\"\",\"\",INDEX(Entradas!$H$3:$H$5000,MATCH(A4763,IF(Entradas!$B$3:$B$5000=D4763,Entradas!$A$3:$A$5000),1))),\"Preço não registrado\")","v":""},"",null,null,"",""]
[null,null,"",null,"","",null,{"$f":"IFERROR(IF(D4764=\"\",\"\",INDEX(Entradas!$H$3:$H$5000,MATCH(A4764,IF(Entradas!$B$3:$B$5000=D4764,Entradas!$A$3:$A$5000),1))),\"Preço não registrado\")","v":""},"",null,null,"",""]
[null,null,"",null,"","",null,{"$f":"IFERROR(IF(D4765=\"\",\"\",INDEX(Entradas!$H$3:$H$5000,MATCH(A4765,IF(Entradas!$B$3:$B$5000=D4765,Entradas!$A$3:$A$5000),1))),\"Preço não registrado\")","v":""},"",null,null,"",""]
[null,null,"",null,"","",null,{"$f":"IFERROR(IF(D4766=\"\",\"\",INDEX(Entradas!$H$3:$H$5000,MATCH(A4766,IF(Entradas!$B$3:$B$5000=D4766,Entradas!$A$3:$A$5000),1))),\"Preço não registrado\")","v":""},"",null,null,"",""]
[null,null,"",null,"","",null,{"$f":"IFERROR(IF(D4767=\"\",\"\",INDEX(Entradas!$H$3:$H$5000,MATCH(A4767,IF(Entradas!$B$3:$B$5000=D4767,Entradas!$A$3:$A$5000),1))),\"Preço não registrado\")","v":""},"",null,null,"",""]
[null,null,"",null,"","",null,{"$f":"IFERROR(IF(D4768=\"\",\"\",INDEX(Entradas!$H$3:$H$5000,MATCH(A4768,IF(Entradas!$B$3:$B$5000=D4768,Entradas!$A$3:$A$5000),1))),\"Preço não registrado\")","v":""},"",null,null,"",""]
[null,null,"",null,"","",null,{"$f":"IFERROR(IF(D4769=\"\",\"\",INDEX(Entradas!$H$3:$H$5000,MATCH(A4769,IF(Entradas!$B$3:$B$5000=D4769,Entradas!$A$3:$A$5000),1))),\"Preço não registrado\")","v":""},"",null,null,"",""]
[null,null,"",null,"","",null,{"$f":"IFERROR(IF(D4770=\"\",\"\",INDEX(Entradas!$H$3:$H$5000,MATCH(A4770,IF(Entradas!$B$3:$B$5000=D4770,Entradas!$A$3:$A$5000),1))),\"Preço não registrado\")","v":""},"",null,null,"",""]
[null,null,"",null,"","",null,{"$f":"IFERROR(IF(D4771=\"\",\"\",INDEX(Entradas!$H$3:$H$5000,MATCH(A4771,IF(Entradas!$B$3:$B$5000=D4771,Entradas!$A$3:$A$5000),1))),\"Preço não registrado\")","v":""},"",null,null,"",""]
[null,null,"",null,"","",null,{"$f":"IFERROR(IF(D4772=\"\",\"\",INDEX(Entradas!$H$3:$H$5000,MATCH(A4772,IF(Entradas!$B$3:$B$5000=D4772,Entradas!$A$3:$A$5000),1))),\"Preço não registrado\")","v":""},"",null,null,"",""]
[null,null,"",null,"","",null,{"$f":"IFERROR(IF(D4773=\"\",\"\",INDEX(Entradas!$H$3:$H$5000,MATCH(A4773,IF(Entradas!$B$3:$B$5000=D4773,Entradas!$A$3:$A$5000),1))),\"Preço não registrado\")","v":""},"",null,null,"",""]
[null,null,"",null,"","",null,{"$f":"IFERROR(IF(D4774=\"\",\"\",INDEX(Entradas!$H$3:$H$5000,MATCH(A4774,IF(Entradas!$B$3:$B$5000=D4774,Entradas!$A$3:$A$5000),1))),\"Preço não registrado\")","v":""},"",null,null,"",""]
[null,null,"",null,"","",null,{"$f":"IFERROR(IF(D4775=\"\",\"\",INDEX(Entradas!$H$3:$H$5000,MATCH(A4775,IF(Entradas!$B$3:$B$5000=D4775,Entradas!$A$3:$A$5000),1))),\"Preço não registrado\")","v":""},"",null,null,"",""]
[null,null,"",null,"","",null,{"$f":"IFERROR(IF(D4776=\"\",\"\",INDEX(Entradas!$H$3:$H$5000,MATCH(A4776,IF(Entradas!$B$3:$B$5000=D4776,Entradas!$A$3:$A$5000),1))),\"Preço não registrado\")","v":""},"",null,null,"",""]
[null,null,"",null,"","",null,{"$f":"IFERROR(IF(D4777=\"\",\"\",INDEX(Entradas!$H$3:$H$5000,MATCH(A4777,IF(Entradas!$B$3:$B$5000=D4777,Entradas!$A$3:$A$5000),1))),\"Preço não registrado\")","v":""},"",null,null,"",""]
[null,null,"",null,"","",null,{"$f":"IFERROR(IF(D4778=\"\",\"\",INDEX(Entradas!$H$3:$H$5000,MATCH(A4778,IF(Entradas!$B$3:$B$5000=D4778,Entradas!$A$3:$A$5000),1))),\"Preço não registrado\")","v":""},"",null,null,"",""]
[null,null,"",null,"","",null,{"$f":"IFERROR(IF(D4779=\"\",\"\",INDEX(Entradas!$H$3:$H$5000,MATCH(A4779,IF(Entradas!$B$3:$B$5000=D4779,Entradas!$A$3:$A$5000),1))),\"Preço não registrado\")","v":""},"",null,null,"",""]
[null,null,"",null,"","",null,{"$f":"IFERROR(IF(D4780=\"\",\"\",INDEX(Entradas!$H$3:$H$5000,MATCH(A4780,IF(Entradas!$B$3:$B$5000=D4780,Entradas!$A$3:$A$5000),1))),\"Preço não registrado\")","v":""},"",null,null,"",""]
[null,null,"",null,"","",null,{"$f":"IFERROR(IF(D4781=\"\",\"\",INDEX(Entradas!$H$3:$H$5000,MATCH(A4781,IF(Entradas!$B$3:$B$5000=D4781,Entradas!$A$3:$A$5000),1))),\"Preço não registrado\")","v":""},"",null,null,"",""]
[null,null,"",null,"","",null,{"$f":"IFERROR(IF(D4782=\"\",\"\",INDEX(Entradas!$H$3:$H$5000,MATCH(A4782,IF(Entradas!$B$3:$B$5000=D4782,Entradas!$A$3:$A$5000),1))),\"Preço não registrado\")","v":""},"",null,null,"",""]
[null,null,"",null,"","",null,{"$f":"IFERROR(IF(D4783=\"\",\"\",INDEX(Entradas!$H$3:$H$5000,MATCH(A4783,IF(Entradas!$B$3:$B$5000=D4783,Entradas!$A$3:$A$5000),1))),\"Preço não registrado\")","v":""},"",null,null,"",""]
[null,null,"",null,"","",null,{"$f":"IFERROR(IF(D4784=\"\",\"\",INDEX(Entradas!$H$3:$H$5000,MATCH(A4784,IF(Entradas!$B$3:$B$5000=D4784,Entradas!$A$3:$A$5000),1))),\"Preço não registrado\")","v":""},"",null,null,"",""]
[null,null,"",null,"","",null,{"$f":"IFERROR(IF(D4785=\"\",\"\",INDEX(Entradas!$H$3:$H$5000,MATCH(A4785,IF(Entradas!$B$3:$B$5000=D4785,Entradas!$A$3:$A$5000),1))),\"Preço não registrado\")","v":""},"",null,null,"",""]
[null,null,"",null,"","",null,{"$f":"IFERROR(IF(D4786=\"\",\"\",INDEX(Entradas!$H$3:$H$5000,MATCH(A4786,IF(Entradas!$B$3:$B$5000=D4786,Entradas!$A$3:$A$5000),1))),\"Preço não registrado\")","v":""},"",null,null,"",""]
[null,null,"",null,"","",null,{"$f":"IFERROR(IF(D4787=\"\",\"\",INDEX(Entradas!$H$3:$H$5000,MATCH(A4787,IF(Entradas!$B$3:$B$5000=D4787,Entradas!$A$3:$A$5000),1))),\"Preço não registrado\")","v":""},"",null,null,"",""]
[null,null,"",null,"","",null,{"$f":"IFERROR(IF(D4788=\"\",\"\",INDEX(Entradas!$H$3:$H$5000,MATCH(A4788,IF(Entradas!$B$3:$B$5000=D4788,Entradas!$A$3:$A$5000),1))),\"Preço não registrado\")","v":""},"",null,null,"",""]
[null,null,"",null,"","",null,{"$f":"IFERROR(IF(D4789=\"\",\"\",INDEX(Entradas!$H$3:$H$5000,MATCH(A4789,IF(Entradas!$B$3:$B$5000=D4789,Entradas!$A$3:$A$5000),1))),\"Preço não registrado\")","v":""},"",null,null,"",""]
[null,null,"",null,"","",null,{"$f":"IFERROR(IF(D4790=\"\",\"\",INDEX(Entradas!$H$3:$H$5000,MATCH(A4790,IF(Entradas!$B$3:$B$5000=D4790,Entradas!$A$3:$A$5000),1))),\"Preço não registrado\")","v":""},"",null,null,"",""]
[null,null,"",null,"","",null,{"$f":"IFERROR(IF(D4791=\"\",\"\",INDEX(Entradas!$H$3:$H$5000,MATCH(A4791,IF(Entradas!$B$3:$B$5000=D4791,Entradas!$A$3:$A$5000),1))),\"Preço não registrado\")","v":""},"",null,null,"",""]
[null,null,"",null,"","",null,{"$f":"IFERROR(IF(D4792=\"\",\"\",INDEX(Entradas!$H$3:$H$5000,MATCH(A4792,IF(Entradas!$B$3:$B$5000=D4792,Entradas!$A$3:$A$5000),1))),\"Preço não registrado\")","v":""},"",null,null,"",""]
[null,null,"",null,"","",null,{"$f":"IFERROR(IF(D4793=\"\",\"\",INDEX(Entradas!$H$3:$H$5000,MATCH(A4793,IF(Entradas!$B$3:$B$5000=D4793,Entradas!$A$3:$A$5000),1))),\"Preço não registrado\")","v":""},"",null,null,"",""]
[null,null,"",null,"","",null,{"$f":"IFERROR(IF(D4794=\"\",\"\",INDEX(Entradas!$H$3:$H$5000,MATCH(A4794,IF(Entradas!$B$3:$B$5000=D4794,Entradas!$A$3:$A$5000),1))),\"Preço não registrado\")","v":""},"",null,null,"",""]
[null,null,"",null,"","",null,{"$f":"IFERROR(IF(D4795=\"\",\"\",INDEX(Entradas!$H$3:$H$5000,MATCH(A4795,IF(Entradas!$B$3:$B$5000=D4795,Entradas!$A$3:$A$5000),1))),\"Preço não registrado\")","v":""},"",null,null,"",""]
[null,null,"",null,"","",null,{"$f":"IFERROR(IF(D4796=\"\",\"\",INDEX(Entradas!$H$3:$H$5000,MATCH(A4796,IF(Entradas!$B$3:$B$5000=D4796,Entradas!$A$3:$A$5000),1))),\"Preço não registrado\")","v":""},"",null,null,"",""]
[null,null,"",null,"","",null,{"$f":"IFERROR(IF(D4797=\"\",\"\",INDEX(Entradas!$H$3:$H$5000,MATCH(A4797,IF(Entradas!$B$3:$B$5000=D4797,Entradas!$A$3:$A$5000),1))),\"Preço não registrado\")","v":""},"",null,null,"",""]
[null,null,"",null,"","",null,{"$f":"IFERROR(IF(D4798=\"\",\"\",INDEX(Entradas!$H$3:$H$5000,MATCH(A4798,IF(Entradas!$B$3:$B$5000=D4798,Entradas!$A$3:$A$5000),1))),\"Preço não registrado\")","v":""},"",null,null,"",""]
[null,null,"",null,"","",null,{"$f":"IFERROR(IF(D4799=\"\",\"\",INDEX(Entradas!$H$3:$H$5000,MATCH(A4799,IF(Entradas!$B$3:$B$5000=D4799,Entradas!$A$3:$A$5000),1))),\"Preço não registrado\")","v":""},"",null,null,"",""]
[null,null,"",null,"","",null,{"$f":"IFERROR(IF(D4800=\"\",\"\",INDEX(Entradas!$H$3:$H$5000,MATCH(A4800,IF(Entradas!$B$3:$B$5000=D4800,Entradas!$A$3:$A$5000),1))),\"Preço não registrado\")","v":""},"",null,null,"",""]
[null,null,"",null,"","",null,{"$f":"IFERROR(IF(D4801=\"\",\"\",INDEX(Entradas!$H$3:$H$5000,MATCH(A4801,IF(Entradas!$B$3:$B$5000=D4801,Entradas!$A$3:$A$5000),1))),\"Preço não registrado\")","v":""},"",null,null,"",""]
[null,null,"",null,"","",null,{"$f":"IFERROR(IF(D4802=\"\",\"\",INDEX(Entradas!$H$3:$H$5000,MATCH(A4802,IF(Entradas!$B$3:$B$5000=D4802,Entradas!$A$3:$A$5000),1))),\"Preço não registrado\")","v":""},"",null,null,"",""]
[null,null,{"$f":"IFERROR(IF(B4803=\"\",\"\",VLOOKUP(B4803,Clientes,2,FALSE)),\"\")","v":""},null,{"$f":"IF(D4803=\"\",\"\",VLOOKUP(D4803,Itens,2,FALSE))","v":""},{"$f":"IF(D4803=\"\",\"\",VLOOKUP(D4803,Itens,3,FALSE))","v":""},null,{"$f":"IFERROR(IF(D4803=\"\",\"\",INDEX(Entradas!$H$3:$H$5000,MATCH(A4803,IF(Entradas!$B$3:$B$5000=D4803,Entradas!$A$3:$A$5000),1))),\"Preço não registrado\")","v":""},"",null,null,"",""]
[null,null,"",null,"","",null,{"$f":"IFERROR(IF(D4804=\"\",\"\",INDEX(Entradas!$H$3:$H$5000,MATCH(A4804,IF(Entradas!$B$3:$B$5000=D4804,Entradas!$A$3:$A$5000),1))),\"Preço não registrado\")","v":""},{"$f":"IFERROR(G4804*H4804,\"\")","v":""},null,null,{"$f":"IF(K4804=\"\",\"\",HYPERLINK($P$13&K4804,\"Rastreie aqui\"))","v":""},{"$f":"IF(A4804=\"\",\"\",TEXT(A4804,\"mmmm\"))","v":""}]
[null,null,"",null,"","",null,{"$f":"IFERROR(IF(D4805=\"\",\"\",INDEX(Entradas!$H$3:$H$5000,MATCH(A4805,IF(Entradas!$B$3:$B$5000=D4805,Entradas!$A$3:$A$5000),1))),\"Preço não registrado\")","v":""},"",null,null,"",""]
[null,null,"",null,"","",null,{"$f":"IFERROR(IF(D4806=\"\",\"\",INDEX(Entradas!$H$3:$H$5000,MATCH(A4806,IF(Entradas!$B$3:$B$5000=D4806,Entradas!$A$3:$A$5000),1))),\"Preço não registrado\")","v":""},"",null,null,"",""]
[null,null,"",null,"","",null,{"$f":"IFERROR(IF(D4807=\"\",\"\",INDEX(Entradas!$H$3:$H$5000,MATCH(A4807,IF(Entradas!$B$3:$B$5000=D4807,Entradas!$A$3:$A$5000),1))),\"Preço não registrado\")","v":""},"",null,null,"",""]
[null,null,"",null,"","",null,{"$f":"IFERROR(IF(D4808=\"\",\"\",INDEX(Entradas!$H$3:$H$5000,MATCH(A4808,IF(Entradas!$B$3:$B$5000=D4808,Entradas!$A$3:$A$5000),1))),\"Preço não registrado\")","v":""},"",null,null,"",""]
[null,null,"",null,"","",null,{"$f":"IFERROR(IF(D4809=\"\",\"\",INDEX(Entradas!$H$3:$H$5000,MATCH(A4809,IF(Entradas!$B$3:$B$5000=D4809,Entradas!$A$3:$A$5000),1))),\"Preço não registrado\")","v":""},"",null,null,"",""]
[null,null,"",null,"","",null,{"$f":"IFERROR(IF(D4810=\"\",\"\",INDEX(Entradas!$H$3:$H$5000,MATCH(A4810,IF(Entradas!$B$3:$B$5000=D4810,Entradas!$A$3:$A$5000),1))),\"Preço não registrado\")","v":""},"",null,null,"",""]
[null,null,"",null,"","",null,{"$f":"IFERROR(IF(D4811=\"\",\"\",INDEX(Entradas!$H$3:$H$5000,MATCH(A4811,IF(Entradas!$B$3:$B$5000=D4811,Entradas!$A$3:$A$5000),1))),\"Preço não registrado\")","v":""},"",null,null,"",""]
[null,null,"",null,"","",null,{"$f":"IFERROR(IF(D4812=\"\",\"\",INDEX(Entradas!$H$3:$H$5000,MATCH(A4812,IF(Entradas!$B$3:$B$5000=D4812,Entradas!$A$3:$A$5000),1))),\"Preço não registrado\")","v":""},"",null,null,"",""]
[null,null,"",null,"","",null,{"$f":"IFERROR(IF(D4813=\"\",\"\",INDEX(Entradas!$H$3:$H$5000,MATCH(A4813,IF(Entradas!$B$3:$B$5000=D4813,Entradas!$A$3:$A$5000),1))),\"Preço não registrado\")","v":""},"",null,null,"",""]
[null,null,"",null,"","",null,{"$f":"IFERROR(IF(D4814=\"\",\"\",INDEX(Entradas!$H$3:$H$5000,MATCH(A4814,IF(Entradas!$B$3:$B$5000=D4814,Entradas!$A$3:$A$5000),1))),\"Preço não registrado\")","v":""},"",null,null,"",""]
[null,null,"",null,"","",null,{"$f":"IFERROR(IF(D4815=\"\",\"\",INDEX(Entradas!$H$3:$H$5000,MATCH(A4815,IF(Entradas!$B$3:$B$5000=D4815,Entradas!$A$3:$A$5000),1))),\"Preço não registrado\")","v":""},"",null,null,"",""]
[null,null,"",null,"","",null,{"$f":"IFERROR(IF(D4816=\"\",\"\",INDEX(Entradas!$H$3:$H$5000,MATCH(A4816,IF(Entradas!$B$3:$B$5000=D4816,Entradas!$A$3:$A$5000),1))),\"Preço não registrado\")","v":""},"",null,null,"",""]
[null,null,"",null,"","",null,{"$f":"IFERROR(IF(D4817=\"\",\"\",INDEX(Entradas!$H$3:$H$5000,MATCH(A4817,IF(Entradas!$B$3:$B$5000=D4817,Entradas!$A$3:$A$5000),1))),\"Preço não registrado\")","v":""},"",null,null,"",""]
[null,null,"",null,"","",null,{"$f":"IFERROR(IF(D4818=\"\",\"\",INDEX(Entradas!$H$3:$H$5000,MATCH(A4818,IF(Entradas!$B$3:$B$5000=D4818,Entradas!$A$3:$A$5000),1))),\"Preço não registrado\")","v":""},"",null,null,"",""]
[null,null,"",null,"","",null,{"$f":"IFERROR(IF(D4819=\"\",\"\",INDEX(Entradas!$H$3:$H$5000,MATCH(A4819,IF(Entradas!$B$3:$B$5000=D4819,Entradas!$A$3:$A$5000),1))),\"Preço não registrado\")","v":""},"",null,null,"",""]
[null,null,"",null,"","",null,{"$f":"IFERROR(IF(D4820=\"\",\"\",INDEX(Entradas!$H$3:$H$5000,MATCH(A4820,IF(Entradas!$B$3:$B$5000=D4820,Entradas!$A$3:$A$5000),1))),\"Preço não registrado\")","v":""},"",null,null,"",""]
[null,null,"",null,"","",null,{"$f":"IFERROR(IF(D4821=\"\",\"\",INDEX(Entradas!$H$3:$H$5000,MATCH(A4821,IF(Entradas!$B$3:$B$5000=D4821,Entradas!$A$3:$A$5000),1))),\"Preço não registrado\")","v":""},"",null,null,"",""]
[null,null,"",null,"","",null,{"$f":"IFERROR(IF(D4822=\"\",\"\",INDEX(Entradas!$H$3:$H$5000,MATCH(A4822,IF(Entradas!$B$3:$B$5000=D4822,Entradas!$A$3:$A$5000),1))),\"Preço não registrado\")","v":""},"",null,null,"",""]
[null,null,"",null,"","",null,{"$f":"IFERROR(IF(D4823=\"\",\"\",INDEX(Entradas!$H$3:$H$5000,MATCH(A4823,IF(Entradas!$B$3:$B$5000=D4823,Entradas!$A$3:$A$5000),1))),\"Preço não registrado\")","v":""},"",null,null,"",""]
[null,null,"",null,"","",null,{"$f":"IFERROR(IF(D4824=\"\",\"\",INDEX(Entradas!$H$3:$H$5000,MATCH(A4824,IF(Entradas!$B$3:$B$5000=D4824,Entradas!$A$3:$A$5000),1))),\"Preço não registrado\")","v":""},"",null,null,"",""]
[null,null,"",null,"","",null,{"$f":"IFERROR(IF(D4825=\"\",\"\",INDEX(Entradas!$H$3:$H$5000,MATCH(A4825,IF(Entradas!$B$3:$B$5000=D4825,Entradas!$A$3:$A$5000),1))),\"Preço não registrado\")","v":""},"",null,null,"",""]
[null,null,"",null,"","",null,{"$f":"IFERROR(IF(D4826=\"\",\"\",INDEX(Entradas!$H$3:$H$5000,MATCH(A4826,IF(Entradas!$B$3:$B$5000=D4826,Entradas!$A$3:$A$5000),1))),\"Preço não registrado\")","v":""},"",null,null,"",""]
[null,null,"",null,"","",null,{"$f":"IFERROR(IF(D4827=\"\",\"\",INDEX(Entradas!$H$3:$H$5000,MATCH(A4827,IF(Entradas!$B$3:$B$5000=D4827,Entradas!$A$3:$A$5000),1))),\"Preço não registrado\")","v":""},"",null,null,"",""]
[null,null,"",null,"","",null,{"$f":"IFERROR(IF(D4828=\"\",\"\",INDEX(Entradas!$H$3:$H$5000,MATCH(A4828,IF(Entradas!$B$3:$B$5000=D4828,Entradas!$A$3:$A$5000),1))),\"Preço não registrado\")","v":""},"",null,null,"",""]
[null,null,"",null,"","",null,{"$f":"IFERROR(IF(D4829=\"\",\"\",INDEX(Entradas!$H$3:$H$5000,MATCH(A4829,IF(Entradas!$B$3:$B$5000=D4829,Entradas!$A$3:$A$5000),1))),\"Preço não registrado\")","v":""},"",null,null,"",""]
[null,null,"",null,"","",null,{"$f":"IFERROR(IF(D4830=\"\",\"\",INDEX(Entradas!$H$3:$H$5000,MATCH(A4830,IF(Entradas!$B$3:$B$5000=D4830,Entradas!$A$3:$A$5000),1))),\"Preço não registrado\")","v":""},"",null,null,"",""]
[null,null,"",null,"","",null,{"$f":"IFERROR(IF(D4831=\"\",\"\",INDEX(Entradas!$H$3:$H$5000,MATCH(A4831,IF(Entradas!$B$3:$B$5000=D4831,Entradas!$A$3:$A$5000),1))),\"Preço não registrado\")","v":""},"",null,null,"",""]
[null,null,"",null,"","",null,{"$f":"IFERROR(IF(D4832=\"\",\"\",INDEX(Entradas!$H$3:$H$5000,MATCH(A4832,IF(Entradas!$B$3:$B$5000=D4832,Entradas!$A$3:$A$5000),1))),\"Preço não registrado\")","v":""},"",null,null,"",""]
[null,null,"",null,"","",null,{"$f":"IFERROR(IF(D4833=\"\",\"\",INDEX(Entradas!$H$3:$H$5000,MATCH(A4833,IF(Entradas!$B$3:$B$5000=D4833,Entradas!$A$3:$A$5000),1))),\"Preço não registrado\")","v":""},"",null,null,"",""]
[null,null,"",null,"","",null,{"$f":"IFERROR(IF(D4834=\"\",\"\",INDEX(Entradas!$H$3:$H$5000,MATCH(A4834,IF(Entradas!$B$3:$B$5000=D4834,Entradas!$A$3:$A$5000),1))),\"Preço não registrado\")","v":""},"",null,null,"",""]
[null,null,"",null,"","",null,{"$f":"IFERROR(IF(D4835=\"\",\"\",INDEX(Entradas!$H$3:$H$5000,MATCH(A4835,IF(Entradas!$B$3:$B$5000=D4835,Entradas!$A$3:$A$5000),1))),\"Preço não registrado\")","v":""},"",null,null,"",""]
[null,null,"",null,"","",null,{"$f":"IFERROR(IF(D4836=\"\",\"\",INDEX(Entradas!$H$3:$H$5000,MATCH(A4836,IF(Entradas!$B$3:$B$5000=D4836,Entradas!$A$3:$A$5000),1))),\"Preço não registrado\")","v":""},"",null,null,"",""]
[null,null,"",null,"","",null,{"$f":"IFERROR(IF(D4837=\"\",\"\",INDEX(Entradas!$H$3:$H$5000,MATCH(A4837,IF(Entradas!$B$3:$B$5000=D4837,Entradas!$A$3:$A$5000),1))),\"Preço não registrado\")","v":""},"",null,null,"",""]
[null,null,"",null,"","",null,{"$f":"IFERROR(IF(D4838=\"\",\"\",INDEX(Entradas!$H$3:$H$5000,MATCH(A4838,IF(Entradas!$B$3:$B$5000=D4838,Entradas!$A$3:$A$5000),1))),\"Preço não registrado\")","v":""},"",null,null,"",""]
[null,null,"",null,"","",null,{"$f":"IFERROR(IF(D4839=\"\",\"\",INDEX(Entradas!$H$3:$H$5000,MATCH(A4839,IF(Entradas!$B$3:$B$5000=D4839,Entradas!$A$3:$A$5000),1))),\"Preço não registrado\")","v":""},"",null,null,"",""]
[null,null,"",null,"","",null,{"$f":"IFERROR(IF(D4840=\"\",\"\",INDEX(Entradas!$H$3:$H$5000,MATCH(A4840,IF(Entradas!$B$3:$B$5000=D4840,Entradas!$A$3:$A$5000),1))),\"Preço não registrado\")","v":""},"",null,null,"",""]
[null,null,"",null,"","",null,{"$f":"IFERROR(IF(D4841=\"\",\"\",INDEX(Entradas!$H$3:$H$5000,MATCH(A4841,IF(Entradas!$B$3:$B$5000=D4841,Entradas!$A$3:$A$5000),1))),\"Preço não registrado\")","v":""},"",null,null,"",""]
[null,null,"",null,"","",null,{"$f":"IFERROR(IF(D4842=\"\",\"\",INDEX(Entradas!$H$3:$H$5000,MATCH(A4842,IF(Entradas!$B$3:$B$5000=D4842,Entradas!$A$3:$A$5000),1))),\"Preço não registrado\")","v":""},"",null,null,"",""]
[null,null,"",null,"","",null,{"$f":"IFERROR(IF(D4843=\"\",\"\",INDEX(Entradas!$H$3:$H$5000,MATCH(A4843,IF(Entradas!$B$3:$B$5000=D4843,Entradas!$A$3:$A$5000),1))),\"Preço não registrado\")","v":""},"",null,null,"",""]
[null,null,"",null,"","",null,{"$f":"IFERROR(IF(D4844=\"\",\"\",INDEX(Entradas!$H$3:$H$5000,MATCH(A4844,IF(Entradas!$B$3:$B$5000=D4844,Entradas!$A$3:$A$5000),1))),\"Preço não registrado\")","v":""},"",null,null,"",""]
[null,null,"",null,"","",null,{"$f":"IFERROR(IF(D4845=\"\",\"\",INDEX(Entradas!$H$3:$H$5000,MATCH(A4845,IF(Entradas!$B$3:$B$5000=D4845,Entradas!$A$3:$A$5000),1))),\"Preço não registrado\")","v":""},"",null,null,"",""]
[null,null,"",null,"","",null,{"$f":"IFERROR(IF(D4846=\"\",\"\",INDEX(Entradas!$H$3:$H$5000,MATCH(A4846,IF(Entradas!$B$3:$B$5000=D4846,Entradas!$A$3:$A$5000),1))),\"Preço não registrado\")","v":""},"",null,null,"",""]
[null,null,"",null,"","",null,{"$f":"IFERROR(IF(D4847=\"\",\"\",INDEX(Entradas!$H$3:$H$5000,MATCH(A4847,IF(Entradas!$B$3:$B$5000=D4847,Entradas!$A$3:$A$5000),1))),\"Preço não registrado\")","v":""},"",null,null,"",""]
[null,null,"",null,"","",null,{"$f":"IFERROR(IF(D4848=\"\",\"\",INDEX(Entradas!$H$3:$H$5000,MATCH(A4848,IF(Entradas!$B$3:$B$5000=D4848,Entradas!$A$3:$A$5000),1))),\"Preço não registrado\")","v":""},"",null,null,"",""]
[null,null,"",null,"","",null,{"$f":"IFERROR(IF(D4849=\"\",\"\",INDEX(Entradas!$H$3:$H$5000,MATCH(A4849,IF(Entradas!$B$3:$B$5000=D4849,Entradas!$A$3:$A$5000),1))),\"Preço não registrado\")","v":""},"",null,null,"",""]
[null,null,"",null,"","",null,{"$f":"IFERROR(IF(D4850=\"\",\"\",INDEX(Entradas!$H$3:$H$5000,MATCH(A4850,IF(Entradas!$B$3:$B$5000=D4850,Entradas!$A$3:$A$5000),1))),\"Preço não registrado\")","v":""},"",null,null,"",""]
[null,null,"",null,"","",null,{"$f":"IFERROR(IF(D4851=\"\",\"\",INDEX(Entradas!$H$3:$H$5000,MATCH(A4851,IF(Entradas!$B$3:$B$5000=D4851,Entradas!$A$3:$A$5000),1))),\"Preço não registrado\")","v":""},"",null,null,"",""]
[null,null,"",null,"","",null,{"$f":"IFERROR(IF(D4852=\"\",\"\",INDEX(Entradas!$H$3:$H$5000,MATCH(A4852,IF(Entradas!$B$3:$B$5000=D4852,Entradas!$A$3:$A$5000),1))),\"Preço não registrado\")","v":""},"",null,null,"",""]
[null,null,"",null,"","",null,{"$f":"IFERROR(IF(D4853=\"\",\"\",INDEX(Entradas!$H$3:$H$5000,MATCH(A4853,IF(Entradas!$B$3:$B$5000=D4853,Entradas!$A$3:$A$5000),1))),\"Preço não registrado\")","v":""},"",null,null,"",""]
[null,null,"",null,"","",null,{"$f":"IFERROR(IF(D4854=\"\",\"\",INDEX(Entradas!$H$3:$H$5000,MATCH(A4854,IF(Entradas!$B$3:$B$5000=D4854,Entradas!$A$3:$A$5000),1))),\"Preço não registrado\")","v":""},"",null,null,"",""]
[null,null,"",null,"","",null,{"$f":"IFERROR(IF(D4855=\"\",\"\",INDEX(Entradas!$H$3:$H$5000,MATCH(A4855,IF(Entradas!$B$3:$B$5000=D4855,Entradas!$A$3:$A$5000),1))),\"Preço não registrado\")","v":""},"",null,null,"",""]
[null,null,"",null,"","",null,{"$f":"IFERROR(IF(D4856=\"\",\"\",INDEX(Entradas!$H$3:$H$5000,MATCH(A4856,IF(Entradas!$B$3:$B$5000=D4856,Entradas!$A$3:$A$5000),1))),\"Preço não registrado\")","v":""},"",null,null,"",""]
[null,null,"",null,"","",null,{"$f":"IFERROR(IF(D4857=\"\",\"\",INDEX(Entradas!$H$3:$H$5000,MATCH(A4857,IF(Entradas!$B$3:$B$5000=D4857,Entradas!$A$3:$A$5000),1))),\"Preço não registrado\")","v":""},"",null,null,"",""]
[null,null,"",null,"","",null,{"$f":"IFERROR(IF(D4858=\"\",\"\",INDEX(Entradas!$H$3:$H$5000,MATCH(A4858,IF(Entradas!$B$3:$B$5000=D4858,Entradas!$A$3:$A$5000),1))),\"Preço não registrado\")","v":""},"",null,null,"",""]
[null,null,"",null,"","",null,{"$f":"IFERROR(IF(D4859=\"\",\"\",INDEX(Entradas!$H$3:$H$5000,MATCH(A4859,IF(Entradas!$B$3:$B$5000=D4859,Entradas!$A$3:$A$5000),1))),\"Preço não registrado\")","v":""},"",null,null,"",""]
[null,null,"",null,"","",null,{"$f":"IFERROR(IF(D4860=\"\",\"\",INDEX(Entradas!$H$3:$H$5000,MATCH(A4860,IF(Entradas!$B$3:$B$5000=D4860,Entradas!$A$3:$A$5000),1))),\"Preço não registrado\")","v":""},"",null,null,"",""]
[null,null,"",null,"","",null,{"$f":"IFERROR(IF(D4861=\"\",\"\",INDEX(Entradas!$H$3:$H$5000,MATCH(A4861,IF(Entradas!$B$3:$B$5000=D4861,Entradas!$A$3:$A$5000),1))),\"Preço não registrado\")","v":""},"",null,null,"",""]
[null,null,"",null,"","",null,{"$f":"IFERROR(IF(D4862=\"\",\"\",INDEX(Entradas!$H$3:$H$5000,MATCH(A4862,IF(Entradas!$B$3:$B$5000=D4862,Entradas!$A$3:$A$5000),1))),\"Preço não registrado\")","v":""},"",null,null,"",""]
[null,null,"",null,"","",null,{"$f":"IFERROR(IF(D4863=\"\",\"\",INDEX(Entradas!$H$3:$H$5000,MATCH(A4863,IF(Entradas!$B$3:$B$5000=D4863,Entradas!$A$3:$A$5000),1))),\"Preço não registrado\")","v":""},"",null,null,"",""]
[null,null,"",null,"","",null,{"$f":"IFERROR(IF(D4864=\"\",\"\",INDEX(Entradas!$H$3:$H$5000,MATCH(A4864,IF(Entradas!$B$3:$B$5000=D4864,Entradas!$A$3:$A$5000),1))),\"Preço não registrado\")","v":""},"",null,null,"",""]
[null,null,"",null,"","",null,{"$f":"IFERROR(IF(D4865=\"\",\"\",INDEX(Entradas!$H$3:$H$5000,MATCH(A4865,IF(Entradas!$B$3:$B$5000=D4865,Entradas!$A$3:$A$5000),1))),\"Preço não registrado\")","v":""},"",null,null,"",""]
[null,null,"",null,"","",null,{"$f":"IFERROR(IF(D4866=\"\",\"\",INDEX(Entradas!$H$3:$H$5000,MATCH(A4866,IF(Entradas!$B$3:$B$5000=D4866,Entradas!$A$3:$A$5000),1))),\"Preço não registrado\")","v":""},"",null,null,"",""]
[null,null,{"$f":"IFERROR(IF(B4867=\"\",\"\",VLOOKUP(B4867,Clientes,2,FALSE)),\"\")","v":""},null,{"$f":"IF(D4867=\"\",\"\",VLOOKUP(D4867,Itens,2,FALSE))","v":""},{"$f":"IF(D4867=\"\",\"\",VLOOKUP(D4867,Itens,3,FALSE))","v":""},null,{"$f":"IFERROR(IF(D4867=\"\",\"\",INDEX(Entradas!$H$3:$H$5000,MATCH(A4867,IF(Entradas!$B$3:$B$5000=D4867,Entradas!$A$3:$A$5000),1))),\"Preço não registrado\")","v":""},"",null,null,"",""]
[null,null,"",null,"","",null,{"$f":"IFERROR(IF(D4868=\"\",\"\",INDEX(Entradas!$H$3:$H$5000,MATCH(A4868,IF(Entradas!$B$3:$B$5000=D4868,Entradas!$A$3:$A$5000),1))),\"Preço não registrado\")","v":""},{"$f":"IFERROR(G4868*H4868,\"\")","v":""},null,null,{"$f":"IF(K4868=\"\",\"\",HYPERLINK($P$13&K4868,\"Rastreie aqui\"))","v":""},{"$f":"IF(A4868=\"\",\"\",TEXT(A4868,\"mmmm\"))","v":""}]
[null,null,"",null,"","",null,{"$f":"IFERROR(IF(D4869=\"\",\"\",INDEX(Entradas!$H$3:$H$5000,MATCH(A4869,IF(Entradas!$B$3:$B$5000=D4869,Entradas!$A$3:$A$5000),1))),\"Preço não registrado\")","v":""},"",null,null,"",""]
[null,null,"",null,"","",null,{"$f":"IFERROR(IF(D4870=\"\",\"\",INDEX(Entradas!$H$3:$H$5000,MATCH(A4870,IF(Entradas!$B$3:$B$5000=D4870,Entradas!$A$3:$A$5000),1))),\"Preço não registrado\")","v":""},"",null,null,"",""]
[null,null,"",null,"","",null,{"$f":"IFERROR(IF(D4871=\"\",\"\",INDEX(Entradas!$H$3:$H$5000,MATCH(A4871,IF(Entradas!$B$3:$B$5000=D4871,Entradas!$A$3:$A$5000),1))),\"Preço não registrado\")","v":""},"",null,null,"",""]
[null,null,"",null,"","",null,{"$f":"IFERROR(IF(D4872=\"\",\"\",INDEX(Entradas!$H$3:$H$5000,MATCH(A4872,IF(Entradas!$B$3:$B$5000=D4872,Entradas!$A$3:$A$5000),1))),\"Preço não registrado\")","v":""},"",null,null,"",""]
[null,null,"",null,"","",null,{"$f":"IFERROR(IF(D4873=\"\",\"\",INDEX(Entradas!$H$3:$H$5000,MATCH(A4873,IF(Entradas!$B$3:$B$5000=D4873,Entradas!$A$3:$A$5000),1))),\"Preço não registrado\")","v":""},"",null,null,"",""]
[null,null,"",null,"","",null,{"$f":"IFERROR(IF(D4874=\"\",\"\",INDEX(Entradas!$H$3:$H$5000,MATCH(A4874,IF(Entradas!$B$3:$B$5000=D4874,Entradas!$A$3:$A$5000),1))),\"Preço não registrado\")","v":""},"",null,null,"",""]
[null,null,"",null,"","",null,{"$f":"IFERROR(IF(D4875=\"\",\"\",INDEX(Entradas!$H$3:$H$5000,MATCH(A4875,IF(Entradas!$B$3:$B$5000=D4875,Entradas!$A$3:$A$5000),1))),\"Preço não registrado\")","v":""},"",null,null,"",""]
[null,null,"",null,"","",null,{"$f":"IFERROR(IF(D4876=\"\",\"\",INDEX(Entradas!$H$3:$H$5000,MATCH(A4876,IF(Entradas!$B$3:$B$5000=D4876,Entradas!$A$3:$A$5000),1))),\"Preço não registrado\")","v":""},"",null,null,"",""]
[null,null,"",null,"","",null,{"$f":"IFERROR(IF(D4877=\"\",\"\",INDEX(Entradas!$H$3:$H$5000,MATCH(A4877,IF(Entradas!$B$3:$B$5000=D4877,Entradas!$A$3:$A$5000),1))),\"Preço não registrado\")","v":""},"",null,null,"",""]
[null,null,"",null,"","",null,{"$f":"IFERROR(IF(D4878=\"\",\"\",INDEX(Entradas!$H$3:$H$5000,MATCH(A4878,IF(Entradas!$B$3:$B$5000=D4878,Entradas!$A$3:$A$5000),1))),\"Preço não registrado\")","v":""},"",null,null,"",""]
[null,null,"",null,"","",null,{"$f":"IFERROR(IF(D4879=\"\",\"\",INDEX(Entradas!$H$3:$H$5000,MATCH(A4879,IF(Entradas!$B$3:$B$5000=D4879,Entradas!$A$3:$A$5000),1))),\"Preço não registrado\")","v":""},"",null,null,"",""]
[null,null,"",null,"","",null,{"$f":"IFERROR(IF(D4880=\"\",\"\",INDEX(Entradas!$H$3:$H$5000,MATCH(A4880,IF(Entradas!$B$3:$B$5000=D4880,Entradas!$A$3:$A$5000),1))),\"Preço não registrado\")","v":""},"",null,null,"",""]
[null,null,"",null,"","",null,{"$f":"IFERROR(IF(D4881=\"\",\"\",INDEX(Entradas!$H$3:$H$5000,MATCH(A4881,IF(Entradas!$B$3:$B$5000=D4881,Entradas!$A$3:$A$5000),1))),\"Preço não registrado\")","v":""},"",null,null,"",""]
[null,null,"",null,"","",null,{"$f":"IFERROR(IF(D4882=\"\",\"\",INDEX(Entradas!$H$3:$H$5000,MATCH(A4882,IF(Entradas!$B$3:$B$5000=D4882,Entradas!$A$3:$A$5000),1))),\"Preço não registrado\")","v":""},"",null,null,"",""]
[null,null,"",null,"","",null,{"$f":"IFERROR(IF(D4883=\"\",\"\",INDEX(Entradas!$H$3:$H$5000,MATCH(A4883,IF(Entradas!$B$3:$B$5000=D4883,Entradas!$A$3:$A$5000),1))),\"Preço não registrado\")","v":""},"",null,null,"",""]
[null,null,"",null,"","",null,{"$f":"IFERROR(IF(D4884=\"\",\"\",INDEX(Entradas!$H$3:$H$5000,MATCH(A4884,IF(Entradas!$B$3:$B$5000=D4884,Entradas!$A$3:$A$5000),1))),\"Preço não registrado\")","v":""},"",null,null,"",""]
[null,null,"",null,"","",null,{"$f":"IFERROR(IF(D4885=\"\",\"\",INDEX(Entradas!$H$3:$H$5000,MATCH(A4885,IF(Entradas!$B$3:$B$5000=D4885,Entradas!$A$3:$A$5000),1))),\"Preço não registrado\")","v":""},"",null,null,"",""]
[null,null,"",null,"","",null,{"$f":"IFERROR(IF(D4886=\"\",\"\",INDEX(Entradas!$H$3:$H$5000,MATCH(A4886,IF(Entradas!$B$3:$B$5000=D4886,Entradas!$A$3:$A$5000),1))),\"Preço não registrado\")","v":""},"",null,null,"",""]
[null,null,"",null,"","",null,{"$f":"IFERROR(IF(D4887=\"\",\"\",INDEX(Entradas!$H$3:$H$5000,MATCH(A4887,IF(Entradas!$B$3:$B$5000=D4887,Entradas!$A$3:$A$5000),1))),\"Preço não registrado\")","v":""},"",null,null,"",""]
[null,null,"",null,"","",null,{"$f":"IFERROR(IF(D4888=\"\",\"\",INDEX(Entradas!$H$3:$H$5000,MATCH(A4888,IF(Entradas!$B$3:$B$5000=D4888,Entradas!$A$3:$A$5000),1))),\"Preço não registrado\")","v":""},"",null,null,"",""]
[null,null,"",null,"","",null,{"$f":"IFERROR(IF(D4889=\"\",\"\",INDEX(Entradas!$H$3:$H$5000,MATCH(A4889,IF(Entradas!$B$3:$B$5000=D4889,Entradas!$A$3:$A$5000),1))),\"Preço não registrado\")","v":""},"",null,null,"",""]
[null,null,"",null,"","",null,{"$f":"IFERROR(IF(D4890=\"\",\"\",INDEX(Entradas!$H$3:$H$5000,MATCH(A4890,IF(Entradas!$B$3:$B$5000=D4890,Entradas!$A$3:$A$5000),1))),\"Preço não registrado\")","v":""},"",null,null,"",""]
[null,null,"",null,"","",null,{"$f":"IFERROR(IF(D4891=\"\",\"\",INDEX(Entradas!$H$3:$H$5000,MATCH(A4891,IF(Entradas!$B$3:$B$5000=D4891,Entradas!$A$3:$A$5000),1))),\"Preço não registrado\")","v":""},"",null,null,"",""]
[null,null,"",null,"","",null,{"$f":"IFERROR(IF(D4892=\"\",\"\",INDEX(Entradas!$H$3:$H$5000,MATCH(A4892,IF(Entradas!$B$3:$B$5000=D4892,Entradas!$A$3:$A$5000),1))),\"Preço não registrado\")","v":""},"",null,null,"",""]
[null,null,"",null,"","",null,{"$f":"IFERROR(IF(D4893=\"\",\"\",INDEX(Entradas!$H$3:$H$5000,MATCH(A4893,IF(Entradas!$B$3:$B$5000=D4893,Entradas!$A$3:$A$5000),1))),\"Preço não registrado\")","v":""},"",null,null,"",""]
[null,null,"",null,"","",null,{"$f":"IFERROR(IF(D4894=\"\",\"\",INDEX(Entradas!$H$3:$H$5000,MATCH(A4894,IF(Entradas!$B$3:$B$5000=D4894,Entradas!$A$3:$A$5000),1))),\"Preço não registrado\")","v":""},"",null,null,"",""]
[null,null,"",null,"","",null,{"$f":"IFERROR(IF(D4895=\"\",\"\",INDEX(Entradas!$H$3:$H$5000,MATCH(A4895,IF(Entradas!$B$3:$B$5000=D4895,Entradas!$A$3:$A$5000),1))),\"Preço não registrado\")","v":""},"",null,null,"",""]
[null,null,"",null,"","",null,{"$f":"IFERROR(IF(D4896=\"\",\"\",INDEX(Entradas!$H$3:$H$5000,MATCH(A4896,IF(Entradas!$B$3:$B$5000=D4896,Entradas!$A$3:$A$5000),1))),\"Preço não registrado\")","v":""},"",null,null,"",""]
[null,null,"",null,"","",null,{"$f":"IFERROR(IF(D4897=\"\",\"\",INDEX(Entradas!$H$3:$H$5000,MATCH(A4897,IF(Entradas!$B$3:$B$5000=D4897,Entradas!$A$3:$A$5000),1))),\"Preço não registrado\")","v":""},"",null,null,"",""]
[null,null,"",null,"","",null,{"$f":"IFERROR(IF(D4898=\"\",\"\",INDEX(Entradas!$H$3:$H$5000,MATCH(A4898,IF(Entradas!$B$3:$B$5000=D4898,Entradas!$A$3:$A$5000),1))),\"Preço não registrado\")","v":""},"",null,null,"",""]
[null,null,"",null,"","",null,{"$f":"IFERROR(IF(D4899=\"\",\"\",INDEX(Entradas!$H$3:$H$5000,MATCH(A4899,IF(Entradas!$B$3:$B$5000=D4899,Entradas!$A$3:$A$5000),1))),\"Preço não registrado\")","v":""},"",null,null,"",""]
[null,null,"",null,"","",null,{"$f":"IFERROR(IF(D4900=\"\",\"\",INDEX(Entradas!$H$3:$H$5000,MATCH(A4900,IF(Entradas!$B$3:$B$5000=D4900,Entradas!$A$3:$A$5000),1))),\"Preço não registrado\")","v":""},"",null,null,"",""]
[null,null,"",null,"","",null,{"$f":"IFERROR(IF(D4901=\"\",\"\",INDEX(Entradas!$H$3:$H$5000,MATCH(A4901,IF(Entradas!$B$3:$B$5000=D4901,Entradas!$A$3:$A$5000),1))),\"Preço não registrado\")","v":""},"",null,null,"",""]
[null,null,"",null,"","",null,{"$f":"IFERROR(IF(D4902=\"\",\"\",INDEX(Entradas!$H$3:$H$5000,MATCH(A4902,IF(Entradas!$B$3:$B$5000=D4902,Entradas!$A$3:$A$5000),1))),\"Preço não registrado\")","v":""},"",null,null,"",""]
[null,null,"",null,"","",null,{"$f":"IFERROR(IF(D4903=\"\",\"\",INDEX(Entradas!$H$3:$H$5000,MATCH(A4903,IF(Entradas!$B$3:$B$5000=D4903,Entradas!$A$3:$A$5000),1))),\"Preço não registrado\")","v":""},"",null,null,"",""]
[null,null,"",null,"","",null,{"$f":"IFERROR(IF(D4904=\"\",\"\",INDEX(Entradas!$H$3:$H$5000,MATCH(A4904,IF(Entradas!$B$3:$B$5000=D4904,Entradas!$A$3:$A$5000),1))),\"Preço não registrado\")","v":""},"",null,null,"",""]
[null,null,"",null,"","",null,{"$f":"IFERROR(IF(D4905=\"\",\"\",INDEX(Entradas!$H$3:$H$5000,MATCH(A4905,IF(Entradas!$B$3:$B$5000=D4905,Entradas!$A$3:$A$5000),1))),\"Preço não registrado\")","v":""},"",null,null,"",""]
[null,null,"",null,"","",null,{"$f":"IFERROR(IF(D4906=\"\",\"\",INDEX(Entradas!$H$3:$H$5000,MATCH(A4906,IF(Entradas!$B$3:$B$5000=D4906,Entradas!$A$3:$A$5000),1))),\"Preço não registrado\")","v":""},"",null,null,"",""]
[null,null,"",null,"","",null,{"$f":"IFERROR(IF(D4907=\"\",\"\",INDEX(Entradas!$H$3:$H$5000,MATCH(A4907,IF(Entradas!$B$3:$B$5000=D4907,Entradas!$A$3:$A$5000),1))),\"Preço não registrado\")","v":""},"",null,null,"",""]
[null,null,"",null,"","",null,{"$f":"IFERROR(IF(D4908=\"\",\"\",INDEX(Entradas!$H$3:$H$5000,MATCH(A4908,IF(Entradas!$B$3:$B$5000=D4908,Entradas!$A$3:$A$5000),1))),\"Preço não registrado\")","v":""},"",null,null,"",""]
[null,null,"",null,"","",null,{"$f":"IFERROR(IF(D4909=\"\",\"\",INDEX(Entradas!$H$3:$H$5000,MATCH(A4909,IF(Entradas!$B$3:$B$5000=D4909,Entradas!$A$3:$A$5000),1))),\"Preço não registrado\")","v":""},"",null,null,"",""]
[null,null,"",null,"","",null,{"$f":"IFERROR(IF(D4910=\"\",\"\",INDEX(Entradas!$H$3:$H$5000,MATCH(A4910,IF(Entradas!$B$3:$B$5000=D4910,Entradas!$A$3:$A$5000),1))),\"Preço não registrado\")","v":""},"",null,null,"",""]
[null,null,"",null,"","",null,{"$f":"IFERROR(IF(D4911=\"\",\"\",INDEX(Entradas!$H$3:$H$5000,MATCH(A4911,IF(Entradas!$B$3:$B$5000=D4911,Entradas!$A$3:$A$5000),1))),\"Preço não registrado\")","v":""},"",null,null,"",""]
[null,null,"",null,"","",null,{"$f":"IFERROR(IF(D4912=\"\",\"\",INDEX(Entradas!$H$3:$H$5000,MATCH(A4912,IF(Entradas!$B$3:$B$5000=D4912,Entradas!$A$3:$A$5000),1))),\"Preço não registrado\")","v":""},"",null,null,"",""]
[null,null,"",null,"","",null,{"$f":"IFERROR(IF(D4913=\"\",\"\",INDEX(Entradas!$H$3:$H$5000,MATCH(A4913,IF(Entradas!$B$3:$B$5000=D4913,Entradas!$A$3:$A$5000),1))),\"Preço não registrado\")","v":""},"",null,null,"",""]
[null,null,"",null,"","",null,{"$f":"IFERROR(IF(D4914=\"\",\"\",INDEX(Entradas!$H$3:$H$5000,MATCH(A4914,IF(Entradas!$B$3:$B$5000=D4914,Entradas!$A$3:$A$5000),1))),\"Preço não registrado\")","v":""},"",null,null,"",""]
[null,null,"",null,"","",null,{"$f":"IFERROR(IF(D4915=\"\",\"\",INDEX(Entradas!$H$3:$H$5000,MATCH(A4915,IF(Entradas!$B$3:$B$5000=D4915,Entradas!$A$3:$A$5000),1))),\"Preço não registrado\")","v":""},"",null,null,"",""]
[null,null,"",null,"","",null,{"$f":"IFERROR(IF(D4916=\"\",\"\",INDEX(Entradas!$H$3:$H$5000,MATCH(A4916,IF(Entradas!$B$3:$B$5000=D4916,Entradas!$A$3:$A$5000),1))),\"Preço não registrado\")","v":""},"",null,null,"",""]
[null,null,"",null,"","",null,{"$f":"IFERROR(IF(D4917=\"\",\"\",INDEX(Entradas!$H$3:$H$5000,MATCH(A4917,IF(Entradas!$B$3:$B$5000=D4917,Entradas!$A$3:$A$5000),1))),\"Preço não registrado\")","v":""},"",null,null,"",""]
[null,null,"",null,"","",null,{"$f":"IFERROR(IF(D4918=\"\",\"\",INDEX(Entradas!$H$3:$H$5000,MATCH(A4918,IF(Entradas!$B$3:$B$5000=D4918,Entradas!$A$3:$A$5000),1))),\"Preço não registrado\")","v":""},"",null,null,"",""]
[null,null,"",null,"","",null,{"$f":"IFERROR(IF(D4919=\"\",\"\",INDEX(Entradas!$H$3:$H$5000,MATCH(A4919,IF(Entradas!$B$3:$B$5000=D4919,Entradas!$A$3:$A$5000),1))),\"Preço não registrado\")","v":""},"",null,null,"",""]
[null,null,"",null,"","",null,{"$f":"IFERROR(IF(D4920=\"\",\"\",INDEX(Entradas!$H$3:$H$5000,MATCH(A4920,IF(Entradas!$B$3:$B$5000=D4920,Entradas!$A$3:$A$5000),1))),\"Preço não registrado\")","v":""},"",null,null,"",""]
[null,null,"",null,"","",null,{"$f":"IFERROR(IF(D4921=\"\",\"\",INDEX(Entradas!$H$3:$H$5000,MATCH(A4921,IF(Entradas!$B$3:$B$5000=D4921,Entradas!$A$3:$A$5000),1))),\"Preço não registrado\")","v":""},"",null,null,"",""]
[null,null,"",null,"","",null,{"$f":"IFERROR(IF(D4922=\"\",\"\",INDEX(Entradas!$H$3:$H$5000,MATCH(A4922,IF(Entradas!$B$3:$B$5000=D4922,Entradas!$A$3:$A$5000),1))),\"Preço não registrado\")","v":""},"",null,null,"",""]
[null,null,"",null,"","",null,{"$f":"IFERROR(IF(D4923=\"\",\"\",INDEX(Entradas!$H$3:$H$5000,MATCH(A4923,IF(Entradas!$B$3:$B$5000=D4923,Entradas!$A$3:$A$5000),1))),\"Preço não registrado\")","v":""},"",null,null,"",""]
[null,null,"",null,"","",null,{"$f":"IFERROR(IF(D4924=\"\",\"\",INDEX(Entradas!$H$3:$H$5000,MATCH(A4924,IF(Entradas!$B$3:$B$5000=D4924,Entradas!$A$3:$A$5000),1))),\"Preço não registrado\")","v":""},"",null,null,"",""]
[null,null,"",null,"","",null,{"$f":"IFERROR(IF(D4925=\"\",\"\",INDEX(Entradas!$H$3:$H$5000,MATCH(A4925,IF(Entradas!$B$3:$B$5000=D4925,Entradas!$A$3:$A$5000),1))),\"Preço não registrado\")","v":""},"",null,null,"",""]
[null,null,"",null,"","",null,{"$f":"IFERROR(IF(D4926=\"\",\"\",INDEX(Entradas!$H$3:$H$5000,MATCH(A4926,IF(Entradas!$B$3:$B$5000=D4926,Entradas!$A$3:$A$5000),1))),\"Preço não registrado\")","v":""},"",null,null,"",""]
[null,null,"",null,"","",null,{"$f":"IFERROR(IF(D4927=\"\",\"\",INDEX(Entradas!$H$3:$H$5000,MATCH(A4927,IF(Entradas!$B$3:$B$5000=D4927,Entradas!$A$3:$A$5000),1))),\"Preço não registrado\")","v":""},"",null,null,"",""]
[null,null,"",null,"","",null,{"$f":"IFERROR(IF(D4928=\"\",\"\",INDEX(Entradas!$H$3:$H$5000,MATCH(A4928,IF(Entradas!$B$3:$B$5000=D4928,Entradas!$A$3:$A$5000),1))),\"Preço não registrado\")","v":""},"",null,null,"",""]
[null,null,"",null,"","",null,{"$f":"IFERROR(IF(D4929=\"\",\"\",INDEX(Entradas!$H$3:$H$5000,MATCH(A4929,IF(Entradas!$B$3:$B$5000=D4929,Entradas!$A$3:$A$5000),1))),\"Preço não registrado\")","v":""},"",null,null,"",""]
[null,null,"",null,"","",null,{"$f":"IFERROR(IF(D4930=\"\",\"\",INDEX(Entradas!$H$3:$H$5000,MATCH(A4930,IF(Entradas!$B$3:$B$5000=D4930,Entradas!$A$3:$A$5000),1))),\"Preço não registrado\")","v":""},"",null,null,"",""]
[null,null,{"$f":"IFERROR(IF(B4931=\"\",\"\",VLOOKUP(B4931,Clientes,2,FALSE)),\"\")","v":""},null,{"$f":"IF(D4931=\"\",\"\",VLOOKUP(D4931,Itens,2,FALSE))","v":""},{"$f":"IF(D4931=\"\",\"\",VLOOKUP(D4931,Itens,3,FALSE))","v":""},null,{"$f":"IFERROR(IF(D4931=\"\",\"\",INDEX(Entradas!$H$3:$H$5000,MATCH(A4931,IF(Entradas!$B$3:$B$5000=D4931,Entradas!$A$3:$A$5000),1))),\"Preço não registrado\")","v":""},"",null,null,"",""]
[null,null,"",null,"","",null,{"$f":"IFERROR(IF(D4932=\"\",\"\",INDEX(Entradas!$H$3:$H$5000,MATCH(A4932,IF(Entradas!$B$3:$B$5000=D4932,Entradas!$A$3:$A$5000),1))),\"Preço não registrado\")","v":""},{"$f":"IFERROR(G4932*H4932,\"\")","v":""},null,null,{"$f":"IF(K4932=\"\",\"\",HYPERLINK($P$13&K4932,\"Rastreie aqui\"))","v":""},{"$f":"IF(A4932=\"\",\"\",TEXT(A4932,\"mmmm\"))","v":""}]
[null,null,"",null,"","",null,{"$f":"IFERROR(IF(D4933=\"\",\"\",INDEX(Entradas!$H$3:$H$5000,MATCH(A4933,IF(Entradas!$B$3:$B$5000=D4933,Entradas!$A$3:$A$5000),1))),\"Preço não registrado\")","v":""},"",null,null,"",""]
[null,null,"",null,"","",null,{"$f":"IFERROR(IF(D4934=\"\",\"\",INDEX(Entradas!$H$3:$H$5000,MATCH(A4934,IF(Entradas!$B$3:$B$5000=D4934,Entradas!$A$3:$A$5000),1))),\"Preço não registrado\")","v":""},"",null,null,"",""]
[null,null,"",null,"","",null,{"$f":"IFERROR(IF(D4935=\"\",\"\",INDEX(Entradas!$H$3:$H$5000,MATCH(A4935,IF(Entradas!$B$3:$B$5000=D4935,Entradas!$A$3:$A$5000),1))),\"Preço não registrado\")","v":""},"",null,null,"",""]
[null,null,"",null,"","",null,{"$f":"IFERROR(IF(D4936=\"\",\"\",INDEX(Entradas!$H$3:$H$5000,MATCH(A4936,IF(Entradas!$B$3:$B$5000=D4936,Entradas!$A$3:$A$5000),1))),\"Preço não registrado\")","v":""},"",null,null,"",""]
[null,null,"",null,"","",null,{"$f":"IFERROR(IF(D4937=\"\",\"\",INDEX(Entradas!$H$3:$H$5000,MATCH(A4937,IF(Entradas!$B$3:$B$5000=D4937,Entradas!$A$3:$A$5000),1))),\"Preço não registrado\")","v":""},"",null,null,"",""]
[null,null,"",null,"","",null,{"$f":"IFERROR(IF(D4938=\"\",\"\",INDEX(Entradas!$H$3:$H$5000,MATCH(A4938,IF(Entradas!$B$3:$B$5000=D4938,Entradas!$A$3:$A$5000),1))),\"Preço não registrado\")","v":""},"",null,null,"",""]
[null,null,"",null,"","",null,{"$f":"IFERROR(IF(D4939=\"\",\"\",INDEX(Entradas!$H$3:$H$5000,MATCH(A4939,IF(Entradas!$B$3:$B$5000=D4939,Entradas!$A$3:$A$5000),1))),\"Preço não registrado\")","v":""},"",null,null,"",""]
[null,null,"",null,"","",null,{"$f":"IFERROR(IF(D4940=\"\",\"\",INDEX(Entradas!$H$3:$H$5000,MATCH(A4940,IF(Entradas!$B$3:$B$5000=D4940,Entradas!$A$3:$A$5000),1))),\"Preço não registrado\")","v":""},"",null,null,"",""]
[null,null,"",null,"","",null,{"$f":"IFERROR(IF(D4941=\"\",\"\",INDEX(Entradas!$H$3:$H$5000,MATCH(A4941,IF(Entradas!$B$3:$B$5000=D4941,Entradas!$A$3:$A$5000),1))),\"Preço não registrado\")","v":""},"",null,null,"",""]
[null,null,"",null,"","",null,{"$f":"IFERROR(IF(D4942=\"\",\"\",INDEX(Entradas!$H$3:$H$5000,MATCH(A4942,IF(Entradas!$B$3:$B$5000=D4942,Entradas!$A$3:$A$5000),1))),\"Preço não registrado\")","v":""},"",null,null,"",""]
[null,null,"",null,"","",null,{"$f":"IFERROR(IF(D4943=\"\",\"\",INDEX(Entradas!$H$3:$H$5000,MATCH(A4943,IF(Entradas!$B$3:$B$5000=D4943,Entradas!$A$3:$A$5000),1))),\"Preço não registrado\")","v":""},"",null,null,"",""]
[null,null,"",null,"","",null,{"$f":"IFERROR(IF(D4944=\"\",\"\",INDEX(Entradas!$H$3:$H$5000,MATCH(A4944,IF(Entradas!$B$3:$B$5000=D4944,Entradas!$A$3:$A$5000),1))),\"Preço não registrado\")","v":""},"",null,null,"",""]
[null,null,"",null,"","",null,{"$f":"IFERROR(IF(D4945=\"\",\"\",INDEX(Entradas!$H$3:$H$5000,MATCH(A4945,IF(Entradas!$B$3:$B$5000=D4945,Entradas!$A$3:$A$5000),1))),\"Preço não registrado\")","v":""},"",null,null,"",""]
[null,null,"",null,"","",null,{"$f":"IFERROR(IF(D4946=\"\",\"\",INDEX(Entradas!$H$3:$H$5000,MATCH(A4946,IF(Entradas!$B$3:$B$5000=D4946,Entradas!$A$3:$A$5000),1))),\"Preço não registrado\")","v":""},"",null,null,"",""]
[null,null,"",null,"","",null,{"$f":"IFERROR(IF(D4947=\"\",\"\",INDEX(Entradas!$H$3:$H$5000,MATCH(A4947,IF(Entradas!$B$3:$B$5000=D4947,Entradas!$A$3:$A$5000),1))),\"Preço não registrado\")","v":""},"",null,null,"",""]
[null,null,"",null,"","",null,{"$f":"IFERROR(IF(D4948=\"\",\"\",INDEX(Entradas!$H$3:$H$5000,MATCH(A4948,IF(Entradas!$B$3:$B$5000=D4948,Entradas!$A$3:$A$5000),1))),\"Preço não registrado\")","v":""},"",null,null,"",""]
[null,null,"",null,"","",null,{"$f":"IFERROR(IF(D4949=\"\",\"\",INDEX(Entradas!$H$3:$H$5000,MATCH(A4949,IF(Entradas!$B$3:$B$5000=D4949,Entradas!$A$3:$A$5000),1))),\"Preço não registrado\")","v":""},"",null,null,"",""]
[null,null,"",null,"","",null,{"$f":"IFERROR(IF(D4950=\"\",\"\",INDEX(Entradas!$H$3:$H$5000,MATCH(A4950,IF(Entradas!$B$3:$B$5000=D4950,Entradas!$A$3:$A$5000),1))),\"Preço não registrado\")","v":""},"",null,null,"",""]
[null,null,"",null,"","",null,{"$f":"IFERROR(IF(D4951=\"\",\"\",INDEX(Entradas!$H$3:$H$5000,MATCH(A4951,IF(Entradas!$B$3:$B$5000=D4951,Entradas!$A$3:$A$5000),1))),\"Preço não registrado\")","v":""},"",null,null,"",""]
[null,null,"",null,"","",null,{"$f":"IFERROR(IF(D4952=\"\",\"\",INDEX(Entradas!$H$3:$H$5000,MATCH(A4952,IF(Entradas!$B$3:$B$5000=D4952,Entradas!$A$3:$A$5000),1))),\"Preço não registrado\")","v":""},"",null,null,"",""]
[null,null,"",null,"","",null,{"$f":"IFERROR(IF(D4953=\"\",\"\",INDEX(Entradas!$H$3:$H$5000,MATCH(A4953,IF(Entradas!$B$3:$B$5000=D4953,Entradas!$A$3:$A$5000),1))),\"Preço não registrado\")","v":""},"",null,null,"",""]
[null,null,"",null,"","",null,{"$f":"IFERROR(IF(D4954=\"\",\"\",INDEX(Entradas!$H$3:$H$5000,MATCH(A4954,IF(Entradas!$B$3:$B$5000=D4954,Entradas!$A$3:$A$5000),1))),\"Preço não registrado\")","v":""},"",null,null,"",""]
[null,null,"",null,"","",null,{"$f":"IFERROR(IF(D4955=\"\",\"\",INDEX(Entradas!$H$3:$H$5000,MATCH(A4955,IF(Entradas!$B$3:$B$5000=D4955,Entradas!$A$3:$A$5000),1))),\"Preço não registrado\")","v":""},"",null,null,"",""]
[null,null,"",null,"","",null,{"$f":"IFERROR(IF(D4956=\"\",\"\",INDEX(Entradas!$H$3:$H$5000,MATCH(A4956,IF(Entradas!$B$3:$B$5000=D4956,Entradas!$A$3:$A$5000),1))),\"Preço não registrado\")","v":""},"",null,null,"",""]
[null,null,"",null,"","",null,{"$f":"IFERROR(IF(D4957=\"\",\"\",INDEX(Entradas!$H$3:$H$5000,MATCH(A4957,IF(Entradas!$B$3:$B$5000=D4957,Entradas!$A$3:$A$5000),1))),\"Preço não registrado\")","v":""},"",null,null,"",""]
[null,null,"",null,"","",null,{"$f":"IFERROR(IF(D4958=\"\",\"\",INDEX(Entradas!$H$3:$H$5000,MATCH(A4958,IF(Entradas!$B$3:$B$5000=D4958,Entradas!$A$3:$A$5000),1))),\"Preço não registrado\")","v":""},"",null,null,"",""]
[null,null,"",null,"","",null,{"$f":"IFERROR(IF(D4959=\"\",\"\",INDEX(Entradas!$H$3:$H$5000,MATCH(A4959,IF(Entradas!$B$3:$B$5000=D4959,Entradas!$A$3:$A$5000),1))),\"Preço não registrado\")","v":""},"",null,null,"",""]
[null,null,"",null,"","",null,{"$f":"IFERROR(IF(D4960=\"\",\"\",INDEX(Entradas!$H$3:$H$5000,MATCH(A4960,IF(Entradas!$B$3:$B$5000=D4960,Entradas!$A$3:$A$5000),1))),\"Preço não registrado\")","v":""},"",null,null,"",""]
[null,null,"",null,"","",null,{"$f":"IFERROR(IF(D4961=\"\",\"\",INDEX(Entradas!$H$3:$H$5000,MATCH(A4961,IF(Entradas!$B$3:$B$5000=D4961,Entradas!$A$3:$A$5000),1))),\"Preço não registrado\")","v":""},"",null,null,"",""]
[null,null,"",null,"","",null,{"$f":"IFERROR(IF(D4962=\"\",\"\",INDEX(Entradas!$H$3:$H$5000,MATCH(A4962,IF(Entradas!$B$3:$B$5000=D4962,Entradas!$A$3:$A$5000),1))),\"Preço não registrado\")","v":""},"",null,null,"",""]
[null,null,"",null,"","",null,{"$f":"IFERROR(IF(D4963=\"\",\"\",INDEX(Entradas!$H$3:$H$5000,MATCH(A4963,IF(Entradas!$B$3:$B$5000=D4963,Entradas!$A$3:$A$5000),1))),\"Preço não registrado\")","v":""},"",null,null,"",""]
[null,null,"",null,"","",null,{"$f":"IFERROR(IF(D4964=\"\",\"\",INDEX(Entradas!$H$3:$H$5000,MATCH(A4964,IF(Entradas!$B$3:$B$5000=D4964,Entradas!$A$3:$A$5000),1))),\"Preço não registrado\")","v":""},"",null,null,"",""]
[null,null,"",null,"","",null,{"$f":"IFERROR(IF(D4965=\"\",\"\",INDEX(Entradas!$H$3:$H$5000,MATCH(A4965,IF(Entradas!$B$3:$B$5000=D4965,Entradas!$A$3:$A$5000),1))),\"Preço não registrado\")","v":""},"",null,null,"",""]
[null,null,"",null,"","",null,{"$f":"IFERROR(IF(D4966=\"\",\"\",INDEX(Entradas!$H$3:$H$5000,MATCH(A4966,IF(Entradas!$B$3:$B$5000=D4966,Entradas!$A$3:$A$5000),1))),\"Preço não registrado\")","v":""},"",null,null,"",""]
[null,null,"",null,"","",null,{"$f":"IFERROR(IF(D4967=\"\",\"\",INDEX(Entradas!$H$3:$H$5000,MATCH(A4967,IF(Entradas!$B$3:$B$5000=D4967,Entradas!$A$3:$A$5000),1))),\"Preço não registrado\")","v":""},"",null,null,"",""]
[null,null,"",null,"","",null,{"$f":"IFERROR(IF(D4968=\"\",\"\",INDEX(Entradas!$H$3:$H$5000,MATCH(A4968,IF(Entradas!$B$3:$B$5000=D4968,Entradas!$A$3:$A$5000),1))),\"Preço não registrado\")","v":""},"",null,null,"",""]
[null,null,"",null,"","",null,{"$f":"IFERROR(IF(D4969=\"\",\"\",INDEX(Entradas!$H$3:$H$5000,MATCH(A4969,IF(Entradas!$B$3:$B$5000=D4969,Entradas!$A$3:$A$5000),1))),\"Preço não registrado\")","v":""},"",null,null,"",""]
[null,null,"",null,"","",null,{"$f":"IFERROR(IF(D4970=\"\",\"\",INDEX(Entradas!$H$3:$H$5000,MATCH(A4970,IF(Entradas!$B$3:$B$5000=D4970,Entradas!$A$3:$A$5000),1))),\"Preço não registrado\")","v":""},"",null,null,"",""]
[null,null,"",null,"","",null,{"$f":"IFERROR(IF(D4971=\"\",\"\",INDEX(Entradas!$H$3:$H$5000,MATCH(A4971,IF(Entradas!$B$3:$B$5000=D4971,Entradas!$A$3:$A$5000),1))),\"Preço não registrado\")","v":""},"",null,null,"",""]
[null,null,"",null,"","",null,{"$f":"IFERROR(IF(D4972=\"\",\"\",INDEX(Entradas!$H$3:$H$5000,MATCH(A4972,IF(Entradas!$B$3:$B$5000=D4972,Entradas!$A$3:$A$5000),1))),\"Preço não registrado\")","v":""},"",null,null,"",""]
[null,null,"",null,"","",null,{"$f":"IFERROR(IF(D4973=\"\",\"\",INDEX(Entradas!$H$3:$H$5000,MATCH(A4973,IF(Entradas!$B$3:$B$5000=D4973,Entradas!$A$3:$A$5000),1))),\"Preço não registrado\")","v":""},"",null,null,"",""]
[null,null,"",null,"","",null,{"$f":"IFERROR(IF(D4974=\"\",\"\",INDEX(Entradas!$H$3:$H$5000,MATCH(A4974,IF(Entradas!$B$3:$B$5000=D4974,Entradas!$A$3:$A$5000),1))),\"Preço não registrado\")","v":""},"",null,null,"",""]
[null,null,"",null,"","",null,{"$f":"IFERROR(IF(D4975=\"\",\"\",INDEX(Entradas!$H$3:$H$5000,MATCH(A4975,IF(Entradas!$B$3:$B$5000=D4975,Entradas!$A$3:$A$5000),1))),\"Preço não registrado\")","v":""},"",null,null,"",""]
[null,null,"",null,"","",null,{"$f":"IFERROR(IF(D4976=\"\",\"\",INDEX(Entradas!$H$3:$H$5000,MATCH(A4976,IF(Entradas!$B$3:$B$5000=D4976,Entradas!$A$3:$A$5000),1))),\"Preço não registrado\")","v":""},"",null,null,"",""]
[null,null,"",null,"","",null,{"$f":"IFERROR(IF(D4977=\"\",\"\",INDEX(Entradas!$H$3:$H$5000,MATCH(A4977,IF(Entradas!$B$3:$B$5000=D4977,Entradas!$A$3:$A$5000),1))),\"Preço não registrado\")","v":""},"",null,null,"",""]
[null,null,"",null,"","",null,{"$f":"IFERROR(IF(D4978=\"\",\"\",INDEX(Entradas!$H$3:$H$5000,MATCH(A4978,IF(Entradas!$B$3:$B$5000=D4978,Entradas!$A$3:$A$5000),1))),\"Preço não registrado\")","v":""},"",null,null,"",""]
[null,null,"",null,"","",null,{"$f":"IFERROR(IF(D4979=\"\",\"\",INDEX(Entradas!$H$3:$H$5000,MATCH(A4979,IF(Entradas!$B$3:$B$5000=D4979,Entradas!$A$3:$A$5000),1))),\"Preço não registrado\")","v":""},"",null,null,"",""]
[null,null,"",null,"","",null,{"$f":"IFERROR(IF(D4980=\"\",\"\",INDEX(Entradas!$H$3:$H$5000,MATCH(A4980,IF(Entradas!$B$3:$B$5000=D4980,Entradas!$A$3:$A$5000),1))),\"Preço não registrado\")","v":""},"",null,null,"",""]
[null,null,"",null,"","",null,{"$f":"IFERROR(IF(D4981=\"\",\"\",INDEX(Entradas!$H$3:$H$5000,MATCH(A4981,IF(Entradas!$B$3:$B$5000=D4981,Entradas!$A$3:$A$5000),1))),\"Preço não registrado\")","v":""},"",null,null,"",""]
[null,null,"",null,"","",null,{"$f":"IFERROR(IF(D4982=\"\",\"\",INDEX(Entradas!$H$3:$H$5000,MATCH(A4982,IF(Entradas!$B$3:$B$5000=D4982,Entradas!$A$3:$A$5000),1))),\"Preço não registrado\")","v":""},"",null,null,"",""]
[null,null,"",null,"","",null,{"$f":"IFERROR(IF(D4983=\"\",\"\",INDEX(Entradas!$H$3:$H$5000,MATCH(A4983,IF(Entradas!$B$3:$B$5000=D4983,Entradas!$A$3:$A$5000),1))),\"Preço não registrado\")","v":""},"",null,null,"",""]
[null,null,"",null,"","",null,{"$f":"IFERROR(IF(D4984=\"\",\"\",INDEX(Entradas!$H$3:$H$5000,MATCH(A4984,IF(Entradas!$B$3:$B$5000=D4984,Entradas!$A$3:$A$5000),1))),\"Preço não registrado\")","v":""},"",null,null,"",""]
[null,null,"",null,"","",null,{"$f":"IFERROR(IF(D4985=\"\",\"\",INDEX(Entradas!$H$3:$H$5000,MATCH(A4985,IF(Entradas!$B$3:$B$5000=D4985,Entradas!$A$3:$A$5000),1))),\"Preço não registrado\")","v":""},"",null,null,"",""]
[null,null,"",null,"","",null,{"$f":"IFERROR(IF(D4986=\"\",\"\",INDEX(Entradas!$H$3:$H$5000,MATCH(A4986,IF(Entradas!$B$3:$B$5000=D4986,Entradas!$A$3:$A$5000),1))),\"Preço não registrado\")","v":""},"",null,null,"",""]
[null,null,"",null,"","",null,{"$f":"IFERROR(IF(D4987=\"\",\"\",INDEX(Entradas!$H$3:$H$5000,MATCH(A4987,IF(Entradas!$B$3:$B$5000=D4987,Entradas!$A$3:$A$5000),1))),\"Preço não registrado\")","v":""},"",null,null,"",""]
[null,null,"",null,"","",null,{"$f":"IFERROR(IF(D4988=\"\",\"\",INDEX(Entradas!$H$3:$H$5000,MATCH(A4988,IF(Entradas!$B$3:$B$5000=D4988,Entradas!$A$3:$A$5000),1))),\"Preço não registrado\")","v":""},"",null,null,"",""]
[null,null,"",null,"","",null,{"$f":"IFERROR(IF(D4989=\"\",\"\",INDEX(Entradas!$H$3:$H$5000,MATCH(A4989,IF(Entradas!$B$3:$B$5000=D4989,Entradas!$A$3:$A$5000),1))),\"Preço não registrado\")","v":""},"",null,null,"",""]
[null,null,"",null,"","",null,{"$f":"IFERROR(IF(D4990=\"\",\"\",INDEX(Entradas!$H$3:$H$5000,MATCH(A4990,IF(Entradas!$B$3:$B$5000=D4990,Entradas!$A$3:$A$5000),1))),\"Preço não registrado\")","v":""},"",null,null,"",""]
[null,null,"",null,"","",null,{"$f":"IFERROR(IF(D4991=\"\",\"\",INDEX(Entradas!$H$3:$H$5000,MATCH(A4991,IF(Entradas!$B$3:$B$5000=D4991,Entradas!$A$3:$A$5000),1))),\"Preço não registrado\")","v":""},"",null,null,"",""]
[null,null,"",null,"","",null,{"$f":"IFERROR(IF(D4992=\"\",\"\",INDEX(Entradas!$H$3:$H$5000,MATCH(A4992,IF(Entradas!$B$3:$B$5000=D4992,Entradas!$A$3:$A$5000),1))),\"Preço não registrado\")","v":""},"",null,null,"",""]
[null,null,"",null,"","",null,{"$f":"IFERROR(IF(D4993=\"\",\"\",INDEX(Entradas!$H$3:$H$5000,MATCH(A4993,IF(Entradas!$B$3:$B$5000=D4993,Entradas!$A$3:$A$5000),1))),\"Preço não registrado\")","v":""},"",null,null,"",""]
[null,null,"",null,"","",null,{"$f":"IFERROR(IF(D4994=\"\",\"\",INDEX(Entradas!$H$3:$H$5000,MATCH(A4994,IF(Entradas!$B$3:$B$5000=D4994,Entradas!$A$3:$A$5000),1))),\"Preço não registrado\")","v":""},"",null,null,"",""]
[null,null,{"$f":"IFERROR(IF(B4995=\"\",\"\",VLOOKUP(B4995,Clientes,2,FALSE)),\"\")","v":""},null,{"$f":"IF(D4995=\"\",\"\",VLOOKUP(D4995,Itens,2,FALSE))","v":""},"",null,{"$f":"IFERROR(IF(D4995=\"\",\"\",INDEX(Entradas!$H$3:$H$5000,MATCH(A4995,IF(Entradas!$B$3:$B$5000=D4995,Entradas!$A$3:$A$5000),1))),\"Preço não registrado\")","v":""},"",null,null,"",""]
[null,null,"",null,"","",null,{"$f":"IFERROR(IF(D4996=\"\",\"\",INDEX(Entradas!$H$3:$H$5000,MATCH(A4996,IF(Entradas!$B$3:$B$5000=D4996,Entradas!$A$3:$A$5000),1))),\"Preço não registrado\")","v":""},{"$f":"IFERROR(G4996*H4996,\"\")","v":""},null,null,{"$f":"IF(K4996=\"\",\"\",HYPERLINK($P$13&K4996,\"Rastreie aqui\"))","v":""},""]
[null,null,"",null,"","",null,{"$f":"IFERROR(IF(D4997=\"\",\"\",INDEX(Entradas!$H$3:$H$5000,MATCH(A4997,IF(Entradas!$B$3:$B$5000=D4997,Entradas!$A$3:$A$5000),1))),\"Preço não registrado\")","v":""},"",null,null,"",""]
[null,null,"",null,"","",null,{"$f":"IFERROR(IF(D4998=\"\",\"\",INDEX(Entradas!$H$3:$H$5000,MATCH(A4998,IF(Entradas!$B$3:$B$5000=D4998,Entradas!$A$3:$A$5000),1))),\"Preço não registrado\")","v":""},"",null,null,"",""]
[null,null,"",null,"","",null,{"$f":"IFERROR(IF(D4999=\"\",\"\",INDEX(Entradas!$H$3:$H$5000,MATCH(A4999,IF(Entradas!$B$3:$B$5000=D4999,Entradas!$A$3:$A$5000),1))),\"Preço não registrado\")","v":""},"",null,null,"",""]
[null,null,"",null,"","",null,{"$f":"IFERROR(IF(D5000=\"\",\"\",INDEX(Entradas!$H$3:$H$5000,MATCH(A5000,IF(Entradas!$B$3:$B$5000=D5000,Entradas!$A$3:$A$5000),1))),\"Preço não registrado\")","v":""},null,null,null,""]
[null,null,"",null,"",{"$f":"IF(D5001=\"\",\"\",VLOOKUP(D5001,Itens,3,FALSE))","v":""},null,{"$f":"IFERROR(IF(D5001=\"\",\"\",INDEX(Entradas!$H$3:$H$5000,MATCH(A5001,IF(Entradas!$B$3:$B$5000=D5001,Entradas!$A$3:$A$5000),1))),\"Preço não registrado\")","v":""},null,null,null,""]
[null,null,"",null,"","",null,{"$f":"IFERROR(IF(D5002=\"\",\"\",INDEX(Entradas!$H$3:$H$5000,MATCH(A5002,IF(Entradas!$B$3:$B$5000=D5002,Entradas!$A$3:$A$5000),1))),\"Preço não registrado\")","v":""},null,null,null,""]
[null,null,"",null,"","",null,{"$f":"IFERROR(IF(D5003=\"\",\"\",INDEX(Entradas!$H$3:$H$5000,MATCH(A5003,IF(Entradas!$B$3:$B$5000=D5003,Entradas!$A$3:$A$5000),1))),\"Preço não registrado\")","v":""},null,null,null,""]

{"sheet":"Relatório","index":7,"n_rows":12,"n_cols":10,"rows_kept":12,"cut":false,"hidden":false,"merged":[]}
["Mês"]
["Fevereiro"]
["Data da Venda","Cód do Cliente","Nome do Cliente","Cód do Produto","Descrição","UND","QTD. Vendida","Preço de Venda","Total da compra","Status"]
["2024-02-03","c001","Maria Madalena","FS500","Chamex - Papel Sulfite, A4, 75g, 500 folhas","Un",1,32,32,"Entregue"]
["2024-02-04","c002","João da Silva","BL50F","Bloco refil grande pautado 90g com 50 folhas","Un",2,31.9,63.8,"Despachado"]
["2024-02-05","c003","Julio Cesar","LPR2HB14UN","Lápis Preto Redondo Nº2HB, Faber-Castell 14 Unidades","Un",2,11.9,23.8,"Despachado"]
["2024-02-06","c003","Julio Cesar","L1205","Faber-Castell EcoLápis 1205 Max Preto Nº 2B 6 Unidades","Un",3,5.9,17.700000000000003,"Despachado"]
["2024-02-07","c004","Ricardo Soares","TB10M","Tilibra 305421 Universitário 10 Matérias Zip","Un",1,18.5,18.5,"Despachado"]
["2024-02-08","c002","João da Silva","L1205","Faber-Castell EcoLápis 1205 Max Preto Nº 2B 6 Unidades","Un",3,5.9,17.700000000000003,"Despachado"]
["2024-02-09","c001","Maria Madalena","L1205","Faber-Castell EcoLápis 1205 Max Preto Nº 2B 6 Unidades","Un",5,5.9,29.5,"Despachado"]
["2024-02-10","c001","Maria Madalena","TB10M","Tilibra 305421 Universitário 10 Matérias Zip","Un",2,18.5,37,"Despachado"]
["2024-02-11","c005","Jose Ricardo","BL50F","Bloco refil grande pautado 90g com 50 folhas","Un",1,31.9,31.9,"Despachado"]